{"text_format":"1","workbook":"xlsx","n_sheets":11,"sheets":["Welcome","Data Input","P1 Hidden Data Tables","P2 Hidden Data Tables","Pupil Summary","Pupil Report","Cohort Summary","Strand Summary","P2 Questions by Strand","P2 Questions by Correct","P2 Questions by Year Group"],"not_rendered":{"charts":7,"images":1,"macros":1,"external_links":0,"defined_names":13,"comments":1,"pivot_tables":0},"unopened":[],"bounds":{"document_bytes":16777216,"sheet_cells":100000,"rows_first":2000,"rows_last":500,"rows_between":2000,"halvings":0,"cell_chars":16384,"cell_head_chars":4096},"cells_cut":0,"cells_raw":0,"read":"whole","date_system":"1900"}

{"sheet":"Welcome","index":0,"n_rows":23,"n_cols":11,"rows_kept":23,"cut":false,"hidden":false,"merged":[[1,3,1,12]]}
[]
[null,null,null,"KS1 Mathematics Paper Reasoning (2016 SAMPLE) Analysis"]
[]
[]
[]
[]
[]
[]
[]
[]
[]
[]
[]
[]
[]
[]
[]
[]
[]
[]
[]
[]
[null,null,null,null,null,null,null,null,null,null,"© 2015 Primary Tools.co.uk"]

{"sheet":"Data Input","index":1,"n_rows":8,"n_cols":37,"rows_kept":8,"cut":false,"hidden":false,"merged":[[0,1,4,1]]}
["Question","Paper 2",1,2,3,4,5,6,7,8,9,10,11,12,13,14,15,16,17,"18a","18b","19a","19b",20,21,"22i","22ii",23,24,25,26,"27i","27ii",28,29,30,31]
["Group Correct",null,{"$f":"COUNTIF(C10:C1010,1)","v":0},{"$f":"COUNTIF(D10:D1010,1)","v":0},0,0,0,0,0,0,0,0,0,0,0,0,0,0,0,0,0,0,0,0,0,0,0,0,0,0,{"$f":"COUNTIF(AE10:AE1010,1)","v":0},0,0,0,0,{"$f":"COUNTIF(AJ10:AJ1010,1)","v":0},0]
["Group Incorrect",null,{"$f":"COUNTIF(C10:C1010,0)","v":0},{"$f":"COUNTIF(D10:D1010,0)","v":0},0,0,0,0,0,0,0,0,0,0,0,0,0,0,0,0,0,0,0,0,0,0,0,0,0,0,{"$f":"COUNTIF(AE10:AE1010,0)","v":0},0,0,0,0,{"$f":"COUNTIF(AJ10:AJ1010,0)","v":0},0]
["Group Unanswered",null,{"$f":"COUNTA($A$10:$A$1010)-(SUM(C2:C3))","v":0},0,0,0,0,0,0,0,0,{"$f":"COUNTA($A$10:$A$1010)-(SUM(L2:L3))","v":0},{"$f":"COUNTA($A$10:$A$1010)-(SUM(M2:M3))","v":0},0,0,0,0,0,0,0,0,0,0,0,0,0,0,0,0,0,0,0,0,0,0,{"$f":"COUNTA($A$10:$A$1010)-(SUM(AJ2:AJ3))","v":0},0]
["Incorrect or unanswered",null,{"$f":"SUM(C3,C4)","v":0},{"$f":"SUM(D3,D4)","v":0},0,0,0,0,0,0,0,0,0,0,0,0,0,0,0,0,0,0,0,0,0,0,0,0,0,0,0,0,0,0,0,{"$f":"SUM(AJ3,AJ4)","v":0},0]
["Enter 1 for correct answer, 0 = incorrect, blank = unanswered\n\nN: Number\nC: Calculations\nS: Statistics\nF: Fractions\nM: Measure\nG: Geometry (Shape and Position/Direction)",null,"\"One less than 24\"","\"Tens in 96\"","\"Capacity of the bottle\"","\"Pieces when halved\"","\"Difference in arm lengths\"","Tick the hexagon","2 shoes in 7 boxes","Convert words and digits","Complete shape patterns","Complete x3 pattern","Measure length of car (cm)","Identify odd and even numbers","Number of crayons (10 x 5 + 4)","3D shapes - square faces","Identify bag worth 20p","Write fraction 1/4","50 + 30 + ? = 100 in context","Chart: Total two columns","Chart: How many more?","Find 3 coins making 90p","Find 4 coins making 90p","Value of arrow on number line","Add symmetry to shapes","4 x 3 - 2 in context","4 x 3 - 2 in context","Calculation to check 57 - 31 = 26","Complete: 7? + ? = 83","Draw minute hand on clock","20 ÷ 5 = 4 in context","50 - 23 - 15 in context","50 - 23 - 15 in context","Use <, > and = comparing mass","Check if answers are same","Circle 2 equal fractions","Complete 3 x 8  = 2 x ?"]
["Sub category","Year",1,2,2,1,2,1,1,2,2,2,2,2,2,2,2,2,2,2,2,2,2,2,2,2,2,2,2,2,2,2,2,2,2,2,2]
["Name:","Prime","N","N","M","F","C","G","C","N","G","C","M","C","C","G","M","F","C","S","S","M","M","N","G","C","C","C","C","M","C","C","C","M","C","F","C"]

{"sheet":"P1 Hidden Data Tables","index":2,"n_rows":164,"n_cols":22,"rows_kept":164,"cut":false,"hidden":true,"merged":[]}
[null,"Q Master"]
[null,"Strand","Question Number","Sub Category","Short Q","Correct","Incorrect or Unanswered","Incorrect","Unanswered"]
[null,{"$f":"'Data Input'!$C$8","v":"N"},{"$f":"'Data Input'!$C$1","v":1},{"$f":"'Data Input'!$C$7","v":1},{"$f":"'Data Input'!$C$6","v":"\"One less than 24\""},{"$f":"'Data Input'!$C$2","v":0},{"$f":"'Data Input'!$C$5","v":0},{"$f":"'Data Input'!$C$3","v":0},{"$f":"'Data Input'!$C$4","v":0},null,null,null,"Codes"]
[null,{"$f":"'Data Input'!$D$8","v":"N"},{"$f":"'Data Input'!$D$1","v":2},{"$f":"'Data Input'!$D$7","v":2},{"$f":"'Data Input'!$D$6","v":"\"Tens in 96\""},{"$f":"'Data Input'!$D$2","v":0},{"$f":"'Data Input'!$D$5","v":0},{"$f":"'Data Input'!$D$3","v":0},{"$f":"'Data Input'!$D$4","v":0}]
[null,{"$f":"'Data Input'!$E$8","v":"M"},{"$f":"'Data Input'!$E$1","v":3},{"$f":"'Data Input'!$E$7","v":2},{"$f":"'Data Input'!$E$6","v":"\"Capacity of the bottle\""},{"$f":"'Data Input'!$E$2","v":0},{"$f":"'Data Input'!$E$5","v":0},{"$f":"'Data Input'!$E$3","v":0},{"$f":"'Data Input'!$E$4","v":0}]
[null,{"$f":"'Data Input'!$F$8","v":"F"},{"$f":"'Data Input'!$F$1","v":4},{"$f":"'Data Input'!$F$7","v":1},{"$f":"'Data Input'!$F$6","v":"\"Pieces when halved\""},{"$f":"'Data Input'!$F$2","v":0},{"$f":"'Data Input'!$F$5","v":0},{"$f":"'Data Input'!$F$3","v":0},{"$f":"'Data Input'!$F$4","v":0}]
[null,{"$f":"'Data Input'!$G$8","v":"C"},{"$f":"'Data Input'!$G$1","v":5},{"$f":"'Data Input'!$G$7","v":2},{"$f":"'Data Input'!$G$6","v":"\"Difference in arm lengths\""},{"$f":"'Data Input'!$G$2","v":0},{"$f":"'Data Input'!$G$5","v":0},{"$f":"'Data Input'!$G$3","v":0},{"$f":"'Data Input'!$G$4","v":0}]
[null,{"$f":"'Data Input'!$H$8","v":"G"},{"$f":"'Data Input'!$H$1","v":6},{"$f":"'Data Input'!$H$7","v":1},{"$f":"'Data Input'!$H$6","v":"Tick the hexagon"},{"$f":"'Data Input'!$H$2","v":0},{"$f":"'Data Input'!$H$5","v":0},{"$f":"'Data Input'!$H$3","v":0},{"$f":"'Data Input'!$H$4","v":0}]
[null,{"$f":"'Data Input'!$I$8","v":"C"},{"$f":"'Data Input'!$I$1","v":7},{"$f":"'Data Input'!$I$7","v":1},{"$f":"'Data Input'!$I$6","v":"2 shoes in 7 boxes"},{"$f":"'Data Input'!$I$2","v":0},{"$f":"'Data Input'!$I$5","v":0},{"$f":"'Data Input'!$I$3","v":0},{"$f":"'Data Input'!$I$4","v":0}]
[null,{"$f":"'Data Input'!$J$8","v":"N"},{"$f":"'Data Input'!$J$1","v":8},{"$f":"'Data Input'!$J$7","v":2},{"$f":"'Data Input'!$J$6","v":"Convert words and digits"},{"$f":"'Data Input'!$J$2","v":0},{"$f":"'Data Input'!$J$5","v":0},{"$f":"'Data Input'!$J$3","v":0},{"$f":"'Data Input'!$J$4","v":0}]
[null,{"$f":"'Data Input'!$K$8","v":"G"},{"$f":"'Data Input'!$K$1","v":9},{"$f":"'Data Input'!$K$7","v":2},{"$f":"'Data Input'!$K$6","v":"Complete shape patterns"},{"$f":"'Data Input'!$K$2","v":0},{"$f":"'Data Input'!$K$5","v":0},{"$f":"'Data Input'!$K$3","v":0},{"$f":"'Data Input'!$K$4","v":0}]
[null,{"$f":"'Data Input'!$L$8","v":"C"},{"$f":"'Data Input'!$L$1","v":10},{"$f":"'Data Input'!$L$7","v":2},{"$f":"'Data Input'!$L$6","v":"Complete x3 pattern"},{"$f":"'Data Input'!$L$2","v":0},{"$f":"'Data Input'!$L$5","v":0},{"$f":"'Data Input'!$L$3","v":0},{"$f":"'Data Input'!$L$4","v":0}]
[null,{"$f":"'Data Input'!$M$8","v":"M"},{"$f":"'Data Input'!$M$1","v":11},{"$f":"'Data Input'!$M$7","v":2},{"$f":"'Data Input'!$M$6","v":"Measure length of car (cm)"},{"$f":"'Data Input'!$M$2","v":0},{"$f":"'Data Input'!$M$5","v":0},{"$f":"'Data Input'!$M$3","v":0},{"$f":"'Data Input'!$M$4","v":0}]
[null,{"$f":"'Data Input'!$N$8","v":"C"},{"$f":"'Data Input'!$N$1","v":12},{"$f":"'Data Input'!$N$7","v":2},{"$f":"'Data Input'!$N$6","v":"Identify odd and even numbers"},{"$f":"'Data Input'!$N$2","v":0},{"$f":"'Data Input'!$N$5","v":0},{"$f":"'Data Input'!$N$3","v":0},{"$f":"'Data Input'!$N$4","v":0}]
[null,{"$f":"'Data Input'!$O$8","v":"C"},{"$f":"'Data Input'!$O$1","v":13},{"$f":"'Data Input'!$O$7","v":2},{"$f":"'Data Input'!$O$6","v":"Number of crayons (10 x 5 + 4)"},{"$f":"'Data Input'!$O$2","v":0},{"$f":"'Data Input'!$O$5","v":0},{"$f":"'Data Input'!$O$3","v":0},{"$f":"'Data Input'!$O$4","v":0}]
[null,{"$f":"'Data Input'!$P$8","v":"G"},{"$f":"'Data Input'!$P$1","v":14},{"$f":"'Data Input'!$P$7","v":2},{"$f":"'Data Input'!$P$6","v":"3D shapes - square faces"},{"$f":"'Data Input'!$P$2","v":0},{"$f":"'Data Input'!$P$5","v":0},{"$f":"'Data Input'!$P$3","v":0},{"$f":"'Data Input'!$P$4","v":0}]
[null,{"$f":"'Data Input'!$Q$8","v":"M"},{"$f":"'Data Input'!$Q$1","v":15},{"$f":"'Data Input'!$Q$7","v":2},{"$f":"'Data Input'!$Q$6","v":"Identify bag worth 20p"},{"$f":"'Data Input'!$Q$2","v":0},{"$f":"'Data Input'!$Q$5","v":0},{"$f":"'Data Input'!$Q$3","v":0},{"$f":"'Data Input'!$Q$4","v":0}]
[null,{"$f":"'Data Input'!$R$8","v":"F"},{"$f":"'Data Input'!$R$1","v":16},{"$f":"'Data Input'!$R$7","v":2},{"$f":"'Data Input'!$R$6","v":"Write fraction 1/4"},{"$f":"'Data Input'!$R$2","v":0},{"$f":"'Data Input'!$R$5","v":0},{"$f":"'Data Input'!$R$3","v":0},{"$f":"'Data Input'!$R$4","v":0}]
[null,{"$f":"'Data Input'!$S$8","v":"C"},{"$f":"'Data Input'!$S$1","v":17},{"$f":"'Data Input'!$S$7","v":2},{"$f":"'Data Input'!$S$6","v":"50 + 30 + ? = 100 in context"},{"$f":"'Data Input'!$S$2","v":0},{"$f":"'Data Input'!$S$5","v":0},{"$f":"'Data Input'!$S$3","v":0},{"$f":"'Data Input'!$S$4","v":0}]
[null,{"$f":"'Data Input'!$T$8","v":"S"},{"$f":"'Data Input'!$T$1","v":"18a"},{"$f":"'Data Input'!$T$7","v":2},{"$f":"'Data Input'!$T$6","v":"Chart: Total two columns"},{"$f":"'Data Input'!$T$2","v":0},{"$f":"'Data Input'!$T$5","v":0},{"$f":"'Data Input'!$T$3","v":0},{"$f":"'Data Input'!$T$4","v":0}]
[null,{"$f":"'Data Input'!$U$8","v":"S"},{"$f":"'Data Input'!$U$1","v":"18b"},{"$f":"'Data Input'!$U$7","v":2},{"$f":"'Data Input'!$U$6","v":"Chart: How many more?"},{"$f":"'Data Input'!$U$2","v":0},{"$f":"'Data Input'!$U$5","v":0},{"$f":"'Data Input'!$U$3","v":0},{"$f":"'Data Input'!$U$4","v":0}]
[null,{"$f":"'Data Input'!$V$8","v":"M"},{"$f":"'Data Input'!$V$1","v":"19a"},{"$f":"'Data Input'!$V$7","v":2},{"$f":"'Data Input'!$V$6","v":"Find 3 coins making 90p"},{"$f":"'Data Input'!$V$2","v":0},{"$f":"'Data Input'!$V$5","v":0},{"$f":"'Data Input'!$V$3","v":0},{"$f":"'Data Input'!$V$4","v":0}]
[null,{"$f":"'Data Input'!$W$8","v":"M"},{"$f":"'Data Input'!$W$1","v":"19b"},{"$f":"'Data Input'!$W$7","v":2},{"$f":"'Data Input'!$W$6","v":"Find 4 coins making 90p"},{"$f":"'Data Input'!$W$2","v":0},{"$f":"'Data Input'!$W$5","v":0},{"$f":"'Data Input'!$W$3","v":0},{"$f":"'Data Input'!$W$4","v":0}]
[null,{"$f":"'Data Input'!$X$8","v":"N"},{"$f":"'Data Input'!$X$1","v":20},{"$f":"'Data Input'!$X$7","v":2},{"$f":"'Data Input'!$X$6","v":"Value of arrow on number line"},{"$f":"'Data Input'!$X$2","v":0},{"$f":"'Data Input'!$X$5","v":0},{"$f":"'Data Input'!$X$3","v":0},{"$f":"'Data Input'!$X$4","v":0}]
[null,{"$f":"'Data Input'!$Y$8","v":"G"},{"$f":"'Data Input'!$Y$1","v":21},{"$f":"'Data Input'!$Y$7","v":2},{"$f":"'Data Input'!$Y$6","v":"Add symmetry to shapes"},{"$f":"'Data Input'!$Y$2","v":0},{"$f":"'Data Input'!$Y$5","v":0},{"$f":"'Data Input'!$Y$3","v":0},{"$f":"'Data Input'!$Y$4","v":0}]
[null,{"$f":"'Data Input'!$Z$8","v":"C"},{"$f":"'Data Input'!$Z$1","v":"22i"},{"$f":"'Data Input'!$Z$7","v":2},{"$f":"'Data Input'!$Z$6","v":"4 x 3 - 2 in context"},{"$f":"'Data Input'!$Z$2","v":0},{"$f":"'Data Input'!$Z$5","v":0},{"$f":"'Data Input'!$Z$3","v":0},{"$f":"'Data Input'!$Z$4","v":0}]
[null,{"$f":"'Data Input'!$AA$8","v":"C"},{"$f":"'Data Input'!$AA$1","v":"22ii"},{"$f":"'Data Input'!$AA$7","v":2},{"$f":"'Data Input'!$AA$6","v":"4 x 3 - 2 in context"},{"$f":"'Data Input'!$AA$2","v":0},{"$f":"'Data Input'!$AA$5","v":0},{"$f":"'Data Input'!$AA$3","v":0},{"$f":"'Data Input'!$AA$4","v":0}]
[null,{"$f":"'Data Input'!$AB$8","v":"C"},{"$f":"'Data Input'!$AB$1","v":23},{"$f":"'Data Input'!$AB$7","v":2},{"$f":"'Data Input'!$AB$6","v":"Calculation to check 57 - 31 = 26"},{"$f":"'Data Input'!$AB$2","v":0},{"$f":"'Data Input'!$AB$5","v":0},{"$f":"'Data Input'!$AB$3","v":0},{"$f":"'Data Input'!$AB$4","v":0}]
[null,{"$f":"'Data Input'!$AC$8","v":"C"},{"$f":"'Data Input'!$AC$1","v":24},{"$f":"'Data Input'!$AC$7","v":2},{"$f":"'Data Input'!$AC$6","v":"Complete: 7? + ? = 83"},{"$f":"'Data Input'!$AC$2","v":0},{"$f":"'Data Input'!$AC$5","v":0},{"$f":"'Data Input'!$AC$3","v":0},{"$f":"'Data Input'!$AC$4","v":0}]
[null,{"$f":"'Data Input'!$AD$8","v":"M"},{"$f":"'Data Input'!$AD$1","v":25},{"$f":"'Data Input'!$AD$7","v":2},{"$f":"'Data Input'!$AD$6","v":"Draw minute hand on clock"},{"$f":"'Data Input'!$AD$2","v":0},{"$f":"'Data Input'!$AD$5","v":0},{"$f":"'Data Input'!$AD$3","v":0},{"$f":"'Data Input'!$AD$4","v":0}]
[null,{"$f":"'Data Input'!$AE$8","v":"C"},{"$f":"'Data Input'!$AE$1","v":26},{"$f":"'Data Input'!$AE$7","v":2},{"$f":"'Data Input'!$AE$6","v":"20 ÷ 5 = 4 in context"},{"$f":"'Data Input'!$AE$2","v":0},{"$f":"'Data Input'!$AE$5","v":0},{"$f":"'Data Input'!$AE$3","v":0},{"$f":"'Data Input'!$AE$4","v":0}]
[null,{"$f":"'Data Input'!$AF$8","v":"C"},{"$f":"'Data Input'!$AF$1","v":"27i"},{"$f":"'Data Input'!$AF$7","v":2},{"$f":"'Data Input'!$AF$6","v":"50 - 23 - 15 in context"},{"$f":"'Data Input'!$AF$2","v":0},{"$f":"'Data Input'!$AF$5","v":0},{"$f":"'Data Input'!$AF$3","v":0},{"$f":"'Data Input'!$AF$4","v":0}]
[null,{"$f":"'Data Input'!$AG$8","v":"C"},{"$f":"'Data Input'!$AG$1","v":"27ii"},{"$f":"'Data Input'!$AG$7","v":2},{"$f":"'Data Input'!$AG$6","v":"50 - 23 - 15 in context"},{"$f":"'Data Input'!$AG$2","v":0},{"$f":"'Data Input'!$AG$5","v":0},{"$f":"'Data Input'!$AG$3","v":0},{"$f":"'Data Input'!$AG$4","v":0}]
[null,{"$f":"'Data Input'!$AH$8","v":"M"},{"$f":"'Data Input'!$AH$1","v":28},{"$f":"'Data Input'!$AH$7","v":2},{"$f":"'Data Input'!$AH$6","v":"Use <, > and = comparing mass"},{"$f":"'Data Input'!$AH$2","v":0},{"$f":"'Data Input'!$AH$5","v":0},{"$f":"'Data Input'!$AH$3","v":0},{"$f":"'Data Input'!$AH$4","v":0}]
[null,{"$f":"'Data Input'!$AI$8","v":"C"},{"$f":"'Data Input'!$AI$1","v":29},{"$f":"'Data Input'!$AI$7","v":2},{"$f":"'Data Input'!$AI$6","v":"Check if answers are same"},{"$f":"'Data Input'!$AI$2","v":0},{"$f":"'Data Input'!$AI$5","v":0},{"$f":"'Data Input'!$AI$3","v":0},{"$f":"'Data Input'!$AI$4","v":0}]
[null,{"$f":"'Data Input'!$AJ$8","v":"F"},{"$f":"'Data Input'!$AJ$1","v":30},{"$f":"'Data Input'!$AJ$7","v":2},{"$f":"'Data Input'!$AJ$6","v":"Circle 2 equal fractions"},{"$f":"'Data Input'!$AJ$2","v":0},{"$f":"'Data Input'!$AJ$5","v":0},{"$f":"'Data Input'!$AJ$3","v":0},{"$f":"'Data Input'!$AJ$4","v":0}]
[null,{"$f":"'Data Input'!$AK$8","v":"C"},{"$f":"'Data Input'!$AK$1","v":31},{"$f":"'Data Input'!$AK$7","v":2},{"$f":"'Data Input'!$AK$6","v":"Complete 3 x 8  = 2 x ?"},{"$f":"'Data Input'!$AK$2","v":0},{"$f":"'Data Input'!$AK$5","v":0},{"$f":"'Data Input'!$AK$3","v":0},{"$f":"'Data Input'!$AK$4","v":0}]
[]
[]
[null,"Sorted by Strand"]
[null,"Strand","Question Number","Sub Category","Short Q","Correct","Incorrect or Unanswered","Incorrect","Unanswered"]
[null,{"$f":"'Data Input'!$G$8","v":"C"},{"$f":"'Data Input'!$G$1","v":5},{"$f":"'Data Input'!$G$7","v":2},{"$f":"'Data Input'!$G$6","v":"\"Difference in arm lengths\""},{"$f":"'Data Input'!$G$2","v":0},{"$f":"'Data Input'!$G$5","v":0},{"$f":"'Data Input'!$G$3","v":0},{"$f":"'Data Input'!$G$4","v":0},null,null,null,"Codes"]
[null,{"$f":"'Data Input'!$I$8","v":"C"},{"$f":"'Data Input'!$I$1","v":7},{"$f":"'Data Input'!$I$7","v":1},{"$f":"'Data Input'!$I$6","v":"2 shoes in 7 boxes"},{"$f":"'Data Input'!$I$2","v":0},{"$f":"'Data Input'!$I$5","v":0},{"$f":"'Data Input'!$I$3","v":0},{"$f":"'Data Input'!$I$4","v":0}]
[null,{"$f":"'Data Input'!$L$8","v":"C"},{"$f":"'Data Input'!$L$1","v":10},{"$f":"'Data Input'!$L$7","v":2},{"$f":"'Data Input'!$L$6","v":"Complete x3 pattern"},{"$f":"'Data Input'!$L$2","v":0},{"$f":"'Data Input'!$L$5","v":0},{"$f":"'Data Input'!$L$3","v":0},{"$f":"'Data Input'!$L$4","v":0}]
[null,{"$f":"'Data Input'!$N$8","v":"C"},{"$f":"'Data Input'!$N$1","v":12},{"$f":"'Data Input'!$N$7","v":2},{"$f":"'Data Input'!$N$6","v":"Identify odd and even numbers"},{"$f":"'Data Input'!$N$2","v":0},{"$f":"'Data Input'!$N$5","v":0},{"$f":"'Data Input'!$N$3","v":0},{"$f":"'Data Input'!$N$4","v":0}]
[null,{"$f":"'Data Input'!$O$8","v":"C"},{"$f":"'Data Input'!$O$1","v":13},{"$f":"'Data Input'!$O$7","v":2},{"$f":"'Data Input'!$O$6","v":"Number of crayons (10 x 5 + 4)"},{"$f":"'Data Input'!$O$2","v":0},{"$f":"'Data Input'!$O$5","v":0},{"$f":"'Data Input'!$O$3","v":0},{"$f":"'Data Input'!$O$4","v":0}]
[null,{"$f":"'Data Input'!$S$8","v":"C"},{"$f":"'Data Input'!$S$1","v":17},{"$f":"'Data Input'!$S$7","v":2},{"$f":"'Data Input'!$S$6","v":"50 + 30 + ? = 100 in context"},{"$f":"'Data Input'!$S$2","v":0},{"$f":"'Data Input'!$S$5","v":0},{"$f":"'Data Input'!$S$3","v":0},{"$f":"'Data Input'!$S$4","v":0}]
[null,{"$f":"'Data Input'!$AB$8","v":"C"},{"$f":"'Data Input'!$AB$1","v":23},{"$f":"'Data Input'!$AB$7","v":2},{"$f":"'Data Input'!$AB$6","v":"Calculation to check 57 - 31 = 26"},{"$f":"'Data Input'!$AB$2","v":0},{"$f":"'Data Input'!$AB$5","v":0},{"$f":"'Data Input'!$AB$3","v":0},{"$f":"'Data Input'!$AB$4","v":0}]
[null,{"$f":"'Data Input'!$AC$8","v":"C"},{"$f":"'Data Input'!$AC$1","v":24},{"$f":"'Data Input'!$AC$7","v":2},{"$f":"'Data Input'!$AC$6","v":"Complete: 7? + ? = 83"},{"$f":"'Data Input'!$AC$2","v":0},{"$f":"'Data Input'!$AC$5","v":0},{"$f":"'Data Input'!$AC$3","v":0},{"$f":"'Data Input'!$AC$4","v":0}]
[null,{"$f":"'Data Input'!$AE$8","v":"C"},{"$f":"'Data Input'!$AE$1","v":26},{"$f":"'Data Input'!$AE$7","v":2},{"$f":"'Data Input'!$AE$6","v":"20 ÷ 5 = 4 in context"},{"$f":"'Data Input'!$AE$2","v":0},{"$f":"'Data Input'!$AE$5","v":0},{"$f":"'Data Input'!$AE$3","v":0},{"$f":"'Data Input'!$AE$4","v":0}]
[null,{"$f":"'Data Input'!$AI$8","v":"C"},{"$f":"'Data Input'!$AI$1","v":29},{"$f":"'Data Input'!$AI$7","v":2},{"$f":"'Data Input'!$AI$6","v":"Check if answers are same"},{"$f":"'Data Input'!$AI$2","v":0},{"$f":"'Data Input'!$AI$5","v":0},{"$f":"'Data Input'!$AI$3","v":0},{"$f":"'Data Input'!$AI$4","v":0}]
[null,{"$f":"'Data Input'!$AK$8","v":"C"},{"$f":"'Data Input'!$AK$1","v":31},{"$f":"'Data Input'!$AK$7","v":2},{"$f":"'Data Input'!$AK$6","v":"Complete 3 x 8  = 2 x ?"},{"$f":"'Data Input'!$AK$2","v":0},{"$f":"'Data Input'!$AK$5","v":0},{"$f":"'Data Input'!$AK$3","v":0},{"$f":"'Data Input'!$AK$4","v":0}]
[null,{"$f":"'Data Input'!$Z$8","v":"C"},{"$f":"'Data Input'!$Z$1","v":"22i"},{"$f":"'Data Input'!$Z$7","v":2},{"$f":"'Data Input'!$Z$6","v":"4 x 3 - 2 in context"},{"$f":"'Data Input'!$Z$2","v":0},{"$f":"'Data Input'!$Z$5","v":0},{"$f":"'Data Input'!$Z$3","v":0},{"$f":"'Data Input'!$Z$4","v":0}]
[null,{"$f":"'Data Input'!$AA$8","v":"C"},{"$f":"'Data Input'!$AA$1","v":"22ii"},{"$f":"'Data Input'!$AA$7","v":2},{"$f":"'Data Input'!$AA$6","v":"4 x 3 - 2 in context"},{"$f":"'Data Input'!$AA$2","v":0},{"$f":"'Data Input'!$AA$5","v":0},{"$f":"'Data Input'!$AA$3","v":0},{"$f":"'Data Input'!$AA$4","v":0}]
[null,{"$f":"'Data Input'!$AF$8","v":"C"},{"$f":"'Data Input'!$AF$1","v":"27i"},{"$f":"'Data Input'!$AF$7","v":2},{"$f":"'Data Input'!$AF$6","v":"50 - 23 - 15 in context"},{"$f":"'Data Input'!$AF$2","v":0},{"$f":"'Data Input'!$AF$5","v":0},{"$f":"'Data Input'!$AF$3","v":0},{"$f":"'Data Input'!$AF$4","v":0}]
[null,{"$f":"'Data Input'!$AG$8","v":"C"},{"$f":"'Data Input'!$AG$1","v":"27ii"},{"$f":"'Data Input'!$AG$7","v":2},{"$f":"'Data Input'!$AG$6","v":"50 - 23 - 15 in context"},{"$f":"'Data Input'!$AG$2","v":0},{"$f":"'Data Input'!$AG$5","v":0},{"$f":"'Data Input'!$AG$3","v":0},{"$f":"'Data Input'!$AG$4","v":0}]
[]
[null,{"$f":"'Data Input'!$F$8","v":"F"},{"$f":"'Data Input'!$F$1","v":4},{"$f":"'Data Input'!$F$7","v":1},{"$f":"'Data Input'!$F$6","v":"\"Pieces when halved\""},{"$f":"'Data Input'!$F$2","v":0},{"$f":"'Data Input'!$F$5","v":0},{"$f":"'Data Input'!$F$3","v":0},{"$f":"'Data Input'!$F$4","v":0}]
[null,{"$f":"'Data Input'!$R$8","v":"F"},{"$f":"'Data Input'!$R$1","v":16},{"$f":"'Data Input'!$R$7","v":2},{"$f":"'Data Input'!$R$6","v":"Write fraction 1/4"},{"$f":"'Data Input'!$R$2","v":0},{"$f":"'Data Input'!$R$5","v":0},{"$f":"'Data Input'!$R$3","v":0},{"$f":"'Data Input'!$R$4","v":0}]
[null,{"$f":"'Data Input'!$AJ$8","v":"F"},{"$f":"'Data Input'!$AJ$1","v":30},{"$f":"'Data Input'!$AJ$7","v":2},{"$f":"'Data Input'!$AJ$6","v":"Circle 2 equal fractions"},{"$f":"'Data Input'!$AJ$2","v":0},{"$f":"'Data Input'!$AJ$5","v":0},{"$f":"'Data Input'!$AJ$3","v":0},{"$f":"'Data Input'!$AJ$4","v":0}]
[]
[null,{"$f":"'Data Input'!$H$8","v":"G"},{"$f":"'Data Input'!$H$1","v":6},{"$f":"'Data Input'!$H$7","v":1},{"$f":"'Data Input'!$H$6","v":"Tick the hexagon"},{"$f":"'Data Input'!$H$2","v":0},{"$f":"'Data Input'!$H$5","v":0},{"$f":"'Data Input'!$H$3","v":0},{"$f":"'Data Input'!$H$4","v":0}]
[null,{"$f":"'Data Input'!$K$8","v":"G"},{"$f":"'Data Input'!$K$1","v":9},{"$f":"'Data Input'!$K$7","v":2},{"$f":"'Data Input'!$K$6","v":"Complete shape patterns"},{"$f":"'Data Input'!$K$2","v":0},{"$f":"'Data Input'!$K$5","v":0},{"$f":"'Data Input'!$K$3","v":0},{"$f":"'Data Input'!$K$4","v":0}]
[null,{"$f":"'Data Input'!$P$8","v":"G"},{"$f":"'Data Input'!$P$1","v":14},{"$f":"'Data Input'!$P$7","v":2},{"$f":"'Data Input'!$P$6","v":"3D shapes - square faces"},{"$f":"'Data Input'!$P$2","v":0},{"$f":"'Data Input'!$P$5","v":0},{"$f":"'Data Input'!$P$3","v":0},{"$f":"'Data Input'!$P$4","v":0}]
[null,{"$f":"'Data Input'!$Y$8","v":"G"},{"$f":"'Data Input'!$Y$1","v":21},{"$f":"'Data Input'!$Y$7","v":2},{"$f":"'Data Input'!$Y$6","v":"Add symmetry to shapes"},{"$f":"'Data Input'!$Y$2","v":0},{"$f":"'Data Input'!$Y$5","v":0},{"$f":"'Data Input'!$Y$3","v":0},{"$f":"'Data Input'!$Y$4","v":0}]
[]
[null,{"$f":"'Data Input'!$E$8","v":"M"},{"$f":"'Data Input'!$E$1","v":3},{"$f":"'Data Input'!$E$7","v":2},{"$f":"'Data Input'!$E$6","v":"\"Capacity of the bottle\""},{"$f":"'Data Input'!$E$2","v":0},{"$f":"'Data Input'!$E$5","v":0},{"$f":"'Data Input'!$E$3","v":0},{"$f":"'Data Input'!$E$4","v":0}]
[null,{"$f":"'Data Input'!$M$8","v":"M"},{"$f":"'Data Input'!$M$1","v":11},{"$f":"'Data Input'!$M$7","v":2},{"$f":"'Data Input'!$M$6","v":"Measure length of car (cm)"},{"$f":"'Data Input'!$M$2","v":0},{"$f":"'Data Input'!$M$5","v":0},{"$f":"'Data Input'!$M$3","v":0},{"$f":"'Data Input'!$M$4","v":0}]
[null,{"$f":"'Data Input'!$Q$8","v":"M"},{"$f":"'Data Input'!$Q$1","v":15},{"$f":"'Data Input'!$Q$7","v":2},{"$f":"'Data Input'!$Q$6","v":"Identify bag worth 20p"},{"$f":"'Data Input'!$Q$2","v":0},{"$f":"'Data Input'!$Q$5","v":0},{"$f":"'Data Input'!$Q$3","v":0},{"$f":"'Data Input'!$Q$4","v":0}]
[null,{"$f":"'Data Input'!$AD$8","v":"M"},{"$f":"'Data Input'!$AD$1","v":25},{"$f":"'Data Input'!$AD$7","v":2},{"$f":"'Data Input'!$AD$6","v":"Draw minute hand on clock"},{"$f":"'Data Input'!$AD$2","v":0},{"$f":"'Data Input'!$AD$5","v":0},{"$f":"'Data Input'!$AD$3","v":0},{"$f":"'Data Input'!$AD$4","v":0}]
[null,{"$f":"'Data Input'!$AH$8","v":"M"},{"$f":"'Data Input'!$AH$1","v":28},{"$f":"'Data Input'!$AH$7","v":2},{"$f":"'Data Input'!$AH$6","v":"Use <, > and = comparing mass"},{"$f":"'Data Input'!$AH$2","v":0},{"$f":"'Data Input'!$AH$5","v":0},{"$f":"'Data Input'!$AH$3","v":0},{"$f":"'Data Input'!$AH$4","v":0}]
[null,{"$f":"'Data Input'!$V$8","v":"M"},{"$f":"'Data Input'!$V$1","v":"19a"},{"$f":"'Data Input'!$V$7","v":2},{"$f":"'Data Input'!$V$6","v":"Find 3 coins making 90p"},{"$f":"'Data Input'!$V$2","v":0},{"$f":"'Data Input'!$V$5","v":0},{"$f":"'Data Input'!$V$3","v":0},{"$f":"'Data Input'!$V$4","v":0}]
[null,{"$f":"'Data Input'!$W$8","v":"M"},{"$f":"'Data Input'!$W$1","v":"19b"},{"$f":"'Data Input'!$W$7","v":2},{"$f":"'Data Input'!$W$6","v":"Find 4 coins making 90p"},{"$f":"'Data Input'!$W$2","v":0},{"$f":"'Data Input'!$W$5","v":0},{"$f":"'Data Input'!$W$3","v":0},{"$f":"'Data Input'!$W$4","v":0}]
[]
[null,{"$f":"'Data Input'!$C$8","v":"N"},{"$f":"'Data Input'!$C$1","v":1},{"$f":"'Data Input'!$C$7","v":1},{"$f":"'Data Input'!$C$6","v":"\"One less than 24\""},{"$f":"'Data Input'!$C$2","v":0},{"$f":"'Data Input'!$C$5","v":0},{"$f":"'Data Input'!$C$3","v":0},{"$f":"'Data Input'!$C$4","v":0}]
[null,{"$f":"'Data Input'!$D$8","v":"N"},{"$f":"'Data Input'!$D$1","v":2},{"$f":"'Data Input'!$D$7","v":2},{"$f":"'Data Input'!$D$6","v":"\"Tens in 96\""},{"$f":"'Data Input'!$D$2","v":0},{"$f":"'Data Input'!$D$5","v":0},{"$f":"'Data Input'!$D$3","v":0},{"$f":"'Data Input'!$D$4","v":0}]
[null,{"$f":"'Data Input'!$J$8","v":"N"},{"$f":"'Data Input'!$J$1","v":8},{"$f":"'Data Input'!$J$7","v":2},{"$f":"'Data Input'!$J$6","v":"Convert words and digits"},{"$f":"'Data Input'!$J$2","v":0},{"$f":"'Data Input'!$J$5","v":0},{"$f":"'Data Input'!$J$3","v":0},{"$f":"'Data Input'!$J$4","v":0}]
[null,{"$f":"'Data Input'!$X$8","v":"N"},{"$f":"'Data Input'!$X$1","v":20},{"$f":"'Data Input'!$X$7","v":2},{"$f":"'Data Input'!$X$6","v":"Value of arrow on number line"},{"$f":"'Data Input'!$X$2","v":0},{"$f":"'Data Input'!$X$5","v":0},{"$f":"'Data Input'!$X$3","v":0},{"$f":"'Data Input'!$X$4","v":0}]
[]
[null,{"$f":"'Data Input'!$T$8","v":"S"},{"$f":"'Data Input'!$T$1","v":"18a"},{"$f":"'Data Input'!$T$7","v":2},{"$f":"'Data Input'!$T$6","v":"Chart: Total two columns"},{"$f":"'Data Input'!$T$2","v":0},{"$f":"'Data Input'!$T$5","v":0},{"$f":"'Data Input'!$T$3","v":0},{"$f":"'Data Input'!$T$4","v":0}]
[null,{"$f":"'Data Input'!$U$8","v":"S"},{"$f":"'Data Input'!$U$1","v":"18b"},{"$f":"'Data Input'!$U$7","v":2},{"$f":"'Data Input'!$U$6","v":"Chart: How many more?"},{"$f":"'Data Input'!$U$2","v":0},{"$f":"'Data Input'!$U$5","v":0},{"$f":"'Data Input'!$U$3","v":0},{"$f":"'Data Input'!$U$4","v":0}]
[]
[]
[]
[]
[]
[]
[]
[]
[null,"Sorted by Year Group Type"]
[null,"Strand","Question Number","Sub Category","Short Q","Correct","Incorrect or Unanswered","Incorrect","Unanswered"]
[null,{"$f":"'Data Input'!$I$8","v":"C"},{"$f":"'Data Input'!$I$1","v":7},{"$f":"'Data Input'!$I$7","v":1},{"$f":"'Data Input'!$I$6","v":"2 shoes in 7 boxes"},{"$f":"'Data Input'!$I$2","v":0},{"$f":"'Data Input'!$I$5","v":0},{"$f":"'Data Input'!$I$3","v":0},{"$f":"'Data Input'!$I$4","v":0}]
[null,{"$f":"'Data Input'!$F$8","v":"F"},{"$f":"'Data Input'!$F$1","v":4},{"$f":"'Data Input'!$F$7","v":1},{"$f":"'Data Input'!$F$6","v":"\"Pieces when halved\""},{"$f":"'Data Input'!$F$2","v":0},{"$f":"'Data Input'!$F$5","v":0},{"$f":"'Data Input'!$F$3","v":0},{"$f":"'Data Input'!$F$4","v":0}]
[null,{"$f":"'Data Input'!$H$8","v":"G"},{"$f":"'Data Input'!$H$1","v":6},{"$f":"'Data Input'!$H$7","v":1},{"$f":"'Data Input'!$H$6","v":"Tick the hexagon"},{"$f":"'Data Input'!$H$2","v":0},{"$f":"'Data Input'!$H$5","v":0},{"$f":"'Data Input'!$H$3","v":0},{"$f":"'Data Input'!$H$4","v":0}]
[null,{"$f":"'Data Input'!$C$8","v":"N"},{"$f":"'Data Input'!$C$1","v":1},{"$f":"'Data Input'!$C$7","v":1},{"$f":"'Data Input'!$C$6","v":"\"One less than 24\""},{"$f":"'Data Input'!$C$2","v":0},{"$f":"'Data Input'!$C$5","v":0},{"$f":"'Data Input'!$C$3","v":0},{"$f":"'Data Input'!$C$4","v":0}]
[null,{"$f":"'Data Input'!$G$8","v":"C"},{"$f":"'Data Input'!$G$1","v":5},{"$f":"'Data Input'!$G$7","v":2},{"$f":"'Data Input'!$G$6","v":"\"Difference in arm lengths\""},{"$f":"'Data Input'!$G$2","v":0},{"$f":"'Data Input'!$G$5","v":0},{"$f":"'Data Input'!$G$3","v":0},{"$f":"'Data Input'!$G$4","v":0}]
[null,{"$f":"'Data Input'!$L$8","v":"C"},{"$f":"'Data Input'!$L$1","v":10},{"$f":"'Data Input'!$L$7","v":2},{"$f":"'Data Input'!$L$6","v":"Complete x3 pattern"},{"$f":"'Data Input'!$L$2","v":0},{"$f":"'Data Input'!$L$5","v":0},{"$f":"'Data Input'!$L$3","v":0},{"$f":"'Data Input'!$L$4","v":0}]
[null,{"$f":"'Data Input'!$N$8","v":"C"},{"$f":"'Data Input'!$N$1","v":12},{"$f":"'Data Input'!$N$7","v":2},{"$f":"'Data Input'!$N$6","v":"Identify odd and even numbers"},{"$f":"'Data Input'!$N$2","v":0},{"$f":"'Data Input'!$N$5","v":0},{"$f":"'Data Input'!$N$3","v":0},{"$f":"'Data Input'!$N$4","v":0}]
[null,{"$f":"'Data Input'!$O$8","v":"C"},{"$f":"'Data Input'!$O$1","v":13},{"$f":"'Data Input'!$O$7","v":2},{"$f":"'Data Input'!$O$6","v":"Number of crayons (10 x 5 + 4)"},{"$f":"'Data Input'!$O$2","v":0},{"$f":"'Data Input'!$O$5","v":0},{"$f":"'Data Input'!$O$3","v":0},{"$f":"'Data Input'!$O$4","v":0}]
[null,{"$f":"'Data Input'!$S$8","v":"C"},{"$f":"'Data Input'!$S$1","v":17},{"$f":"'Data Input'!$S$7","v":2},{"$f":"'Data Input'!$S$6","v":"50 + 30 + ? = 100 in context"},{"$f":"'Data Input'!$S$2","v":0},{"$f":"'Data Input'!$S$5","v":0},{"$f":"'Data Input'!$S$3","v":0},{"$f":"'Data Input'!$S$4","v":0}]
[null,{"$f":"'Data Input'!$AB$8","v":"C"},{"$f":"'Data Input'!$AB$1","v":23},{"$f":"'Data Input'!$AB$7","v":2},{"$f":"'Data Input'!$AB$6","v":"Calculation to check 57 - 31 = 26"},{"$f":"'Data Input'!$AB$2","v":0},{"$f":"'Data Input'!$AB$5","v":0},{"$f":"'Data Input'!$AB$3","v":0},{"$f":"'Data Input'!$AB$4","v":0}]
[null,{"$f":"'Data Input'!$AC$8","v":"C"},{"$f":"'Data Input'!$AC$1","v":24},{"$f":"'Data Input'!$AC$7","v":2},{"$f":"'Data Input'!$AC$6","v":"Complete: 7? + ? = 83"},{"$f":"'Data Input'!$AC$2","v":0},{"$f":"'Data Input'!$AC$5","v":0},{"$f":"'Data Input'!$AC$3","v":0},{"$f":"'Data Input'!$AC$4","v":0}]
[null,{"$f":"'Data Input'!$AE$8","v":"C"},{"$f":"'Data Input'!$AE$1","v":26},{"$f":"'Data Input'!$AE$7","v":2},{"$f":"'Data Input'!$AE$6","v":"20 ÷ 5 = 4 in context"},{"$f":"'Data Input'!$AE$2","v":0},{"$f":"'Data Input'!$AE$5","v":0},{"$f":"'Data Input'!$AE$3","v":0},{"$f":"'Data Input'!$AE$4","v":0}]
[null,{"$f":"'Data Input'!$AI$8","v":"C"},{"$f":"'Data Input'!$AI$1","v":29},{"$f":"'Data Input'!$AI$7","v":2},{"$f":"'Data Input'!$AI$6","v":"Check if answers are same"},{"$f":"'Data Input'!$AI$2","v":0},{"$f":"'Data Input'!$AI$5","v":0},{"$f":"'Data Input'!$AI$3","v":0},{"$f":"'Data Input'!$AI$4","v":0}]
[null,{"$f":"'Data Input'!$AK$8","v":"C"},{"$f":"'Data Input'!$AK$1","v":31},{"$f":"'Data Input'!$AK$7","v":2},{"$f":"'Data Input'!$AK$6","v":"Complete 3 x 8  = 2 x ?"},{"$f":"'Data Input'!$AK$2","v":0},{"$f":"'Data Input'!$AK$5","v":0},{"$f":"'Data Input'!$AK$3","v":0},{"$f":"'Data Input'!$AK$4","v":0}]
[null,{"$f":"'Data Input'!$Z$8","v":"C"},{"$f":"'Data Input'!$Z$1","v":"22i"},{"$f":"'Data Input'!$Z$7","v":2},{"$f":"'Data Input'!$Z$6","v":"4 x 3 - 2 in context"},{"$f":"'Data Input'!$Z$2","v":0},{"$f":"'Data Input'!$Z$5","v":0},{"$f":"'Data Input'!$Z$3","v":0},{"$f":"'Data Input'!$Z$4","v":0}]
[null,{"$f":"'Data Input'!$AA$8","v":"C"},{"$f":"'Data Input'!$AA$1","v":"22ii"},{"$f":"'Data Input'!$AA$7","v":2},{"$f":"'Data Input'!$AA$6","v":"4 x 3 - 2 in context"},{"$f":"'Data Input'!$AA$2","v":0},{"$f":"'Data Input'!$AA$5","v":0},{"$f":"'Data Input'!$AA$3","v":0},{"$f":"'Data Input'!$AA$4","v":0}]
[null,{"$f":"'Data Input'!$AF$8","v":"C"},{"$f":"'Data Input'!$AF$1","v":"27i"},{"$f":"'Data Input'!$AF$7","v":2},{"$f":"'Data Input'!$AF$6","v":"50 - 23 - 15 in context"},{"$f":"'Data Input'!$AF$2","v":0},{"$f":"'Data Input'!$AF$5","v":0},{"$f":"'Data Input'!$AF$3","v":0},{"$f":"'Data Input'!$AF$4","v":0}]
[null,{"$f":"'Data Input'!$AG$8","v":"C"},{"$f":"'Data Input'!$AG$1","v":"27ii"},{"$f":"'Data Input'!$AG$7","v":2},{"$f":"'Data Input'!$AG$6","v":"50 - 23 - 15 in context"},{"$f":"'Data Input'!$AG$2","v":0},{"$f":"'Data Input'!$AG$5","v":0},{"$f":"'Data Input'!$AG$3","v":0},{"$f":"'Data Input'!$AG$4","v":0}]
[null,{"$f":"'Data Input'!$R$8","v":"F"},{"$f":"'Data Input'!$R$1","v":16},{"$f":"'Data Input'!$R$7","v":2},{"$f":"'Data Input'!$R$6","v":"Write fraction 1/4"},{"$f":"'Data Input'!$R$2","v":0},{"$f":"'Data Input'!$R$5","v":0},{"$f":"'Data Input'!$R$3","v":0},{"$f":"'Data Input'!$R$4","v":0}]
[null,{"$f":"'Data Input'!$AJ$8","v":"F"},{"$f":"'Data Input'!$AJ$1","v":30},{"$f":"'Data Input'!$AJ$7","v":2},{"$f":"'Data Input'!$AJ$6","v":"Circle 2 equal fractions"},{"$f":"'Data Input'!$AJ$2","v":0},{"$f":"'Data Input'!$AJ$5","v":0},{"$f":"'Data Input'!$AJ$3","v":0},{"$f":"'Data Input'!$AJ$4","v":0}]
[null,{"$f":"'Data Input'!$K$8","v":"G"},{"$f":"'Data Input'!$K$1","v":9},{"$f":"'Data Input'!$K$7","v":2},{"$f":"'Data Input'!$K$6","v":"Complete shape patterns"},{"$f":"'Data Input'!$K$2","v":0},{"$f":"'Data Input'!$K$5","v":0},{"$f":"'Data Input'!$K$3","v":0},{"$f":"'Data Input'!$K$4","v":0}]
[null,{"$f":"'Data Input'!$P$8","v":"G"},{"$f":"'Data Input'!$P$1","v":14},{"$f":"'Data Input'!$P$7","v":2},{"$f":"'Data Input'!$P$6","v":"3D shapes - square faces"},{"$f":"'Data Input'!$P$2","v":0},{"$f":"'Data Input'!$P$5","v":0},{"$f":"'Data Input'!$P$3","v":0},{"$f":"'Data Input'!$P$4","v":0}]
[null,{"$f":"'Data Input'!$Y$8","v":"G"},{"$f":"'Data Input'!$Y$1","v":21},{"$f":"'Data Input'!$Y$7","v":2},{"$f":"'Data Input'!$Y$6","v":"Add symmetry to shapes"},{"$f":"'Data Input'!$Y$2","v":0},{"$f":"'Data Input'!$Y$5","v":0},{"$f":"'Data Input'!$Y$3","v":0},{"$f":"'Data Input'!$Y$4","v":0}]
[null,{"$f":"'Data Input'!$E$8","v":"M"},{"$f":"'Data Input'!$E$1","v":3},{"$f":"'Data Input'!$E$7","v":2},{"$f":"'Data Input'!$E$6","v":"\"Capacity of the bottle\""},{"$f":"'Data Input'!$E$2","v":0},{"$f":"'Data Input'!$E$5","v":0},{"$f":"'Data Input'!$E$3","v":0},{"$f":"'Data Input'!$E$4","v":0}]
[null,{"$f":"'Data Input'!$M$8","v":"M"},{"$f":"'Data Input'!$M$1","v":11},{"$f":"'Data Input'!$M$7","v":2},{"$f":"'Data Input'!$M$6","v":"Measure length of car (cm)"},{"$f":"'Data Input'!$M$2","v":0},{"$f":"'Data Input'!$M$5","v":0},{"$f":"'Data Input'!$M$3","v":0},{"$f":"'Data Input'!$M$4","v":0}]
[null,{"$f":"'Data Input'!$Q$8","v":"M"},{"$f":"'Data Input'!$Q$1","v":15},{"$f":"'Data Input'!$Q$7","v":2},{"$f":"'Data Input'!$Q$6","v":"Identify bag worth 20p"},{"$f":"'Data Input'!$Q$2","v":0},{"$f":"'Data Input'!$Q$5","v":0},{"$f":"'Data Input'!$Q$3","v":0},{"$f":"'Data Input'!$Q$4","v":0}]
[null,{"$f":"'Data Input'!$AD$8","v":"M"},{"$f":"'Data Input'!$AD$1","v":25},{"$f":"'Data Input'!$AD$7","v":2},{"$f":"'Data Input'!$AD$6","v":"Draw minute hand on clock"},{"$f":"'Data Input'!$AD$2","v":0},{"$f":"'Data Input'!$AD$5","v":0},{"$f":"'Data Input'!$AD$3","v":0},{"$f":"'Data Input'!$AD$4","v":0}]
[null,{"$f":"'Data Input'!$AH$8","v":"M"},{"$f":"'Data Input'!$AH$1","v":28},{"$f":"'Data Input'!$AH$7","v":2},{"$f":"'Data Input'!$AH$6","v":"Use <, > and = comparing mass"},{"$f":"'Data Input'!$AH$2","v":0},{"$f":"'Data Input'!$AH$5","v":0},{"$f":"'Data Input'!$AH$3","v":0},{"$f":"'Data Input'!$AH$4","v":0}]
[null,{"$f":"'Data Input'!$V$8","v":"M"},{"$f":"'Data Input'!$V$1","v":"19a"},{"$f":"'Data Input'!$V$7","v":2},{"$f":"'Data Input'!$V$6","v":"Find 3 coins making 90p"},{"$f":"'Data Input'!$V$2","v":0},{"$f":"'Data Input'!$V$5","v":0},{"$f":"'Data Input'!$V$3","v":0},{"$f":"'Data Input'!$V$4","v":0}]
[null,{"$f":"'Data Input'!$W$8","v":"M"},{"$f":"'Data Input'!$W$1","v":"19b"},{"$f":"'Data Input'!$W$7","v":2},{"$f":"'Data Input'!$W$6","v":"Find 4 coins making 90p"},{"$f":"'Data Input'!$W$2","v":0},{"$f":"'Data Input'!$W$5","v":0},{"$f":"'Data Input'!$W$3","v":0},{"$f":"'Data Input'!$W$4","v":0}]
[null,{"$f":"'Data Input'!$D$8","v":"N"},{"$f":"'Data Input'!$D$1","v":2},{"$f":"'Data Input'!$D$7","v":2},{"$f":"'Data Input'!$D$6","v":"\"Tens in 96\""},{"$f":"'Data Input'!$D$2","v":0},{"$f":"'Data Input'!$D$5","v":0},{"$f":"'Data Input'!$D$3","v":0},{"$f":"'Data Input'!$D$4","v":0}]
[null,{"$f":"'Data Input'!$J$8","v":"N"},{"$f":"'Data Input'!$J$1","v":8},{"$f":"'Data Input'!$J$7","v":2},{"$f":"'Data Input'!$J$6","v":"Convert words and digits"},{"$f":"'Data Input'!$J$2","v":0},{"$f":"'Data Input'!$J$5","v":0},{"$f":"'Data Input'!$J$3","v":0},{"$f":"'Data Input'!$J$4","v":0}]
[null,{"$f":"'Data Input'!$X$8","v":"N"},{"$f":"'Data Input'!$X$1","v":20},{"$f":"'Data Input'!$X$7","v":2},{"$f":"'Data Input'!$X$6","v":"Value of arrow on number line"},{"$f":"'Data Input'!$X$2","v":0},{"$f":"'Data Input'!$X$5","v":0},{"$f":"'Data Input'!$X$3","v":0},{"$f":"'Data Input'!$X$4","v":0}]
[null,{"$f":"'Data Input'!$T$8","v":"S"},{"$f":"'Data Input'!$T$1","v":"18a"},{"$f":"'Data Input'!$T$7","v":2},{"$f":"'Data Input'!$T$6","v":"Chart: Total two columns"},{"$f":"'Data Input'!$T$2","v":0},{"$f":"'Data Input'!$T$5","v":0},{"$f":"'Data Input'!$T$3","v":0},{"$f":"'Data Input'!$T$4","v":0}]
[null,{"$f":"'Data Input'!$U$8","v":"S"},{"$f":"'Data Input'!$U$1","v":"18b"},{"$f":"'Data Input'!$U$7","v":2},{"$f":"'Data Input'!$U$6","v":"Chart: How many more?"},{"$f":"'Data Input'!$U$2","v":0},{"$f":"'Data Input'!$U$5","v":0},{"$f":"'Data Input'!$U$3","v":0},{"$f":"'Data Input'!$U$4","v":0}]
[]
[null,null,null,"Sorted by Correct",null,null,null,null,null,null,null,null,null,null,"Sorted by Correct"]
[null,null,null,"Strand","Question Number","Sub Category","Short Q","Correct","Incorrect or Unanswered","Incorrect","Unanswered",null,null,null,"Strand","Question Number","Sub Category","Short Q","Correct","Incorrect or unanswered","Incorrect","Unanswered"]
[null,{"$f":"RANK(C130,$C$130:$C$199)","v":1},{"$f":" H130 - ROW()*0.000000001","v":-1.3E-7},{"$f":"'Data Input'!$I$8","v":"C"},{"$f":"'Data Input'!$I$1","v":7},{"$f":"'Data Input'!$I$7","v":1},{"$f":"'Data Input'!$I$6","v":"2 shoes in 7 boxes"},{"$f":"'Data Input'!$I$2","v":0},{"$f":"'Data Input'!$I$5","v":0},{"$f":"'Data Input'!$I$3","v":0},{"$f":"'Data Input'!$I$4","v":0},null,{"$f":"VLOOKUP(ROW()-ROW(M$129),$B$130:$J$199,1,FALSE)","v":1},{"$f":"VLOOKUP(ROW()-ROW(M$129),$B$130:$J$199,2,FALSE)","v":-1.3E-7},{"$f":"VLOOKUP(ROW()-ROW(M$129),$B$130:$J$199,3,FALSE)","v":"C"},{"$f":"VLOOKUP(ROW()-ROW(M$129),$B$130:$J$199,4,FALSE)","v":7},{"$f":"VLOOKUP(ROW()-ROW(M$129),$B$130:$J$199,5,FALSE)","v":1},{"$f":"VLOOKUP(ROW()-ROW(M$129),$B$130:$J$199,6,FALSE)","v":"2 shoes in 7 boxes"},{"$f":"VLOOKUP(ROW()-ROW(M$129),$B$130:$J$199,7,FALSE)","v":0},{"$f":"VLOOKUP(ROW()-ROW(M$129),$B$130:$J$199,8,FALSE)","v":0},{"$f":"VLOOKUP(ROW()-ROW(M$129),$B$130:$K$199,9,FALSE)","v":0},{"$f":"VLOOKUP(ROW()-ROW(M$129),$B$130:$K$199,10,FALSE)","v":0}]
[null,2,{"$f":" H131 - ROW()*0.000000001","v":-1.31E-7},{"$f":"'Data Input'!$F$8","v":"F"},{"$f":"'Data Input'!$F$1","v":4},{"$f":"'Data Input'!$F$7","v":1},{"$f":"'Data Input'!$F$6","v":"\"Pieces when halved\""},{"$f":"'Data Input'!$F$2","v":0},{"$f":"'Data Input'!$F$5","v":0},{"$f":"'Data Input'!$F$3","v":0},{"$f":"'Data Input'!$F$4","v":0},null,2,-1.31E-7,{"$f":"VLOOKUP(ROW()-ROW(M$129),$B$130:$J$199,3,FALSE)","v":"F"},{"$f":"VLOOKUP(ROW()-ROW(M$129),$B$130:$J$199,4,FALSE)","v":4},{"$f":"VLOOKUP(ROW()-ROW(M$129),$B$130:$J$199,5,FALSE)","v":1},{"$f":"VLOOKUP(ROW()-ROW(M$129),$B$130:$J$199,6,FALSE)","v":"\"Pieces when halved\""},{"$f":"VLOOKUP(ROW()-ROW(M$129),$B$130:$J$199,7,FALSE)","v":0},{"$f":"VLOOKUP(ROW()-ROW(M$129),$B$130:$J$199,8,FALSE)","v":0},{"$f":"VLOOKUP(ROW()-ROW(M$129),$B$130:$K$199,9,FALSE)","v":0},{"$f":"VLOOKUP(ROW()-ROW(M$129),$B$130:$K$199,10,FALSE)","v":0}]
[null,3,-1.3200000000000002E-7,{"$f":"'Data Input'!$H$8","v":"G"},{"$f":"'Data Input'!$H$1","v":6},{"$f":"'Data Input'!$H$7","v":1},{"$f":"'Data Input'!$H$6","v":"Tick the hexagon"},{"$f":"'Data Input'!$H$2","v":0},{"$f":"'Data Input'!$H$5","v":0},{"$f":"'Data Input'!$H$3","v":0},{"$f":"'Data Input'!$H$4","v":0},null,3,-1.3200000000000002E-7,"G",6,1,"Tick the hexagon",0,0,0,0]
[null,4,-1.3300000000000001E-7,{"$f":"'Data Input'!$C$8","v":"N"},{"$f":"'Data Input'!$C$1","v":1},{"$f":"'Data Input'!$C$7","v":1},{"$f":"'Data Input'!$C$6","v":"\"One less than 24\""},{"$f":"'Data Input'!$C$2","v":0},{"$f":"'Data Input'!$C$5","v":0},{"$f":"'Data Input'!$C$3","v":0},{"$f":"'Data Input'!$C$4","v":0},null,4,-1.3300000000000001E-7,"N",1,1,"\"One less than 24\"",0,0,0,0]
[null,5,-1.3400000000000001E-7,{"$f":"'Data Input'!$G$8","v":"C"},{"$f":"'Data Input'!$G$1","v":5},{"$f":"'Data Input'!$G$7","v":2},{"$f":"'Data Input'!$G$6","v":"\"Difference in arm lengths\""},{"$f":"'Data Input'!$G$2","v":0},{"$f":"'Data Input'!$G$5","v":0},{"$f":"'Data Input'!$G$3","v":0},{"$f":"'Data Input'!$G$4","v":0},null,5,-1.3400000000000001E-7,"C",5,2,"\"Difference in arm lengths\"",0,0,0,0]
[null,6,-1.35E-7,{"$f":"'Data Input'!$L$8","v":"C"},{"$f":"'Data Input'!$L$1","v":10},{"$f":"'Data Input'!$L$7","v":2},{"$f":"'Data Input'!$L$6","v":"Complete x3 pattern"},{"$f":"'Data Input'!$L$2","v":0},{"$f":"'Data Input'!$L$5","v":0},{"$f":"'Data Input'!$L$3","v":0},{"$f":"'Data Input'!$L$4","v":0},null,6,-1.35E-7,"C",10,2,"Complete x3 pattern",0,0,0,0]
[null,7,-1.36E-7,{"$f":"'Data Input'!$N$8","v":"C"},{"$f":"'Data Input'!$N$1","v":12},{"$f":"'Data Input'!$N$7","v":2},{"$f":"'Data Input'!$N$6","v":"Identify odd and even numbers"},{"$f":"'Data Input'!$N$2","v":0},{"$f":"'Data Input'!$N$5","v":0},{"$f":"'Data Input'!$N$3","v":0},{"$f":"'Data Input'!$N$4","v":0},null,7,-1.36E-7,"C",12,2,"Identify odd and even numbers",0,0,0,0]
[null,8,-1.37E-7,{"$f":"'Data Input'!$O$8","v":"C"},{"$f":"'Data Input'!$O$1","v":13},{"$f":"'Data Input'!$O$7","v":2},{"$f":"'Data Input'!$O$6","v":"Number of crayons (10 x 5 + 4)"},{"$f":"'Data Input'!$O$2","v":0},{"$f":"'Data Input'!$O$5","v":0},{"$f":"'Data Input'!$O$3","v":0},{"$f":"'Data Input'!$O$4","v":0},null,8,-1.37E-7,"C",13,2,"Number of crayons (10 x 5 + 4)",0,0,0,0]
[null,9,-1.3800000000000002E-7,{"$f":"'Data Input'!$S$8","v":"C"},{"$f":"'Data Input'!$S$1","v":17},{"$f":"'Data Input'!$S$7","v":2},{"$f":"'Data Input'!$S$6","v":"50 + 30 + ? = 100 in context"},{"$f":"'Data Input'!$S$2","v":0},{"$f":"'Data Input'!$S$5","v":0},{"$f":"'Data Input'!$S$3","v":0},{"$f":"'Data Input'!$S$4","v":0},null,9,-1.3800000000000002E-7,{"$f":"VLOOKUP(ROW()-ROW(M$129),$B$130:$J$199,3,FALSE)","v":"C"},{"$f":"VLOOKUP(ROW()-ROW(M$129),$B$130:$J$199,4,FALSE)","v":17},{"$f":"VLOOKUP(ROW()-ROW(M$129),$B$130:$J$199,5,FALSE)","v":2},{"$f":"VLOOKUP(ROW()-ROW(M$129),$B$130:$J$199,6,FALSE)","v":"50 + 30 + ? = 100 in context"},{"$f":"VLOOKUP(ROW()-ROW(M$129),$B$130:$J$199,7,FALSE)","v":0},{"$f":"VLOOKUP(ROW()-ROW(M$129),$B$130:$J$199,8,FALSE)","v":0},{"$f":"VLOOKUP(ROW()-ROW(M$129),$B$130:$K$199,9,FALSE)","v":0},{"$f":"VLOOKUP(ROW()-ROW(M$129),$B$130:$K$199,10,FALSE)","v":0}]
[null,10,-1.3900000000000001E-7,{"$f":"'Data Input'!$AB$8","v":"C"},{"$f":"'Data Input'!$AB$1","v":23},{"$f":"'Data Input'!$AB$7","v":2},{"$f":"'Data Input'!$AB$6","v":"Calculation to check 57 - 31 = 26"},{"$f":"'Data Input'!$AB$2","v":0},{"$f":"'Data Input'!$AB$5","v":0},{"$f":"'Data Input'!$AB$3","v":0},{"$f":"'Data Input'!$AB$4","v":0},null,10,-1.3900000000000001E-7,"C",23,2,"Calculation to check 57 - 31 = 26",0,0,0,0]
[null,11,-1.4000000000000001E-7,{"$f":"'Data Input'!$AC$8","v":"C"},{"$f":"'Data Input'!$AC$1","v":24},{"$f":"'Data Input'!$AC$7","v":2},{"$f":"'Data Input'!$AC$6","v":"Complete: 7? + ? = 83"},{"$f":"'Data Input'!$AC$2","v":0},{"$f":"'Data Input'!$AC$5","v":0},{"$f":"'Data Input'!$AC$3","v":0},{"$f":"'Data Input'!$AC$4","v":0},null,11,-1.4000000000000001E-7,"C",24,2,"Complete: 7? + ? = 83",0,0,0,0]
[null,12,-1.4100000000000001E-7,{"$f":"'Data Input'!$AE$8","v":"C"},{"$f":"'Data Input'!$AE$1","v":26},{"$f":"'Data Input'!$AE$7","v":2},{"$f":"'Data Input'!$AE$6","v":"20 ÷ 5 = 4 in context"},{"$f":"'Data Input'!$AE$2","v":0},{"$f":"'Data Input'!$AE$5","v":0},{"$f":"'Data Input'!$AE$3","v":0},{"$f":"'Data Input'!$AE$4","v":0},null,12,-1.4100000000000001E-7,"C",26,2,"20 ÷ 5 = 4 in context",0,0,0,0]
[null,13,-1.42E-7,{"$f":"'Data Input'!$AI$8","v":"C"},{"$f":"'Data Input'!$AI$1","v":29},{"$f":"'Data Input'!$AI$7","v":2},{"$f":"'Data Input'!$AI$6","v":"Check if answers are same"},{"$f":"'Data Input'!$AI$2","v":0},{"$f":"'Data Input'!$AI$5","v":0},{"$f":"'Data Input'!$AI$3","v":0},{"$f":"'Data Input'!$AI$4","v":0},null,13,-1.42E-7,"C",29,2,"Check if answers are same",0,0,0,0]
[null,14,-1.43E-7,{"$f":"'Data Input'!$AK$8","v":"C"},{"$f":"'Data Input'!$AK$1","v":31},{"$f":"'Data Input'!$AK$7","v":2},{"$f":"'Data Input'!$AK$6","v":"Complete 3 x 8  = 2 x ?"},{"$f":"'Data Input'!$AK$2","v":0},{"$f":"'Data Input'!$AK$5","v":0},{"$f":"'Data Input'!$AK$3","v":0},{"$f":"'Data Input'!$AK$4","v":0},null,14,-1.43E-7,"C",31,2,"Complete 3 x 8  = 2 x ?",0,0,0,0]
[null,15,-1.4400000000000002E-7,{"$f":"'Data Input'!$Z$8","v":"C"},{"$f":"'Data Input'!$Z$1","v":"22i"},{"$f":"'Data Input'!$Z$7","v":2},{"$f":"'Data Input'!$Z$6","v":"4 x 3 - 2 in context"},{"$f":"'Data Input'!$Z$2","v":0},{"$f":"'Data Input'!$Z$5","v":0},{"$f":"'Data Input'!$Z$3","v":0},{"$f":"'Data Input'!$Z$4","v":0},null,15,-1.4400000000000002E-7,"C","22i",2,"4 x 3 - 2 in context",0,0,0,0]
[null,16,-1.4500000000000001E-7,{"$f":"'Data Input'!$AA$8","v":"C"},{"$f":"'Data Input'!$AA$1","v":"22ii"},{"$f":"'Data Input'!$AA$7","v":2},{"$f":"'Data Input'!$AA$6","v":"4 x 3 - 2 in context"},{"$f":"'Data Input'!$AA$2","v":0},{"$f":"'Data Input'!$AA$5","v":0},{"$f":"'Data Input'!$AA$3","v":0},{"$f":"'Data Input'!$AA$4","v":0},null,16,-1.4500000000000001E-7,"C","22ii",2,"4 x 3 - 2 in context",0,0,0,0]
[null,17,-1.4600000000000001E-7,{"$f":"'Data Input'!$AF$8","v":"C"},{"$f":"'Data Input'!$AF$1","v":"27i"},{"$f":"'Data Input'!$AF$7","v":2},{"$f":"'Data Input'!$AF$6","v":"50 - 23 - 15 in context"},{"$f":"'Data Input'!$AF$2","v":0},{"$f":"'Data Input'!$AF$5","v":0},{"$f":"'Data Input'!$AF$3","v":0},{"$f":"'Data Input'!$AF$4","v":0},null,17,-1.4600000000000001E-7,"C","27i",2,"50 - 23 - 15 in context",0,0,0,0]
[null,18,-1.4700000000000001E-7,{"$f":"'Data Input'!$AG$8","v":"C"},{"$f":"'Data Input'!$AG$1","v":"27ii"},{"$f":"'Data Input'!$AG$7","v":2},{"$f":"'Data Input'!$AG$6","v":"50 - 23 - 15 in context"},{"$f":"'Data Input'!$AG$2","v":0},{"$f":"'Data Input'!$AG$5","v":0},{"$f":"'Data Input'!$AG$3","v":0},{"$f":"'Data Input'!$AG$4","v":0},null,18,-1.4700000000000001E-7,"C","27ii",2,"50 - 23 - 15 in context",0,0,0,0]
[null,19,-1.48E-7,{"$f":"'Data Input'!$R$8","v":"F"},{"$f":"'Data Input'!$R$1","v":16},{"$f":"'Data Input'!$R$7","v":2},{"$f":"'Data Input'!$R$6","v":"Write fraction 1/4"},{"$f":"'Data Input'!$R$2","v":0},{"$f":"'Data Input'!$R$5","v":0},{"$f":"'Data Input'!$R$3","v":0},{"$f":"'Data Input'!$R$4","v":0},null,19,-1.48E-7,"F",16,2,"Write fraction 1/4",0,0,0,0]
[null,20,-1.49E-7,{"$f":"'Data Input'!$AJ$8","v":"F"},{"$f":"'Data Input'!$AJ$1","v":30},{"$f":"'Data Input'!$AJ$7","v":2},{"$f":"'Data Input'!$AJ$6","v":"Circle 2 equal fractions"},{"$f":"'Data Input'!$AJ$2","v":0},{"$f":"'Data Input'!$AJ$5","v":0},{"$f":"'Data Input'!$AJ$3","v":0},{"$f":"'Data Input'!$AJ$4","v":0},null,20,-1.49E-7,"F",30,2,"Circle 2 equal fractions",0,0,0,0]
[null,21,-1.5000000000000002E-7,{"$f":"'Data Input'!$K$8","v":"G"},{"$f":"'Data Input'!$K$1","v":9},{"$f":"'Data Input'!$K$7","v":2},{"$f":"'Data Input'!$K$6","v":"Complete shape patterns"},{"$f":"'Data Input'!$K$2","v":0},{"$f":"'Data Input'!$K$5","v":0},{"$f":"'Data Input'!$K$3","v":0},{"$f":"'Data Input'!$K$4","v":0},null,21,-1.5000000000000002E-7,"G",9,2,"Complete shape patterns",0,0,0,0]
[null,22,-1.5100000000000002E-7,{"$f":"'Data Input'!$P$8","v":"G"},{"$f":"'Data Input'!$P$1","v":14},{"$f":"'Data Input'!$P$7","v":2},{"$f":"'Data Input'!$P$6","v":"3D shapes - square faces"},{"$f":"'Data Input'!$P$2","v":0},{"$f":"'Data Input'!$P$5","v":0},{"$f":"'Data Input'!$P$3","v":0},{"$f":"'Data Input'!$P$4","v":0},null,22,-1.5100000000000002E-7,"G",14,2,"3D shapes - square faces",0,0,0,0]
[null,23,-1.5200000000000001E-7,{"$f":"'Data Input'!$Y$8","v":"G"},{"$f":"'Data Input'!$Y$1","v":21},{"$f":"'Data Input'!$Y$7","v":2},{"$f":"'Data Input'!$Y$6","v":"Add symmetry to shapes"},{"$f":"'Data Input'!$Y$2","v":0},{"$f":"'Data Input'!$Y$5","v":0},{"$f":"'Data Input'!$Y$3","v":0},{"$f":"'Data Input'!$Y$4","v":0},null,23,-1.5200000000000001E-7,"G",21,2,"Add symmetry to shapes",0,0,0,0]
[null,24,-1.5300000000000001E-7,{"$f":"'Data Input'!$E$8","v":"M"},{"$f":"'Data Input'!$E$1","v":3},{"$f":"'Data Input'!$E$7","v":2},{"$f":"'Data Input'!$E$6","v":"\"Capacity of the bottle\""},{"$f":"'Data Input'!$E$2","v":0},{"$f":"'Data Input'!$E$5","v":0},{"$f":"'Data Input'!$E$3","v":0},{"$f":"'Data Input'!$E$4","v":0},null,24,-1.5300000000000001E-7,"M",3,2,"\"Capacity of the bottle\"",0,0,0,0]
[null,25,-1.54E-7,{"$f":"'Data Input'!$M$8","v":"M"},{"$f":"'Data Input'!$M$1","v":11},{"$f":"'Data Input'!$M$7","v":2},{"$f":"'Data Input'!$M$6","v":"Measure length of car (cm)"},{"$f":"'Data Input'!$M$2","v":0},{"$f":"'Data Input'!$M$5","v":0},{"$f":"'Data Input'!$M$3","v":0},{"$f":"'Data Input'!$M$4","v":0},null,25,-1.54E-7,"M",11,2,"Measure length of car (cm)",0,0,0,0]
[null,26,-1.55E-7,{"$f":"'Data Input'!$Q$8","v":"M"},{"$f":"'Data Input'!$Q$1","v":15},{"$f":"'Data Input'!$Q$7","v":2},{"$f":"'Data Input'!$Q$6","v":"Identify bag worth 20p"},{"$f":"'Data Input'!$Q$2","v":0},{"$f":"'Data Input'!$Q$5","v":0},{"$f":"'Data Input'!$Q$3","v":0},{"$f":"'Data Input'!$Q$4","v":0},null,26,-1.55E-7,"M",15,2,"Identify bag worth 20p",0,0,0,0]
[null,27,-1.5600000000000002E-7,{"$f":"'Data Input'!$AD$8","v":"M"},{"$f":"'Data Input'!$AD$1","v":25},{"$f":"'Data Input'!$AD$7","v":2},{"$f":"'Data Input'!$AD$6","v":"Draw minute hand on clock"},{"$f":"'Data Input'!$AD$2","v":0},{"$f":"'Data Input'!$AD$5","v":0},{"$f":"'Data Input'!$AD$3","v":0},{"$f":"'Data Input'!$AD$4","v":0},null,27,-1.5600000000000002E-7,"M",25,2,"Draw minute hand on clock",0,0,0,0]
[null,28,-1.5700000000000002E-7,{"$f":"'Data Input'!$AH$8","v":"M"},{"$f":"'Data Input'!$AH$1","v":28},{"$f":"'Data Input'!$AH$7","v":2},{"$f":"'Data Input'!$AH$6","v":"Use <, > and = comparing mass"},{"$f":"'Data Input'!$AH$2","v":0},{"$f":"'Data Input'!$AH$5","v":0},{"$f":"'Data Input'!$AH$3","v":0},{"$f":"'Data Input'!$AH$4","v":0},null,28,-1.5700000000000002E-7,"M",28,2,"Use <, > and = comparing mass",0,0,0,0]
[null,29,-1.5800000000000001E-7,{"$f":"'Data Input'!$V$8","v":"M"},{"$f":"'Data Input'!$V$1","v":"19a"},{"$f":"'Data Input'!$V$7","v":2},{"$f":"'Data Input'!$V$6","v":"Find 3 coins making 90p"},{"$f":"'Data Input'!$V$2","v":0},{"$f":"'Data Input'!$V$5","v":0},{"$f":"'Data Input'!$V$3","v":0},{"$f":"'Data Input'!$V$4","v":0},null,29,-1.5800000000000001E-7,"M","19a",2,"Find 3 coins making 90p",0,0,0,0]
[null,30,-1.5900000000000001E-7,{"$f":"'Data Input'!$W$8","v":"M"},{"$f":"'Data Input'!$W$1","v":"19b"},{"$f":"'Data Input'!$W$7","v":2},{"$f":"'Data Input'!$W$6","v":"Find 4 coins making 90p"},{"$f":"'Data Input'!$W$2","v":0},{"$f":"'Data Input'!$W$5","v":0},{"$f":"'Data Input'!$W$3","v":0},{"$f":"'Data Input'!$W$4","v":0},null,30,-1.5900000000000001E-7,"M","19b",2,"Find 4 coins making 90p",0,0,0,0]
[null,31,-1.6E-7,{"$f":"'Data Input'!$D$8","v":"N"},{"$f":"'Data Input'!$D$1","v":2},{"$f":"'Data Input'!$D$7","v":2},{"$f":"'Data Input'!$D$6","v":"\"Tens in 96\""},{"$f":"'Data Input'!$D$2","v":0},{"$f":"'Data Input'!$D$5","v":0},{"$f":"'Data Input'!$D$3","v":0},{"$f":"'Data Input'!$D$4","v":0},null,31,-1.6E-7,"N",2,2,"\"Tens in 96\"",0,0,0,0]
[null,32,-1.61E-7,{"$f":"'Data Input'!$J$8","v":"N"},{"$f":"'Data Input'!$J$1","v":8},{"$f":"'Data Input'!$J$7","v":2},{"$f":"'Data Input'!$J$6","v":"Convert words and digits"},{"$f":"'Data Input'!$J$2","v":0},{"$f":"'Data Input'!$J$5","v":0},{"$f":"'Data Input'!$J$3","v":0},{"$f":"'Data Input'!$J$4","v":0},null,32,-1.61E-7,"N",8,2,"Convert words and digits",0,0,0,0]
[null,33,-1.6200000000000002E-7,{"$f":"'Data Input'!$X$8","v":"N"},{"$f":"'Data Input'!$X$1","v":20},{"$f":"'Data Input'!$X$7","v":2},{"$f":"'Data Input'!$X$6","v":"Value of arrow on number line"},{"$f":"'Data Input'!$X$2","v":0},{"$f":"'Data Input'!$X$5","v":0},{"$f":"'Data Input'!$X$3","v":0},{"$f":"'Data Input'!$X$4","v":0},null,33,-1.6200000000000002E-7,"N",20,2,"Value of arrow on number line",0,0,0,0]
[null,34,-1.6300000000000002E-7,{"$f":"'Data Input'!$T$8","v":"S"},{"$f":"'Data Input'!$T$1","v":"18a"},{"$f":"'Data Input'!$T$7","v":2},{"$f":"'Data Input'!$T$6","v":"Chart: Total two columns"},{"$f":"'Data Input'!$T$2","v":0},{"$f":"'Data Input'!$T$5","v":0},{"$f":"'Data Input'!$T$3","v":0},{"$f":"'Data Input'!$T$4","v":0},null,34,-1.6300000000000002E-7,"S","18a",2,"Chart: Total two columns",0,0,0,0]
[null,{"$f":"RANK(C164,$C$130:$C$199)","v":35},{"$f":" H164 - ROW()*0.000000001","v":-1.6400000000000001E-7},{"$f":"'Data Input'!$U$8","v":"S"},{"$f":"'Data Input'!$U$1","v":"18b"},{"$f":"'Data Input'!$U$7","v":2},{"$f":"'Data Input'!$U$6","v":"Chart: How many more?"},{"$f":"'Data Input'!$U$2","v":0},{"$f":"'Data Input'!$U$5","v":0},{"$f":"'Data Input'!$U$3","v":0},{"$f":"'Data Input'!$U$4","v":0},null,35,{"$f":"VLOOKUP(ROW()-ROW(M$129),$B$130:$J$199,2,FALSE)","v":-1.6400000000000001E-7},{"$f":"VLOOKUP(ROW()-ROW(M$129),$B$130:$J$199,3,FALSE)","v":"S"},{"$f":"VLOOKUP(ROW()-ROW(M$129),$B$130:$J$199,4,FALSE)","v":"18b"},{"$f":"VLOOKUP(ROW()-ROW(M$129),$B$130:$J$199,5,FALSE)","v":2},{"$f":"VLOOKUP(ROW()-ROW(M$129),$B$130:$J$199,6,FALSE)","v":"Chart: How many more?"},{"$f":"VLOOKUP(ROW()-ROW(M$129),$B$130:$J$199,7,FALSE)","v":0},{"$f":"VLOOKUP(ROW()-ROW(M$129),$B$130:$J$199,8,FALSE)","v":0},{"$f":"VLOOKUP(ROW()-ROW(M$129),$B$130:$K$199,9,FALSE)","v":0},{"$f":"VLOOKUP(ROW()-ROW(M$129),$B$130:$K$199,10,FALSE)","v":0}]

{"sheet":"P2 Hidden Data Tables","index":3,"n_rows":162,"n_cols":22,"rows_kept":162,"cut":false,"hidden":true,"merged":[]}
[null,"Question Master"]
[null,"Strand","Question Number","Sub Category","Short Q","Correct","Incorrect or Unanswered","Incorrect","Unanswered"]
[null,{"$f":"'Data Input'!#REF!","v":{"$error":"#REF!"}},{"$f":"'Data Input'!#REF!","v":{"$error":"#REF!"}},{"$f":"'Data Input'!#REF!","v":{"$error":"#REF!"}},{"$f":"'Data Input'!#REF!","v":{"$error":"#REF!"}},{"$f":"'Data Input'!#REF!","v":{"$error":"#REF!"}},{"$f":"'Data Input'!#REF!","v":{"$error":"#REF!"}},{"$f":"'Data Input'!#REF!","v":{"$error":"#REF!"}},{"$f":"'Data Input'!#REF!","v":{"$error":"#REF!"}},null,null,null,"Codes"]
[null,{"$f":"'Data Input'!#REF!","v":{"$error":"#REF!"}},{"$f":"'Data Input'!#REF!","v":{"$error":"#REF!"}},{"$f":"'Data Input'!#REF!","v":{"$error":"#REF!"}},{"$f":"'Data Input'!#REF!","v":{"$error":"#REF!"}},{"$f":"'Data Input'!#REF!","v":{"$error":"#REF!"}},{"$f":"'Data Input'!#REF!","v":{"$error":"#REF!"}},{"$f":"'Data Input'!#REF!","v":{"$error":"#REF!"}},{"$f":"'Data Input'!#REF!","v":{"$error":"#REF!"}}]
[null,{"$f":"'Data Input'!#REF!","v":{"$error":"#REF!"}},{"$f":"'Data Input'!#REF!","v":{"$error":"#REF!"}},{"$f":"'Data Input'!#REF!","v":{"$error":"#REF!"}},{"$f":"'Data Input'!#REF!","v":{"$error":"#REF!"}},{"$f":"'Data Input'!#REF!","v":{"$error":"#REF!"}},{"$f":"'Data Input'!#REF!","v":{"$error":"#REF!"}},{"$f":"'Data Input'!#REF!","v":{"$error":"#REF!"}},{"$f":"'Data Input'!#REF!","v":{"$error":"#REF!"}}]
[null,{"$f":"'Data Input'!#REF!","v":{"$error":"#REF!"}},{"$f":"'Data Input'!#REF!","v":{"$error":"#REF!"}},{"$f":"'Data Input'!#REF!","v":{"$error":"#REF!"}},{"$f":"'Data Input'!#REF!","v":{"$error":"#REF!"}},{"$f":"'Data Input'!#REF!","v":{"$error":"#REF!"}},{"$f":"'Data Input'!#REF!","v":{"$error":"#REF!"}},{"$f":"'Data Input'!#REF!","v":{"$error":"#REF!"}},{"$f":"'Data Input'!#REF!","v":{"$error":"#REF!"}}]
[null,{"$f":"'Data Input'!#REF!","v":{"$error":"#REF!"}},{"$f":"'Data Input'!#REF!","v":{"$error":"#REF!"}},{"$f":"'Data Input'!#REF!","v":{"$error":"#REF!"}},{"$f":"'Data Input'!#REF!","v":{"$error":"#REF!"}},{"$f":"'Data Input'!#REF!","v":{"$error":"#REF!"}},{"$f":"'Data Input'!#REF!","v":{"$error":"#REF!"}},{"$f":"'Data Input'!#REF!","v":{"$error":"#REF!"}},{"$f":"'Data Input'!#REF!","v":{"$error":"#REF!"}}]
[null,{"$f":"'Data Input'!#REF!","v":{"$error":"#REF!"}},{"$f":"'Data Input'!#REF!","v":{"$error":"#REF!"}},{"$f":"'Data Input'!#REF!","v":{"$error":"#REF!"}},{"$f":"'Data Input'!#REF!","v":{"$error":"#REF!"}},{"$f":"'Data Input'!#REF!","v":{"$error":"#REF!"}},{"$f":"'Data Input'!#REF!","v":{"$error":"#REF!"}},{"$f":"'Data Input'!#REF!","v":{"$error":"#REF!"}},{"$f":"'Data Input'!#REF!","v":{"$error":"#REF!"}}]
[null,{"$f":"'Data Input'!#REF!","v":{"$error":"#REF!"}},{"$f":"'Data Input'!#REF!","v":{"$error":"#REF!"}},{"$f":"'Data Input'!#REF!","v":{"$error":"#REF!"}},{"$f":"'Data Input'!#REF!","v":{"$error":"#REF!"}},{"$f":"'Data Input'!#REF!","v":{"$error":"#REF!"}},{"$f":"'Data Input'!#REF!","v":{"$error":"#REF!"}},{"$f":"'Data Input'!#REF!","v":{"$error":"#REF!"}},{"$f":"'Data Input'!#REF!","v":{"$error":"#REF!"}}]
[null,{"$f":"'Data Input'!#REF!","v":{"$error":"#REF!"}},{"$f":"'Data Input'!#REF!","v":{"$error":"#REF!"}},{"$f":"'Data Input'!#REF!","v":{"$error":"#REF!"}},{"$f":"'Data Input'!#REF!","v":{"$error":"#REF!"}},{"$f":"'Data Input'!#REF!","v":{"$error":"#REF!"}},{"$f":"'Data Input'!#REF!","v":{"$error":"#REF!"}},{"$f":"'Data Input'!#REF!","v":{"$error":"#REF!"}},{"$f":"'Data Input'!#REF!","v":{"$error":"#REF!"}}]
[null,{"$f":"'Data Input'!#REF!","v":{"$error":"#REF!"}},{"$f":"'Data Input'!#REF!","v":{"$error":"#REF!"}},{"$f":"'Data Input'!#REF!","v":{"$error":"#REF!"}},{"$f":"'Data Input'!#REF!","v":{"$error":"#REF!"}},{"$f":"'Data Input'!#REF!","v":{"$error":"#REF!"}},{"$f":"'Data Input'!#REF!","v":{"$error":"#REF!"}},{"$f":"'Data Input'!#REF!","v":{"$error":"#REF!"}},{"$f":"'Data Input'!#REF!","v":{"$error":"#REF!"}}]
[null,{"$f":"'Data Input'!#REF!","v":{"$error":"#REF!"}},{"$f":"'Data Input'!#REF!","v":{"$error":"#REF!"}},{"$f":"'Data Input'!#REF!","v":{"$error":"#REF!"}},{"$f":"'Data Input'!#REF!","v":{"$error":"#REF!"}},{"$f":"'Data Input'!#REF!","v":{"$error":"#REF!"}},{"$f":"'Data Input'!#REF!","v":{"$error":"#REF!"}},{"$f":"'Data Input'!#REF!","v":{"$error":"#REF!"}},{"$f":"'Data Input'!#REF!","v":{"$error":"#REF!"}}]
[null,{"$f":"'Data Input'!#REF!","v":{"$error":"#REF!"}},{"$f":"'Data Input'!#REF!","v":{"$error":"#REF!"}},{"$f":"'Data Input'!#REF!","v":{"$error":"#REF!"}},{"$f":"'Data Input'!#REF!","v":{"$error":"#REF!"}},{"$f":"'Data Input'!#REF!","v":{"$error":"#REF!"}},{"$f":"'Data Input'!#REF!","v":{"$error":"#REF!"}},{"$f":"'Data Input'!#REF!","v":{"$error":"#REF!"}},{"$f":"'Data Input'!#REF!","v":{"$error":"#REF!"}}]
[null,{"$f":"'Data Input'!#REF!","v":{"$error":"#REF!"}},{"$f":"'Data Input'!#REF!","v":{"$error":"#REF!"}},{"$f":"'Data Input'!#REF!","v":{"$error":"#REF!"}},{"$f":"'Data Input'!#REF!","v":{"$error":"#REF!"}},{"$f":"'Data Input'!#REF!","v":{"$error":"#REF!"}},{"$f":"'Data Input'!#REF!","v":{"$error":"#REF!"}},{"$f":"'Data Input'!#REF!","v":{"$error":"#REF!"}},{"$f":"'Data Input'!#REF!","v":{"$error":"#REF!"}}]
[null,{"$f":"'Data Input'!#REF!","v":{"$error":"#REF!"}},{"$f":"'Data Input'!#REF!","v":{"$error":"#REF!"}},{"$f":"'Data Input'!#REF!","v":{"$error":"#REF!"}},{"$f":"'Data Input'!#REF!","v":{"$error":"#REF!"}},{"$f":"'Data Input'!#REF!","v":{"$error":"#REF!"}},{"$f":"'Data Input'!#REF!","v":{"$error":"#REF!"}},{"$f":"'Data Input'!#REF!","v":{"$error":"#REF!"}},{"$f":"'Data Input'!#REF!","v":{"$error":"#REF!"}}]
[null,{"$f":"'Data Input'!#REF!","v":{"$error":"#REF!"}},{"$f":"'Data Input'!#REF!","v":{"$error":"#REF!"}},{"$f":"'Data Input'!#REF!","v":{"$error":"#REF!"}},{"$f":"'Data Input'!#REF!","v":{"$error":"#REF!"}},{"$f":"'Data Input'!#REF!","v":{"$error":"#REF!"}},{"$f":"'Data Input'!#REF!","v":{"$error":"#REF!"}},{"$f":"'Data Input'!#REF!","v":{"$error":"#REF!"}},{"$f":"'Data Input'!#REF!","v":{"$error":"#REF!"}}]
[null,{"$f":"'Data Input'!#REF!","v":{"$error":"#REF!"}},{"$f":"'Data Input'!#REF!","v":{"$error":"#REF!"}},{"$f":"'Data Input'!#REF!","v":{"$error":"#REF!"}},{"$f":"'Data Input'!#REF!","v":{"$error":"#REF!"}},{"$f":"'Data Input'!#REF!","v":{"$error":"#REF!"}},{"$f":"'Data Input'!#REF!","v":{"$error":"#REF!"}},{"$f":"'Data Input'!#REF!","v":{"$error":"#REF!"}},{"$f":"'Data Input'!#REF!","v":{"$error":"#REF!"}}]
[null,{"$f":"'Data Input'!#REF!","v":{"$error":"#REF!"}},{"$f":"'Data Input'!#REF!","v":{"$error":"#REF!"}},{"$f":"'Data Input'!#REF!","v":{"$error":"#REF!"}},{"$f":"'Data Input'!#REF!","v":{"$error":"#REF!"}},{"$f":"'Data Input'!#REF!","v":{"$error":"#REF!"}},{"$f":"'Data Input'!#REF!","v":{"$error":"#REF!"}},{"$f":"'Data Input'!#REF!","v":{"$error":"#REF!"}},{"$f":"'Data Input'!#REF!","v":{"$error":"#REF!"}}]
[null,{"$f":"'Data Input'!#REF!","v":{"$error":"#REF!"}},{"$f":"'Data Input'!#REF!","v":{"$error":"#REF!"}},{"$f":"'Data Input'!#REF!","v":{"$error":"#REF!"}},{"$f":"'Data Input'!#REF!","v":{"$error":"#REF!"}},{"$f":"'Data Input'!#REF!","v":{"$error":"#REF!"}},{"$f":"'Data Input'!#REF!","v":{"$error":"#REF!"}},{"$f":"'Data Input'!#REF!","v":{"$error":"#REF!"}},{"$f":"'Data Input'!#REF!","v":{"$error":"#REF!"}}]
[null,{"$f":"'Data Input'!#REF!","v":{"$error":"#REF!"}},{"$f":"'Data Input'!#REF!","v":{"$error":"#REF!"}},{"$f":"'Data Input'!#REF!","v":{"$error":"#REF!"}},{"$f":"'Data Input'!#REF!","v":{"$error":"#REF!"}},{"$f":"'Data Input'!#REF!","v":{"$error":"#REF!"}},{"$f":"'Data Input'!#REF!","v":{"$error":"#REF!"}},{"$f":"'Data Input'!#REF!","v":{"$error":"#REF!"}},{"$f":"'Data Input'!#REF!","v":{"$error":"#REF!"}}]
[null,{"$f":"'Data Input'!#REF!","v":{"$error":"#REF!"}},{"$f":"'Data Input'!#REF!","v":{"$error":"#REF!"}},{"$f":"'Data Input'!#REF!","v":{"$error":"#REF!"}},{"$f":"'Data Input'!#REF!","v":{"$error":"#REF!"}},{"$f":"'Data Input'!#REF!","v":{"$error":"#REF!"}},{"$f":"'Data Input'!#REF!","v":{"$error":"#REF!"}},{"$f":"'Data Input'!#REF!","v":{"$error":"#REF!"}},{"$f":"'Data Input'!#REF!","v":{"$error":"#REF!"}}]
[null,{"$f":"'Data Input'!#REF!","v":{"$error":"#REF!"}},{"$f":"'Data Input'!#REF!","v":{"$error":"#REF!"}},{"$f":"'Data Input'!#REF!","v":{"$error":"#REF!"}},{"$f":"'Data Input'!#REF!","v":{"$error":"#REF!"}},{"$f":"'Data Input'!#REF!","v":{"$error":"#REF!"}},{"$f":"'Data Input'!#REF!","v":{"$error":"#REF!"}},{"$f":"'Data Input'!#REF!","v":{"$error":"#REF!"}},{"$f":"'Data Input'!#REF!","v":{"$error":"#REF!"}}]
[null,{"$f":"'Data Input'!#REF!","v":{"$error":"#REF!"}},{"$f":"'Data Input'!#REF!","v":{"$error":"#REF!"}},{"$f":"'Data Input'!#REF!","v":{"$error":"#REF!"}},{"$f":"'Data Input'!#REF!","v":{"$error":"#REF!"}},{"$f":"'Data Input'!#REF!","v":{"$error":"#REF!"}},{"$f":"'Data Input'!#REF!","v":{"$error":"#REF!"}},{"$f":"'Data Input'!#REF!","v":{"$error":"#REF!"}},{"$f":"'Data Input'!#REF!","v":{"$error":"#REF!"}}]
[null,{"$f":"'Data Input'!#REF!","v":{"$error":"#REF!"}},{"$f":"'Data Input'!#REF!","v":{"$error":"#REF!"}},{"$f":"'Data Input'!#REF!","v":{"$error":"#REF!"}},{"$f":"'Data Input'!#REF!","v":{"$error":"#REF!"}},{"$f":"'Data Input'!#REF!","v":{"$error":"#REF!"}},{"$f":"'Data Input'!#REF!","v":{"$error":"#REF!"}},{"$f":"'Data Input'!#REF!","v":{"$error":"#REF!"}},{"$f":"'Data Input'!#REF!","v":{"$error":"#REF!"}}]
[null,{"$f":"'Data Input'!#REF!","v":{"$error":"#REF!"}},{"$f":"'Data Input'!#REF!","v":{"$error":"#REF!"}},{"$f":"'Data Input'!#REF!","v":{"$error":"#REF!"}},{"$f":"'Data Input'!#REF!","v":{"$error":"#REF!"}},{"$f":"'Data Input'!#REF!","v":{"$error":"#REF!"}},{"$f":"'Data Input'!#REF!","v":{"$error":"#REF!"}},{"$f":"'Data Input'!#REF!","v":{"$error":"#REF!"}},{"$f":"'Data Input'!#REF!","v":{"$error":"#REF!"}}]
[null,{"$f":"'Data Input'!#REF!","v":{"$error":"#REF!"}},{"$f":"'Data Input'!#REF!","v":{"$error":"#REF!"}},{"$f":"'Data Input'!#REF!","v":{"$error":"#REF!"}},{"$f":"'Data Input'!#REF!","v":{"$error":"#REF!"}},{"$f":"'Data Input'!#REF!","v":{"$error":"#REF!"}},{"$f":"'Data Input'!#REF!","v":{"$error":"#REF!"}},{"$f":"'Data Input'!#REF!","v":{"$error":"#REF!"}},{"$f":"'Data Input'!#REF!","v":{"$error":"#REF!"}}]
[null,{"$f":"'Data Input'!#REF!","v":{"$error":"#REF!"}},{"$f":"'Data Input'!#REF!","v":{"$error":"#REF!"}},{"$f":"'Data Input'!#REF!","v":{"$error":"#REF!"}},{"$f":"'Data Input'!#REF!","v":{"$error":"#REF!"}},{"$f":"'Data Input'!#REF!","v":{"$error":"#REF!"}},{"$f":"'Data Input'!#REF!","v":{"$error":"#REF!"}},{"$f":"'Data Input'!#REF!","v":{"$error":"#REF!"}},{"$f":"'Data Input'!#REF!","v":{"$error":"#REF!"}}]
[null,{"$f":"'Data Input'!#REF!","v":{"$error":"#REF!"}},{"$f":"'Data Input'!#REF!","v":{"$error":"#REF!"}},{"$f":"'Data Input'!#REF!","v":{"$error":"#REF!"}},{"$f":"'Data Input'!#REF!","v":{"$error":"#REF!"}},{"$f":"'Data Input'!#REF!","v":{"$error":"#REF!"}},{"$f":"'Data Input'!#REF!","v":{"$error":"#REF!"}},{"$f":"'Data Input'!#REF!","v":{"$error":"#REF!"}},{"$f":"'Data Input'!#REF!","v":{"$error":"#REF!"}}]
[null,{"$f":"'Data Input'!#REF!","v":{"$error":"#REF!"}},{"$f":"'Data Input'!#REF!","v":{"$error":"#REF!"}},{"$f":"'Data Input'!#REF!","v":{"$error":"#REF!"}},{"$f":"'Data Input'!#REF!","v":{"$error":"#REF!"}},{"$f":"'Data Input'!#REF!","v":{"$error":"#REF!"}},{"$f":"'Data Input'!#REF!","v":{"$error":"#REF!"}},{"$f":"'Data Input'!#REF!","v":{"$error":"#REF!"}},{"$f":"'Data Input'!#REF!","v":{"$error":"#REF!"}}]
[null,{"$f":"'Data Input'!#REF!","v":{"$error":"#REF!"}},{"$f":"'Data Input'!#REF!","v":{"$error":"#REF!"}},{"$f":"'Data Input'!#REF!","v":{"$error":"#REF!"}},{"$f":"'Data Input'!#REF!","v":{"$error":"#REF!"}},{"$f":"'Data Input'!#REF!","v":{"$error":"#REF!"}},{"$f":"'Data Input'!#REF!","v":{"$error":"#REF!"}},{"$f":"'Data Input'!#REF!","v":{"$error":"#REF!"}},{"$f":"'Data Input'!#REF!","v":{"$error":"#REF!"}}]
[null,{"$f":"'Data Input'!#REF!","v":{"$error":"#REF!"}},{"$f":"'Data Input'!#REF!","v":{"$error":"#REF!"}},{"$f":"'Data Input'!#REF!","v":{"$error":"#REF!"}},{"$f":"'Data Input'!#REF!","v":{"$error":"#REF!"}},{"$f":"'Data Input'!#REF!","v":{"$error":"#REF!"}},{"$f":"'Data Input'!#REF!","v":{"$error":"#REF!"}},{"$f":"'Data Input'!#REF!","v":{"$error":"#REF!"}},{"$f":"'Data Input'!#REF!","v":{"$error":"#REF!"}}]
[null,{"$f":"'Data Input'!#REF!","v":{"$error":"#REF!"}},{"$f":"'Data Input'!#REF!","v":{"$error":"#REF!"}},{"$f":"'Data Input'!#REF!","v":{"$error":"#REF!"}},{"$f":"'Data Input'!#REF!","v":{"$error":"#REF!"}},{"$f":"'Data Input'!#REF!","v":{"$error":"#REF!"}},{"$f":"'Data Input'!#REF!","v":{"$error":"#REF!"}},{"$f":"'Data Input'!#REF!","v":{"$error":"#REF!"}},{"$f":"'Data Input'!#REF!","v":{"$error":"#REF!"}}]
[null,{"$f":"'Data Input'!#REF!","v":{"$error":"#REF!"}},{"$f":"'Data Input'!#REF!","v":{"$error":"#REF!"}},{"$f":"'Data Input'!#REF!","v":{"$error":"#REF!"}},{"$f":"'Data Input'!#REF!","v":{"$error":"#REF!"}},{"$f":"'Data Input'!#REF!","v":{"$error":"#REF!"}},{"$f":"'Data Input'!#REF!","v":{"$error":"#REF!"}},{"$f":"'Data Input'!#REF!","v":{"$error":"#REF!"}},{"$f":"'Data Input'!#REF!","v":{"$error":"#REF!"}}]
[null,{"$f":"'Data Input'!#REF!","v":{"$error":"#REF!"}},{"$f":"'Data Input'!#REF!","v":{"$error":"#REF!"}},{"$f":"'Data Input'!#REF!","v":{"$error":"#REF!"}},{"$f":"'Data Input'!#REF!","v":{"$error":"#REF!"}},{"$f":"'Data Input'!#REF!","v":{"$error":"#REF!"}},{"$f":"'Data Input'!#REF!","v":{"$error":"#REF!"}},{"$f":"'Data Input'!#REF!","v":{"$error":"#REF!"}},{"$f":"'Data Input'!#REF!","v":{"$error":"#REF!"}}]
[null,{"$f":"'Data Input'!#REF!","v":{"$error":"#REF!"}},{"$f":"'Data Input'!#REF!","v":{"$error":"#REF!"}},{"$f":"'Data Input'!#REF!","v":{"$error":"#REF!"}},{"$f":"'Data Input'!#REF!","v":{"$error":"#REF!"}},{"$f":"'Data Input'!#REF!","v":{"$error":"#REF!"}},{"$f":"'Data Input'!#REF!","v":{"$error":"#REF!"}},{"$f":"'Data Input'!#REF!","v":{"$error":"#REF!"}},{"$f":"'Data Input'!#REF!","v":{"$error":"#REF!"}}]
[]
[null,"Sorted by category"]
[null,"Strand","Question Number","Sub Category","Short Q","Correct","Incorrect or Unanswered","Incorrect","Unanswered"]
[null,{"$f":"'Data Input'!#REF!","v":{"$error":"#REF!"}},{"$f":"'Data Input'!#REF!","v":{"$error":"#REF!"}},{"$f":"'Data Input'!#REF!","v":{"$error":"#REF!"}},{"$f":"'Data Input'!#REF!","v":{"$error":"#REF!"}},{"$f":"'Data Input'!#REF!","v":{"$error":"#REF!"}},{"$f":"'Data Input'!#REF!","v":{"$error":"#REF!"}},{"$f":"'Data Input'!#REF!","v":{"$error":"#REF!"}},{"$f":"'Data Input'!#REF!","v":{"$error":"#REF!"}},null,null,null,"Codes"]
[null,{"$f":"'Data Input'!#REF!","v":{"$error":"#REF!"}},{"$f":"'Data Input'!#REF!","v":{"$error":"#REF!"}},{"$f":"'Data Input'!#REF!","v":{"$error":"#REF!"}},{"$f":"'Data Input'!#REF!","v":{"$error":"#REF!"}},{"$f":"'Data Input'!#REF!","v":{"$error":"#REF!"}},{"$f":"'Data Input'!#REF!","v":{"$error":"#REF!"}},{"$f":"'Data Input'!#REF!","v":{"$error":"#REF!"}},{"$f":"'Data Input'!#REF!","v":{"$error":"#REF!"}}]
[null,{"$f":"'Data Input'!#REF!","v":{"$error":"#REF!"}},{"$f":"'Data Input'!#REF!","v":{"$error":"#REF!"}},{"$f":"'Data Input'!#REF!","v":{"$error":"#REF!"}},{"$f":"'Data Input'!#REF!","v":{"$error":"#REF!"}},{"$f":"'Data Input'!#REF!","v":{"$error":"#REF!"}},{"$f":"'Data Input'!#REF!","v":{"$error":"#REF!"}},{"$f":"'Data Input'!#REF!","v":{"$error":"#REF!"}},{"$f":"'Data Input'!#REF!","v":{"$error":"#REF!"}}]
[null,{"$f":"'Data Input'!#REF!","v":{"$error":"#REF!"}},{"$f":"'Data Input'!#REF!","v":{"$error":"#REF!"}},{"$f":"'Data Input'!#REF!","v":{"$error":"#REF!"}},{"$f":"'Data Input'!#REF!","v":{"$error":"#REF!"}},{"$f":"'Data Input'!#REF!","v":{"$error":"#REF!"}},{"$f":"'Data Input'!#REF!","v":{"$error":"#REF!"}},{"$f":"'Data Input'!#REF!","v":{"$error":"#REF!"}},{"$f":"'Data Input'!#REF!","v":{"$error":"#REF!"}}]
[null,{"$f":"'Data Input'!#REF!","v":{"$error":"#REF!"}},{"$f":"'Data Input'!#REF!","v":{"$error":"#REF!"}},{"$f":"'Data Input'!#REF!","v":{"$error":"#REF!"}},{"$f":"'Data Input'!#REF!","v":{"$error":"#REF!"}},{"$f":"'Data Input'!#REF!","v":{"$error":"#REF!"}},{"$f":"'Data Input'!#REF!","v":{"$error":"#REF!"}},{"$f":"'Data Input'!#REF!","v":{"$error":"#REF!"}},{"$f":"'Data Input'!#REF!","v":{"$error":"#REF!"}}]
[null,{"$f":"'Data Input'!#REF!","v":{"$error":"#REF!"}},{"$f":"'Data Input'!#REF!","v":{"$error":"#REF!"}},{"$f":"'Data Input'!#REF!","v":{"$error":"#REF!"}},{"$f":"'Data Input'!#REF!","v":{"$error":"#REF!"}},{"$f":"'Data Input'!#REF!","v":{"$error":"#REF!"}},{"$f":"'Data Input'!#REF!","v":{"$error":"#REF!"}},{"$f":"'Data Input'!#REF!","v":{"$error":"#REF!"}},{"$f":"'Data Input'!#REF!","v":{"$error":"#REF!"}}]
[null,{"$f":"'Data Input'!#REF!","v":{"$error":"#REF!"}},{"$f":"'Data Input'!#REF!","v":{"$error":"#REF!"}},{"$f":"'Data Input'!#REF!","v":{"$error":"#REF!"}},{"$f":"'Data Input'!#REF!","v":{"$error":"#REF!"}},{"$f":"'Data Input'!#REF!","v":{"$error":"#REF!"}},{"$f":"'Data Input'!#REF!","v":{"$error":"#REF!"}},{"$f":"'Data Input'!#REF!","v":{"$error":"#REF!"}},{"$f":"'Data Input'!#REF!","v":{"$error":"#REF!"}}]
[]
[null,{"$f":"'Data Input'!#REF!","v":{"$error":"#REF!"}},{"$f":"'Data Input'!#REF!","v":{"$error":"#REF!"}},{"$f":"'Data Input'!#REF!","v":{"$error":"#REF!"}},{"$f":"'Data Input'!#REF!","v":{"$error":"#REF!"}},{"$f":"'Data Input'!#REF!","v":{"$error":"#REF!"}},{"$f":"'Data Input'!#REF!","v":{"$error":"#REF!"}},{"$f":"'Data Input'!#REF!","v":{"$error":"#REF!"}},{"$f":"'Data Input'!#REF!","v":{"$error":"#REF!"}}]
[null,{"$f":"'Data Input'!#REF!","v":{"$error":"#REF!"}},{"$f":"'Data Input'!#REF!","v":{"$error":"#REF!"}},{"$f":"'Data Input'!#REF!","v":{"$error":"#REF!"}},{"$f":"'Data Input'!#REF!","v":{"$error":"#REF!"}},{"$f":"'Data Input'!#REF!","v":{"$error":"#REF!"}},{"$f":"'Data Input'!#REF!","v":{"$error":"#REF!"}},{"$f":"'Data Input'!#REF!","v":{"$error":"#REF!"}},{"$f":"'Data Input'!#REF!","v":{"$error":"#REF!"}}]
[null,{"$f":"'Data Input'!#REF!","v":{"$error":"#REF!"}},{"$f":"'Data Input'!#REF!","v":{"$error":"#REF!"}},{"$f":"'Data Input'!#REF!","v":{"$error":"#REF!"}},{"$f":"'Data Input'!#REF!","v":{"$error":"#REF!"}},{"$f":"'Data Input'!#REF!","v":{"$error":"#REF!"}},{"$f":"'Data Input'!#REF!","v":{"$error":"#REF!"}},{"$f":"'Data Input'!#REF!","v":{"$error":"#REF!"}},{"$f":"'Data Input'!#REF!","v":{"$error":"#REF!"}}]
[null,{"$f":"'Data Input'!#REF!","v":{"$error":"#REF!"}},{"$f":"'Data Input'!#REF!","v":{"$error":"#REF!"}},{"$f":"'Data Input'!#REF!","v":{"$error":"#REF!"}},{"$f":"'Data Input'!#REF!","v":{"$error":"#REF!"}},{"$f":"'Data Input'!#REF!","v":{"$error":"#REF!"}},{"$f":"'Data Input'!#REF!","v":{"$error":"#REF!"}},{"$f":"'Data Input'!#REF!","v":{"$error":"#REF!"}},{"$f":"'Data Input'!#REF!","v":{"$error":"#REF!"}}]
[null,{"$f":"'Data Input'!#REF!","v":{"$error":"#REF!"}},{"$f":"'Data Input'!#REF!","v":{"$error":"#REF!"}},{"$f":"'Data Input'!#REF!","v":{"$error":"#REF!"}},{"$f":"'Data Input'!#REF!","v":{"$error":"#REF!"}},{"$f":"'Data Input'!#REF!","v":{"$error":"#REF!"}},{"$f":"'Data Input'!#REF!","v":{"$error":"#REF!"}},{"$f":"'Data Input'!#REF!","v":{"$error":"#REF!"}},{"$f":"'Data Input'!#REF!","v":{"$error":"#REF!"}}]
[null,{"$f":"'Data Input'!#REF!","v":{"$error":"#REF!"}},{"$f":"'Data Input'!#REF!","v":{"$error":"#REF!"}},{"$f":"'Data Input'!#REF!","v":{"$error":"#REF!"}},{"$f":"'Data Input'!#REF!","v":{"$error":"#REF!"}},{"$f":"'Data Input'!#REF!","v":{"$error":"#REF!"}},{"$f":"'Data Input'!#REF!","v":{"$error":"#REF!"}},{"$f":"'Data Input'!#REF!","v":{"$error":"#REF!"}},{"$f":"'Data Input'!#REF!","v":{"$error":"#REF!"}}]
[null,{"$f":"'Data Input'!#REF!","v":{"$error":"#REF!"}},{"$f":"'Data Input'!#REF!","v":{"$error":"#REF!"}},{"$f":"'Data Input'!#REF!","v":{"$error":"#REF!"}},{"$f":"'Data Input'!#REF!","v":{"$error":"#REF!"}},{"$f":"'Data Input'!#REF!","v":{"$error":"#REF!"}},{"$f":"'Data Input'!#REF!","v":{"$error":"#REF!"}},{"$f":"'Data Input'!#REF!","v":{"$error":"#REF!"}},{"$f":"'Data Input'!#REF!","v":{"$error":"#REF!"}}]
[null,{"$f":"'Data Input'!#REF!","v":{"$error":"#REF!"}},{"$f":"'Data Input'!#REF!","v":{"$error":"#REF!"}},{"$f":"'Data Input'!#REF!","v":{"$error":"#REF!"}},{"$f":"'Data Input'!#REF!","v":{"$error":"#REF!"}},{"$f":"'Data Input'!#REF!","v":{"$error":"#REF!"}},{"$f":"'Data Input'!#REF!","v":{"$error":"#REF!"}},{"$f":"'Data Input'!#REF!","v":{"$error":"#REF!"}},{"$f":"'Data Input'!#REF!","v":{"$error":"#REF!"}}]
[]
[null,{"$f":"'Data Input'!#REF!","v":{"$error":"#REF!"}},{"$f":"'Data Input'!#REF!","v":{"$error":"#REF!"}},{"$f":"'Data Input'!#REF!","v":{"$error":"#REF!"}},{"$f":"'Data Input'!#REF!","v":{"$error":"#REF!"}},{"$f":"'Data Input'!#REF!","v":{"$error":"#REF!"}},{"$f":"'Data Input'!#REF!","v":{"$error":"#REF!"}},{"$f":"'Data Input'!#REF!","v":{"$error":"#REF!"}},{"$f":"'Data Input'!#REF!","v":{"$error":"#REF!"}}]
[null,{"$f":"'Data Input'!#REF!","v":{"$error":"#REF!"}},{"$f":"'Data Input'!#REF!","v":{"$error":"#REF!"}},{"$f":"'Data Input'!#REF!","v":{"$error":"#REF!"}},{"$f":"'Data Input'!#REF!","v":{"$error":"#REF!"}},{"$f":"'Data Input'!#REF!","v":{"$error":"#REF!"}},{"$f":"'Data Input'!#REF!","v":{"$error":"#REF!"}},{"$f":"'Data Input'!#REF!","v":{"$error":"#REF!"}},{"$f":"'Data Input'!#REF!","v":{"$error":"#REF!"}}]
[null,{"$f":"'Data Input'!#REF!","v":{"$error":"#REF!"}},{"$f":"'Data Input'!#REF!","v":{"$error":"#REF!"}},{"$f":"'Data Input'!#REF!","v":{"$error":"#REF!"}},{"$f":"'Data Input'!#REF!","v":{"$error":"#REF!"}},{"$f":"'Data Input'!#REF!","v":{"$error":"#REF!"}},{"$f":"'Data Input'!#REF!","v":{"$error":"#REF!"}},{"$f":"'Data Input'!#REF!","v":{"$error":"#REF!"}},{"$f":"'Data Input'!#REF!","v":{"$error":"#REF!"}}]
[null,{"$f":"'Data Input'!#REF!","v":{"$error":"#REF!"}},{"$f":"'Data Input'!#REF!","v":{"$error":"#REF!"}},{"$f":"'Data Input'!#REF!","v":{"$error":"#REF!"}},{"$f":"'Data Input'!#REF!","v":{"$error":"#REF!"}},{"$f":"'Data Input'!#REF!","v":{"$error":"#REF!"}},{"$f":"'Data Input'!#REF!","v":{"$error":"#REF!"}},{"$f":"'Data Input'!#REF!","v":{"$error":"#REF!"}},{"$f":"'Data Input'!#REF!","v":{"$error":"#REF!"}}]
[null,{"$f":"'Data Input'!#REF!","v":{"$error":"#REF!"}},{"$f":"'Data Input'!#REF!","v":{"$error":"#REF!"}},{"$f":"'Data Input'!#REF!","v":{"$error":"#REF!"}},{"$f":"'Data Input'!#REF!","v":{"$error":"#REF!"}},{"$f":"'Data Input'!#REF!","v":{"$error":"#REF!"}},{"$f":"'Data Input'!#REF!","v":{"$error":"#REF!"}},{"$f":"'Data Input'!#REF!","v":{"$error":"#REF!"}},{"$f":"'Data Input'!#REF!","v":{"$error":"#REF!"}}]
[]
[null,{"$f":"'Data Input'!#REF!","v":{"$error":"#REF!"}},{"$f":"'Data Input'!#REF!","v":{"$error":"#REF!"}},{"$f":"'Data Input'!#REF!","v":{"$error":"#REF!"}},{"$f":"'Data Input'!#REF!","v":{"$error":"#REF!"}},{"$f":"'Data Input'!#REF!","v":{"$error":"#REF!"}},{"$f":"'Data Input'!#REF!","v":{"$error":"#REF!"}},{"$f":"'Data Input'!#REF!","v":{"$error":"#REF!"}},{"$f":"'Data Input'!#REF!","v":{"$error":"#REF!"}}]
[null,{"$f":"'Data Input'!#REF!","v":{"$error":"#REF!"}},{"$f":"'Data Input'!#REF!","v":{"$error":"#REF!"}},{"$f":"'Data Input'!#REF!","v":{"$error":"#REF!"}},{"$f":"'Data Input'!#REF!","v":{"$error":"#REF!"}},{"$f":"'Data Input'!#REF!","v":{"$error":"#REF!"}},{"$f":"'Data Input'!#REF!","v":{"$error":"#REF!"}},{"$f":"'Data Input'!#REF!","v":{"$error":"#REF!"}},{"$f":"'Data Input'!#REF!","v":{"$error":"#REF!"}}]
[null,{"$f":"'Data Input'!#REF!","v":{"$error":"#REF!"}},{"$f":"'Data Input'!#REF!","v":{"$error":"#REF!"}},{"$f":"'Data Input'!#REF!","v":{"$error":"#REF!"}},{"$f":"'Data Input'!#REF!","v":{"$error":"#REF!"}},{"$f":"'Data Input'!#REF!","v":{"$error":"#REF!"}},{"$f":"'Data Input'!#REF!","v":{"$error":"#REF!"}},{"$f":"'Data Input'!#REF!","v":{"$error":"#REF!"}},{"$f":"'Data Input'!#REF!","v":{"$error":"#REF!"}}]
[null,{"$f":"'Data Input'!#REF!","v":{"$error":"#REF!"}},{"$f":"'Data Input'!#REF!","v":{"$error":"#REF!"}},{"$f":"'Data Input'!#REF!","v":{"$error":"#REF!"}},{"$f":"'Data Input'!#REF!","v":{"$error":"#REF!"}},{"$f":"'Data Input'!#REF!","v":{"$error":"#REF!"}},{"$f":"'Data Input'!#REF!","v":{"$error":"#REF!"}},{"$f":"'Data Input'!#REF!","v":{"$error":"#REF!"}},{"$f":"'Data Input'!#REF!","v":{"$error":"#REF!"}}]
[]
[null,{"$f":"'Data Input'!#REF!","v":{"$error":"#REF!"}},{"$f":"'Data Input'!#REF!","v":{"$error":"#REF!"}},{"$f":"'Data Input'!#REF!","v":{"$error":"#REF!"}},{"$f":"'Data Input'!#REF!","v":{"$error":"#REF!"}},{"$f":"'Data Input'!#REF!","v":{"$error":"#REF!"}},{"$f":"'Data Input'!#REF!","v":{"$error":"#REF!"}},{"$f":"'Data Input'!#REF!","v":{"$error":"#REF!"}},{"$f":"'Data Input'!#REF!","v":{"$error":"#REF!"}}]
[null,{"$f":"'Data Input'!#REF!","v":{"$error":"#REF!"}},{"$f":"'Data Input'!#REF!","v":{"$error":"#REF!"}},{"$f":"'Data Input'!#REF!","v":{"$error":"#REF!"}},{"$f":"'Data Input'!#REF!","v":{"$error":"#REF!"}},{"$f":"'Data Input'!#REF!","v":{"$error":"#REF!"}},{"$f":"'Data Input'!#REF!","v":{"$error":"#REF!"}},{"$f":"'Data Input'!#REF!","v":{"$error":"#REF!"}},{"$f":"'Data Input'!#REF!","v":{"$error":"#REF!"}}]
[null,{"$f":"'Data Input'!#REF!","v":{"$error":"#REF!"}},{"$f":"'Data Input'!#REF!","v":{"$error":"#REF!"}},{"$f":"'Data Input'!#REF!","v":{"$error":"#REF!"}},{"$f":"'Data Input'!#REF!","v":{"$error":"#REF!"}},{"$f":"'Data Input'!#REF!","v":{"$error":"#REF!"}},{"$f":"'Data Input'!#REF!","v":{"$error":"#REF!"}},{"$f":"'Data Input'!#REF!","v":{"$error":"#REF!"}},{"$f":"'Data Input'!#REF!","v":{"$error":"#REF!"}}]
[]
[null,{"$f":"'Data Input'!#REF!","v":{"$error":"#REF!"}},{"$f":"'Data Input'!#REF!","v":{"$error":"#REF!"}},{"$f":"'Data Input'!#REF!","v":{"$error":"#REF!"}},{"$f":"'Data Input'!#REF!","v":{"$error":"#REF!"}},{"$f":"'Data Input'!#REF!","v":{"$error":"#REF!"}},{"$f":"'Data Input'!#REF!","v":{"$error":"#REF!"}},{"$f":"'Data Input'!#REF!","v":{"$error":"#REF!"}},{"$f":"'Data Input'!#REF!","v":{"$error":"#REF!"}}]
[null,{"$f":"'Data Input'!#REF!","v":{"$error":"#REF!"}},{"$f":"'Data Input'!#REF!","v":{"$error":"#REF!"}},{"$f":"'Data Input'!#REF!","v":{"$error":"#REF!"}},{"$f":"'Data Input'!#REF!","v":{"$error":"#REF!"}},{"$f":"'Data Input'!#REF!","v":{"$error":"#REF!"}},{"$f":"'Data Input'!#REF!","v":{"$error":"#REF!"}},{"$f":"'Data Input'!#REF!","v":{"$error":"#REF!"}},{"$f":"'Data Input'!#REF!","v":{"$error":"#REF!"}}]
[]
[null,{"$f":"'Data Input'!#REF!","v":{"$error":"#REF!"}},{"$f":"'Data Input'!#REF!","v":{"$error":"#REF!"}},{"$f":"'Data Input'!#REF!","v":{"$error":"#REF!"}},{"$f":"'Data Input'!#REF!","v":{"$error":"#REF!"}},{"$f":"'Data Input'!#REF!","v":{"$error":"#REF!"}},{"$f":"'Data Input'!#REF!","v":{"$error":"#REF!"}},{"$f":"'Data Input'!#REF!","v":{"$error":"#REF!"}},{"$f":"'Data Input'!#REF!","v":{"$error":"#REF!"}}]
[null,{"$f":"'Data Input'!#REF!","v":{"$error":"#REF!"}},{"$f":"'Data Input'!#REF!","v":{"$error":"#REF!"}},{"$f":"'Data Input'!#REF!","v":{"$error":"#REF!"}},{"$f":"'Data Input'!#REF!","v":{"$error":"#REF!"}},{"$f":"'Data Input'!#REF!","v":{"$error":"#REF!"}},{"$f":"'Data Input'!#REF!","v":{"$error":"#REF!"}},{"$f":"'Data Input'!#REF!","v":{"$error":"#REF!"}},{"$f":"'Data Input'!#REF!","v":{"$error":"#REF!"}}]
[null,{"$f":"'Data Input'!#REF!","v":{"$error":"#REF!"}},{"$f":"'Data Input'!#REF!","v":{"$error":"#REF!"}},{"$f":"'Data Input'!#REF!","v":{"$error":"#REF!"}},{"$f":"'Data Input'!#REF!","v":{"$error":"#REF!"}},{"$f":"'Data Input'!#REF!","v":{"$error":"#REF!"}},{"$f":"'Data Input'!#REF!","v":{"$error":"#REF!"}},{"$f":"'Data Input'!#REF!","v":{"$error":"#REF!"}},{"$f":"'Data Input'!#REF!","v":{"$error":"#REF!"}}]
[null,{"$f":"'Data Input'!#REF!","v":{"$error":"#REF!"}},{"$f":"'Data Input'!#REF!","v":{"$error":"#REF!"}},{"$f":"'Data Input'!#REF!","v":{"$error":"#REF!"}},{"$f":"'Data Input'!#REF!","v":{"$error":"#REF!"}},{"$f":"'Data Input'!#REF!","v":{"$error":"#REF!"}},{"$f":"'Data Input'!#REF!","v":{"$error":"#REF!"}},{"$f":"'Data Input'!#REF!","v":{"$error":"#REF!"}},{"$f":"'Data Input'!#REF!","v":{"$error":"#REF!"}}]
[]
[null,"Sorted by Year Group"]
[null,"Strand","Question Number","Sub Category","Short Q","Correct","Incorrect or Unanswered","Incorrect","Unanswered"]
[null,{"$f":"'Data Input'!#REF!","v":{"$error":"#REF!"}},{"$f":"'Data Input'!#REF!","v":{"$error":"#REF!"}},{"$f":"'Data Input'!#REF!","v":{"$error":"#REF!"}},{"$f":"'Data Input'!#REF!","v":{"$error":"#REF!"}},{"$f":"'Data Input'!#REF!","v":{"$error":"#REF!"}},{"$f":"'Data Input'!#REF!","v":{"$error":"#REF!"}},{"$f":"'Data Input'!#REF!","v":{"$error":"#REF!"}},{"$f":"'Data Input'!#REF!","v":{"$error":"#REF!"}}]
[null,{"$f":"'Data Input'!#REF!","v":{"$error":"#REF!"}},{"$f":"'Data Input'!#REF!","v":{"$error":"#REF!"}},{"$f":"'Data Input'!#REF!","v":{"$error":"#REF!"}},{"$f":"'Data Input'!#REF!","v":{"$error":"#REF!"}},{"$f":"'Data Input'!#REF!","v":{"$error":"#REF!"}},{"$f":"'Data Input'!#REF!","v":{"$error":"#REF!"}},{"$f":"'Data Input'!#REF!","v":{"$error":"#REF!"}},{"$f":"'Data Input'!#REF!","v":{"$error":"#REF!"}}]
[null,{"$f":"'Data Input'!#REF!","v":{"$error":"#REF!"}},{"$f":"'Data Input'!#REF!","v":{"$error":"#REF!"}},{"$f":"'Data Input'!#REF!","v":{"$error":"#REF!"}},{"$f":"'Data Input'!#REF!","v":{"$error":"#REF!"}},{"$f":"'Data Input'!#REF!","v":{"$error":"#REF!"}},{"$f":"'Data Input'!#REF!","v":{"$error":"#REF!"}},{"$f":"'Data Input'!#REF!","v":{"$error":"#REF!"}},{"$f":"'Data Input'!#REF!","v":{"$error":"#REF!"}}]
[null,{"$f":"'Data Input'!#REF!","v":{"$error":"#REF!"}},{"$f":"'Data Input'!#REF!","v":{"$error":"#REF!"}},{"$f":"'Data Input'!#REF!","v":{"$error":"#REF!"}},{"$f":"'Data Input'!#REF!","v":{"$error":"#REF!"}},{"$f":"'Data Input'!#REF!","v":{"$error":"#REF!"}},{"$f":"'Data Input'!#REF!","v":{"$error":"#REF!"}},{"$f":"'Data Input'!#REF!","v":{"$error":"#REF!"}},{"$f":"'Data Input'!#REF!","v":{"$error":"#REF!"}}]
[null,{"$f":"'Data Input'!#REF!","v":{"$error":"#REF!"}},{"$f":"'Data Input'!#REF!","v":{"$error":"#REF!"}},{"$f":"'Data Input'!#REF!","v":{"$error":"#REF!"}},{"$f":"'Data Input'!#REF!","v":{"$error":"#REF!"}},{"$f":"'Data Input'!#REF!","v":{"$error":"#REF!"}},{"$f":"'Data Input'!#REF!","v":{"$error":"#REF!"}},{"$f":"'Data Input'!#REF!","v":{"$error":"#REF!"}},{"$f":"'Data Input'!#REF!","v":{"$error":"#REF!"}}]
[null,{"$f":"'Data Input'!#REF!","v":{"$error":"#REF!"}},{"$f":"'Data Input'!#REF!","v":{"$error":"#REF!"}},{"$f":"'Data Input'!#REF!","v":{"$error":"#REF!"}},{"$f":"'Data Input'!#REF!","v":{"$error":"#REF!"}},{"$f":"'Data Input'!#REF!","v":{"$error":"#REF!"}},{"$f":"'Data Input'!#REF!","v":{"$error":"#REF!"}},{"$f":"'Data Input'!#REF!","v":{"$error":"#REF!"}},{"$f":"'Data Input'!#REF!","v":{"$error":"#REF!"}}]
[null,{"$f":"'Data Input'!#REF!","v":{"$error":"#REF!"}},{"$f":"'Data Input'!#REF!","v":{"$error":"#REF!"}},{"$f":"'Data Input'!#REF!","v":{"$error":"#REF!"}},{"$f":"'Data Input'!#REF!","v":{"$error":"#REF!"}},{"$f":"'Data Input'!#REF!","v":{"$error":"#REF!"}},{"$f":"'Data Input'!#REF!","v":{"$error":"#REF!"}},{"$f":"'Data Input'!#REF!","v":{"$error":"#REF!"}},{"$f":"'Data Input'!#REF!","v":{"$error":"#REF!"}}]
[null,{"$f":"'Data Input'!#REF!","v":{"$error":"#REF!"}},{"$f":"'Data Input'!#REF!","v":{"$error":"#REF!"}},{"$f":"'Data Input'!#REF!","v":{"$error":"#REF!"}},{"$f":"'Data Input'!#REF!","v":{"$error":"#REF!"}},{"$f":"'Data Input'!#REF!","v":{"$error":"#REF!"}},{"$f":"'Data Input'!#REF!","v":{"$error":"#REF!"}},{"$f":"'Data Input'!#REF!","v":{"$error":"#REF!"}},{"$f":"'Data Input'!#REF!","v":{"$error":"#REF!"}}]
[null,{"$f":"'Data Input'!#REF!","v":{"$error":"#REF!"}},{"$f":"'Data Input'!#REF!","v":{"$error":"#REF!"}},{"$f":"'Data Input'!#REF!","v":{"$error":"#REF!"}},{"$f":"'Data Input'!#REF!","v":{"$error":"#REF!"}},{"$f":"'Data Input'!#REF!","v":{"$error":"#REF!"}},{"$f":"'Data Input'!#REF!","v":{"$error":"#REF!"}},{"$f":"'Data Input'!#REF!","v":{"$error":"#REF!"}},{"$f":"'Data Input'!#REF!","v":{"$error":"#REF!"}}]
[null,{"$f":"'Data Input'!#REF!","v":{"$error":"#REF!"}},{"$f":"'Data Input'!#REF!","v":{"$error":"#REF!"}},{"$f":"'Data Input'!#REF!","v":{"$error":"#REF!"}},{"$f":"'Data Input'!#REF!","v":{"$error":"#REF!"}},{"$f":"'Data Input'!#REF!","v":{"$error":"#REF!"}},{"$f":"'Data Input'!#REF!","v":{"$error":"#REF!"}},{"$f":"'Data Input'!#REF!","v":{"$error":"#REF!"}},{"$f":"'Data Input'!#REF!","v":{"$error":"#REF!"}}]
[null,{"$f":"'Data Input'!#REF!","v":{"$error":"#REF!"}},{"$f":"'Data Input'!#REF!","v":{"$error":"#REF!"}},{"$f":"'Data Input'!#REF!","v":{"$error":"#REF!"}},{"$f":"'Data Input'!#REF!","v":{"$error":"#REF!"}},{"$f":"'Data Input'!#REF!","v":{"$error":"#REF!"}},{"$f":"'Data Input'!#REF!","v":{"$error":"#REF!"}},{"$f":"'Data Input'!#REF!","v":{"$error":"#REF!"}},{"$f":"'Data Input'!#REF!","v":{"$error":"#REF!"}}]
[null,{"$f":"'Data Input'!#REF!","v":{"$error":"#REF!"}},{"$f":"'Data Input'!#REF!","v":{"$error":"#REF!"}},{"$f":"'Data Input'!#REF!","v":{"$error":"#REF!"}},{"$f":"'Data Input'!#REF!","v":{"$error":"#REF!"}},{"$f":"'Data Input'!#REF!","v":{"$error":"#REF!"}},{"$f":"'Data Input'!#REF!","v":{"$error":"#REF!"}},{"$f":"'Data Input'!#REF!","v":{"$error":"#REF!"}},{"$f":"'Data Input'!#REF!","v":{"$error":"#REF!"}}]
[null,{"$f":"'Data Input'!#REF!","v":{"$error":"#REF!"}},{"$f":"'Data Input'!#REF!","v":{"$error":"#REF!"}},{"$f":"'Data Input'!#REF!","v":{"$error":"#REF!"}},{"$f":"'Data Input'!#REF!","v":{"$error":"#REF!"}},{"$f":"'Data Input'!#REF!","v":{"$error":"#REF!"}},{"$f":"'Data Input'!#REF!","v":{"$error":"#REF!"}},{"$f":"'Data Input'!#REF!","v":{"$error":"#REF!"}},{"$f":"'Data Input'!#REF!","v":{"$error":"#REF!"}}]
[null,{"$f":"'Data Input'!#REF!","v":{"$error":"#REF!"}},{"$f":"'Data Input'!#REF!","v":{"$error":"#REF!"}},{"$f":"'Data Input'!#REF!","v":{"$error":"#REF!"}},{"$f":"'Data Input'!#REF!","v":{"$error":"#REF!"}},{"$f":"'Data Input'!#REF!","v":{"$error":"#REF!"}},{"$f":"'Data Input'!#REF!","v":{"$error":"#REF!"}},{"$f":"'Data Input'!#REF!","v":{"$error":"#REF!"}},{"$f":"'Data Input'!#REF!","v":{"$error":"#REF!"}}]
[null,{"$f":"'Data Input'!#REF!","v":{"$error":"#REF!"}},{"$f":"'Data Input'!#REF!","v":{"$error":"#REF!"}},{"$f":"'Data Input'!#REF!","v":{"$error":"#REF!"}},{"$f":"'Data Input'!#REF!","v":{"$error":"#REF!"}},{"$f":"'Data Input'!#REF!","v":{"$error":"#REF!"}},{"$f":"'Data Input'!#REF!","v":{"$error":"#REF!"}},{"$f":"'Data Input'!#REF!","v":{"$error":"#REF!"}},{"$f":"'Data Input'!#REF!","v":{"$error":"#REF!"}}]
[null,{"$f":"'Data Input'!#REF!","v":{"$error":"#REF!"}},{"$f":"'Data Input'!#REF!","v":{"$error":"#REF!"}},{"$f":"'Data Input'!#REF!","v":{"$error":"#REF!"}},{"$f":"'Data Input'!#REF!","v":{"$error":"#REF!"}},{"$f":"'Data Input'!#REF!","v":{"$error":"#REF!"}},{"$f":"'Data Input'!#REF!","v":{"$error":"#REF!"}},{"$f":"'Data Input'!#REF!","v":{"$error":"#REF!"}},{"$f":"'Data Input'!#REF!","v":{"$error":"#REF!"}}]
[null,{"$f":"'Data Input'!#REF!","v":{"$error":"#REF!"}},{"$f":"'Data Input'!#REF!","v":{"$error":"#REF!"}},{"$f":"'Data Input'!#REF!","v":{"$error":"#REF!"}},{"$f":"'Data Input'!#REF!","v":{"$error":"#REF!"}},{"$f":"'Data Input'!#REF!","v":{"$error":"#REF!"}},{"$f":"'Data Input'!#REF!","v":{"$error":"#REF!"}},{"$f":"'Data Input'!#REF!","v":{"$error":"#REF!"}},{"$f":"'Data Input'!#REF!","v":{"$error":"#REF!"}}]
[null,{"$f":"'Data Input'!#REF!","v":{"$error":"#REF!"}},{"$f":"'Data Input'!#REF!","v":{"$error":"#REF!"}},{"$f":"'Data Input'!#REF!","v":{"$error":"#REF!"}},{"$f":"'Data Input'!#REF!","v":{"$error":"#REF!"}},{"$f":"'Data Input'!#REF!","v":{"$error":"#REF!"}},{"$f":"'Data Input'!#REF!","v":{"$error":"#REF!"}},{"$f":"'Data Input'!#REF!","v":{"$error":"#REF!"}},{"$f":"'Data Input'!#REF!","v":{"$error":"#REF!"}}]
[null,{"$f":"'Data Input'!#REF!","v":{"$error":"#REF!"}},{"$f":"'Data Input'!#REF!","v":{"$error":"#REF!"}},{"$f":"'Data Input'!#REF!","v":{"$error":"#REF!"}},{"$f":"'Data Input'!#REF!","v":{"$error":"#REF!"}},{"$f":"'Data Input'!#REF!","v":{"$error":"#REF!"}},{"$f":"'Data Input'!#REF!","v":{"$error":"#REF!"}},{"$f":"'Data Input'!#REF!","v":{"$error":"#REF!"}},{"$f":"'Data Input'!#REF!","v":{"$error":"#REF!"}}]
[null,{"$f":"'Data Input'!#REF!","v":{"$error":"#REF!"}},{"$f":"'Data Input'!#REF!","v":{"$error":"#REF!"}},{"$f":"'Data Input'!#REF!","v":{"$error":"#REF!"}},{"$f":"'Data Input'!#REF!","v":{"$error":"#REF!"}},{"$f":"'Data Input'!#REF!","v":{"$error":"#REF!"}},{"$f":"'Data Input'!#REF!","v":{"$error":"#REF!"}},{"$f":"'Data Input'!#REF!","v":{"$error":"#REF!"}},{"$f":"'Data Input'!#REF!","v":{"$error":"#REF!"}}]
[null,{"$f":"'Data Input'!#REF!","v":{"$error":"#REF!"}},{"$f":"'Data Input'!#REF!","v":{"$error":"#REF!"}},{"$f":"'Data Input'!#REF!","v":{"$error":"#REF!"}},{"$f":"'Data Input'!#REF!","v":{"$error":"#REF!"}},{"$f":"'Data Input'!#REF!","v":{"$error":"#REF!"}},{"$f":"'Data Input'!#REF!","v":{"$error":"#REF!"}},{"$f":"'Data Input'!#REF!","v":{"$error":"#REF!"}},{"$f":"'Data Input'!#REF!","v":{"$error":"#REF!"}}]
[null,{"$f":"'Data Input'!#REF!","v":{"$error":"#REF!"}},{"$f":"'Data Input'!#REF!","v":{"$error":"#REF!"}},{"$f":"'Data Input'!#REF!","v":{"$error":"#REF!"}},{"$f":"'Data Input'!#REF!","v":{"$error":"#REF!"}},{"$f":"'Data Input'!#REF!","v":{"$error":"#REF!"}},{"$f":"'Data Input'!#REF!","v":{"$error":"#REF!"}},{"$f":"'Data Input'!#REF!","v":{"$error":"#REF!"}},{"$f":"'Data Input'!#REF!","v":{"$error":"#REF!"}}]
[null,{"$f":"'Data Input'!#REF!","v":{"$error":"#REF!"}},{"$f":"'Data Input'!#REF!","v":{"$error":"#REF!"}},{"$f":"'Data Input'!#REF!","v":{"$error":"#REF!"}},{"$f":"'Data Input'!#REF!","v":{"$error":"#REF!"}},{"$f":"'Data Input'!#REF!","v":{"$error":"#REF!"}},{"$f":"'Data Input'!#REF!","v":{"$error":"#REF!"}},{"$f":"'Data Input'!#REF!","v":{"$error":"#REF!"}},{"$f":"'Data Input'!#REF!","v":{"$error":"#REF!"}}]
[null,{"$f":"'Data Input'!#REF!","v":{"$error":"#REF!"}},{"$f":"'Data Input'!#REF!","v":{"$error":"#REF!"}},{"$f":"'Data Input'!#REF!","v":{"$error":"#REF!"}},{"$f":"'Data Input'!#REF!","v":{"$error":"#REF!"}},{"$f":"'Data Input'!#REF!","v":{"$error":"#REF!"}},{"$f":"'Data Input'!#REF!","v":{"$error":"#REF!"}},{"$f":"'Data Input'!#REF!","v":{"$error":"#REF!"}},{"$f":"'Data Input'!#REF!","v":{"$error":"#REF!"}}]
[null,{"$f":"'Data Input'!#REF!","v":{"$error":"#REF!"}},{"$f":"'Data Input'!#REF!","v":{"$error":"#REF!"}},{"$f":"'Data Input'!#REF!","v":{"$error":"#REF!"}},{"$f":"'Data Input'!#REF!","v":{"$error":"#REF!"}},{"$f":"'Data Input'!#REF!","v":{"$error":"#REF!"}},{"$f":"'Data Input'!#REF!","v":{"$error":"#REF!"}},{"$f":"'Data Input'!#REF!","v":{"$error":"#REF!"}},{"$f":"'Data Input'!#REF!","v":{"$error":"#REF!"}}]
[null,{"$f":"'Data Input'!#REF!","v":{"$error":"#REF!"}},{"$f":"'Data Input'!#REF!","v":{"$error":"#REF!"}},{"$f":"'Data Input'!#REF!","v":{"$error":"#REF!"}},{"$f":"'Data Input'!#REF!","v":{"$error":"#REF!"}},{"$f":"'Data Input'!#REF!","v":{"$error":"#REF!"}},{"$f":"'Data Input'!#REF!","v":{"$error":"#REF!"}},{"$f":"'Data Input'!#REF!","v":{"$error":"#REF!"}},{"$f":"'Data Input'!#REF!","v":{"$error":"#REF!"}}]
[null,{"$f":"'Data Input'!#REF!","v":{"$error":"#REF!"}},{"$f":"'Data Input'!#REF!","v":{"$error":"#REF!"}},{"$f":"'Data Input'!#REF!","v":{"$error":"#REF!"}},{"$f":"'Data Input'!#REF!","v":{"$error":"#REF!"}},{"$f":"'Data Input'!#REF!","v":{"$error":"#REF!"}},{"$f":"'Data Input'!#REF!","v":{"$error":"#REF!"}},{"$f":"'Data Input'!#REF!","v":{"$error":"#REF!"}},{"$f":"'Data Input'!#REF!","v":{"$error":"#REF!"}}]
[null,{"$f":"'Data Input'!#REF!","v":{"$error":"#REF!"}},{"$f":"'Data Input'!#REF!","v":{"$error":"#REF!"}},{"$f":"'Data Input'!#REF!","v":{"$error":"#REF!"}},{"$f":"'Data Input'!#REF!","v":{"$error":"#REF!"}},{"$f":"'Data Input'!#REF!","v":{"$error":"#REF!"}},{"$f":"'Data Input'!#REF!","v":{"$error":"#REF!"}},{"$f":"'Data Input'!#REF!","v":{"$error":"#REF!"}},{"$f":"'Data Input'!#REF!","v":{"$error":"#REF!"}}]
[null,{"$f":"'Data Input'!#REF!","v":{"$error":"#REF!"}},{"$f":"'Data Input'!#REF!","v":{"$error":"#REF!"}},{"$f":"'Data Input'!#REF!","v":{"$error":"#REF!"}},{"$f":"'Data Input'!#REF!","v":{"$error":"#REF!"}},{"$f":"'Data Input'!#REF!","v":{"$error":"#REF!"}},{"$f":"'Data Input'!#REF!","v":{"$error":"#REF!"}},{"$f":"'Data Input'!#REF!","v":{"$error":"#REF!"}},{"$f":"'Data Input'!#REF!","v":{"$error":"#REF!"}}]
[null,{"$f":"'Data Input'!#REF!","v":{"$error":"#REF!"}},{"$f":"'Data Input'!#REF!","v":{"$error":"#REF!"}},{"$f":"'Data Input'!#REF!","v":{"$error":"#REF!"}},{"$f":"'Data Input'!#REF!","v":{"$error":"#REF!"}},{"$f":"'Data Input'!#REF!","v":{"$error":"#REF!"}},{"$f":"'Data Input'!#REF!","v":{"$error":"#REF!"}},{"$f":"'Data Input'!#REF!","v":{"$error":"#REF!"}},{"$f":"'Data Input'!#REF!","v":{"$error":"#REF!"}}]
[null,{"$f":"'Data Input'!#REF!","v":{"$error":"#REF!"}},{"$f":"'Data Input'!#REF!","v":{"$error":"#REF!"}},{"$f":"'Data Input'!#REF!","v":{"$error":"#REF!"}},{"$f":"'Data Input'!#REF!","v":{"$error":"#REF!"}},{"$f":"'Data Input'!#REF!","v":{"$error":"#REF!"}},{"$f":"'Data Input'!#REF!","v":{"$error":"#REF!"}},{"$f":"'Data Input'!#REF!","v":{"$error":"#REF!"}},{"$f":"'Data Input'!#REF!","v":{"$error":"#REF!"}}]
[null,{"$f":"'Data Input'!#REF!","v":{"$error":"#REF!"}},{"$f":"'Data Input'!#REF!","v":{"$error":"#REF!"}},{"$f":"'Data Input'!#REF!","v":{"$error":"#REF!"}},{"$f":"'Data Input'!#REF!","v":{"$error":"#REF!"}},{"$f":"'Data Input'!#REF!","v":{"$error":"#REF!"}},{"$f":"'Data Input'!#REF!","v":{"$error":"#REF!"}},{"$f":"'Data Input'!#REF!","v":{"$error":"#REF!"}},{"$f":"'Data Input'!#REF!","v":{"$error":"#REF!"}}]
[null,{"$f":"'Data Input'!#REF!","v":{"$error":"#REF!"}},{"$f":"'Data Input'!#REF!","v":{"$error":"#REF!"}},{"$f":"'Data Input'!#REF!","v":{"$error":"#REF!"}},{"$f":"'Data Input'!#REF!","v":{"$error":"#REF!"}},{"$f":"'Data Input'!#REF!","v":{"$error":"#REF!"}},{"$f":"'Data Input'!#REF!","v":{"$error":"#REF!"}},{"$f":"'Data Input'!#REF!","v":{"$error":"#REF!"}},{"$f":"'Data Input'!#REF!","v":{"$error":"#REF!"}}]
[]
[]
[]
[]
[]
[]
[]
[]
[]
[]
[]
[]
[]
[]
[null,null,null,"Sorted by Correct",null,null,null,null,null,null,null,null,null,null,"Sorted by Correct"]
[null,null,null,"Strand","Question Number","Sub Category","Short Q","Correct","Incorrect or Unanswered","Incorrect","Unanswered",null,null,null,"Strand","Question Number","Sub Category","Short Q","Correct","Incorrect or unanswered","Incorrect","Unanswered"]
[null,{"$f":"RANK(C130,$C$130:$C$199)","v":{"$error":"#REF!"}},{"$f":" H130 - ROW()*0.000000001","v":{"$error":"#REF!"}},{"$f":"'Data Input'!#REF!","v":{"$error":"#REF!"}},{"$f":"'Data Input'!#REF!","v":{"$error":"#REF!"}},{"$f":"'Data Input'!#REF!","v":{"$error":"#REF!"}},{"$f":"'Data Input'!#REF!","v":{"$error":"#REF!"}},{"$f":"'Data Input'!#REF!","v":{"$error":"#REF!"}},{"$f":"'Data Input'!#REF!","v":{"$error":"#REF!"}},{"$f":"'Data Input'!#REF!","v":{"$error":"#REF!"}},{"$f":"'Data Input'!#REF!","v":{"$error":"#REF!"}},null,{"$f":"VLOOKUP(ROW()-ROW(M$129),$B$130:$J$199,1,FALSE)","v":{"$error":"#N/A"}},{"$f":"VLOOKUP(ROW()-ROW(M$129),$B$130:$J$199,2,FALSE)","v":{"$error":"#N/A"}},{"$f":"VLOOKUP(ROW()-ROW(M$129),$B$130:$J$199,3,FALSE)","v":{"$error":"#N/A"}},{"$f":"VLOOKUP(ROW()-ROW(M$129),$B$130:$J$199,4,FALSE)","v":{"$error":"#N/A"}},{"$f":"VLOOKUP(ROW()-ROW(M$129),$B$130:$J$199,5,FALSE)","v":{"$error":"#N/A"}},{"$f":"VLOOKUP(ROW()-ROW(M$129),$B$130:$J$199,6,FALSE)","v":{"$error":"#N/A"}},{"$f":"VLOOKUP(ROW()-ROW(M$129),$B$130:$J$199,7,FALSE)","v":{"$error":"#N/A"}},{"$f":"VLOOKUP(ROW()-ROW(M$129),$B$130:$J$199,8,FALSE)","v":{"$error":"#N/A"}},{"$f":"VLOOKUP(ROW()-ROW(M$129),$B$130:$K$199,9,FALSE)","v":{"$error":"#N/A"}},{"$f":"VLOOKUP(ROW()-ROW(M$129),$B$130:$K$199,10,FALSE)","v":{"$error":"#N/A"}}]
[null,{"$error":"#REF!"},{"$f":" H131 - ROW()*0.000000001","v":{"$error":"#REF!"}},{"$f":"'Data Input'!#REF!","v":{"$error":"#REF!"}},{"$f":"'Data Input'!#REF!","v":{"$error":"#REF!"}},{"$f":"'Data Input'!#REF!","v":{"$error":"#REF!"}},{"$f":"'Data Input'!#REF!","v":{"$error":"#REF!"}},{"$f":"'Data Input'!#REF!","v":{"$error":"#REF!"}},{"$f":"'Data Input'!#REF!","v":{"$error":"#REF!"}},{"$f":"'Data Input'!#REF!","v":{"$error":"#REF!"}},{"$f":"'Data Input'!#REF!","v":{"$error":"#REF!"}},null,{"$error":"#N/A"},{"$error":"#N/A"},{"$f":"VLOOKUP(ROW()-ROW(M$129),$B$130:$J$199,3,FALSE)","v":{"$error":"#N/A"}},{"$f":"VLOOKUP(ROW()-ROW(M$129),$B$130:$J$199,4,FALSE)","v":{"$error":"#N/A"}},{"$f":"VLOOKUP(ROW()-ROW(M$129),$B$130:$J$199,5,FALSE)","v":{"$error":"#N/A"}},{"$f":"VLOOKUP(ROW()-ROW(M$129),$B$130:$J$199,6,FALSE)","v":{"$error":"#N/A"}},{"$f":"VLOOKUP(ROW()-ROW(M$129),$B$130:$J$199,7,FALSE)","v":{"$error":"#N/A"}},{"$f":"VLOOKUP(ROW()-ROW(M$129),$B$130:$J$199,8,FALSE)","v":{"$error":"#N/A"}},{"$f":"VLOOKUP(ROW()-ROW(M$129),$B$130:$K$199,9,FALSE)","v":{"$error":"#N/A"}},{"$f":"VLOOKUP(ROW()-ROW(M$129),$B$130:$K$199,10,FALSE)","v":{"$error":"#N/A"}}]
[null,{"$error":"#REF!"},{"$error":"#REF!"},{"$f":"'Data Input'!#REF!","v":{"$error":"#REF!"}},{"$f":"'Data Input'!#REF!","v":{"$error":"#REF!"}},{"$f":"'Data Input'!#REF!","v":{"$error":"#REF!"}},{"$f":"'Data Input'!#REF!","v":{"$error":"#REF!"}},{"$f":"'Data Input'!#REF!","v":{"$error":"#REF!"}},{"$f":"'Data Input'!#REF!","v":{"$error":"#REF!"}},{"$f":"'Data Input'!#REF!","v":{"$error":"#REF!"}},{"$f":"'Data Input'!#REF!","v":{"$error":"#REF!"}},null,{"$error":"#N/A"},{"$error":"#N/A"},{"$error":"#N/A"},{"$error":"#N/A"},{"$error":"#N/A"},{"$error":"#N/A"},{"$error":"#N/A"},{"$error":"#N/A"},{"$error":"#N/A"},{"$error":"#N/A"}]
[null,{"$error":"#REF!"},{"$error":"#REF!"},{"$f":"'Data Input'!#REF!","v":{"$error":"#REF!"}},{"$f":"'Data Input'!#REF!","v":{"$error":"#REF!"}},{"$f":"'Data Input'!#REF!","v":{"$error":"#REF!"}},{"$f":"'Data Input'!#REF!","v":{"$error":"#REF!"}},{"$f":"'Data Input'!#REF!","v":{"$error":"#REF!"}},{"$f":"'Data Input'!#REF!","v":{"$error":"#REF!"}},{"$f":"'Data Input'!#REF!","v":{"$error":"#REF!"}},{"$f":"'Data Input'!#REF!","v":{"$error":"#REF!"}},null,{"$error":"#N/A"},{"$error":"#N/A"},{"$error":"#N/A"},{"$error":"#N/A"},{"$error":"#N/A"},{"$error":"#N/A"},{"$error":"#N/A"},{"$error":"#N/A"},{"$error":"#N/A"},{"$error":"#N/A"}]
[null,{"$error":"#REF!"},{"$error":"#REF!"},{"$f":"'Data Input'!#REF!","v":{"$error":"#REF!"}},{"$f":"'Data Input'!#REF!","v":{"$error":"#REF!"}},{"$f":"'Data Input'!#REF!","v":{"$error":"#REF!"}},{"$f":"'Data Input'!#REF!","v":{"$error":"#REF!"}},{"$f":"'Data Input'!#REF!","v":{"$error":"#REF!"}},{"$f":"'Data Input'!#REF!","v":{"$error":"#REF!"}},{"$f":"'Data Input'!#REF!","v":{"$error":"#REF!"}},{"$f":"'Data Input'!#REF!","v":{"$error":"#REF!"}},null,{"$error":"#N/A"},{"$error":"#N/A"},{"$error":"#N/A"},{"$error":"#N/A"},{"$error":"#N/A"},{"$error":"#N/A"},{"$error":"#N/A"},{"$error":"#N/A"},{"$error":"#N/A"},{"$error":"#N/A"}]
[null,{"$error":"#REF!"},{"$error":"#REF!"},{"$f":"'Data Input'!#REF!","v":{"$error":"#REF!"}},{"$f":"'Data Input'!#REF!","v":{"$error":"#REF!"}},{"$f":"'Data Input'!#REF!","v":{"$error":"#REF!"}},{"$f":"'Data Input'!#REF!","v":{"$error":"#REF!"}},{"$f":"'Data Input'!#REF!","v":{"$error":"#REF!"}},{"$f":"'Data Input'!#REF!","v":{"$error":"#REF!"}},{"$f":"'Data Input'!#REF!","v":{"$error":"#REF!"}},{"$f":"'Data Input'!#REF!","v":{"$error":"#REF!"}},null,{"$error":"#N/A"},{"$error":"#N/A"},{"$error":"#N/A"},{"$error":"#N/A"},{"$error":"#N/A"},{"$error":"#N/A"},{"$error":"#N/A"},{"$error":"#N/A"},{"$error":"#N/A"},{"$error":"#N/A"}]
[null,{"$error":"#REF!"},{"$error":"#REF!"},{"$f":"'Data Input'!#REF!","v":{"$error":"#REF!"}},{"$f":"'Data Input'!#REF!","v":{"$error":"#REF!"}},{"$f":"'Data Input'!#REF!","v":{"$error":"#REF!"}},{"$f":"'Data Input'!#REF!","v":{"$error":"#REF!"}},{"$f":"'Data Input'!#REF!","v":{"$error":"#REF!"}},{"$f":"'Data Input'!#REF!","v":{"$error":"#REF!"}},{"$f":"'Data Input'!#REF!","v":{"$error":"#REF!"}},{"$f":"'Data Input'!#REF!","v":{"$error":"#REF!"}},null,{"$error":"#N/A"},{"$error":"#N/A"},{"$error":"#N/A"},{"$error":"#N/A"},{"$error":"#N/A"},{"$error":"#N/A"},{"$error":"#N/A"},{"$error":"#N/A"},{"$error":"#N/A"},{"$error":"#N/A"}]
[null,{"$error":"#REF!"},{"$error":"#REF!"},{"$f":"'Data Input'!#REF!","v":{"$error":"#REF!"}},{"$f":"'Data Input'!#REF!","v":{"$error":"#REF!"}},{"$f":"'Data Input'!#REF!","v":{"$error":"#REF!"}},{"$f":"'Data Input'!#REF!","v":{"$error":"#REF!"}},{"$f":"'Data Input'!#REF!","v":{"$error":"#REF!"}},{"$f":"'Data Input'!#REF!","v":{"$error":"#REF!"}},{"$f":"'Data Input'!#REF!","v":{"$error":"#REF!"}},{"$f":"'Data Input'!#REF!","v":{"$error":"#REF!"}},null,{"$error":"#N/A"},{"$error":"#N/A"},{"$error":"#N/A"},{"$error":"#N/A"},{"$error":"#N/A"},{"$error":"#N/A"},{"$error":"#N/A"},{"$error":"#N/A"},{"$error":"#N/A"},{"$error":"#N/A"}]
[null,{"$error":"#REF!"},{"$error":"#REF!"},{"$f":"'Data Input'!#REF!","v":{"$error":"#REF!"}},{"$f":"'Data Input'!#REF!","v":{"$error":"#REF!"}},{"$f":"'Data Input'!#REF!","v":{"$error":"#REF!"}},{"$f":"'Data Input'!#REF!","v":{"$error":"#REF!"}},{"$f":"'Data Input'!#REF!","v":{"$error":"#REF!"}},{"$f":"'Data Input'!#REF!","v":{"$error":"#REF!"}},{"$f":"'Data Input'!#REF!","v":{"$error":"#REF!"}},{"$f":"'Data Input'!#REF!","v":{"$error":"#REF!"}},null,{"$error":"#N/A"},{"$error":"#N/A"},{"$error":"#N/A"},{"$error":"#N/A"},{"$error":"#N/A"},{"$error":"#N/A"},{"$error":"#N/A"},{"$error":"#N/A"},{"$error":"#N/A"},{"$error":"#N/A"}]
[null,{"$error":"#REF!"},{"$error":"#REF!"},{"$f":"'Data Input'!#REF!","v":{"$error":"#REF!"}},{"$f":"'Data Input'!#REF!","v":{"$error":"#REF!"}},{"$f":"'Data Input'!#REF!","v":{"$error":"#REF!"}},{"$f":"'Data Input'!#REF!","v":{"$error":"#REF!"}},{"$f":"'Data Input'!#REF!","v":{"$error":"#REF!"}},{"$f":"'Data Input'!#REF!","v":{"$error":"#REF!"}},{"$f":"'Data Input'!#REF!","v":{"$error":"#REF!"}},{"$f":"'Data Input'!#REF!","v":{"$error":"#REF!"}},null,{"$error":"#N/A"},{"$error":"#N/A"},{"$error":"#N/A"},{"$error":"#N/A"},{"$error":"#N/A"},{"$error":"#N/A"},{"$error":"#N/A"},{"$error":"#N/A"},{"$error":"#N/A"},{"$error":"#N/A"}]
[null,{"$error":"#REF!"},{"$error":"#REF!"},{"$f":"'Data Input'!#REF!","v":{"$error":"#REF!"}},{"$f":"'Data Input'!#REF!","v":{"$error":"#REF!"}},{"$f":"'Data Input'!#REF!","v":{"$error":"#REF!"}},{"$f":"'Data Input'!#REF!","v":{"$error":"#REF!"}},{"$f":"'Data Input'!#REF!","v":{"$error":"#REF!"}},{"$f":"'Data Input'!#REF!","v":{"$error":"#REF!"}},{"$f":"'Data Input'!#REF!","v":{"$error":"#REF!"}},{"$f":"'Data Input'!#REF!","v":{"$error":"#REF!"}},null,{"$error":"#N/A"},{"$error":"#N/A"},{"$error":"#N/A"},{"$error":"#N/A"},{"$error":"#N/A"},{"$error":"#N/A"},{"$error":"#N/A"},{"$error":"#N/A"},{"$error":"#N/A"},{"$error":"#N/A"}]
[null,{"$error":"#REF!"},{"$error":"#REF!"},{"$f":"'Data Input'!#REF!","v":{"$error":"#REF!"}},{"$f":"'Data Input'!#REF!","v":{"$error":"#REF!"}},{"$f":"'Data Input'!#REF!","v":{"$error":"#REF!"}},{"$f":"'Data Input'!#REF!","v":{"$error":"#REF!"}},{"$f":"'Data Input'!#REF!","v":{"$error":"#REF!"}},{"$f":"'Data Input'!#REF!","v":{"$error":"#REF!"}},{"$f":"'Data Input'!#REF!","v":{"$error":"#REF!"}},{"$f":"'Data Input'!#REF!","v":{"$error":"#REF!"}},null,{"$error":"#N/A"},{"$error":"#N/A"},{"$error":"#N/A"},{"$error":"#N/A"},{"$error":"#N/A"},{"$error":"#N/A"},{"$error":"#N/A"},{"$error":"#N/A"},{"$error":"#N/A"},{"$error":"#N/A"}]
[null,{"$error":"#REF!"},{"$error":"#REF!"},{"$f":"'Data Input'!#REF!","v":{"$error":"#REF!"}},{"$f":"'Data Input'!#REF!","v":{"$error":"#REF!"}},{"$f":"'Data Input'!#REF!","v":{"$error":"#REF!"}},{"$f":"'Data Input'!#REF!","v":{"$error":"#REF!"}},{"$f":"'Data Input'!#REF!","v":{"$error":"#REF!"}},{"$f":"'Data Input'!#REF!","v":{"$error":"#REF!"}},{"$f":"'Data Input'!#REF!","v":{"$error":"#REF!"}},{"$f":"'Data Input'!#REF!","v":{"$error":"#REF!"}},null,{"$error":"#N/A"},{"$error":"#N/A"},{"$error":"#N/A"},{"$error":"#N/A"},{"$error":"#N/A"},{"$error":"#N/A"},{"$error":"#N/A"},{"$error":"#N/A"},{"$error":"#N/A"},{"$error":"#N/A"}]
[null,{"$error":"#REF!"},{"$error":"#REF!"},{"$f":"'Data Input'!#REF!","v":{"$error":"#REF!"}},{"$f":"'Data Input'!#REF!","v":{"$error":"#REF!"}},{"$f":"'Data Input'!#REF!","v":{"$error":"#REF!"}},{"$f":"'Data Input'!#REF!","v":{"$error":"#REF!"}},{"$f":"'Data Input'!#REF!","v":{"$error":"#REF!"}},{"$f":"'Data Input'!#REF!","v":{"$error":"#REF!"}},{"$f":"'Data Input'!#REF!","v":{"$error":"#REF!"}},{"$f":"'Data Input'!#REF!","v":{"$error":"#REF!"}},null,{"$error":"#N/A"},{"$error":"#N/A"},{"$error":"#N/A"},{"$error":"#N/A"},{"$error":"#N/A"},{"$error":"#N/A"},{"$error":"#N/A"},{"$error":"#N/A"},{"$error":"#N/A"},{"$error":"#N/A"}]
[null,{"$error":"#REF!"},{"$error":"#REF!"},{"$f":"'Data Input'!#REF!","v":{"$error":"#REF!"}},{"$f":"'Data Input'!#REF!","v":{"$error":"#REF!"}},{"$f":"'Data Input'!#REF!","v":{"$error":"#REF!"}},{"$f":"'Data Input'!#REF!","v":{"$error":"#REF!"}},{"$f":"'Data Input'!#REF!","v":{"$error":"#REF!"}},{"$f":"'Data Input'!#REF!","v":{"$error":"#REF!"}},{"$f":"'Data Input'!#REF!","v":{"$error":"#REF!"}},{"$f":"'Data Input'!#REF!","v":{"$error":"#REF!"}},null,{"$error":"#N/A"},{"$error":"#N/A"},{"$error":"#N/A"},{"$error":"#N/A"},{"$error":"#N/A"},{"$error":"#N/A"},{"$error":"#N/A"},{"$error":"#N/A"},{"$error":"#N/A"},{"$error":"#N/A"}]
[null,{"$error":"#REF!"},{"$error":"#REF!"},{"$f":"'Data Input'!#REF!","v":{"$error":"#REF!"}},{"$f":"'Data Input'!#REF!","v":{"$error":"#REF!"}},{"$f":"'Data Input'!#REF!","v":{"$error":"#REF!"}},{"$f":"'Data Input'!#REF!","v":{"$error":"#REF!"}},{"$f":"'Data Input'!#REF!","v":{"$error":"#REF!"}},{"$f":"'Data Input'!#REF!","v":{"$error":"#REF!"}},{"$f":"'Data Input'!#REF!","v":{"$error":"#REF!"}},{"$f":"'Data Input'!#REF!","v":{"$error":"#REF!"}},null,{"$error":"#N/A"},{"$error":"#N/A"},{"$error":"#N/A"},{"$error":"#N/A"},{"$error":"#N/A"},{"$error":"#N/A"},{"$error":"#N/A"},{"$error":"#N/A"},{"$error":"#N/A"},{"$error":"#N/A"}]
[null,{"$error":"#REF!"},{"$error":"#REF!"},{"$f":"'Data Input'!#REF!","v":{"$error":"#REF!"}},{"$f":"'Data Input'!#REF!","v":{"$error":"#REF!"}},{"$f":"'Data Input'!#REF!","v":{"$error":"#REF!"}},{"$f":"'Data Input'!#REF!","v":{"$error":"#REF!"}},{"$f":"'Data Input'!#REF!","v":{"$error":"#REF!"}},{"$f":"'Data Input'!#REF!","v":{"$error":"#REF!"}},{"$f":"'Data Input'!#REF!","v":{"$error":"#REF!"}},{"$f":"'Data Input'!#REF!","v":{"$error":"#REF!"}},null,{"$error":"#N/A"},{"$error":"#N/A"},{"$error":"#N/A"},{"$error":"#N/A"},{"$error":"#N/A"},{"$error":"#N/A"},{"$error":"#N/A"},{"$error":"#N/A"},{"$error":"#N/A"},{"$error":"#N/A"}]
[null,{"$error":"#REF!"},{"$error":"#REF!"},{"$f":"'Data Input'!#REF!","v":{"$error":"#REF!"}},{"$f":"'Data Input'!#REF!","v":{"$error":"#REF!"}},{"$f":"'Data Input'!#REF!","v":{"$error":"#REF!"}},{"$f":"'Data Input'!#REF!","v":{"$error":"#REF!"}},{"$f":"'Data Input'!#REF!","v":{"$error":"#REF!"}},{"$f":"'Data Input'!#REF!","v":{"$error":"#REF!"}},{"$f":"'Data Input'!#REF!","v":{"$error":"#REF!"}},{"$f":"'Data Input'!#REF!","v":{"$error":"#REF!"}},null,{"$error":"#N/A"},{"$error":"#N/A"},{"$error":"#N/A"},{"$error":"#N/A"},{"$error":"#N/A"},{"$error":"#N/A"},{"$error":"#N/A"},{"$error":"#N/A"},{"$error":"#N/A"},{"$error":"#N/A"}]
[null,{"$error":"#REF!"},{"$error":"#REF!"},{"$f":"'Data Input'!#REF!","v":{"$error":"#REF!"}},{"$f":"'Data Input'!#REF!","v":{"$error":"#REF!"}},{"$f":"'Data Input'!#REF!","v":{"$error":"#REF!"}},{"$f":"'Data Input'!#REF!","v":{"$error":"#REF!"}},{"$f":"'Data Input'!#REF!","v":{"$error":"#REF!"}},{"$f":"'Data Input'!#REF!","v":{"$error":"#REF!"}},{"$f":"'Data Input'!#REF!","v":{"$error":"#REF!"}},{"$f":"'Data Input'!#REF!","v":{"$error":"#REF!"}},null,{"$error":"#N/A"},{"$error":"#N/A"},{"$error":"#N/A"},{"$error":"#N/A"},{"$error":"#N/A"},{"$error":"#N/A"},{"$error":"#N/A"},{"$error":"#N/A"},{"$error":"#N/A"},{"$error":"#N/A"}]
[null,{"$error":"#REF!"},{"$error":"#REF!"},{"$f":"'Data Input'!#REF!","v":{"$error":"#REF!"}},{"$f":"'Data Input'!#REF!","v":{"$error":"#REF!"}},{"$f":"'Data Input'!#REF!","v":{"$error":"#REF!"}},{"$f":"'Data Input'!#REF!","v":{"$error":"#REF!"}},{"$f":"'Data Input'!#REF!","v":{"$error":"#REF!"}},{"$f":"'Data Input'!#REF!","v":{"$error":"#REF!"}},{"$f":"'Data Input'!#REF!","v":{"$error":"#REF!"}},{"$f":"'Data Input'!#REF!","v":{"$error":"#REF!"}},null,{"$error":"#N/A"},{"$error":"#N/A"},{"$error":"#N/A"},{"$error":"#N/A"},{"$error":"#N/A"},{"$error":"#N/A"},{"$error":"#N/A"},{"$error":"#N/A"},{"$error":"#N/A"},{"$error":"#N/A"}]
[null,{"$error":"#REF!"},{"$error":"#REF!"},{"$f":"'Data Input'!#REF!","v":{"$error":"#REF!"}},{"$f":"'Data Input'!#REF!","v":{"$error":"#REF!"}},{"$f":"'Data Input'!#REF!","v":{"$error":"#REF!"}},{"$f":"'Data Input'!#REF!","v":{"$error":"#REF!"}},{"$f":"'Data Input'!#REF!","v":{"$error":"#REF!"}},{"$f":"'Data Input'!#REF!","v":{"$error":"#REF!"}},{"$f":"'Data Input'!#REF!","v":{"$error":"#REF!"}},{"$f":"'Data Input'!#REF!","v":{"$error":"#REF!"}},null,{"$error":"#N/A"},{"$error":"#N/A"},{"$error":"#N/A"},{"$error":"#N/A"},{"$error":"#N/A"},{"$error":"#N/A"},{"$error":"#N/A"},{"$error":"#N/A"},{"$error":"#N/A"},{"$error":"#N/A"}]
[null,{"$error":"#REF!"},{"$error":"#REF!"},{"$f":"'Data Input'!#REF!","v":{"$error":"#REF!"}},{"$f":"'Data Input'!#REF!","v":{"$error":"#REF!"}},{"$f":"'Data Input'!#REF!","v":{"$error":"#REF!"}},{"$f":"'Data Input'!#REF!","v":{"$error":"#REF!"}},{"$f":"'Data Input'!#REF!","v":{"$error":"#REF!"}},{"$f":"'Data Input'!#REF!","v":{"$error":"#REF!"}},{"$f":"'Data Input'!#REF!","v":{"$error":"#REF!"}},{"$f":"'Data Input'!#REF!","v":{"$error":"#REF!"}},null,{"$error":"#N/A"},{"$error":"#N/A"},{"$error":"#N/A"},{"$error":"#N/A"},{"$error":"#N/A"},{"$error":"#N/A"},{"$error":"#N/A"},{"$error":"#N/A"},{"$error":"#N/A"},{"$error":"#N/A"}]
[null,{"$error":"#REF!"},{"$error":"#REF!"},{"$f":"'Data Input'!#REF!","v":{"$error":"#REF!"}},{"$f":"'Data Input'!#REF!","v":{"$error":"#REF!"}},{"$f":"'Data Input'!#REF!","v":{"$error":"#REF!"}},{"$f":"'Data Input'!#REF!","v":{"$error":"#REF!"}},{"$f":"'Data Input'!#REF!","v":{"$error":"#REF!"}},{"$f":"'Data Input'!#REF!","v":{"$error":"#REF!"}},{"$f":"'Data Input'!#REF!","v":{"$error":"#REF!"}},{"$f":"'Data Input'!#REF!","v":{"$error":"#REF!"}},null,{"$error":"#N/A"},{"$error":"#N/A"},{"$error":"#N/A"},{"$error":"#N/A"},{"$error":"#N/A"},{"$error":"#N/A"},{"$error":"#N/A"},{"$error":"#N/A"},{"$error":"#N/A"},{"$error":"#N/A"}]
[null,{"$error":"#REF!"},{"$error":"#REF!"},{"$f":"'Data Input'!#REF!","v":{"$error":"#REF!"}},{"$f":"'Data Input'!#REF!","v":{"$error":"#REF!"}},{"$f":"'Data Input'!#REF!","v":{"$error":"#REF!"}},{"$f":"'Data Input'!#REF!","v":{"$error":"#REF!"}},{"$f":"'Data Input'!#REF!","v":{"$error":"#REF!"}},{"$f":"'Data Input'!#REF!","v":{"$error":"#REF!"}},{"$f":"'Data Input'!#REF!","v":{"$error":"#REF!"}},{"$f":"'Data Input'!#REF!","v":{"$error":"#REF!"}},null,{"$error":"#N/A"},{"$error":"#N/A"},{"$error":"#N/A"},{"$error":"#N/A"},{"$error":"#N/A"},{"$error":"#N/A"},{"$error":"#N/A"},{"$error":"#N/A"},{"$error":"#N/A"},{"$error":"#N/A"}]
[null,{"$error":"#REF!"},{"$error":"#REF!"},{"$f":"'Data Input'!#REF!","v":{"$error":"#REF!"}},{"$f":"'Data Input'!#REF!","v":{"$error":"#REF!"}},{"$f":"'Data Input'!#REF!","v":{"$error":"#REF!"}},{"$f":"'Data Input'!#REF!","v":{"$error":"#REF!"}},{"$f":"'Data Input'!#REF!","v":{"$error":"#REF!"}},{"$f":"'Data Input'!#REF!","v":{"$error":"#REF!"}},{"$f":"'Data Input'!#REF!","v":{"$error":"#REF!"}},{"$f":"'Data Input'!#REF!","v":{"$error":"#REF!"}},null,{"$error":"#N/A"},{"$error":"#N/A"},{"$error":"#N/A"},{"$error":"#N/A"},{"$error":"#N/A"},{"$error":"#N/A"},{"$error":"#N/A"},{"$error":"#N/A"},{"$error":"#N/A"},{"$error":"#N/A"}]
[null,{"$error":"#REF!"},{"$error":"#REF!"},{"$f":"'Data Input'!#REF!","v":{"$error":"#REF!"}},{"$f":"'Data Input'!#REF!","v":{"$error":"#REF!"}},{"$f":"'Data Input'!#REF!","v":{"$error":"#REF!"}},{"$f":"'Data Input'!#REF!","v":{"$error":"#REF!"}},{"$f":"'Data Input'!#REF!","v":{"$error":"#REF!"}},{"$f":"'Data Input'!#REF!","v":{"$error":"#REF!"}},{"$f":"'Data Input'!#REF!","v":{"$error":"#REF!"}},{"$f":"'Data Input'!#REF!","v":{"$error":"#REF!"}},null,{"$error":"#N/A"},{"$error":"#N/A"},{"$error":"#N/A"},{"$error":"#N/A"},{"$error":"#N/A"},{"$error":"#N/A"},{"$error":"#N/A"},{"$error":"#N/A"},{"$error":"#N/A"},{"$error":"#N/A"}]
[null,{"$error":"#REF!"},{"$error":"#REF!"},{"$f":"'Data Input'!#REF!","v":{"$error":"#REF!"}},{"$f":"'Data Input'!#REF!","v":{"$error":"#REF!"}},{"$f":"'Data Input'!#REF!","v":{"$error":"#REF!"}},{"$f":"'Data Input'!#REF!","v":{"$error":"#REF!"}},{"$f":"'Data Input'!#REF!","v":{"$error":"#REF!"}},{"$f":"'Data Input'!#REF!","v":{"$error":"#REF!"}},{"$f":"'Data Input'!#REF!","v":{"$error":"#REF!"}},{"$f":"'Data Input'!#REF!","v":{"$error":"#REF!"}},null,{"$error":"#N/A"},{"$error":"#N/A"},{"$error":"#N/A"},{"$error":"#N/A"},{"$error":"#N/A"},{"$error":"#N/A"},{"$error":"#N/A"},{"$error":"#N/A"},{"$error":"#N/A"},{"$error":"#N/A"}]
[null,{"$error":"#REF!"},{"$error":"#REF!"},{"$f":"'Data Input'!#REF!","v":{"$error":"#REF!"}},{"$f":"'Data Input'!#REF!","v":{"$error":"#REF!"}},{"$f":"'Data Input'!#REF!","v":{"$error":"#REF!"}},{"$f":"'Data Input'!#REF!","v":{"$error":"#REF!"}},{"$f":"'Data Input'!#REF!","v":{"$error":"#REF!"}},{"$f":"'Data Input'!#REF!","v":{"$error":"#REF!"}},{"$f":"'Data Input'!#REF!","v":{"$error":"#REF!"}},{"$f":"'Data Input'!#REF!","v":{"$error":"#REF!"}},null,{"$error":"#N/A"},{"$error":"#N/A"},{"$error":"#N/A"},{"$error":"#N/A"},{"$error":"#N/A"},{"$error":"#N/A"},{"$error":"#N/A"},{"$error":"#N/A"},{"$error":"#N/A"},{"$error":"#N/A"}]
[null,{"$error":"#REF!"},{"$error":"#REF!"},{"$f":"'Data Input'!#REF!","v":{"$error":"#REF!"}},{"$f":"'Data Input'!#REF!","v":{"$error":"#REF!"}},{"$f":"'Data Input'!#REF!","v":{"$error":"#REF!"}},{"$f":"'Data Input'!#REF!","v":{"$error":"#REF!"}},{"$f":"'Data Input'!#REF!","v":{"$error":"#REF!"}},{"$f":"'Data Input'!#REF!","v":{"$error":"#REF!"}},{"$f":"'Data Input'!#REF!","v":{"$error":"#REF!"}},{"$f":"'Data Input'!#REF!","v":{"$error":"#REF!"}},null,{"$error":"#N/A"},{"$error":"#N/A"},{"$error":"#N/A"},{"$error":"#N/A"},{"$error":"#N/A"},{"$error":"#N/A"},{"$error":"#N/A"},{"$error":"#N/A"},{"$error":"#N/A"},{"$error":"#N/A"}]
[null,{"$error":"#REF!"},{"$error":"#REF!"},{"$f":"'Data Input'!#REF!","v":{"$error":"#REF!"}},{"$f":"'Data Input'!#REF!","v":{"$error":"#REF!"}},{"$f":"'Data Input'!#REF!","v":{"$error":"#REF!"}},{"$f":"'Data Input'!#REF!","v":{"$error":"#REF!"}},{"$f":"'Data Input'!#REF!","v":{"$error":"#REF!"}},{"$f":"'Data Input'!#REF!","v":{"$error":"#REF!"}},{"$f":"'Data Input'!#REF!","v":{"$error":"#REF!"}},{"$f":"'Data Input'!#REF!","v":{"$error":"#REF!"}},null,{"$error":"#N/A"},{"$error":"#N/A"},{"$error":"#N/A"},{"$error":"#N/A"},{"$error":"#N/A"},{"$error":"#N/A"},{"$error":"#N/A"},{"$error":"#N/A"},{"$error":"#N/A"},{"$error":"#N/A"}]
[null,{"$error":"#REF!"},{"$error":"#REF!"},{"$f":"'Data Input'!#REF!","v":{"$error":"#REF!"}},{"$f":"'Data Input'!#REF!","v":{"$error":"#REF!"}},{"$f":"'Data Input'!#REF!","v":{"$error":"#REF!"}},{"$f":"'Data Input'!#REF!","v":{"$error":"#REF!"}},{"$f":"'Data Input'!#REF!","v":{"$error":"#REF!"}},{"$f":"'Data Input'!#REF!","v":{"$error":"#REF!"}},{"$f":"'Data Input'!#REF!","v":{"$error":"#REF!"}},{"$f":"'Data Input'!#REF!","v":{"$error":"#REF!"}},null,{"$error":"#N/A"},{"$error":"#N/A"},{"$error":"#N/A"},{"$error":"#N/A"},{"$error":"#N/A"},{"$error":"#N/A"},{"$error":"#N/A"},{"$error":"#N/A"},{"$error":"#N/A"},{"$error":"#N/A"}]
[null,{"$error":"#REF!"},{"$error":"#REF!"},{"$f":"'Data Input'!#REF!","v":{"$error":"#REF!"}},{"$f":"'Data Input'!#REF!","v":{"$error":"#REF!"}},{"$f":"'Data Input'!#REF!","v":{"$error":"#REF!"}},{"$f":"'Data Input'!#REF!","v":{"$error":"#REF!"}},{"$f":"'Data Input'!#REF!","v":{"$error":"#REF!"}},{"$f":"'Data Input'!#REF!","v":{"$error":"#REF!"}},{"$f":"'Data Input'!#REF!","v":{"$error":"#REF!"}},{"$f":"'Data Input'!#REF!","v":{"$error":"#REF!"}},null,{"$error":"#N/A"},{"$error":"#N/A"},{"$error":"#N/A"},{"$error":"#N/A"},{"$error":"#N/A"},{"$error":"#N/A"},{"$error":"#N/A"},{"$error":"#N/A"},{"$error":"#N/A"},{"$error":"#N/A"}]
[null,{"$error":"#REF!"},{"$error":"#REF!"},{"$f":"'Data Input'!#REF!","v":{"$error":"#REF!"}},{"$f":"'Data Input'!#REF!","v":{"$error":"#REF!"}},{"$f":"'Data Input'!#REF!","v":{"$error":"#REF!"}},{"$f":"'Data Input'!#REF!","v":{"$error":"#REF!"}},{"$f":"'Data Input'!#REF!","v":{"$error":"#REF!"}},{"$f":"'Data Input'!#REF!","v":{"$error":"#REF!"}},{"$f":"'Data Input'!#REF!","v":{"$error":"#REF!"}},{"$f":"'Data Input'!#REF!","v":{"$error":"#REF!"}},null,{"$error":"#N/A"},{"$error":"#N/A"},{"$error":"#N/A"},{"$error":"#N/A"},{"$error":"#N/A"},{"$error":"#N/A"},{"$error":"#N/A"},{"$error":"#N/A"},{"$error":"#N/A"},{"$error":"#N/A"}]

{"sheet":"Pupil Summary","index":4,"n_rows":1005,"n_cols":18,"rows_kept":1005,"cut":false,"hidden":false,"merged":[[1,16,1,17],[1,1,1,5],[1,14,1,15],[1,6,1,7],[1,8,1,9],[1,10,1,11],[1,12,1,13]]}
[null,null,"Green: <35%, Amber: <50%, Red: >50%",null,"Green %>",0.64,"Amber %>",0.37,"Red %<",{"$f":"H1","v":0.37},null,null,"Individual Summary in Each Overall Area"]
[{"$f":"\"Total Pupils: \" & COUNTA('Data Input'!A10:A1010)","v":"Total Pupils: 0"},"Overall",null,null,null,null,"Number",null,"Calculations",null,"Statistics",null,"Fractions",null,"Measure",null,"Geometry"]
["Name:","Unanswered","Incorrect","Incorrecr or Unanswered",{"$f":"\"Total Score \"&COUNTA('Data Input'!C8:AK8)","v":"Total Score 35"},"Percent",{"$f":"\"Score /\" & COUNTIF('Data Input'!$C$8:$AK$8,\"N\")","v":"Score /4"},"Percent",{"$f":"\"Score /\" & COUNTIF('Data Input'!$C$8:$AK$8,\"C\")","v":"Score /15"},"Percent",{"$f":"\"Score /\" & COUNTIF('Data Input'!$C$8:$AK$8,\"S\")","v":"Score /2"},"Percent",{"$f":"\"Score /\" & COUNTIF('Data Input'!$C$8:$AK$8,\"F\")","v":"Score /3"},"Percent ",{"$f":"\"Score /\" & COUNTIF('Data Input'!$C$8:$AK$8,\"M\")","v":"Score /7"},"Percent",{"$f":"\"Score /\" & COUNTIF('Data Input'!$C$8:$AK$8,\"G\")","v":"Score /4"},"Percent"]
[]
[{"$f":"IF('Data Input'!A10=0,\"\",'Data Input'!A10)","v":""},{"$f":"IF(ISBLANK('Data Input'!A10),\"\",COUNTIF('Data Input'!C10:AK10,\"\"))","v":""},{"$f":"IF(ISBLANK('Data Input'!A10),\"\",COUNTIF('Data Input'!C10:AK10,\"0\"))","v":""},{"$f":"IF(ISBLANK('Data Input'!A10),\"\",SUM(B5,C5))","v":""},{"$f":"IF(ISBLANK('Data Input'!A10),\"\",SUM('Data Input'!C10:AK10))","v":""},{"$f":"IF(E5=\"\",\"\",E5/(COUNTA('Data Input'!$C$8:$AK$8)))","v":""},{"$f":"IF(ISBLANK('Data Input'!A10),\"\",SUM('Data Input'!C10,'Data Input'!D10,'Data Input'!J10,'Data Input'!X10))","v":""},{"$f":"IF(G5=\"\",\"\",G5/COUNTIF('Data Input'!$C$8:$AK$8,\"N\"))","v":""},{"$f":"IF(ISBLANK('Data Input'!A10),\"\",SUM('Data Input'!G10,'Data Input'!I10,'Data Input'!L10,'Data Input'!N10,'Data Input'!O10,'Data Input'!S10,'Data Input'!Z10,'Data Input'!AA10,'Data Input'!AB10,'Data Input'!AC10,'Data Input'!AE10,'Data Input'!AF10,'Data Input'!AG10,'Data Input'!AI10,'Data Input'!AK10))","v":""},{"$f":"IF(I5=\"\",\"\",I5/COUNTIF('Data Input'!$C$8:$AK$8,\"C\"))","v":""},{"$f":"IF(ISBLANK('Data Input'!A10),\"\",SUM('Data Input'!T10,'Data Input'!U10))","v":""},{"$f":"IF(K5=\"\",\"\",K5/COUNTIF('Data Input'!$C$8:$AK$8,\"S\"))","v":""},{"$f":"IF(ISBLANK('Data Input'!A10),\"\",SUM('Data Input'!F10,'Data Input'!R10,'Data Input'!AJ10))","v":""},{"$f":"IF(M5=\"\",\"\",M5/COUNTIF('Data Input'!$C$8:$AK$8,\"F\"))","v":""},{"$f":"IF(ISBLANK('Data Input'!A10),\"\",SUM('Data Input'!E10,'Data Input'!M10,'Data Input'!Q10,'Data Input'!V10,'Data Input'!W10,'Data Input'!AD10,'Data Input'!AH10))","v":""},{"$f":"IF(O5=\"\",\"\",O5/COUNTIF('Data Input'!$C$8:$AK$8,\"M\"))","v":""},{"$f":"IF(ISBLANK('Data Input'!A10),\"\",SUM('Data Input'!H10,'Data Input'!K10,'Data Input'!P10,'Data Input'!Y10))","v":""},{"$f":"IF(Q5=\"\",\"\",Q5/COUNTIF('Data Input'!$C$8:$AK$8,\"G\"))","v":""}]
[{"$f":"IF('Data Input'!A11=0,\"\",'Data Input'!A11)","v":""},{"$f":"IF(ISBLANK('Data Input'!A11),\"\",COUNTIF('Data Input'!C11:AK11,\"\"))","v":""},{"$f":"IF(ISBLANK('Data Input'!A11),\"\",COUNTIF('Data Input'!C11:AK11,\"0\"))","v":""},{"$f":"IF(ISBLANK('Data Input'!A11),\"\",SUM(B6,C6))","v":""},{"$f":"IF(ISBLANK('Data Input'!A11),\"\",SUM('Data Input'!C11:AK11))","v":""},{"$f":"IF(E6=\"\",\"\",E6/(COUNTA('Data Input'!$C$8:$AK$8)))","v":""},{"$f":"IF(ISBLANK('Data Input'!A11),\"\",SUM('Data Input'!C11,'Data Input'!D11,'Data Input'!J11,'Data Input'!X11))","v":""},{"$f":"IF(G6=\"\",\"\",G6/COUNTIF('Data Input'!$C$8:$AK$8,\"N\"))","v":""},{"$f":"IF(ISBLANK('Data Input'!A11),\"\",SUM('Data Input'!G11,'Data Input'!I11,'Data Input'!L11,'Data Input'!N11,'Data Input'!O11,'Data Input'!S11,'Data Input'!Z11,'Data Input'!AA11,'Data Input'!AB11,'Data Input'!AC11,'Data Input'!AE11,'Data Input'!AF11,'Data Input'!AG11,'Data Input'!AI11,'Data Input'!AK11))","v":""},{"$f":"IF(I6=\"\",\"\",I6/COUNTIF('Data Input'!$C$8:$AK$8,\"C\"))","v":""},{"$f":"IF(ISBLANK('Data Input'!A11),\"\",SUM('Data Input'!T11,'Data Input'!U11))","v":""},{"$f":"IF(K6=\"\",\"\",K6/COUNTIF('Data Input'!$C$8:$AK$8,\"S\"))","v":""},{"$f":"IF(ISBLANK('Data Input'!A11),\"\",SUM('Data Input'!F11,'Data Input'!R11,'Data Input'!AJ11))","v":""},{"$f":"IF(M6=\"\",\"\",M6/COUNTIF('Data Input'!$C$8:$AK$8,\"F\"))","v":""},{"$f":"IF(ISBLANK('Data Input'!A11),\"\",SUM('Data Input'!E11,'Data Input'!M11,'Data Input'!Q11,'Data Input'!V11,'Data Input'!W11,'Data Input'!AD11,'Data Input'!AH11))","v":""},{"$f":"IF(O6=\"\",\"\",O6/COUNTIF('Data Input'!$C$8:$AK$8,\"M\"))","v":""},{"$f":"IF(ISBLANK('Data Input'!A11),\"\",SUM('Data Input'!H11,'Data Input'!K11,'Data Input'!P11,'Data Input'!Y11))","v":""},{"$f":"IF(Q6=\"\",\"\",Q6/COUNTIF('Data Input'!$C$8:$AK$8,\"G\"))","v":""}]
[{"$f":"IF('Data Input'!A12=0,\"\",'Data Input'!A12)","v":""},{"$f":"IF(ISBLANK('Data Input'!A12),\"\",COUNTIF('Data Input'!C12:AK12,\"\"))","v":""},{"$f":"IF(ISBLANK('Data Input'!A12),\"\",COUNTIF('Data Input'!C12:AK12,\"0\"))","v":""},{"$f":"IF(ISBLANK('Data Input'!A12),\"\",SUM(B7,C7))","v":""},{"$f":"IF(ISBLANK('Data Input'!A12),\"\",SUM('Data Input'!C12:AK12))","v":""},{"$f":"IF(E7=\"\",\"\",E7/(COUNTA('Data Input'!$C$8:$AK$8)))","v":""},{"$f":"IF(ISBLANK('Data Input'!A12),\"\",SUM('Data Input'!C12,'Data Input'!D12,'Data Input'!J12,'Data Input'!X12))","v":""},{"$f":"IF(G7=\"\",\"\",G7/COUNTIF('Data Input'!$C$8:$AK$8,\"N\"))","v":""},{"$f":"IF(ISBLANK('Data Input'!A12),\"\",SUM('Data Input'!G12,'Data Input'!I12,'Data Input'!L12,'Data Input'!N12,'Data Input'!O12,'Data Input'!S12,'Data Input'!Z12,'Data Input'!AA12,'Data Input'!AB12,'Data Input'!AC12,'Data Input'!AE12,'Data Input'!AF12,'Data Input'!AG12,'Data Input'!AI12,'Data Input'!AK12))","v":""},{"$f":"IF(I7=\"\",\"\",I7/COUNTIF('Data Input'!$C$8:$AK$8,\"C\"))","v":""},{"$f":"IF(ISBLANK('Data Input'!A12),\"\",SUM('Data Input'!T12,'Data Input'!U12))","v":""},{"$f":"IF(K7=\"\",\"\",K7/COUNTIF('Data Input'!$C$8:$AK$8,\"S\"))","v":""},{"$f":"IF(ISBLANK('Data Input'!A12),\"\",SUM('Data Input'!F12,'Data Input'!R12,'Data Input'!AJ12))","v":""},{"$f":"IF(M7=\"\",\"\",M7/COUNTIF('Data Input'!$C$8:$AK$8,\"F\"))","v":""},{"$f":"IF(ISBLANK('Data Input'!A12),\"\",SUM('Data Input'!E12,'Data Input'!M12,'Data Input'!Q12,'Data Input'!V12,'Data Input'!W12,'Data Input'!AD12,'Data Input'!AH12))","v":""},{"$f":"IF(O7=\"\",\"\",O7/COUNTIF('Data Input'!$C$8:$AK$8,\"M\"))","v":""},{"$f":"IF(ISBLANK('Data Input'!A12),\"\",SUM('Data Input'!H12,'Data Input'!K12,'Data Input'!P12,'Data Input'!Y12))","v":""},{"$f":"IF(Q7=\"\",\"\",Q7/COUNTIF('Data Input'!$C$8:$AK$8,\"G\"))","v":""}]
[{"$f":"IF('Data Input'!A13=0,\"\",'Data Input'!A13)","v":""},{"$f":"IF(ISBLANK('Data Input'!A13),\"\",COUNTIF('Data Input'!C13:AK13,\"\"))","v":""},{"$f":"IF(ISBLANK('Data Input'!A13),\"\",COUNTIF('Data Input'!C13:AK13,\"0\"))","v":""},{"$f":"IF(ISBLANK('Data Input'!A13),\"\",SUM(B8,C8))","v":""},{"$f":"IF(ISBLANK('Data Input'!A13),\"\",SUM('Data Input'!C13:AK13))","v":""},{"$f":"IF(E8=\"\",\"\",E8/(COUNTA('Data Input'!$C$8:$AK$8)))","v":""},{"$f":"IF(ISBLANK('Data Input'!A13),\"\",SUM('Data Input'!C13,'Data Input'!D13,'Data Input'!J13,'Data Input'!X13))","v":""},{"$f":"IF(G8=\"\",\"\",G8/COUNTIF('Data Input'!$C$8:$AK$8,\"N\"))","v":""},{"$f":"IF(ISBLANK('Data Input'!A13),\"\",SUM('Data Input'!G13,'Data Input'!I13,'Data Input'!L13,'Data Input'!N13,'Data Input'!O13,'Data Input'!S13,'Data Input'!Z13,'Data Input'!AA13,'Data Input'!AB13,'Data Input'!AC13,'Data Input'!AE13,'Data Input'!AF13,'Data Input'!AG13,'Data Input'!AI13,'Data Input'!AK13))","v":""},{"$f":"IF(I8=\"\",\"\",I8/COUNTIF('Data Input'!$C$8:$AK$8,\"C\"))","v":""},{"$f":"IF(ISBLANK('Data Input'!A13),\"\",SUM('Data Input'!T13,'Data Input'!U13))","v":""},{"$f":"IF(K8=\"\",\"\",K8/COUNTIF('Data Input'!$C$8:$AK$8,\"S\"))","v":""},{"$f":"IF(ISBLANK('Data Input'!A13),\"\",SUM('Data Input'!F13,'Data Input'!R13,'Data Input'!AJ13))","v":""},{"$f":"IF(M8=\"\",\"\",M8/COUNTIF('Data Input'!$C$8:$AK$8,\"F\"))","v":""},{"$f":"IF(ISBLANK('Data Input'!A13),\"\",SUM('Data Input'!E13,'Data Input'!M13,'Data Input'!Q13,'Data Input'!V13,'Data Input'!W13,'Data Input'!AD13,'Data Input'!AH13))","v":""},{"$f":"IF(O8=\"\",\"\",O8/COUNTIF('Data Input'!$C$8:$AK$8,\"M\"))","v":""},{"$f":"IF(ISBLANK('Data Input'!A13),\"\",SUM('Data Input'!H13,'Data Input'!K13,'Data Input'!P13,'Data Input'!Y13))","v":""},{"$f":"IF(Q8=\"\",\"\",Q8/COUNTIF('Data Input'!$C$8:$AK$8,\"G\"))","v":""}]
[{"$f":"IF('Data Input'!A14=0,\"\",'Data Input'!A14)","v":""},{"$f":"IF(ISBLANK('Data Input'!A14),\"\",COUNTIF('Data Input'!C14:AK14,\"\"))","v":""},{"$f":"IF(ISBLANK('Data Input'!A14),\"\",COUNTIF('Data Input'!C14:AK14,\"0\"))","v":""},{"$f":"IF(ISBLANK('Data Input'!A14),\"\",SUM(B9,C9))","v":""},{"$f":"IF(ISBLANK('Data Input'!A14),\"\",SUM('Data Input'!C14:AK14))","v":""},{"$f":"IF(E9=\"\",\"\",E9/(COUNTA('Data Input'!$C$8:$AK$8)))","v":""},{"$f":"IF(ISBLANK('Data Input'!A14),\"\",SUM('Data Input'!C14,'Data Input'!D14,'Data Input'!J14,'Data Input'!X14))","v":""},{"$f":"IF(G9=\"\",\"\",G9/COUNTIF('Data Input'!$C$8:$AK$8,\"N\"))","v":""},{"$f":"IF(ISBLANK('Data Input'!A14),\"\",SUM('Data Input'!G14,'Data Input'!I14,'Data Input'!L14,'Data Input'!N14,'Data Input'!O14,'Data Input'!S14,'Data Input'!Z14,'Data Input'!AA14,'Data Input'!AB14,'Data Input'!AC14,'Data Input'!AE14,'Data Input'!AF14,'Data Input'!AG14,'Data Input'!AI14,'Data Input'!AK14))","v":""},{"$f":"IF(I9=\"\",\"\",I9/COUNTIF('Data Input'!$C$8:$AK$8,\"C\"))","v":""},{"$f":"IF(ISBLANK('Data Input'!A14),\"\",SUM('Data Input'!T14,'Data Input'!U14))","v":""},{"$f":"IF(K9=\"\",\"\",K9/COUNTIF('Data Input'!$C$8:$AK$8,\"S\"))","v":""},{"$f":"IF(ISBLANK('Data Input'!A14),\"\",SUM('Data Input'!F14,'Data Input'!R14,'Data Input'!AJ14))","v":""},{"$f":"IF(M9=\"\",\"\",M9/COUNTIF('Data Input'!$C$8:$AK$8,\"F\"))","v":""},{"$f":"IF(ISBLANK('Data Input'!A14),\"\",SUM('Data Input'!E14,'Data Input'!M14,'Data Input'!Q14,'Data Input'!V14,'Data Input'!W14,'Data Input'!AD14,'Data Input'!AH14))","v":""},{"$f":"IF(O9=\"\",\"\",O9/COUNTIF('Data Input'!$C$8:$AK$8,\"M\"))","v":""},{"$f":"IF(ISBLANK('Data Input'!A14),\"\",SUM('Data Input'!H14,'Data Input'!K14,'Data Input'!P14,'Data Input'!Y14))","v":""},{"$f":"IF(Q9=\"\",\"\",Q9/COUNTIF('Data Input'!$C$8:$AK$8,\"G\"))","v":""}]
[{"$f":"IF('Data Input'!A15=0,\"\",'Data Input'!A15)","v":""},{"$f":"IF(ISBLANK('Data Input'!A15),\"\",COUNTIF('Data Input'!C15:AK15,\"\"))","v":""},{"$f":"IF(ISBLANK('Data Input'!A15),\"\",COUNTIF('Data Input'!C15:AK15,\"0\"))","v":""},{"$f":"IF(ISBLANK('Data Input'!A15),\"\",SUM(B10,C10))","v":""},{"$f":"IF(ISBLANK('Data Input'!A15),\"\",SUM('Data Input'!C15:AK15))","v":""},{"$f":"IF(E10=\"\",\"\",E10/(COUNTA('Data Input'!$C$8:$AK$8)))","v":""},{"$f":"IF(ISBLANK('Data Input'!A15),\"\",SUM('Data Input'!C15,'Data Input'!D15,'Data Input'!J15,'Data Input'!X15))","v":""},{"$f":"IF(G10=\"\",\"\",G10/COUNTIF('Data Input'!$C$8:$AK$8,\"N\"))","v":""},{"$f":"IF(ISBLANK('Data Input'!A15),\"\",SUM('Data Input'!G15,'Data Input'!I15,'Data Input'!L15,'Data Input'!N15,'Data Input'!O15,'Data Input'!S15,'Data Input'!Z15,'Data Input'!AA15,'Data Input'!AB15,'Data Input'!AC15,'Data Input'!AE15,'Data Input'!AF15,'Data Input'!AG15,'Data Input'!AI15,'Data Input'!AK15))","v":""},{"$f":"IF(I10=\"\",\"\",I10/COUNTIF('Data Input'!$C$8:$AK$8,\"C\"))","v":""},{"$f":"IF(ISBLANK('Data Input'!A15),\"\",SUM('Data Input'!T15,'Data Input'!U15))","v":""},{"$f":"IF(K10=\"\",\"\",K10/COUNTIF('Data Input'!$C$8:$AK$8,\"S\"))","v":""},{"$f":"IF(ISBLANK('Data Input'!A15),\"\",SUM('Data Input'!F15,'Data Input'!R15,'Data Input'!AJ15))","v":""},{"$f":"IF(M10=\"\",\"\",M10/COUNTIF('Data Input'!$C$8:$AK$8,\"F\"))","v":""},{"$f":"IF(ISBLANK('Data Input'!A15),\"\",SUM('Data Input'!E15,'Data Input'!M15,'Data Input'!Q15,'Data Input'!V15,'Data Input'!W15,'Data Input'!AD15,'Data Input'!AH15))","v":""},{"$f":"IF(O10=\"\",\"\",O10/COUNTIF('Data Input'!$C$8:$AK$8,\"M\"))","v":""},{"$f":"IF(ISBLANK('Data Input'!A15),\"\",SUM('Data Input'!H15,'Data Input'!K15,'Data Input'!P15,'Data Input'!Y15))","v":""},{"$f":"IF(Q10=\"\",\"\",Q10/COUNTIF('Data Input'!$C$8:$AK$8,\"G\"))","v":""}]
[{"$f":"IF('Data Input'!A16=0,\"\",'Data Input'!A16)","v":""},{"$f":"IF(ISBLANK('Data Input'!A16),\"\",COUNTIF('Data Input'!C16:AK16,\"\"))","v":""},{"$f":"IF(ISBLANK('Data Input'!A16),\"\",COUNTIF('Data Input'!C16:AK16,\"0\"))","v":""},{"$f":"IF(ISBLANK('Data Input'!A16),\"\",SUM(B11,C11))","v":""},{"$f":"IF(ISBLANK('Data Input'!A16),\"\",SUM('Data Input'!C16:AK16))","v":""},{"$f":"IF(E11=\"\",\"\",E11/(COUNTA('Data Input'!$C$8:$AK$8)))","v":""},{"$f":"IF(ISBLANK('Data Input'!A16),\"\",SUM('Data Input'!C16,'Data Input'!D16,'Data Input'!J16,'Data Input'!X16))","v":""},{"$f":"IF(G11=\"\",\"\",G11/COUNTIF('Data Input'!$C$8:$AK$8,\"N\"))","v":""},{"$f":"IF(ISBLANK('Data Input'!A16),\"\",SUM('Data Input'!G16,'Data Input'!I16,'Data Input'!L16,'Data Input'!N16,'Data Input'!O16,'Data Input'!S16,'Data Input'!Z16,'Data Input'!AA16,'Data Input'!AB16,'Data Input'!AC16,'Data Input'!AE16,'Data Input'!AF16,'Data Input'!AG16,'Data Input'!AI16,'Data Input'!AK16))","v":""},{"$f":"IF(I11=\"\",\"\",I11/COUNTIF('Data Input'!$C$8:$AK$8,\"C\"))","v":""},{"$f":"IF(ISBLANK('Data Input'!A16),\"\",SUM('Data Input'!T16,'Data Input'!U16))","v":""},{"$f":"IF(K11=\"\",\"\",K11/COUNTIF('Data Input'!$C$8:$AK$8,\"S\"))","v":""},{"$f":"IF(ISBLANK('Data Input'!A16),\"\",SUM('Data Input'!F16,'Data Input'!R16,'Data Input'!AJ16))","v":""},{"$f":"IF(M11=\"\",\"\",M11/COUNTIF('Data Input'!$C$8:$AK$8,\"F\"))","v":""},{"$f":"IF(ISBLANK('Data Input'!A16),\"\",SUM('Data Input'!E16,'Data Input'!M16,'Data Input'!Q16,'Data Input'!V16,'Data Input'!W16,'Data Input'!AD16,'Data Input'!AH16))","v":""},{"$f":"IF(O11=\"\",\"\",O11/COUNTIF('Data Input'!$C$8:$AK$8,\"M\"))","v":""},{"$f":"IF(ISBLANK('Data Input'!A16),\"\",SUM('Data Input'!H16,'Data Input'!K16,'Data Input'!P16,'Data Input'!Y16))","v":""},{"$f":"IF(Q11=\"\",\"\",Q11/COUNTIF('Data Input'!$C$8:$AK$8,\"G\"))","v":""}]
[{"$f":"IF('Data Input'!A17=0,\"\",'Data Input'!A17)","v":""},{"$f":"IF(ISBLANK('Data Input'!A17),\"\",COUNTIF('Data Input'!C17:AK17,\"\"))","v":""},{"$f":"IF(ISBLANK('Data Input'!A17),\"\",COUNTIF('Data Input'!C17:AK17,\"0\"))","v":""},{"$f":"IF(ISBLANK('Data Input'!A17),\"\",SUM(B12,C12))","v":""},{"$f":"IF(ISBLANK('Data Input'!A17),\"\",SUM('Data Input'!C17:AK17))","v":""},{"$f":"IF(E12=\"\",\"\",E12/(COUNTA('Data Input'!$C$8:$AK$8)))","v":""},{"$f":"IF(ISBLANK('Data Input'!A17),\"\",SUM('Data Input'!C17,'Data Input'!D17,'Data Input'!J17,'Data Input'!X17))","v":""},{"$f":"IF(G12=\"\",\"\",G12/COUNTIF('Data Input'!$C$8:$AK$8,\"N\"))","v":""},{"$f":"IF(ISBLANK('Data Input'!A17),\"\",SUM('Data Input'!G17,'Data Input'!I17,'Data Input'!L17,'Data Input'!N17,'Data Input'!O17,'Data Input'!S17,'Data Input'!Z17,'Data Input'!AA17,'Data Input'!AB17,'Data Input'!AC17,'Data Input'!AE17,'Data Input'!AF17,'Data Input'!AG17,'Data Input'!AI17,'Data Input'!AK17))","v":""},{"$f":"IF(I12=\"\",\"\",I12/COUNTIF('Data Input'!$C$8:$AK$8,\"C\"))","v":""},{"$f":"IF(ISBLANK('Data Input'!A17),\"\",SUM('Data Input'!T17,'Data Input'!U17))","v":""},{"$f":"IF(K12=\"\",\"\",K12/COUNTIF('Data Input'!$C$8:$AK$8,\"S\"))","v":""},{"$f":"IF(ISBLANK('Data Input'!A17),\"\",SUM('Data Input'!F17,'Data Input'!R17,'Data Input'!AJ17))","v":""},{"$f":"IF(M12=\"\",\"\",M12/COUNTIF('Data Input'!$C$8:$AK$8,\"F\"))","v":""},{"$f":"IF(ISBLANK('Data Input'!A17),\"\",SUM('Data Input'!E17,'Data Input'!M17,'Data Input'!Q17,'Data Input'!V17,'Data Input'!W17,'Data Input'!AD17,'Data Input'!AH17))","v":""},{"$f":"IF(O12=\"\",\"\",O12/COUNTIF('Data Input'!$C$8:$AK$8,\"M\"))","v":""},{"$f":"IF(ISBLANK('Data Input'!A17),\"\",SUM('Data Input'!H17,'Data Input'!K17,'Data Input'!P17,'Data Input'!Y17))","v":""},{"$f":"IF(Q12=\"\",\"\",Q12/COUNTIF('Data Input'!$C$8:$AK$8,\"G\"))","v":""}]
[{"$f":"IF('Data Input'!A18=0,\"\",'Data Input'!A18)","v":""},{"$f":"IF(ISBLANK('Data Input'!A18),\"\",COUNTIF('Data Input'!C18:AK18,\"\"))","v":""},{"$f":"IF(ISBLANK('Data Input'!A18),\"\",COUNTIF('Data Input'!C18:AK18,\"0\"))","v":""},{"$f":"IF(ISBLANK('Data Input'!A18),\"\",SUM(B13,C13))","v":""},{"$f":"IF(ISBLANK('Data Input'!A18),\"\",SUM('Data Input'!C18:AK18))","v":""},{"$f":"IF(E13=\"\",\"\",E13/(COUNTA('Data Input'!$C$8:$AK$8)))","v":""},{"$f":"IF(ISBLANK('Data Input'!A18),\"\",SUM('Data Input'!C18,'Data Input'!D18,'Data Input'!J18,'Data Input'!X18))","v":""},{"$f":"IF(G13=\"\",\"\",G13/COUNTIF('Data Input'!$C$8:$AK$8,\"N\"))","v":""},{"$f":"IF(ISBLANK('Data Input'!A18),\"\",SUM('Data Input'!G18,'Data Input'!I18,'Data Input'!L18,'Data Input'!N18,'Data Input'!O18,'Data Input'!S18,'Data Input'!Z18,'Data Input'!AA18,'Data Input'!AB18,'Data Input'!AC18,'Data Input'!AE18,'Data Input'!AF18,'Data Input'!AG18,'Data Input'!AI18,'Data Input'!AK18))","v":""},{"$f":"IF(I13=\"\",\"\",I13/COUNTIF('Data Input'!$C$8:$AK$8,\"C\"))","v":""},{"$f":"IF(ISBLANK('Data Input'!A18),\"\",SUM('Data Input'!T18,'Data Input'!U18))","v":""},{"$f":"IF(K13=\"\",\"\",K13/COUNTIF('Data Input'!$C$8:$AK$8,\"S\"))","v":""},{"$f":"IF(ISBLANK('Data Input'!A18),\"\",SUM('Data Input'!F18,'Data Input'!R18,'Data Input'!AJ18))","v":""},{"$f":"IF(M13=\"\",\"\",M13/COUNTIF('Data Input'!$C$8:$AK$8,\"F\"))","v":""},{"$f":"IF(ISBLANK('Data Input'!A18),\"\",SUM('Data Input'!E18,'Data Input'!M18,'Data Input'!Q18,'Data Input'!V18,'Data Input'!W18,'Data Input'!AD18,'Data Input'!AH18))","v":""},{"$f":"IF(O13=\"\",\"\",O13/COUNTIF('Data Input'!$C$8:$AK$8,\"M\"))","v":""},{"$f":"IF(ISBLANK('Data Input'!A18),\"\",SUM('Data Input'!H18,'Data Input'!K18,'Data Input'!P18,'Data Input'!Y18))","v":""},{"$f":"IF(Q13=\"\",\"\",Q13/COUNTIF('Data Input'!$C$8:$AK$8,\"G\"))","v":""}]
[{"$f":"IF('Data Input'!A19=0,\"\",'Data Input'!A19)","v":""},{"$f":"IF(ISBLANK('Data Input'!A19),\"\",COUNTIF('Data Input'!C19:AK19,\"\"))","v":""},{"$f":"IF(ISBLANK('Data Input'!A19),\"\",COUNTIF('Data Input'!C19:AK19,\"0\"))","v":""},{"$f":"IF(ISBLANK('Data Input'!A19),\"\",SUM(B14,C14))","v":""},{"$f":"IF(ISBLANK('Data Input'!A19),\"\",SUM('Data Input'!C19:AK19))","v":""},{"$f":"IF(E14=\"\",\"\",E14/(COUNTA('Data Input'!$C$8:$AK$8)))","v":""},{"$f":"IF(ISBLANK('Data Input'!A19),\"\",SUM('Data Input'!C19,'Data Input'!D19,'Data Input'!J19,'Data Input'!X19))","v":""},{"$f":"IF(G14=\"\",\"\",G14/COUNTIF('Data Input'!$C$8:$AK$8,\"N\"))","v":""},{"$f":"IF(ISBLANK('Data Input'!A19),\"\",SUM('Data Input'!G19,'Data Input'!I19,'Data Input'!L19,'Data Input'!N19,'Data Input'!O19,'Data Input'!S19,'Data Input'!Z19,'Data Input'!AA19,'Data Input'!AB19,'Data Input'!AC19,'Data Input'!AE19,'Data Input'!AF19,'Data Input'!AG19,'Data Input'!AI19,'Data Input'!AK19))","v":""},{"$f":"IF(I14=\"\",\"\",I14/COUNTIF('Data Input'!$C$8:$AK$8,\"C\"))","v":""},{"$f":"IF(ISBLANK('Data Input'!A19),\"\",SUM('Data Input'!T19,'Data Input'!U19))","v":""},{"$f":"IF(K14=\"\",\"\",K14/COUNTIF('Data Input'!$C$8:$AK$8,\"S\"))","v":""},{"$f":"IF(ISBLANK('Data Input'!A19),\"\",SUM('Data Input'!F19,'Data Input'!R19,'Data Input'!AJ19))","v":""},{"$f":"IF(M14=\"\",\"\",M14/COUNTIF('Data Input'!$C$8:$AK$8,\"F\"))","v":""},{"$f":"IF(ISBLANK('Data Input'!A19),\"\",SUM('Data Input'!E19,'Data Input'!M19,'Data Input'!Q19,'Data Input'!V19,'Data Input'!W19,'Data Input'!AD19,'Data Input'!AH19))","v":""},{"$f":"IF(O14=\"\",\"\",O14/COUNTIF('Data Input'!$C$8:$AK$8,\"M\"))","v":""},{"$f":"IF(ISBLANK('Data Input'!A19),\"\",SUM('Data Input'!H19,'Data Input'!K19,'Data Input'!P19,'Data Input'!Y19))","v":""},{"$f":"IF(Q14=\"\",\"\",Q14/COUNTIF('Data Input'!$C$8:$AK$8,\"G\"))","v":""}]
[{"$f":"IF('Data Input'!A20=0,\"\",'Data Input'!A20)","v":""},{"$f":"IF(ISBLANK('Data Input'!A20),\"\",COUNTIF('Data Input'!C20:AK20,\"\"))","v":""},{"$f":"IF(ISBLANK('Data Input'!A20),\"\",COUNTIF('Data Input'!C20:AK20,\"0\"))","v":""},{"$f":"IF(ISBLANK('Data Input'!A20),\"\",SUM(B15,C15))","v":""},{"$f":"IF(ISBLANK('Data Input'!A20),\"\",SUM('Data Input'!C20:AK20))","v":""},{"$f":"IF(E15=\"\",\"\",E15/(COUNTA('Data Input'!$C$8:$AK$8)))","v":""},{"$f":"IF(ISBLANK('Data Input'!A20),\"\",SUM('Data Input'!C20,'Data Input'!D20,'Data Input'!J20,'Data Input'!X20))","v":""},{"$f":"IF(G15=\"\",\"\",G15/COUNTIF('Data Input'!$C$8:$AK$8,\"N\"))","v":""},{"$f":"IF(ISBLANK('Data Input'!A20),\"\",SUM('Data Input'!G20,'Data Input'!I20,'Data Input'!L20,'Data Input'!N20,'Data Input'!O20,'Data Input'!S20,'Data Input'!Z20,'Data Input'!AA20,'Data Input'!AB20,'Data Input'!AC20,'Data Input'!AE20,'Data Input'!AF20,'Data Input'!AG20,'Data Input'!AI20,'Data Input'!AK20))","v":""},{"$f":"IF(I15=\"\",\"\",I15/COUNTIF('Data Input'!$C$8:$AK$8,\"C\"))","v":""},{"$f":"IF(ISBLANK('Data Input'!A20),\"\",SUM('Data Input'!T20,'Data Input'!U20))","v":""},{"$f":"IF(K15=\"\",\"\",K15/COUNTIF('Data Input'!$C$8:$AK$8,\"S\"))","v":""},{"$f":"IF(ISBLANK('Data Input'!A20),\"\",SUM('Data Input'!F20,'Data Input'!R20,'Data Input'!AJ20))","v":""},{"$f":"IF(M15=\"\",\"\",M15/COUNTIF('Data Input'!$C$8:$AK$8,\"F\"))","v":""},{"$f":"IF(ISBLANK('Data Input'!A20),\"\",SUM('Data Input'!E20,'Data Input'!M20,'Data Input'!Q20,'Data Input'!V20,'Data Input'!W20,'Data Input'!AD20,'Data Input'!AH20))","v":""},{"$f":"IF(O15=\"\",\"\",O15/COUNTIF('Data Input'!$C$8:$AK$8,\"M\"))","v":""},{"$f":"IF(ISBLANK('Data Input'!A20),\"\",SUM('Data Input'!H20,'Data Input'!K20,'Data Input'!P20,'Data Input'!Y20))","v":""},{"$f":"IF(Q15=\"\",\"\",Q15/COUNTIF('Data Input'!$C$8:$AK$8,\"G\"))","v":""}]
[{"$f":"IF('Data Input'!A21=0,\"\",'Data Input'!A21)","v":""},{"$f":"IF(ISBLANK('Data Input'!A21),\"\",COUNTIF('Data Input'!C21:AK21,\"\"))","v":""},{"$f":"IF(ISBLANK('Data Input'!A21),\"\",COUNTIF('Data Input'!C21:AK21,\"0\"))","v":""},{"$f":"IF(ISBLANK('Data Input'!A21),\"\",SUM(B16,C16))","v":""},{"$f":"IF(ISBLANK('Data Input'!A21),\"\",SUM('Data Input'!C21:AK21))","v":""},{"$f":"IF(E16=\"\",\"\",E16/(COUNTA('Data Input'!$C$8:$AK$8)))","v":""},{"$f":"IF(ISBLANK('Data Input'!A21),\"\",SUM('Data Input'!C21,'Data Input'!D21,'Data Input'!J21,'Data Input'!X21))","v":""},{"$f":"IF(G16=\"\",\"\",G16/COUNTIF('Data Input'!$C$8:$AK$8,\"N\"))","v":""},{"$f":"IF(ISBLANK('Data Input'!A21),\"\",SUM('Data Input'!G21,'Data Input'!I21,'Data Input'!L21,'Data Input'!N21,'Data Input'!O21,'Data Input'!S21,'Data Input'!Z21,'Data Input'!AA21,'Data Input'!AB21,'Data Input'!AC21,'Data Input'!AE21,'Data Input'!AF21,'Data Input'!AG21,'Data Input'!AI21,'Data Input'!AK21))","v":""},{"$f":"IF(I16=\"\",\"\",I16/COUNTIF('Data Input'!$C$8:$AK$8,\"C\"))","v":""},{"$f":"IF(ISBLANK('Data Input'!A21),\"\",SUM('Data Input'!T21,'Data Input'!U21))","v":""},{"$f":"IF(K16=\"\",\"\",K16/COUNTIF('Data Input'!$C$8:$AK$8,\"S\"))","v":""},{"$f":"IF(ISBLANK('Data Input'!A21),\"\",SUM('Data Input'!F21,'Data Input'!R21,'Data Input'!AJ21))","v":""},{"$f":"IF(M16=\"\",\"\",M16/COUNTIF('Data Input'!$C$8:$AK$8,\"F\"))","v":""},{"$f":"IF(ISBLANK('Data Input'!A21),\"\",SUM('Data Input'!E21,'Data Input'!M21,'Data Input'!Q21,'Data Input'!V21,'Data Input'!W21,'Data Input'!AD21,'Data Input'!AH21))","v":""},{"$f":"IF(O16=\"\",\"\",O16/COUNTIF('Data Input'!$C$8:$AK$8,\"M\"))","v":""},{"$f":"IF(ISBLANK('Data Input'!A21),\"\",SUM('Data Input'!H21,'Data Input'!K21,'Data Input'!P21,'Data Input'!Y21))","v":""},{"$f":"IF(Q16=\"\",\"\",Q16/COUNTIF('Data Input'!$C$8:$AK$8,\"G\"))","v":""}]
[{"$f":"IF('Data Input'!A22=0,\"\",'Data Input'!A22)","v":""},{"$f":"IF(ISBLANK('Data Input'!A22),\"\",COUNTIF('Data Input'!C22:AK22,\"\"))","v":""},{"$f":"IF(ISBLANK('Data Input'!A22),\"\",COUNTIF('Data Input'!C22:AK22,\"0\"))","v":""},{"$f":"IF(ISBLANK('Data Input'!A22),\"\",SUM(B17,C17))","v":""},{"$f":"IF(ISBLANK('Data Input'!A22),\"\",SUM('Data Input'!C22:AK22))","v":""},{"$f":"IF(E17=\"\",\"\",E17/(COUNTA('Data Input'!$C$8:$AK$8)))","v":""},{"$f":"IF(ISBLANK('Data Input'!A22),\"\",SUM('Data Input'!C22,'Data Input'!D22,'Data Input'!J22,'Data Input'!X22))","v":""},{"$f":"IF(G17=\"\",\"\",G17/COUNTIF('Data Input'!$C$8:$AK$8,\"N\"))","v":""},{"$f":"IF(ISBLANK('Data Input'!A22),\"\",SUM('Data Input'!G22,'Data Input'!I22,'Data Input'!L22,'Data Input'!N22,'Data Input'!O22,'Data Input'!S22,'Data Input'!Z22,'Data Input'!AA22,'Data Input'!AB22,'Data Input'!AC22,'Data Input'!AE22,'Data Input'!AF22,'Data Input'!AG22,'Data Input'!AI22,'Data Input'!AK22))","v":""},{"$f":"IF(I17=\"\",\"\",I17/COUNTIF('Data Input'!$C$8:$AK$8,\"C\"))","v":""},{"$f":"IF(ISBLANK('Data Input'!A22),\"\",SUM('Data Input'!T22,'Data Input'!U22))","v":""},{"$f":"IF(K17=\"\",\"\",K17/COUNTIF('Data Input'!$C$8:$AK$8,\"S\"))","v":""},{"$f":"IF(ISBLANK('Data Input'!A22),\"\",SUM('Data Input'!F22,'Data Input'!R22,'Data Input'!AJ22))","v":""},{"$f":"IF(M17=\"\",\"\",M17/COUNTIF('Data Input'!$C$8:$AK$8,\"F\"))","v":""},{"$f":"IF(ISBLANK('Data Input'!A22),\"\",SUM('Data Input'!E22,'Data Input'!M22,'Data Input'!Q22,'Data Input'!V22,'Data Input'!W22,'Data Input'!AD22,'Data Input'!AH22))","v":""},{"$f":"IF(O17=\"\",\"\",O17/COUNTIF('Data Input'!$C$8:$AK$8,\"M\"))","v":""},{"$f":"IF(ISBLANK('Data Input'!A22),\"\",SUM('Data Input'!H22,'Data Input'!K22,'Data Input'!P22,'Data Input'!Y22))","v":""},{"$f":"IF(Q17=\"\",\"\",Q17/COUNTIF('Data Input'!$C$8:$AK$8,\"G\"))","v":""}]
[{"$f":"IF('Data Input'!A23=0,\"\",'Data Input'!A23)","v":""},{"$f":"IF(ISBLANK('Data Input'!A23),\"\",COUNTIF('Data Input'!C23:AK23,\"\"))","v":""},{"$f":"IF(ISBLANK('Data Input'!A23),\"\",COUNTIF('Data Input'!C23:AK23,\"0\"))","v":""},{"$f":"IF(ISBLANK('Data Input'!A23),\"\",SUM(B18,C18))","v":""},{"$f":"IF(ISBLANK('Data Input'!A23),\"\",SUM('Data Input'!C23:AK23))","v":""},{"$f":"IF(E18=\"\",\"\",E18/(COUNTA('Data Input'!$C$8:$AK$8)))","v":""},{"$f":"IF(ISBLANK('Data Input'!A23),\"\",SUM('Data Input'!C23,'Data Input'!D23,'Data Input'!J23,'Data Input'!X23))","v":""},{"$f":"IF(G18=\"\",\"\",G18/COUNTIF('Data Input'!$C$8:$AK$8,\"N\"))","v":""},{"$f":"IF(ISBLANK('Data Input'!A23),\"\",SUM('Data Input'!G23,'Data Input'!I23,'Data Input'!L23,'Data Input'!N23,'Data Input'!O23,'Data Input'!S23,'Data Input'!Z23,'Data Input'!AA23,'Data Input'!AB23,'Data Input'!AC23,'Data Input'!AE23,'Data Input'!AF23,'Data Input'!AG23,'Data Input'!AI23,'Data Input'!AK23))","v":""},{"$f":"IF(I18=\"\",\"\",I18/COUNTIF('Data Input'!$C$8:$AK$8,\"C\"))","v":""},{"$f":"IF(ISBLANK('Data Input'!A23),\"\",SUM('Data Input'!T23,'Data Input'!U23))","v":""},{"$f":"IF(K18=\"\",\"\",K18/COUNTIF('Data Input'!$C$8:$AK$8,\"S\"))","v":""},{"$f":"IF(ISBLANK('Data Input'!A23),\"\",SUM('Data Input'!F23,'Data Input'!R23,'Data Input'!AJ23))","v":""},{"$f":"IF(M18=\"\",\"\",M18/COUNTIF('Data Input'!$C$8:$AK$8,\"F\"))","v":""},{"$f":"IF(ISBLANK('Data Input'!A23),\"\",SUM('Data Input'!E23,'Data Input'!M23,'Data Input'!Q23,'Data Input'!V23,'Data Input'!W23,'Data Input'!AD23,'Data Input'!AH23))","v":""},{"$f":"IF(O18=\"\",\"\",O18/COUNTIF('Data Input'!$C$8:$AK$8,\"M\"))","v":""},{"$f":"IF(ISBLANK('Data Input'!A23),\"\",SUM('Data Input'!H23,'Data Input'!K23,'Data Input'!P23,'Data Input'!Y23))","v":""},{"$f":"IF(Q18=\"\",\"\",Q18/COUNTIF('Data Input'!$C$8:$AK$8,\"G\"))","v":""}]
[{"$f":"IF('Data Input'!A24=0,\"\",'Data Input'!A24)","v":""},{"$f":"IF(ISBLANK('Data Input'!A24),\"\",COUNTIF('Data Input'!C24:AK24,\"\"))","v":""},{"$f":"IF(ISBLANK('Data Input'!A24),\"\",COUNTIF('Data Input'!C24:AK24,\"0\"))","v":""},{"$f":"IF(ISBLANK('Data Input'!A24),\"\",SUM(B19,C19))","v":""},{"$f":"IF(ISBLANK('Data Input'!A24),\"\",SUM('Data Input'!C24:AK24))","v":""},{"$f":"IF(E19=\"\",\"\",E19/(COUNTA('Data Input'!$C$8:$AK$8)))","v":""},{"$f":"IF(ISBLANK('Data Input'!A24),\"\",SUM('Data Input'!C24,'Data Input'!D24,'Data Input'!J24,'Data Input'!X24))","v":""},{"$f":"IF(G19=\"\",\"\",G19/COUNTIF('Data Input'!$C$8:$AK$8,\"N\"))","v":""},{"$f":"IF(ISBLANK('Data Input'!A24),\"\",SUM('Data Input'!G24,'Data Input'!I24,'Data Input'!L24,'Data Input'!N24,'Data Input'!O24,'Data Input'!S24,'Data Input'!Z24,'Data Input'!AA24,'Data Input'!AB24,'Data Input'!AC24,'Data Input'!AE24,'Data Input'!AF24,'Data Input'!AG24,'Data Input'!AI24,'Data Input'!AK24))","v":""},{"$f":"IF(I19=\"\",\"\",I19/COUNTIF('Data Input'!$C$8:$AK$8,\"C\"))","v":""},{"$f":"IF(ISBLANK('Data Input'!A24),\"\",SUM('Data Input'!T24,'Data Input'!U24))","v":""},{"$f":"IF(K19=\"\",\"\",K19/COUNTIF('Data Input'!$C$8:$AK$8,\"S\"))","v":""},{"$f":"IF(ISBLANK('Data Input'!A24),\"\",SUM('Data Input'!F24,'Data Input'!R24,'Data Input'!AJ24))","v":""},{"$f":"IF(M19=\"\",\"\",M19/COUNTIF('Data Input'!$C$8:$AK$8,\"F\"))","v":""},{"$f":"IF(ISBLANK('Data Input'!A24),\"\",SUM('Data Input'!E24,'Data Input'!M24,'Data Input'!Q24,'Data Input'!V24,'Data Input'!W24,'Data Input'!AD24,'Data Input'!AH24))","v":""},{"$f":"IF(O19=\"\",\"\",O19/COUNTIF('Data Input'!$C$8:$AK$8,\"M\"))","v":""},{"$f":"IF(ISBLANK('Data Input'!A24),\"\",SUM('Data Input'!H24,'Data Input'!K24,'Data Input'!P24,'Data Input'!Y24))","v":""},{"$f":"IF(Q19=\"\",\"\",Q19/COUNTIF('Data Input'!$C$8:$AK$8,\"G\"))","v":""}]
[{"$f":"IF('Data Input'!A25=0,\"\",'Data Input'!A25)","v":""},{"$f":"IF(ISBLANK('Data Input'!A25),\"\",COUNTIF('Data Input'!C25:AK25,\"\"))","v":""},{"$f":"IF(ISBLANK('Data Input'!A25),\"\",COUNTIF('Data Input'!C25:AK25,\"0\"))","v":""},{"$f":"IF(ISBLANK('Data Input'!A25),\"\",SUM(B20,C20))","v":""},{"$f":"IF(ISBLANK('Data Input'!A25),\"\",SUM('Data Input'!C25:AK25))","v":""},{"$f":"IF(E20=\"\",\"\",E20/(COUNTA('Data Input'!$C$8:$AK$8)))","v":""},{"$f":"IF(ISBLANK('Data Input'!A25),\"\",SUM('Data Input'!C25,'Data Input'!D25,'Data Input'!J25,'Data Input'!X25))","v":""},{"$f":"IF(G20=\"\",\"\",G20/COUNTIF('Data Input'!$C$8:$AK$8,\"N\"))","v":""},{"$f":"IF(ISBLANK('Data Input'!A25),\"\",SUM('Data Input'!G25,'Data Input'!I25,'Data Input'!L25,'Data Input'!N25,'Data Input'!O25,'Data Input'!S25,'Data Input'!Z25,'Data Input'!AA25,'Data Input'!AB25,'Data Input'!AC25,'Data Input'!AE25,'Data Input'!AF25,'Data Input'!AG25,'Data Input'!AI25,'Data Input'!AK25))","v":""},{"$f":"IF(I20=\"\",\"\",I20/COUNTIF('Data Input'!$C$8:$AK$8,\"C\"))","v":""},{"$f":"IF(ISBLANK('Data Input'!A25),\"\",SUM('Data Input'!T25,'Data Input'!U25))","v":""},{"$f":"IF(K20=\"\",\"\",K20/COUNTIF('Data Input'!$C$8:$AK$8,\"S\"))","v":""},{"$f":"IF(ISBLANK('Data Input'!A25),\"\",SUM('Data Input'!F25,'Data Input'!R25,'Data Input'!AJ25))","v":""},{"$f":"IF(M20=\"\",\"\",M20/COUNTIF('Data Input'!$C$8:$AK$8,\"F\"))","v":""},{"$f":"IF(ISBLANK('Data Input'!A25),\"\",SUM('Data Input'!E25,'Data Input'!M25,'Data Input'!Q25,'Data Input'!V25,'Data Input'!W25,'Data Input'!AD25,'Data Input'!AH25))","v":""},{"$f":"IF(O20=\"\",\"\",O20/COUNTIF('Data Input'!$C$8:$AK$8,\"M\"))","v":""},{"$f":"IF(ISBLANK('Data Input'!A25),\"\",SUM('Data Input'!H25,'Data Input'!K25,'Data Input'!P25,'Data Input'!Y25))","v":""},{"$f":"IF(Q20=\"\",\"\",Q20/COUNTIF('Data Input'!$C$8:$AK$8,\"G\"))","v":""}]
[{"$f":"IF('Data Input'!A26=0,\"\",'Data Input'!A26)","v":""},{"$f":"IF(ISBLANK('Data Input'!A26),\"\",COUNTIF('Data Input'!C26:AK26,\"\"))","v":""},{"$f":"IF(ISBLANK('Data Input'!A26),\"\",COUNTIF('Data Input'!C26:AK26,\"0\"))","v":""},{"$f":"IF(ISBLANK('Data Input'!A26),\"\",SUM(B21,C21))","v":""},{"$f":"IF(ISBLANK('Data Input'!A26),\"\",SUM('Data Input'!C26:AK26))","v":""},{"$f":"IF(E21=\"\",\"\",E21/(COUNTA('Data Input'!$C$8:$AK$8)))","v":""},{"$f":"IF(ISBLANK('Data Input'!A26),\"\",SUM('Data Input'!C26,'Data Input'!D26,'Data Input'!J26,'Data Input'!X26))","v":""},{"$f":"IF(G21=\"\",\"\",G21/COUNTIF('Data Input'!$C$8:$AK$8,\"N\"))","v":""},{"$f":"IF(ISBLANK('Data Input'!A26),\"\",SUM('Data Input'!G26,'Data Input'!I26,'Data Input'!L26,'Data Input'!N26,'Data Input'!O26,'Data Input'!S26,'Data Input'!Z26,'Data Input'!AA26,'Data Input'!AB26,'Data Input'!AC26,'Data Input'!AE26,'Data Input'!AF26,'Data Input'!AG26,'Data Input'!AI26,'Data Input'!AK26))","v":""},{"$f":"IF(I21=\"\",\"\",I21/COUNTIF('Data Input'!$C$8:$AK$8,\"C\"))","v":""},{"$f":"IF(ISBLANK('Data Input'!A26),\"\",SUM('Data Input'!T26,'Data Input'!U26))","v":""},{"$f":"IF(K21=\"\",\"\",K21/COUNTIF('Data Input'!$C$8:$AK$8,\"S\"))","v":""},{"$f":"IF(ISBLANK('Data Input'!A26),\"\",SUM('Data Input'!F26,'Data Input'!R26,'Data Input'!AJ26))","v":""},{"$f":"IF(M21=\"\",\"\",M21/COUNTIF('Data Input'!$C$8:$AK$8,\"F\"))","v":""},{"$f":"IF(ISBLANK('Data Input'!A26),\"\",SUM('Data Input'!E26,'Data Input'!M26,'Data Input'!Q26,'Data Input'!V26,'Data Input'!W26,'Data Input'!AD26,'Data Input'!AH26))","v":""},{"$f":"IF(O21=\"\",\"\",O21/COUNTIF('Data Input'!$C$8:$AK$8,\"M\"))","v":""},{"$f":"IF(ISBLANK('Data Input'!A26),\"\",SUM('Data Input'!H26,'Data Input'!K26,'Data Input'!P26,'Data Input'!Y26))","v":""},{"$f":"IF(Q21=\"\",\"\",Q21/COUNTIF('Data Input'!$C$8:$AK$8,\"G\"))","v":""}]
[{"$f":"IF('Data Input'!A27=0,\"\",'Data Input'!A27)","v":""},{"$f":"IF(ISBLANK('Data Input'!A27),\"\",COUNTIF('Data Input'!C27:AK27,\"\"))","v":""},{"$f":"IF(ISBLANK('Data Input'!A27),\"\",COUNTIF('Data Input'!C27:AK27,\"0\"))","v":""},{"$f":"IF(ISBLANK('Data Input'!A27),\"\",SUM(B22,C22))","v":""},{"$f":"IF(ISBLANK('Data Input'!A27),\"\",SUM('Data Input'!C27:AK27))","v":""},{"$f":"IF(E22=\"\",\"\",E22/(COUNTA('Data Input'!$C$8:$AK$8)))","v":""},{"$f":"IF(ISBLANK('Data Input'!A27),\"\",SUM('Data Input'!C27,'Data Input'!D27,'Data Input'!J27,'Data Input'!X27))","v":""},{"$f":"IF(G22=\"\",\"\",G22/COUNTIF('Data Input'!$C$8:$AK$8,\"N\"))","v":""},{"$f":"IF(ISBLANK('Data Input'!A27),\"\",SUM('Data Input'!G27,'Data Input'!I27,'Data Input'!L27,'Data Input'!N27,'Data Input'!O27,'Data Input'!S27,'Data Input'!Z27,'Data Input'!AA27,'Data Input'!AB27,'Data Input'!AC27,'Data Input'!AE27,'Data Input'!AF27,'Data Input'!AG27,'Data Input'!AI27,'Data Input'!AK27))","v":""},{"$f":"IF(I22=\"\",\"\",I22/COUNTIF('Data Input'!$C$8:$AK$8,\"C\"))","v":""},{"$f":"IF(ISBLANK('Data Input'!A27),\"\",SUM('Data Input'!T27,'Data Input'!U27))","v":""},{"$f":"IF(K22=\"\",\"\",K22/COUNTIF('Data Input'!$C$8:$AK$8,\"S\"))","v":""},{"$f":"IF(ISBLANK('Data Input'!A27),\"\",SUM('Data Input'!F27,'Data Input'!R27,'Data Input'!AJ27))","v":""},{"$f":"IF(M22=\"\",\"\",M22/COUNTIF('Data Input'!$C$8:$AK$8,\"F\"))","v":""},{"$f":"IF(ISBLANK('Data Input'!A27),\"\",SUM('Data Input'!E27,'Data Input'!M27,'Data Input'!Q27,'Data Input'!V27,'Data Input'!W27,'Data Input'!AD27,'Data Input'!AH27))","v":""},{"$f":"IF(O22=\"\",\"\",O22/COUNTIF('Data Input'!$C$8:$AK$8,\"M\"))","v":""},{"$f":"IF(ISBLANK('Data Input'!A27),\"\",SUM('Data Input'!H27,'Data Input'!K27,'Data Input'!P27,'Data Input'!Y27))","v":""},{"$f":"IF(Q22=\"\",\"\",Q22/COUNTIF('Data Input'!$C$8:$AK$8,\"G\"))","v":""}]
[{"$f":"IF('Data Input'!A28=0,\"\",'Data Input'!A28)","v":""},{"$f":"IF(ISBLANK('Data Input'!A28),\"\",COUNTIF('Data Input'!C28:AK28,\"\"))","v":""},{"$f":"IF(ISBLANK('Data Input'!A28),\"\",COUNTIF('Data Input'!C28:AK28,\"0\"))","v":""},{"$f":"IF(ISBLANK('Data Input'!A28),\"\",SUM(B23,C23))","v":""},{"$f":"IF(ISBLANK('Data Input'!A28),\"\",SUM('Data Input'!C28:AK28))","v":""},{"$f":"IF(E23=\"\",\"\",E23/(COUNTA('Data Input'!$C$8:$AK$8)))","v":""},{"$f":"IF(ISBLANK('Data Input'!A28),\"\",SUM('Data Input'!C28,'Data Input'!D28,'Data Input'!J28,'Data Input'!X28))","v":""},{"$f":"IF(G23=\"\",\"\",G23/COUNTIF('Data Input'!$C$8:$AK$8,\"N\"))","v":""},{"$f":"IF(ISBLANK('Data Input'!A28),\"\",SUM('Data Input'!G28,'Data Input'!I28,'Data Input'!L28,'Data Input'!N28,'Data Input'!O28,'Data Input'!S28,'Data Input'!Z28,'Data Input'!AA28,'Data Input'!AB28,'Data Input'!AC28,'Data Input'!AE28,'Data Input'!AF28,'Data Input'!AG28,'Data Input'!AI28,'Data Input'!AK28))","v":""},{"$f":"IF(I23=\"\",\"\",I23/COUNTIF('Data Input'!$C$8:$AK$8,\"C\"))","v":""},{"$f":"IF(ISBLANK('Data Input'!A28),\"\",SUM('Data Input'!T28,'Data Input'!U28))","v":""},{"$f":"IF(K23=\"\",\"\",K23/COUNTIF('Data Input'!$C$8:$AK$8,\"S\"))","v":""},{"$f":"IF(ISBLANK('Data Input'!A28),\"\",SUM('Data Input'!F28,'Data Input'!R28,'Data Input'!AJ28))","v":""},{"$f":"IF(M23=\"\",\"\",M23/COUNTIF('Data Input'!$C$8:$AK$8,\"F\"))","v":""},{"$f":"IF(ISBLANK('Data Input'!A28),\"\",SUM('Data Input'!E28,'Data Input'!M28,'Data Input'!Q28,'Data Input'!V28,'Data Input'!W28,'Data Input'!AD28,'Data Input'!AH28))","v":""},{"$f":"IF(O23=\"\",\"\",O23/COUNTIF('Data Input'!$C$8:$AK$8,\"M\"))","v":""},{"$f":"IF(ISBLANK('Data Input'!A28),\"\",SUM('Data Input'!H28,'Data Input'!K28,'Data Input'!P28,'Data Input'!Y28))","v":""},{"$f":"IF(Q23=\"\",\"\",Q23/COUNTIF('Data Input'!$C$8:$AK$8,\"G\"))","v":""}]
[{"$f":"IF('Data Input'!A29=0,\"\",'Data Input'!A29)","v":""},{"$f":"IF(ISBLANK('Data Input'!A29),\"\",COUNTIF('Data Input'!C29:AK29,\"\"))","v":""},{"$f":"IF(ISBLANK('Data Input'!A29),\"\",COUNTIF('Data Input'!C29:AK29,\"0\"))","v":""},{"$f":"IF(ISBLANK('Data Input'!A29),\"\",SUM(B24,C24))","v":""},{"$f":"IF(ISBLANK('Data Input'!A29),\"\",SUM('Data Input'!C29:AK29))","v":""},{"$f":"IF(E24=\"\",\"\",E24/(COUNTA('Data Input'!$C$8:$AK$8)))","v":""},{"$f":"IF(ISBLANK('Data Input'!A29),\"\",SUM('Data Input'!C29,'Data Input'!D29,'Data Input'!J29,'Data Input'!X29))","v":""},{"$f":"IF(G24=\"\",\"\",G24/COUNTIF('Data Input'!$C$8:$AK$8,\"N\"))","v":""},{"$f":"IF(ISBLANK('Data Input'!A29),\"\",SUM('Data Input'!G29,'Data Input'!I29,'Data Input'!L29,'Data Input'!N29,'Data Input'!O29,'Data Input'!S29,'Data Input'!Z29,'Data Input'!AA29,'Data Input'!AB29,'Data Input'!AC29,'Data Input'!AE29,'Data Input'!AF29,'Data Input'!AG29,'Data Input'!AI29,'Data Input'!AK29))","v":""},{"$f":"IF(I24=\"\",\"\",I24/COUNTIF('Data Input'!$C$8:$AK$8,\"C\"))","v":""},{"$f":"IF(ISBLANK('Data Input'!A29),\"\",SUM('Data Input'!T29,'Data Input'!U29))","v":""},{"$f":"IF(K24=\"\",\"\",K24/COUNTIF('Data Input'!$C$8:$AK$8,\"S\"))","v":""},{"$f":"IF(ISBLANK('Data Input'!A29),\"\",SUM('Data Input'!F29,'Data Input'!R29,'Data Input'!AJ29))","v":""},{"$f":"IF(M24=\"\",\"\",M24/COUNTIF('Data Input'!$C$8:$AK$8,\"F\"))","v":""},{"$f":"IF(ISBLANK('Data Input'!A29),\"\",SUM('Data Input'!E29,'Data Input'!M29,'Data Input'!Q29,'Data Input'!V29,'Data Input'!W29,'Data Input'!AD29,'Data Input'!AH29))","v":""},{"$f":"IF(O24=\"\",\"\",O24/COUNTIF('Data Input'!$C$8:$AK$8,\"M\"))","v":""},{"$f":"IF(ISBLANK('Data Input'!A29),\"\",SUM('Data Input'!H29,'Data Input'!K29,'Data Input'!P29,'Data Input'!Y29))","v":""},{"$f":"IF(Q24=\"\",\"\",Q24/COUNTIF('Data Input'!$C$8:$AK$8,\"G\"))","v":""}]
[{"$f":"IF('Data Input'!A30=0,\"\",'Data Input'!A30)","v":""},{"$f":"IF(ISBLANK('Data Input'!A30),\"\",COUNTIF('Data Input'!C30:AK30,\"\"))","v":""},{"$f":"IF(ISBLANK('Data Input'!A30),\"\",COUNTIF('Data Input'!C30:AK30,\"0\"))","v":""},{"$f":"IF(ISBLANK('Data Input'!A30),\"\",SUM(B25,C25))","v":""},{"$f":"IF(ISBLANK('Data Input'!A30),\"\",SUM('Data Input'!C30:AK30))","v":""},{"$f":"IF(E25=\"\",\"\",E25/(COUNTA('Data Input'!$C$8:$AK$8)))","v":""},{"$f":"IF(ISBLANK('Data Input'!A30),\"\",SUM('Data Input'!C30,'Data Input'!D30,'Data Input'!J30,'Data Input'!X30))","v":""},{"$f":"IF(G25=\"\",\"\",G25/COUNTIF('Data Input'!$C$8:$AK$8,\"N\"))","v":""},{"$f":"IF(ISBLANK('Data Input'!A30),\"\",SUM('Data Input'!G30,'Data Input'!I30,'Data Input'!L30,'Data Input'!N30,'Data Input'!O30,'Data Input'!S30,'Data Input'!Z30,'Data Input'!AA30,'Data Input'!AB30,'Data Input'!AC30,'Data Input'!AE30,'Data Input'!AF30,'Data Input'!AG30,'Data Input'!AI30,'Data Input'!AK30))","v":""},{"$f":"IF(I25=\"\",\"\",I25/COUNTIF('Data Input'!$C$8:$AK$8,\"C\"))","v":""},{"$f":"IF(ISBLANK('Data Input'!A30),\"\",SUM('Data Input'!T30,'Data Input'!U30))","v":""},{"$f":"IF(K25=\"\",\"\",K25/COUNTIF('Data Input'!$C$8:$AK$8,\"S\"))","v":""},{"$f":"IF(ISBLANK('Data Input'!A30),\"\",SUM('Data Input'!F30,'Data Input'!R30,'Data Input'!AJ30))","v":""},{"$f":"IF(M25=\"\",\"\",M25/COUNTIF('Data Input'!$C$8:$AK$8,\"F\"))","v":""},{"$f":"IF(ISBLANK('Data Input'!A30),\"\",SUM('Data Input'!E30,'Data Input'!M30,'Data Input'!Q30,'Data Input'!V30,'Data Input'!W30,'Data Input'!AD30,'Data Input'!AH30))","v":""},{"$f":"IF(O25=\"\",\"\",O25/COUNTIF('Data Input'!$C$8:$AK$8,\"M\"))","v":""},{"$f":"IF(ISBLANK('Data Input'!A30),\"\",SUM('Data Input'!H30,'Data Input'!K30,'Data Input'!P30,'Data Input'!Y30))","v":""},{"$f":"IF(Q25=\"\",\"\",Q25/COUNTIF('Data Input'!$C$8:$AK$8,\"G\"))","v":""}]
[{"$f":"IF('Data Input'!A31=0,\"\",'Data Input'!A31)","v":""},{"$f":"IF(ISBLANK('Data Input'!A31),\"\",COUNTIF('Data Input'!C31:AK31,\"\"))","v":""},{"$f":"IF(ISBLANK('Data Input'!A31),\"\",COUNTIF('Data Input'!C31:AK31,\"0\"))","v":""},{"$f":"IF(ISBLANK('Data Input'!A31),\"\",SUM(B26,C26))","v":""},{"$f":"IF(ISBLANK('Data Input'!A31),\"\",SUM('Data Input'!C31:AK31))","v":""},{"$f":"IF(E26=\"\",\"\",E26/(COUNTA('Data Input'!$C$8:$AK$8)))","v":""},{"$f":"IF(ISBLANK('Data Input'!A31),\"\",SUM('Data Input'!C31,'Data Input'!D31,'Data Input'!J31,'Data Input'!X31))","v":""},{"$f":"IF(G26=\"\",\"\",G26/COUNTIF('Data Input'!$C$8:$AK$8,\"N\"))","v":""},{"$f":"IF(ISBLANK('Data Input'!A31),\"\",SUM('Data Input'!G31,'Data Input'!I31,'Data Input'!L31,'Data Input'!N31,'Data Input'!O31,'Data Input'!S31,'Data Input'!Z31,'Data Input'!AA31,'Data Input'!AB31,'Data Input'!AC31,'Data Input'!AE31,'Data Input'!AF31,'Data Input'!AG31,'Data Input'!AI31,'Data Input'!AK31))","v":""},{"$f":"IF(I26=\"\",\"\",I26/COUNTIF('Data Input'!$C$8:$AK$8,\"C\"))","v":""},{"$f":"IF(ISBLANK('Data Input'!A31),\"\",SUM('Data Input'!T31,'Data Input'!U31))","v":""},{"$f":"IF(K26=\"\",\"\",K26/COUNTIF('Data Input'!$C$8:$AK$8,\"S\"))","v":""},{"$f":"IF(ISBLANK('Data Input'!A31),\"\",SUM('Data Input'!F31,'Data Input'!R31,'Data Input'!AJ31))","v":""},{"$f":"IF(M26=\"\",\"\",M26/COUNTIF('Data Input'!$C$8:$AK$8,\"F\"))","v":""},{"$f":"IF(ISBLANK('Data Input'!A31),\"\",SUM('Data Input'!E31,'Data Input'!M31,'Data Input'!Q31,'Data Input'!V31,'Data Input'!W31,'Data Input'!AD31,'Data Input'!AH31))","v":""},{"$f":"IF(O26=\"\",\"\",O26/COUNTIF('Data Input'!$C$8:$AK$8,\"M\"))","v":""},{"$f":"IF(ISBLANK('Data Input'!A31),\"\",SUM('Data Input'!H31,'Data Input'!K31,'Data Input'!P31,'Data Input'!Y31))","v":""},{"$f":"IF(Q26=\"\",\"\",Q26/COUNTIF('Data Input'!$C$8:$AK$8,\"G\"))","v":""}]
[{"$f":"IF('Data Input'!A32=0,\"\",'Data Input'!A32)","v":""},{"$f":"IF(ISBLANK('Data Input'!A32),\"\",COUNTIF('Data Input'!C32:AK32,\"\"))","v":""},{"$f":"IF(ISBLANK('Data Input'!A32),\"\",COUNTIF('Data Input'!C32:AK32,\"0\"))","v":""},{"$f":"IF(ISBLANK('Data Input'!A32),\"\",SUM(B27,C27))","v":""},{"$f":"IF(ISBLANK('Data Input'!A32),\"\",SUM('Data Input'!C32:AK32))","v":""},{"$f":"IF(E27=\"\",\"\",E27/(COUNTA('Data Input'!$C$8:$AK$8)))","v":""},{"$f":"IF(ISBLANK('Data Input'!A32),\"\",SUM('Data Input'!C32,'Data Input'!D32,'Data Input'!J32,'Data Input'!X32))","v":""},{"$f":"IF(G27=\"\",\"\",G27/COUNTIF('Data Input'!$C$8:$AK$8,\"N\"))","v":""},{"$f":"IF(ISBLANK('Data Input'!A32),\"\",SUM('Data Input'!G32,'Data Input'!I32,'Data Input'!L32,'Data Input'!N32,'Data Input'!O32,'Data Input'!S32,'Data Input'!Z32,'Data Input'!AA32,'Data Input'!AB32,'Data Input'!AC32,'Data Input'!AE32,'Data Input'!AF32,'Data Input'!AG32,'Data Input'!AI32,'Data Input'!AK32))","v":""},{"$f":"IF(I27=\"\",\"\",I27/COUNTIF('Data Input'!$C$8:$AK$8,\"C\"))","v":""},{"$f":"IF(ISBLANK('Data Input'!A32),\"\",SUM('Data Input'!T32,'Data Input'!U32))","v":""},{"$f":"IF(K27=\"\",\"\",K27/COUNTIF('Data Input'!$C$8:$AK$8,\"S\"))","v":""},{"$f":"IF(ISBLANK('Data Input'!A32),\"\",SUM('Data Input'!F32,'Data Input'!R32,'Data Input'!AJ32))","v":""},{"$f":"IF(M27=\"\",\"\",M27/COUNTIF('Data Input'!$C$8:$AK$8,\"F\"))","v":""},{"$f":"IF(ISBLANK('Data Input'!A32),\"\",SUM('Data Input'!E32,'Data Input'!M32,'Data Input'!Q32,'Data Input'!V32,'Data Input'!W32,'Data Input'!AD32,'Data Input'!AH32))","v":""},{"$f":"IF(O27=\"\",\"\",O27/COUNTIF('Data Input'!$C$8:$AK$8,\"M\"))","v":""},{"$f":"IF(ISBLANK('Data Input'!A32),\"\",SUM('Data Input'!H32,'Data Input'!K32,'Data Input'!P32,'Data Input'!Y32))","v":""},{"$f":"IF(Q27=\"\",\"\",Q27/COUNTIF('Data Input'!$C$8:$AK$8,\"G\"))","v":""}]
[{"$f":"IF('Data Input'!A33=0,\"\",'Data Input'!A33)","v":""},{"$f":"IF(ISBLANK('Data Input'!A33),\"\",COUNTIF('Data Input'!C33:AK33,\"\"))","v":""},{"$f":"IF(ISBLANK('Data Input'!A33),\"\",COUNTIF('Data Input'!C33:AK33,\"0\"))","v":""},{"$f":"IF(ISBLANK('Data Input'!A33),\"\",SUM(B28,C28))","v":""},{"$f":"IF(ISBLANK('Data Input'!A33),\"\",SUM('Data Input'!C33:AK33))","v":""},{"$f":"IF(E28=\"\",\"\",E28/(COUNTA('Data Input'!$C$8:$AK$8)))","v":""},{"$f":"IF(ISBLANK('Data Input'!A33),\"\",SUM('Data Input'!C33,'Data Input'!D33,'Data Input'!J33,'Data Input'!X33))","v":""},{"$f":"IF(G28=\"\",\"\",G28/COUNTIF('Data Input'!$C$8:$AK$8,\"N\"))","v":""},{"$f":"IF(ISBLANK('Data Input'!A33),\"\",SUM('Data Input'!G33,'Data Input'!I33,'Data Input'!L33,'Data Input'!N33,'Data Input'!O33,'Data Input'!S33,'Data Input'!Z33,'Data Input'!AA33,'Data Input'!AB33,'Data Input'!AC33,'Data Input'!AE33,'Data Input'!AF33,'Data Input'!AG33,'Data Input'!AI33,'Data Input'!AK33))","v":""},{"$f":"IF(I28=\"\",\"\",I28/COUNTIF('Data Input'!$C$8:$AK$8,\"C\"))","v":""},{"$f":"IF(ISBLANK('Data Input'!A33),\"\",SUM('Data Input'!T33,'Data Input'!U33))","v":""},{"$f":"IF(K28=\"\",\"\",K28/COUNTIF('Data Input'!$C$8:$AK$8,\"S\"))","v":""},{"$f":"IF(ISBLANK('Data Input'!A33),\"\",SUM('Data Input'!F33,'Data Input'!R33,'Data Input'!AJ33))","v":""},{"$f":"IF(M28=\"\",\"\",M28/COUNTIF('Data Input'!$C$8:$AK$8,\"F\"))","v":""},{"$f":"IF(ISBLANK('Data Input'!A33),\"\",SUM('Data Input'!E33,'Data Input'!M33,'Data Input'!Q33,'Data Input'!V33,'Data Input'!W33,'Data Input'!AD33,'Data Input'!AH33))","v":""},{"$f":"IF(O28=\"\",\"\",O28/COUNTIF('Data Input'!$C$8:$AK$8,\"M\"))","v":""},{"$f":"IF(ISBLANK('Data Input'!A33),\"\",SUM('Data Input'!H33,'Data Input'!K33,'Data Input'!P33,'Data Input'!Y33))","v":""},{"$f":"IF(Q28=\"\",\"\",Q28/COUNTIF('Data Input'!$C$8:$AK$8,\"G\"))","v":""}]
[{"$f":"IF('Data Input'!A34=0,\"\",'Data Input'!A34)","v":""},{"$f":"IF(ISBLANK('Data Input'!A34),\"\",COUNTIF('Data Input'!C34:AK34,\"\"))","v":""},{"$f":"IF(ISBLANK('Data Input'!A34),\"\",COUNTIF('Data Input'!C34:AK34,\"0\"))","v":""},{"$f":"IF(ISBLANK('Data Input'!A34),\"\",SUM(B29,C29))","v":""},{"$f":"IF(ISBLANK('Data Input'!A34),\"\",SUM('Data Input'!C34:AK34))","v":""},{"$f":"IF(E29=\"\",\"\",E29/(COUNTA('Data Input'!$C$8:$AK$8)))","v":""},{"$f":"IF(ISBLANK('Data Input'!A34),\"\",SUM('Data Input'!C34,'Data Input'!D34,'Data Input'!J34,'Data Input'!X34))","v":""},{"$f":"IF(G29=\"\",\"\",G29/COUNTIF('Data Input'!$C$8:$AK$8,\"N\"))","v":""},{"$f":"IF(ISBLANK('Data Input'!A34),\"\",SUM('Data Input'!G34,'Data Input'!I34,'Data Input'!L34,'Data Input'!N34,'Data Input'!O34,'Data Input'!S34,'Data Input'!Z34,'Data Input'!AA34,'Data Input'!AB34,'Data Input'!AC34,'Data Input'!AE34,'Data Input'!AF34,'Data Input'!AG34,'Data Input'!AI34,'Data Input'!AK34))","v":""},{"$f":"IF(I29=\"\",\"\",I29/COUNTIF('Data Input'!$C$8:$AK$8,\"C\"))","v":""},{"$f":"IF(ISBLANK('Data Input'!A34),\"\",SUM('Data Input'!T34,'Data Input'!U34))","v":""},{"$f":"IF(K29=\"\",\"\",K29/COUNTIF('Data Input'!$C$8:$AK$8,\"S\"))","v":""},{"$f":"IF(ISBLANK('Data Input'!A34),\"\",SUM('Data Input'!F34,'Data Input'!R34,'Data Input'!AJ34))","v":""},{"$f":"IF(M29=\"\",\"\",M29/COUNTIF('Data Input'!$C$8:$AK$8,\"F\"))","v":""},{"$f":"IF(ISBLANK('Data Input'!A34),\"\",SUM('Data Input'!E34,'Data Input'!M34,'Data Input'!Q34,'Data Input'!V34,'Data Input'!W34,'Data Input'!AD34,'Data Input'!AH34))","v":""},{"$f":"IF(O29=\"\",\"\",O29/COUNTIF('Data Input'!$C$8:$AK$8,\"M\"))","v":""},{"$f":"IF(ISBLANK('Data Input'!A34),\"\",SUM('Data Input'!H34,'Data Input'!K34,'Data Input'!P34,'Data Input'!Y34))","v":""},{"$f":"IF(Q29=\"\",\"\",Q29/COUNTIF('Data Input'!$C$8:$AK$8,\"G\"))","v":""}]
[{"$f":"IF('Data Input'!A35=0,\"\",'Data Input'!A35)","v":""},{"$f":"IF(ISBLANK('Data Input'!A35),\"\",COUNTIF('Data Input'!C35:AK35,\"\"))","v":""},{"$f":"IF(ISBLANK('Data Input'!A35),\"\",COUNTIF('Data Input'!C35:AK35,\"0\"))","v":""},{"$f":"IF(ISBLANK('Data Input'!A35),\"\",SUM(B30,C30))","v":""},{"$f":"IF(ISBLANK('Data Input'!A35),\"\",SUM('Data Input'!C35:AK35))","v":""},{"$f":"IF(E30=\"\",\"\",E30/(COUNTA('Data Input'!$C$8:$AK$8)))","v":""},{"$f":"IF(ISBLANK('Data Input'!A35),\"\",SUM('Data Input'!C35,'Data Input'!D35,'Data Input'!J35,'Data Input'!X35))","v":""},{"$f":"IF(G30=\"\",\"\",G30/COUNTIF('Data Input'!$C$8:$AK$8,\"N\"))","v":""},{"$f":"IF(ISBLANK('Data Input'!A35),\"\",SUM('Data Input'!G35,'Data Input'!I35,'Data Input'!L35,'Data Input'!N35,'Data Input'!O35,'Data Input'!S35,'Data Input'!Z35,'Data Input'!AA35,'Data Input'!AB35,'Data Input'!AC35,'Data Input'!AE35,'Data Input'!AF35,'Data Input'!AG35,'Data Input'!AI35,'Data Input'!AK35))","v":""},{"$f":"IF(I30=\"\",\"\",I30/COUNTIF('Data Input'!$C$8:$AK$8,\"C\"))","v":""},{"$f":"IF(ISBLANK('Data Input'!A35),\"\",SUM('Data Input'!T35,'Data Input'!U35))","v":""},{"$f":"IF(K30=\"\",\"\",K30/COUNTIF('Data Input'!$C$8:$AK$8,\"S\"))","v":""},{"$f":"IF(ISBLANK('Data Input'!A35),\"\",SUM('Data Input'!F35,'Data Input'!R35,'Data Input'!AJ35))","v":""},{"$f":"IF(M30=\"\",\"\",M30/COUNTIF('Data Input'!$C$8:$AK$8,\"F\"))","v":""},{"$f":"IF(ISBLANK('Data Input'!A35),\"\",SUM('Data Input'!E35,'Data Input'!M35,'Data Input'!Q35,'Data Input'!V35,'Data Input'!W35,'Data Input'!AD35,'Data Input'!AH35))","v":""},{"$f":"IF(O30=\"\",\"\",O30/COUNTIF('Data Input'!$C$8:$AK$8,\"M\"))","v":""},{"$f":"IF(ISBLANK('Data Input'!A35),\"\",SUM('Data Input'!H35,'Data Input'!K35,'Data Input'!P35,'Data Input'!Y35))","v":""},{"$f":"IF(Q30=\"\",\"\",Q30/COUNTIF('Data Input'!$C$8:$AK$8,\"G\"))","v":""}]
[{"$f":"IF('Data Input'!A36=0,\"\",'Data Input'!A36)","v":""},{"$f":"IF(ISBLANK('Data Input'!A36),\"\",COUNTIF('Data Input'!C36:AK36,\"\"))","v":""},{"$f":"IF(ISBLANK('Data Input'!A36),\"\",COUNTIF('Data Input'!C36:AK36,\"0\"))","v":""},{"$f":"IF(ISBLANK('Data Input'!A36),\"\",SUM(B31,C31))","v":""},{"$f":"IF(ISBLANK('Data Input'!A36),\"\",SUM('Data Input'!C36:AK36))","v":""},{"$f":"IF(E31=\"\",\"\",E31/(COUNTA('Data Input'!$C$8:$AK$8)))","v":""},{"$f":"IF(ISBLANK('Data Input'!A36),\"\",SUM('Data Input'!C36,'Data Input'!D36,'Data Input'!J36,'Data Input'!X36))","v":""},{"$f":"IF(G31=\"\",\"\",G31/COUNTIF('Data Input'!$C$8:$AK$8,\"N\"))","v":""},{"$f":"IF(ISBLANK('Data Input'!A36),\"\",SUM('Data Input'!G36,'Data Input'!I36,'Data Input'!L36,'Data Input'!N36,'Data Input'!O36,'Data Input'!S36,'Data Input'!Z36,'Data Input'!AA36,'Data Input'!AB36,'Data Input'!AC36,'Data Input'!AE36,'Data Input'!AF36,'Data Input'!AG36,'Data Input'!AI36,'Data Input'!AK36))","v":""},{"$f":"IF(I31=\"\",\"\",I31/COUNTIF('Data Input'!$C$8:$AK$8,\"C\"))","v":""},{"$f":"IF(ISBLANK('Data Input'!A36),\"\",SUM('Data Input'!T36,'Data Input'!U36))","v":""},{"$f":"IF(K31=\"\",\"\",K31/COUNTIF('Data Input'!$C$8:$AK$8,\"S\"))","v":""},{"$f":"IF(ISBLANK('Data Input'!A36),\"\",SUM('Data Input'!F36,'Data Input'!R36,'Data Input'!AJ36))","v":""},{"$f":"IF(M31=\"\",\"\",M31/COUNTIF('Data Input'!$C$8:$AK$8,\"F\"))","v":""},{"$f":"IF(ISBLANK('Data Input'!A36),\"\",SUM('Data Input'!E36,'Data Input'!M36,'Data Input'!Q36,'Data Input'!V36,'Data Input'!W36,'Data Input'!AD36,'Data Input'!AH36))","v":""},{"$f":"IF(O31=\"\",\"\",O31/COUNTIF('Data Input'!$C$8:$AK$8,\"M\"))","v":""},{"$f":"IF(ISBLANK('Data Input'!A36),\"\",SUM('Data Input'!H36,'Data Input'!K36,'Data Input'!P36,'Data Input'!Y36))","v":""},{"$f":"IF(Q31=\"\",\"\",Q31/COUNTIF('Data Input'!$C$8:$AK$8,\"G\"))","v":""}]
[{"$f":"IF('Data Input'!A37=0,\"\",'Data Input'!A37)","v":""},{"$f":"IF(ISBLANK('Data Input'!A37),\"\",COUNTIF('Data Input'!C37:AK37,\"\"))","v":""},{"$f":"IF(ISBLANK('Data Input'!A37),\"\",COUNTIF('Data Input'!C37:AK37,\"0\"))","v":""},{"$f":"IF(ISBLANK('Data Input'!A37),\"\",SUM(B32,C32))","v":""},{"$f":"IF(ISBLANK('Data Input'!A37),\"\",SUM('Data Input'!C37:AK37))","v":""},{"$f":"IF(E32=\"\",\"\",E32/(COUNTA('Data Input'!$C$8:$AK$8)))","v":""},{"$f":"IF(ISBLANK('Data Input'!A37),\"\",SUM('Data Input'!C37,'Data Input'!D37,'Data Input'!J37,'Data Input'!X37))","v":""},{"$f":"IF(G32=\"\",\"\",G32/COUNTIF('Data Input'!$C$8:$AK$8,\"N\"))","v":""},{"$f":"IF(ISBLANK('Data Input'!A37),\"\",SUM('Data Input'!G37,'Data Input'!I37,'Data Input'!L37,'Data Input'!N37,'Data Input'!O37,'Data Input'!S37,'Data Input'!Z37,'Data Input'!AA37,'Data Input'!AB37,'Data Input'!AC37,'Data Input'!AE37,'Data Input'!AF37,'Data Input'!AG37,'Data Input'!AI37,'Data Input'!AK37))","v":""},{"$f":"IF(I32=\"\",\"\",I32/COUNTIF('Data Input'!$C$8:$AK$8,\"C\"))","v":""},{"$f":"IF(ISBLANK('Data Input'!A37),\"\",SUM('Data Input'!T37,'Data Input'!U37))","v":""},{"$f":"IF(K32=\"\",\"\",K32/COUNTIF('Data Input'!$C$8:$AK$8,\"S\"))","v":""},{"$f":"IF(ISBLANK('Data Input'!A37),\"\",SUM('Data Input'!F37,'Data Input'!R37,'Data Input'!AJ37))","v":""},{"$f":"IF(M32=\"\",\"\",M32/COUNTIF('Data Input'!$C$8:$AK$8,\"F\"))","v":""},{"$f":"IF(ISBLANK('Data Input'!A37),\"\",SUM('Data Input'!E37,'Data Input'!M37,'Data Input'!Q37,'Data Input'!V37,'Data Input'!W37,'Data Input'!AD37,'Data Input'!AH37))","v":""},{"$f":"IF(O32=\"\",\"\",O32/COUNTIF('Data Input'!$C$8:$AK$8,\"M\"))","v":""},{"$f":"IF(ISBLANK('Data Input'!A37),\"\",SUM('Data Input'!H37,'Data Input'!K37,'Data Input'!P37,'Data Input'!Y37))","v":""},{"$f":"IF(Q32=\"\",\"\",Q32/COUNTIF('Data Input'!$C$8:$AK$8,\"G\"))","v":""}]
[{"$f":"IF('Data Input'!A38=0,\"\",'Data Input'!A38)","v":""},{"$f":"IF(ISBLANK('Data Input'!A38),\"\",COUNTIF('Data Input'!C38:AK38,\"\"))","v":""},{"$f":"IF(ISBLANK('Data Input'!A38),\"\",COUNTIF('Data Input'!C38:AK38,\"0\"))","v":""},{"$f":"IF(ISBLANK('Data Input'!A38),\"\",SUM(B33,C33))","v":""},{"$f":"IF(ISBLANK('Data Input'!A38),\"\",SUM('Data Input'!C38:AK38))","v":""},{"$f":"IF(E33=\"\",\"\",E33/(COUNTA('Data Input'!$C$8:$AK$8)))","v":""},{"$f":"IF(ISBLANK('Data Input'!A38),\"\",SUM('Data Input'!C38,'Data Input'!D38,'Data Input'!J38,'Data Input'!X38))","v":""},{"$f":"IF(G33=\"\",\"\",G33/COUNTIF('Data Input'!$C$8:$AK$8,\"N\"))","v":""},{"$f":"IF(ISBLANK('Data Input'!A38),\"\",SUM('Data Input'!G38,'Data Input'!I38,'Data Input'!L38,'Data Input'!N38,'Data Input'!O38,'Data Input'!S38,'Data Input'!Z38,'Data Input'!AA38,'Data Input'!AB38,'Data Input'!AC38,'Data Input'!AE38,'Data Input'!AF38,'Data Input'!AG38,'Data Input'!AI38,'Data Input'!AK38))","v":""},{"$f":"IF(I33=\"\",\"\",I33/COUNTIF('Data Input'!$C$8:$AK$8,\"C\"))","v":""},{"$f":"IF(ISBLANK('Data Input'!A38),\"\",SUM('Data Input'!T38,'Data Input'!U38))","v":""},{"$f":"IF(K33=\"\",\"\",K33/COUNTIF('Data Input'!$C$8:$AK$8,\"S\"))","v":""},{"$f":"IF(ISBLANK('Data Input'!A38),\"\",SUM('Data Input'!F38,'Data Input'!R38,'Data Input'!AJ38))","v":""},{"$f":"IF(M33=\"\",\"\",M33/COUNTIF('Data Input'!$C$8:$AK$8,\"F\"))","v":""},{"$f":"IF(ISBLANK('Data Input'!A38),\"\",SUM('Data Input'!E38,'Data Input'!M38,'Data Input'!Q38,'Data Input'!V38,'Data Input'!W38,'Data Input'!AD38,'Data Input'!AH38))","v":""},{"$f":"IF(O33=\"\",\"\",O33/COUNTIF('Data Input'!$C$8:$AK$8,\"M\"))","v":""},{"$f":"IF(ISBLANK('Data Input'!A38),\"\",SUM('Data Input'!H38,'Data Input'!K38,'Data Input'!P38,'Data Input'!Y38))","v":""},{"$f":"IF(Q33=\"\",\"\",Q33/COUNTIF('Data Input'!$C$8:$AK$8,\"G\"))","v":""}]
[{"$f":"IF('Data Input'!A39=0,\"\",'Data Input'!A39)","v":""},{"$f":"IF(ISBLANK('Data Input'!A39),\"\",COUNTIF('Data Input'!C39:AK39,\"\"))","v":""},{"$f":"IF(ISBLANK('Data Input'!A39),\"\",COUNTIF('Data Input'!C39:AK39,\"0\"))","v":""},{"$f":"IF(ISBLANK('Data Input'!A39),\"\",SUM(B34,C34))","v":""},{"$f":"IF(ISBLANK('Data Input'!A39),\"\",SUM('Data Input'!C39:AK39))","v":""},{"$f":"IF(E34=\"\",\"\",E34/(COUNTA('Data Input'!$C$8:$AK$8)))","v":""},{"$f":"IF(ISBLANK('Data Input'!A39),\"\",SUM('Data Input'!C39,'Data Input'!D39,'Data Input'!J39,'Data Input'!X39))","v":""},{"$f":"IF(G34=\"\",\"\",G34/COUNTIF('Data Input'!$C$8:$AK$8,\"N\"))","v":""},{"$f":"IF(ISBLANK('Data Input'!A39),\"\",SUM('Data Input'!G39,'Data Input'!I39,'Data Input'!L39,'Data Input'!N39,'Data Input'!O39,'Data Input'!S39,'Data Input'!Z39,'Data Input'!AA39,'Data Input'!AB39,'Data Input'!AC39,'Data Input'!AE39,'Data Input'!AF39,'Data Input'!AG39,'Data Input'!AI39,'Data Input'!AK39))","v":""},{"$f":"IF(I34=\"\",\"\",I34/COUNTIF('Data Input'!$C$8:$AK$8,\"C\"))","v":""},{"$f":"IF(ISBLANK('Data Input'!A39),\"\",SUM('Data Input'!T39,'Data Input'!U39))","v":""},{"$f":"IF(K34=\"\",\"\",K34/COUNTIF('Data Input'!$C$8:$AK$8,\"S\"))","v":""},{"$f":"IF(ISBLANK('Data Input'!A39),\"\",SUM('Data Input'!F39,'Data Input'!R39,'Data Input'!AJ39))","v":""},{"$f":"IF(M34=\"\",\"\",M34/COUNTIF('Data Input'!$C$8:$AK$8,\"F\"))","v":""},{"$f":"IF(ISBLANK('Data Input'!A39),\"\",SUM('Data Input'!E39,'Data Input'!M39,'Data Input'!Q39,'Data Input'!V39,'Data Input'!W39,'Data Input'!AD39,'Data Input'!AH39))","v":""},{"$f":"IF(O34=\"\",\"\",O34/COUNTIF('Data Input'!$C$8:$AK$8,\"M\"))","v":""},{"$f":"IF(ISBLANK('Data Input'!A39),\"\",SUM('Data Input'!H39,'Data Input'!K39,'Data Input'!P39,'Data Input'!Y39))","v":""},{"$f":"IF(Q34=\"\",\"\",Q34/COUNTIF('Data Input'!$C$8:$AK$8,\"G\"))","v":""}]
[{"$f":"IF('Data Input'!A40=0,\"\",'Data Input'!A40)","v":""},{"$f":"IF(ISBLANK('Data Input'!A40),\"\",COUNTIF('Data Input'!C40:AK40,\"\"))","v":""},{"$f":"IF(ISBLANK('Data Input'!A40),\"\",COUNTIF('Data Input'!C40:AK40,\"0\"))","v":""},{"$f":"IF(ISBLANK('Data Input'!A40),\"\",SUM(B35,C35))","v":""},{"$f":"IF(ISBLANK('Data Input'!A40),\"\",SUM('Data Input'!C40:AK40))","v":""},{"$f":"IF(E35=\"\",\"\",E35/(COUNTA('Data Input'!$C$8:$AK$8)))","v":""},{"$f":"IF(ISBLANK('Data Input'!A40),\"\",SUM('Data Input'!C40,'Data Input'!D40,'Data Input'!J40,'Data Input'!X40))","v":""},{"$f":"IF(G35=\"\",\"\",G35/COUNTIF('Data Input'!$C$8:$AK$8,\"N\"))","v":""},{"$f":"IF(ISBLANK('Data Input'!A40),\"\",SUM('Data Input'!G40,'Data Input'!I40,'Data Input'!L40,'Data Input'!N40,'Data Input'!O40,'Data Input'!S40,'Data Input'!Z40,'Data Input'!AA40,'Data Input'!AB40,'Data Input'!AC40,'Data Input'!AE40,'Data Input'!AF40,'Data Input'!AG40,'Data Input'!AI40,'Data Input'!AK40))","v":""},{"$f":"IF(I35=\"\",\"\",I35/COUNTIF('Data Input'!$C$8:$AK$8,\"C\"))","v":""},{"$f":"IF(ISBLANK('Data Input'!A40),\"\",SUM('Data Input'!T40,'Data Input'!U40))","v":""},{"$f":"IF(K35=\"\",\"\",K35/COUNTIF('Data Input'!$C$8:$AK$8,\"S\"))","v":""},{"$f":"IF(ISBLANK('Data Input'!A40),\"\",SUM('Data Input'!F40,'Data Input'!R40,'Data Input'!AJ40))","v":""},{"$f":"IF(M35=\"\",\"\",M35/COUNTIF('Data Input'!$C$8:$AK$8,\"F\"))","v":""},{"$f":"IF(ISBLANK('Data Input'!A40),\"\",SUM('Data Input'!E40,'Data Input'!M40,'Data Input'!Q40,'Data Input'!V40,'Data Input'!W40,'Data Input'!AD40,'Data Input'!AH40))","v":""},{"$f":"IF(O35=\"\",\"\",O35/COUNTIF('Data Input'!$C$8:$AK$8,\"M\"))","v":""},{"$f":"IF(ISBLANK('Data Input'!A40),\"\",SUM('Data Input'!H40,'Data Input'!K40,'Data Input'!P40,'Data Input'!Y40))","v":""},{"$f":"IF(Q35=\"\",\"\",Q35/COUNTIF('Data Input'!$C$8:$AK$8,\"G\"))","v":""}]
[{"$f":"IF('Data Input'!A41=0,\"\",'Data Input'!A41)","v":""},{"$f":"IF(ISBLANK('Data Input'!A41),\"\",COUNTIF('Data Input'!C41:AK41,\"\"))","v":""},{"$f":"IF(ISBLANK('Data Input'!A41),\"\",COUNTIF('Data Input'!C41:AK41,\"0\"))","v":""},{"$f":"IF(ISBLANK('Data Input'!A41),\"\",SUM(B36,C36))","v":""},{"$f":"IF(ISBLANK('Data Input'!A41),\"\",SUM('Data Input'!C41:AK41))","v":""},{"$f":"IF(E36=\"\",\"\",E36/(COUNTA('Data Input'!$C$8:$AK$8)))","v":""},{"$f":"IF(ISBLANK('Data Input'!A41),\"\",SUM('Data Input'!C41,'Data Input'!D41,'Data Input'!J41,'Data Input'!X41))","v":""},{"$f":"IF(G36=\"\",\"\",G36/COUNTIF('Data Input'!$C$8:$AK$8,\"N\"))","v":""},{"$f":"IF(ISBLANK('Data Input'!A41),\"\",SUM('Data Input'!G41,'Data Input'!I41,'Data Input'!L41,'Data Input'!N41,'Data Input'!O41,'Data Input'!S41,'Data Input'!Z41,'Data Input'!AA41,'Data Input'!AB41,'Data Input'!AC41,'Data Input'!AE41,'Data Input'!AF41,'Data Input'!AG41,'Data Input'!AI41,'Data Input'!AK41))","v":""},{"$f":"IF(I36=\"\",\"\",I36/COUNTIF('Data Input'!$C$8:$AK$8,\"C\"))","v":""},{"$f":"IF(ISBLANK('Data Input'!A41),\"\",SUM('Data Input'!T41,'Data Input'!U41))","v":""},{"$f":"IF(K36=\"\",\"\",K36/COUNTIF('Data Input'!$C$8:$AK$8,\"S\"))","v":""},{"$f":"IF(ISBLANK('Data Input'!A41),\"\",SUM('Data Input'!F41,'Data Input'!R41,'Data Input'!AJ41))","v":""},{"$f":"IF(M36=\"\",\"\",M36/COUNTIF('Data Input'!$C$8:$AK$8,\"F\"))","v":""},{"$f":"IF(ISBLANK('Data Input'!A41),\"\",SUM('Data Input'!E41,'Data Input'!M41,'Data Input'!Q41,'Data Input'!V41,'Data Input'!W41,'Data Input'!AD41,'Data Input'!AH41))","v":""},{"$f":"IF(O36=\"\",\"\",O36/COUNTIF('Data Input'!$C$8:$AK$8,\"M\"))","v":""},{"$f":"IF(ISBLANK('Data Input'!A41),\"\",SUM('Data Input'!H41,'Data Input'!K41,'Data Input'!P41,'Data Input'!Y41))","v":""},{"$f":"IF(Q36=\"\",\"\",Q36/COUNTIF('Data Input'!$C$8:$AK$8,\"G\"))","v":""}]
[{"$f":"IF('Data Input'!A42=0,\"\",'Data Input'!A42)","v":""},{"$f":"IF(ISBLANK('Data Input'!A42),\"\",COUNTIF('Data Input'!C42:AK42,\"\"))","v":""},{"$f":"IF(ISBLANK('Data Input'!A42),\"\",COUNTIF('Data Input'!C42:AK42,\"0\"))","v":""},{"$f":"IF(ISBLANK('Data Input'!A42),\"\",SUM(B37,C37))","v":""},{"$f":"IF(ISBLANK('Data Input'!A42),\"\",SUM('Data Input'!C42:AK42))","v":""},{"$f":"IF(E37=\"\",\"\",E37/(COUNTA('Data Input'!$C$8:$AK$8)))","v":""},{"$f":"IF(ISBLANK('Data Input'!A42),\"\",SUM('Data Input'!C42,'Data Input'!D42,'Data Input'!J42,'Data Input'!X42))","v":""},{"$f":"IF(G37=\"\",\"\",G37/COUNTIF('Data Input'!$C$8:$AK$8,\"N\"))","v":""},{"$f":"IF(ISBLANK('Data Input'!A42),\"\",SUM('Data Input'!G42,'Data Input'!I42,'Data Input'!L42,'Data Input'!N42,'Data Input'!O42,'Data Input'!S42,'Data Input'!Z42,'Data Input'!AA42,'Data Input'!AB42,'Data Input'!AC42,'Data Input'!AE42,'Data Input'!AF42,'Data Input'!AG42,'Data Input'!AI42,'Data Input'!AK42))","v":""},{"$f":"IF(I37=\"\",\"\",I37/COUNTIF('Data Input'!$C$8:$AK$8,\"C\"))","v":""},{"$f":"IF(ISBLANK('Data Input'!A42),\"\",SUM('Data Input'!T42,'Data Input'!U42))","v":""},{"$f":"IF(K37=\"\",\"\",K37/COUNTIF('Data Input'!$C$8:$AK$8,\"S\"))","v":""},{"$f":"IF(ISBLANK('Data Input'!A42),\"\",SUM('Data Input'!F42,'Data Input'!R42,'Data Input'!AJ42))","v":""},{"$f":"IF(M37=\"\",\"\",M37/COUNTIF('Data Input'!$C$8:$AK$8,\"F\"))","v":""},{"$f":"IF(ISBLANK('Data Input'!A42),\"\",SUM('Data Input'!E42,'Data Input'!M42,'Data Input'!Q42,'Data Input'!V42,'Data Input'!W42,'Data Input'!AD42,'Data Input'!AH42))","v":""},{"$f":"IF(O37=\"\",\"\",O37/COUNTIF('Data Input'!$C$8:$AK$8,\"M\"))","v":""},{"$f":"IF(ISBLANK('Data Input'!A42),\"\",SUM('Data Input'!H42,'Data Input'!K42,'Data Input'!P42,'Data Input'!Y42))","v":""},{"$f":"IF(Q37=\"\",\"\",Q37/COUNTIF('Data Input'!$C$8:$AK$8,\"G\"))","v":""}]
[{"$f":"IF('Data Input'!A43=0,\"\",'Data Input'!A43)","v":""},{"$f":"IF(ISBLANK('Data Input'!A43),\"\",COUNTIF('Data Input'!C43:AK43,\"\"))","v":""},{"$f":"IF(ISBLANK('Data Input'!A43),\"\",COUNTIF('Data Input'!C43:AK43,\"0\"))","v":""},{"$f":"IF(ISBLANK('Data Input'!A43),\"\",SUM(B38,C38))","v":""},{"$f":"IF(ISBLANK('Data Input'!A43),\"\",SUM('Data Input'!C43:AK43))","v":""},{"$f":"IF(E38=\"\",\"\",E38/(COUNTA('Data Input'!$C$8:$AK$8)))","v":""},{"$f":"IF(ISBLANK('Data Input'!A43),\"\",SUM('Data Input'!C43,'Data Input'!D43,'Data Input'!J43,'Data Input'!X43))","v":""},{"$f":"IF(G38=\"\",\"\",G38/COUNTIF('Data Input'!$C$8:$AK$8,\"N\"))","v":""},{"$f":"IF(ISBLANK('Data Input'!A43),\"\",SUM('Data Input'!G43,'Data Input'!I43,'Data Input'!L43,'Data Input'!N43,'Data Input'!O43,'Data Input'!S43,'Data Input'!Z43,'Data Input'!AA43,'Data Input'!AB43,'Data Input'!AC43,'Data Input'!AE43,'Data Input'!AF43,'Data Input'!AG43,'Data Input'!AI43,'Data Input'!AK43))","v":""},{"$f":"IF(I38=\"\",\"\",I38/COUNTIF('Data Input'!$C$8:$AK$8,\"C\"))","v":""},{"$f":"IF(ISBLANK('Data Input'!A43),\"\",SUM('Data Input'!T43,'Data Input'!U43))","v":""},{"$f":"IF(K38=\"\",\"\",K38/COUNTIF('Data Input'!$C$8:$AK$8,\"S\"))","v":""},{"$f":"IF(ISBLANK('Data Input'!A43),\"\",SUM('Data Input'!F43,'Data Input'!R43,'Data Input'!AJ43))","v":""},{"$f":"IF(M38=\"\",\"\",M38/COUNTIF('Data Input'!$C$8:$AK$8,\"F\"))","v":""},{"$f":"IF(ISBLANK('Data Input'!A43),\"\",SUM('Data Input'!E43,'Data Input'!M43,'Data Input'!Q43,'Data Input'!V43,'Data Input'!W43,'Data Input'!AD43,'Data Input'!AH43))","v":""},{"$f":"IF(O38=\"\",\"\",O38/COUNTIF('Data Input'!$C$8:$AK$8,\"M\"))","v":""},{"$f":"IF(ISBLANK('Data Input'!A43),\"\",SUM('Data Input'!H43,'Data Input'!K43,'Data Input'!P43,'Data Input'!Y43))","v":""},{"$f":"IF(Q38=\"\",\"\",Q38/COUNTIF('Data Input'!$C$8:$AK$8,\"G\"))","v":""}]
[{"$f":"IF('Data Input'!A44=0,\"\",'Data Input'!A44)","v":""},{"$f":"IF(ISBLANK('Data Input'!A44),\"\",COUNTIF('Data Input'!C44:AK44,\"\"))","v":""},{"$f":"IF(ISBLANK('Data Input'!A44),\"\",COUNTIF('Data Input'!C44:AK44,\"0\"))","v":""},{"$f":"IF(ISBLANK('Data Input'!A44),\"\",SUM(B39,C39))","v":""},{"$f":"IF(ISBLANK('Data Input'!A44),\"\",SUM('Data Input'!C44:AK44))","v":""},{"$f":"IF(E39=\"\",\"\",E39/(COUNTA('Data Input'!$C$8:$AK$8)))","v":""},{"$f":"IF(ISBLANK('Data Input'!A44),\"\",SUM('Data Input'!C44,'Data Input'!D44,'Data Input'!J44,'Data Input'!X44))","v":""},{"$f":"IF(G39=\"\",\"\",G39/COUNTIF('Data Input'!$C$8:$AK$8,\"N\"))","v":""},{"$f":"IF(ISBLANK('Data Input'!A44),\"\",SUM('Data Input'!G44,'Data Input'!I44,'Data Input'!L44,'Data Input'!N44,'Data Input'!O44,'Data Input'!S44,'Data Input'!Z44,'Data Input'!AA44,'Data Input'!AB44,'Data Input'!AC44,'Data Input'!AE44,'Data Input'!AF44,'Data Input'!AG44,'Data Input'!AI44,'Data Input'!AK44))","v":""},{"$f":"IF(I39=\"\",\"\",I39/COUNTIF('Data Input'!$C$8:$AK$8,\"C\"))","v":""},{"$f":"IF(ISBLANK('Data Input'!A44),\"\",SUM('Data Input'!T44,'Data Input'!U44))","v":""},{"$f":"IF(K39=\"\",\"\",K39/COUNTIF('Data Input'!$C$8:$AK$8,\"S\"))","v":""},{"$f":"IF(ISBLANK('Data Input'!A44),\"\",SUM('Data Input'!F44,'Data Input'!R44,'Data Input'!AJ44))","v":""},{"$f":"IF(M39=\"\",\"\",M39/COUNTIF('Data Input'!$C$8:$AK$8,\"F\"))","v":""},{"$f":"IF(ISBLANK('Data Input'!A44),\"\",SUM('Data Input'!E44,'Data Input'!M44,'Data Input'!Q44,'Data Input'!V44,'Data Input'!W44,'Data Input'!AD44,'Data Input'!AH44))","v":""},{"$f":"IF(O39=\"\",\"\",O39/COUNTIF('Data Input'!$C$8:$AK$8,\"M\"))","v":""},{"$f":"IF(ISBLANK('Data Input'!A44),\"\",SUM('Data Input'!H44,'Data Input'!K44,'Data Input'!P44,'Data Input'!Y44))","v":""},{"$f":"IF(Q39=\"\",\"\",Q39/COUNTIF('Data Input'!$C$8:$AK$8,\"G\"))","v":""}]
[{"$f":"IF('Data Input'!A45=0,\"\",'Data Input'!A45)","v":""},{"$f":"IF(ISBLANK('Data Input'!A45),\"\",COUNTIF('Data Input'!C45:AK45,\"\"))","v":""},{"$f":"IF(ISBLANK('Data Input'!A45),\"\",COUNTIF('Data Input'!C45:AK45,\"0\"))","v":""},{"$f":"IF(ISBLANK('Data Input'!A45),\"\",SUM(B40,C40))","v":""},{"$f":"IF(ISBLANK('Data Input'!A45),\"\",SUM('Data Input'!C45:AK45))","v":""},{"$f":"IF(E40=\"\",\"\",E40/(COUNTA('Data Input'!$C$8:$AK$8)))","v":""},{"$f":"IF(ISBLANK('Data Input'!A45),\"\",SUM('Data Input'!C45,'Data Input'!D45,'Data Input'!J45,'Data Input'!X45))","v":""},{"$f":"IF(G40=\"\",\"\",G40/COUNTIF('Data Input'!$C$8:$AK$8,\"N\"))","v":""},{"$f":"IF(ISBLANK('Data Input'!A45),\"\",SUM('Data Input'!G45,'Data Input'!I45,'Data Input'!L45,'Data Input'!N45,'Data Input'!O45,'Data Input'!S45,'Data Input'!Z45,'Data Input'!AA45,'Data Input'!AB45,'Data Input'!AC45,'Data Input'!AE45,'Data Input'!AF45,'Data Input'!AG45,'Data Input'!AI45,'Data Input'!AK45))","v":""},{"$f":"IF(I40=\"\",\"\",I40/COUNTIF('Data Input'!$C$8:$AK$8,\"C\"))","v":""},{"$f":"IF(ISBLANK('Data Input'!A45),\"\",SUM('Data Input'!T45,'Data Input'!U45))","v":""},{"$f":"IF(K40=\"\",\"\",K40/COUNTIF('Data Input'!$C$8:$AK$8,\"S\"))","v":""},{"$f":"IF(ISBLANK('Data Input'!A45),\"\",SUM('Data Input'!F45,'Data Input'!R45,'Data Input'!AJ45))","v":""},{"$f":"IF(M40=\"\",\"\",M40/COUNTIF('Data Input'!$C$8:$AK$8,\"F\"))","v":""},{"$f":"IF(ISBLANK('Data Input'!A45),\"\",SUM('Data Input'!E45,'Data Input'!M45,'Data Input'!Q45,'Data Input'!V45,'Data Input'!W45,'Data Input'!AD45,'Data Input'!AH45))","v":""},{"$f":"IF(O40=\"\",\"\",O40/COUNTIF('Data Input'!$C$8:$AK$8,\"M\"))","v":""},{"$f":"IF(ISBLANK('Data Input'!A45),\"\",SUM('Data Input'!H45,'Data Input'!K45,'Data Input'!P45,'Data Input'!Y45))","v":""},{"$f":"IF(Q40=\"\",\"\",Q40/COUNTIF('Data Input'!$C$8:$AK$8,\"G\"))","v":""}]
[{"$f":"IF('Data Input'!A46=0,\"\",'Data Input'!A46)","v":""},{"$f":"IF(ISBLANK('Data Input'!A46),\"\",COUNTIF('Data Input'!C46:AK46,\"\"))","v":""},{"$f":"IF(ISBLANK('Data Input'!A46),\"\",COUNTIF('Data Input'!C46:AK46,\"0\"))","v":""},{"$f":"IF(ISBLANK('Data Input'!A46),\"\",SUM(B41,C41))","v":""},{"$f":"IF(ISBLANK('Data Input'!A46),\"\",SUM('Data Input'!C46:AK46))","v":""},{"$f":"IF(E41=\"\",\"\",E41/(COUNTA('Data Input'!$C$8:$AK$8)))","v":""},{"$f":"IF(ISBLANK('Data Input'!A46),\"\",SUM('Data Input'!C46,'Data Input'!D46,'Data Input'!J46,'Data Input'!X46))","v":""},{"$f":"IF(G41=\"\",\"\",G41/COUNTIF('Data Input'!$C$8:$AK$8,\"N\"))","v":""},{"$f":"IF(ISBLANK('Data Input'!A46),\"\",SUM('Data Input'!G46,'Data Input'!I46,'Data Input'!L46,'Data Input'!N46,'Data Input'!O46,'Data Input'!S46,'Data Input'!Z46,'Data Input'!AA46,'Data Input'!AB46,'Data Input'!AC46,'Data Input'!AE46,'Data Input'!AF46,'Data Input'!AG46,'Data Input'!AI46,'Data Input'!AK46))","v":""},{"$f":"IF(I41=\"\",\"\",I41/COUNTIF('Data Input'!$C$8:$AK$8,\"C\"))","v":""},{"$f":"IF(ISBLANK('Data Input'!A46),\"\",SUM('Data Input'!T46,'Data Input'!U46))","v":""},{"$f":"IF(K41=\"\",\"\",K41/COUNTIF('Data Input'!$C$8:$AK$8,\"S\"))","v":""},{"$f":"IF(ISBLANK('Data Input'!A46),\"\",SUM('Data Input'!F46,'Data Input'!R46,'Data Input'!AJ46))","v":""},{"$f":"IF(M41=\"\",\"\",M41/COUNTIF('Data Input'!$C$8:$AK$8,\"F\"))","v":""},{"$f":"IF(ISBLANK('Data Input'!A46),\"\",SUM('Data Input'!E46,'Data Input'!M46,'Data Input'!Q46,'Data Input'!V46,'Data Input'!W46,'Data Input'!AD46,'Data Input'!AH46))","v":""},{"$f":"IF(O41=\"\",\"\",O41/COUNTIF('Data Input'!$C$8:$AK$8,\"M\"))","v":""},{"$f":"IF(ISBLANK('Data Input'!A46),\"\",SUM('Data Input'!H46,'Data Input'!K46,'Data Input'!P46,'Data Input'!Y46))","v":""},{"$f":"IF(Q41=\"\",\"\",Q41/COUNTIF('Data Input'!$C$8:$AK$8,\"G\"))","v":""}]
[{"$f":"IF('Data Input'!A47=0,\"\",'Data Input'!A47)","v":""},{"$f":"IF(ISBLANK('Data Input'!A47),\"\",COUNTIF('Data Input'!C47:AK47,\"\"))","v":""},{"$f":"IF(ISBLANK('Data Input'!A47),\"\",COUNTIF('Data Input'!C47:AK47,\"0\"))","v":""},{"$f":"IF(ISBLANK('Data Input'!A47),\"\",SUM(B42,C42))","v":""},{"$f":"IF(ISBLANK('Data Input'!A47),\"\",SUM('Data Input'!C47:AK47))","v":""},{"$f":"IF(E42=\"\",\"\",E42/(COUNTA('Data Input'!$C$8:$AK$8)))","v":""},{"$f":"IF(ISBLANK('Data Input'!A47),\"\",SUM('Data Input'!C47,'Data Input'!D47,'Data Input'!J47,'Data Input'!X47))","v":""},{"$f":"IF(G42=\"\",\"\",G42/COUNTIF('Data Input'!$C$8:$AK$8,\"N\"))","v":""},{"$f":"IF(ISBLANK('Data Input'!A47),\"\",SUM('Data Input'!G47,'Data Input'!I47,'Data Input'!L47,'Data Input'!N47,'Data Input'!O47,'Data Input'!S47,'Data Input'!Z47,'Data Input'!AA47,'Data Input'!AB47,'Data Input'!AC47,'Data Input'!AE47,'Data Input'!AF47,'Data Input'!AG47,'Data Input'!AI47,'Data Input'!AK47))","v":""},{"$f":"IF(I42=\"\",\"\",I42/COUNTIF('Data Input'!$C$8:$AK$8,\"C\"))","v":""},{"$f":"IF(ISBLANK('Data Input'!A47),\"\",SUM('Data Input'!T47,'Data Input'!U47))","v":""},{"$f":"IF(K42=\"\",\"\",K42/COUNTIF('Data Input'!$C$8:$AK$8,\"S\"))","v":""},{"$f":"IF(ISBLANK('Data Input'!A47),\"\",SUM('Data Input'!F47,'Data Input'!R47,'Data Input'!AJ47))","v":""},{"$f":"IF(M42=\"\",\"\",M42/COUNTIF('Data Input'!$C$8:$AK$8,\"F\"))","v":""},{"$f":"IF(ISBLANK('Data Input'!A47),\"\",SUM('Data Input'!E47,'Data Input'!M47,'Data Input'!Q47,'Data Input'!V47,'Data Input'!W47,'Data Input'!AD47,'Data Input'!AH47))","v":""},{"$f":"IF(O42=\"\",\"\",O42/COUNTIF('Data Input'!$C$8:$AK$8,\"M\"))","v":""},{"$f":"IF(ISBLANK('Data Input'!A47),\"\",SUM('Data Input'!H47,'Data Input'!K47,'Data Input'!P47,'Data Input'!Y47))","v":""},{"$f":"IF(Q42=\"\",\"\",Q42/COUNTIF('Data Input'!$C$8:$AK$8,\"G\"))","v":""}]
[{"$f":"IF('Data Input'!A48=0,\"\",'Data Input'!A48)","v":""},{"$f":"IF(ISBLANK('Data Input'!A48),\"\",COUNTIF('Data Input'!C48:AK48,\"\"))","v":""},{"$f":"IF(ISBLANK('Data Input'!A48),\"\",COUNTIF('Data Input'!C48:AK48,\"0\"))","v":""},{"$f":"IF(ISBLANK('Data Input'!A48),\"\",SUM(B43,C43))","v":""},{"$f":"IF(ISBLANK('Data Input'!A48),\"\",SUM('Data Input'!C48:AK48))","v":""},{"$f":"IF(E43=\"\",\"\",E43/(COUNTA('Data Input'!$C$8:$AK$8)))","v":""},{"$f":"IF(ISBLANK('Data Input'!A48),\"\",SUM('Data Input'!C48,'Data Input'!D48,'Data Input'!J48,'Data Input'!X48))","v":""},{"$f":"IF(G43=\"\",\"\",G43/COUNTIF('Data Input'!$C$8:$AK$8,\"N\"))","v":""},{"$f":"IF(ISBLANK('Data Input'!A48),\"\",SUM('Data Input'!G48,'Data Input'!I48,'Data Input'!L48,'Data Input'!N48,'Data Input'!O48,'Data Input'!S48,'Data Input'!Z48,'Data Input'!AA48,'Data Input'!AB48,'Data Input'!AC48,'Data Input'!AE48,'Data Input'!AF48,'Data Input'!AG48,'Data Input'!AI48,'Data Input'!AK48))","v":""},{"$f":"IF(I43=\"\",\"\",I43/COUNTIF('Data Input'!$C$8:$AK$8,\"C\"))","v":""},{"$f":"IF(ISBLANK('Data Input'!A48),\"\",SUM('Data Input'!T48,'Data Input'!U48))","v":""},{"$f":"IF(K43=\"\",\"\",K43/COUNTIF('Data Input'!$C$8:$AK$8,\"S\"))","v":""},{"$f":"IF(ISBLANK('Data Input'!A48),\"\",SUM('Data Input'!F48,'Data Input'!R48,'Data Input'!AJ48))","v":""},{"$f":"IF(M43=\"\",\"\",M43/COUNTIF('Data Input'!$C$8:$AK$8,\"F\"))","v":""},{"$f":"IF(ISBLANK('Data Input'!A48),\"\",SUM('Data Input'!E48,'Data Input'!M48,'Data Input'!Q48,'Data Input'!V48,'Data Input'!W48,'Data Input'!AD48,'Data Input'!AH48))","v":""},{"$f":"IF(O43=\"\",\"\",O43/COUNTIF('Data Input'!$C$8:$AK$8,\"M\"))","v":""},{"$f":"IF(ISBLANK('Data Input'!A48),\"\",SUM('Data Input'!H48,'Data Input'!K48,'Data Input'!P48,'Data Input'!Y48))","v":""},{"$f":"IF(Q43=\"\",\"\",Q43/COUNTIF('Data Input'!$C$8:$AK$8,\"G\"))","v":""}]
[{"$f":"IF('Data Input'!A49=0,\"\",'Data Input'!A49)","v":""},{"$f":"IF(ISBLANK('Data Input'!A49),\"\",COUNTIF('Data Input'!C49:AK49,\"\"))","v":""},{"$f":"IF(ISBLANK('Data Input'!A49),\"\",COUNTIF('Data Input'!C49:AK49,\"0\"))","v":""},{"$f":"IF(ISBLANK('Data Input'!A49),\"\",SUM(B44,C44))","v":""},{"$f":"IF(ISBLANK('Data Input'!A49),\"\",SUM('Data Input'!C49:AK49))","v":""},{"$f":"IF(E44=\"\",\"\",E44/(COUNTA('Data Input'!$C$8:$AK$8)))","v":""},{"$f":"IF(ISBLANK('Data Input'!A49),\"\",SUM('Data Input'!C49,'Data Input'!D49,'Data Input'!J49,'Data Input'!X49))","v":""},{"$f":"IF(G44=\"\",\"\",G44/COUNTIF('Data Input'!$C$8:$AK$8,\"N\"))","v":""},{"$f":"IF(ISBLANK('Data Input'!A49),\"\",SUM('Data Input'!G49,'Data Input'!I49,'Data Input'!L49,'Data Input'!N49,'Data Input'!O49,'Data Input'!S49,'Data Input'!Z49,'Data Input'!AA49,'Data Input'!AB49,'Data Input'!AC49,'Data Input'!AE49,'Data Input'!AF49,'Data Input'!AG49,'Data Input'!AI49,'Data Input'!AK49))","v":""},{"$f":"IF(I44=\"\",\"\",I44/COUNTIF('Data Input'!$C$8:$AK$8,\"C\"))","v":""},{"$f":"IF(ISBLANK('Data Input'!A49),\"\",SUM('Data Input'!T49,'Data Input'!U49))","v":""},{"$f":"IF(K44=\"\",\"\",K44/COUNTIF('Data Input'!$C$8:$AK$8,\"S\"))","v":""},{"$f":"IF(ISBLANK('Data Input'!A49),\"\",SUM('Data Input'!F49,'Data Input'!R49,'Data Input'!AJ49))","v":""},{"$f":"IF(M44=\"\",\"\",M44/COUNTIF('Data Input'!$C$8:$AK$8,\"F\"))","v":""},{"$f":"IF(ISBLANK('Data Input'!A49),\"\",SUM('Data Input'!E49,'Data Input'!M49,'Data Input'!Q49,'Data Input'!V49,'Data Input'!W49,'Data Input'!AD49,'Data Input'!AH49))","v":""},{"$f":"IF(O44=\"\",\"\",O44/COUNTIF('Data Input'!$C$8:$AK$8,\"M\"))","v":""},{"$f":"IF(ISBLANK('Data Input'!A49),\"\",SUM('Data Input'!H49,'Data Input'!K49,'Data Input'!P49,'Data Input'!Y49))","v":""},{"$f":"IF(Q44=\"\",\"\",Q44/COUNTIF('Data Input'!$C$8:$AK$8,\"G\"))","v":""}]
[{"$f":"IF('Data Input'!A50=0,\"\",'Data Input'!A50)","v":""},{"$f":"IF(ISBLANK('Data Input'!A50),\"\",COUNTIF('Data Input'!C50:AK50,\"\"))","v":""},{"$f":"IF(ISBLANK('Data Input'!A50),\"\",COUNTIF('Data Input'!C50:AK50,\"0\"))","v":""},{"$f":"IF(ISBLANK('Data Input'!A50),\"\",SUM(B45,C45))","v":""},{"$f":"IF(ISBLANK('Data Input'!A50),\"\",SUM('Data Input'!C50:AK50))","v":""},{"$f":"IF(E45=\"\",\"\",E45/(COUNTA('Data Input'!$C$8:$AK$8)))","v":""},{"$f":"IF(ISBLANK('Data Input'!A50),\"\",SUM('Data Input'!C50,'Data Input'!D50,'Data Input'!J50,'Data Input'!X50))","v":""},{"$f":"IF(G45=\"\",\"\",G45/COUNTIF('Data Input'!$C$8:$AK$8,\"N\"))","v":""},{"$f":"IF(ISBLANK('Data Input'!A50),\"\",SUM('Data Input'!G50,'Data Input'!I50,'Data Input'!L50,'Data Input'!N50,'Data Input'!O50,'Data Input'!S50,'Data Input'!Z50,'Data Input'!AA50,'Data Input'!AB50,'Data Input'!AC50,'Data Input'!AE50,'Data Input'!AF50,'Data Input'!AG50,'Data Input'!AI50,'Data Input'!AK50))","v":""},{"$f":"IF(I45=\"\",\"\",I45/COUNTIF('Data Input'!$C$8:$AK$8,\"C\"))","v":""},{"$f":"IF(ISBLANK('Data Input'!A50),\"\",SUM('Data Input'!T50,'Data Input'!U50))","v":""},{"$f":"IF(K45=\"\",\"\",K45/COUNTIF('Data Input'!$C$8:$AK$8,\"S\"))","v":""},{"$f":"IF(ISBLANK('Data Input'!A50),\"\",SUM('Data Input'!F50,'Data Input'!R50,'Data Input'!AJ50))","v":""},{"$f":"IF(M45=\"\",\"\",M45/COUNTIF('Data Input'!$C$8:$AK$8,\"F\"))","v":""},{"$f":"IF(ISBLANK('Data Input'!A50),\"\",SUM('Data Input'!E50,'Data Input'!M50,'Data Input'!Q50,'Data Input'!V50,'Data Input'!W50,'Data Input'!AD50,'Data Input'!AH50))","v":""},{"$f":"IF(O45=\"\",\"\",O45/COUNTIF('Data Input'!$C$8:$AK$8,\"M\"))","v":""},{"$f":"IF(ISBLANK('Data Input'!A50),\"\",SUM('Data Input'!H50,'Data Input'!K50,'Data Input'!P50,'Data Input'!Y50))","v":""},{"$f":"IF(Q45=\"\",\"\",Q45/COUNTIF('Data Input'!$C$8:$AK$8,\"G\"))","v":""}]
[{"$f":"IF('Data Input'!A51=0,\"\",'Data Input'!A51)","v":""},{"$f":"IF(ISBLANK('Data Input'!A51),\"\",COUNTIF('Data Input'!C51:AK51,\"\"))","v":""},{"$f":"IF(ISBLANK('Data Input'!A51),\"\",COUNTIF('Data Input'!C51:AK51,\"0\"))","v":""},{"$f":"IF(ISBLANK('Data Input'!A51),\"\",SUM(B46,C46))","v":""},{"$f":"IF(ISBLANK('Data Input'!A51),\"\",SUM('Data Input'!C51:AK51))","v":""},{"$f":"IF(E46=\"\",\"\",E46/(COUNTA('Data Input'!$C$8:$AK$8)))","v":""},{"$f":"IF(ISBLANK('Data Input'!A51),\"\",SUM('Data Input'!C51,'Data Input'!D51,'Data Input'!J51,'Data Input'!X51))","v":""},{"$f":"IF(G46=\"\",\"\",G46/COUNTIF('Data Input'!$C$8:$AK$8,\"N\"))","v":""},{"$f":"IF(ISBLANK('Data Input'!A51),\"\",SUM('Data Input'!G51,'Data Input'!I51,'Data Input'!L51,'Data Input'!N51,'Data Input'!O51,'Data Input'!S51,'Data Input'!Z51,'Data Input'!AA51,'Data Input'!AB51,'Data Input'!AC51,'Data Input'!AE51,'Data Input'!AF51,'Data Input'!AG51,'Data Input'!AI51,'Data Input'!AK51))","v":""},{"$f":"IF(I46=\"\",\"\",I46/COUNTIF('Data Input'!$C$8:$AK$8,\"C\"))","v":""},{"$f":"IF(ISBLANK('Data Input'!A51),\"\",SUM('Data Input'!T51,'Data Input'!U51))","v":""},{"$f":"IF(K46=\"\",\"\",K46/COUNTIF('Data Input'!$C$8:$AK$8,\"S\"))","v":""},{"$f":"IF(ISBLANK('Data Input'!A51),\"\",SUM('Data Input'!F51,'Data Input'!R51,'Data Input'!AJ51))","v":""},{"$f":"IF(M46=\"\",\"\",M46/COUNTIF('Data Input'!$C$8:$AK$8,\"F\"))","v":""},{"$f":"IF(ISBLANK('Data Input'!A51),\"\",SUM('Data Input'!E51,'Data Input'!M51,'Data Input'!Q51,'Data Input'!V51,'Data Input'!W51,'Data Input'!AD51,'Data Input'!AH51))","v":""},{"$f":"IF(O46=\"\",\"\",O46/COUNTIF('Data Input'!$C$8:$AK$8,\"M\"))","v":""},{"$f":"IF(ISBLANK('Data Input'!A51),\"\",SUM('Data Input'!H51,'Data Input'!K51,'Data Input'!P51,'Data Input'!Y51))","v":""},{"$f":"IF(Q46=\"\",\"\",Q46/COUNTIF('Data Input'!$C$8:$AK$8,\"G\"))","v":""}]
[{"$f":"IF('Data Input'!A52=0,\"\",'Data Input'!A52)","v":""},{"$f":"IF(ISBLANK('Data Input'!A52),\"\",COUNTIF('Data Input'!C52:AK52,\"\"))","v":""},{"$f":"IF(ISBLANK('Data Input'!A52),\"\",COUNTIF('Data Input'!C52:AK52,\"0\"))","v":""},{"$f":"IF(ISBLANK('Data Input'!A52),\"\",SUM(B47,C47))","v":""},{"$f":"IF(ISBLANK('Data Input'!A52),\"\",SUM('Data Input'!C52:AK52))","v":""},{"$f":"IF(E47=\"\",\"\",E47/(COUNTA('Data Input'!$C$8:$AK$8)))","v":""},{"$f":"IF(ISBLANK('Data Input'!A52),\"\",SUM('Data Input'!C52,'Data Input'!D52,'Data Input'!J52,'Data Input'!X52))","v":""},{"$f":"IF(G47=\"\",\"\",G47/COUNTIF('Data Input'!$C$8:$AK$8,\"N\"))","v":""},{"$f":"IF(ISBLANK('Data Input'!A52),\"\",SUM('Data Input'!G52,'Data Input'!I52,'Data Input'!L52,'Data Input'!N52,'Data Input'!O52,'Data Input'!S52,'Data Input'!Z52,'Data Input'!AA52,'Data Input'!AB52,'Data Input'!AC52,'Data Input'!AE52,'Data Input'!AF52,'Data Input'!AG52,'Data Input'!AI52,'Data Input'!AK52))","v":""},{"$f":"IF(I47=\"\",\"\",I47/COUNTIF('Data Input'!$C$8:$AK$8,\"C\"))","v":""},{"$f":"IF(ISBLANK('Data Input'!A52),\"\",SUM('Data Input'!T52,'Data Input'!U52))","v":""},{"$f":"IF(K47=\"\",\"\",K47/COUNTIF('Data Input'!$C$8:$AK$8,\"S\"))","v":""},{"$f":"IF(ISBLANK('Data Input'!A52),\"\",SUM('Data Input'!F52,'Data Input'!R52,'Data Input'!AJ52))","v":""},{"$f":"IF(M47=\"\",\"\",M47/COUNTIF('Data Input'!$C$8:$AK$8,\"F\"))","v":""},{"$f":"IF(ISBLANK('Data Input'!A52),\"\",SUM('Data Input'!E52,'Data Input'!M52,'Data Input'!Q52,'Data Input'!V52,'Data Input'!W52,'Data Input'!AD52,'Data Input'!AH52))","v":""},{"$f":"IF(O47=\"\",\"\",O47/COUNTIF('Data Input'!$C$8:$AK$8,\"M\"))","v":""},{"$f":"IF(ISBLANK('Data Input'!A52),\"\",SUM('Data Input'!H52,'Data Input'!K52,'Data Input'!P52,'Data Input'!Y52))","v":""},{"$f":"IF(Q47=\"\",\"\",Q47/COUNTIF('Data Input'!$C$8:$AK$8,\"G\"))","v":""}]
[{"$f":"IF('Data Input'!A53=0,\"\",'Data Input'!A53)","v":""},{"$f":"IF(ISBLANK('Data Input'!A53),\"\",COUNTIF('Data Input'!C53:AK53,\"\"))","v":""},{"$f":"IF(ISBLANK('Data Input'!A53),\"\",COUNTIF('Data Input'!C53:AK53,\"0\"))","v":""},{"$f":"IF(ISBLANK('Data Input'!A53),\"\",SUM(B48,C48))","v":""},{"$f":"IF(ISBLANK('Data Input'!A53),\"\",SUM('Data Input'!C53:AK53))","v":""},{"$f":"IF(E48=\"\",\"\",E48/(COUNTA('Data Input'!$C$8:$AK$8)))","v":""},{"$f":"IF(ISBLANK('Data Input'!A53),\"\",SUM('Data Input'!C53,'Data Input'!D53,'Data Input'!J53,'Data Input'!X53))","v":""},{"$f":"IF(G48=\"\",\"\",G48/COUNTIF('Data Input'!$C$8:$AK$8,\"N\"))","v":""},{"$f":"IF(ISBLANK('Data Input'!A53),\"\",SUM('Data Input'!G53,'Data Input'!I53,'Data Input'!L53,'Data Input'!N53,'Data Input'!O53,'Data Input'!S53,'Data Input'!Z53,'Data Input'!AA53,'Data Input'!AB53,'Data Input'!AC53,'Data Input'!AE53,'Data Input'!AF53,'Data Input'!AG53,'Data Input'!AI53,'Data Input'!AK53))","v":""},{"$f":"IF(I48=\"\",\"\",I48/COUNTIF('Data Input'!$C$8:$AK$8,\"C\"))","v":""},{"$f":"IF(ISBLANK('Data Input'!A53),\"\",SUM('Data Input'!T53,'Data Input'!U53))","v":""},{"$f":"IF(K48=\"\",\"\",K48/COUNTIF('Data Input'!$C$8:$AK$8,\"S\"))","v":""},{"$f":"IF(ISBLANK('Data Input'!A53),\"\",SUM('Data Input'!F53,'Data Input'!R53,'Data Input'!AJ53))","v":""},{"$f":"IF(M48=\"\",\"\",M48/COUNTIF('Data Input'!$C$8:$AK$8,\"F\"))","v":""},{"$f":"IF(ISBLANK('Data Input'!A53),\"\",SUM('Data Input'!E53,'Data Input'!M53,'Data Input'!Q53,'Data Input'!V53,'Data Input'!W53,'Data Input'!AD53,'Data Input'!AH53))","v":""},{"$f":"IF(O48=\"\",\"\",O48/COUNTIF('Data Input'!$C$8:$AK$8,\"M\"))","v":""},{"$f":"IF(ISBLANK('Data Input'!A53),\"\",SUM('Data Input'!H53,'Data Input'!K53,'Data Input'!P53,'Data Input'!Y53))","v":""},{"$f":"IF(Q48=\"\",\"\",Q48/COUNTIF('Data Input'!$C$8:$AK$8,\"G\"))","v":""}]
[{"$f":"IF('Data Input'!A54=0,\"\",'Data Input'!A54)","v":""},{"$f":"IF(ISBLANK('Data Input'!A54),\"\",COUNTIF('Data Input'!C54:AK54,\"\"))","v":""},{"$f":"IF(ISBLANK('Data Input'!A54),\"\",COUNTIF('Data Input'!C54:AK54,\"0\"))","v":""},{"$f":"IF(ISBLANK('Data Input'!A54),\"\",SUM(B49,C49))","v":""},{"$f":"IF(ISBLANK('Data Input'!A54),\"\",SUM('Data Input'!C54:AK54))","v":""},{"$f":"IF(E49=\"\",\"\",E49/(COUNTA('Data Input'!$C$8:$AK$8)))","v":""},{"$f":"IF(ISBLANK('Data Input'!A54),\"\",SUM('Data Input'!C54,'Data Input'!D54,'Data Input'!J54,'Data Input'!X54))","v":""},{"$f":"IF(G49=\"\",\"\",G49/COUNTIF('Data Input'!$C$8:$AK$8,\"N\"))","v":""},{"$f":"IF(ISBLANK('Data Input'!A54),\"\",SUM('Data Input'!G54,'Data Input'!I54,'Data Input'!L54,'Data Input'!N54,'Data Input'!O54,'Data Input'!S54,'Data Input'!Z54,'Data Input'!AA54,'Data Input'!AB54,'Data Input'!AC54,'Data Input'!AE54,'Data Input'!AF54,'Data Input'!AG54,'Data Input'!AI54,'Data Input'!AK54))","v":""},{"$f":"IF(I49=\"\",\"\",I49/COUNTIF('Data Input'!$C$8:$AK$8,\"C\"))","v":""},{"$f":"IF(ISBLANK('Data Input'!A54),\"\",SUM('Data Input'!T54,'Data Input'!U54))","v":""},{"$f":"IF(K49=\"\",\"\",K49/COUNTIF('Data Input'!$C$8:$AK$8,\"S\"))","v":""},{"$f":"IF(ISBLANK('Data Input'!A54),\"\",SUM('Data Input'!F54,'Data Input'!R54,'Data Input'!AJ54))","v":""},{"$f":"IF(M49=\"\",\"\",M49/COUNTIF('Data Input'!$C$8:$AK$8,\"F\"))","v":""},{"$f":"IF(ISBLANK('Data Input'!A54),\"\",SUM('Data Input'!E54,'Data Input'!M54,'Data Input'!Q54,'Data Input'!V54,'Data Input'!W54,'Data Input'!AD54,'Data Input'!AH54))","v":""},{"$f":"IF(O49=\"\",\"\",O49/COUNTIF('Data Input'!$C$8:$AK$8,\"M\"))","v":""},{"$f":"IF(ISBLANK('Data Input'!A54),\"\",SUM('Data Input'!H54,'Data Input'!K54,'Data Input'!P54,'Data Input'!Y54))","v":""},{"$f":"IF(Q49=\"\",\"\",Q49/COUNTIF('Data Input'!$C$8:$AK$8,\"G\"))","v":""}]
[{"$f":"IF('Data Input'!A55=0,\"\",'Data Input'!A55)","v":""},{"$f":"IF(ISBLANK('Data Input'!A55),\"\",COUNTIF('Data Input'!C55:AK55,\"\"))","v":""},{"$f":"IF(ISBLANK('Data Input'!A55),\"\",COUNTIF('Data Input'!C55:AK55,\"0\"))","v":""},{"$f":"IF(ISBLANK('Data Input'!A55),\"\",SUM(B50,C50))","v":""},{"$f":"IF(ISBLANK('Data Input'!A55),\"\",SUM('Data Input'!C55:AK55))","v":""},{"$f":"IF(E50=\"\",\"\",E50/(COUNTA('Data Input'!$C$8:$AK$8)))","v":""},{"$f":"IF(ISBLANK('Data Input'!A55),\"\",SUM('Data Input'!C55,'Data Input'!D55,'Data Input'!J55,'Data Input'!X55))","v":""},{"$f":"IF(G50=\"\",\"\",G50/COUNTIF('Data Input'!$C$8:$AK$8,\"N\"))","v":""},{"$f":"IF(ISBLANK('Data Input'!A55),\"\",SUM('Data Input'!G55,'Data Input'!I55,'Data Input'!L55,'Data Input'!N55,'Data Input'!O55,'Data Input'!S55,'Data Input'!Z55,'Data Input'!AA55,'Data Input'!AB55,'Data Input'!AC55,'Data Input'!AE55,'Data Input'!AF55,'Data Input'!AG55,'Data Input'!AI55,'Data Input'!AK55))","v":""},{"$f":"IF(I50=\"\",\"\",I50/COUNTIF('Data Input'!$C$8:$AK$8,\"C\"))","v":""},{"$f":"IF(ISBLANK('Data Input'!A55),\"\",SUM('Data Input'!T55,'Data Input'!U55))","v":""},{"$f":"IF(K50=\"\",\"\",K50/COUNTIF('Data Input'!$C$8:$AK$8,\"S\"))","v":""},{"$f":"IF(ISBLANK('Data Input'!A55),\"\",SUM('Data Input'!F55,'Data Input'!R55,'Data Input'!AJ55))","v":""},{"$f":"IF(M50=\"\",\"\",M50/COUNTIF('Data Input'!$C$8:$AK$8,\"F\"))","v":""},{"$f":"IF(ISBLANK('Data Input'!A55),\"\",SUM('Data Input'!E55,'Data Input'!M55,'Data Input'!Q55,'Data Input'!V55,'Data Input'!W55,'Data Input'!AD55,'Data Input'!AH55))","v":""},{"$f":"IF(O50=\"\",\"\",O50/COUNTIF('Data Input'!$C$8:$AK$8,\"M\"))","v":""},{"$f":"IF(ISBLANK('Data Input'!A55),\"\",SUM('Data Input'!H55,'Data Input'!K55,'Data Input'!P55,'Data Input'!Y55))","v":""},{"$f":"IF(Q50=\"\",\"\",Q50/COUNTIF('Data Input'!$C$8:$AK$8,\"G\"))","v":""}]
[{"$f":"IF('Data Input'!A56=0,\"\",'Data Input'!A56)","v":""},{"$f":"IF(ISBLANK('Data Input'!A56),\"\",COUNTIF('Data Input'!C56:AK56,\"\"))","v":""},{"$f":"IF(ISBLANK('Data Input'!A56),\"\",COUNTIF('Data Input'!C56:AK56,\"0\"))","v":""},{"$f":"IF(ISBLANK('Data Input'!A56),\"\",SUM(B51,C51))","v":""},{"$f":"IF(ISBLANK('Data Input'!A56),\"\",SUM('Data Input'!C56:AK56))","v":""},{"$f":"IF(E51=\"\",\"\",E51/(COUNTA('Data Input'!$C$8:$AK$8)))","v":""},{"$f":"IF(ISBLANK('Data Input'!A56),\"\",SUM('Data Input'!C56,'Data Input'!D56,'Data Input'!J56,'Data Input'!X56))","v":""},{"$f":"IF(G51=\"\",\"\",G51/COUNTIF('Data Input'!$C$8:$AK$8,\"N\"))","v":""},{"$f":"IF(ISBLANK('Data Input'!A56),\"\",SUM('Data Input'!G56,'Data Input'!I56,'Data Input'!L56,'Data Input'!N56,'Data Input'!O56,'Data Input'!S56,'Data Input'!Z56,'Data Input'!AA56,'Data Input'!AB56,'Data Input'!AC56,'Data Input'!AE56,'Data Input'!AF56,'Data Input'!AG56,'Data Input'!AI56,'Data Input'!AK56))","v":""},{"$f":"IF(I51=\"\",\"\",I51/COUNTIF('Data Input'!$C$8:$AK$8,\"C\"))","v":""},{"$f":"IF(ISBLANK('Data Input'!A56),\"\",SUM('Data Input'!T56,'Data Input'!U56))","v":""},{"$f":"IF(K51=\"\",\"\",K51/COUNTIF('Data Input'!$C$8:$AK$8,\"S\"))","v":""},{"$f":"IF(ISBLANK('Data Input'!A56),\"\",SUM('Data Input'!F56,'Data Input'!R56,'Data Input'!AJ56))","v":""},{"$f":"IF(M51=\"\",\"\",M51/COUNTIF('Data Input'!$C$8:$AK$8,\"F\"))","v":""},{"$f":"IF(ISBLANK('Data Input'!A56),\"\",SUM('Data Input'!E56,'Data Input'!M56,'Data Input'!Q56,'Data Input'!V56,'Data Input'!W56,'Data Input'!AD56,'Data Input'!AH56))","v":""},{"$f":"IF(O51=\"\",\"\",O51/COUNTIF('Data Input'!$C$8:$AK$8,\"M\"))","v":""},{"$f":"IF(ISBLANK('Data Input'!A56),\"\",SUM('Data Input'!H56,'Data Input'!K56,'Data Input'!P56,'Data Input'!Y56))","v":""},{"$f":"IF(Q51=\"\",\"\",Q51/COUNTIF('Data Input'!$C$8:$AK$8,\"G\"))","v":""}]
[{"$f":"IF('Data Input'!A57=0,\"\",'Data Input'!A57)","v":""},{"$f":"IF(ISBLANK('Data Input'!A57),\"\",COUNTIF('Data Input'!C57:AK57,\"\"))","v":""},{"$f":"IF(ISBLANK('Data Input'!A57),\"\",COUNTIF('Data Input'!C57:AK57,\"0\"))","v":""},{"$f":"IF(ISBLANK('Data Input'!A57),\"\",SUM(B52,C52))","v":""},{"$f":"IF(ISBLANK('Data Input'!A57),\"\",SUM('Data Input'!C57:AK57))","v":""},{"$f":"IF(E52=\"\",\"\",E52/(COUNTA('Data Input'!$C$8:$AK$8)))","v":""},{"$f":"IF(ISBLANK('Data Input'!A57),\"\",SUM('Data Input'!C57,'Data Input'!D57,'Data Input'!J57,'Data Input'!X57))","v":""},{"$f":"IF(G52=\"\",\"\",G52/COUNTIF('Data Input'!$C$8:$AK$8,\"N\"))","v":""},{"$f":"IF(ISBLANK('Data Input'!A57),\"\",SUM('Data Input'!G57,'Data Input'!I57,'Data Input'!L57,'Data Input'!N57,'Data Input'!O57,'Data Input'!S57,'Data Input'!Z57,'Data Input'!AA57,'Data Input'!AB57,'Data Input'!AC57,'Data Input'!AE57,'Data Input'!AF57,'Data Input'!AG57,'Data Input'!AI57,'Data Input'!AK57))","v":""},{"$f":"IF(I52=\"\",\"\",I52/COUNTIF('Data Input'!$C$8:$AK$8,\"C\"))","v":""},{"$f":"IF(ISBLANK('Data Input'!A57),\"\",SUM('Data Input'!T57,'Data Input'!U57))","v":""},{"$f":"IF(K52=\"\",\"\",K52/COUNTIF('Data Input'!$C$8:$AK$8,\"S\"))","v":""},{"$f":"IF(ISBLANK('Data Input'!A57),\"\",SUM('Data Input'!F57,'Data Input'!R57,'Data Input'!AJ57))","v":""},{"$f":"IF(M52=\"\",\"\",M52/COUNTIF('Data Input'!$C$8:$AK$8,\"F\"))","v":""},{"$f":"IF(ISBLANK('Data Input'!A57),\"\",SUM('Data Input'!E57,'Data Input'!M57,'Data Input'!Q57,'Data Input'!V57,'Data Input'!W57,'Data Input'!AD57,'Data Input'!AH57))","v":""},{"$f":"IF(O52=\"\",\"\",O52/COUNTIF('Data Input'!$C$8:$AK$8,\"M\"))","v":""},{"$f":"IF(ISBLANK('Data Input'!A57),\"\",SUM('Data Input'!H57,'Data Input'!K57,'Data Input'!P57,'Data Input'!Y57))","v":""},{"$f":"IF(Q52=\"\",\"\",Q52/COUNTIF('Data Input'!$C$8:$AK$8,\"G\"))","v":""}]
[{"$f":"IF('Data Input'!A58=0,\"\",'Data Input'!A58)","v":""},{"$f":"IF(ISBLANK('Data Input'!A58),\"\",COUNTIF('Data Input'!C58:AK58,\"\"))","v":""},{"$f":"IF(ISBLANK('Data Input'!A58),\"\",COUNTIF('Data Input'!C58:AK58,\"0\"))","v":""},{"$f":"IF(ISBLANK('Data Input'!A58),\"\",SUM(B53,C53))","v":""},{"$f":"IF(ISBLANK('Data Input'!A58),\"\",SUM('Data Input'!C58:AK58))","v":""},{"$f":"IF(E53=\"\",\"\",E53/(COUNTA('Data Input'!$C$8:$AK$8)))","v":""},{"$f":"IF(ISBLANK('Data Input'!A58),\"\",SUM('Data Input'!C58,'Data Input'!D58,'Data Input'!J58,'Data Input'!X58))","v":""},{"$f":"IF(G53=\"\",\"\",G53/COUNTIF('Data Input'!$C$8:$AK$8,\"N\"))","v":""},{"$f":"IF(ISBLANK('Data Input'!A58),\"\",SUM('Data Input'!G58,'Data Input'!I58,'Data Input'!L58,'Data Input'!N58,'Data Input'!O58,'Data Input'!S58,'Data Input'!Z58,'Data Input'!AA58,'Data Input'!AB58,'Data Input'!AC58,'Data Input'!AE58,'Data Input'!AF58,'Data Input'!AG58,'Data Input'!AI58,'Data Input'!AK58))","v":""},{"$f":"IF(I53=\"\",\"\",I53/COUNTIF('Data Input'!$C$8:$AK$8,\"C\"))","v":""},{"$f":"IF(ISBLANK('Data Input'!A58),\"\",SUM('Data Input'!T58,'Data Input'!U58))","v":""},{"$f":"IF(K53=\"\",\"\",K53/COUNTIF('Data Input'!$C$8:$AK$8,\"S\"))","v":""},{"$f":"IF(ISBLANK('Data Input'!A58),\"\",SUM('Data Input'!F58,'Data Input'!R58,'Data Input'!AJ58))","v":""},{"$f":"IF(M53=\"\",\"\",M53/COUNTIF('Data Input'!$C$8:$AK$8,\"F\"))","v":""},{"$f":"IF(ISBLANK('Data Input'!A58),\"\",SUM('Data Input'!E58,'Data Input'!M58,'Data Input'!Q58,'Data Input'!V58,'Data Input'!W58,'Data Input'!AD58,'Data Input'!AH58))","v":""},{"$f":"IF(O53=\"\",\"\",O53/COUNTIF('Data Input'!$C$8:$AK$8,\"M\"))","v":""},{"$f":"IF(ISBLANK('Data Input'!A58),\"\",SUM('Data Input'!H58,'Data Input'!K58,'Data Input'!P58,'Data Input'!Y58))","v":""},{"$f":"IF(Q53=\"\",\"\",Q53/COUNTIF('Data Input'!$C$8:$AK$8,\"G\"))","v":""}]
[{"$f":"IF('Data Input'!A59=0,\"\",'Data Input'!A59)","v":""},{"$f":"IF(ISBLANK('Data Input'!A59),\"\",COUNTIF('Data Input'!C59:AK59,\"\"))","v":""},{"$f":"IF(ISBLANK('Data Input'!A59),\"\",COUNTIF('Data Input'!C59:AK59,\"0\"))","v":""},{"$f":"IF(ISBLANK('Data Input'!A59),\"\",SUM(B54,C54))","v":""},{"$f":"IF(ISBLANK('Data Input'!A59),\"\",SUM('Data Input'!C59:AK59))","v":""},{"$f":"IF(E54=\"\",\"\",E54/(COUNTA('Data Input'!$C$8:$AK$8)))","v":""},{"$f":"IF(ISBLANK('Data Input'!A59),\"\",SUM('Data Input'!C59,'Data Input'!D59,'Data Input'!J59,'Data Input'!X59))","v":""},{"$f":"IF(G54=\"\",\"\",G54/COUNTIF('Data Input'!$C$8:$AK$8,\"N\"))","v":""},{"$f":"IF(ISBLANK('Data Input'!A59),\"\",SUM('Data Input'!G59,'Data Input'!I59,'Data Input'!L59,'Data Input'!N59,'Data Input'!O59,'Data Input'!S59,'Data Input'!Z59,'Data Input'!AA59,'Data Input'!AB59,'Data Input'!AC59,'Data Input'!AE59,'Data Input'!AF59,'Data Input'!AG59,'Data Input'!AI59,'Data Input'!AK59))","v":""},{"$f":"IF(I54=\"\",\"\",I54/COUNTIF('Data Input'!$C$8:$AK$8,\"C\"))","v":""},{"$f":"IF(ISBLANK('Data Input'!A59),\"\",SUM('Data Input'!T59,'Data Input'!U59))","v":""},{"$f":"IF(K54=\"\",\"\",K54/COUNTIF('Data Input'!$C$8:$AK$8,\"S\"))","v":""},{"$f":"IF(ISBLANK('Data Input'!A59),\"\",SUM('Data Input'!F59,'Data Input'!R59,'Data Input'!AJ59))","v":""},{"$f":"IF(M54=\"\",\"\",M54/COUNTIF('Data Input'!$C$8:$AK$8,\"F\"))","v":""},{"$f":"IF(ISBLANK('Data Input'!A59),\"\",SUM('Data Input'!E59,'Data Input'!M59,'Data Input'!Q59,'Data Input'!V59,'Data Input'!W59,'Data Input'!AD59,'Data Input'!AH59))","v":""},{"$f":"IF(O54=\"\",\"\",O54/COUNTIF('Data Input'!$C$8:$AK$8,\"M\"))","v":""},{"$f":"IF(ISBLANK('Data Input'!A59),\"\",SUM('Data Input'!H59,'Data Input'!K59,'Data Input'!P59,'Data Input'!Y59))","v":""},{"$f":"IF(Q54=\"\",\"\",Q54/COUNTIF('Data Input'!$C$8:$AK$8,\"G\"))","v":""}]
[{"$f":"IF('Data Input'!A60=0,\"\",'Data Input'!A60)","v":""},{"$f":"IF(ISBLANK('Data Input'!A60),\"\",COUNTIF('Data Input'!C60:AK60,\"\"))","v":""},{"$f":"IF(ISBLANK('Data Input'!A60),\"\",COUNTIF('Data Input'!C60:AK60,\"0\"))","v":""},{"$f":"IF(ISBLANK('Data Input'!A60),\"\",SUM(B55,C55))","v":""},{"$f":"IF(ISBLANK('Data Input'!A60),\"\",SUM('Data Input'!C60:AK60))","v":""},{"$f":"IF(E55=\"\",\"\",E55/(COUNTA('Data Input'!$C$8:$AK$8)))","v":""},{"$f":"IF(ISBLANK('Data Input'!A60),\"\",SUM('Data Input'!C60,'Data Input'!D60,'Data Input'!J60,'Data Input'!X60))","v":""},{"$f":"IF(G55=\"\",\"\",G55/COUNTIF('Data Input'!$C$8:$AK$8,\"N\"))","v":""},{"$f":"IF(ISBLANK('Data Input'!A60),\"\",SUM('Data Input'!G60,'Data Input'!I60,'Data Input'!L60,'Data Input'!N60,'Data Input'!O60,'Data Input'!S60,'Data Input'!Z60,'Data Input'!AA60,'Data Input'!AB60,'Data Input'!AC60,'Data Input'!AE60,'Data Input'!AF60,'Data Input'!AG60,'Data Input'!AI60,'Data Input'!AK60))","v":""},{"$f":"IF(I55=\"\",\"\",I55/COUNTIF('Data Input'!$C$8:$AK$8,\"C\"))","v":""},{"$f":"IF(ISBLANK('Data Input'!A60),\"\",SUM('Data Input'!T60,'Data Input'!U60))","v":""},{"$f":"IF(K55=\"\",\"\",K55/COUNTIF('Data Input'!$C$8:$AK$8,\"S\"))","v":""},{"$f":"IF(ISBLANK('Data Input'!A60),\"\",SUM('Data Input'!F60,'Data Input'!R60,'Data Input'!AJ60))","v":""},{"$f":"IF(M55=\"\",\"\",M55/COUNTIF('Data Input'!$C$8:$AK$8,\"F\"))","v":""},{"$f":"IF(ISBLANK('Data Input'!A60),\"\",SUM('Data Input'!E60,'Data Input'!M60,'Data Input'!Q60,'Data Input'!V60,'Data Input'!W60,'Data Input'!AD60,'Data Input'!AH60))","v":""},{"$f":"IF(O55=\"\",\"\",O55/COUNTIF('Data Input'!$C$8:$AK$8,\"M\"))","v":""},{"$f":"IF(ISBLANK('Data Input'!A60),\"\",SUM('Data Input'!H60,'Data Input'!K60,'Data Input'!P60,'Data Input'!Y60))","v":""},{"$f":"IF(Q55=\"\",\"\",Q55/COUNTIF('Data Input'!$C$8:$AK$8,\"G\"))","v":""}]
[{"$f":"IF('Data Input'!A61=0,\"\",'Data Input'!A61)","v":""},{"$f":"IF(ISBLANK('Data Input'!A61),\"\",COUNTIF('Data Input'!C61:AK61,\"\"))","v":""},{"$f":"IF(ISBLANK('Data Input'!A61),\"\",COUNTIF('Data Input'!C61:AK61,\"0\"))","v":""},{"$f":"IF(ISBLANK('Data Input'!A61),\"\",SUM(B56,C56))","v":""},{"$f":"IF(ISBLANK('Data Input'!A61),\"\",SUM('Data Input'!C61:AK61))","v":""},{"$f":"IF(E56=\"\",\"\",E56/(COUNTA('Data Input'!$C$8:$AK$8)))","v":""},{"$f":"IF(ISBLANK('Data Input'!A61),\"\",SUM('Data Input'!C61,'Data Input'!D61,'Data Input'!J61,'Data Input'!X61))","v":""},{"$f":"IF(G56=\"\",\"\",G56/COUNTIF('Data Input'!$C$8:$AK$8,\"N\"))","v":""},{"$f":"IF(ISBLANK('Data Input'!A61),\"\",SUM('Data Input'!G61,'Data Input'!I61,'Data Input'!L61,'Data Input'!N61,'Data Input'!O61,'Data Input'!S61,'Data Input'!Z61,'Data Input'!AA61,'Data Input'!AB61,'Data Input'!AC61,'Data Input'!AE61,'Data Input'!AF61,'Data Input'!AG61,'Data Input'!AI61,'Data Input'!AK61))","v":""},{"$f":"IF(I56=\"\",\"\",I56/COUNTIF('Data Input'!$C$8:$AK$8,\"C\"))","v":""},{"$f":"IF(ISBLANK('Data Input'!A61),\"\",SUM('Data Input'!T61,'Data Input'!U61))","v":""},{"$f":"IF(K56=\"\",\"\",K56/COUNTIF('Data Input'!$C$8:$AK$8,\"S\"))","v":""},{"$f":"IF(ISBLANK('Data Input'!A61),\"\",SUM('Data Input'!F61,'Data Input'!R61,'Data Input'!AJ61))","v":""},{"$f":"IF(M56=\"\",\"\",M56/COUNTIF('Data Input'!$C$8:$AK$8,\"F\"))","v":""},{"$f":"IF(ISBLANK('Data Input'!A61),\"\",SUM('Data Input'!E61,'Data Input'!M61,'Data Input'!Q61,'Data Input'!V61,'Data Input'!W61,'Data Input'!AD61,'Data Input'!AH61))","v":""},{"$f":"IF(O56=\"\",\"\",O56/COUNTIF('Data Input'!$C$8:$AK$8,\"M\"))","v":""},{"$f":"IF(ISBLANK('Data Input'!A61),\"\",SUM('Data Input'!H61,'Data Input'!K61,'Data Input'!P61,'Data Input'!Y61))","v":""},{"$f":"IF(Q56=\"\",\"\",Q56/COUNTIF('Data Input'!$C$8:$AK$8,\"G\"))","v":""}]
[{"$f":"IF('Data Input'!A62=0,\"\",'Data Input'!A62)","v":""},{"$f":"IF(ISBLANK('Data Input'!A62),\"\",COUNTIF('Data Input'!C62:AK62,\"\"))","v":""},{"$f":"IF(ISBLANK('Data Input'!A62),\"\",COUNTIF('Data Input'!C62:AK62,\"0\"))","v":""},{"$f":"IF(ISBLANK('Data Input'!A62),\"\",SUM(B57,C57))","v":""},{"$f":"IF(ISBLANK('Data Input'!A62),\"\",SUM('Data Input'!C62:AK62))","v":""},{"$f":"IF(E57=\"\",\"\",E57/(COUNTA('Data Input'!$C$8:$AK$8)))","v":""},{"$f":"IF(ISBLANK('Data Input'!A62),\"\",SUM('Data Input'!C62,'Data Input'!D62,'Data Input'!J62,'Data Input'!X62))","v":""},{"$f":"IF(G57=\"\",\"\",G57/COUNTIF('Data Input'!$C$8:$AK$8,\"N\"))","v":""},{"$f":"IF(ISBLANK('Data Input'!A62),\"\",SUM('Data Input'!G62,'Data Input'!I62,'Data Input'!L62,'Data Input'!N62,'Data Input'!O62,'Data Input'!S62,'Data Input'!Z62,'Data Input'!AA62,'Data Input'!AB62,'Data Input'!AC62,'Data Input'!AE62,'Data Input'!AF62,'Data Input'!AG62,'Data Input'!AI62,'Data Input'!AK62))","v":""},{"$f":"IF(I57=\"\",\"\",I57/COUNTIF('Data Input'!$C$8:$AK$8,\"C\"))","v":""},{"$f":"IF(ISBLANK('Data Input'!A62),\"\",SUM('Data Input'!T62,'Data Input'!U62))","v":""},{"$f":"IF(K57=\"\",\"\",K57/COUNTIF('Data Input'!$C$8:$AK$8,\"S\"))","v":""},{"$f":"IF(ISBLANK('Data Input'!A62),\"\",SUM('Data Input'!F62,'Data Input'!R62,'Data Input'!AJ62))","v":""},{"$f":"IF(M57=\"\",\"\",M57/COUNTIF('Data Input'!$C$8:$AK$8,\"F\"))","v":""},{"$f":"IF(ISBLANK('Data Input'!A62),\"\",SUM('Data Input'!E62,'Data Input'!M62,'Data Input'!Q62,'Data Input'!V62,'Data Input'!W62,'Data Input'!AD62,'Data Input'!AH62))","v":""},{"$f":"IF(O57=\"\",\"\",O57/COUNTIF('Data Input'!$C$8:$AK$8,\"M\"))","v":""},{"$f":"IF(ISBLANK('Data Input'!A62),\"\",SUM('Data Input'!H62,'Data Input'!K62,'Data Input'!P62,'Data Input'!Y62))","v":""},{"$f":"IF(Q57=\"\",\"\",Q57/COUNTIF('Data Input'!$C$8:$AK$8,\"G\"))","v":""}]
[{"$f":"IF('Data Input'!A63=0,\"\",'Data Input'!A63)","v":""},{"$f":"IF(ISBLANK('Data Input'!A63),\"\",COUNTIF('Data Input'!C63:AK63,\"\"))","v":""},{"$f":"IF(ISBLANK('Data Input'!A63),\"\",COUNTIF('Data Input'!C63:AK63,\"0\"))","v":""},{"$f":"IF(ISBLANK('Data Input'!A63),\"\",SUM(B58,C58))","v":""},{"$f":"IF(ISBLANK('Data Input'!A63),\"\",SUM('Data Input'!C63:AK63))","v":""},{"$f":"IF(E58=\"\",\"\",E58/(COUNTA('Data Input'!$C$8:$AK$8)))","v":""},{"$f":"IF(ISBLANK('Data Input'!A63),\"\",SUM('Data Input'!C63,'Data Input'!D63,'Data Input'!J63,'Data Input'!X63))","v":""},{"$f":"IF(G58=\"\",\"\",G58/COUNTIF('Data Input'!$C$8:$AK$8,\"N\"))","v":""},{"$f":"IF(ISBLANK('Data Input'!A63),\"\",SUM('Data Input'!G63,'Data Input'!I63,'Data Input'!L63,'Data Input'!N63,'Data Input'!O63,'Data Input'!S63,'Data Input'!Z63,'Data Input'!AA63,'Data Input'!AB63,'Data Input'!AC63,'Data Input'!AE63,'Data Input'!AF63,'Data Input'!AG63,'Data Input'!AI63,'Data Input'!AK63))","v":""},{"$f":"IF(I58=\"\",\"\",I58/COUNTIF('Data Input'!$C$8:$AK$8,\"C\"))","v":""},{"$f":"IF(ISBLANK('Data Input'!A63),\"\",SUM('Data Input'!T63,'Data Input'!U63))","v":""},{"$f":"IF(K58=\"\",\"\",K58/COUNTIF('Data Input'!$C$8:$AK$8,\"S\"))","v":""},{"$f":"IF(ISBLANK('Data Input'!A63),\"\",SUM('Data Input'!F63,'Data Input'!R63,'Data Input'!AJ63))","v":""},{"$f":"IF(M58=\"\",\"\",M58/COUNTIF('Data Input'!$C$8:$AK$8,\"F\"))","v":""},{"$f":"IF(ISBLANK('Data Input'!A63),\"\",SUM('Data Input'!E63,'Data Input'!M63,'Data Input'!Q63,'Data Input'!V63,'Data Input'!W63,'Data Input'!AD63,'Data Input'!AH63))","v":""},{"$f":"IF(O58=\"\",\"\",O58/COUNTIF('Data Input'!$C$8:$AK$8,\"M\"))","v":""},{"$f":"IF(ISBLANK('Data Input'!A63),\"\",SUM('Data Input'!H63,'Data Input'!K63,'Data Input'!P63,'Data Input'!Y63))","v":""},{"$f":"IF(Q58=\"\",\"\",Q58/COUNTIF('Data Input'!$C$8:$AK$8,\"G\"))","v":""}]
[{"$f":"IF('Data Input'!A64=0,\"\",'Data Input'!A64)","v":""},{"$f":"IF(ISBLANK('Data Input'!A64),\"\",COUNTIF('Data Input'!C64:AK64,\"\"))","v":""},{"$f":"IF(ISBLANK('Data Input'!A64),\"\",COUNTIF('Data Input'!C64:AK64,\"0\"))","v":""},{"$f":"IF(ISBLANK('Data Input'!A64),\"\",SUM(B59,C59))","v":""},{"$f":"IF(ISBLANK('Data Input'!A64),\"\",SUM('Data Input'!C64:AK64))","v":""},{"$f":"IF(E59=\"\",\"\",E59/(COUNTA('Data Input'!$C$8:$AK$8)))","v":""},{"$f":"IF(ISBLANK('Data Input'!A64),\"\",SUM('Data Input'!C64,'Data Input'!D64,'Data Input'!J64,'Data Input'!X64))","v":""},{"$f":"IF(G59=\"\",\"\",G59/COUNTIF('Data Input'!$C$8:$AK$8,\"N\"))","v":""},{"$f":"IF(ISBLANK('Data Input'!A64),\"\",SUM('Data Input'!G64,'Data Input'!I64,'Data Input'!L64,'Data Input'!N64,'Data Input'!O64,'Data Input'!S64,'Data Input'!Z64,'Data Input'!AA64,'Data Input'!AB64,'Data Input'!AC64,'Data Input'!AE64,'Data Input'!AF64,'Data Input'!AG64,'Data Input'!AI64,'Data Input'!AK64))","v":""},{"$f":"IF(I59=\"\",\"\",I59/COUNTIF('Data Input'!$C$8:$AK$8,\"C\"))","v":""},{"$f":"IF(ISBLANK('Data Input'!A64),\"\",SUM('Data Input'!T64,'Data Input'!U64))","v":""},{"$f":"IF(K59=\"\",\"\",K59/COUNTIF('Data Input'!$C$8:$AK$8,\"S\"))","v":""},{"$f":"IF(ISBLANK('Data Input'!A64),\"\",SUM('Data Input'!F64,'Data Input'!R64,'Data Input'!AJ64))","v":""},{"$f":"IF(M59=\"\",\"\",M59/COUNTIF('Data Input'!$C$8:$AK$8,\"F\"))","v":""},{"$f":"IF(ISBLANK('Data Input'!A64),\"\",SUM('Data Input'!E64,'Data Input'!M64,'Data Input'!Q64,'Data Input'!V64,'Data Input'!W64,'Data Input'!AD64,'Data Input'!AH64))","v":""},{"$f":"IF(O59=\"\",\"\",O59/COUNTIF('Data Input'!$C$8:$AK$8,\"M\"))","v":""},{"$f":"IF(ISBLANK('Data Input'!A64),\"\",SUM('Data Input'!H64,'Data Input'!K64,'Data Input'!P64,'Data Input'!Y64))","v":""},{"$f":"IF(Q59=\"\",\"\",Q59/COUNTIF('Data Input'!$C$8:$AK$8,\"G\"))","v":""}]
[{"$f":"IF('Data Input'!A65=0,\"\",'Data Input'!A65)","v":""},{"$f":"IF(ISBLANK('Data Input'!A65),\"\",COUNTIF('Data Input'!C65:AK65,\"\"))","v":""},{"$f":"IF(ISBLANK('Data Input'!A65),\"\",COUNTIF('Data Input'!C65:AK65,\"0\"))","v":""},{"$f":"IF(ISBLANK('Data Input'!A65),\"\",SUM(B60,C60))","v":""},{"$f":"IF(ISBLANK('Data Input'!A65),\"\",SUM('Data Input'!C65:AK65))","v":""},{"$f":"IF(E60=\"\",\"\",E60/(COUNTA('Data Input'!$C$8:$AK$8)))","v":""},{"$f":"IF(ISBLANK('Data Input'!A65),\"\",SUM('Data Input'!C65,'Data Input'!D65,'Data Input'!J65,'Data Input'!X65))","v":""},{"$f":"IF(G60=\"\",\"\",G60/COUNTIF('Data Input'!$C$8:$AK$8,\"N\"))","v":""},{"$f":"IF(ISBLANK('Data Input'!A65),\"\",SUM('Data Input'!G65,'Data Input'!I65,'Data Input'!L65,'Data Input'!N65,'Data Input'!O65,'Data Input'!S65,'Data Input'!Z65,'Data Input'!AA65,'Data Input'!AB65,'Data Input'!AC65,'Data Input'!AE65,'Data Input'!AF65,'Data Input'!AG65,'Data Input'!AI65,'Data Input'!AK65))","v":""},{"$f":"IF(I60=\"\",\"\",I60/COUNTIF('Data Input'!$C$8:$AK$8,\"C\"))","v":""},{"$f":"IF(ISBLANK('Data Input'!A65),\"\",SUM('Data Input'!T65,'Data Input'!U65))","v":""},{"$f":"IF(K60=\"\",\"\",K60/COUNTIF('Data Input'!$C$8:$AK$8,\"S\"))","v":""},{"$f":"IF(ISBLANK('Data Input'!A65),\"\",SUM('Data Input'!F65,'Data Input'!R65,'Data Input'!AJ65))","v":""},{"$f":"IF(M60=\"\",\"\",M60/COUNTIF('Data Input'!$C$8:$AK$8,\"F\"))","v":""},{"$f":"IF(ISBLANK('Data Input'!A65),\"\",SUM('Data Input'!E65,'Data Input'!M65,'Data Input'!Q65,'Data Input'!V65,'Data Input'!W65,'Data Input'!AD65,'Data Input'!AH65))","v":""},{"$f":"IF(O60=\"\",\"\",O60/COUNTIF('Data Input'!$C$8:$AK$8,\"M\"))","v":""},{"$f":"IF(ISBLANK('Data Input'!A65),\"\",SUM('Data Input'!H65,'Data Input'!K65,'Data Input'!P65,'Data Input'!Y65))","v":""},{"$f":"IF(Q60=\"\",\"\",Q60/COUNTIF('Data Input'!$C$8:$AK$8,\"G\"))","v":""}]
[{"$f":"IF('Data Input'!A66=0,\"\",'Data Input'!A66)","v":""},{"$f":"IF(ISBLANK('Data Input'!A66),\"\",COUNTIF('Data Input'!C66:AK66,\"\"))","v":""},{"$f":"IF(ISBLANK('Data Input'!A66),\"\",COUNTIF('Data Input'!C66:AK66,\"0\"))","v":""},{"$f":"IF(ISBLANK('Data Input'!A66),\"\",SUM(B61,C61))","v":""},{"$f":"IF(ISBLANK('Data Input'!A66),\"\",SUM('Data Input'!C66:AK66))","v":""},{"$f":"IF(E61=\"\",\"\",E61/(COUNTA('Data Input'!$C$8:$AK$8)))","v":""},{"$f":"IF(ISBLANK('Data Input'!A66),\"\",SUM('Data Input'!C66,'Data Input'!D66,'Data Input'!J66,'Data Input'!X66))","v":""},{"$f":"IF(G61=\"\",\"\",G61/COUNTIF('Data Input'!$C$8:$AK$8,\"N\"))","v":""},{"$f":"IF(ISBLANK('Data Input'!A66),\"\",SUM('Data Input'!G66,'Data Input'!I66,'Data Input'!L66,'Data Input'!N66,'Data Input'!O66,'Data Input'!S66,'Data Input'!Z66,'Data Input'!AA66,'Data Input'!AB66,'Data Input'!AC66,'Data Input'!AE66,'Data Input'!AF66,'Data Input'!AG66,'Data Input'!AI66,'Data Input'!AK66))","v":""},{"$f":"IF(I61=\"\",\"\",I61/COUNTIF('Data Input'!$C$8:$AK$8,\"C\"))","v":""},{"$f":"IF(ISBLANK('Data Input'!A66),\"\",SUM('Data Input'!T66,'Data Input'!U66))","v":""},{"$f":"IF(K61=\"\",\"\",K61/COUNTIF('Data Input'!$C$8:$AK$8,\"S\"))","v":""},{"$f":"IF(ISBLANK('Data Input'!A66),\"\",SUM('Data Input'!F66,'Data Input'!R66,'Data Input'!AJ66))","v":""},{"$f":"IF(M61=\"\",\"\",M61/COUNTIF('Data Input'!$C$8:$AK$8,\"F\"))","v":""},{"$f":"IF(ISBLANK('Data Input'!A66),\"\",SUM('Data Input'!E66,'Data Input'!M66,'Data Input'!Q66,'Data Input'!V66,'Data Input'!W66,'Data Input'!AD66,'Data Input'!AH66))","v":""},{"$f":"IF(O61=\"\",\"\",O61/COUNTIF('Data Input'!$C$8:$AK$8,\"M\"))","v":""},{"$f":"IF(ISBLANK('Data Input'!A66),\"\",SUM('Data Input'!H66,'Data Input'!K66,'Data Input'!P66,'Data Input'!Y66))","v":""},{"$f":"IF(Q61=\"\",\"\",Q61/COUNTIF('Data Input'!$C$8:$AK$8,\"G\"))","v":""}]
[{"$f":"IF('Data Input'!A67=0,\"\",'Data Input'!A67)","v":""},{"$f":"IF(ISBLANK('Data Input'!A67),\"\",COUNTIF('Data Input'!C67:AK67,\"\"))","v":""},{"$f":"IF(ISBLANK('Data Input'!A67),\"\",COUNTIF('Data Input'!C67:AK67,\"0\"))","v":""},{"$f":"IF(ISBLANK('Data Input'!A67),\"\",SUM(B62,C62))","v":""},{"$f":"IF(ISBLANK('Data Input'!A67),\"\",SUM('Data Input'!C67:AK67))","v":""},{"$f":"IF(E62=\"\",\"\",E62/(COUNTA('Data Input'!$C$8:$AK$8)))","v":""},{"$f":"IF(ISBLANK('Data Input'!A67),\"\",SUM('Data Input'!C67,'Data Input'!D67,'Data Input'!J67,'Data Input'!X67))","v":""},{"$f":"IF(G62=\"\",\"\",G62/COUNTIF('Data Input'!$C$8:$AK$8,\"N\"))","v":""},{"$f":"IF(ISBLANK('Data Input'!A67),\"\",SUM('Data Input'!G67,'Data Input'!I67,'Data Input'!L67,'Data Input'!N67,'Data Input'!O67,'Data Input'!S67,'Data Input'!Z67,'Data Input'!AA67,'Data Input'!AB67,'Data Input'!AC67,'Data Input'!AE67,'Data Input'!AF67,'Data Input'!AG67,'Data Input'!AI67,'Data Input'!AK67))","v":""},{"$f":"IF(I62=\"\",\"\",I62/COUNTIF('Data Input'!$C$8:$AK$8,\"C\"))","v":""},{"$f":"IF(ISBLANK('Data Input'!A67),\"\",SUM('Data Input'!T67,'Data Input'!U67))","v":""},{"$f":"IF(K62=\"\",\"\",K62/COUNTIF('Data Input'!$C$8:$AK$8,\"S\"))","v":""},{"$f":"IF(ISBLANK('Data Input'!A67),\"\",SUM('Data Input'!F67,'Data Input'!R67,'Data Input'!AJ67))","v":""},{"$f":"IF(M62=\"\",\"\",M62/COUNTIF('Data Input'!$C$8:$AK$8,\"F\"))","v":""},{"$f":"IF(ISBLANK('Data Input'!A67),\"\",SUM('Data Input'!E67,'Data Input'!M67,'Data Input'!Q67,'Data Input'!V67,'Data Input'!W67,'Data Input'!AD67,'Data Input'!AH67))","v":""},{"$f":"IF(O62=\"\",\"\",O62/COUNTIF('Data Input'!$C$8:$AK$8,\"M\"))","v":""},{"$f":"IF(ISBLANK('Data Input'!A67),\"\",SUM('Data Input'!H67,'Data Input'!K67,'Data Input'!P67,'Data Input'!Y67))","v":""},{"$f":"IF(Q62=\"\",\"\",Q62/COUNTIF('Data Input'!$C$8:$AK$8,\"G\"))","v":""}]
[{"$f":"IF('Data Input'!A68=0,\"\",'Data Input'!A68)","v":""},{"$f":"IF(ISBLANK('Data Input'!A68),\"\",COUNTIF('Data Input'!C68:AK68,\"\"))","v":""},{"$f":"IF(ISBLANK('Data Input'!A68),\"\",COUNTIF('Data Input'!C68:AK68,\"0\"))","v":""},{"$f":"IF(ISBLANK('Data Input'!A68),\"\",SUM(B63,C63))","v":""},{"$f":"IF(ISBLANK('Data Input'!A68),\"\",SUM('Data Input'!C68:AK68))","v":""},{"$f":"IF(E63=\"\",\"\",E63/(COUNTA('Data Input'!$C$8:$AK$8)))","v":""},{"$f":"IF(ISBLANK('Data Input'!A68),\"\",SUM('Data Input'!C68,'Data Input'!D68,'Data Input'!J68,'Data Input'!X68))","v":""},{"$f":"IF(G63=\"\",\"\",G63/COUNTIF('Data Input'!$C$8:$AK$8,\"N\"))","v":""},{"$f":"IF(ISBLANK('Data Input'!A68),\"\",SUM('Data Input'!G68,'Data Input'!I68,'Data Input'!L68,'Data Input'!N68,'Data Input'!O68,'Data Input'!S68,'Data Input'!Z68,'Data Input'!AA68,'Data Input'!AB68,'Data Input'!AC68,'Data Input'!AE68,'Data Input'!AF68,'Data Input'!AG68,'Data Input'!AI68,'Data Input'!AK68))","v":""},{"$f":"IF(I63=\"\",\"\",I63/COUNTIF('Data Input'!$C$8:$AK$8,\"C\"))","v":""},{"$f":"IF(ISBLANK('Data Input'!A68),\"\",SUM('Data Input'!T68,'Data Input'!U68))","v":""},{"$f":"IF(K63=\"\",\"\",K63/COUNTIF('Data Input'!$C$8:$AK$8,\"S\"))","v":""},{"$f":"IF(ISBLANK('Data Input'!A68),\"\",SUM('Data Input'!F68,'Data Input'!R68,'Data Input'!AJ68))","v":""},{"$f":"IF(M63=\"\",\"\",M63/COUNTIF('Data Input'!$C$8:$AK$8,\"F\"))","v":""},{"$f":"IF(ISBLANK('Data Input'!A68),\"\",SUM('Data Input'!E68,'Data Input'!M68,'Data Input'!Q68,'Data Input'!V68,'Data Input'!W68,'Data Input'!AD68,'Data Input'!AH68))","v":""},{"$f":"IF(O63=\"\",\"\",O63/COUNTIF('Data Input'!$C$8:$AK$8,\"M\"))","v":""},{"$f":"IF(ISBLANK('Data Input'!A68),\"\",SUM('Data Input'!H68,'Data Input'!K68,'Data Input'!P68,'Data Input'!Y68))","v":""},{"$f":"IF(Q63=\"\",\"\",Q63/COUNTIF('Data Input'!$C$8:$AK$8,\"G\"))","v":""}]
[{"$f":"IF('Data Input'!A69=0,\"\",'Data Input'!A69)","v":""},{"$f":"IF(ISBLANK('Data Input'!A69),\"\",COUNTIF('Data Input'!C69:AK69,\"\"))","v":""},{"$f":"IF(ISBLANK('Data Input'!A69),\"\",COUNTIF('Data Input'!C69:AK69,\"0\"))","v":""},{"$f":"IF(ISBLANK('Data Input'!A69),\"\",SUM(B64,C64))","v":""},{"$f":"IF(ISBLANK('Data Input'!A69),\"\",SUM('Data Input'!C69:AK69))","v":""},{"$f":"IF(E64=\"\",\"\",E64/(COUNTA('Data Input'!$C$8:$AK$8)))","v":""},{"$f":"IF(ISBLANK('Data Input'!A69),\"\",SUM('Data Input'!C69,'Data Input'!D69,'Data Input'!J69,'Data Input'!X69))","v":""},{"$f":"IF(G64=\"\",\"\",G64/COUNTIF('Data Input'!$C$8:$AK$8,\"N\"))","v":""},{"$f":"IF(ISBLANK('Data Input'!A69),\"\",SUM('Data Input'!G69,'Data Input'!I69,'Data Input'!L69,'Data Input'!N69,'Data Input'!O69,'Data Input'!S69,'Data Input'!Z69,'Data Input'!AA69,'Data Input'!AB69,'Data Input'!AC69,'Data Input'!AE69,'Data Input'!AF69,'Data Input'!AG69,'Data Input'!AI69,'Data Input'!AK69))","v":""},{"$f":"IF(I64=\"\",\"\",I64/COUNTIF('Data Input'!$C$8:$AK$8,\"C\"))","v":""},{"$f":"IF(ISBLANK('Data Input'!A69),\"\",SUM('Data Input'!T69,'Data Input'!U69))","v":""},{"$f":"IF(K64=\"\",\"\",K64/COUNTIF('Data Input'!$C$8:$AK$8,\"S\"))","v":""},{"$f":"IF(ISBLANK('Data Input'!A69),\"\",SUM('Data Input'!F69,'Data Input'!R69,'Data Input'!AJ69))","v":""},{"$f":"IF(M64=\"\",\"\",M64/COUNTIF('Data Input'!$C$8:$AK$8,\"F\"))","v":""},{"$f":"IF(ISBLANK('Data Input'!A69),\"\",SUM('Data Input'!E69,'Data Input'!M69,'Data Input'!Q69,'Data Input'!V69,'Data Input'!W69,'Data Input'!AD69,'Data Input'!AH69))","v":""},{"$f":"IF(O64=\"\",\"\",O64/COUNTIF('Data Input'!$C$8:$AK$8,\"M\"))","v":""},{"$f":"IF(ISBLANK('Data Input'!A69),\"\",SUM('Data Input'!H69,'Data Input'!K69,'Data Input'!P69,'Data Input'!Y69))","v":""},{"$f":"IF(Q64=\"\",\"\",Q64/COUNTIF('Data Input'!$C$8:$AK$8,\"G\"))","v":""}]
[{"$f":"IF('Data Input'!A70=0,\"\",'Data Input'!A70)","v":""},{"$f":"IF(ISBLANK('Data Input'!A70),\"\",COUNTIF('Data Input'!C70:AK70,\"\"))","v":""},{"$f":"IF(ISBLANK('Data Input'!A70),\"\",COUNTIF('Data Input'!C70:AK70,\"0\"))","v":""},{"$f":"IF(ISBLANK('Data Input'!A70),\"\",SUM(B65,C65))","v":""},{"$f":"IF(ISBLANK('Data Input'!A70),\"\",SUM('Data Input'!C70:AK70))","v":""},{"$f":"IF(E65=\"\",\"\",E65/(COUNTA('Data Input'!$C$8:$AK$8)))","v":""},{"$f":"IF(ISBLANK('Data Input'!A70),\"\",SUM('Data Input'!C70,'Data Input'!D70,'Data Input'!J70,'Data Input'!X70))","v":""},{"$f":"IF(G65=\"\",\"\",G65/COUNTIF('Data Input'!$C$8:$AK$8,\"N\"))","v":""},{"$f":"IF(ISBLANK('Data Input'!A70),\"\",SUM('Data Input'!G70,'Data Input'!I70,'Data Input'!L70,'Data Input'!N70,'Data Input'!O70,'Data Input'!S70,'Data Input'!Z70,'Data Input'!AA70,'Data Input'!AB70,'Data Input'!AC70,'Data Input'!AE70,'Data Input'!AF70,'Data Input'!AG70,'Data Input'!AI70,'Data Input'!AK70))","v":""},{"$f":"IF(I65=\"\",\"\",I65/COUNTIF('Data Input'!$C$8:$AK$8,\"C\"))","v":""},{"$f":"IF(ISBLANK('Data Input'!A70),\"\",SUM('Data Input'!T70,'Data Input'!U70))","v":""},{"$f":"IF(K65=\"\",\"\",K65/COUNTIF('Data Input'!$C$8:$AK$8,\"S\"))","v":""},{"$f":"IF(ISBLANK('Data Input'!A70),\"\",SUM('Data Input'!F70,'Data Input'!R70,'Data Input'!AJ70))","v":""},{"$f":"IF(M65=\"\",\"\",M65/COUNTIF('Data Input'!$C$8:$AK$8,\"F\"))","v":""},{"$f":"IF(ISBLANK('Data Input'!A70),\"\",SUM('Data Input'!E70,'Data Input'!M70,'Data Input'!Q70,'Data Input'!V70,'Data Input'!W70,'Data Input'!AD70,'Data Input'!AH70))","v":""},{"$f":"IF(O65=\"\",\"\",O65/COUNTIF('Data Input'!$C$8:$AK$8,\"M\"))","v":""},{"$f":"IF(ISBLANK('Data Input'!A70),\"\",SUM('Data Input'!H70,'Data Input'!K70,'Data Input'!P70,'Data Input'!Y70))","v":""},{"$f":"IF(Q65=\"\",\"\",Q65/COUNTIF('Data Input'!$C$8:$AK$8,\"G\"))","v":""}]
[{"$f":"IF('Data Input'!A71=0,\"\",'Data Input'!A71)","v":""},{"$f":"IF(ISBLANK('Data Input'!A71),\"\",COUNTIF('Data Input'!C71:AK71,\"\"))","v":""},{"$f":"IF(ISBLANK('Data Input'!A71),\"\",COUNTIF('Data Input'!C71:AK71,\"0\"))","v":""},{"$f":"IF(ISBLANK('Data Input'!A71),\"\",SUM(B66,C66))","v":""},{"$f":"IF(ISBLANK('Data Input'!A71),\"\",SUM('Data Input'!C71:AK71))","v":""},{"$f":"IF(E66=\"\",\"\",E66/(COUNTA('Data Input'!$C$8:$AK$8)))","v":""},{"$f":"IF(ISBLANK('Data Input'!A71),\"\",SUM('Data Input'!C71,'Data Input'!D71,'Data Input'!J71,'Data Input'!X71))","v":""},{"$f":"IF(G66=\"\",\"\",G66/COUNTIF('Data Input'!$C$8:$AK$8,\"N\"))","v":""},{"$f":"IF(ISBLANK('Data Input'!A71),\"\",SUM('Data Input'!G71,'Data Input'!I71,'Data Input'!L71,'Data Input'!N71,'Data Input'!O71,'Data Input'!S71,'Data Input'!Z71,'Data Input'!AA71,'Data Input'!AB71,'Data Input'!AC71,'Data Input'!AE71,'Data Input'!AF71,'Data Input'!AG71,'Data Input'!AI71,'Data Input'!AK71))","v":""},{"$f":"IF(I66=\"\",\"\",I66/COUNTIF('Data Input'!$C$8:$AK$8,\"C\"))","v":""},{"$f":"IF(ISBLANK('Data Input'!A71),\"\",SUM('Data Input'!T71,'Data Input'!U71))","v":""},{"$f":"IF(K66=\"\",\"\",K66/COUNTIF('Data Input'!$C$8:$AK$8,\"S\"))","v":""},{"$f":"IF(ISBLANK('Data Input'!A71),\"\",SUM('Data Input'!F71,'Data Input'!R71,'Data Input'!AJ71))","v":""},{"$f":"IF(M66=\"\",\"\",M66/COUNTIF('Data Input'!$C$8:$AK$8,\"F\"))","v":""},{"$f":"IF(ISBLANK('Data Input'!A71),\"\",SUM('Data Input'!E71,'Data Input'!M71,'Data Input'!Q71,'Data Input'!V71,'Data Input'!W71,'Data Input'!AD71,'Data Input'!AH71))","v":""},{"$f":"IF(O66=\"\",\"\",O66/COUNTIF('Data Input'!$C$8:$AK$8,\"M\"))","v":""},{"$f":"IF(ISBLANK('Data Input'!A71),\"\",SUM('Data Input'!H71,'Data Input'!K71,'Data Input'!P71,'Data Input'!Y71))","v":""},{"$f":"IF(Q66=\"\",\"\",Q66/COUNTIF('Data Input'!$C$8:$AK$8,\"G\"))","v":""}]
[{"$f":"IF('Data Input'!A72=0,\"\",'Data Input'!A72)","v":""},{"$f":"IF(ISBLANK('Data Input'!A72),\"\",COUNTIF('Data Input'!C72:AK72,\"\"))","v":""},{"$f":"IF(ISBLANK('Data Input'!A72),\"\",COUNTIF('Data Input'!C72:AK72,\"0\"))","v":""},{"$f":"IF(ISBLANK('Data Input'!A72),\"\",SUM(B67,C67))","v":""},{"$f":"IF(ISBLANK('Data Input'!A72),\"\",SUM('Data Input'!C72:AK72))","v":""},{"$f":"IF(E67=\"\",\"\",E67/(COUNTA('Data Input'!$C$8:$AK$8)))","v":""},{"$f":"IF(ISBLANK('Data Input'!A72),\"\",SUM('Data Input'!C72,'Data Input'!D72,'Data Input'!J72,'Data Input'!X72))","v":""},{"$f":"IF(G67=\"\",\"\",G67/COUNTIF('Data Input'!$C$8:$AK$8,\"N\"))","v":""},{"$f":"IF(ISBLANK('Data Input'!A72),\"\",SUM('Data Input'!G72,'Data Input'!I72,'Data Input'!L72,'Data Input'!N72,'Data Input'!O72,'Data Input'!S72,'Data Input'!Z72,'Data Input'!AA72,'Data Input'!AB72,'Data Input'!AC72,'Data Input'!AE72,'Data Input'!AF72,'Data Input'!AG72,'Data Input'!AI72,'Data Input'!AK72))","v":""},{"$f":"IF(I67=\"\",\"\",I67/COUNTIF('Data Input'!$C$8:$AK$8,\"C\"))","v":""},{"$f":"IF(ISBLANK('Data Input'!A72),\"\",SUM('Data Input'!T72,'Data Input'!U72))","v":""},{"$f":"IF(K67=\"\",\"\",K67/COUNTIF('Data Input'!$C$8:$AK$8,\"S\"))","v":""},{"$f":"IF(ISBLANK('Data Input'!A72),\"\",SUM('Data Input'!F72,'Data Input'!R72,'Data Input'!AJ72))","v":""},{"$f":"IF(M67=\"\",\"\",M67/COUNTIF('Data Input'!$C$8:$AK$8,\"F\"))","v":""},{"$f":"IF(ISBLANK('Data Input'!A72),\"\",SUM('Data Input'!E72,'Data Input'!M72,'Data Input'!Q72,'Data Input'!V72,'Data Input'!W72,'Data Input'!AD72,'Data Input'!AH72))","v":""},{"$f":"IF(O67=\"\",\"\",O67/COUNTIF('Data Input'!$C$8:$AK$8,\"M\"))","v":""},{"$f":"IF(ISBLANK('Data Input'!A72),\"\",SUM('Data Input'!H72,'Data Input'!K72,'Data Input'!P72,'Data Input'!Y72))","v":""},{"$f":"IF(Q67=\"\",\"\",Q67/COUNTIF('Data Input'!$C$8:$AK$8,\"G\"))","v":""}]
[{"$f":"IF('Data Input'!A73=0,\"\",'Data Input'!A73)","v":""},{"$f":"IF(ISBLANK('Data Input'!A73),\"\",COUNTIF('Data Input'!C73:AK73,\"\"))","v":""},{"$f":"IF(ISBLANK('Data Input'!A73),\"\",COUNTIF('Data Input'!C73:AK73,\"0\"))","v":""},{"$f":"IF(ISBLANK('Data Input'!A73),\"\",SUM(B68,C68))","v":""},{"$f":"IF(ISBLANK('Data Input'!A73),\"\",SUM('Data Input'!C73:AK73))","v":""},{"$f":"IF(E68=\"\",\"\",E68/(COUNTA('Data Input'!$C$8:$AK$8)))","v":""},{"$f":"IF(ISBLANK('Data Input'!A73),\"\",SUM('Data Input'!C73,'Data Input'!D73,'Data Input'!J73,'Data Input'!X73))","v":""},{"$f":"IF(G68=\"\",\"\",G68/COUNTIF('Data Input'!$C$8:$AK$8,\"N\"))","v":""},{"$f":"IF(ISBLANK('Data Input'!A73),\"\",SUM('Data Input'!G73,'Data Input'!I73,'Data Input'!L73,'Data Input'!N73,'Data Input'!O73,'Data Input'!S73,'Data Input'!Z73,'Data Input'!AA73,'Data Input'!AB73,'Data Input'!AC73,'Data Input'!AE73,'Data Input'!AF73,'Data Input'!AG73,'Data Input'!AI73,'Data Input'!AK73))","v":""},{"$f":"IF(I68=\"\",\"\",I68/COUNTIF('Data Input'!$C$8:$AK$8,\"C\"))","v":""},{"$f":"IF(ISBLANK('Data Input'!A73),\"\",SUM('Data Input'!T73,'Data Input'!U73))","v":""},{"$f":"IF(K68=\"\",\"\",K68/COUNTIF('Data Input'!$C$8:$AK$8,\"S\"))","v":""},{"$f":"IF(ISBLANK('Data Input'!A73),\"\",SUM('Data Input'!F73,'Data Input'!R73,'Data Input'!AJ73))","v":""},{"$f":"IF(M68=\"\",\"\",M68/COUNTIF('Data Input'!$C$8:$AK$8,\"F\"))","v":""},{"$f":"IF(ISBLANK('Data Input'!A73),\"\",SUM('Data Input'!E73,'Data Input'!M73,'Data Input'!Q73,'Data Input'!V73,'Data Input'!W73,'Data Input'!AD73,'Data Input'!AH73))","v":""},{"$f":"IF(O68=\"\",\"\",O68/COUNTIF('Data Input'!$C$8:$AK$8,\"M\"))","v":""},{"$f":"IF(ISBLANK('Data Input'!A73),\"\",SUM('Data Input'!H73,'Data Input'!K73,'Data Input'!P73,'Data Input'!Y73))","v":""},{"$f":"IF(Q68=\"\",\"\",Q68/COUNTIF('Data Input'!$C$8:$AK$8,\"G\"))","v":""}]
[{"$f":"IF('Data Input'!A74=0,\"\",'Data Input'!A74)","v":""},{"$f":"IF(ISBLANK('Data Input'!A74),\"\",COUNTIF('Data Input'!C74:AK74,\"\"))","v":""},{"$f":"IF(ISBLANK('Data Input'!A74),\"\",COUNTIF('Data Input'!C74:AK74,\"0\"))","v":""},{"$f":"IF(ISBLANK('Data Input'!A74),\"\",SUM(B69,C69))","v":""},{"$f":"IF(ISBLANK('Data Input'!A74),\"\",SUM('Data Input'!C74:AK74))","v":""},{"$f":"IF(E69=\"\",\"\",E69/(COUNTA('Data Input'!$C$8:$AK$8)))","v":""},{"$f":"IF(ISBLANK('Data Input'!A74),\"\",SUM('Data Input'!C74,'Data Input'!D74,'Data Input'!J74,'Data Input'!X74))","v":""},{"$f":"IF(G69=\"\",\"\",G69/COUNTIF('Data Input'!$C$8:$AK$8,\"N\"))","v":""},{"$f":"IF(ISBLANK('Data Input'!A74),\"\",SUM('Data Input'!G74,'Data Input'!I74,'Data Input'!L74,'Data Input'!N74,'Data Input'!O74,'Data Input'!S74,'Data Input'!Z74,'Data Input'!AA74,'Data Input'!AB74,'Data Input'!AC74,'Data Input'!AE74,'Data Input'!AF74,'Data Input'!AG74,'Data Input'!AI74,'Data Input'!AK74))","v":""},{"$f":"IF(I69=\"\",\"\",I69/COUNTIF('Data Input'!$C$8:$AK$8,\"C\"))","v":""},{"$f":"IF(ISBLANK('Data Input'!A74),\"\",SUM('Data Input'!T74,'Data Input'!U74))","v":""},{"$f":"IF(K69=\"\",\"\",K69/COUNTIF('Data Input'!$C$8:$AK$8,\"S\"))","v":""},{"$f":"IF(ISBLANK('Data Input'!A74),\"\",SUM('Data Input'!F74,'Data Input'!R74,'Data Input'!AJ74))","v":""},{"$f":"IF(M69=\"\",\"\",M69/COUNTIF('Data Input'!$C$8:$AK$8,\"F\"))","v":""},{"$f":"IF(ISBLANK('Data Input'!A74),\"\",SUM('Data Input'!E74,'Data Input'!M74,'Data Input'!Q74,'Data Input'!V74,'Data Input'!W74,'Data Input'!AD74,'Data Input'!AH74))","v":""},{"$f":"IF(O69=\"\",\"\",O69/COUNTIF('Data Input'!$C$8:$AK$8,\"M\"))","v":""},{"$f":"IF(ISBLANK('Data Input'!A74),\"\",SUM('Data Input'!H74,'Data Input'!K74,'Data Input'!P74,'Data Input'!Y74))","v":""},{"$f":"IF(Q69=\"\",\"\",Q69/COUNTIF('Data Input'!$C$8:$AK$8,\"G\"))","v":""}]
[{"$f":"IF('Data Input'!A75=0,\"\",'Data Input'!A75)","v":""},{"$f":"IF(ISBLANK('Data Input'!A75),\"\",COUNTIF('Data Input'!C75:AK75,\"\"))","v":""},{"$f":"IF(ISBLANK('Data Input'!A75),\"\",COUNTIF('Data Input'!C75:AK75,\"0\"))","v":""},{"$f":"IF(ISBLANK('Data Input'!A75),\"\",SUM(B70,C70))","v":""},{"$f":"IF(ISBLANK('Data Input'!A75),\"\",SUM('Data Input'!C75:AK75))","v":""},{"$f":"IF(E70=\"\",\"\",E70/(COUNTA('Data Input'!$C$8:$AK$8)))","v":""},{"$f":"IF(ISBLANK('Data Input'!A75),\"\",SUM('Data Input'!C75,'Data Input'!D75,'Data Input'!J75,'Data Input'!X75))","v":""},{"$f":"IF(G70=\"\",\"\",G70/COUNTIF('Data Input'!$C$8:$AK$8,\"N\"))","v":""},{"$f":"IF(ISBLANK('Data Input'!A75),\"\",SUM('Data Input'!G75,'Data Input'!I75,'Data Input'!L75,'Data Input'!N75,'Data Input'!O75,'Data Input'!S75,'Data Input'!Z75,'Data Input'!AA75,'Data Input'!AB75,'Data Input'!AC75,'Data Input'!AE75,'Data Input'!AF75,'Data Input'!AG75,'Data Input'!AI75,'Data Input'!AK75))","v":""},{"$f":"IF(I70=\"\",\"\",I70/COUNTIF('Data Input'!$C$8:$AK$8,\"C\"))","v":""},{"$f":"IF(ISBLANK('Data Input'!A75),\"\",SUM('Data Input'!T75,'Data Input'!U75))","v":""},{"$f":"IF(K70=\"\",\"\",K70/COUNTIF('Data Input'!$C$8:$AK$8,\"S\"))","v":""},{"$f":"IF(ISBLANK('Data Input'!A75),\"\",SUM('Data Input'!F75,'Data Input'!R75,'Data Input'!AJ75))","v":""},{"$f":"IF(M70=\"\",\"\",M70/COUNTIF('Data Input'!$C$8:$AK$8,\"F\"))","v":""},{"$f":"IF(ISBLANK('Data Input'!A75),\"\",SUM('Data Input'!E75,'Data Input'!M75,'Data Input'!Q75,'Data Input'!V75,'Data Input'!W75,'Data Input'!AD75,'Data Input'!AH75))","v":""},{"$f":"IF(O70=\"\",\"\",O70/COUNTIF('Data Input'!$C$8:$AK$8,\"M\"))","v":""},{"$f":"IF(ISBLANK('Data Input'!A75),\"\",SUM('Data Input'!H75,'Data Input'!K75,'Data Input'!P75,'Data Input'!Y75))","v":""},{"$f":"IF(Q70=\"\",\"\",Q70/COUNTIF('Data Input'!$C$8:$AK$8,\"G\"))","v":""}]
[{"$f":"IF('Data Input'!A76=0,\"\",'Data Input'!A76)","v":""},{"$f":"IF(ISBLANK('Data Input'!A76),\"\",COUNTIF('Data Input'!C76:AK76,\"\"))","v":""},{"$f":"IF(ISBLANK('Data Input'!A76),\"\",COUNTIF('Data Input'!C76:AK76,\"0\"))","v":""},{"$f":"IF(ISBLANK('Data Input'!A76),\"\",SUM(B71,C71))","v":""},{"$f":"IF(ISBLANK('Data Input'!A76),\"\",SUM('Data Input'!C76:AK76))","v":""},{"$f":"IF(E71=\"\",\"\",E71/(COUNTA('Data Input'!$C$8:$AK$8)))","v":""},{"$f":"IF(ISBLANK('Data Input'!A76),\"\",SUM('Data Input'!C76,'Data Input'!D76,'Data Input'!J76,'Data Input'!X76))","v":""},{"$f":"IF(G71=\"\",\"\",G71/COUNTIF('Data Input'!$C$8:$AK$8,\"N\"))","v":""},{"$f":"IF(ISBLANK('Data Input'!A76),\"\",SUM('Data Input'!G76,'Data Input'!I76,'Data Input'!L76,'Data Input'!N76,'Data Input'!O76,'Data Input'!S76,'Data Input'!Z76,'Data Input'!AA76,'Data Input'!AB76,'Data Input'!AC76,'Data Input'!AE76,'Data Input'!AF76,'Data Input'!AG76,'Data Input'!AI76,'Data Input'!AK76))","v":""},{"$f":"IF(I71=\"\",\"\",I71/COUNTIF('Data Input'!$C$8:$AK$8,\"C\"))","v":""},{"$f":"IF(ISBLANK('Data Input'!A76),\"\",SUM('Data Input'!T76,'Data Input'!U76))","v":""},{"$f":"IF(K71=\"\",\"\",K71/COUNTIF('Data Input'!$C$8:$AK$8,\"S\"))","v":""},{"$f":"IF(ISBLANK('Data Input'!A76),\"\",SUM('Data Input'!F76,'Data Input'!R76,'Data Input'!AJ76))","v":""},{"$f":"IF(M71=\"\",\"\",M71/COUNTIF('Data Input'!$C$8:$AK$8,\"F\"))","v":""},{"$f":"IF(ISBLANK('Data Input'!A76),\"\",SUM('Data Input'!E76,'Data Input'!M76,'Data Input'!Q76,'Data Input'!V76,'Data Input'!W76,'Data Input'!AD76,'Data Input'!AH76))","v":""},{"$f":"IF(O71=\"\",\"\",O71/COUNTIF('Data Input'!$C$8:$AK$8,\"M\"))","v":""},{"$f":"IF(ISBLANK('Data Input'!A76),\"\",SUM('Data Input'!H76,'Data Input'!K76,'Data Input'!P76,'Data Input'!Y76))","v":""},{"$f":"IF(Q71=\"\",\"\",Q71/COUNTIF('Data Input'!$C$8:$AK$8,\"G\"))","v":""}]
[{"$f":"IF('Data Input'!A77=0,\"\",'Data Input'!A77)","v":""},{"$f":"IF(ISBLANK('Data Input'!A77),\"\",COUNTIF('Data Input'!C77:AK77,\"\"))","v":""},{"$f":"IF(ISBLANK('Data Input'!A77),\"\",COUNTIF('Data Input'!C77:AK77,\"0\"))","v":""},{"$f":"IF(ISBLANK('Data Input'!A77),\"\",SUM(B72,C72))","v":""},{"$f":"IF(ISBLANK('Data Input'!A77),\"\",SUM('Data Input'!C77:AK77))","v":""},{"$f":"IF(E72=\"\",\"\",E72/(COUNTA('Data Input'!$C$8:$AK$8)))","v":""},{"$f":"IF(ISBLANK('Data Input'!A77),\"\",SUM('Data Input'!C77,'Data Input'!D77,'Data Input'!J77,'Data Input'!X77))","v":""},{"$f":"IF(G72=\"\",\"\",G72/COUNTIF('Data Input'!$C$8:$AK$8,\"N\"))","v":""},{"$f":"IF(ISBLANK('Data Input'!A77),\"\",SUM('Data Input'!G77,'Data Input'!I77,'Data Input'!L77,'Data Input'!N77,'Data Input'!O77,'Data Input'!S77,'Data Input'!Z77,'Data Input'!AA77,'Data Input'!AB77,'Data Input'!AC77,'Data Input'!AE77,'Data Input'!AF77,'Data Input'!AG77,'Data Input'!AI77,'Data Input'!AK77))","v":""},{"$f":"IF(I72=\"\",\"\",I72/COUNTIF('Data Input'!$C$8:$AK$8,\"C\"))","v":""},{"$f":"IF(ISBLANK('Data Input'!A77),\"\",SUM('Data Input'!T77,'Data Input'!U77))","v":""},{"$f":"IF(K72=\"\",\"\",K72/COUNTIF('Data Input'!$C$8:$AK$8,\"S\"))","v":""},{"$f":"IF(ISBLANK('Data Input'!A77),\"\",SUM('Data Input'!F77,'Data Input'!R77,'Data Input'!AJ77))","v":""},{"$f":"IF(M72=\"\",\"\",M72/COUNTIF('Data Input'!$C$8:$AK$8,\"F\"))","v":""},{"$f":"IF(ISBLANK('Data Input'!A77),\"\",SUM('Data Input'!E77,'Data Input'!M77,'Data Input'!Q77,'Data Input'!V77,'Data Input'!W77,'Data Input'!AD77,'Data Input'!AH77))","v":""},{"$f":"IF(O72=\"\",\"\",O72/COUNTIF('Data Input'!$C$8:$AK$8,\"M\"))","v":""},{"$f":"IF(ISBLANK('Data Input'!A77),\"\",SUM('Data Input'!H77,'Data Input'!K77,'Data Input'!P77,'Data Input'!Y77))","v":""},{"$f":"IF(Q72=\"\",\"\",Q72/COUNTIF('Data Input'!$C$8:$AK$8,\"G\"))","v":""}]
[{"$f":"IF('Data Input'!A78=0,\"\",'Data Input'!A78)","v":""},{"$f":"IF(ISBLANK('Data Input'!A78),\"\",COUNTIF('Data Input'!C78:AK78,\"\"))","v":""},{"$f":"IF(ISBLANK('Data Input'!A78),\"\",COUNTIF('Data Input'!C78:AK78,\"0\"))","v":""},{"$f":"IF(ISBLANK('Data Input'!A78),\"\",SUM(B73,C73))","v":""},{"$f":"IF(ISBLANK('Data Input'!A78),\"\",SUM('Data Input'!C78:AK78))","v":""},{"$f":"IF(E73=\"\",\"\",E73/(COUNTA('Data Input'!$C$8:$AK$8)))","v":""},{"$f":"IF(ISBLANK('Data Input'!A78),\"\",SUM('Data Input'!C78,'Data Input'!D78,'Data Input'!J78,'Data Input'!X78))","v":""},{"$f":"IF(G73=\"\",\"\",G73/COUNTIF('Data Input'!$C$8:$AK$8,\"N\"))","v":""},{"$f":"IF(ISBLANK('Data Input'!A78),\"\",SUM('Data Input'!G78,'Data Input'!I78,'Data Input'!L78,'Data Input'!N78,'Data Input'!O78,'Data Input'!S78,'Data Input'!Z78,'Data Input'!AA78,'Data Input'!AB78,'Data Input'!AC78,'Data Input'!AE78,'Data Input'!AF78,'Data Input'!AG78,'Data Input'!AI78,'Data Input'!AK78))","v":""},{"$f":"IF(I73=\"\",\"\",I73/COUNTIF('Data Input'!$C$8:$AK$8,\"C\"))","v":""},{"$f":"IF(ISBLANK('Data Input'!A78),\"\",SUM('Data Input'!T78,'Data Input'!U78))","v":""},{"$f":"IF(K73=\"\",\"\",K73/COUNTIF('Data Input'!$C$8:$AK$8,\"S\"))","v":""},{"$f":"IF(ISBLANK('Data Input'!A78),\"\",SUM('Data Input'!F78,'Data Input'!R78,'Data Input'!AJ78))","v":""},{"$f":"IF(M73=\"\",\"\",M73/COUNTIF('Data Input'!$C$8:$AK$8,\"F\"))","v":""},{"$f":"IF(ISBLANK('Data Input'!A78),\"\",SUM('Data Input'!E78,'Data Input'!M78,'Data Input'!Q78,'Data Input'!V78,'Data Input'!W78,'Data Input'!AD78,'Data Input'!AH78))","v":""},{"$f":"IF(O73=\"\",\"\",O73/COUNTIF('Data Input'!$C$8:$AK$8,\"M\"))","v":""},{"$f":"IF(ISBLANK('Data Input'!A78),\"\",SUM('Data Input'!H78,'Data Input'!K78,'Data Input'!P78,'Data Input'!Y78))","v":""},{"$f":"IF(Q73=\"\",\"\",Q73/COUNTIF('Data Input'!$C$8:$AK$8,\"G\"))","v":""}]
[{"$f":"IF('Data Input'!A79=0,\"\",'Data Input'!A79)","v":""},{"$f":"IF(ISBLANK('Data Input'!A79),\"\",COUNTIF('Data Input'!C79:AK79,\"\"))","v":""},{"$f":"IF(ISBLANK('Data Input'!A79),\"\",COUNTIF('Data Input'!C79:AK79,\"0\"))","v":""},{"$f":"IF(ISBLANK('Data Input'!A79),\"\",SUM(B74,C74))","v":""},{"$f":"IF(ISBLANK('Data Input'!A79),\"\",SUM('Data Input'!C79:AK79))","v":""},{"$f":"IF(E74=\"\",\"\",E74/(COUNTA('Data Input'!$C$8:$AK$8)))","v":""},{"$f":"IF(ISBLANK('Data Input'!A79),\"\",SUM('Data Input'!C79,'Data Input'!D79,'Data Input'!J79,'Data Input'!X79))","v":""},{"$f":"IF(G74=\"\",\"\",G74/COUNTIF('Data Input'!$C$8:$AK$8,\"N\"))","v":""},{"$f":"IF(ISBLANK('Data Input'!A79),\"\",SUM('Data Input'!G79,'Data Input'!I79,'Data Input'!L79,'Data Input'!N79,'Data Input'!O79,'Data Input'!S79,'Data Input'!Z79,'Data Input'!AA79,'Data Input'!AB79,'Data Input'!AC79,'Data Input'!AE79,'Data Input'!AF79,'Data Input'!AG79,'Data Input'!AI79,'Data Input'!AK79))","v":""},{"$f":"IF(I74=\"\",\"\",I74/COUNTIF('Data Input'!$C$8:$AK$8,\"C\"))","v":""},{"$f":"IF(ISBLANK('Data Input'!A79),\"\",SUM('Data Input'!T79,'Data Input'!U79))","v":""},{"$f":"IF(K74=\"\",\"\",K74/COUNTIF('Data Input'!$C$8:$AK$8,\"S\"))","v":""},{"$f":"IF(ISBLANK('Data Input'!A79),\"\",SUM('Data Input'!F79,'Data Input'!R79,'Data Input'!AJ79))","v":""},{"$f":"IF(M74=\"\",\"\",M74/COUNTIF('Data Input'!$C$8:$AK$8,\"F\"))","v":""},{"$f":"IF(ISBLANK('Data Input'!A79),\"\",SUM('Data Input'!E79,'Data Input'!M79,'Data Input'!Q79,'Data Input'!V79,'Data Input'!W79,'Data Input'!AD79,'Data Input'!AH79))","v":""},{"$f":"IF(O74=\"\",\"\",O74/COUNTIF('Data Input'!$C$8:$AK$8,\"M\"))","v":""},{"$f":"IF(ISBLANK('Data Input'!A79),\"\",SUM('Data Input'!H79,'Data Input'!K79,'Data Input'!P79,'Data Input'!Y79))","v":""},{"$f":"IF(Q74=\"\",\"\",Q74/COUNTIF('Data Input'!$C$8:$AK$8,\"G\"))","v":""}]
[{"$f":"IF('Data Input'!A80=0,\"\",'Data Input'!A80)","v":""},{"$f":"IF(ISBLANK('Data Input'!A80),\"\",COUNTIF('Data Input'!C80:AK80,\"\"))","v":""},{"$f":"IF(ISBLANK('Data Input'!A80),\"\",COUNTIF('Data Input'!C80:AK80,\"0\"))","v":""},{"$f":"IF(ISBLANK('Data Input'!A80),\"\",SUM(B75,C75))","v":""},{"$f":"IF(ISBLANK('Data Input'!A80),\"\",SUM('Data Input'!C80:AK80))","v":""},{"$f":"IF(E75=\"\",\"\",E75/(COUNTA('Data Input'!$C$8:$AK$8)))","v":""},{"$f":"IF(ISBLANK('Data Input'!A80),\"\",SUM('Data Input'!C80,'Data Input'!D80,'Data Input'!J80,'Data Input'!X80))","v":""},{"$f":"IF(G75=\"\",\"\",G75/COUNTIF('Data Input'!$C$8:$AK$8,\"N\"))","v":""},{"$f":"IF(ISBLANK('Data Input'!A80),\"\",SUM('Data Input'!G80,'Data Input'!I80,'Data Input'!L80,'Data Input'!N80,'Data Input'!O80,'Data Input'!S80,'Data Input'!Z80,'Data Input'!AA80,'Data Input'!AB80,'Data Input'!AC80,'Data Input'!AE80,'Data Input'!AF80,'Data Input'!AG80,'Data Input'!AI80,'Data Input'!AK80))","v":""},{"$f":"IF(I75=\"\",\"\",I75/COUNTIF('Data Input'!$C$8:$AK$8,\"C\"))","v":""},{"$f":"IF(ISBLANK('Data Input'!A80),\"\",SUM('Data Input'!T80,'Data Input'!U80))","v":""},{"$f":"IF(K75=\"\",\"\",K75/COUNTIF('Data Input'!$C$8:$AK$8,\"S\"))","v":""},{"$f":"IF(ISBLANK('Data Input'!A80),\"\",SUM('Data Input'!F80,'Data Input'!R80,'Data Input'!AJ80))","v":""},{"$f":"IF(M75=\"\",\"\",M75/COUNTIF('Data Input'!$C$8:$AK$8,\"F\"))","v":""},{"$f":"IF(ISBLANK('Data Input'!A80),\"\",SUM('Data Input'!E80,'Data Input'!M80,'Data Input'!Q80,'Data Input'!V80,'Data Input'!W80,'Data Input'!AD80,'Data Input'!AH80))","v":""},{"$f":"IF(O75=\"\",\"\",O75/COUNTIF('Data Input'!$C$8:$AK$8,\"M\"))","v":""},{"$f":"IF(ISBLANK('Data Input'!A80),\"\",SUM('Data Input'!H80,'Data Input'!K80,'Data Input'!P80,'Data Input'!Y80))","v":""},{"$f":"IF(Q75=\"\",\"\",Q75/COUNTIF('Data Input'!$C$8:$AK$8,\"G\"))","v":""}]
[{"$f":"IF('Data Input'!A81=0,\"\",'Data Input'!A81)","v":""},{"$f":"IF(ISBLANK('Data Input'!A81),\"\",COUNTIF('Data Input'!C81:AK81,\"\"))","v":""},{"$f":"IF(ISBLANK('Data Input'!A81),\"\",COUNTIF('Data Input'!C81:AK81,\"0\"))","v":""},{"$f":"IF(ISBLANK('Data Input'!A81),\"\",SUM(B76,C76))","v":""},{"$f":"IF(ISBLANK('Data Input'!A81),\"\",SUM('Data Input'!C81:AK81))","v":""},{"$f":"IF(E76=\"\",\"\",E76/(COUNTA('Data Input'!$C$8:$AK$8)))","v":""},{"$f":"IF(ISBLANK('Data Input'!A81),\"\",SUM('Data Input'!C81,'Data Input'!D81,'Data Input'!J81,'Data Input'!X81))","v":""},{"$f":"IF(G76=\"\",\"\",G76/COUNTIF('Data Input'!$C$8:$AK$8,\"N\"))","v":""},{"$f":"IF(ISBLANK('Data Input'!A81),\"\",SUM('Data Input'!G81,'Data Input'!I81,'Data Input'!L81,'Data Input'!N81,'Data Input'!O81,'Data Input'!S81,'Data Input'!Z81,'Data Input'!AA81,'Data Input'!AB81,'Data Input'!AC81,'Data Input'!AE81,'Data Input'!AF81,'Data Input'!AG81,'Data Input'!AI81,'Data Input'!AK81))","v":""},{"$f":"IF(I76=\"\",\"\",I76/COUNTIF('Data Input'!$C$8:$AK$8,\"C\"))","v":""},{"$f":"IF(ISBLANK('Data Input'!A81),\"\",SUM('Data Input'!T81,'Data Input'!U81))","v":""},{"$f":"IF(K76=\"\",\"\",K76/COUNTIF('Data Input'!$C$8:$AK$8,\"S\"))","v":""},{"$f":"IF(ISBLANK('Data Input'!A81),\"\",SUM('Data Input'!F81,'Data Input'!R81,'Data Input'!AJ81))","v":""},{"$f":"IF(M76=\"\",\"\",M76/COUNTIF('Data Input'!$C$8:$AK$8,\"F\"))","v":""},{"$f":"IF(ISBLANK('Data Input'!A81),\"\",SUM('Data Input'!E81,'Data Input'!M81,'Data Input'!Q81,'Data Input'!V81,'Data Input'!W81,'Data Input'!AD81,'Data Input'!AH81))","v":""},{"$f":"IF(O76=\"\",\"\",O76/COUNTIF('Data Input'!$C$8:$AK$8,\"M\"))","v":""},{"$f":"IF(ISBLANK('Data Input'!A81),\"\",SUM('Data Input'!H81,'Data Input'!K81,'Data Input'!P81,'Data Input'!Y81))","v":""},{"$f":"IF(Q76=\"\",\"\",Q76/COUNTIF('Data Input'!$C$8:$AK$8,\"G\"))","v":""}]
[{"$f":"IF('Data Input'!A82=0,\"\",'Data Input'!A82)","v":""},{"$f":"IF(ISBLANK('Data Input'!A82),\"\",COUNTIF('Data Input'!C82:AK82,\"\"))","v":""},{"$f":"IF(ISBLANK('Data Input'!A82),\"\",COUNTIF('Data Input'!C82:AK82,\"0\"))","v":""},{"$f":"IF(ISBLANK('Data Input'!A82),\"\",SUM(B77,C77))","v":""},{"$f":"IF(ISBLANK('Data Input'!A82),\"\",SUM('Data Input'!C82:AK82))","v":""},{"$f":"IF(E77=\"\",\"\",E77/(COUNTA('Data Input'!$C$8:$AK$8)))","v":""},{"$f":"IF(ISBLANK('Data Input'!A82),\"\",SUM('Data Input'!C82,'Data Input'!D82,'Data Input'!J82,'Data Input'!X82))","v":""},{"$f":"IF(G77=\"\",\"\",G77/COUNTIF('Data Input'!$C$8:$AK$8,\"N\"))","v":""},{"$f":"IF(ISBLANK('Data Input'!A82),\"\",SUM('Data Input'!G82,'Data Input'!I82,'Data Input'!L82,'Data Input'!N82,'Data Input'!O82,'Data Input'!S82,'Data Input'!Z82,'Data Input'!AA82,'Data Input'!AB82,'Data Input'!AC82,'Data Input'!AE82,'Data Input'!AF82,'Data Input'!AG82,'Data Input'!AI82,'Data Input'!AK82))","v":""},{"$f":"IF(I77=\"\",\"\",I77/COUNTIF('Data Input'!$C$8:$AK$8,\"C\"))","v":""},{"$f":"IF(ISBLANK('Data Input'!A82),\"\",SUM('Data Input'!T82,'Data Input'!U82))","v":""},{"$f":"IF(K77=\"\",\"\",K77/COUNTIF('Data Input'!$C$8:$AK$8,\"S\"))","v":""},{"$f":"IF(ISBLANK('Data Input'!A82),\"\",SUM('Data Input'!F82,'Data Input'!R82,'Data Input'!AJ82))","v":""},{"$f":"IF(M77=\"\",\"\",M77/COUNTIF('Data Input'!$C$8:$AK$8,\"F\"))","v":""},{"$f":"IF(ISBLANK('Data Input'!A82),\"\",SUM('Data Input'!E82,'Data Input'!M82,'Data Input'!Q82,'Data Input'!V82,'Data Input'!W82,'Data Input'!AD82,'Data Input'!AH82))","v":""},{"$f":"IF(O77=\"\",\"\",O77/COUNTIF('Data Input'!$C$8:$AK$8,\"M\"))","v":""},{"$f":"IF(ISBLANK('Data Input'!A82),\"\",SUM('Data Input'!H82,'Data Input'!K82,'Data Input'!P82,'Data Input'!Y82))","v":""},{"$f":"IF(Q77=\"\",\"\",Q77/COUNTIF('Data Input'!$C$8:$AK$8,\"G\"))","v":""}]
[{"$f":"IF('Data Input'!A83=0,\"\",'Data Input'!A83)","v":""},{"$f":"IF(ISBLANK('Data Input'!A83),\"\",COUNTIF('Data Input'!C83:AK83,\"\"))","v":""},{"$f":"IF(ISBLANK('Data Input'!A83),\"\",COUNTIF('Data Input'!C83:AK83,\"0\"))","v":""},{"$f":"IF(ISBLANK('Data Input'!A83),\"\",SUM(B78,C78))","v":""},{"$f":"IF(ISBLANK('Data Input'!A83),\"\",SUM('Data Input'!C83:AK83))","v":""},{"$f":"IF(E78=\"\",\"\",E78/(COUNTA('Data Input'!$C$8:$AK$8)))","v":""},{"$f":"IF(ISBLANK('Data Input'!A83),\"\",SUM('Data Input'!C83,'Data Input'!D83,'Data Input'!J83,'Data Input'!X83))","v":""},{"$f":"IF(G78=\"\",\"\",G78/COUNTIF('Data Input'!$C$8:$AK$8,\"N\"))","v":""},{"$f":"IF(ISBLANK('Data Input'!A83),\"\",SUM('Data Input'!G83,'Data Input'!I83,'Data Input'!L83,'Data Input'!N83,'Data Input'!O83,'Data Input'!S83,'Data Input'!Z83,'Data Input'!AA83,'Data Input'!AB83,'Data Input'!AC83,'Data Input'!AE83,'Data Input'!AF83,'Data Input'!AG83,'Data Input'!AI83,'Data Input'!AK83))","v":""},{"$f":"IF(I78=\"\",\"\",I78/COUNTIF('Data Input'!$C$8:$AK$8,\"C\"))","v":""},{"$f":"IF(ISBLANK('Data Input'!A83),\"\",SUM('Data Input'!T83,'Data Input'!U83))","v":""},{"$f":"IF(K78=\"\",\"\",K78/COUNTIF('Data Input'!$C$8:$AK$8,\"S\"))","v":""},{"$f":"IF(ISBLANK('Data Input'!A83),\"\",SUM('Data Input'!F83,'Data Input'!R83,'Data Input'!AJ83))","v":""},{"$f":"IF(M78=\"\",\"\",M78/COUNTIF('Data Input'!$C$8:$AK$8,\"F\"))","v":""},{"$f":"IF(ISBLANK('Data Input'!A83),\"\",SUM('Data Input'!E83,'Data Input'!M83,'Data Input'!Q83,'Data Input'!V83,'Data Input'!W83,'Data Input'!AD83,'Data Input'!AH83))","v":""},{"$f":"IF(O78=\"\",\"\",O78/COUNTIF('Data Input'!$C$8:$AK$8,\"M\"))","v":""},{"$f":"IF(ISBLANK('Data Input'!A83),\"\",SUM('Data Input'!H83,'Data Input'!K83,'Data Input'!P83,'Data Input'!Y83))","v":""},{"$f":"IF(Q78=\"\",\"\",Q78/COUNTIF('Data Input'!$C$8:$AK$8,\"G\"))","v":""}]
[{"$f":"IF('Data Input'!A84=0,\"\",'Data Input'!A84)","v":""},{"$f":"IF(ISBLANK('Data Input'!A84),\"\",COUNTIF('Data Input'!C84:AK84,\"\"))","v":""},{"$f":"IF(ISBLANK('Data Input'!A84),\"\",COUNTIF('Data Input'!C84:AK84,\"0\"))","v":""},{"$f":"IF(ISBLANK('Data Input'!A84),\"\",SUM(B79,C79))","v":""},{"$f":"IF(ISBLANK('Data Input'!A84),\"\",SUM('Data Input'!C84:AK84))","v":""},{"$f":"IF(E79=\"\",\"\",E79/(COUNTA('Data Input'!$C$8:$AK$8)))","v":""},{"$f":"IF(ISBLANK('Data Input'!A84),\"\",SUM('Data Input'!C84,'Data Input'!D84,'Data Input'!J84,'Data Input'!X84))","v":""},{"$f":"IF(G79=\"\",\"\",G79/COUNTIF('Data Input'!$C$8:$AK$8,\"N\"))","v":""},{"$f":"IF(ISBLANK('Data Input'!A84),\"\",SUM('Data Input'!G84,'Data Input'!I84,'Data Input'!L84,'Data Input'!N84,'Data Input'!O84,'Data Input'!S84,'Data Input'!Z84,'Data Input'!AA84,'Data Input'!AB84,'Data Input'!AC84,'Data Input'!AE84,'Data Input'!AF84,'Data Input'!AG84,'Data Input'!AI84,'Data Input'!AK84))","v":""},{"$f":"IF(I79=\"\",\"\",I79/COUNTIF('Data Input'!$C$8:$AK$8,\"C\"))","v":""},{"$f":"IF(ISBLANK('Data Input'!A84),\"\",SUM('Data Input'!T84,'Data Input'!U84))","v":""},{"$f":"IF(K79=\"\",\"\",K79/COUNTIF('Data Input'!$C$8:$AK$8,\"S\"))","v":""},{"$f":"IF(ISBLANK('Data Input'!A84),\"\",SUM('Data Input'!F84,'Data Input'!R84,'Data Input'!AJ84))","v":""},{"$f":"IF(M79=\"\",\"\",M79/COUNTIF('Data Input'!$C$8:$AK$8,\"F\"))","v":""},{"$f":"IF(ISBLANK('Data Input'!A84),\"\",SUM('Data Input'!E84,'Data Input'!M84,'Data Input'!Q84,'Data Input'!V84,'Data Input'!W84,'Data Input'!AD84,'Data Input'!AH84))","v":""},{"$f":"IF(O79=\"\",\"\",O79/COUNTIF('Data Input'!$C$8:$AK$8,\"M\"))","v":""},{"$f":"IF(ISBLANK('Data Input'!A84),\"\",SUM('Data Input'!H84,'Data Input'!K84,'Data Input'!P84,'Data Input'!Y84))","v":""},{"$f":"IF(Q79=\"\",\"\",Q79/COUNTIF('Data Input'!$C$8:$AK$8,\"G\"))","v":""}]
[{"$f":"IF('Data Input'!A85=0,\"\",'Data Input'!A85)","v":""},{"$f":"IF(ISBLANK('Data Input'!A85),\"\",COUNTIF('Data Input'!C85:AK85,\"\"))","v":""},{"$f":"IF(ISBLANK('Data Input'!A85),\"\",COUNTIF('Data Input'!C85:AK85,\"0\"))","v":""},{"$f":"IF(ISBLANK('Data Input'!A85),\"\",SUM(B80,C80))","v":""},{"$f":"IF(ISBLANK('Data Input'!A85),\"\",SUM('Data Input'!C85:AK85))","v":""},{"$f":"IF(E80=\"\",\"\",E80/(COUNTA('Data Input'!$C$8:$AK$8)))","v":""},{"$f":"IF(ISBLANK('Data Input'!A85),\"\",SUM('Data Input'!C85,'Data Input'!D85,'Data Input'!J85,'Data Input'!X85))","v":""},{"$f":"IF(G80=\"\",\"\",G80/COUNTIF('Data Input'!$C$8:$AK$8,\"N\"))","v":""},{"$f":"IF(ISBLANK('Data Input'!A85),\"\",SUM('Data Input'!G85,'Data Input'!I85,'Data Input'!L85,'Data Input'!N85,'Data Input'!O85,'Data Input'!S85,'Data Input'!Z85,'Data Input'!AA85,'Data Input'!AB85,'Data Input'!AC85,'Data Input'!AE85,'Data Input'!AF85,'Data Input'!AG85,'Data Input'!AI85,'Data Input'!AK85))","v":""},{"$f":"IF(I80=\"\",\"\",I80/COUNTIF('Data Input'!$C$8:$AK$8,\"C\"))","v":""},{"$f":"IF(ISBLANK('Data Input'!A85),\"\",SUM('Data Input'!T85,'Data Input'!U85))","v":""},{"$f":"IF(K80=\"\",\"\",K80/COUNTIF('Data Input'!$C$8:$AK$8,\"S\"))","v":""},{"$f":"IF(ISBLANK('Data Input'!A85),\"\",SUM('Data Input'!F85,'Data Input'!R85,'Data Input'!AJ85))","v":""},{"$f":"IF(M80=\"\",\"\",M80/COUNTIF('Data Input'!$C$8:$AK$8,\"F\"))","v":""},{"$f":"IF(ISBLANK('Data Input'!A85),\"\",SUM('Data Input'!E85,'Data Input'!M85,'Data Input'!Q85,'Data Input'!V85,'Data Input'!W85,'Data Input'!AD85,'Data Input'!AH85))","v":""},{"$f":"IF(O80=\"\",\"\",O80/COUNTIF('Data Input'!$C$8:$AK$8,\"M\"))","v":""},{"$f":"IF(ISBLANK('Data Input'!A85),\"\",SUM('Data Input'!H85,'Data Input'!K85,'Data Input'!P85,'Data Input'!Y85))","v":""},{"$f":"IF(Q80=\"\",\"\",Q80/COUNTIF('Data Input'!$C$8:$AK$8,\"G\"))","v":""}]
[{"$f":"IF('Data Input'!A86=0,\"\",'Data Input'!A86)","v":""},{"$f":"IF(ISBLANK('Data Input'!A86),\"\",COUNTIF('Data Input'!C86:AK86,\"\"))","v":""},{"$f":"IF(ISBLANK('Data Input'!A86),\"\",COUNTIF('Data Input'!C86:AK86,\"0\"))","v":""},{"$f":"IF(ISBLANK('Data Input'!A86),\"\",SUM(B81,C81))","v":""},{"$f":"IF(ISBLANK('Data Input'!A86),\"\",SUM('Data Input'!C86:AK86))","v":""},{"$f":"IF(E81=\"\",\"\",E81/(COUNTA('Data Input'!$C$8:$AK$8)))","v":""},{"$f":"IF(ISBLANK('Data Input'!A86),\"\",SUM('Data Input'!C86,'Data Input'!D86,'Data Input'!J86,'Data Input'!X86))","v":""},{"$f":"IF(G81=\"\",\"\",G81/COUNTIF('Data Input'!$C$8:$AK$8,\"N\"))","v":""},{"$f":"IF(ISBLANK('Data Input'!A86),\"\",SUM('Data Input'!G86,'Data Input'!I86,'Data Input'!L86,'Data Input'!N86,'Data Input'!O86,'Data Input'!S86,'Data Input'!Z86,'Data Input'!AA86,'Data Input'!AB86,'Data Input'!AC86,'Data Input'!AE86,'Data Input'!AF86,'Data Input'!AG86,'Data Input'!AI86,'Data Input'!AK86))","v":""},{"$f":"IF(I81=\"\",\"\",I81/COUNTIF('Data Input'!$C$8:$AK$8,\"C\"))","v":""},{"$f":"IF(ISBLANK('Data Input'!A86),\"\",SUM('Data Input'!T86,'Data Input'!U86))","v":""},{"$f":"IF(K81=\"\",\"\",K81/COUNTIF('Data Input'!$C$8:$AK$8,\"S\"))","v":""},{"$f":"IF(ISBLANK('Data Input'!A86),\"\",SUM('Data Input'!F86,'Data Input'!R86,'Data Input'!AJ86))","v":""},{"$f":"IF(M81=\"\",\"\",M81/COUNTIF('Data Input'!$C$8:$AK$8,\"F\"))","v":""},{"$f":"IF(ISBLANK('Data Input'!A86),\"\",SUM('Data Input'!E86,'Data Input'!M86,'Data Input'!Q86,'Data Input'!V86,'Data Input'!W86,'Data Input'!AD86,'Data Input'!AH86))","v":""},{"$f":"IF(O81=\"\",\"\",O81/COUNTIF('Data Input'!$C$8:$AK$8,\"M\"))","v":""},{"$f":"IF(ISBLANK('Data Input'!A86),\"\",SUM('Data Input'!H86,'Data Input'!K86,'Data Input'!P86,'Data Input'!Y86))","v":""},{"$f":"IF(Q81=\"\",\"\",Q81/COUNTIF('Data Input'!$C$8:$AK$8,\"G\"))","v":""}]
[{"$f":"IF('Data Input'!A87=0,\"\",'Data Input'!A87)","v":""},{"$f":"IF(ISBLANK('Data Input'!A87),\"\",COUNTIF('Data Input'!C87:AK87,\"\"))","v":""},{"$f":"IF(ISBLANK('Data Input'!A87),\"\",COUNTIF('Data Input'!C87:AK87,\"0\"))","v":""},{"$f":"IF(ISBLANK('Data Input'!A87),\"\",SUM(B82,C82))","v":""},{"$f":"IF(ISBLANK('Data Input'!A87),\"\",SUM('Data Input'!C87:AK87))","v":""},{"$f":"IF(E82=\"\",\"\",E82/(COUNTA('Data Input'!$C$8:$AK$8)))","v":""},{"$f":"IF(ISBLANK('Data Input'!A87),\"\",SUM('Data Input'!C87,'Data Input'!D87,'Data Input'!J87,'Data Input'!X87))","v":""},{"$f":"IF(G82=\"\",\"\",G82/COUNTIF('Data Input'!$C$8:$AK$8,\"N\"))","v":""},{"$f":"IF(ISBLANK('Data Input'!A87),\"\",SUM('Data Input'!G87,'Data Input'!I87,'Data Input'!L87,'Data Input'!N87,'Data Input'!O87,'Data Input'!S87,'Data Input'!Z87,'Data Input'!AA87,'Data Input'!AB87,'Data Input'!AC87,'Data Input'!AE87,'Data Input'!AF87,'Data Input'!AG87,'Data Input'!AI87,'Data Input'!AK87))","v":""},{"$f":"IF(I82=\"\",\"\",I82/COUNTIF('Data Input'!$C$8:$AK$8,\"C\"))","v":""},{"$f":"IF(ISBLANK('Data Input'!A87),\"\",SUM('Data Input'!T87,'Data Input'!U87))","v":""},{"$f":"IF(K82=\"\",\"\",K82/COUNTIF('Data Input'!$C$8:$AK$8,\"S\"))","v":""},{"$f":"IF(ISBLANK('Data Input'!A87),\"\",SUM('Data Input'!F87,'Data Input'!R87,'Data Input'!AJ87))","v":""},{"$f":"IF(M82=\"\",\"\",M82/COUNTIF('Data Input'!$C$8:$AK$8,\"F\"))","v":""},{"$f":"IF(ISBLANK('Data Input'!A87),\"\",SUM('Data Input'!E87,'Data Input'!M87,'Data Input'!Q87,'Data Input'!V87,'Data Input'!W87,'Data Input'!AD87,'Data Input'!AH87))","v":""},{"$f":"IF(O82=\"\",\"\",O82/COUNTIF('Data Input'!$C$8:$AK$8,\"M\"))","v":""},{"$f":"IF(ISBLANK('Data Input'!A87),\"\",SUM('Data Input'!H87,'Data Input'!K87,'Data Input'!P87,'Data Input'!Y87))","v":""},{"$f":"IF(Q82=\"\",\"\",Q82/COUNTIF('Data Input'!$C$8:$AK$8,\"G\"))","v":""}]
[{"$f":"IF('Data Input'!A88=0,\"\",'Data Input'!A88)","v":""},{"$f":"IF(ISBLANK('Data Input'!A88),\"\",COUNTIF('Data Input'!C88:AK88,\"\"))","v":""},{"$f":"IF(ISBLANK('Data Input'!A88),\"\",COUNTIF('Data Input'!C88:AK88,\"0\"))","v":""},{"$f":"IF(ISBLANK('Data Input'!A88),\"\",SUM(B83,C83))","v":""},{"$f":"IF(ISBLANK('Data Input'!A88),\"\",SUM('Data Input'!C88:AK88))","v":""},{"$f":"IF(E83=\"\",\"\",E83/(COUNTA('Data Input'!$C$8:$AK$8)))","v":""},{"$f":"IF(ISBLANK('Data Input'!A88),\"\",SUM('Data Input'!C88,'Data Input'!D88,'Data Input'!J88,'Data Input'!X88))","v":""},{"$f":"IF(G83=\"\",\"\",G83/COUNTIF('Data Input'!$C$8:$AK$8,\"N\"))","v":""},{"$f":"IF(ISBLANK('Data Input'!A88),\"\",SUM('Data Input'!G88,'Data Input'!I88,'Data Input'!L88,'Data Input'!N88,'Data Input'!O88,'Data Input'!S88,'Data Input'!Z88,'Data Input'!AA88,'Data Input'!AB88,'Data Input'!AC88,'Data Input'!AE88,'Data Input'!AF88,'Data Input'!AG88,'Data Input'!AI88,'Data Input'!AK88))","v":""},{"$f":"IF(I83=\"\",\"\",I83/COUNTIF('Data Input'!$C$8:$AK$8,\"C\"))","v":""},{"$f":"IF(ISBLANK('Data Input'!A88),\"\",SUM('Data Input'!T88,'Data Input'!U88))","v":""},{"$f":"IF(K83=\"\",\"\",K83/COUNTIF('Data Input'!$C$8:$AK$8,\"S\"))","v":""},{"$f":"IF(ISBLANK('Data Input'!A88),\"\",SUM('Data Input'!F88,'Data Input'!R88,'Data Input'!AJ88))","v":""},{"$f":"IF(M83=\"\",\"\",M83/COUNTIF('Data Input'!$C$8:$AK$8,\"F\"))","v":""},{"$f":"IF(ISBLANK('Data Input'!A88),\"\",SUM('Data Input'!E88,'Data Input'!M88,'Data Input'!Q88,'Data Input'!V88,'Data Input'!W88,'Data Input'!AD88,'Data Input'!AH88))","v":""},{"$f":"IF(O83=\"\",\"\",O83/COUNTIF('Data Input'!$C$8:$AK$8,\"M\"))","v":""},{"$f":"IF(ISBLANK('Data Input'!A88),\"\",SUM('Data Input'!H88,'Data Input'!K88,'Data Input'!P88,'Data Input'!Y88))","v":""},{"$f":"IF(Q83=\"\",\"\",Q83/COUNTIF('Data Input'!$C$8:$AK$8,\"G\"))","v":""}]
[{"$f":"IF('Data Input'!A89=0,\"\",'Data Input'!A89)","v":""},{"$f":"IF(ISBLANK('Data Input'!A89),\"\",COUNTIF('Data Input'!C89:AK89,\"\"))","v":""},{"$f":"IF(ISBLANK('Data Input'!A89),\"\",COUNTIF('Data Input'!C89:AK89,\"0\"))","v":""},{"$f":"IF(ISBLANK('Data Input'!A89),\"\",SUM(B84,C84))","v":""},{"$f":"IF(ISBLANK('Data Input'!A89),\"\",SUM('Data Input'!C89:AK89))","v":""},{"$f":"IF(E84=\"\",\"\",E84/(COUNTA('Data Input'!$C$8:$AK$8)))","v":""},{"$f":"IF(ISBLANK('Data Input'!A89),\"\",SUM('Data Input'!C89,'Data Input'!D89,'Data Input'!J89,'Data Input'!X89))","v":""},{"$f":"IF(G84=\"\",\"\",G84/COUNTIF('Data Input'!$C$8:$AK$8,\"N\"))","v":""},{"$f":"IF(ISBLANK('Data Input'!A89),\"\",SUM('Data Input'!G89,'Data Input'!I89,'Data Input'!L89,'Data Input'!N89,'Data Input'!O89,'Data Input'!S89,'Data Input'!Z89,'Data Input'!AA89,'Data Input'!AB89,'Data Input'!AC89,'Data Input'!AE89,'Data Input'!AF89,'Data Input'!AG89,'Data Input'!AI89,'Data Input'!AK89))","v":""},{"$f":"IF(I84=\"\",\"\",I84/COUNTIF('Data Input'!$C$8:$AK$8,\"C\"))","v":""},{"$f":"IF(ISBLANK('Data Input'!A89),\"\",SUM('Data Input'!T89,'Data Input'!U89))","v":""},{"$f":"IF(K84=\"\",\"\",K84/COUNTIF('Data Input'!$C$8:$AK$8,\"S\"))","v":""},{"$f":"IF(ISBLANK('Data Input'!A89),\"\",SUM('Data Input'!F89,'Data Input'!R89,'Data Input'!AJ89))","v":""},{"$f":"IF(M84=\"\",\"\",M84/COUNTIF('Data Input'!$C$8:$AK$8,\"F\"))","v":""},{"$f":"IF(ISBLANK('Data Input'!A89),\"\",SUM('Data Input'!E89,'Data Input'!M89,'Data Input'!Q89,'Data Input'!V89,'Data Input'!W89,'Data Input'!AD89,'Data Input'!AH89))","v":""},{"$f":"IF(O84=\"\",\"\",O84/COUNTIF('Data Input'!$C$8:$AK$8,\"M\"))","v":""},{"$f":"IF(ISBLANK('Data Input'!A89),\"\",SUM('Data Input'!H89,'Data Input'!K89,'Data Input'!P89,'Data Input'!Y89))","v":""},{"$f":"IF(Q84=\"\",\"\",Q84/COUNTIF('Data Input'!$C$8:$AK$8,\"G\"))","v":""}]
[{"$f":"IF('Data Input'!A90=0,\"\",'Data Input'!A90)","v":""},{"$f":"IF(ISBLANK('Data Input'!A90),\"\",COUNTIF('Data Input'!C90:AK90,\"\"))","v":""},{"$f":"IF(ISBLANK('Data Input'!A90),\"\",COUNTIF('Data Input'!C90:AK90,\"0\"))","v":""},{"$f":"IF(ISBLANK('Data Input'!A90),\"\",SUM(B85,C85))","v":""},{"$f":"IF(ISBLANK('Data Input'!A90),\"\",SUM('Data Input'!C90:AK90))","v":""},{"$f":"IF(E85=\"\",\"\",E85/(COUNTA('Data Input'!$C$8:$AK$8)))","v":""},{"$f":"IF(ISBLANK('Data Input'!A90),\"\",SUM('Data Input'!C90,'Data Input'!D90,'Data Input'!J90,'Data Input'!X90))","v":""},{"$f":"IF(G85=\"\",\"\",G85/COUNTIF('Data Input'!$C$8:$AK$8,\"N\"))","v":""},{"$f":"IF(ISBLANK('Data Input'!A90),\"\",SUM('Data Input'!G90,'Data Input'!I90,'Data Input'!L90,'Data Input'!N90,'Data Input'!O90,'Data Input'!S90,'Data Input'!Z90,'Data Input'!AA90,'Data Input'!AB90,'Data Input'!AC90,'Data Input'!AE90,'Data Input'!AF90,'Data Input'!AG90,'Data Input'!AI90,'Data Input'!AK90))","v":""},{"$f":"IF(I85=\"\",\"\",I85/COUNTIF('Data Input'!$C$8:$AK$8,\"C\"))","v":""},{"$f":"IF(ISBLANK('Data Input'!A90),\"\",SUM('Data Input'!T90,'Data Input'!U90))","v":""},{"$f":"IF(K85=\"\",\"\",K85/COUNTIF('Data Input'!$C$8:$AK$8,\"S\"))","v":""},{"$f":"IF(ISBLANK('Data Input'!A90),\"\",SUM('Data Input'!F90,'Data Input'!R90,'Data Input'!AJ90))","v":""},{"$f":"IF(M85=\"\",\"\",M85/COUNTIF('Data Input'!$C$8:$AK$8,\"F\"))","v":""},{"$f":"IF(ISBLANK('Data Input'!A90),\"\",SUM('Data Input'!E90,'Data Input'!M90,'Data Input'!Q90,'Data Input'!V90,'Data Input'!W90,'Data Input'!AD90,'Data Input'!AH90))","v":""},{"$f":"IF(O85=\"\",\"\",O85/COUNTIF('Data Input'!$C$8:$AK$8,\"M\"))","v":""},{"$f":"IF(ISBLANK('Data Input'!A90),\"\",SUM('Data Input'!H90,'Data Input'!K90,'Data Input'!P90,'Data Input'!Y90))","v":""},{"$f":"IF(Q85=\"\",\"\",Q85/COUNTIF('Data Input'!$C$8:$AK$8,\"G\"))","v":""}]
[{"$f":"IF('Data Input'!A91=0,\"\",'Data Input'!A91)","v":""},{"$f":"IF(ISBLANK('Data Input'!A91),\"\",COUNTIF('Data Input'!C91:AK91,\"\"))","v":""},{"$f":"IF(ISBLANK('Data Input'!A91),\"\",COUNTIF('Data Input'!C91:AK91,\"0\"))","v":""},{"$f":"IF(ISBLANK('Data Input'!A91),\"\",SUM(B86,C86))","v":""},{"$f":"IF(ISBLANK('Data Input'!A91),\"\",SUM('Data Input'!C91:AK91))","v":""},{"$f":"IF(E86=\"\",\"\",E86/(COUNTA('Data Input'!$C$8:$AK$8)))","v":""},{"$f":"IF(ISBLANK('Data Input'!A91),\"\",SUM('Data Input'!C91,'Data Input'!D91,'Data Input'!J91,'Data Input'!X91))","v":""},{"$f":"IF(G86=\"\",\"\",G86/COUNTIF('Data Input'!$C$8:$AK$8,\"N\"))","v":""},{"$f":"IF(ISBLANK('Data Input'!A91),\"\",SUM('Data Input'!G91,'Data Input'!I91,'Data Input'!L91,'Data Input'!N91,'Data Input'!O91,'Data Input'!S91,'Data Input'!Z91,'Data Input'!AA91,'Data Input'!AB91,'Data Input'!AC91,'Data Input'!AE91,'Data Input'!AF91,'Data Input'!AG91,'Data Input'!AI91,'Data Input'!AK91))","v":""},{"$f":"IF(I86=\"\",\"\",I86/COUNTIF('Data Input'!$C$8:$AK$8,\"C\"))","v":""},{"$f":"IF(ISBLANK('Data Input'!A91),\"\",SUM('Data Input'!T91,'Data Input'!U91))","v":""},{"$f":"IF(K86=\"\",\"\",K86/COUNTIF('Data Input'!$C$8:$AK$8,\"S\"))","v":""},{"$f":"IF(ISBLANK('Data Input'!A91),\"\",SUM('Data Input'!F91,'Data Input'!R91,'Data Input'!AJ91))","v":""},{"$f":"IF(M86=\"\",\"\",M86/COUNTIF('Data Input'!$C$8:$AK$8,\"F\"))","v":""},{"$f":"IF(ISBLANK('Data Input'!A91),\"\",SUM('Data Input'!E91,'Data Input'!M91,'Data Input'!Q91,'Data Input'!V91,'Data Input'!W91,'Data Input'!AD91,'Data Input'!AH91))","v":""},{"$f":"IF(O86=\"\",\"\",O86/COUNTIF('Data Input'!$C$8:$AK$8,\"M\"))","v":""},{"$f":"IF(ISBLANK('Data Input'!A91),\"\",SUM('Data Input'!H91,'Data Input'!K91,'Data Input'!P91,'Data Input'!Y91))","v":""},{"$f":"IF(Q86=\"\",\"\",Q86/COUNTIF('Data Input'!$C$8:$AK$8,\"G\"))","v":""}]
[{"$f":"IF('Data Input'!A92=0,\"\",'Data Input'!A92)","v":""},{"$f":"IF(ISBLANK('Data Input'!A92),\"\",COUNTIF('Data Input'!C92:AK92,\"\"))","v":""},{"$f":"IF(ISBLANK('Data Input'!A92),\"\",COUNTIF('Data Input'!C92:AK92,\"0\"))","v":""},{"$f":"IF(ISBLANK('Data Input'!A92),\"\",SUM(B87,C87))","v":""},{"$f":"IF(ISBLANK('Data Input'!A92),\"\",SUM('Data Input'!C92:AK92))","v":""},{"$f":"IF(E87=\"\",\"\",E87/(COUNTA('Data Input'!$C$8:$AK$8)))","v":""},{"$f":"IF(ISBLANK('Data Input'!A92),\"\",SUM('Data Input'!C92,'Data Input'!D92,'Data Input'!J92,'Data Input'!X92))","v":""},{"$f":"IF(G87=\"\",\"\",G87/COUNTIF('Data Input'!$C$8:$AK$8,\"N\"))","v":""},{"$f":"IF(ISBLANK('Data Input'!A92),\"\",SUM('Data Input'!G92,'Data Input'!I92,'Data Input'!L92,'Data Input'!N92,'Data Input'!O92,'Data Input'!S92,'Data Input'!Z92,'Data Input'!AA92,'Data Input'!AB92,'Data Input'!AC92,'Data Input'!AE92,'Data Input'!AF92,'Data Input'!AG92,'Data Input'!AI92,'Data Input'!AK92))","v":""},{"$f":"IF(I87=\"\",\"\",I87/COUNTIF('Data Input'!$C$8:$AK$8,\"C\"))","v":""},{"$f":"IF(ISBLANK('Data Input'!A92),\"\",SUM('Data Input'!T92,'Data Input'!U92))","v":""},{"$f":"IF(K87=\"\",\"\",K87/COUNTIF('Data Input'!$C$8:$AK$8,\"S\"))","v":""},{"$f":"IF(ISBLANK('Data Input'!A92),\"\",SUM('Data Input'!F92,'Data Input'!R92,'Data Input'!AJ92))","v":""},{"$f":"IF(M87=\"\",\"\",M87/COUNTIF('Data Input'!$C$8:$AK$8,\"F\"))","v":""},{"$f":"IF(ISBLANK('Data Input'!A92),\"\",SUM('Data Input'!E92,'Data Input'!M92,'Data Input'!Q92,'Data Input'!V92,'Data Input'!W92,'Data Input'!AD92,'Data Input'!AH92))","v":""},{"$f":"IF(O87=\"\",\"\",O87/COUNTIF('Data Input'!$C$8:$AK$8,\"M\"))","v":""},{"$f":"IF(ISBLANK('Data Input'!A92),\"\",SUM('Data Input'!H92,'Data Input'!K92,'Data Input'!P92,'Data Input'!Y92))","v":""},{"$f":"IF(Q87=\"\",\"\",Q87/COUNTIF('Data Input'!$C$8:$AK$8,\"G\"))","v":""}]
[{"$f":"IF('Data Input'!A93=0,\"\",'Data Input'!A93)","v":""},{"$f":"IF(ISBLANK('Data Input'!A93),\"\",COUNTIF('Data Input'!C93:AK93,\"\"))","v":""},{"$f":"IF(ISBLANK('Data Input'!A93),\"\",COUNTIF('Data Input'!C93:AK93,\"0\"))","v":""},{"$f":"IF(ISBLANK('Data Input'!A93),\"\",SUM(B88,C88))","v":""},{"$f":"IF(ISBLANK('Data Input'!A93),\"\",SUM('Data Input'!C93:AK93))","v":""},{"$f":"IF(E88=\"\",\"\",E88/(COUNTA('Data Input'!$C$8:$AK$8)))","v":""},{"$f":"IF(ISBLANK('Data Input'!A93),\"\",SUM('Data Input'!C93,'Data Input'!D93,'Data Input'!J93,'Data Input'!X93))","v":""},{"$f":"IF(G88=\"\",\"\",G88/COUNTIF('Data Input'!$C$8:$AK$8,\"N\"))","v":""},{"$f":"IF(ISBLANK('Data Input'!A93),\"\",SUM('Data Input'!G93,'Data Input'!I93,'Data Input'!L93,'Data Input'!N93,'Data Input'!O93,'Data Input'!S93,'Data Input'!Z93,'Data Input'!AA93,'Data Input'!AB93,'Data Input'!AC93,'Data Input'!AE93,'Data Input'!AF93,'Data Input'!AG93,'Data Input'!AI93,'Data Input'!AK93))","v":""},{"$f":"IF(I88=\"\",\"\",I88/COUNTIF('Data Input'!$C$8:$AK$8,\"C\"))","v":""},{"$f":"IF(ISBLANK('Data Input'!A93),\"\",SUM('Data Input'!T93,'Data Input'!U93))","v":""},{"$f":"IF(K88=\"\",\"\",K88/COUNTIF('Data Input'!$C$8:$AK$8,\"S\"))","v":""},{"$f":"IF(ISBLANK('Data Input'!A93),\"\",SUM('Data Input'!F93,'Data Input'!R93,'Data Input'!AJ93))","v":""},{"$f":"IF(M88=\"\",\"\",M88/COUNTIF('Data Input'!$C$8:$AK$8,\"F\"))","v":""},{"$f":"IF(ISBLANK('Data Input'!A93),\"\",SUM('Data Input'!E93,'Data Input'!M93,'Data Input'!Q93,'Data Input'!V93,'Data Input'!W93,'Data Input'!AD93,'Data Input'!AH93))","v":""},{"$f":"IF(O88=\"\",\"\",O88/COUNTIF('Data Input'!$C$8:$AK$8,\"M\"))","v":""},{"$f":"IF(ISBLANK('Data Input'!A93),\"\",SUM('Data Input'!H93,'Data Input'!K93,'Data Input'!P93,'Data Input'!Y93))","v":""},{"$f":"IF(Q88=\"\",\"\",Q88/COUNTIF('Data Input'!$C$8:$AK$8,\"G\"))","v":""}]
[{"$f":"IF('Data Input'!A94=0,\"\",'Data Input'!A94)","v":""},{"$f":"IF(ISBLANK('Data Input'!A94),\"\",COUNTIF('Data Input'!C94:AK94,\"\"))","v":""},{"$f":"IF(ISBLANK('Data Input'!A94),\"\",COUNTIF('Data Input'!C94:AK94,\"0\"))","v":""},{"$f":"IF(ISBLANK('Data Input'!A94),\"\",SUM(B89,C89))","v":""},{"$f":"IF(ISBLANK('Data Input'!A94),\"\",SUM('Data Input'!C94:AK94))","v":""},{"$f":"IF(E89=\"\",\"\",E89/(COUNTA('Data Input'!$C$8:$AK$8)))","v":""},{"$f":"IF(ISBLANK('Data Input'!A94),\"\",SUM('Data Input'!C94,'Data Input'!D94,'Data Input'!J94,'Data Input'!X94))","v":""},{"$f":"IF(G89=\"\",\"\",G89/COUNTIF('Data Input'!$C$8:$AK$8,\"N\"))","v":""},{"$f":"IF(ISBLANK('Data Input'!A94),\"\",SUM('Data Input'!G94,'Data Input'!I94,'Data Input'!L94,'Data Input'!N94,'Data Input'!O94,'Data Input'!S94,'Data Input'!Z94,'Data Input'!AA94,'Data Input'!AB94,'Data Input'!AC94,'Data Input'!AE94,'Data Input'!AF94,'Data Input'!AG94,'Data Input'!AI94,'Data Input'!AK94))","v":""},{"$f":"IF(I89=\"\",\"\",I89/COUNTIF('Data Input'!$C$8:$AK$8,\"C\"))","v":""},{"$f":"IF(ISBLANK('Data Input'!A94),\"\",SUM('Data Input'!T94,'Data Input'!U94))","v":""},{"$f":"IF(K89=\"\",\"\",K89/COUNTIF('Data Input'!$C$8:$AK$8,\"S\"))","v":""},{"$f":"IF(ISBLANK('Data Input'!A94),\"\",SUM('Data Input'!F94,'Data Input'!R94,'Data Input'!AJ94))","v":""},{"$f":"IF(M89=\"\",\"\",M89/COUNTIF('Data Input'!$C$8:$AK$8,\"F\"))","v":""},{"$f":"IF(ISBLANK('Data Input'!A94),\"\",SUM('Data Input'!E94,'Data Input'!M94,'Data Input'!Q94,'Data Input'!V94,'Data Input'!W94,'Data Input'!AD94,'Data Input'!AH94))","v":""},{"$f":"IF(O89=\"\",\"\",O89/COUNTIF('Data Input'!$C$8:$AK$8,\"M\"))","v":""},{"$f":"IF(ISBLANK('Data Input'!A94),\"\",SUM('Data Input'!H94,'Data Input'!K94,'Data Input'!P94,'Data Input'!Y94))","v":""},{"$f":"IF(Q89=\"\",\"\",Q89/COUNTIF('Data Input'!$C$8:$AK$8,\"G\"))","v":""}]
[{"$f":"IF('Data Input'!A95=0,\"\",'Data Input'!A95)","v":""},{"$f":"IF(ISBLANK('Data Input'!A95),\"\",COUNTIF('Data Input'!C95:AK95,\"\"))","v":""},{"$f":"IF(ISBLANK('Data Input'!A95),\"\",COUNTIF('Data Input'!C95:AK95,\"0\"))","v":""},{"$f":"IF(ISBLANK('Data Input'!A95),\"\",SUM(B90,C90))","v":""},{"$f":"IF(ISBLANK('Data Input'!A95),\"\",SUM('Data Input'!C95:AK95))","v":""},{"$f":"IF(E90=\"\",\"\",E90/(COUNTA('Data Input'!$C$8:$AK$8)))","v":""},{"$f":"IF(ISBLANK('Data Input'!A95),\"\",SUM('Data Input'!C95,'Data Input'!D95,'Data Input'!J95,'Data Input'!X95))","v":""},{"$f":"IF(G90=\"\",\"\",G90/COUNTIF('Data Input'!$C$8:$AK$8,\"N\"))","v":""},{"$f":"IF(ISBLANK('Data Input'!A95),\"\",SUM('Data Input'!G95,'Data Input'!I95,'Data Input'!L95,'Data Input'!N95,'Data Input'!O95,'Data Input'!S95,'Data Input'!Z95,'Data Input'!AA95,'Data Input'!AB95,'Data Input'!AC95,'Data Input'!AE95,'Data Input'!AF95,'Data Input'!AG95,'Data Input'!AI95,'Data Input'!AK95))","v":""},{"$f":"IF(I90=\"\",\"\",I90/COUNTIF('Data Input'!$C$8:$AK$8,\"C\"))","v":""},{"$f":"IF(ISBLANK('Data Input'!A95),\"\",SUM('Data Input'!T95,'Data Input'!U95))","v":""},{"$f":"IF(K90=\"\",\"\",K90/COUNTIF('Data Input'!$C$8:$AK$8,\"S\"))","v":""},{"$f":"IF(ISBLANK('Data Input'!A95),\"\",SUM('Data Input'!F95,'Data Input'!R95,'Data Input'!AJ95))","v":""},{"$f":"IF(M90=\"\",\"\",M90/COUNTIF('Data Input'!$C$8:$AK$8,\"F\"))","v":""},{"$f":"IF(ISBLANK('Data Input'!A95),\"\",SUM('Data Input'!E95,'Data Input'!M95,'Data Input'!Q95,'Data Input'!V95,'Data Input'!W95,'Data Input'!AD95,'Data Input'!AH95))","v":""},{"$f":"IF(O90=\"\",\"\",O90/COUNTIF('Data Input'!$C$8:$AK$8,\"M\"))","v":""},{"$f":"IF(ISBLANK('Data Input'!A95),\"\",SUM('Data Input'!H95,'Data Input'!K95,'Data Input'!P95,'Data Input'!Y95))","v":""},{"$f":"IF(Q90=\"\",\"\",Q90/COUNTIF('Data Input'!$C$8:$AK$8,\"G\"))","v":""}]
[{"$f":"IF('Data Input'!A96=0,\"\",'Data Input'!A96)","v":""},{"$f":"IF(ISBLANK('Data Input'!A96),\"\",COUNTIF('Data Input'!C96:AK96,\"\"))","v":""},{"$f":"IF(ISBLANK('Data Input'!A96),\"\",COUNTIF('Data Input'!C96:AK96,\"0\"))","v":""},{"$f":"IF(ISBLANK('Data Input'!A96),\"\",SUM(B91,C91))","v":""},{"$f":"IF(ISBLANK('Data Input'!A96),\"\",SUM('Data Input'!C96:AK96))","v":""},{"$f":"IF(E91=\"\",\"\",E91/(COUNTA('Data Input'!$C$8:$AK$8)))","v":""},{"$f":"IF(ISBLANK('Data Input'!A96),\"\",SUM('Data Input'!C96,'Data Input'!D96,'Data Input'!J96,'Data Input'!X96))","v":""},{"$f":"IF(G91=\"\",\"\",G91/COUNTIF('Data Input'!$C$8:$AK$8,\"N\"))","v":""},{"$f":"IF(ISBLANK('Data Input'!A96),\"\",SUM('Data Input'!G96,'Data Input'!I96,'Data Input'!L96,'Data Input'!N96,'Data Input'!O96,'Data Input'!S96,'Data Input'!Z96,'Data Input'!AA96,'Data Input'!AB96,'Data Input'!AC96,'Data Input'!AE96,'Data Input'!AF96,'Data Input'!AG96,'Data Input'!AI96,'Data Input'!AK96))","v":""},{"$f":"IF(I91=\"\",\"\",I91/COUNTIF('Data Input'!$C$8:$AK$8,\"C\"))","v":""},{"$f":"IF(ISBLANK('Data Input'!A96),\"\",SUM('Data Input'!T96,'Data Input'!U96))","v":""},{"$f":"IF(K91=\"\",\"\",K91/COUNTIF('Data Input'!$C$8:$AK$8,\"S\"))","v":""},{"$f":"IF(ISBLANK('Data Input'!A96),\"\",SUM('Data Input'!F96,'Data Input'!R96,'Data Input'!AJ96))","v":""},{"$f":"IF(M91=\"\",\"\",M91/COUNTIF('Data Input'!$C$8:$AK$8,\"F\"))","v":""},{"$f":"IF(ISBLANK('Data Input'!A96),\"\",SUM('Data Input'!E96,'Data Input'!M96,'Data Input'!Q96,'Data Input'!V96,'Data Input'!W96,'Data Input'!AD96,'Data Input'!AH96))","v":""},{"$f":"IF(O91=\"\",\"\",O91/COUNTIF('Data Input'!$C$8:$AK$8,\"M\"))","v":""},{"$f":"IF(ISBLANK('Data Input'!A96),\"\",SUM('Data Input'!H96,'Data Input'!K96,'Data Input'!P96,'Data Input'!Y96))","v":""},{"$f":"IF(Q91=\"\",\"\",Q91/COUNTIF('Data Input'!$C$8:$AK$8,\"G\"))","v":""}]
[{"$f":"IF('Data Input'!A97=0,\"\",'Data Input'!A97)","v":""},{"$f":"IF(ISBLANK('Data Input'!A97),\"\",COUNTIF('Data Input'!C97:AK97,\"\"))","v":""},{"$f":"IF(ISBLANK('Data Input'!A97),\"\",COUNTIF('Data Input'!C97:AK97,\"0\"))","v":""},{"$f":"IF(ISBLANK('Data Input'!A97),\"\",SUM(B92,C92))","v":""},{"$f":"IF(ISBLANK('Data Input'!A97),\"\",SUM('Data Input'!C97:AK97))","v":""},{"$f":"IF(E92=\"\",\"\",E92/(COUNTA('Data Input'!$C$8:$AK$8)))","v":""},{"$f":"IF(ISBLANK('Data Input'!A97),\"\",SUM('Data Input'!C97,'Data Input'!D97,'Data Input'!J97,'Data Input'!X97))","v":""},{"$f":"IF(G92=\"\",\"\",G92/COUNTIF('Data Input'!$C$8:$AK$8,\"N\"))","v":""},{"$f":"IF(ISBLANK('Data Input'!A97),\"\",SUM('Data Input'!G97,'Data Input'!I97,'Data Input'!L97,'Data Input'!N97,'Data Input'!O97,'Data Input'!S97,'Data Input'!Z97,'Data Input'!AA97,'Data Input'!AB97,'Data Input'!AC97,'Data Input'!AE97,'Data Input'!AF97,'Data Input'!AG97,'Data Input'!AI97,'Data Input'!AK97))","v":""},{"$f":"IF(I92=\"\",\"\",I92/COUNTIF('Data Input'!$C$8:$AK$8,\"C\"))","v":""},{"$f":"IF(ISBLANK('Data Input'!A97),\"\",SUM('Data Input'!T97,'Data Input'!U97))","v":""},{"$f":"IF(K92=\"\",\"\",K92/COUNTIF('Data Input'!$C$8:$AK$8,\"S\"))","v":""},{"$f":"IF(ISBLANK('Data Input'!A97),\"\",SUM('Data Input'!F97,'Data Input'!R97,'Data Input'!AJ97))","v":""},{"$f":"IF(M92=\"\",\"\",M92/COUNTIF('Data Input'!$C$8:$AK$8,\"F\"))","v":""},{"$f":"IF(ISBLANK('Data Input'!A97),\"\",SUM('Data Input'!E97,'Data Input'!M97,'Data Input'!Q97,'Data Input'!V97,'Data Input'!W97,'Data Input'!AD97,'Data Input'!AH97))","v":""},{"$f":"IF(O92=\"\",\"\",O92/COUNTIF('Data Input'!$C$8:$AK$8,\"M\"))","v":""},{"$f":"IF(ISBLANK('Data Input'!A97),\"\",SUM('Data Input'!H97,'Data Input'!K97,'Data Input'!P97,'Data Input'!Y97))","v":""},{"$f":"IF(Q92=\"\",\"\",Q92/COUNTIF('Data Input'!$C$8:$AK$8,\"G\"))","v":""}]
[{"$f":"IF('Data Input'!A98=0,\"\",'Data Input'!A98)","v":""},{"$f":"IF(ISBLANK('Data Input'!A98),\"\",COUNTIF('Data Input'!C98:AK98,\"\"))","v":""},{"$f":"IF(ISBLANK('Data Input'!A98),\"\",COUNTIF('Data Input'!C98:AK98,\"0\"))","v":""},{"$f":"IF(ISBLANK('Data Input'!A98),\"\",SUM(B93,C93))","v":""},{"$f":"IF(ISBLANK('Data Input'!A98),\"\",SUM('Data Input'!C98:AK98))","v":""},{"$f":"IF(E93=\"\",\"\",E93/(COUNTA('Data Input'!$C$8:$AK$8)))","v":""},{"$f":"IF(ISBLANK('Data Input'!A98),\"\",SUM('Data Input'!C98,'Data Input'!D98,'Data Input'!J98,'Data Input'!X98))","v":""},{"$f":"IF(G93=\"\",\"\",G93/COUNTIF('Data Input'!$C$8:$AK$8,\"N\"))","v":""},{"$f":"IF(ISBLANK('Data Input'!A98),\"\",SUM('Data Input'!G98,'Data Input'!I98,'Data Input'!L98,'Data Input'!N98,'Data Input'!O98,'Data Input'!S98,'Data Input'!Z98,'Data Input'!AA98,'Data Input'!AB98,'Data Input'!AC98,'Data Input'!AE98,'Data Input'!AF98,'Data Input'!AG98,'Data Input'!AI98,'Data Input'!AK98))","v":""},{"$f":"IF(I93=\"\",\"\",I93/COUNTIF('Data Input'!$C$8:$AK$8,\"C\"))","v":""},{"$f":"IF(ISBLANK('Data Input'!A98),\"\",SUM('Data Input'!T98,'Data Input'!U98))","v":""},{"$f":"IF(K93=\"\",\"\",K93/COUNTIF('Data Input'!$C$8:$AK$8,\"S\"))","v":""},{"$f":"IF(ISBLANK('Data Input'!A98),\"\",SUM('Data Input'!F98,'Data Input'!R98,'Data Input'!AJ98))","v":""},{"$f":"IF(M93=\"\",\"\",M93/COUNTIF('Data Input'!$C$8:$AK$8,\"F\"))","v":""},{"$f":"IF(ISBLANK('Data Input'!A98),\"\",SUM('Data Input'!E98,'Data Input'!M98,'Data Input'!Q98,'Data Input'!V98,'Data Input'!W98,'Data Input'!AD98,'Data Input'!AH98))","v":""},{"$f":"IF(O93=\"\",\"\",O93/COUNTIF('Data Input'!$C$8:$AK$8,\"M\"))","v":""},{"$f":"IF(ISBLANK('Data Input'!A98),\"\",SUM('Data Input'!H98,'Data Input'!K98,'Data Input'!P98,'Data Input'!Y98))","v":""},{"$f":"IF(Q93=\"\",\"\",Q93/COUNTIF('Data Input'!$C$8:$AK$8,\"G\"))","v":""}]
[{"$f":"IF('Data Input'!A99=0,\"\",'Data Input'!A99)","v":""},{"$f":"IF(ISBLANK('Data Input'!A99),\"\",COUNTIF('Data Input'!C99:AK99,\"\"))","v":""},{"$f":"IF(ISBLANK('Data Input'!A99),\"\",COUNTIF('Data Input'!C99:AK99,\"0\"))","v":""},{"$f":"IF(ISBLANK('Data Input'!A99),\"\",SUM(B94,C94))","v":""},{"$f":"IF(ISBLANK('Data Input'!A99),\"\",SUM('Data Input'!C99:AK99))","v":""},{"$f":"IF(E94=\"\",\"\",E94/(COUNTA('Data Input'!$C$8:$AK$8)))","v":""},{"$f":"IF(ISBLANK('Data Input'!A99),\"\",SUM('Data Input'!C99,'Data Input'!D99,'Data Input'!J99,'Data Input'!X99))","v":""},{"$f":"IF(G94=\"\",\"\",G94/COUNTIF('Data Input'!$C$8:$AK$8,\"N\"))","v":""},{"$f":"IF(ISBLANK('Data Input'!A99),\"\",SUM('Data Input'!G99,'Data Input'!I99,'Data Input'!L99,'Data Input'!N99,'Data Input'!O99,'Data Input'!S99,'Data Input'!Z99,'Data Input'!AA99,'Data Input'!AB99,'Data Input'!AC99,'Data Input'!AE99,'Data Input'!AF99,'Data Input'!AG99,'Data Input'!AI99,'Data Input'!AK99))","v":""},{"$f":"IF(I94=\"\",\"\",I94/COUNTIF('Data Input'!$C$8:$AK$8,\"C\"))","v":""},{"$f":"IF(ISBLANK('Data Input'!A99),\"\",SUM('Data Input'!T99,'Data Input'!U99))","v":""},{"$f":"IF(K94=\"\",\"\",K94/COUNTIF('Data Input'!$C$8:$AK$8,\"S\"))","v":""},{"$f":"IF(ISBLANK('Data Input'!A99),\"\",SUM('Data Input'!F99,'Data Input'!R99,'Data Input'!AJ99))","v":""},{"$f":"IF(M94=\"\",\"\",M94/COUNTIF('Data Input'!$C$8:$AK$8,\"F\"))","v":""},{"$f":"IF(ISBLANK('Data Input'!A99),\"\",SUM('Data Input'!E99,'Data Input'!M99,'Data Input'!Q99,'Data Input'!V99,'Data Input'!W99,'Data Input'!AD99,'Data Input'!AH99))","v":""},{"$f":"IF(O94=\"\",\"\",O94/COUNTIF('Data Input'!$C$8:$AK$8,\"M\"))","v":""},{"$f":"IF(ISBLANK('Data Input'!A99),\"\",SUM('Data Input'!H99,'Data Input'!K99,'Data Input'!P99,'Data Input'!Y99))","v":""},{"$f":"IF(Q94=\"\",\"\",Q94/COUNTIF('Data Input'!$C$8:$AK$8,\"G\"))","v":""}]
[{"$f":"IF('Data Input'!A100=0,\"\",'Data Input'!A100)","v":""},{"$f":"IF(ISBLANK('Data Input'!A100),\"\",COUNTIF('Data Input'!C100:AK100,\"\"))","v":""},{"$f":"IF(ISBLANK('Data Input'!A100),\"\",COUNTIF('Data Input'!C100:AK100,\"0\"))","v":""},{"$f":"IF(ISBLANK('Data Input'!A100),\"\",SUM(B95,C95))","v":""},{"$f":"IF(ISBLANK('Data Input'!A100),\"\",SUM('Data Input'!C100:AK100))","v":""},{"$f":"IF(E95=\"\",\"\",E95/(COUNTA('Data Input'!$C$8:$AK$8)))","v":""},{"$f":"IF(ISBLANK('Data Input'!A100),\"\",SUM('Data Input'!C100,'Data Input'!D100,'Data Input'!J100,'Data Input'!X100))","v":""},{"$f":"IF(G95=\"\",\"\",G95/COUNTIF('Data Input'!$C$8:$AK$8,\"N\"))","v":""},{"$f":"IF(ISBLANK('Data Input'!A100),\"\",SUM('Data Input'!G100,'Data Input'!I100,'Data Input'!L100,'Data Input'!N100,'Data Input'!O100,'Data Input'!S100,'Data Input'!Z100,'Data Input'!AA100,'Data Input'!AB100,'Data Input'!AC100,'Data Input'!AE100,'Data Input'!AF100,'Data Input'!AG100,'Data Input'!AI100,'Data Input'!AK100))","v":""},{"$f":"IF(I95=\"\",\"\",I95/COUNTIF('Data Input'!$C$8:$AK$8,\"C\"))","v":""},{"$f":"IF(ISBLANK('Data Input'!A100),\"\",SUM('Data Input'!T100,'Data Input'!U100))","v":""},{"$f":"IF(K95=\"\",\"\",K95/COUNTIF('Data Input'!$C$8:$AK$8,\"S\"))","v":""},{"$f":"IF(ISBLANK('Data Input'!A100),\"\",SUM('Data Input'!F100,'Data Input'!R100,'Data Input'!AJ100))","v":""},{"$f":"IF(M95=\"\",\"\",M95/COUNTIF('Data Input'!$C$8:$AK$8,\"F\"))","v":""},{"$f":"IF(ISBLANK('Data Input'!A100),\"\",SUM('Data Input'!E100,'Data Input'!M100,'Data Input'!Q100,'Data Input'!V100,'Data Input'!W100,'Data Input'!AD100,'Data Input'!AH100))","v":""},{"$f":"IF(O95=\"\",\"\",O95/COUNTIF('Data Input'!$C$8:$AK$8,\"M\"))","v":""},{"$f":"IF(ISBLANK('Data Input'!A100),\"\",SUM('Data Input'!H100,'Data Input'!K100,'Data Input'!P100,'Data Input'!Y100))","v":""},{"$f":"IF(Q95=\"\",\"\",Q95/COUNTIF('Data Input'!$C$8:$AK$8,\"G\"))","v":""}]
[{"$f":"IF('Data Input'!A101=0,\"\",'Data Input'!A101)","v":""},{"$f":"IF(ISBLANK('Data Input'!A101),\"\",COUNTIF('Data Input'!C101:AK101,\"\"))","v":""},{"$f":"IF(ISBLANK('Data Input'!A101),\"\",COUNTIF('Data Input'!C101:AK101,\"0\"))","v":""},{"$f":"IF(ISBLANK('Data Input'!A101),\"\",SUM(B96,C96))","v":""},{"$f":"IF(ISBLANK('Data Input'!A101),\"\",SUM('Data Input'!C101:AK101))","v":""},{"$f":"IF(E96=\"\",\"\",E96/(COUNTA('Data Input'!$C$8:$AK$8)))","v":""},{"$f":"IF(ISBLANK('Data Input'!A101),\"\",SUM('Data Input'!C101,'Data Input'!D101,'Data Input'!J101,'Data Input'!X101))","v":""},{"$f":"IF(G96=\"\",\"\",G96/COUNTIF('Data Input'!$C$8:$AK$8,\"N\"))","v":""},{"$f":"IF(ISBLANK('Data Input'!A101),\"\",SUM('Data Input'!G101,'Data Input'!I101,'Data Input'!L101,'Data Input'!N101,'Data Input'!O101,'Data Input'!S101,'Data Input'!Z101,'Data Input'!AA101,'Data Input'!AB101,'Data Input'!AC101,'Data Input'!AE101,'Data Input'!AF101,'Data Input'!AG101,'Data Input'!AI101,'Data Input'!AK101))","v":""},{"$f":"IF(I96=\"\",\"\",I96/COUNTIF('Data Input'!$C$8:$AK$8,\"C\"))","v":""},{"$f":"IF(ISBLANK('Data Input'!A101),\"\",SUM('Data Input'!T101,'Data Input'!U101))","v":""},{"$f":"IF(K96=\"\",\"\",K96/COUNTIF('Data Input'!$C$8:$AK$8,\"S\"))","v":""},{"$f":"IF(ISBLANK('Data Input'!A101),\"\",SUM('Data Input'!F101,'Data Input'!R101,'Data Input'!AJ101))","v":""},{"$f":"IF(M96=\"\",\"\",M96/COUNTIF('Data Input'!$C$8:$AK$8,\"F\"))","v":""},{"$f":"IF(ISBLANK('Data Input'!A101),\"\",SUM('Data Input'!E101,'Data Input'!M101,'Data Input'!Q101,'Data Input'!V101,'Data Input'!W101,'Data Input'!AD101,'Data Input'!AH101))","v":""},{"$f":"IF(O96=\"\",\"\",O96/COUNTIF('Data Input'!$C$8:$AK$8,\"M\"))","v":""},{"$f":"IF(ISBLANK('Data Input'!A101),\"\",SUM('Data Input'!H101,'Data Input'!K101,'Data Input'!P101,'Data Input'!Y101))","v":""},{"$f":"IF(Q96=\"\",\"\",Q96/COUNTIF('Data Input'!$C$8:$AK$8,\"G\"))","v":""}]
[{"$f":"IF('Data Input'!A102=0,\"\",'Data Input'!A102)","v":""},{"$f":"IF(ISBLANK('Data Input'!A102),\"\",COUNTIF('Data Input'!C102:AK102,\"\"))","v":""},{"$f":"IF(ISBLANK('Data Input'!A102),\"\",COUNTIF('Data Input'!C102:AK102,\"0\"))","v":""},{"$f":"IF(ISBLANK('Data Input'!A102),\"\",SUM(B97,C97))","v":""},{"$f":"IF(ISBLANK('Data Input'!A102),\"\",SUM('Data Input'!C102:AK102))","v":""},{"$f":"IF(E97=\"\",\"\",E97/(COUNTA('Data Input'!$C$8:$AK$8)))","v":""},{"$f":"IF(ISBLANK('Data Input'!A102),\"\",SUM('Data Input'!C102,'Data Input'!D102,'Data Input'!J102,'Data Input'!X102))","v":""},{"$f":"IF(G97=\"\",\"\",G97/COUNTIF('Data Input'!$C$8:$AK$8,\"N\"))","v":""},{"$f":"IF(ISBLANK('Data Input'!A102),\"\",SUM('Data Input'!G102,'Data Input'!I102,'Data Input'!L102,'Data Input'!N102,'Data Input'!O102,'Data Input'!S102,'Data Input'!Z102,'Data Input'!AA102,'Data Input'!AB102,'Data Input'!AC102,'Data Input'!AE102,'Data Input'!AF102,'Data Input'!AG102,'Data Input'!AI102,'Data Input'!AK102))","v":""},{"$f":"IF(I97=\"\",\"\",I97/COUNTIF('Data Input'!$C$8:$AK$8,\"C\"))","v":""},{"$f":"IF(ISBLANK('Data Input'!A102),\"\",SUM('Data Input'!T102,'Data Input'!U102))","v":""},{"$f":"IF(K97=\"\",\"\",K97/COUNTIF('Data Input'!$C$8:$AK$8,\"S\"))","v":""},{"$f":"IF(ISBLANK('Data Input'!A102),\"\",SUM('Data Input'!F102,'Data Input'!R102,'Data Input'!AJ102))","v":""},{"$f":"IF(M97=\"\",\"\",M97/COUNTIF('Data Input'!$C$8:$AK$8,\"F\"))","v":""},{"$f":"IF(ISBLANK('Data Input'!A102),\"\",SUM('Data Input'!E102,'Data Input'!M102,'Data Input'!Q102,'Data Input'!V102,'Data Input'!W102,'Data Input'!AD102,'Data Input'!AH102))","v":""},{"$f":"IF(O97=\"\",\"\",O97/COUNTIF('Data Input'!$C$8:$AK$8,\"M\"))","v":""},{"$f":"IF(ISBLANK('Data Input'!A102),\"\",SUM('Data Input'!H102,'Data Input'!K102,'Data Input'!P102,'Data Input'!Y102))","v":""},{"$f":"IF(Q97=\"\",\"\",Q97/COUNTIF('Data Input'!$C$8:$AK$8,\"G\"))","v":""}]
[{"$f":"IF('Data Input'!A103=0,\"\",'Data Input'!A103)","v":""},{"$f":"IF(ISBLANK('Data Input'!A103),\"\",COUNTIF('Data Input'!C103:AK103,\"\"))","v":""},{"$f":"IF(ISBLANK('Data Input'!A103),\"\",COUNTIF('Data Input'!C103:AK103,\"0\"))","v":""},{"$f":"IF(ISBLANK('Data Input'!A103),\"\",SUM(B98,C98))","v":""},{"$f":"IF(ISBLANK('Data Input'!A103),\"\",SUM('Data Input'!C103:AK103))","v":""},{"$f":"IF(E98=\"\",\"\",E98/(COUNTA('Data Input'!$C$8:$AK$8)))","v":""},{"$f":"IF(ISBLANK('Data Input'!A103),\"\",SUM('Data Input'!C103,'Data Input'!D103,'Data Input'!J103,'Data Input'!X103))","v":""},{"$f":"IF(G98=\"\",\"\",G98/COUNTIF('Data Input'!$C$8:$AK$8,\"N\"))","v":""},{"$f":"IF(ISBLANK('Data Input'!A103),\"\",SUM('Data Input'!G103,'Data Input'!I103,'Data Input'!L103,'Data Input'!N103,'Data Input'!O103,'Data Input'!S103,'Data Input'!Z103,'Data Input'!AA103,'Data Input'!AB103,'Data Input'!AC103,'Data Input'!AE103,'Data Input'!AF103,'Data Input'!AG103,'Data Input'!AI103,'Data Input'!AK103))","v":""},{"$f":"IF(I98=\"\",\"\",I98/COUNTIF('Data Input'!$C$8:$AK$8,\"C\"))","v":""},{"$f":"IF(ISBLANK('Data Input'!A103),\"\",SUM('Data Input'!T103,'Data Input'!U103))","v":""},{"$f":"IF(K98=\"\",\"\",K98/COUNTIF('Data Input'!$C$8:$AK$8,\"S\"))","v":""},{"$f":"IF(ISBLANK('Data Input'!A103),\"\",SUM('Data Input'!F103,'Data Input'!R103,'Data Input'!AJ103))","v":""},{"$f":"IF(M98=\"\",\"\",M98/COUNTIF('Data Input'!$C$8:$AK$8,\"F\"))","v":""},{"$f":"IF(ISBLANK('Data Input'!A103),\"\",SUM('Data Input'!E103,'Data Input'!M103,'Data Input'!Q103,'Data Input'!V103,'Data Input'!W103,'Data Input'!AD103,'Data Input'!AH103))","v":""},{"$f":"IF(O98=\"\",\"\",O98/COUNTIF('Data Input'!$C$8:$AK$8,\"M\"))","v":""},{"$f":"IF(ISBLANK('Data Input'!A103),\"\",SUM('Data Input'!H103,'Data Input'!K103,'Data Input'!P103,'Data Input'!Y103))","v":""},{"$f":"IF(Q98=\"\",\"\",Q98/COUNTIF('Data Input'!$C$8:$AK$8,\"G\"))","v":""}]
[{"$f":"IF('Data Input'!A104=0,\"\",'Data Input'!A104)","v":""},{"$f":"IF(ISBLANK('Data Input'!A104),\"\",COUNTIF('Data Input'!C104:AK104,\"\"))","v":""},{"$f":"IF(ISBLANK('Data Input'!A104),\"\",COUNTIF('Data Input'!C104:AK104,\"0\"))","v":""},{"$f":"IF(ISBLANK('Data Input'!A104),\"\",SUM(B99,C99))","v":""},{"$f":"IF(ISBLANK('Data Input'!A104),\"\",SUM('Data Input'!C104:AK104))","v":""},{"$f":"IF(E99=\"\",\"\",E99/(COUNTA('Data Input'!$C$8:$AK$8)))","v":""},{"$f":"IF(ISBLANK('Data Input'!A104),\"\",SUM('Data Input'!C104,'Data Input'!D104,'Data Input'!J104,'Data Input'!X104))","v":""},{"$f":"IF(G99=\"\",\"\",G99/COUNTIF('Data Input'!$C$8:$AK$8,\"N\"))","v":""},{"$f":"IF(ISBLANK('Data Input'!A104),\"\",SUM('Data Input'!G104,'Data Input'!I104,'Data Input'!L104,'Data Input'!N104,'Data Input'!O104,'Data Input'!S104,'Data Input'!Z104,'Data Input'!AA104,'Data Input'!AB104,'Data Input'!AC104,'Data Input'!AE104,'Data Input'!AF104,'Data Input'!AG104,'Data Input'!AI104,'Data Input'!AK104))","v":""},{"$f":"IF(I99=\"\",\"\",I99/COUNTIF('Data Input'!$C$8:$AK$8,\"C\"))","v":""},{"$f":"IF(ISBLANK('Data Input'!A104),\"\",SUM('Data Input'!T104,'Data Input'!U104))","v":""},{"$f":"IF(K99=\"\",\"\",K99/COUNTIF('Data Input'!$C$8:$AK$8,\"S\"))","v":""},{"$f":"IF(ISBLANK('Data Input'!A104),\"\",SUM('Data Input'!F104,'Data Input'!R104,'Data Input'!AJ104))","v":""},{"$f":"IF(M99=\"\",\"\",M99/COUNTIF('Data Input'!$C$8:$AK$8,\"F\"))","v":""},{"$f":"IF(ISBLANK('Data Input'!A104),\"\",SUM('Data Input'!E104,'Data Input'!M104,'Data Input'!Q104,'Data Input'!V104,'Data Input'!W104,'Data Input'!AD104,'Data Input'!AH104))","v":""},{"$f":"IF(O99=\"\",\"\",O99/COUNTIF('Data Input'!$C$8:$AK$8,\"M\"))","v":""},{"$f":"IF(ISBLANK('Data Input'!A104),\"\",SUM('Data Input'!H104,'Data Input'!K104,'Data Input'!P104,'Data Input'!Y104))","v":""},{"$f":"IF(Q99=\"\",\"\",Q99/COUNTIF('Data Input'!$C$8:$AK$8,\"G\"))","v":""}]
[{"$f":"IF('Data Input'!A105=0,\"\",'Data Input'!A105)","v":""},{"$f":"IF(ISBLANK('Data Input'!A105),\"\",COUNTIF('Data Input'!C105:AK105,\"\"))","v":""},{"$f":"IF(ISBLANK('Data Input'!A105),\"\",COUNTIF('Data Input'!C105:AK105,\"0\"))","v":""},{"$f":"IF(ISBLANK('Data Input'!A105),\"\",SUM(B100,C100))","v":""},{"$f":"IF(ISBLANK('Data Input'!A105),\"\",SUM('Data Input'!C105:AK105))","v":""},{"$f":"IF(E100=\"\",\"\",E100/(COUNTA('Data Input'!$C$8:$AK$8)))","v":""},{"$f":"IF(ISBLANK('Data Input'!A105),\"\",SUM('Data Input'!C105,'Data Input'!D105,'Data Input'!J105,'Data Input'!X105))","v":""},{"$f":"IF(G100=\"\",\"\",G100/COUNTIF('Data Input'!$C$8:$AK$8,\"N\"))","v":""},{"$f":"IF(ISBLANK('Data Input'!A105),\"\",SUM('Data Input'!G105,'Data Input'!I105,'Data Input'!L105,'Data Input'!N105,'Data Input'!O105,'Data Input'!S105,'Data Input'!Z105,'Data Input'!AA105,'Data Input'!AB105,'Data Input'!AC105,'Data Input'!AE105,'Data Input'!AF105,'Data Input'!AG105,'Data Input'!AI105,'Data Input'!AK105))","v":""},{"$f":"IF(I100=\"\",\"\",I100/COUNTIF('Data Input'!$C$8:$AK$8,\"C\"))","v":""},{"$f":"IF(ISBLANK('Data Input'!A105),\"\",SUM('Data Input'!T105,'Data Input'!U105))","v":""},{"$f":"IF(K100=\"\",\"\",K100/COUNTIF('Data Input'!$C$8:$AK$8,\"S\"))","v":""},{"$f":"IF(ISBLANK('Data Input'!A105),\"\",SUM('Data Input'!F105,'Data Input'!R105,'Data Input'!AJ105))","v":""},{"$f":"IF(M100=\"\",\"\",M100/COUNTIF('Data Input'!$C$8:$AK$8,\"F\"))","v":""},{"$f":"IF(ISBLANK('Data Input'!A105),\"\",SUM('Data Input'!E105,'Data Input'!M105,'Data Input'!Q105,'Data Input'!V105,'Data Input'!W105,'Data Input'!AD105,'Data Input'!AH105))","v":""},{"$f":"IF(O100=\"\",\"\",O100/COUNTIF('Data Input'!$C$8:$AK$8,\"M\"))","v":""},{"$f":"IF(ISBLANK('Data Input'!A105),\"\",SUM('Data Input'!H105,'Data Input'!K105,'Data Input'!P105,'Data Input'!Y105))","v":""},{"$f":"IF(Q100=\"\",\"\",Q100/COUNTIF('Data Input'!$C$8:$AK$8,\"G\"))","v":""}]
[{"$f":"IF('Data Input'!A106=0,\"\",'Data Input'!A106)","v":""},{"$f":"IF(ISBLANK('Data Input'!A106),\"\",COUNTIF('Data Input'!C106:AK106,\"\"))","v":""},{"$f":"IF(ISBLANK('Data Input'!A106),\"\",COUNTIF('Data Input'!C106:AK106,\"0\"))","v":""},{"$f":"IF(ISBLANK('Data Input'!A106),\"\",SUM(B101,C101))","v":""},{"$f":"IF(ISBLANK('Data Input'!A106),\"\",SUM('Data Input'!C106:AK106))","v":""},{"$f":"IF(E101=\"\",\"\",E101/(COUNTA('Data Input'!$C$8:$AK$8)))","v":""},{"$f":"IF(ISBLANK('Data Input'!A106),\"\",SUM('Data Input'!C106,'Data Input'!D106,'Data Input'!J106,'Data Input'!X106))","v":""},{"$f":"IF(G101=\"\",\"\",G101/COUNTIF('Data Input'!$C$8:$AK$8,\"N\"))","v":""},{"$f":"IF(ISBLANK('Data Input'!A106),\"\",SUM('Data Input'!G106,'Data Input'!I106,'Data Input'!L106,'Data Input'!N106,'Data Input'!O106,'Data Input'!S106,'Data Input'!Z106,'Data Input'!AA106,'Data Input'!AB106,'Data Input'!AC106,'Data Input'!AE106,'Data Input'!AF106,'Data Input'!AG106,'Data Input'!AI106,'Data Input'!AK106))","v":""},{"$f":"IF(I101=\"\",\"\",I101/COUNTIF('Data Input'!$C$8:$AK$8,\"C\"))","v":""},{"$f":"IF(ISBLANK('Data Input'!A106),\"\",SUM('Data Input'!T106,'Data Input'!U106))","v":""},{"$f":"IF(K101=\"\",\"\",K101/COUNTIF('Data Input'!$C$8:$AK$8,\"S\"))","v":""},{"$f":"IF(ISBLANK('Data Input'!A106),\"\",SUM('Data Input'!F106,'Data Input'!R106,'Data Input'!AJ106))","v":""},{"$f":"IF(M101=\"\",\"\",M101/COUNTIF('Data Input'!$C$8:$AK$8,\"F\"))","v":""},{"$f":"IF(ISBLANK('Data Input'!A106),\"\",SUM('Data Input'!E106,'Data Input'!M106,'Data Input'!Q106,'Data Input'!V106,'Data Input'!W106,'Data Input'!AD106,'Data Input'!AH106))","v":""},{"$f":"IF(O101=\"\",\"\",O101/COUNTIF('Data Input'!$C$8:$AK$8,\"M\"))","v":""},{"$f":"IF(ISBLANK('Data Input'!A106),\"\",SUM('Data Input'!H106,'Data Input'!K106,'Data Input'!P106,'Data Input'!Y106))","v":""},{"$f":"IF(Q101=\"\",\"\",Q101/COUNTIF('Data Input'!$C$8:$AK$8,\"G\"))","v":""}]
[{"$f":"IF('Data Input'!A107=0,\"\",'Data Input'!A107)","v":""},{"$f":"IF(ISBLANK('Data Input'!A107),\"\",COUNTIF('Data Input'!C107:AK107,\"\"))","v":""},{"$f":"IF(ISBLANK('Data Input'!A107),\"\",COUNTIF('Data Input'!C107:AK107,\"0\"))","v":""},{"$f":"IF(ISBLANK('Data Input'!A107),\"\",SUM(B102,C102))","v":""},{"$f":"IF(ISBLANK('Data Input'!A107),\"\",SUM('Data Input'!C107:AK107))","v":""},{"$f":"IF(E102=\"\",\"\",E102/(COUNTA('Data Input'!$C$8:$AK$8)))","v":""},{"$f":"IF(ISBLANK('Data Input'!A107),\"\",SUM('Data Input'!C107,'Data Input'!D107,'Data Input'!J107,'Data Input'!X107))","v":""},{"$f":"IF(G102=\"\",\"\",G102/COUNTIF('Data Input'!$C$8:$AK$8,\"N\"))","v":""},{"$f":"IF(ISBLANK('Data Input'!A107),\"\",SUM('Data Input'!G107,'Data Input'!I107,'Data Input'!L107,'Data Input'!N107,'Data Input'!O107,'Data Input'!S107,'Data Input'!Z107,'Data Input'!AA107,'Data Input'!AB107,'Data Input'!AC107,'Data Input'!AE107,'Data Input'!AF107,'Data Input'!AG107,'Data Input'!AI107,'Data Input'!AK107))","v":""},{"$f":"IF(I102=\"\",\"\",I102/COUNTIF('Data Input'!$C$8:$AK$8,\"C\"))","v":""},{"$f":"IF(ISBLANK('Data Input'!A107),\"\",SUM('Data Input'!T107,'Data Input'!U107))","v":""},{"$f":"IF(K102=\"\",\"\",K102/COUNTIF('Data Input'!$C$8:$AK$8,\"S\"))","v":""},{"$f":"IF(ISBLANK('Data Input'!A107),\"\",SUM('Data Input'!F107,'Data Input'!R107,'Data Input'!AJ107))","v":""},{"$f":"IF(M102=\"\",\"\",M102/COUNTIF('Data Input'!$C$8:$AK$8,\"F\"))","v":""},{"$f":"IF(ISBLANK('Data Input'!A107),\"\",SUM('Data Input'!E107,'Data Input'!M107,'Data Input'!Q107,'Data Input'!V107,'Data Input'!W107,'Data Input'!AD107,'Data Input'!AH107))","v":""},{"$f":"IF(O102=\"\",\"\",O102/COUNTIF('Data Input'!$C$8:$AK$8,\"M\"))","v":""},{"$f":"IF(ISBLANK('Data Input'!A107),\"\",SUM('Data Input'!H107,'Data Input'!K107,'Data Input'!P107,'Data Input'!Y107))","v":""},{"$f":"IF(Q102=\"\",\"\",Q102/COUNTIF('Data Input'!$C$8:$AK$8,\"G\"))","v":""}]
[{"$f":"IF('Data Input'!A108=0,\"\",'Data Input'!A108)","v":""},{"$f":"IF(ISBLANK('Data Input'!A108),\"\",COUNTIF('Data Input'!C108:AK108,\"\"))","v":""},{"$f":"IF(ISBLANK('Data Input'!A108),\"\",COUNTIF('Data Input'!C108:AK108,\"0\"))","v":""},{"$f":"IF(ISBLANK('Data Input'!A108),\"\",SUM(B103,C103))","v":""},{"$f":"IF(ISBLANK('Data Input'!A108),\"\",SUM('Data Input'!C108:AK108))","v":""},{"$f":"IF(E103=\"\",\"\",E103/(COUNTA('Data Input'!$C$8:$AK$8)))","v":""},{"$f":"IF(ISBLANK('Data Input'!A108),\"\",SUM('Data Input'!C108,'Data Input'!D108,'Data Input'!J108,'Data Input'!X108))","v":""},{"$f":"IF(G103=\"\",\"\",G103/COUNTIF('Data Input'!$C$8:$AK$8,\"N\"))","v":""},{"$f":"IF(ISBLANK('Data Input'!A108),\"\",SUM('Data Input'!G108,'Data Input'!I108,'Data Input'!L108,'Data Input'!N108,'Data Input'!O108,'Data Input'!S108,'Data Input'!Z108,'Data Input'!AA108,'Data Input'!AB108,'Data Input'!AC108,'Data Input'!AE108,'Data Input'!AF108,'Data Input'!AG108,'Data Input'!AI108,'Data Input'!AK108))","v":""},{"$f":"IF(I103=\"\",\"\",I103/COUNTIF('Data Input'!$C$8:$AK$8,\"C\"))","v":""},{"$f":"IF(ISBLANK('Data Input'!A108),\"\",SUM('Data Input'!T108,'Data Input'!U108))","v":""},{"$f":"IF(K103=\"\",\"\",K103/COUNTIF('Data Input'!$C$8:$AK$8,\"S\"))","v":""},{"$f":"IF(ISBLANK('Data Input'!A108),\"\",SUM('Data Input'!F108,'Data Input'!R108,'Data Input'!AJ108))","v":""},{"$f":"IF(M103=\"\",\"\",M103/COUNTIF('Data Input'!$C$8:$AK$8,\"F\"))","v":""},{"$f":"IF(ISBLANK('Data Input'!A108),\"\",SUM('Data Input'!E108,'Data Input'!M108,'Data Input'!Q108,'Data Input'!V108,'Data Input'!W108,'Data Input'!AD108,'Data Input'!AH108))","v":""},{"$f":"IF(O103=\"\",\"\",O103/COUNTIF('Data Input'!$C$8:$AK$8,\"M\"))","v":""},{"$f":"IF(ISBLANK('Data Input'!A108),\"\",SUM('Data Input'!H108,'Data Input'!K108,'Data Input'!P108,'Data Input'!Y108))","v":""},{"$f":"IF(Q103=\"\",\"\",Q103/COUNTIF('Data Input'!$C$8:$AK$8,\"G\"))","v":""}]
[{"$f":"IF('Data Input'!A109=0,\"\",'Data Input'!A109)","v":""},{"$f":"IF(ISBLANK('Data Input'!A109),\"\",COUNTIF('Data Input'!C109:AK109,\"\"))","v":""},{"$f":"IF(ISBLANK('Data Input'!A109),\"\",COUNTIF('Data Input'!C109:AK109,\"0\"))","v":""},{"$f":"IF(ISBLANK('Data Input'!A109),\"\",SUM(B104,C104))","v":""},{"$f":"IF(ISBLANK('Data Input'!A109),\"\",SUM('Data Input'!C109:AK109))","v":""},{"$f":"IF(E104=\"\",\"\",E104/(COUNTA('Data Input'!$C$8:$AK$8)))","v":""},{"$f":"IF(ISBLANK('Data Input'!A109),\"\",SUM('Data Input'!C109,'Data Input'!D109,'Data Input'!J109,'Data Input'!X109))","v":""},{"$f":"IF(G104=\"\",\"\",G104/COUNTIF('Data Input'!$C$8:$AK$8,\"N\"))","v":""},{"$f":"IF(ISBLANK('Data Input'!A109),\"\",SUM('Data Input'!G109,'Data Input'!I109,'Data Input'!L109,'Data Input'!N109,'Data Input'!O109,'Data Input'!S109,'Data Input'!Z109,'Data Input'!AA109,'Data Input'!AB109,'Data Input'!AC109,'Data Input'!AE109,'Data Input'!AF109,'Data Input'!AG109,'Data Input'!AI109,'Data Input'!AK109))","v":""},{"$f":"IF(I104=\"\",\"\",I104/COUNTIF('Data Input'!$C$8:$AK$8,\"C\"))","v":""},{"$f":"IF(ISBLANK('Data Input'!A109),\"\",SUM('Data Input'!T109,'Data Input'!U109))","v":""},{"$f":"IF(K104=\"\",\"\",K104/COUNTIF('Data Input'!$C$8:$AK$8,\"S\"))","v":""},{"$f":"IF(ISBLANK('Data Input'!A109),\"\",SUM('Data Input'!F109,'Data Input'!R109,'Data Input'!AJ109))","v":""},{"$f":"IF(M104=\"\",\"\",M104/COUNTIF('Data Input'!$C$8:$AK$8,\"F\"))","v":""},{"$f":"IF(ISBLANK('Data Input'!A109),\"\",SUM('Data Input'!E109,'Data Input'!M109,'Data Input'!Q109,'Data Input'!V109,'Data Input'!W109,'Data Input'!AD109,'Data Input'!AH109))","v":""},{"$f":"IF(O104=\"\",\"\",O104/COUNTIF('Data Input'!$C$8:$AK$8,\"M\"))","v":""},{"$f":"IF(ISBLANK('Data Input'!A109),\"\",SUM('Data Input'!H109,'Data Input'!K109,'Data Input'!P109,'Data Input'!Y109))","v":""},{"$f":"IF(Q104=\"\",\"\",Q104/COUNTIF('Data Input'!$C$8:$AK$8,\"G\"))","v":""}]
[{"$f":"IF('Data Input'!A110=0,\"\",'Data Input'!A110)","v":""},{"$f":"IF(ISBLANK('Data Input'!A110),\"\",COUNTIF('Data Input'!C110:AK110,\"\"))","v":""},{"$f":"IF(ISBLANK('Data Input'!A110),\"\",COUNTIF('Data Input'!C110:AK110,\"0\"))","v":""},{"$f":"IF(ISBLANK('Data Input'!A110),\"\",SUM(B105,C105))","v":""},{"$f":"IF(ISBLANK('Data Input'!A110),\"\",SUM('Data Input'!C110:AK110))","v":""},{"$f":"IF(E105=\"\",\"\",E105/(COUNTA('Data Input'!$C$8:$AK$8)))","v":""},{"$f":"IF(ISBLANK('Data Input'!A110),\"\",SUM('Data Input'!C110,'Data Input'!D110,'Data Input'!J110,'Data Input'!X110))","v":""},{"$f":"IF(G105=\"\",\"\",G105/COUNTIF('Data Input'!$C$8:$AK$8,\"N\"))","v":""},{"$f":"IF(ISBLANK('Data Input'!A110),\"\",SUM('Data Input'!G110,'Data Input'!I110,'Data Input'!L110,'Data Input'!N110,'Data Input'!O110,'Data Input'!S110,'Data Input'!Z110,'Data Input'!AA110,'Data Input'!AB110,'Data Input'!AC110,'Data Input'!AE110,'Data Input'!AF110,'Data Input'!AG110,'Data Input'!AI110,'Data Input'!AK110))","v":""},{"$f":"IF(I105=\"\",\"\",I105/COUNTIF('Data Input'!$C$8:$AK$8,\"C\"))","v":""},{"$f":"IF(ISBLANK('Data Input'!A110),\"\",SUM('Data Input'!T110,'Data Input'!U110))","v":""},{"$f":"IF(K105=\"\",\"\",K105/COUNTIF('Data Input'!$C$8:$AK$8,\"S\"))","v":""},{"$f":"IF(ISBLANK('Data Input'!A110),\"\",SUM('Data Input'!F110,'Data Input'!R110,'Data Input'!AJ110))","v":""},{"$f":"IF(M105=\"\",\"\",M105/COUNTIF('Data Input'!$C$8:$AK$8,\"F\"))","v":""},{"$f":"IF(ISBLANK('Data Input'!A110),\"\",SUM('Data Input'!E110,'Data Input'!M110,'Data Input'!Q110,'Data Input'!V110,'Data Input'!W110,'Data Input'!AD110,'Data Input'!AH110))","v":""},{"$f":"IF(O105=\"\",\"\",O105/COUNTIF('Data Input'!$C$8:$AK$8,\"M\"))","v":""},{"$f":"IF(ISBLANK('Data Input'!A110),\"\",SUM('Data Input'!H110,'Data Input'!K110,'Data Input'!P110,'Data Input'!Y110))","v":""},{"$f":"IF(Q105=\"\",\"\",Q105/COUNTIF('Data Input'!$C$8:$AK$8,\"G\"))","v":""}]
[{"$f":"IF('Data Input'!A111=0,\"\",'Data Input'!A111)","v":""},{"$f":"IF(ISBLANK('Data Input'!A111),\"\",COUNTIF('Data Input'!C111:AK111,\"\"))","v":""},{"$f":"IF(ISBLANK('Data Input'!A111),\"\",COUNTIF('Data Input'!C111:AK111,\"0\"))","v":""},{"$f":"IF(ISBLANK('Data Input'!A111),\"\",SUM(B106,C106))","v":""},{"$f":"IF(ISBLANK('Data Input'!A111),\"\",SUM('Data Input'!C111:AK111))","v":""},{"$f":"IF(E106=\"\",\"\",E106/(COUNTA('Data Input'!$C$8:$AK$8)))","v":""},{"$f":"IF(ISBLANK('Data Input'!A111),\"\",SUM('Data Input'!C111,'Data Input'!D111,'Data Input'!J111,'Data Input'!X111))","v":""},{"$f":"IF(G106=\"\",\"\",G106/COUNTIF('Data Input'!$C$8:$AK$8,\"N\"))","v":""},{"$f":"IF(ISBLANK('Data Input'!A111),\"\",SUM('Data Input'!G111,'Data Input'!I111,'Data Input'!L111,'Data Input'!N111,'Data Input'!O111,'Data Input'!S111,'Data Input'!Z111,'Data Input'!AA111,'Data Input'!AB111,'Data Input'!AC111,'Data Input'!AE111,'Data Input'!AF111,'Data Input'!AG111,'Data Input'!AI111,'Data Input'!AK111))","v":""},{"$f":"IF(I106=\"\",\"\",I106/COUNTIF('Data Input'!$C$8:$AK$8,\"C\"))","v":""},{"$f":"IF(ISBLANK('Data Input'!A111),\"\",SUM('Data Input'!T111,'Data Input'!U111))","v":""},{"$f":"IF(K106=\"\",\"\",K106/COUNTIF('Data Input'!$C$8:$AK$8,\"S\"))","v":""},{"$f":"IF(ISBLANK('Data Input'!A111),\"\",SUM('Data Input'!F111,'Data Input'!R111,'Data Input'!AJ111))","v":""},{"$f":"IF(M106=\"\",\"\",M106/COUNTIF('Data Input'!$C$8:$AK$8,\"F\"))","v":""},{"$f":"IF(ISBLANK('Data Input'!A111),\"\",SUM('Data Input'!E111,'Data Input'!M111,'Data Input'!Q111,'Data Input'!V111,'Data Input'!W111,'Data Input'!AD111,'Data Input'!AH111))","v":""},{"$f":"IF(O106=\"\",\"\",O106/COUNTIF('Data Input'!$C$8:$AK$8,\"M\"))","v":""},{"$f":"IF(ISBLANK('Data Input'!A111),\"\",SUM('Data Input'!H111,'Data Input'!K111,'Data Input'!P111,'Data Input'!Y111))","v":""},{"$f":"IF(Q106=\"\",\"\",Q106/COUNTIF('Data Input'!$C$8:$AK$8,\"G\"))","v":""}]
[{"$f":"IF('Data Input'!A112=0,\"\",'Data Input'!A112)","v":""},{"$f":"IF(ISBLANK('Data Input'!A112),\"\",COUNTIF('Data Input'!C112:AK112,\"\"))","v":""},{"$f":"IF(ISBLANK('Data Input'!A112),\"\",COUNTIF('Data Input'!C112:AK112,\"0\"))","v":""},{"$f":"IF(ISBLANK('Data Input'!A112),\"\",SUM(B107,C107))","v":""},{"$f":"IF(ISBLANK('Data Input'!A112),\"\",SUM('Data Input'!C112:AK112))","v":""},{"$f":"IF(E107=\"\",\"\",E107/(COUNTA('Data Input'!$C$8:$AK$8)))","v":""},{"$f":"IF(ISBLANK('Data Input'!A112),\"\",SUM('Data Input'!C112,'Data Input'!D112,'Data Input'!J112,'Data Input'!X112))","v":""},{"$f":"IF(G107=\"\",\"\",G107/COUNTIF('Data Input'!$C$8:$AK$8,\"N\"))","v":""},{"$f":"IF(ISBLANK('Data Input'!A112),\"\",SUM('Data Input'!G112,'Data Input'!I112,'Data Input'!L112,'Data Input'!N112,'Data Input'!O112,'Data Input'!S112,'Data Input'!Z112,'Data Input'!AA112,'Data Input'!AB112,'Data Input'!AC112,'Data Input'!AE112,'Data Input'!AF112,'Data Input'!AG112,'Data Input'!AI112,'Data Input'!AK112))","v":""},{"$f":"IF(I107=\"\",\"\",I107/COUNTIF('Data Input'!$C$8:$AK$8,\"C\"))","v":""},{"$f":"IF(ISBLANK('Data Input'!A112),\"\",SUM('Data Input'!T112,'Data Input'!U112))","v":""},{"$f":"IF(K107=\"\",\"\",K107/COUNTIF('Data Input'!$C$8:$AK$8,\"S\"))","v":""},{"$f":"IF(ISBLANK('Data Input'!A112),\"\",SUM('Data Input'!F112,'Data Input'!R112,'Data Input'!AJ112))","v":""},{"$f":"IF(M107=\"\",\"\",M107/COUNTIF('Data Input'!$C$8:$AK$8,\"F\"))","v":""},{"$f":"IF(ISBLANK('Data Input'!A112),\"\",SUM('Data Input'!E112,'Data Input'!M112,'Data Input'!Q112,'Data Input'!V112,'Data Input'!W112,'Data Input'!AD112,'Data Input'!AH112))","v":""},{"$f":"IF(O107=\"\",\"\",O107/COUNTIF('Data Input'!$C$8:$AK$8,\"M\"))","v":""},{"$f":"IF(ISBLANK('Data Input'!A112),\"\",SUM('Data Input'!H112,'Data Input'!K112,'Data Input'!P112,'Data Input'!Y112))","v":""},{"$f":"IF(Q107=\"\",\"\",Q107/COUNTIF('Data Input'!$C$8:$AK$8,\"G\"))","v":""}]
[{"$f":"IF('Data Input'!A113=0,\"\",'Data Input'!A113)","v":""},{"$f":"IF(ISBLANK('Data Input'!A113),\"\",COUNTIF('Data Input'!C113:AK113,\"\"))","v":""},{"$f":"IF(ISBLANK('Data Input'!A113),\"\",COUNTIF('Data Input'!C113:AK113,\"0\"))","v":""},{"$f":"IF(ISBLANK('Data Input'!A113),\"\",SUM(B108,C108))","v":""},{"$f":"IF(ISBLANK('Data Input'!A113),\"\",SUM('Data Input'!C113:AK113))","v":""},{"$f":"IF(E108=\"\",\"\",E108/(COUNTA('Data Input'!$C$8:$AK$8)))","v":""},{"$f":"IF(ISBLANK('Data Input'!A113),\"\",SUM('Data Input'!C113,'Data Input'!D113,'Data Input'!J113,'Data Input'!X113))","v":""},{"$f":"IF(G108=\"\",\"\",G108/COUNTIF('Data Input'!$C$8:$AK$8,\"N\"))","v":""},{"$f":"IF(ISBLANK('Data Input'!A113),\"\",SUM('Data Input'!G113,'Data Input'!I113,'Data Input'!L113,'Data Input'!N113,'Data Input'!O113,'Data Input'!S113,'Data Input'!Z113,'Data Input'!AA113,'Data Input'!AB113,'Data Input'!AC113,'Data Input'!AE113,'Data Input'!AF113,'Data Input'!AG113,'Data Input'!AI113,'Data Input'!AK113))","v":""},{"$f":"IF(I108=\"\",\"\",I108/COUNTIF('Data Input'!$C$8:$AK$8,\"C\"))","v":""},{"$f":"IF(ISBLANK('Data Input'!A113),\"\",SUM('Data Input'!T113,'Data Input'!U113))","v":""},{"$f":"IF(K108=\"\",\"\",K108/COUNTIF('Data Input'!$C$8:$AK$8,\"S\"))","v":""},{"$f":"IF(ISBLANK('Data Input'!A113),\"\",SUM('Data Input'!F113,'Data Input'!R113,'Data Input'!AJ113))","v":""},{"$f":"IF(M108=\"\",\"\",M108/COUNTIF('Data Input'!$C$8:$AK$8,\"F\"))","v":""},{"$f":"IF(ISBLANK('Data Input'!A113),\"\",SUM('Data Input'!E113,'Data Input'!M113,'Data Input'!Q113,'Data Input'!V113,'Data Input'!W113,'Data Input'!AD113,'Data Input'!AH113))","v":""},{"$f":"IF(O108=\"\",\"\",O108/COUNTIF('Data Input'!$C$8:$AK$8,\"M\"))","v":""},{"$f":"IF(ISBLANK('Data Input'!A113),\"\",SUM('Data Input'!H113,'Data Input'!K113,'Data Input'!P113,'Data Input'!Y113))","v":""},{"$f":"IF(Q108=\"\",\"\",Q108/COUNTIF('Data Input'!$C$8:$AK$8,\"G\"))","v":""}]
[{"$f":"IF('Data Input'!A114=0,\"\",'Data Input'!A114)","v":""},{"$f":"IF(ISBLANK('Data Input'!A114),\"\",COUNTIF('Data Input'!C114:AK114,\"\"))","v":""},{"$f":"IF(ISBLANK('Data Input'!A114),\"\",COUNTIF('Data Input'!C114:AK114,\"0\"))","v":""},{"$f":"IF(ISBLANK('Data Input'!A114),\"\",SUM(B109,C109))","v":""},{"$f":"IF(ISBLANK('Data Input'!A114),\"\",SUM('Data Input'!C114:AK114))","v":""},{"$f":"IF(E109=\"\",\"\",E109/(COUNTA('Data Input'!$C$8:$AK$8)))","v":""},{"$f":"IF(ISBLANK('Data Input'!A114),\"\",SUM('Data Input'!C114,'Data Input'!D114,'Data Input'!J114,'Data Input'!X114))","v":""},{"$f":"IF(G109=\"\",\"\",G109/COUNTIF('Data Input'!$C$8:$AK$8,\"N\"))","v":""},{"$f":"IF(ISBLANK('Data Input'!A114),\"\",SUM('Data Input'!G114,'Data Input'!I114,'Data Input'!L114,'Data Input'!N114,'Data Input'!O114,'Data Input'!S114,'Data Input'!Z114,'Data Input'!AA114,'Data Input'!AB114,'Data Input'!AC114,'Data Input'!AE114,'Data Input'!AF114,'Data Input'!AG114,'Data Input'!AI114,'Data Input'!AK114))","v":""},{"$f":"IF(I109=\"\",\"\",I109/COUNTIF('Data Input'!$C$8:$AK$8,\"C\"))","v":""},{"$f":"IF(ISBLANK('Data Input'!A114),\"\",SUM('Data Input'!T114,'Data Input'!U114))","v":""},{"$f":"IF(K109=\"\",\"\",K109/COUNTIF('Data Input'!$C$8:$AK$8,\"S\"))","v":""},{"$f":"IF(ISBLANK('Data Input'!A114),\"\",SUM('Data Input'!F114,'Data Input'!R114,'Data Input'!AJ114))","v":""},{"$f":"IF(M109=\"\",\"\",M109/COUNTIF('Data Input'!$C$8:$AK$8,\"F\"))","v":""},{"$f":"IF(ISBLANK('Data Input'!A114),\"\",SUM('Data Input'!E114,'Data Input'!M114,'Data Input'!Q114,'Data Input'!V114,'Data Input'!W114,'Data Input'!AD114,'Data Input'!AH114))","v":""},{"$f":"IF(O109=\"\",\"\",O109/COUNTIF('Data Input'!$C$8:$AK$8,\"M\"))","v":""},{"$f":"IF(ISBLANK('Data Input'!A114),\"\",SUM('Data Input'!H114,'Data Input'!K114,'Data Input'!P114,'Data Input'!Y114))","v":""},{"$f":"IF(Q109=\"\",\"\",Q109/COUNTIF('Data Input'!$C$8:$AK$8,\"G\"))","v":""}]
[{"$f":"IF('Data Input'!A115=0,\"\",'Data Input'!A115)","v":""},{"$f":"IF(ISBLANK('Data Input'!A115),\"\",COUNTIF('Data Input'!C115:AK115,\"\"))","v":""},{"$f":"IF(ISBLANK('Data Input'!A115),\"\",COUNTIF('Data Input'!C115:AK115,\"0\"))","v":""},{"$f":"IF(ISBLANK('Data Input'!A115),\"\",SUM(B110,C110))","v":""},{"$f":"IF(ISBLANK('Data Input'!A115),\"\",SUM('Data Input'!C115:AK115))","v":""},{"$f":"IF(E110=\"\",\"\",E110/(COUNTA('Data Input'!$C$8:$AK$8)))","v":""},{"$f":"IF(ISBLANK('Data Input'!A115),\"\",SUM('Data Input'!C115,'Data Input'!D115,'Data Input'!J115,'Data Input'!X115))","v":""},{"$f":"IF(G110=\"\",\"\",G110/COUNTIF('Data Input'!$C$8:$AK$8,\"N\"))","v":""},{"$f":"IF(ISBLANK('Data Input'!A115),\"\",SUM('Data Input'!G115,'Data Input'!I115,'Data Input'!L115,'Data Input'!N115,'Data Input'!O115,'Data Input'!S115,'Data Input'!Z115,'Data Input'!AA115,'Data Input'!AB115,'Data Input'!AC115,'Data Input'!AE115,'Data Input'!AF115,'Data Input'!AG115,'Data Input'!AI115,'Data Input'!AK115))","v":""},{"$f":"IF(I110=\"\",\"\",I110/COUNTIF('Data Input'!$C$8:$AK$8,\"C\"))","v":""},{"$f":"IF(ISBLANK('Data Input'!A115),\"\",SUM('Data Input'!T115,'Data Input'!U115))","v":""},{"$f":"IF(K110=\"\",\"\",K110/COUNTIF('Data Input'!$C$8:$AK$8,\"S\"))","v":""},{"$f":"IF(ISBLANK('Data Input'!A115),\"\",SUM('Data Input'!F115,'Data Input'!R115,'Data Input'!AJ115))","v":""},{"$f":"IF(M110=\"\",\"\",M110/COUNTIF('Data Input'!$C$8:$AK$8,\"F\"))","v":""},{"$f":"IF(ISBLANK('Data Input'!A115),\"\",SUM('Data Input'!E115,'Data Input'!M115,'Data Input'!Q115,'Data Input'!V115,'Data Input'!W115,'Data Input'!AD115,'Data Input'!AH115))","v":""},{"$f":"IF(O110=\"\",\"\",O110/COUNTIF('Data Input'!$C$8:$AK$8,\"M\"))","v":""},{"$f":"IF(ISBLANK('Data Input'!A115),\"\",SUM('Data Input'!H115,'Data Input'!K115,'Data Input'!P115,'Data Input'!Y115))","v":""},{"$f":"IF(Q110=\"\",\"\",Q110/COUNTIF('Data Input'!$C$8:$AK$8,\"G\"))","v":""}]
[{"$f":"IF('Data Input'!A116=0,\"\",'Data Input'!A116)","v":""},{"$f":"IF(ISBLANK('Data Input'!A116),\"\",COUNTIF('Data Input'!C116:AK116,\"\"))","v":""},{"$f":"IF(ISBLANK('Data Input'!A116),\"\",COUNTIF('Data Input'!C116:AK116,\"0\"))","v":""},{"$f":"IF(ISBLANK('Data Input'!A116),\"\",SUM(B111,C111))","v":""},{"$f":"IF(ISBLANK('Data Input'!A116),\"\",SUM('Data Input'!C116:AK116))","v":""},{"$f":"IF(E111=\"\",\"\",E111/(COUNTA('Data Input'!$C$8:$AK$8)))","v":""},{"$f":"IF(ISBLANK('Data Input'!A116),\"\",SUM('Data Input'!C116,'Data Input'!D116,'Data Input'!J116,'Data Input'!X116))","v":""},{"$f":"IF(G111=\"\",\"\",G111/COUNTIF('Data Input'!$C$8:$AK$8,\"N\"))","v":""},{"$f":"IF(ISBLANK('Data Input'!A116),\"\",SUM('Data Input'!G116,'Data Input'!I116,'Data Input'!L116,'Data Input'!N116,'Data Input'!O116,'Data Input'!S116,'Data Input'!Z116,'Data Input'!AA116,'Data Input'!AB116,'Data Input'!AC116,'Data Input'!AE116,'Data Input'!AF116,'Data Input'!AG116,'Data Input'!AI116,'Data Input'!AK116))","v":""},{"$f":"IF(I111=\"\",\"\",I111/COUNTIF('Data Input'!$C$8:$AK$8,\"C\"))","v":""},{"$f":"IF(ISBLANK('Data Input'!A116),\"\",SUM('Data Input'!T116,'Data Input'!U116))","v":""},{"$f":"IF(K111=\"\",\"\",K111/COUNTIF('Data Input'!$C$8:$AK$8,\"S\"))","v":""},{"$f":"IF(ISBLANK('Data Input'!A116),\"\",SUM('Data Input'!F116,'Data Input'!R116,'Data Input'!AJ116))","v":""},{"$f":"IF(M111=\"\",\"\",M111/COUNTIF('Data Input'!$C$8:$AK$8,\"F\"))","v":""},{"$f":"IF(ISBLANK('Data Input'!A116),\"\",SUM('Data Input'!E116,'Data Input'!M116,'Data Input'!Q116,'Data Input'!V116,'Data Input'!W116,'Data Input'!AD116,'Data Input'!AH116))","v":""},{"$f":"IF(O111=\"\",\"\",O111/COUNTIF('Data Input'!$C$8:$AK$8,\"M\"))","v":""},{"$f":"IF(ISBLANK('Data Input'!A116),\"\",SUM('Data Input'!H116,'Data Input'!K116,'Data Input'!P116,'Data Input'!Y116))","v":""},{"$f":"IF(Q111=\"\",\"\",Q111/COUNTIF('Data Input'!$C$8:$AK$8,\"G\"))","v":""}]
[{"$f":"IF('Data Input'!A117=0,\"\",'Data Input'!A117)","v":""},{"$f":"IF(ISBLANK('Data Input'!A117),\"\",COUNTIF('Data Input'!C117:AK117,\"\"))","v":""},{"$f":"IF(ISBLANK('Data Input'!A117),\"\",COUNTIF('Data Input'!C117:AK117,\"0\"))","v":""},{"$f":"IF(ISBLANK('Data Input'!A117),\"\",SUM(B112,C112))","v":""},{"$f":"IF(ISBLANK('Data Input'!A117),\"\",SUM('Data Input'!C117:AK117))","v":""},{"$f":"IF(E112=\"\",\"\",E112/(COUNTA('Data Input'!$C$8:$AK$8)))","v":""},{"$f":"IF(ISBLANK('Data Input'!A117),\"\",SUM('Data Input'!C117,'Data Input'!D117,'Data Input'!J117,'Data Input'!X117))","v":""},{"$f":"IF(G112=\"\",\"\",G112/COUNTIF('Data Input'!$C$8:$AK$8,\"N\"))","v":""},{"$f":"IF(ISBLANK('Data Input'!A117),\"\",SUM('Data Input'!G117,'Data Input'!I117,'Data Input'!L117,'Data Input'!N117,'Data Input'!O117,'Data Input'!S117,'Data Input'!Z117,'Data Input'!AA117,'Data Input'!AB117,'Data Input'!AC117,'Data Input'!AE117,'Data Input'!AF117,'Data Input'!AG117,'Data Input'!AI117,'Data Input'!AK117))","v":""},{"$f":"IF(I112=\"\",\"\",I112/COUNTIF('Data Input'!$C$8:$AK$8,\"C\"))","v":""},{"$f":"IF(ISBLANK('Data Input'!A117),\"\",SUM('Data Input'!T117,'Data Input'!U117))","v":""},{"$f":"IF(K112=\"\",\"\",K112/COUNTIF('Data Input'!$C$8:$AK$8,\"S\"))","v":""},{"$f":"IF(ISBLANK('Data Input'!A117),\"\",SUM('Data Input'!F117,'Data Input'!R117,'Data Input'!AJ117))","v":""},{"$f":"IF(M112=\"\",\"\",M112/COUNTIF('Data Input'!$C$8:$AK$8,\"F\"))","v":""},{"$f":"IF(ISBLANK('Data Input'!A117),\"\",SUM('Data Input'!E117,'Data Input'!M117,'Data Input'!Q117,'Data Input'!V117,'Data Input'!W117,'Data Input'!AD117,'Data Input'!AH117))","v":""},{"$f":"IF(O112=\"\",\"\",O112/COUNTIF('Data Input'!$C$8:$AK$8,\"M\"))","v":""},{"$f":"IF(ISBLANK('Data Input'!A117),\"\",SUM('Data Input'!H117,'Data Input'!K117,'Data Input'!P117,'Data Input'!Y117))","v":""},{"$f":"IF(Q112=\"\",\"\",Q112/COUNTIF('Data Input'!$C$8:$AK$8,\"G\"))","v":""}]
[{"$f":"IF('Data Input'!A118=0,\"\",'Data Input'!A118)","v":""},{"$f":"IF(ISBLANK('Data Input'!A118),\"\",COUNTIF('Data Input'!C118:AK118,\"\"))","v":""},{"$f":"IF(ISBLANK('Data Input'!A118),\"\",COUNTIF('Data Input'!C118:AK118,\"0\"))","v":""},{"$f":"IF(ISBLANK('Data Input'!A118),\"\",SUM(B113,C113))","v":""},{"$f":"IF(ISBLANK('Data Input'!A118),\"\",SUM('Data Input'!C118:AK118))","v":""},{"$f":"IF(E113=\"\",\"\",E113/(COUNTA('Data Input'!$C$8:$AK$8)))","v":""},{"$f":"IF(ISBLANK('Data Input'!A118),\"\",SUM('Data Input'!C118,'Data Input'!D118,'Data Input'!J118,'Data Input'!X118))","v":""},{"$f":"IF(G113=\"\",\"\",G113/COUNTIF('Data Input'!$C$8:$AK$8,\"N\"))","v":""},{"$f":"IF(ISBLANK('Data Input'!A118),\"\",SUM('Data Input'!G118,'Data Input'!I118,'Data Input'!L118,'Data Input'!N118,'Data Input'!O118,'Data Input'!S118,'Data Input'!Z118,'Data Input'!AA118,'Data Input'!AB118,'Data Input'!AC118,'Data Input'!AE118,'Data Input'!AF118,'Data Input'!AG118,'Data Input'!AI118,'Data Input'!AK118))","v":""},{"$f":"IF(I113=\"\",\"\",I113/COUNTIF('Data Input'!$C$8:$AK$8,\"C\"))","v":""},{"$f":"IF(ISBLANK('Data Input'!A118),\"\",SUM('Data Input'!T118,'Data Input'!U118))","v":""},{"$f":"IF(K113=\"\",\"\",K113/COUNTIF('Data Input'!$C$8:$AK$8,\"S\"))","v":""},{"$f":"IF(ISBLANK('Data Input'!A118),\"\",SUM('Data Input'!F118,'Data Input'!R118,'Data Input'!AJ118))","v":""},{"$f":"IF(M113=\"\",\"\",M113/COUNTIF('Data Input'!$C$8:$AK$8,\"F\"))","v":""},{"$f":"IF(ISBLANK('Data Input'!A118),\"\",SUM('Data Input'!E118,'Data Input'!M118,'Data Input'!Q118,'Data Input'!V118,'Data Input'!W118,'Data Input'!AD118,'Data Input'!AH118))","v":""},{"$f":"IF(O113=\"\",\"\",O113/COUNTIF('Data Input'!$C$8:$AK$8,\"M\"))","v":""},{"$f":"IF(ISBLANK('Data Input'!A118),\"\",SUM('Data Input'!H118,'Data Input'!K118,'Data Input'!P118,'Data Input'!Y118))","v":""},{"$f":"IF(Q113=\"\",\"\",Q113/COUNTIF('Data Input'!$C$8:$AK$8,\"G\"))","v":""}]
[{"$f":"IF('Data Input'!A119=0,\"\",'Data Input'!A119)","v":""},{"$f":"IF(ISBLANK('Data Input'!A119),\"\",COUNTIF('Data Input'!C119:AK119,\"\"))","v":""},{"$f":"IF(ISBLANK('Data Input'!A119),\"\",COUNTIF('Data Input'!C119:AK119,\"0\"))","v":""},{"$f":"IF(ISBLANK('Data Input'!A119),\"\",SUM(B114,C114))","v":""},{"$f":"IF(ISBLANK('Data Input'!A119),\"\",SUM('Data Input'!C119:AK119))","v":""},{"$f":"IF(E114=\"\",\"\",E114/(COUNTA('Data Input'!$C$8:$AK$8)))","v":""},{"$f":"IF(ISBLANK('Data Input'!A119),\"\",SUM('Data Input'!C119,'Data Input'!D119,'Data Input'!J119,'Data Input'!X119))","v":""},{"$f":"IF(G114=\"\",\"\",G114/COUNTIF('Data Input'!$C$8:$AK$8,\"N\"))","v":""},{"$f":"IF(ISBLANK('Data Input'!A119),\"\",SUM('Data Input'!G119,'Data Input'!I119,'Data Input'!L119,'Data Input'!N119,'Data Input'!O119,'Data Input'!S119,'Data Input'!Z119,'Data Input'!AA119,'Data Input'!AB119,'Data Input'!AC119,'Data Input'!AE119,'Data Input'!AF119,'Data Input'!AG119,'Data Input'!AI119,'Data Input'!AK119))","v":""},{"$f":"IF(I114=\"\",\"\",I114/COUNTIF('Data Input'!$C$8:$AK$8,\"C\"))","v":""},{"$f":"IF(ISBLANK('Data Input'!A119),\"\",SUM('Data Input'!T119,'Data Input'!U119))","v":""},{"$f":"IF(K114=\"\",\"\",K114/COUNTIF('Data Input'!$C$8:$AK$8,\"S\"))","v":""},{"$f":"IF(ISBLANK('Data Input'!A119),\"\",SUM('Data Input'!F119,'Data Input'!R119,'Data Input'!AJ119))","v":""},{"$f":"IF(M114=\"\",\"\",M114/COUNTIF('Data Input'!$C$8:$AK$8,\"F\"))","v":""},{"$f":"IF(ISBLANK('Data Input'!A119),\"\",SUM('Data Input'!E119,'Data Input'!M119,'Data Input'!Q119,'Data Input'!V119,'Data Input'!W119,'Data Input'!AD119,'Data Input'!AH119))","v":""},{"$f":"IF(O114=\"\",\"\",O114/COUNTIF('Data Input'!$C$8:$AK$8,\"M\"))","v":""},{"$f":"IF(ISBLANK('Data Input'!A119),\"\",SUM('Data Input'!H119,'Data Input'!K119,'Data Input'!P119,'Data Input'!Y119))","v":""},{"$f":"IF(Q114=\"\",\"\",Q114/COUNTIF('Data Input'!$C$8:$AK$8,\"G\"))","v":""}]
[{"$f":"IF('Data Input'!A120=0,\"\",'Data Input'!A120)","v":""},{"$f":"IF(ISBLANK('Data Input'!A120),\"\",COUNTIF('Data Input'!C120:AK120,\"\"))","v":""},{"$f":"IF(ISBLANK('Data Input'!A120),\"\",COUNTIF('Data Input'!C120:AK120,\"0\"))","v":""},{"$f":"IF(ISBLANK('Data Input'!A120),\"\",SUM(B115,C115))","v":""},{"$f":"IF(ISBLANK('Data Input'!A120),\"\",SUM('Data Input'!C120:AK120))","v":""},{"$f":"IF(E115=\"\",\"\",E115/(COUNTA('Data Input'!$C$8:$AK$8)))","v":""},{"$f":"IF(ISBLANK('Data Input'!A120),\"\",SUM('Data Input'!C120,'Data Input'!D120,'Data Input'!J120,'Data Input'!X120))","v":""},{"$f":"IF(G115=\"\",\"\",G115/COUNTIF('Data Input'!$C$8:$AK$8,\"N\"))","v":""},{"$f":"IF(ISBLANK('Data Input'!A120),\"\",SUM('Data Input'!G120,'Data Input'!I120,'Data Input'!L120,'Data Input'!N120,'Data Input'!O120,'Data Input'!S120,'Data Input'!Z120,'Data Input'!AA120,'Data Input'!AB120,'Data Input'!AC120,'Data Input'!AE120,'Data Input'!AF120,'Data Input'!AG120,'Data Input'!AI120,'Data Input'!AK120))","v":""},{"$f":"IF(I115=\"\",\"\",I115/COUNTIF('Data Input'!$C$8:$AK$8,\"C\"))","v":""},{"$f":"IF(ISBLANK('Data Input'!A120),\"\",SUM('Data Input'!T120,'Data Input'!U120))","v":""},{"$f":"IF(K115=\"\",\"\",K115/COUNTIF('Data Input'!$C$8:$AK$8,\"S\"))","v":""},{"$f":"IF(ISBLANK('Data Input'!A120),\"\",SUM('Data Input'!F120,'Data Input'!R120,'Data Input'!AJ120))","v":""},{"$f":"IF(M115=\"\",\"\",M115/COUNTIF('Data Input'!$C$8:$AK$8,\"F\"))","v":""},{"$f":"IF(ISBLANK('Data Input'!A120),\"\",SUM('Data Input'!E120,'Data Input'!M120,'Data Input'!Q120,'Data Input'!V120,'Data Input'!W120,'Data Input'!AD120,'Data Input'!AH120))","v":""},{"$f":"IF(O115=\"\",\"\",O115/COUNTIF('Data Input'!$C$8:$AK$8,\"M\"))","v":""},{"$f":"IF(ISBLANK('Data Input'!A120),\"\",SUM('Data Input'!H120,'Data Input'!K120,'Data Input'!P120,'Data Input'!Y120))","v":""},{"$f":"IF(Q115=\"\",\"\",Q115/COUNTIF('Data Input'!$C$8:$AK$8,\"G\"))","v":""}]
[{"$f":"IF('Data Input'!A121=0,\"\",'Data Input'!A121)","v":""},{"$f":"IF(ISBLANK('Data Input'!A121),\"\",COUNTIF('Data Input'!C121:AK121,\"\"))","v":""},{"$f":"IF(ISBLANK('Data Input'!A121),\"\",COUNTIF('Data Input'!C121:AK121,\"0\"))","v":""},{"$f":"IF(ISBLANK('Data Input'!A121),\"\",SUM(B116,C116))","v":""},{"$f":"IF(ISBLANK('Data Input'!A121),\"\",SUM('Data Input'!C121:AK121))","v":""},{"$f":"IF(E116=\"\",\"\",E116/(COUNTA('Data Input'!$C$8:$AK$8)))","v":""},{"$f":"IF(ISBLANK('Data Input'!A121),\"\",SUM('Data Input'!C121,'Data Input'!D121,'Data Input'!J121,'Data Input'!X121))","v":""},{"$f":"IF(G116=\"\",\"\",G116/COUNTIF('Data Input'!$C$8:$AK$8,\"N\"))","v":""},{"$f":"IF(ISBLANK('Data Input'!A121),\"\",SUM('Data Input'!G121,'Data Input'!I121,'Data Input'!L121,'Data Input'!N121,'Data Input'!O121,'Data Input'!S121,'Data Input'!Z121,'Data Input'!AA121,'Data Input'!AB121,'Data Input'!AC121,'Data Input'!AE121,'Data Input'!AF121,'Data Input'!AG121,'Data Input'!AI121,'Data Input'!AK121))","v":""},{"$f":"IF(I116=\"\",\"\",I116/COUNTIF('Data Input'!$C$8:$AK$8,\"C\"))","v":""},{"$f":"IF(ISBLANK('Data Input'!A121),\"\",SUM('Data Input'!T121,'Data Input'!U121))","v":""},{"$f":"IF(K116=\"\",\"\",K116/COUNTIF('Data Input'!$C$8:$AK$8,\"S\"))","v":""},{"$f":"IF(ISBLANK('Data Input'!A121),\"\",SUM('Data Input'!F121,'Data Input'!R121,'Data Input'!AJ121))","v":""},{"$f":"IF(M116=\"\",\"\",M116/COUNTIF('Data Input'!$C$8:$AK$8,\"F\"))","v":""},{"$f":"IF(ISBLANK('Data Input'!A121),\"\",SUM('Data Input'!E121,'Data Input'!M121,'Data Input'!Q121,'Data Input'!V121,'Data Input'!W121,'Data Input'!AD121,'Data Input'!AH121))","v":""},{"$f":"IF(O116=\"\",\"\",O116/COUNTIF('Data Input'!$C$8:$AK$8,\"M\"))","v":""},{"$f":"IF(ISBLANK('Data Input'!A121),\"\",SUM('Data Input'!H121,'Data Input'!K121,'Data Input'!P121,'Data Input'!Y121))","v":""},{"$f":"IF(Q116=\"\",\"\",Q116/COUNTIF('Data Input'!$C$8:$AK$8,\"G\"))","v":""}]
[{"$f":"IF('Data Input'!A122=0,\"\",'Data Input'!A122)","v":""},{"$f":"IF(ISBLANK('Data Input'!A122),\"\",COUNTIF('Data Input'!C122:AK122,\"\"))","v":""},{"$f":"IF(ISBLANK('Data Input'!A122),\"\",COUNTIF('Data Input'!C122:AK122,\"0\"))","v":""},{"$f":"IF(ISBLANK('Data Input'!A122),\"\",SUM(B117,C117))","v":""},{"$f":"IF(ISBLANK('Data Input'!A122),\"\",SUM('Data Input'!C122:AK122))","v":""},{"$f":"IF(E117=\"\",\"\",E117/(COUNTA('Data Input'!$C$8:$AK$8)))","v":""},{"$f":"IF(ISBLANK('Data Input'!A122),\"\",SUM('Data Input'!C122,'Data Input'!D122,'Data Input'!J122,'Data Input'!X122))","v":""},{"$f":"IF(G117=\"\",\"\",G117/COUNTIF('Data Input'!$C$8:$AK$8,\"N\"))","v":""},{"$f":"IF(ISBLANK('Data Input'!A122),\"\",SUM('Data Input'!G122,'Data Input'!I122,'Data Input'!L122,'Data Input'!N122,'Data Input'!O122,'Data Input'!S122,'Data Input'!Z122,'Data Input'!AA122,'Data Input'!AB122,'Data Input'!AC122,'Data Input'!AE122,'Data Input'!AF122,'Data Input'!AG122,'Data Input'!AI122,'Data Input'!AK122))","v":""},{"$f":"IF(I117=\"\",\"\",I117/COUNTIF('Data Input'!$C$8:$AK$8,\"C\"))","v":""},{"$f":"IF(ISBLANK('Data Input'!A122),\"\",SUM('Data Input'!T122,'Data Input'!U122))","v":""},{"$f":"IF(K117=\"\",\"\",K117/COUNTIF('Data Input'!$C$8:$AK$8,\"S\"))","v":""},{"$f":"IF(ISBLANK('Data Input'!A122),\"\",SUM('Data Input'!F122,'Data Input'!R122,'Data Input'!AJ122))","v":""},{"$f":"IF(M117=\"\",\"\",M117/COUNTIF('Data Input'!$C$8:$AK$8,\"F\"))","v":""},{"$f":"IF(ISBLANK('Data Input'!A122),\"\",SUM('Data Input'!E122,'Data Input'!M122,'Data Input'!Q122,'Data Input'!V122,'Data Input'!W122,'Data Input'!AD122,'Data Input'!AH122))","v":""},{"$f":"IF(O117=\"\",\"\",O117/COUNTIF('Data Input'!$C$8:$AK$8,\"M\"))","v":""},{"$f":"IF(ISBLANK('Data Input'!A122),\"\",SUM('Data Input'!H122,'Data Input'!K122,'Data Input'!P122,'Data Input'!Y122))","v":""},{"$f":"IF(Q117=\"\",\"\",Q117/COUNTIF('Data Input'!$C$8:$AK$8,\"G\"))","v":""}]
[{"$f":"IF('Data Input'!A123=0,\"\",'Data Input'!A123)","v":""},{"$f":"IF(ISBLANK('Data Input'!A123),\"\",COUNTIF('Data Input'!C123:AK123,\"\"))","v":""},{"$f":"IF(ISBLANK('Data Input'!A123),\"\",COUNTIF('Data Input'!C123:AK123,\"0\"))","v":""},{"$f":"IF(ISBLANK('Data Input'!A123),\"\",SUM(B118,C118))","v":""},{"$f":"IF(ISBLANK('Data Input'!A123),\"\",SUM('Data Input'!C123:AK123))","v":""},{"$f":"IF(E118=\"\",\"\",E118/(COUNTA('Data Input'!$C$8:$AK$8)))","v":""},{"$f":"IF(ISBLANK('Data Input'!A123),\"\",SUM('Data Input'!C123,'Data Input'!D123,'Data Input'!J123,'Data Input'!X123))","v":""},{"$f":"IF(G118=\"\",\"\",G118/COUNTIF('Data Input'!$C$8:$AK$8,\"N\"))","v":""},{"$f":"IF(ISBLANK('Data Input'!A123),\"\",SUM('Data Input'!G123,'Data Input'!I123,'Data Input'!L123,'Data Input'!N123,'Data Input'!O123,'Data Input'!S123,'Data Input'!Z123,'Data Input'!AA123,'Data Input'!AB123,'Data Input'!AC123,'Data Input'!AE123,'Data Input'!AF123,'Data Input'!AG123,'Data Input'!AI123,'Data Input'!AK123))","v":""},{"$f":"IF(I118=\"\",\"\",I118/COUNTIF('Data Input'!$C$8:$AK$8,\"C\"))","v":""},{"$f":"IF(ISBLANK('Data Input'!A123),\"\",SUM('Data Input'!T123,'Data Input'!U123))","v":""},{"$f":"IF(K118=\"\",\"\",K118/COUNTIF('Data Input'!$C$8:$AK$8,\"S\"))","v":""},{"$f":"IF(ISBLANK('Data Input'!A123),\"\",SUM('Data Input'!F123,'Data Input'!R123,'Data Input'!AJ123))","v":""},{"$f":"IF(M118=\"\",\"\",M118/COUNTIF('Data Input'!$C$8:$AK$8,\"F\"))","v":""},{"$f":"IF(ISBLANK('Data Input'!A123),\"\",SUM('Data Input'!E123,'Data Input'!M123,'Data Input'!Q123,'Data Input'!V123,'Data Input'!W123,'Data Input'!AD123,'Data Input'!AH123))","v":""},{"$f":"IF(O118=\"\",\"\",O118/COUNTIF('Data Input'!$C$8:$AK$8,\"M\"))","v":""},{"$f":"IF(ISBLANK('Data Input'!A123),\"\",SUM('Data Input'!H123,'Data Input'!K123,'Data Input'!P123,'Data Input'!Y123))","v":""},{"$f":"IF(Q118=\"\",\"\",Q118/COUNTIF('Data Input'!$C$8:$AK$8,\"G\"))","v":""}]
[{"$f":"IF('Data Input'!A124=0,\"\",'Data Input'!A124)","v":""},{"$f":"IF(ISBLANK('Data Input'!A124),\"\",COUNTIF('Data Input'!C124:AK124,\"\"))","v":""},{"$f":"IF(ISBLANK('Data Input'!A124),\"\",COUNTIF('Data Input'!C124:AK124,\"0\"))","v":""},{"$f":"IF(ISBLANK('Data Input'!A124),\"\",SUM(B119,C119))","v":""},{"$f":"IF(ISBLANK('Data Input'!A124),\"\",SUM('Data Input'!C124:AK124))","v":""},{"$f":"IF(E119=\"\",\"\",E119/(COUNTA('Data Input'!$C$8:$AK$8)))","v":""},{"$f":"IF(ISBLANK('Data Input'!A124),\"\",SUM('Data Input'!C124,'Data Input'!D124,'Data Input'!J124,'Data Input'!X124))","v":""},{"$f":"IF(G119=\"\",\"\",G119/COUNTIF('Data Input'!$C$8:$AK$8,\"N\"))","v":""},{"$f":"IF(ISBLANK('Data Input'!A124),\"\",SUM('Data Input'!G124,'Data Input'!I124,'Data Input'!L124,'Data Input'!N124,'Data Input'!O124,'Data Input'!S124,'Data Input'!Z124,'Data Input'!AA124,'Data Input'!AB124,'Data Input'!AC124,'Data Input'!AE124,'Data Input'!AF124,'Data Input'!AG124,'Data Input'!AI124,'Data Input'!AK124))","v":""},{"$f":"IF(I119=\"\",\"\",I119/COUNTIF('Data Input'!$C$8:$AK$8,\"C\"))","v":""},{"$f":"IF(ISBLANK('Data Input'!A124),\"\",SUM('Data Input'!T124,'Data Input'!U124))","v":""},{"$f":"IF(K119=\"\",\"\",K119/COUNTIF('Data Input'!$C$8:$AK$8,\"S\"))","v":""},{"$f":"IF(ISBLANK('Data Input'!A124),\"\",SUM('Data Input'!F124,'Data Input'!R124,'Data Input'!AJ124))","v":""},{"$f":"IF(M119=\"\",\"\",M119/COUNTIF('Data Input'!$C$8:$AK$8,\"F\"))","v":""},{"$f":"IF(ISBLANK('Data Input'!A124),\"\",SUM('Data Input'!E124,'Data Input'!M124,'Data Input'!Q124,'Data Input'!V124,'Data Input'!W124,'Data Input'!AD124,'Data Input'!AH124))","v":""},{"$f":"IF(O119=\"\",\"\",O119/COUNTIF('Data Input'!$C$8:$AK$8,\"M\"))","v":""},{"$f":"IF(ISBLANK('Data Input'!A124),\"\",SUM('Data Input'!H124,'Data Input'!K124,'Data Input'!P124,'Data Input'!Y124))","v":""},{"$f":"IF(Q119=\"\",\"\",Q119/COUNTIF('Data Input'!$C$8:$AK$8,\"G\"))","v":""}]
[{"$f":"IF('Data Input'!A125=0,\"\",'Data Input'!A125)","v":""},{"$f":"IF(ISBLANK('Data Input'!A125),\"\",COUNTIF('Data Input'!C125:AK125,\"\"))","v":""},{"$f":"IF(ISBLANK('Data Input'!A125),\"\",COUNTIF('Data Input'!C125:AK125,\"0\"))","v":""},{"$f":"IF(ISBLANK('Data Input'!A125),\"\",SUM(B120,C120))","v":""},{"$f":"IF(ISBLANK('Data Input'!A125),\"\",SUM('Data Input'!C125:AK125))","v":""},{"$f":"IF(E120=\"\",\"\",E120/(COUNTA('Data Input'!$C$8:$AK$8)))","v":""},{"$f":"IF(ISBLANK('Data Input'!A125),\"\",SUM('Data Input'!C125,'Data Input'!D125,'Data Input'!J125,'Data Input'!X125))","v":""},{"$f":"IF(G120=\"\",\"\",G120/COUNTIF('Data Input'!$C$8:$AK$8,\"N\"))","v":""},{"$f":"IF(ISBLANK('Data Input'!A125),\"\",SUM('Data Input'!G125,'Data Input'!I125,'Data Input'!L125,'Data Input'!N125,'Data Input'!O125,'Data Input'!S125,'Data Input'!Z125,'Data Input'!AA125,'Data Input'!AB125,'Data Input'!AC125,'Data Input'!AE125,'Data Input'!AF125,'Data Input'!AG125,'Data Input'!AI125,'Data Input'!AK125))","v":""},{"$f":"IF(I120=\"\",\"\",I120/COUNTIF('Data Input'!$C$8:$AK$8,\"C\"))","v":""},{"$f":"IF(ISBLANK('Data Input'!A125),\"\",SUM('Data Input'!T125,'Data Input'!U125))","v":""},{"$f":"IF(K120=\"\",\"\",K120/COUNTIF('Data Input'!$C$8:$AK$8,\"S\"))","v":""},{"$f":"IF(ISBLANK('Data Input'!A125),\"\",SUM('Data Input'!F125,'Data Input'!R125,'Data Input'!AJ125))","v":""},{"$f":"IF(M120=\"\",\"\",M120/COUNTIF('Data Input'!$C$8:$AK$8,\"F\"))","v":""},{"$f":"IF(ISBLANK('Data Input'!A125),\"\",SUM('Data Input'!E125,'Data Input'!M125,'Data Input'!Q125,'Data Input'!V125,'Data Input'!W125,'Data Input'!AD125,'Data Input'!AH125))","v":""},{"$f":"IF(O120=\"\",\"\",O120/COUNTIF('Data Input'!$C$8:$AK$8,\"M\"))","v":""},{"$f":"IF(ISBLANK('Data Input'!A125),\"\",SUM('Data Input'!H125,'Data Input'!K125,'Data Input'!P125,'Data Input'!Y125))","v":""},{"$f":"IF(Q120=\"\",\"\",Q120/COUNTIF('Data Input'!$C$8:$AK$8,\"G\"))","v":""}]
[{"$f":"IF('Data Input'!A126=0,\"\",'Data Input'!A126)","v":""},{"$f":"IF(ISBLANK('Data Input'!A126),\"\",COUNTIF('Data Input'!C126:AK126,\"\"))","v":""},{"$f":"IF(ISBLANK('Data Input'!A126),\"\",COUNTIF('Data Input'!C126:AK126,\"0\"))","v":""},{"$f":"IF(ISBLANK('Data Input'!A126),\"\",SUM(B121,C121))","v":""},{"$f":"IF(ISBLANK('Data Input'!A126),\"\",SUM('Data Input'!C126:AK126))","v":""},{"$f":"IF(E121=\"\",\"\",E121/(COUNTA('Data Input'!$C$8:$AK$8)))","v":""},{"$f":"IF(ISBLANK('Data Input'!A126),\"\",SUM('Data Input'!C126,'Data Input'!D126,'Data Input'!J126,'Data Input'!X126))","v":""},{"$f":"IF(G121=\"\",\"\",G121/COUNTIF('Data Input'!$C$8:$AK$8,\"N\"))","v":""},{"$f":"IF(ISBLANK('Data Input'!A126),\"\",SUM('Data Input'!G126,'Data Input'!I126,'Data Input'!L126,'Data Input'!N126,'Data Input'!O126,'Data Input'!S126,'Data Input'!Z126,'Data Input'!AA126,'Data Input'!AB126,'Data Input'!AC126,'Data Input'!AE126,'Data Input'!AF126,'Data Input'!AG126,'Data Input'!AI126,'Data Input'!AK126))","v":""},{"$f":"IF(I121=\"\",\"\",I121/COUNTIF('Data Input'!$C$8:$AK$8,\"C\"))","v":""},{"$f":"IF(ISBLANK('Data Input'!A126),\"\",SUM('Data Input'!T126,'Data Input'!U126))","v":""},{"$f":"IF(K121=\"\",\"\",K121/COUNTIF('Data Input'!$C$8:$AK$8,\"S\"))","v":""},{"$f":"IF(ISBLANK('Data Input'!A126),\"\",SUM('Data Input'!F126,'Data Input'!R126,'Data Input'!AJ126))","v":""},{"$f":"IF(M121=\"\",\"\",M121/COUNTIF('Data Input'!$C$8:$AK$8,\"F\"))","v":""},{"$f":"IF(ISBLANK('Data Input'!A126),\"\",SUM('Data Input'!E126,'Data Input'!M126,'Data Input'!Q126,'Data Input'!V126,'Data Input'!W126,'Data Input'!AD126,'Data Input'!AH126))","v":""},{"$f":"IF(O121=\"\",\"\",O121/COUNTIF('Data Input'!$C$8:$AK$8,\"M\"))","v":""},{"$f":"IF(ISBLANK('Data Input'!A126),\"\",SUM('Data Input'!H126,'Data Input'!K126,'Data Input'!P126,'Data Input'!Y126))","v":""},{"$f":"IF(Q121=\"\",\"\",Q121/COUNTIF('Data Input'!$C$8:$AK$8,\"G\"))","v":""}]
[{"$f":"IF('Data Input'!A127=0,\"\",'Data Input'!A127)","v":""},{"$f":"IF(ISBLANK('Data Input'!A127),\"\",COUNTIF('Data Input'!C127:AK127,\"\"))","v":""},{"$f":"IF(ISBLANK('Data Input'!A127),\"\",COUNTIF('Data Input'!C127:AK127,\"0\"))","v":""},{"$f":"IF(ISBLANK('Data Input'!A127),\"\",SUM(B122,C122))","v":""},{"$f":"IF(ISBLANK('Data Input'!A127),\"\",SUM('Data Input'!C127:AK127))","v":""},{"$f":"IF(E122=\"\",\"\",E122/(COUNTA('Data Input'!$C$8:$AK$8)))","v":""},{"$f":"IF(ISBLANK('Data Input'!A127),\"\",SUM('Data Input'!C127,'Data Input'!D127,'Data Input'!J127,'Data Input'!X127))","v":""},{"$f":"IF(G122=\"\",\"\",G122/COUNTIF('Data Input'!$C$8:$AK$8,\"N\"))","v":""},{"$f":"IF(ISBLANK('Data Input'!A127),\"\",SUM('Data Input'!G127,'Data Input'!I127,'Data Input'!L127,'Data Input'!N127,'Data Input'!O127,'Data Input'!S127,'Data Input'!Z127,'Data Input'!AA127,'Data Input'!AB127,'Data Input'!AC127,'Data Input'!AE127,'Data Input'!AF127,'Data Input'!AG127,'Data Input'!AI127,'Data Input'!AK127))","v":""},{"$f":"IF(I122=\"\",\"\",I122/COUNTIF('Data Input'!$C$8:$AK$8,\"C\"))","v":""},{"$f":"IF(ISBLANK('Data Input'!A127),\"\",SUM('Data Input'!T127,'Data Input'!U127))","v":""},{"$f":"IF(K122=\"\",\"\",K122/COUNTIF('Data Input'!$C$8:$AK$8,\"S\"))","v":""},{"$f":"IF(ISBLANK('Data Input'!A127),\"\",SUM('Data Input'!F127,'Data Input'!R127,'Data Input'!AJ127))","v":""},{"$f":"IF(M122=\"\",\"\",M122/COUNTIF('Data Input'!$C$8:$AK$8,\"F\"))","v":""},{"$f":"IF(ISBLANK('Data Input'!A127),\"\",SUM('Data Input'!E127,'Data Input'!M127,'Data Input'!Q127,'Data Input'!V127,'Data Input'!W127,'Data Input'!AD127,'Data Input'!AH127))","v":""},{"$f":"IF(O122=\"\",\"\",O122/COUNTIF('Data Input'!$C$8:$AK$8,\"M\"))","v":""},{"$f":"IF(ISBLANK('Data Input'!A127),\"\",SUM('Data Input'!H127,'Data Input'!K127,'Data Input'!P127,'Data Input'!Y127))","v":""},{"$f":"IF(Q122=\"\",\"\",Q122/COUNTIF('Data Input'!$C$8:$AK$8,\"G\"))","v":""}]
[{"$f":"IF('Data Input'!A128=0,\"\",'Data Input'!A128)","v":""},{"$f":"IF(ISBLANK('Data Input'!A128),\"\",COUNTIF('Data Input'!C128:AK128,\"\"))","v":""},{"$f":"IF(ISBLANK('Data Input'!A128),\"\",COUNTIF('Data Input'!C128:AK128,\"0\"))","v":""},{"$f":"IF(ISBLANK('Data Input'!A128),\"\",SUM(B123,C123))","v":""},{"$f":"IF(ISBLANK('Data Input'!A128),\"\",SUM('Data Input'!C128:AK128))","v":""},{"$f":"IF(E123=\"\",\"\",E123/(COUNTA('Data Input'!$C$8:$AK$8)))","v":""},{"$f":"IF(ISBLANK('Data Input'!A128),\"\",SUM('Data Input'!C128,'Data Input'!D128,'Data Input'!J128,'Data Input'!X128))","v":""},{"$f":"IF(G123=\"\",\"\",G123/COUNTIF('Data Input'!$C$8:$AK$8,\"N\"))","v":""},{"$f":"IF(ISBLANK('Data Input'!A128),\"\",SUM('Data Input'!G128,'Data Input'!I128,'Data Input'!L128,'Data Input'!N128,'Data Input'!O128,'Data Input'!S128,'Data Input'!Z128,'Data Input'!AA128,'Data Input'!AB128,'Data Input'!AC128,'Data Input'!AE128,'Data Input'!AF128,'Data Input'!AG128,'Data Input'!AI128,'Data Input'!AK128))","v":""},{"$f":"IF(I123=\"\",\"\",I123/COUNTIF('Data Input'!$C$8:$AK$8,\"C\"))","v":""},{"$f":"IF(ISBLANK('Data Input'!A128),\"\",SUM('Data Input'!T128,'Data Input'!U128))","v":""},{"$f":"IF(K123=\"\",\"\",K123/COUNTIF('Data Input'!$C$8:$AK$8,\"S\"))","v":""},{"$f":"IF(ISBLANK('Data Input'!A128),\"\",SUM('Data Input'!F128,'Data Input'!R128,'Data Input'!AJ128))","v":""},{"$f":"IF(M123=\"\",\"\",M123/COUNTIF('Data Input'!$C$8:$AK$8,\"F\"))","v":""},{"$f":"IF(ISBLANK('Data Input'!A128),\"\",SUM('Data Input'!E128,'Data Input'!M128,'Data Input'!Q128,'Data Input'!V128,'Data Input'!W128,'Data Input'!AD128,'Data Input'!AH128))","v":""},{"$f":"IF(O123=\"\",\"\",O123/COUNTIF('Data Input'!$C$8:$AK$8,\"M\"))","v":""},{"$f":"IF(ISBLANK('Data Input'!A128),\"\",SUM('Data Input'!H128,'Data Input'!K128,'Data Input'!P128,'Data Input'!Y128))","v":""},{"$f":"IF(Q123=\"\",\"\",Q123/COUNTIF('Data Input'!$C$8:$AK$8,\"G\"))","v":""}]
[{"$f":"IF('Data Input'!A129=0,\"\",'Data Input'!A129)","v":""},{"$f":"IF(ISBLANK('Data Input'!A129),\"\",COUNTIF('Data Input'!C129:AK129,\"\"))","v":""},{"$f":"IF(ISBLANK('Data Input'!A129),\"\",COUNTIF('Data Input'!C129:AK129,\"0\"))","v":""},{"$f":"IF(ISBLANK('Data Input'!A129),\"\",SUM(B124,C124))","v":""},{"$f":"IF(ISBLANK('Data Input'!A129),\"\",SUM('Data Input'!C129:AK129))","v":""},{"$f":"IF(E124=\"\",\"\",E124/(COUNTA('Data Input'!$C$8:$AK$8)))","v":""},{"$f":"IF(ISBLANK('Data Input'!A129),\"\",SUM('Data Input'!C129,'Data Input'!D129,'Data Input'!J129,'Data Input'!X129))","v":""},{"$f":"IF(G124=\"\",\"\",G124/COUNTIF('Data Input'!$C$8:$AK$8,\"N\"))","v":""},{"$f":"IF(ISBLANK('Data Input'!A129),\"\",SUM('Data Input'!G129,'Data Input'!I129,'Data Input'!L129,'Data Input'!N129,'Data Input'!O129,'Data Input'!S129,'Data Input'!Z129,'Data Input'!AA129,'Data Input'!AB129,'Data Input'!AC129,'Data Input'!AE129,'Data Input'!AF129,'Data Input'!AG129,'Data Input'!AI129,'Data Input'!AK129))","v":""},{"$f":"IF(I124=\"\",\"\",I124/COUNTIF('Data Input'!$C$8:$AK$8,\"C\"))","v":""},{"$f":"IF(ISBLANK('Data Input'!A129),\"\",SUM('Data Input'!T129,'Data Input'!U129))","v":""},{"$f":"IF(K124=\"\",\"\",K124/COUNTIF('Data Input'!$C$8:$AK$8,\"S\"))","v":""},{"$f":"IF(ISBLANK('Data Input'!A129),\"\",SUM('Data Input'!F129,'Data Input'!R129,'Data Input'!AJ129))","v":""},{"$f":"IF(M124=\"\",\"\",M124/COUNTIF('Data Input'!$C$8:$AK$8,\"F\"))","v":""},{"$f":"IF(ISBLANK('Data Input'!A129),\"\",SUM('Data Input'!E129,'Data Input'!M129,'Data Input'!Q129,'Data Input'!V129,'Data Input'!W129,'Data Input'!AD129,'Data Input'!AH129))","v":""},{"$f":"IF(O124=\"\",\"\",O124/COUNTIF('Data Input'!$C$8:$AK$8,\"M\"))","v":""},{"$f":"IF(ISBLANK('Data Input'!A129),\"\",SUM('Data Input'!H129,'Data Input'!K129,'Data Input'!P129,'Data Input'!Y129))","v":""},{"$f":"IF(Q124=\"\",\"\",Q124/COUNTIF('Data Input'!$C$8:$AK$8,\"G\"))","v":""}]
[{"$f":"IF('Data Input'!A130=0,\"\",'Data Input'!A130)","v":""},{"$f":"IF(ISBLANK('Data Input'!A130),\"\",COUNTIF('Data Input'!C130:AK130,\"\"))","v":""},{"$f":"IF(ISBLANK('Data Input'!A130),\"\",COUNTIF('Data Input'!C130:AK130,\"0\"))","v":""},{"$f":"IF(ISBLANK('Data Input'!A130),\"\",SUM(B125,C125))","v":""},{"$f":"IF(ISBLANK('Data Input'!A130),\"\",SUM('Data Input'!C130:AK130))","v":""},{"$f":"IF(E125=\"\",\"\",E125/(COUNTA('Data Input'!$C$8:$AK$8)))","v":""},{"$f":"IF(ISBLANK('Data Input'!A130),\"\",SUM('Data Input'!C130,'Data Input'!D130,'Data Input'!J130,'Data Input'!X130))","v":""},{"$f":"IF(G125=\"\",\"\",G125/COUNTIF('Data Input'!$C$8:$AK$8,\"N\"))","v":""},{"$f":"IF(ISBLANK('Data Input'!A130),\"\",SUM('Data Input'!G130,'Data Input'!I130,'Data Input'!L130,'Data Input'!N130,'Data Input'!O130,'Data Input'!S130,'Data Input'!Z130,'Data Input'!AA130,'Data Input'!AB130,'Data Input'!AC130,'Data Input'!AE130,'Data Input'!AF130,'Data Input'!AG130,'Data Input'!AI130,'Data Input'!AK130))","v":""},{"$f":"IF(I125=\"\",\"\",I125/COUNTIF('Data Input'!$C$8:$AK$8,\"C\"))","v":""},{"$f":"IF(ISBLANK('Data Input'!A130),\"\",SUM('Data Input'!T130,'Data Input'!U130))","v":""},{"$f":"IF(K125=\"\",\"\",K125/COUNTIF('Data Input'!$C$8:$AK$8,\"S\"))","v":""},{"$f":"IF(ISBLANK('Data Input'!A130),\"\",SUM('Data Input'!F130,'Data Input'!R130,'Data Input'!AJ130))","v":""},{"$f":"IF(M125=\"\",\"\",M125/COUNTIF('Data Input'!$C$8:$AK$8,\"F\"))","v":""},{"$f":"IF(ISBLANK('Data Input'!A130),\"\",SUM('Data Input'!E130,'Data Input'!M130,'Data Input'!Q130,'Data Input'!V130,'Data Input'!W130,'Data Input'!AD130,'Data Input'!AH130))","v":""},{"$f":"IF(O125=\"\",\"\",O125/COUNTIF('Data Input'!$C$8:$AK$8,\"M\"))","v":""},{"$f":"IF(ISBLANK('Data Input'!A130),\"\",SUM('Data Input'!H130,'Data Input'!K130,'Data Input'!P130,'Data Input'!Y130))","v":""},{"$f":"IF(Q125=\"\",\"\",Q125/COUNTIF('Data Input'!$C$8:$AK$8,\"G\"))","v":""}]
[{"$f":"IF('Data Input'!A131=0,\"\",'Data Input'!A131)","v":""},{"$f":"IF(ISBLANK('Data Input'!A131),\"\",COUNTIF('Data Input'!C131:AK131,\"\"))","v":""},{"$f":"IF(ISBLANK('Data Input'!A131),\"\",COUNTIF('Data Input'!C131:AK131,\"0\"))","v":""},{"$f":"IF(ISBLANK('Data Input'!A131),\"\",SUM(B126,C126))","v":""},{"$f":"IF(ISBLANK('Data Input'!A131),\"\",SUM('Data Input'!C131:AK131))","v":""},{"$f":"IF(E126=\"\",\"\",E126/(COUNTA('Data Input'!$C$8:$AK$8)))","v":""},{"$f":"IF(ISBLANK('Data Input'!A131),\"\",SUM('Data Input'!C131,'Data Input'!D131,'Data Input'!J131,'Data Input'!X131))","v":""},{"$f":"IF(G126=\"\",\"\",G126/COUNTIF('Data Input'!$C$8:$AK$8,\"N\"))","v":""},{"$f":"IF(ISBLANK('Data Input'!A131),\"\",SUM('Data Input'!G131,'Data Input'!I131,'Data Input'!L131,'Data Input'!N131,'Data Input'!O131,'Data Input'!S131,'Data Input'!Z131,'Data Input'!AA131,'Data Input'!AB131,'Data Input'!AC131,'Data Input'!AE131,'Data Input'!AF131,'Data Input'!AG131,'Data Input'!AI131,'Data Input'!AK131))","v":""},{"$f":"IF(I126=\"\",\"\",I126/COUNTIF('Data Input'!$C$8:$AK$8,\"C\"))","v":""},{"$f":"IF(ISBLANK('Data Input'!A131),\"\",SUM('Data Input'!T131,'Data Input'!U131))","v":""},{"$f":"IF(K126=\"\",\"\",K126/COUNTIF('Data Input'!$C$8:$AK$8,\"S\"))","v":""},{"$f":"IF(ISBLANK('Data Input'!A131),\"\",SUM('Data Input'!F131,'Data Input'!R131,'Data Input'!AJ131))","v":""},{"$f":"IF(M126=\"\",\"\",M126/COUNTIF('Data Input'!$C$8:$AK$8,\"F\"))","v":""},{"$f":"IF(ISBLANK('Data Input'!A131),\"\",SUM('Data Input'!E131,'Data Input'!M131,'Data Input'!Q131,'Data Input'!V131,'Data Input'!W131,'Data Input'!AD131,'Data Input'!AH131))","v":""},{"$f":"IF(O126=\"\",\"\",O126/COUNTIF('Data Input'!$C$8:$AK$8,\"M\"))","v":""},{"$f":"IF(ISBLANK('Data Input'!A131),\"\",SUM('Data Input'!H131,'Data Input'!K131,'Data Input'!P131,'Data Input'!Y131))","v":""},{"$f":"IF(Q126=\"\",\"\",Q126/COUNTIF('Data Input'!$C$8:$AK$8,\"G\"))","v":""}]
[{"$f":"IF('Data Input'!A132=0,\"\",'Data Input'!A132)","v":""},{"$f":"IF(ISBLANK('Data Input'!A132),\"\",COUNTIF('Data Input'!C132:AK132,\"\"))","v":""},{"$f":"IF(ISBLANK('Data Input'!A132),\"\",COUNTIF('Data Input'!C132:AK132,\"0\"))","v":""},{"$f":"IF(ISBLANK('Data Input'!A132),\"\",SUM(B127,C127))","v":""},{"$f":"IF(ISBLANK('Data Input'!A132),\"\",SUM('Data Input'!C132:AK132))","v":""},{"$f":"IF(E127=\"\",\"\",E127/(COUNTA('Data Input'!$C$8:$AK$8)))","v":""},{"$f":"IF(ISBLANK('Data Input'!A132),\"\",SUM('Data Input'!C132,'Data Input'!D132,'Data Input'!J132,'Data Input'!X132))","v":""},{"$f":"IF(G127=\"\",\"\",G127/COUNTIF('Data Input'!$C$8:$AK$8,\"N\"))","v":""},{"$f":"IF(ISBLANK('Data Input'!A132),\"\",SUM('Data Input'!G132,'Data Input'!I132,'Data Input'!L132,'Data Input'!N132,'Data Input'!O132,'Data Input'!S132,'Data Input'!Z132,'Data Input'!AA132,'Data Input'!AB132,'Data Input'!AC132,'Data Input'!AE132,'Data Input'!AF132,'Data Input'!AG132,'Data Input'!AI132,'Data Input'!AK132))","v":""},{"$f":"IF(I127=\"\",\"\",I127/COUNTIF('Data Input'!$C$8:$AK$8,\"C\"))","v":""},{"$f":"IF(ISBLANK('Data Input'!A132),\"\",SUM('Data Input'!T132,'Data Input'!U132))","v":""},{"$f":"IF(K127=\"\",\"\",K127/COUNTIF('Data Input'!$C$8:$AK$8,\"S\"))","v":""},{"$f":"IF(ISBLANK('Data Input'!A132),\"\",SUM('Data Input'!F132,'Data Input'!R132,'Data Input'!AJ132))","v":""},{"$f":"IF(M127=\"\",\"\",M127/COUNTIF('Data Input'!$C$8:$AK$8,\"F\"))","v":""},{"$f":"IF(ISBLANK('Data Input'!A132),\"\",SUM('Data Input'!E132,'Data Input'!M132,'Data Input'!Q132,'Data Input'!V132,'Data Input'!W132,'Data Input'!AD132,'Data Input'!AH132))","v":""},{"$f":"IF(O127=\"\",\"\",O127/COUNTIF('Data Input'!$C$8:$AK$8,\"M\"))","v":""},{"$f":"IF(ISBLANK('Data Input'!A132),\"\",SUM('Data Input'!H132,'Data Input'!K132,'Data Input'!P132,'Data Input'!Y132))","v":""},{"$f":"IF(Q127=\"\",\"\",Q127/COUNTIF('Data Input'!$C$8:$AK$8,\"G\"))","v":""}]
[{"$f":"IF('Data Input'!A133=0,\"\",'Data Input'!A133)","v":""},{"$f":"IF(ISBLANK('Data Input'!A133),\"\",COUNTIF('Data Input'!C133:AK133,\"\"))","v":""},{"$f":"IF(ISBLANK('Data Input'!A133),\"\",COUNTIF('Data Input'!C133:AK133,\"0\"))","v":""},{"$f":"IF(ISBLANK('Data Input'!A133),\"\",SUM(B128,C128))","v":""},{"$f":"IF(ISBLANK('Data Input'!A133),\"\",SUM('Data Input'!C133:AK133))","v":""},{"$f":"IF(E128=\"\",\"\",E128/(COUNTA('Data Input'!$C$8:$AK$8)))","v":""},{"$f":"IF(ISBLANK('Data Input'!A133),\"\",SUM('Data Input'!C133,'Data Input'!D133,'Data Input'!J133,'Data Input'!X133))","v":""},{"$f":"IF(G128=\"\",\"\",G128/COUNTIF('Data Input'!$C$8:$AK$8,\"N\"))","v":""},{"$f":"IF(ISBLANK('Data Input'!A133),\"\",SUM('Data Input'!G133,'Data Input'!I133,'Data Input'!L133,'Data Input'!N133,'Data Input'!O133,'Data Input'!S133,'Data Input'!Z133,'Data Input'!AA133,'Data Input'!AB133,'Data Input'!AC133,'Data Input'!AE133,'Data Input'!AF133,'Data Input'!AG133,'Data Input'!AI133,'Data Input'!AK133))","v":""},{"$f":"IF(I128=\"\",\"\",I128/COUNTIF('Data Input'!$C$8:$AK$8,\"C\"))","v":""},{"$f":"IF(ISBLANK('Data Input'!A133),\"\",SUM('Data Input'!T133,'Data Input'!U133))","v":""},{"$f":"IF(K128=\"\",\"\",K128/COUNTIF('Data Input'!$C$8:$AK$8,\"S\"))","v":""},{"$f":"IF(ISBLANK('Data Input'!A133),\"\",SUM('Data Input'!F133,'Data Input'!R133,'Data Input'!AJ133))","v":""},{"$f":"IF(M128=\"\",\"\",M128/COUNTIF('Data Input'!$C$8:$AK$8,\"F\"))","v":""},{"$f":"IF(ISBLANK('Data Input'!A133),\"\",SUM('Data Input'!E133,'Data Input'!M133,'Data Input'!Q133,'Data Input'!V133,'Data Input'!W133,'Data Input'!AD133,'Data Input'!AH133))","v":""},{"$f":"IF(O128=\"\",\"\",O128/COUNTIF('Data Input'!$C$8:$AK$8,\"M\"))","v":""},{"$f":"IF(ISBLANK('Data Input'!A133),\"\",SUM('Data Input'!H133,'Data Input'!K133,'Data Input'!P133,'Data Input'!Y133))","v":""},{"$f":"IF(Q128=\"\",\"\",Q128/COUNTIF('Data Input'!$C$8:$AK$8,\"G\"))","v":""}]
[{"$f":"IF('Data Input'!A134=0,\"\",'Data Input'!A134)","v":""},{"$f":"IF(ISBLANK('Data Input'!A134),\"\",COUNTIF('Data Input'!C134:AK134,\"\"))","v":""},{"$f":"IF(ISBLANK('Data Input'!A134),\"\",COUNTIF('Data Input'!C134:AK134,\"0\"))","v":""},{"$f":"IF(ISBLANK('Data Input'!A134),\"\",SUM(B129,C129))","v":""},{"$f":"IF(ISBLANK('Data Input'!A134),\"\",SUM('Data Input'!C134:AK134))","v":""},{"$f":"IF(E129=\"\",\"\",E129/(COUNTA('Data Input'!$C$8:$AK$8)))","v":""},{"$f":"IF(ISBLANK('Data Input'!A134),\"\",SUM('Data Input'!C134,'Data Input'!D134,'Data Input'!J134,'Data Input'!X134))","v":""},{"$f":"IF(G129=\"\",\"\",G129/COUNTIF('Data Input'!$C$8:$AK$8,\"N\"))","v":""},{"$f":"IF(ISBLANK('Data Input'!A134),\"\",SUM('Data Input'!G134,'Data Input'!I134,'Data Input'!L134,'Data Input'!N134,'Data Input'!O134,'Data Input'!S134,'Data Input'!Z134,'Data Input'!AA134,'Data Input'!AB134,'Data Input'!AC134,'Data Input'!AE134,'Data Input'!AF134,'Data Input'!AG134,'Data Input'!AI134,'Data Input'!AK134))","v":""},{"$f":"IF(I129=\"\",\"\",I129/COUNTIF('Data Input'!$C$8:$AK$8,\"C\"))","v":""},{"$f":"IF(ISBLANK('Data Input'!A134),\"\",SUM('Data Input'!T134,'Data Input'!U134))","v":""},{"$f":"IF(K129=\"\",\"\",K129/COUNTIF('Data Input'!$C$8:$AK$8,\"S\"))","v":""},{"$f":"IF(ISBLANK('Data Input'!A134),\"\",SUM('Data Input'!F134,'Data Input'!R134,'Data Input'!AJ134))","v":""},{"$f":"IF(M129=\"\",\"\",M129/COUNTIF('Data Input'!$C$8:$AK$8,\"F\"))","v":""},{"$f":"IF(ISBLANK('Data Input'!A134),\"\",SUM('Data Input'!E134,'Data Input'!M134,'Data Input'!Q134,'Data Input'!V134,'Data Input'!W134,'Data Input'!AD134,'Data Input'!AH134))","v":""},{"$f":"IF(O129=\"\",\"\",O129/COUNTIF('Data Input'!$C$8:$AK$8,\"M\"))","v":""},{"$f":"IF(ISBLANK('Data Input'!A134),\"\",SUM('Data Input'!H134,'Data Input'!K134,'Data Input'!P134,'Data Input'!Y134))","v":""},{"$f":"IF(Q129=\"\",\"\",Q129/COUNTIF('Data Input'!$C$8:$AK$8,\"G\"))","v":""}]
[{"$f":"IF('Data Input'!A135=0,\"\",'Data Input'!A135)","v":""},{"$f":"IF(ISBLANK('Data Input'!A135),\"\",COUNTIF('Data Input'!C135:AK135,\"\"))","v":""},{"$f":"IF(ISBLANK('Data Input'!A135),\"\",COUNTIF('Data Input'!C135:AK135,\"0\"))","v":""},{"$f":"IF(ISBLANK('Data Input'!A135),\"\",SUM(B130,C130))","v":""},{"$f":"IF(ISBLANK('Data Input'!A135),\"\",SUM('Data Input'!C135:AK135))","v":""},{"$f":"IF(E130=\"\",\"\",E130/(COUNTA('Data Input'!$C$8:$AK$8)))","v":""},{"$f":"IF(ISBLANK('Data Input'!A135),\"\",SUM('Data Input'!C135,'Data Input'!D135,'Data Input'!J135,'Data Input'!X135))","v":""},{"$f":"IF(G130=\"\",\"\",G130/COUNTIF('Data Input'!$C$8:$AK$8,\"N\"))","v":""},{"$f":"IF(ISBLANK('Data Input'!A135),\"\",SUM('Data Input'!G135,'Data Input'!I135,'Data Input'!L135,'Data Input'!N135,'Data Input'!O135,'Data Input'!S135,'Data Input'!Z135,'Data Input'!AA135,'Data Input'!AB135,'Data Input'!AC135,'Data Input'!AE135,'Data Input'!AF135,'Data Input'!AG135,'Data Input'!AI135,'Data Input'!AK135))","v":""},{"$f":"IF(I130=\"\",\"\",I130/COUNTIF('Data Input'!$C$8:$AK$8,\"C\"))","v":""},{"$f":"IF(ISBLANK('Data Input'!A135),\"\",SUM('Data Input'!T135,'Data Input'!U135))","v":""},{"$f":"IF(K130=\"\",\"\",K130/COUNTIF('Data Input'!$C$8:$AK$8,\"S\"))","v":""},{"$f":"IF(ISBLANK('Data Input'!A135),\"\",SUM('Data Input'!F135,'Data Input'!R135,'Data Input'!AJ135))","v":""},{"$f":"IF(M130=\"\",\"\",M130/COUNTIF('Data Input'!$C$8:$AK$8,\"F\"))","v":""},{"$f":"IF(ISBLANK('Data Input'!A135),\"\",SUM('Data Input'!E135,'Data Input'!M135,'Data Input'!Q135,'Data Input'!V135,'Data Input'!W135,'Data Input'!AD135,'Data Input'!AH135))","v":""},{"$f":"IF(O130=\"\",\"\",O130/COUNTIF('Data Input'!$C$8:$AK$8,\"M\"))","v":""},{"$f":"IF(ISBLANK('Data Input'!A135),\"\",SUM('Data Input'!H135,'Data Input'!K135,'Data Input'!P135,'Data Input'!Y135))","v":""},{"$f":"IF(Q130=\"\",\"\",Q130/COUNTIF('Data Input'!$C$8:$AK$8,\"G\"))","v":""}]
[{"$f":"IF('Data Input'!A136=0,\"\",'Data Input'!A136)","v":""},{"$f":"IF(ISBLANK('Data Input'!A136),\"\",COUNTIF('Data Input'!C136:AK136,\"\"))","v":""},{"$f":"IF(ISBLANK('Data Input'!A136),\"\",COUNTIF('Data Input'!C136:AK136,\"0\"))","v":""},{"$f":"IF(ISBLANK('Data Input'!A136),\"\",SUM(B131,C131))","v":""},{"$f":"IF(ISBLANK('Data Input'!A136),\"\",SUM('Data Input'!C136:AK136))","v":""},{"$f":"IF(E131=\"\",\"\",E131/(COUNTA('Data Input'!$C$8:$AK$8)))","v":""},{"$f":"IF(ISBLANK('Data Input'!A136),\"\",SUM('Data Input'!C136,'Data Input'!D136,'Data Input'!J136,'Data Input'!X136))","v":""},{"$f":"IF(G131=\"\",\"\",G131/COUNTIF('Data Input'!$C$8:$AK$8,\"N\"))","v":""},{"$f":"IF(ISBLANK('Data Input'!A136),\"\",SUM('Data Input'!G136,'Data Input'!I136,'Data Input'!L136,'Data Input'!N136,'Data Input'!O136,'Data Input'!S136,'Data Input'!Z136,'Data Input'!AA136,'Data Input'!AB136,'Data Input'!AC136,'Data Input'!AE136,'Data Input'!AF136,'Data Input'!AG136,'Data Input'!AI136,'Data Input'!AK136))","v":""},{"$f":"IF(I131=\"\",\"\",I131/COUNTIF('Data Input'!$C$8:$AK$8,\"C\"))","v":""},{"$f":"IF(ISBLANK('Data Input'!A136),\"\",SUM('Data Input'!T136,'Data Input'!U136))","v":""},{"$f":"IF(K131=\"\",\"\",K131/COUNTIF('Data Input'!$C$8:$AK$8,\"S\"))","v":""},{"$f":"IF(ISBLANK('Data Input'!A136),\"\",SUM('Data Input'!F136,'Data Input'!R136,'Data Input'!AJ136))","v":""},{"$f":"IF(M131=\"\",\"\",M131/COUNTIF('Data Input'!$C$8:$AK$8,\"F\"))","v":""},{"$f":"IF(ISBLANK('Data Input'!A136),\"\",SUM('Data Input'!E136,'Data Input'!M136,'Data Input'!Q136,'Data Input'!V136,'Data Input'!W136,'Data Input'!AD136,'Data Input'!AH136))","v":""},{"$f":"IF(O131=\"\",\"\",O131/COUNTIF('Data Input'!$C$8:$AK$8,\"M\"))","v":""},{"$f":"IF(ISBLANK('Data Input'!A136),\"\",SUM('Data Input'!H136,'Data Input'!K136,'Data Input'!P136,'Data Input'!Y136))","v":""},{"$f":"IF(Q131=\"\",\"\",Q131/COUNTIF('Data Input'!$C$8:$AK$8,\"G\"))","v":""}]
[{"$f":"IF('Data Input'!A137=0,\"\",'Data Input'!A137)","v":""},{"$f":"IF(ISBLANK('Data Input'!A137),\"\",COUNTIF('Data Input'!C137:AK137,\"\"))","v":""},{"$f":"IF(ISBLANK('Data Input'!A137),\"\",COUNTIF('Data Input'!C137:AK137,\"0\"))","v":""},{"$f":"IF(ISBLANK('Data Input'!A137),\"\",SUM(B132,C132))","v":""},{"$f":"IF(ISBLANK('Data Input'!A137),\"\",SUM('Data Input'!C137:AK137))","v":""},{"$f":"IF(E132=\"\",\"\",E132/(COUNTA('Data Input'!$C$8:$AK$8)))","v":""},{"$f":"IF(ISBLANK('Data Input'!A137),\"\",SUM('Data Input'!C137,'Data Input'!D137,'Data Input'!J137,'Data Input'!X137))","v":""},{"$f":"IF(G132=\"\",\"\",G132/COUNTIF('Data Input'!$C$8:$AK$8,\"N\"))","v":""},{"$f":"IF(ISBLANK('Data Input'!A137),\"\",SUM('Data Input'!G137,'Data Input'!I137,'Data Input'!L137,'Data Input'!N137,'Data Input'!O137,'Data Input'!S137,'Data Input'!Z137,'Data Input'!AA137,'Data Input'!AB137,'Data Input'!AC137,'Data Input'!AE137,'Data Input'!AF137,'Data Input'!AG137,'Data Input'!AI137,'Data Input'!AK137))","v":""},{"$f":"IF(I132=\"\",\"\",I132/COUNTIF('Data Input'!$C$8:$AK$8,\"C\"))","v":""},{"$f":"IF(ISBLANK('Data Input'!A137),\"\",SUM('Data Input'!T137,'Data Input'!U137))","v":""},{"$f":"IF(K132=\"\",\"\",K132/COUNTIF('Data Input'!$C$8:$AK$8,\"S\"))","v":""},{"$f":"IF(ISBLANK('Data Input'!A137),\"\",SUM('Data Input'!F137,'Data Input'!R137,'Data Input'!AJ137))","v":""},{"$f":"IF(M132=\"\",\"\",M132/COUNTIF('Data Input'!$C$8:$AK$8,\"F\"))","v":""},{"$f":"IF(ISBLANK('Data Input'!A137),\"\",SUM('Data Input'!E137,'Data Input'!M137,'Data Input'!Q137,'Data Input'!V137,'Data Input'!W137,'Data Input'!AD137,'Data Input'!AH137))","v":""},{"$f":"IF(O132=\"\",\"\",O132/COUNTIF('Data Input'!$C$8:$AK$8,\"M\"))","v":""},{"$f":"IF(ISBLANK('Data Input'!A137),\"\",SUM('Data Input'!H137,'Data Input'!K137,'Data Input'!P137,'Data Input'!Y137))","v":""},{"$f":"IF(Q132=\"\",\"\",Q132/COUNTIF('Data Input'!$C$8:$AK$8,\"G\"))","v":""}]
[{"$f":"IF('Data Input'!A138=0,\"\",'Data Input'!A138)","v":""},{"$f":"IF(ISBLANK('Data Input'!A138),\"\",COUNTIF('Data Input'!C138:AK138,\"\"))","v":""},{"$f":"IF(ISBLANK('Data Input'!A138),\"\",COUNTIF('Data Input'!C138:AK138,\"0\"))","v":""},{"$f":"IF(ISBLANK('Data Input'!A138),\"\",SUM(B133,C133))","v":""},{"$f":"IF(ISBLANK('Data Input'!A138),\"\",SUM('Data Input'!C138:AK138))","v":""},{"$f":"IF(E133=\"\",\"\",E133/(COUNTA('Data Input'!$C$8:$AK$8)))","v":""},{"$f":"IF(ISBLANK('Data Input'!A138),\"\",SUM('Data Input'!C138,'Data Input'!D138,'Data Input'!J138,'Data Input'!X138))","v":""},{"$f":"IF(G133=\"\",\"\",G133/COUNTIF('Data Input'!$C$8:$AK$8,\"N\"))","v":""},{"$f":"IF(ISBLANK('Data Input'!A138),\"\",SUM('Data Input'!G138,'Data Input'!I138,'Data Input'!L138,'Data Input'!N138,'Data Input'!O138,'Data Input'!S138,'Data Input'!Z138,'Data Input'!AA138,'Data Input'!AB138,'Data Input'!AC138,'Data Input'!AE138,'Data Input'!AF138,'Data Input'!AG138,'Data Input'!AI138,'Data Input'!AK138))","v":""},{"$f":"IF(I133=\"\",\"\",I133/COUNTIF('Data Input'!$C$8:$AK$8,\"C\"))","v":""},{"$f":"IF(ISBLANK('Data Input'!A138),\"\",SUM('Data Input'!T138,'Data Input'!U138))","v":""},{"$f":"IF(K133=\"\",\"\",K133/COUNTIF('Data Input'!$C$8:$AK$8,\"S\"))","v":""},{"$f":"IF(ISBLANK('Data Input'!A138),\"\",SUM('Data Input'!F138,'Data Input'!R138,'Data Input'!AJ138))","v":""},{"$f":"IF(M133=\"\",\"\",M133/COUNTIF('Data Input'!$C$8:$AK$8,\"F\"))","v":""},{"$f":"IF(ISBLANK('Data Input'!A138),\"\",SUM('Data Input'!E138,'Data Input'!M138,'Data Input'!Q138,'Data Input'!V138,'Data Input'!W138,'Data Input'!AD138,'Data Input'!AH138))","v":""},{"$f":"IF(O133=\"\",\"\",O133/COUNTIF('Data Input'!$C$8:$AK$8,\"M\"))","v":""},{"$f":"IF(ISBLANK('Data Input'!A138),\"\",SUM('Data Input'!H138,'Data Input'!K138,'Data Input'!P138,'Data Input'!Y138))","v":""},{"$f":"IF(Q133=\"\",\"\",Q133/COUNTIF('Data Input'!$C$8:$AK$8,\"G\"))","v":""}]
[{"$f":"IF('Data Input'!A139=0,\"\",'Data Input'!A139)","v":""},{"$f":"IF(ISBLANK('Data Input'!A139),\"\",COUNTIF('Data Input'!C139:AK139,\"\"))","v":""},{"$f":"IF(ISBLANK('Data Input'!A139),\"\",COUNTIF('Data Input'!C139:AK139,\"0\"))","v":""},{"$f":"IF(ISBLANK('Data Input'!A139),\"\",SUM(B134,C134))","v":""},{"$f":"IF(ISBLANK('Data Input'!A139),\"\",SUM('Data Input'!C139:AK139))","v":""},{"$f":"IF(E134=\"\",\"\",E134/(COUNTA('Data Input'!$C$8:$AK$8)))","v":""},{"$f":"IF(ISBLANK('Data Input'!A139),\"\",SUM('Data Input'!C139,'Data Input'!D139,'Data Input'!J139,'Data Input'!X139))","v":""},{"$f":"IF(G134=\"\",\"\",G134/COUNTIF('Data Input'!$C$8:$AK$8,\"N\"))","v":""},{"$f":"IF(ISBLANK('Data Input'!A139),\"\",SUM('Data Input'!G139,'Data Input'!I139,'Data Input'!L139,'Data Input'!N139,'Data Input'!O139,'Data Input'!S139,'Data Input'!Z139,'Data Input'!AA139,'Data Input'!AB139,'Data Input'!AC139,'Data Input'!AE139,'Data Input'!AF139,'Data Input'!AG139,'Data Input'!AI139,'Data Input'!AK139))","v":""},{"$f":"IF(I134=\"\",\"\",I134/COUNTIF('Data Input'!$C$8:$AK$8,\"C\"))","v":""},{"$f":"IF(ISBLANK('Data Input'!A139),\"\",SUM('Data Input'!T139,'Data Input'!U139))","v":""},{"$f":"IF(K134=\"\",\"\",K134/COUNTIF('Data Input'!$C$8:$AK$8,\"S\"))","v":""},{"$f":"IF(ISBLANK('Data Input'!A139),\"\",SUM('Data Input'!F139,'Data Input'!R139,'Data Input'!AJ139))","v":""},{"$f":"IF(M134=\"\",\"\",M134/COUNTIF('Data Input'!$C$8:$AK$8,\"F\"))","v":""},{"$f":"IF(ISBLANK('Data Input'!A139),\"\",SUM('Data Input'!E139,'Data Input'!M139,'Data Input'!Q139,'Data Input'!V139,'Data Input'!W139,'Data Input'!AD139,'Data Input'!AH139))","v":""},{"$f":"IF(O134=\"\",\"\",O134/COUNTIF('Data Input'!$C$8:$AK$8,\"M\"))","v":""},{"$f":"IF(ISBLANK('Data Input'!A139),\"\",SUM('Data Input'!H139,'Data Input'!K139,'Data Input'!P139,'Data Input'!Y139))","v":""},{"$f":"IF(Q134=\"\",\"\",Q134/COUNTIF('Data Input'!$C$8:$AK$8,\"G\"))","v":""}]
[{"$f":"IF('Data Input'!A140=0,\"\",'Data Input'!A140)","v":""},{"$f":"IF(ISBLANK('Data Input'!A140),\"\",COUNTIF('Data Input'!C140:AK140,\"\"))","v":""},{"$f":"IF(ISBLANK('Data Input'!A140),\"\",COUNTIF('Data Input'!C140:AK140,\"0\"))","v":""},{"$f":"IF(ISBLANK('Data Input'!A140),\"\",SUM(B135,C135))","v":""},{"$f":"IF(ISBLANK('Data Input'!A140),\"\",SUM('Data Input'!C140:AK140))","v":""},{"$f":"IF(E135=\"\",\"\",E135/(COUNTA('Data Input'!$C$8:$AK$8)))","v":""},{"$f":"IF(ISBLANK('Data Input'!A140),\"\",SUM('Data Input'!C140,'Data Input'!D140,'Data Input'!J140,'Data Input'!X140))","v":""},{"$f":"IF(G135=\"\",\"\",G135/COUNTIF('Data Input'!$C$8:$AK$8,\"N\"))","v":""},{"$f":"IF(ISBLANK('Data Input'!A140),\"\",SUM('Data Input'!G140,'Data Input'!I140,'Data Input'!L140,'Data Input'!N140,'Data Input'!O140,'Data Input'!S140,'Data Input'!Z140,'Data Input'!AA140,'Data Input'!AB140,'Data Input'!AC140,'Data Input'!AE140,'Data Input'!AF140,'Data Input'!AG140,'Data Input'!AI140,'Data Input'!AK140))","v":""},{"$f":"IF(I135=\"\",\"\",I135/COUNTIF('Data Input'!$C$8:$AK$8,\"C\"))","v":""},{"$f":"IF(ISBLANK('Data Input'!A140),\"\",SUM('Data Input'!T140,'Data Input'!U140))","v":""},{"$f":"IF(K135=\"\",\"\",K135/COUNTIF('Data Input'!$C$8:$AK$8,\"S\"))","v":""},{"$f":"IF(ISBLANK('Data Input'!A140),\"\",SUM('Data Input'!F140,'Data Input'!R140,'Data Input'!AJ140))","v":""},{"$f":"IF(M135=\"\",\"\",M135/COUNTIF('Data Input'!$C$8:$AK$8,\"F\"))","v":""},{"$f":"IF(ISBLANK('Data Input'!A140),\"\",SUM('Data Input'!E140,'Data Input'!M140,'Data Input'!Q140,'Data Input'!V140,'Data Input'!W140,'Data Input'!AD140,'Data Input'!AH140))","v":""},{"$f":"IF(O135=\"\",\"\",O135/COUNTIF('Data Input'!$C$8:$AK$8,\"M\"))","v":""},{"$f":"IF(ISBLANK('Data Input'!A140),\"\",SUM('Data Input'!H140,'Data Input'!K140,'Data Input'!P140,'Data Input'!Y140))","v":""},{"$f":"IF(Q135=\"\",\"\",Q135/COUNTIF('Data Input'!$C$8:$AK$8,\"G\"))","v":""}]
[{"$f":"IF('Data Input'!A141=0,\"\",'Data Input'!A141)","v":""},{"$f":"IF(ISBLANK('Data Input'!A141),\"\",COUNTIF('Data Input'!C141:AK141,\"\"))","v":""},{"$f":"IF(ISBLANK('Data Input'!A141),\"\",COUNTIF('Data Input'!C141:AK141,\"0\"))","v":""},{"$f":"IF(ISBLANK('Data Input'!A141),\"\",SUM(B136,C136))","v":""},{"$f":"IF(ISBLANK('Data Input'!A141),\"\",SUM('Data Input'!C141:AK141))","v":""},{"$f":"IF(E136=\"\",\"\",E136/(COUNTA('Data Input'!$C$8:$AK$8)))","v":""},{"$f":"IF(ISBLANK('Data Input'!A141),\"\",SUM('Data Input'!C141,'Data Input'!D141,'Data Input'!J141,'Data Input'!X141))","v":""},{"$f":"IF(G136=\"\",\"\",G136/COUNTIF('Data Input'!$C$8:$AK$8,\"N\"))","v":""},{"$f":"IF(ISBLANK('Data Input'!A141),\"\",SUM('Data Input'!G141,'Data Input'!I141,'Data Input'!L141,'Data Input'!N141,'Data Input'!O141,'Data Input'!S141,'Data Input'!Z141,'Data Input'!AA141,'Data Input'!AB141,'Data Input'!AC141,'Data Input'!AE141,'Data Input'!AF141,'Data Input'!AG141,'Data Input'!AI141,'Data Input'!AK141))","v":""},{"$f":"IF(I136=\"\",\"\",I136/COUNTIF('Data Input'!$C$8:$AK$8,\"C\"))","v":""},{"$f":"IF(ISBLANK('Data Input'!A141),\"\",SUM('Data Input'!T141,'Data Input'!U141))","v":""},{"$f":"IF(K136=\"\",\"\",K136/COUNTIF('Data Input'!$C$8:$AK$8,\"S\"))","v":""},{"$f":"IF(ISBLANK('Data Input'!A141),\"\",SUM('Data Input'!F141,'Data Input'!R141,'Data Input'!AJ141))","v":""},{"$f":"IF(M136=\"\",\"\",M136/COUNTIF('Data Input'!$C$8:$AK$8,\"F\"))","v":""},{"$f":"IF(ISBLANK('Data Input'!A141),\"\",SUM('Data Input'!E141,'Data Input'!M141,'Data Input'!Q141,'Data Input'!V141,'Data Input'!W141,'Data Input'!AD141,'Data Input'!AH141))","v":""},{"$f":"IF(O136=\"\",\"\",O136/COUNTIF('Data Input'!$C$8:$AK$8,\"M\"))","v":""},{"$f":"IF(ISBLANK('Data Input'!A141),\"\",SUM('Data Input'!H141,'Data Input'!K141,'Data Input'!P141,'Data Input'!Y141))","v":""},{"$f":"IF(Q136=\"\",\"\",Q136/COUNTIF('Data Input'!$C$8:$AK$8,\"G\"))","v":""}]
[{"$f":"IF('Data Input'!A142=0,\"\",'Data Input'!A142)","v":""},{"$f":"IF(ISBLANK('Data Input'!A142),\"\",COUNTIF('Data Input'!C142:AK142,\"\"))","v":""},{"$f":"IF(ISBLANK('Data Input'!A142),\"\",COUNTIF('Data Input'!C142:AK142,\"0\"))","v":""},{"$f":"IF(ISBLANK('Data Input'!A142),\"\",SUM(B137,C137))","v":""},{"$f":"IF(ISBLANK('Data Input'!A142),\"\",SUM('Data Input'!C142:AK142))","v":""},{"$f":"IF(E137=\"\",\"\",E137/(COUNTA('Data Input'!$C$8:$AK$8)))","v":""},{"$f":"IF(ISBLANK('Data Input'!A142),\"\",SUM('Data Input'!C142,'Data Input'!D142,'Data Input'!J142,'Data Input'!X142))","v":""},{"$f":"IF(G137=\"\",\"\",G137/COUNTIF('Data Input'!$C$8:$AK$8,\"N\"))","v":""},{"$f":"IF(ISBLANK('Data Input'!A142),\"\",SUM('Data Input'!G142,'Data Input'!I142,'Data Input'!L142,'Data Input'!N142,'Data Input'!O142,'Data Input'!S142,'Data Input'!Z142,'Data Input'!AA142,'Data Input'!AB142,'Data Input'!AC142,'Data Input'!AE142,'Data Input'!AF142,'Data Input'!AG142,'Data Input'!AI142,'Data Input'!AK142))","v":""},{"$f":"IF(I137=\"\",\"\",I137/COUNTIF('Data Input'!$C$8:$AK$8,\"C\"))","v":""},{"$f":"IF(ISBLANK('Data Input'!A142),\"\",SUM('Data Input'!T142,'Data Input'!U142))","v":""},{"$f":"IF(K137=\"\",\"\",K137/COUNTIF('Data Input'!$C$8:$AK$8,\"S\"))","v":""},{"$f":"IF(ISBLANK('Data Input'!A142),\"\",SUM('Data Input'!F142,'Data Input'!R142,'Data Input'!AJ142))","v":""},{"$f":"IF(M137=\"\",\"\",M137/COUNTIF('Data Input'!$C$8:$AK$8,\"F\"))","v":""},{"$f":"IF(ISBLANK('Data Input'!A142),\"\",SUM('Data Input'!E142,'Data Input'!M142,'Data Input'!Q142,'Data Input'!V142,'Data Input'!W142,'Data Input'!AD142,'Data Input'!AH142))","v":""},{"$f":"IF(O137=\"\",\"\",O137/COUNTIF('Data Input'!$C$8:$AK$8,\"M\"))","v":""},{"$f":"IF(ISBLANK('Data Input'!A142),\"\",SUM('Data Input'!H142,'Data Input'!K142,'Data Input'!P142,'Data Input'!Y142))","v":""},{"$f":"IF(Q137=\"\",\"\",Q137/COUNTIF('Data Input'!$C$8:$AK$8,\"G\"))","v":""}]
[{"$f":"IF('Data Input'!A143=0,\"\",'Data Input'!A143)","v":""},{"$f":"IF(ISBLANK('Data Input'!A143),\"\",COUNTIF('Data Input'!C143:AK143,\"\"))","v":""},{"$f":"IF(ISBLANK('Data Input'!A143),\"\",COUNTIF('Data Input'!C143:AK143,\"0\"))","v":""},{"$f":"IF(ISBLANK('Data Input'!A143),\"\",SUM(B138,C138))","v":""},{"$f":"IF(ISBLANK('Data Input'!A143),\"\",SUM('Data Input'!C143:AK143))","v":""},{"$f":"IF(E138=\"\",\"\",E138/(COUNTA('Data Input'!$C$8:$AK$8)))","v":""},{"$f":"IF(ISBLANK('Data Input'!A143),\"\",SUM('Data Input'!C143,'Data Input'!D143,'Data Input'!J143,'Data Input'!X143))","v":""},{"$f":"IF(G138=\"\",\"\",G138/COUNTIF('Data Input'!$C$8:$AK$8,\"N\"))","v":""},{"$f":"IF(ISBLANK('Data Input'!A143),\"\",SUM('Data Input'!G143,'Data Input'!I143,'Data Input'!L143,'Data Input'!N143,'Data Input'!O143,'Data Input'!S143,'Data Input'!Z143,'Data Input'!AA143,'Data Input'!AB143,'Data Input'!AC143,'Data Input'!AE143,'Data Input'!AF143,'Data Input'!AG143,'Data Input'!AI143,'Data Input'!AK143))","v":""},{"$f":"IF(I138=\"\",\"\",I138/COUNTIF('Data Input'!$C$8:$AK$8,\"C\"))","v":""},{"$f":"IF(ISBLANK('Data Input'!A143),\"\",SUM('Data Input'!T143,'Data Input'!U143))","v":""},{"$f":"IF(K138=\"\",\"\",K138/COUNTIF('Data Input'!$C$8:$AK$8,\"S\"))","v":""},{"$f":"IF(ISBLANK('Data Input'!A143),\"\",SUM('Data Input'!F143,'Data Input'!R143,'Data Input'!AJ143))","v":""},{"$f":"IF(M138=\"\",\"\",M138/COUNTIF('Data Input'!$C$8:$AK$8,\"F\"))","v":""},{"$f":"IF(ISBLANK('Data Input'!A143),\"\",SUM('Data Input'!E143,'Data Input'!M143,'Data Input'!Q143,'Data Input'!V143,'Data Input'!W143,'Data Input'!AD143,'Data Input'!AH143))","v":""},{"$f":"IF(O138=\"\",\"\",O138/COUNTIF('Data Input'!$C$8:$AK$8,\"M\"))","v":""},{"$f":"IF(ISBLANK('Data Input'!A143),\"\",SUM('Data Input'!H143,'Data Input'!K143,'Data Input'!P143,'Data Input'!Y143))","v":""},{"$f":"IF(Q138=\"\",\"\",Q138/COUNTIF('Data Input'!$C$8:$AK$8,\"G\"))","v":""}]
[{"$f":"IF('Data Input'!A144=0,\"\",'Data Input'!A144)","v":""},{"$f":"IF(ISBLANK('Data Input'!A144),\"\",COUNTIF('Data Input'!C144:AK144,\"\"))","v":""},{"$f":"IF(ISBLANK('Data Input'!A144),\"\",COUNTIF('Data Input'!C144:AK144,\"0\"))","v":""},{"$f":"IF(ISBLANK('Data Input'!A144),\"\",SUM(B139,C139))","v":""},{"$f":"IF(ISBLANK('Data Input'!A144),\"\",SUM('Data Input'!C144:AK144))","v":""},{"$f":"IF(E139=\"\",\"\",E139/(COUNTA('Data Input'!$C$8:$AK$8)))","v":""},{"$f":"IF(ISBLANK('Data Input'!A144),\"\",SUM('Data Input'!C144,'Data Input'!D144,'Data Input'!J144,'Data Input'!X144))","v":""},{"$f":"IF(G139=\"\",\"\",G139/COUNTIF('Data Input'!$C$8:$AK$8,\"N\"))","v":""},{"$f":"IF(ISBLANK('Data Input'!A144),\"\",SUM('Data Input'!G144,'Data Input'!I144,'Data Input'!L144,'Data Input'!N144,'Data Input'!O144,'Data Input'!S144,'Data Input'!Z144,'Data Input'!AA144,'Data Input'!AB144,'Data Input'!AC144,'Data Input'!AE144,'Data Input'!AF144,'Data Input'!AG144,'Data Input'!AI144,'Data Input'!AK144))","v":""},{"$f":"IF(I139=\"\",\"\",I139/COUNTIF('Data Input'!$C$8:$AK$8,\"C\"))","v":""},{"$f":"IF(ISBLANK('Data Input'!A144),\"\",SUM('Data Input'!T144,'Data Input'!U144))","v":""},{"$f":"IF(K139=\"\",\"\",K139/COUNTIF('Data Input'!$C$8:$AK$8,\"S\"))","v":""},{"$f":"IF(ISBLANK('Data Input'!A144),\"\",SUM('Data Input'!F144,'Data Input'!R144,'Data Input'!AJ144))","v":""},{"$f":"IF(M139=\"\",\"\",M139/COUNTIF('Data Input'!$C$8:$AK$8,\"F\"))","v":""},{"$f":"IF(ISBLANK('Data Input'!A144),\"\",SUM('Data Input'!E144,'Data Input'!M144,'Data Input'!Q144,'Data Input'!V144,'Data Input'!W144,'Data Input'!AD144,'Data Input'!AH144))","v":""},{"$f":"IF(O139=\"\",\"\",O139/COUNTIF('Data Input'!$C$8:$AK$8,\"M\"))","v":""},{"$f":"IF(ISBLANK('Data Input'!A144),\"\",SUM('Data Input'!H144,'Data Input'!K144,'Data Input'!P144,'Data Input'!Y144))","v":""},{"$f":"IF(Q139=\"\",\"\",Q139/COUNTIF('Data Input'!$C$8:$AK$8,\"G\"))","v":""}]
[{"$f":"IF('Data Input'!A145=0,\"\",'Data Input'!A145)","v":""},{"$f":"IF(ISBLANK('Data Input'!A145),\"\",COUNTIF('Data Input'!C145:AK145,\"\"))","v":""},{"$f":"IF(ISBLANK('Data Input'!A145),\"\",COUNTIF('Data Input'!C145:AK145,\"0\"))","v":""},{"$f":"IF(ISBLANK('Data Input'!A145),\"\",SUM(B140,C140))","v":""},{"$f":"IF(ISBLANK('Data Input'!A145),\"\",SUM('Data Input'!C145:AK145))","v":""},{"$f":"IF(E140=\"\",\"\",E140/(COUNTA('Data Input'!$C$8:$AK$8)))","v":""},{"$f":"IF(ISBLANK('Data Input'!A145),\"\",SUM('Data Input'!C145,'Data Input'!D145,'Data Input'!J145,'Data Input'!X145))","v":""},{"$f":"IF(G140=\"\",\"\",G140/COUNTIF('Data Input'!$C$8:$AK$8,\"N\"))","v":""},{"$f":"IF(ISBLANK('Data Input'!A145),\"\",SUM('Data Input'!G145,'Data Input'!I145,'Data Input'!L145,'Data Input'!N145,'Data Input'!O145,'Data Input'!S145,'Data Input'!Z145,'Data Input'!AA145,'Data Input'!AB145,'Data Input'!AC145,'Data Input'!AE145,'Data Input'!AF145,'Data Input'!AG145,'Data Input'!AI145,'Data Input'!AK145))","v":""},{"$f":"IF(I140=\"\",\"\",I140/COUNTIF('Data Input'!$C$8:$AK$8,\"C\"))","v":""},{"$f":"IF(ISBLANK('Data Input'!A145),\"\",SUM('Data Input'!T145,'Data Input'!U145))","v":""},{"$f":"IF(K140=\"\",\"\",K140/COUNTIF('Data Input'!$C$8:$AK$8,\"S\"))","v":""},{"$f":"IF(ISBLANK('Data Input'!A145),\"\",SUM('Data Input'!F145,'Data Input'!R145,'Data Input'!AJ145))","v":""},{"$f":"IF(M140=\"\",\"\",M140/COUNTIF('Data Input'!$C$8:$AK$8,\"F\"))","v":""},{"$f":"IF(ISBLANK('Data Input'!A145),\"\",SUM('Data Input'!E145,'Data Input'!M145,'Data Input'!Q145,'Data Input'!V145,'Data Input'!W145,'Data Input'!AD145,'Data Input'!AH145))","v":""},{"$f":"IF(O140=\"\",\"\",O140/COUNTIF('Data Input'!$C$8:$AK$8,\"M\"))","v":""},{"$f":"IF(ISBLANK('Data Input'!A145),\"\",SUM('Data Input'!H145,'Data Input'!K145,'Data Input'!P145,'Data Input'!Y145))","v":""},{"$f":"IF(Q140=\"\",\"\",Q140/COUNTIF('Data Input'!$C$8:$AK$8,\"G\"))","v":""}]
[{"$f":"IF('Data Input'!A146=0,\"\",'Data Input'!A146)","v":""},{"$f":"IF(ISBLANK('Data Input'!A146),\"\",COUNTIF('Data Input'!C146:AK146,\"\"))","v":""},{"$f":"IF(ISBLANK('Data Input'!A146),\"\",COUNTIF('Data Input'!C146:AK146,\"0\"))","v":""},{"$f":"IF(ISBLANK('Data Input'!A146),\"\",SUM(B141,C141))","v":""},{"$f":"IF(ISBLANK('Data Input'!A146),\"\",SUM('Data Input'!C146:AK146))","v":""},{"$f":"IF(E141=\"\",\"\",E141/(COUNTA('Data Input'!$C$8:$AK$8)))","v":""},{"$f":"IF(ISBLANK('Data Input'!A146),\"\",SUM('Data Input'!C146,'Data Input'!D146,'Data Input'!J146,'Data Input'!X146))","v":""},{"$f":"IF(G141=\"\",\"\",G141/COUNTIF('Data Input'!$C$8:$AK$8,\"N\"))","v":""},{"$f":"IF(ISBLANK('Data Input'!A146),\"\",SUM('Data Input'!G146,'Data Input'!I146,'Data Input'!L146,'Data Input'!N146,'Data Input'!O146,'Data Input'!S146,'Data Input'!Z146,'Data Input'!AA146,'Data Input'!AB146,'Data Input'!AC146,'Data Input'!AE146,'Data Input'!AF146,'Data Input'!AG146,'Data Input'!AI146,'Data Input'!AK146))","v":""},{"$f":"IF(I141=\"\",\"\",I141/COUNTIF('Data Input'!$C$8:$AK$8,\"C\"))","v":""},{"$f":"IF(ISBLANK('Data Input'!A146),\"\",SUM('Data Input'!T146,'Data Input'!U146))","v":""},{"$f":"IF(K141=\"\",\"\",K141/COUNTIF('Data Input'!$C$8:$AK$8,\"S\"))","v":""},{"$f":"IF(ISBLANK('Data Input'!A146),\"\",SUM('Data Input'!F146,'Data Input'!R146,'Data Input'!AJ146))","v":""},{"$f":"IF(M141=\"\",\"\",M141/COUNTIF('Data Input'!$C$8:$AK$8,\"F\"))","v":""},{"$f":"IF(ISBLANK('Data Input'!A146),\"\",SUM('Data Input'!E146,'Data Input'!M146,'Data Input'!Q146,'Data Input'!V146,'Data Input'!W146,'Data Input'!AD146,'Data Input'!AH146))","v":""},{"$f":"IF(O141=\"\",\"\",O141/COUNTIF('Data Input'!$C$8:$AK$8,\"M\"))","v":""},{"$f":"IF(ISBLANK('Data Input'!A146),\"\",SUM('Data Input'!H146,'Data Input'!K146,'Data Input'!P146,'Data Input'!Y146))","v":""},{"$f":"IF(Q141=\"\",\"\",Q141/COUNTIF('Data Input'!$C$8:$AK$8,\"G\"))","v":""}]
[{"$f":"IF('Data Input'!A147=0,\"\",'Data Input'!A147)","v":""},{"$f":"IF(ISBLANK('Data Input'!A147),\"\",COUNTIF('Data Input'!C147:AK147,\"\"))","v":""},{"$f":"IF(ISBLANK('Data Input'!A147),\"\",COUNTIF('Data Input'!C147:AK147,\"0\"))","v":""},{"$f":"IF(ISBLANK('Data Input'!A147),\"\",SUM(B142,C142))","v":""},{"$f":"IF(ISBLANK('Data Input'!A147),\"\",SUM('Data Input'!C147:AK147))","v":""},{"$f":"IF(E142=\"\",\"\",E142/(COUNTA('Data Input'!$C$8:$AK$8)))","v":""},{"$f":"IF(ISBLANK('Data Input'!A147),\"\",SUM('Data Input'!C147,'Data Input'!D147,'Data Input'!J147,'Data Input'!X147))","v":""},{"$f":"IF(G142=\"\",\"\",G142/COUNTIF('Data Input'!$C$8:$AK$8,\"N\"))","v":""},{"$f":"IF(ISBLANK('Data Input'!A147),\"\",SUM('Data Input'!G147,'Data Input'!I147,'Data Input'!L147,'Data Input'!N147,'Data Input'!O147,'Data Input'!S147,'Data Input'!Z147,'Data Input'!AA147,'Data Input'!AB147,'Data Input'!AC147,'Data Input'!AE147,'Data Input'!AF147,'Data Input'!AG147,'Data Input'!AI147,'Data Input'!AK147))","v":""},{"$f":"IF(I142=\"\",\"\",I142/COUNTIF('Data Input'!$C$8:$AK$8,\"C\"))","v":""},{"$f":"IF(ISBLANK('Data Input'!A147),\"\",SUM('Data Input'!T147,'Data Input'!U147))","v":""},{"$f":"IF(K142=\"\",\"\",K142/COUNTIF('Data Input'!$C$8:$AK$8,\"S\"))","v":""},{"$f":"IF(ISBLANK('Data Input'!A147),\"\",SUM('Data Input'!F147,'Data Input'!R147,'Data Input'!AJ147))","v":""},{"$f":"IF(M142=\"\",\"\",M142/COUNTIF('Data Input'!$C$8:$AK$8,\"F\"))","v":""},{"$f":"IF(ISBLANK('Data Input'!A147),\"\",SUM('Data Input'!E147,'Data Input'!M147,'Data Input'!Q147,'Data Input'!V147,'Data Input'!W147,'Data Input'!AD147,'Data Input'!AH147))","v":""},{"$f":"IF(O142=\"\",\"\",O142/COUNTIF('Data Input'!$C$8:$AK$8,\"M\"))","v":""},{"$f":"IF(ISBLANK('Data Input'!A147),\"\",SUM('Data Input'!H147,'Data Input'!K147,'Data Input'!P147,'Data Input'!Y147))","v":""},{"$f":"IF(Q142=\"\",\"\",Q142/COUNTIF('Data Input'!$C$8:$AK$8,\"G\"))","v":""}]
[{"$f":"IF('Data Input'!A148=0,\"\",'Data Input'!A148)","v":""},{"$f":"IF(ISBLANK('Data Input'!A148),\"\",COUNTIF('Data Input'!C148:AK148,\"\"))","v":""},{"$f":"IF(ISBLANK('Data Input'!A148),\"\",COUNTIF('Data Input'!C148:AK148,\"0\"))","v":""},{"$f":"IF(ISBLANK('Data Input'!A148),\"\",SUM(B143,C143))","v":""},{"$f":"IF(ISBLANK('Data Input'!A148),\"\",SUM('Data Input'!C148:AK148))","v":""},{"$f":"IF(E143=\"\",\"\",E143/(COUNTA('Data Input'!$C$8:$AK$8)))","v":""},{"$f":"IF(ISBLANK('Data Input'!A148),\"\",SUM('Data Input'!C148,'Data Input'!D148,'Data Input'!J148,'Data Input'!X148))","v":""},{"$f":"IF(G143=\"\",\"\",G143/COUNTIF('Data Input'!$C$8:$AK$8,\"N\"))","v":""},{"$f":"IF(ISBLANK('Data Input'!A148),\"\",SUM('Data Input'!G148,'Data Input'!I148,'Data Input'!L148,'Data Input'!N148,'Data Input'!O148,'Data Input'!S148,'Data Input'!Z148,'Data Input'!AA148,'Data Input'!AB148,'Data Input'!AC148,'Data Input'!AE148,'Data Input'!AF148,'Data Input'!AG148,'Data Input'!AI148,'Data Input'!AK148))","v":""},{"$f":"IF(I143=\"\",\"\",I143/COUNTIF('Data Input'!$C$8:$AK$8,\"C\"))","v":""},{"$f":"IF(ISBLANK('Data Input'!A148),\"\",SUM('Data Input'!T148,'Data Input'!U148))","v":""},{"$f":"IF(K143=\"\",\"\",K143/COUNTIF('Data Input'!$C$8:$AK$8,\"S\"))","v":""},{"$f":"IF(ISBLANK('Data Input'!A148),\"\",SUM('Data Input'!F148,'Data Input'!R148,'Data Input'!AJ148))","v":""},{"$f":"IF(M143=\"\",\"\",M143/COUNTIF('Data Input'!$C$8:$AK$8,\"F\"))","v":""},{"$f":"IF(ISBLANK('Data Input'!A148),\"\",SUM('Data Input'!E148,'Data Input'!M148,'Data Input'!Q148,'Data Input'!V148,'Data Input'!W148,'Data Input'!AD148,'Data Input'!AH148))","v":""},{"$f":"IF(O143=\"\",\"\",O143/COUNTIF('Data Input'!$C$8:$AK$8,\"M\"))","v":""},{"$f":"IF(ISBLANK('Data Input'!A148),\"\",SUM('Data Input'!H148,'Data Input'!K148,'Data Input'!P148,'Data Input'!Y148))","v":""},{"$f":"IF(Q143=\"\",\"\",Q143/COUNTIF('Data Input'!$C$8:$AK$8,\"G\"))","v":""}]
[{"$f":"IF('Data Input'!A149=0,\"\",'Data Input'!A149)","v":""},{"$f":"IF(ISBLANK('Data Input'!A149),\"\",COUNTIF('Data Input'!C149:AK149,\"\"))","v":""},{"$f":"IF(ISBLANK('Data Input'!A149),\"\",COUNTIF('Data Input'!C149:AK149,\"0\"))","v":""},{"$f":"IF(ISBLANK('Data Input'!A149),\"\",SUM(B144,C144))","v":""},{"$f":"IF(ISBLANK('Data Input'!A149),\"\",SUM('Data Input'!C149:AK149))","v":""},{"$f":"IF(E144=\"\",\"\",E144/(COUNTA('Data Input'!$C$8:$AK$8)))","v":""},{"$f":"IF(ISBLANK('Data Input'!A149),\"\",SUM('Data Input'!C149,'Data Input'!D149,'Data Input'!J149,'Data Input'!X149))","v":""},{"$f":"IF(G144=\"\",\"\",G144/COUNTIF('Data Input'!$C$8:$AK$8,\"N\"))","v":""},{"$f":"IF(ISBLANK('Data Input'!A149),\"\",SUM('Data Input'!G149,'Data Input'!I149,'Data Input'!L149,'Data Input'!N149,'Data Input'!O149,'Data Input'!S149,'Data Input'!Z149,'Data Input'!AA149,'Data Input'!AB149,'Data Input'!AC149,'Data Input'!AE149,'Data Input'!AF149,'Data Input'!AG149,'Data Input'!AI149,'Data Input'!AK149))","v":""},{"$f":"IF(I144=\"\",\"\",I144/COUNTIF('Data Input'!$C$8:$AK$8,\"C\"))","v":""},{"$f":"IF(ISBLANK('Data Input'!A149),\"\",SUM('Data Input'!T149,'Data Input'!U149))","v":""},{"$f":"IF(K144=\"\",\"\",K144/COUNTIF('Data Input'!$C$8:$AK$8,\"S\"))","v":""},{"$f":"IF(ISBLANK('Data Input'!A149),\"\",SUM('Data Input'!F149,'Data Input'!R149,'Data Input'!AJ149))","v":""},{"$f":"IF(M144=\"\",\"\",M144/COUNTIF('Data Input'!$C$8:$AK$8,\"F\"))","v":""},{"$f":"IF(ISBLANK('Data Input'!A149),\"\",SUM('Data Input'!E149,'Data Input'!M149,'Data Input'!Q149,'Data Input'!V149,'Data Input'!W149,'Data Input'!AD149,'Data Input'!AH149))","v":""},{"$f":"IF(O144=\"\",\"\",O144/COUNTIF('Data Input'!$C$8:$AK$8,\"M\"))","v":""},{"$f":"IF(ISBLANK('Data Input'!A149),\"\",SUM('Data Input'!H149,'Data Input'!K149,'Data Input'!P149,'Data Input'!Y149))","v":""},{"$f":"IF(Q144=\"\",\"\",Q144/COUNTIF('Data Input'!$C$8:$AK$8,\"G\"))","v":""}]
[{"$f":"IF('Data Input'!A150=0,\"\",'Data Input'!A150)","v":""},{"$f":"IF(ISBLANK('Data Input'!A150),\"\",COUNTIF('Data Input'!C150:AK150,\"\"))","v":""},{"$f":"IF(ISBLANK('Data Input'!A150),\"\",COUNTIF('Data Input'!C150:AK150,\"0\"))","v":""},{"$f":"IF(ISBLANK('Data Input'!A150),\"\",SUM(B145,C145))","v":""},{"$f":"IF(ISBLANK('Data Input'!A150),\"\",SUM('Data Input'!C150:AK150))","v":""},{"$f":"IF(E145=\"\",\"\",E145/(COUNTA('Data Input'!$C$8:$AK$8)))","v":""},{"$f":"IF(ISBLANK('Data Input'!A150),\"\",SUM('Data Input'!C150,'Data Input'!D150,'Data Input'!J150,'Data Input'!X150))","v":""},{"$f":"IF(G145=\"\",\"\",G145/COUNTIF('Data Input'!$C$8:$AK$8,\"N\"))","v":""},{"$f":"IF(ISBLANK('Data Input'!A150),\"\",SUM('Data Input'!G150,'Data Input'!I150,'Data Input'!L150,'Data Input'!N150,'Data Input'!O150,'Data Input'!S150,'Data Input'!Z150,'Data Input'!AA150,'Data Input'!AB150,'Data Input'!AC150,'Data Input'!AE150,'Data Input'!AF150,'Data Input'!AG150,'Data Input'!AI150,'Data Input'!AK150))","v":""},{"$f":"IF(I145=\"\",\"\",I145/COUNTIF('Data Input'!$C$8:$AK$8,\"C\"))","v":""},{"$f":"IF(ISBLANK('Data Input'!A150),\"\",SUM('Data Input'!T150,'Data Input'!U150))","v":""},{"$f":"IF(K145=\"\",\"\",K145/COUNTIF('Data Input'!$C$8:$AK$8,\"S\"))","v":""},{"$f":"IF(ISBLANK('Data Input'!A150),\"\",SUM('Data Input'!F150,'Data Input'!R150,'Data Input'!AJ150))","v":""},{"$f":"IF(M145=\"\",\"\",M145/COUNTIF('Data Input'!$C$8:$AK$8,\"F\"))","v":""},{"$f":"IF(ISBLANK('Data Input'!A150),\"\",SUM('Data Input'!E150,'Data Input'!M150,'Data Input'!Q150,'Data Input'!V150,'Data Input'!W150,'Data Input'!AD150,'Data Input'!AH150))","v":""},{"$f":"IF(O145=\"\",\"\",O145/COUNTIF('Data Input'!$C$8:$AK$8,\"M\"))","v":""},{"$f":"IF(ISBLANK('Data Input'!A150),\"\",SUM('Data Input'!H150,'Data Input'!K150,'Data Input'!P150,'Data Input'!Y150))","v":""},{"$f":"IF(Q145=\"\",\"\",Q145/COUNTIF('Data Input'!$C$8:$AK$8,\"G\"))","v":""}]
[{"$f":"IF('Data Input'!A151=0,\"\",'Data Input'!A151)","v":""},{"$f":"IF(ISBLANK('Data Input'!A151),\"\",COUNTIF('Data Input'!C151:AK151,\"\"))","v":""},{"$f":"IF(ISBLANK('Data Input'!A151),\"\",COUNTIF('Data Input'!C151:AK151,\"0\"))","v":""},{"$f":"IF(ISBLANK('Data Input'!A151),\"\",SUM(B146,C146))","v":""},{"$f":"IF(ISBLANK('Data Input'!A151),\"\",SUM('Data Input'!C151:AK151))","v":""},{"$f":"IF(E146=\"\",\"\",E146/(COUNTA('Data Input'!$C$8:$AK$8)))","v":""},{"$f":"IF(ISBLANK('Data Input'!A151),\"\",SUM('Data Input'!C151,'Data Input'!D151,'Data Input'!J151,'Data Input'!X151))","v":""},{"$f":"IF(G146=\"\",\"\",G146/COUNTIF('Data Input'!$C$8:$AK$8,\"N\"))","v":""},{"$f":"IF(ISBLANK('Data Input'!A151),\"\",SUM('Data Input'!G151,'Data Input'!I151,'Data Input'!L151,'Data Input'!N151,'Data Input'!O151,'Data Input'!S151,'Data Input'!Z151,'Data Input'!AA151,'Data Input'!AB151,'Data Input'!AC151,'Data Input'!AE151,'Data Input'!AF151,'Data Input'!AG151,'Data Input'!AI151,'Data Input'!AK151))","v":""},{"$f":"IF(I146=\"\",\"\",I146/COUNTIF('Data Input'!$C$8:$AK$8,\"C\"))","v":""},{"$f":"IF(ISBLANK('Data Input'!A151),\"\",SUM('Data Input'!T151,'Data Input'!U151))","v":""},{"$f":"IF(K146=\"\",\"\",K146/COUNTIF('Data Input'!$C$8:$AK$8,\"S\"))","v":""},{"$f":"IF(ISBLANK('Data Input'!A151),\"\",SUM('Data Input'!F151,'Data Input'!R151,'Data Input'!AJ151))","v":""},{"$f":"IF(M146=\"\",\"\",M146/COUNTIF('Data Input'!$C$8:$AK$8,\"F\"))","v":""},{"$f":"IF(ISBLANK('Data Input'!A151),\"\",SUM('Data Input'!E151,'Data Input'!M151,'Data Input'!Q151,'Data Input'!V151,'Data Input'!W151,'Data Input'!AD151,'Data Input'!AH151))","v":""},{"$f":"IF(O146=\"\",\"\",O146/COUNTIF('Data Input'!$C$8:$AK$8,\"M\"))","v":""},{"$f":"IF(ISBLANK('Data Input'!A151),\"\",SUM('Data Input'!H151,'Data Input'!K151,'Data Input'!P151,'Data Input'!Y151))","v":""},{"$f":"IF(Q146=\"\",\"\",Q146/COUNTIF('Data Input'!$C$8:$AK$8,\"G\"))","v":""}]
[{"$f":"IF('Data Input'!A152=0,\"\",'Data Input'!A152)","v":""},{"$f":"IF(ISBLANK('Data Input'!A152),\"\",COUNTIF('Data Input'!C152:AK152,\"\"))","v":""},{"$f":"IF(ISBLANK('Data Input'!A152),\"\",COUNTIF('Data Input'!C152:AK152,\"0\"))","v":""},{"$f":"IF(ISBLANK('Data Input'!A152),\"\",SUM(B147,C147))","v":""},{"$f":"IF(ISBLANK('Data Input'!A152),\"\",SUM('Data Input'!C152:AK152))","v":""},{"$f":"IF(E147=\"\",\"\",E147/(COUNTA('Data Input'!$C$8:$AK$8)))","v":""},{"$f":"IF(ISBLANK('Data Input'!A152),\"\",SUM('Data Input'!C152,'Data Input'!D152,'Data Input'!J152,'Data Input'!X152))","v":""},{"$f":"IF(G147=\"\",\"\",G147/COUNTIF('Data Input'!$C$8:$AK$8,\"N\"))","v":""},{"$f":"IF(ISBLANK('Data Input'!A152),\"\",SUM('Data Input'!G152,'Data Input'!I152,'Data Input'!L152,'Data Input'!N152,'Data Input'!O152,'Data Input'!S152,'Data Input'!Z152,'Data Input'!AA152,'Data Input'!AB152,'Data Input'!AC152,'Data Input'!AE152,'Data Input'!AF152,'Data Input'!AG152,'Data Input'!AI152,'Data Input'!AK152))","v":""},{"$f":"IF(I147=\"\",\"\",I147/COUNTIF('Data Input'!$C$8:$AK$8,\"C\"))","v":""},{"$f":"IF(ISBLANK('Data Input'!A152),\"\",SUM('Data Input'!T152,'Data Input'!U152))","v":""},{"$f":"IF(K147=\"\",\"\",K147/COUNTIF('Data Input'!$C$8:$AK$8,\"S\"))","v":""},{"$f":"IF(ISBLANK('Data Input'!A152),\"\",SUM('Data Input'!F152,'Data Input'!R152,'Data Input'!AJ152))","v":""},{"$f":"IF(M147=\"\",\"\",M147/COUNTIF('Data Input'!$C$8:$AK$8,\"F\"))","v":""},{"$f":"IF(ISBLANK('Data Input'!A152),\"\",SUM('Data Input'!E152,'Data Input'!M152,'Data Input'!Q152,'Data Input'!V152,'Data Input'!W152,'Data Input'!AD152,'Data Input'!AH152))","v":""},{"$f":"IF(O147=\"\",\"\",O147/COUNTIF('Data Input'!$C$8:$AK$8,\"M\"))","v":""},{"$f":"IF(ISBLANK('Data Input'!A152),\"\",SUM('Data Input'!H152,'Data Input'!K152,'Data Input'!P152,'Data Input'!Y152))","v":""},{"$f":"IF(Q147=\"\",\"\",Q147/COUNTIF('Data Input'!$C$8:$AK$8,\"G\"))","v":""}]
[{"$f":"IF('Data Input'!A153=0,\"\",'Data Input'!A153)","v":""},{"$f":"IF(ISBLANK('Data Input'!A153),\"\",COUNTIF('Data Input'!C153:AK153,\"\"))","v":""},{"$f":"IF(ISBLANK('Data Input'!A153),\"\",COUNTIF('Data Input'!C153:AK153,\"0\"))","v":""},{"$f":"IF(ISBLANK('Data Input'!A153),\"\",SUM(B148,C148))","v":""},{"$f":"IF(ISBLANK('Data Input'!A153),\"\",SUM('Data Input'!C153:AK153))","v":""},{"$f":"IF(E148=\"\",\"\",E148/(COUNTA('Data Input'!$C$8:$AK$8)))","v":""},{"$f":"IF(ISBLANK('Data Input'!A153),\"\",SUM('Data Input'!C153,'Data Input'!D153,'Data Input'!J153,'Data Input'!X153))","v":""},{"$f":"IF(G148=\"\",\"\",G148/COUNTIF('Data Input'!$C$8:$AK$8,\"N\"))","v":""},{"$f":"IF(ISBLANK('Data Input'!A153),\"\",SUM('Data Input'!G153,'Data Input'!I153,'Data Input'!L153,'Data Input'!N153,'Data Input'!O153,'Data Input'!S153,'Data Input'!Z153,'Data Input'!AA153,'Data Input'!AB153,'Data Input'!AC153,'Data Input'!AE153,'Data Input'!AF153,'Data Input'!AG153,'Data Input'!AI153,'Data Input'!AK153))","v":""},{"$f":"IF(I148=\"\",\"\",I148/COUNTIF('Data Input'!$C$8:$AK$8,\"C\"))","v":""},{"$f":"IF(ISBLANK('Data Input'!A153),\"\",SUM('Data Input'!T153,'Data Input'!U153))","v":""},{"$f":"IF(K148=\"\",\"\",K148/COUNTIF('Data Input'!$C$8:$AK$8,\"S\"))","v":""},{"$f":"IF(ISBLANK('Data Input'!A153),\"\",SUM('Data Input'!F153,'Data Input'!R153,'Data Input'!AJ153))","v":""},{"$f":"IF(M148=\"\",\"\",M148/COUNTIF('Data Input'!$C$8:$AK$8,\"F\"))","v":""},{"$f":"IF(ISBLANK('Data Input'!A153),\"\",SUM('Data Input'!E153,'Data Input'!M153,'Data Input'!Q153,'Data Input'!V153,'Data Input'!W153,'Data Input'!AD153,'Data Input'!AH153))","v":""},{"$f":"IF(O148=\"\",\"\",O148/COUNTIF('Data Input'!$C$8:$AK$8,\"M\"))","v":""},{"$f":"IF(ISBLANK('Data Input'!A153),\"\",SUM('Data Input'!H153,'Data Input'!K153,'Data Input'!P153,'Data Input'!Y153))","v":""},{"$f":"IF(Q148=\"\",\"\",Q148/COUNTIF('Data Input'!$C$8:$AK$8,\"G\"))","v":""}]
[{"$f":"IF('Data Input'!A154=0,\"\",'Data Input'!A154)","v":""},{"$f":"IF(ISBLANK('Data Input'!A154),\"\",COUNTIF('Data Input'!C154:AK154,\"\"))","v":""},{"$f":"IF(ISBLANK('Data Input'!A154),\"\",COUNTIF('Data Input'!C154:AK154,\"0\"))","v":""},{"$f":"IF(ISBLANK('Data Input'!A154),\"\",SUM(B149,C149))","v":""},{"$f":"IF(ISBLANK('Data Input'!A154),\"\",SUM('Data Input'!C154:AK154))","v":""},{"$f":"IF(E149=\"\",\"\",E149/(COUNTA('Data Input'!$C$8:$AK$8)))","v":""},{"$f":"IF(ISBLANK('Data Input'!A154),\"\",SUM('Data Input'!C154,'Data Input'!D154,'Data Input'!J154,'Data Input'!X154))","v":""},{"$f":"IF(G149=\"\",\"\",G149/COUNTIF('Data Input'!$C$8:$AK$8,\"N\"))","v":""},{"$f":"IF(ISBLANK('Data Input'!A154),\"\",SUM('Data Input'!G154,'Data Input'!I154,'Data Input'!L154,'Data Input'!N154,'Data Input'!O154,'Data Input'!S154,'Data Input'!Z154,'Data Input'!AA154,'Data Input'!AB154,'Data Input'!AC154,'Data Input'!AE154,'Data Input'!AF154,'Data Input'!AG154,'Data Input'!AI154,'Data Input'!AK154))","v":""},{"$f":"IF(I149=\"\",\"\",I149/COUNTIF('Data Input'!$C$8:$AK$8,\"C\"))","v":""},{"$f":"IF(ISBLANK('Data Input'!A154),\"\",SUM('Data Input'!T154,'Data Input'!U154))","v":""},{"$f":"IF(K149=\"\",\"\",K149/COUNTIF('Data Input'!$C$8:$AK$8,\"S\"))","v":""},{"$f":"IF(ISBLANK('Data Input'!A154),\"\",SUM('Data Input'!F154,'Data Input'!R154,'Data Input'!AJ154))","v":""},{"$f":"IF(M149=\"\",\"\",M149/COUNTIF('Data Input'!$C$8:$AK$8,\"F\"))","v":""},{"$f":"IF(ISBLANK('Data Input'!A154),\"\",SUM('Data Input'!E154,'Data Input'!M154,'Data Input'!Q154,'Data Input'!V154,'Data Input'!W154,'Data Input'!AD154,'Data Input'!AH154))","v":""},{"$f":"IF(O149=\"\",\"\",O149/COUNTIF('Data Input'!$C$8:$AK$8,\"M\"))","v":""},{"$f":"IF(ISBLANK('Data Input'!A154),\"\",SUM('Data Input'!H154,'Data Input'!K154,'Data Input'!P154,'Data Input'!Y154))","v":""},{"$f":"IF(Q149=\"\",\"\",Q149/COUNTIF('Data Input'!$C$8:$AK$8,\"G\"))","v":""}]
[{"$f":"IF('Data Input'!A155=0,\"\",'Data Input'!A155)","v":""},{"$f":"IF(ISBLANK('Data Input'!A155),\"\",COUNTIF('Data Input'!C155:AK155,\"\"))","v":""},{"$f":"IF(ISBLANK('Data Input'!A155),\"\",COUNTIF('Data Input'!C155:AK155,\"0\"))","v":""},{"$f":"IF(ISBLANK('Data Input'!A155),\"\",SUM(B150,C150))","v":""},{"$f":"IF(ISBLANK('Data Input'!A155),\"\",SUM('Data Input'!C155:AK155))","v":""},{"$f":"IF(E150=\"\",\"\",E150/(COUNTA('Data Input'!$C$8:$AK$8)))","v":""},{"$f":"IF(ISBLANK('Data Input'!A155),\"\",SUM('Data Input'!C155,'Data Input'!D155,'Data Input'!J155,'Data Input'!X155))","v":""},{"$f":"IF(G150=\"\",\"\",G150/COUNTIF('Data Input'!$C$8:$AK$8,\"N\"))","v":""},{"$f":"IF(ISBLANK('Data Input'!A155),\"\",SUM('Data Input'!G155,'Data Input'!I155,'Data Input'!L155,'Data Input'!N155,'Data Input'!O155,'Data Input'!S155,'Data Input'!Z155,'Data Input'!AA155,'Data Input'!AB155,'Data Input'!AC155,'Data Input'!AE155,'Data Input'!AF155,'Data Input'!AG155,'Data Input'!AI155,'Data Input'!AK155))","v":""},{"$f":"IF(I150=\"\",\"\",I150/COUNTIF('Data Input'!$C$8:$AK$8,\"C\"))","v":""},{"$f":"IF(ISBLANK('Data Input'!A155),\"\",SUM('Data Input'!T155,'Data Input'!U155))","v":""},{"$f":"IF(K150=\"\",\"\",K150/COUNTIF('Data Input'!$C$8:$AK$8,\"S\"))","v":""},{"$f":"IF(ISBLANK('Data Input'!A155),\"\",SUM('Data Input'!F155,'Data Input'!R155,'Data Input'!AJ155))","v":""},{"$f":"IF(M150=\"\",\"\",M150/COUNTIF('Data Input'!$C$8:$AK$8,\"F\"))","v":""},{"$f":"IF(ISBLANK('Data Input'!A155),\"\",SUM('Data Input'!E155,'Data Input'!M155,'Data Input'!Q155,'Data Input'!V155,'Data Input'!W155,'Data Input'!AD155,'Data Input'!AH155))","v":""},{"$f":"IF(O150=\"\",\"\",O150/COUNTIF('Data Input'!$C$8:$AK$8,\"M\"))","v":""},{"$f":"IF(ISBLANK('Data Input'!A155),\"\",SUM('Data Input'!H155,'Data Input'!K155,'Data Input'!P155,'Data Input'!Y155))","v":""},{"$f":"IF(Q150=\"\",\"\",Q150/COUNTIF('Data Input'!$C$8:$AK$8,\"G\"))","v":""}]
[{"$f":"IF('Data Input'!A156=0,\"\",'Data Input'!A156)","v":""},{"$f":"IF(ISBLANK('Data Input'!A156),\"\",COUNTIF('Data Input'!C156:AK156,\"\"))","v":""},{"$f":"IF(ISBLANK('Data Input'!A156),\"\",COUNTIF('Data Input'!C156:AK156,\"0\"))","v":""},{"$f":"IF(ISBLANK('Data Input'!A156),\"\",SUM(B151,C151))","v":""},{"$f":"IF(ISBLANK('Data Input'!A156),\"\",SUM('Data Input'!C156:AK156))","v":""},{"$f":"IF(E151=\"\",\"\",E151/(COUNTA('Data Input'!$C$8:$AK$8)))","v":""},{"$f":"IF(ISBLANK('Data Input'!A156),\"\",SUM('Data Input'!C156,'Data Input'!D156,'Data Input'!J156,'Data Input'!X156))","v":""},{"$f":"IF(G151=\"\",\"\",G151/COUNTIF('Data Input'!$C$8:$AK$8,\"N\"))","v":""},{"$f":"IF(ISBLANK('Data Input'!A156),\"\",SUM('Data Input'!G156,'Data Input'!I156,'Data Input'!L156,'Data Input'!N156,'Data Input'!O156,'Data Input'!S156,'Data Input'!Z156,'Data Input'!AA156,'Data Input'!AB156,'Data Input'!AC156,'Data Input'!AE156,'Data Input'!AF156,'Data Input'!AG156,'Data Input'!AI156,'Data Input'!AK156))","v":""},{"$f":"IF(I151=\"\",\"\",I151/COUNTIF('Data Input'!$C$8:$AK$8,\"C\"))","v":""},{"$f":"IF(ISBLANK('Data Input'!A156),\"\",SUM('Data Input'!T156,'Data Input'!U156))","v":""},{"$f":"IF(K151=\"\",\"\",K151/COUNTIF('Data Input'!$C$8:$AK$8,\"S\"))","v":""},{"$f":"IF(ISBLANK('Data Input'!A156),\"\",SUM('Data Input'!F156,'Data Input'!R156,'Data Input'!AJ156))","v":""},{"$f":"IF(M151=\"\",\"\",M151/COUNTIF('Data Input'!$C$8:$AK$8,\"F\"))","v":""},{"$f":"IF(ISBLANK('Data Input'!A156),\"\",SUM('Data Input'!E156,'Data Input'!M156,'Data Input'!Q156,'Data Input'!V156,'Data Input'!W156,'Data Input'!AD156,'Data Input'!AH156))","v":""},{"$f":"IF(O151=\"\",\"\",O151/COUNTIF('Data Input'!$C$8:$AK$8,\"M\"))","v":""},{"$f":"IF(ISBLANK('Data Input'!A156),\"\",SUM('Data Input'!H156,'Data Input'!K156,'Data Input'!P156,'Data Input'!Y156))","v":""},{"$f":"IF(Q151=\"\",\"\",Q151/COUNTIF('Data Input'!$C$8:$AK$8,\"G\"))","v":""}]
[{"$f":"IF('Data Input'!A157=0,\"\",'Data Input'!A157)","v":""},{"$f":"IF(ISBLANK('Data Input'!A157),\"\",COUNTIF('Data Input'!C157:AK157,\"\"))","v":""},{"$f":"IF(ISBLANK('Data Input'!A157),\"\",COUNTIF('Data Input'!C157:AK157,\"0\"))","v":""},{"$f":"IF(ISBLANK('Data Input'!A157),\"\",SUM(B152,C152))","v":""},{"$f":"IF(ISBLANK('Data Input'!A157),\"\",SUM('Data Input'!C157:AK157))","v":""},{"$f":"IF(E152=\"\",\"\",E152/(COUNTA('Data Input'!$C$8:$AK$8)))","v":""},{"$f":"IF(ISBLANK('Data Input'!A157),\"\",SUM('Data Input'!C157,'Data Input'!D157,'Data Input'!J157,'Data Input'!X157))","v":""},{"$f":"IF(G152=\"\",\"\",G152/COUNTIF('Data Input'!$C$8:$AK$8,\"N\"))","v":""},{"$f":"IF(ISBLANK('Data Input'!A157),\"\",SUM('Data Input'!G157,'Data Input'!I157,'Data Input'!L157,'Data Input'!N157,'Data Input'!O157,'Data Input'!S157,'Data Input'!Z157,'Data Input'!AA157,'Data Input'!AB157,'Data Input'!AC157,'Data Input'!AE157,'Data Input'!AF157,'Data Input'!AG157,'Data Input'!AI157,'Data Input'!AK157))","v":""},{"$f":"IF(I152=\"\",\"\",I152/COUNTIF('Data Input'!$C$8:$AK$8,\"C\"))","v":""},{"$f":"IF(ISBLANK('Data Input'!A157),\"\",SUM('Data Input'!T157,'Data Input'!U157))","v":""},{"$f":"IF(K152=\"\",\"\",K152/COUNTIF('Data Input'!$C$8:$AK$8,\"S\"))","v":""},{"$f":"IF(ISBLANK('Data Input'!A157),\"\",SUM('Data Input'!F157,'Data Input'!R157,'Data Input'!AJ157))","v":""},{"$f":"IF(M152=\"\",\"\",M152/COUNTIF('Data Input'!$C$8:$AK$8,\"F\"))","v":""},{"$f":"IF(ISBLANK('Data Input'!A157),\"\",SUM('Data Input'!E157,'Data Input'!M157,'Data Input'!Q157,'Data Input'!V157,'Data Input'!W157,'Data Input'!AD157,'Data Input'!AH157))","v":""},{"$f":"IF(O152=\"\",\"\",O152/COUNTIF('Data Input'!$C$8:$AK$8,\"M\"))","v":""},{"$f":"IF(ISBLANK('Data Input'!A157),\"\",SUM('Data Input'!H157,'Data Input'!K157,'Data Input'!P157,'Data Input'!Y157))","v":""},{"$f":"IF(Q152=\"\",\"\",Q152/COUNTIF('Data Input'!$C$8:$AK$8,\"G\"))","v":""}]
[{"$f":"IF('Data Input'!A158=0,\"\",'Data Input'!A158)","v":""},{"$f":"IF(ISBLANK('Data Input'!A158),\"\",COUNTIF('Data Input'!C158:AK158,\"\"))","v":""},{"$f":"IF(ISBLANK('Data Input'!A158),\"\",COUNTIF('Data Input'!C158:AK158,\"0\"))","v":""},{"$f":"IF(ISBLANK('Data Input'!A158),\"\",SUM(B153,C153))","v":""},{"$f":"IF(ISBLANK('Data Input'!A158),\"\",SUM('Data Input'!C158:AK158))","v":""},{"$f":"IF(E153=\"\",\"\",E153/(COUNTA('Data Input'!$C$8:$AK$8)))","v":""},{"$f":"IF(ISBLANK('Data Input'!A158),\"\",SUM('Data Input'!C158,'Data Input'!D158,'Data Input'!J158,'Data Input'!X158))","v":""},{"$f":"IF(G153=\"\",\"\",G153/COUNTIF('Data Input'!$C$8:$AK$8,\"N\"))","v":""},{"$f":"IF(ISBLANK('Data Input'!A158),\"\",SUM('Data Input'!G158,'Data Input'!I158,'Data Input'!L158,'Data Input'!N158,'Data Input'!O158,'Data Input'!S158,'Data Input'!Z158,'Data Input'!AA158,'Data Input'!AB158,'Data Input'!AC158,'Data Input'!AE158,'Data Input'!AF158,'Data Input'!AG158,'Data Input'!AI158,'Data Input'!AK158))","v":""},{"$f":"IF(I153=\"\",\"\",I153/COUNTIF('Data Input'!$C$8:$AK$8,\"C\"))","v":""},{"$f":"IF(ISBLANK('Data Input'!A158),\"\",SUM('Data Input'!T158,'Data Input'!U158))","v":""},{"$f":"IF(K153=\"\",\"\",K153/COUNTIF('Data Input'!$C$8:$AK$8,\"S\"))","v":""},{"$f":"IF(ISBLANK('Data Input'!A158),\"\",SUM('Data Input'!F158,'Data Input'!R158,'Data Input'!AJ158))","v":""},{"$f":"IF(M153=\"\",\"\",M153/COUNTIF('Data Input'!$C$8:$AK$8,\"F\"))","v":""},{"$f":"IF(ISBLANK('Data Input'!A158),\"\",SUM('Data Input'!E158,'Data Input'!M158,'Data Input'!Q158,'Data Input'!V158,'Data Input'!W158,'Data Input'!AD158,'Data Input'!AH158))","v":""},{"$f":"IF(O153=\"\",\"\",O153/COUNTIF('Data Input'!$C$8:$AK$8,\"M\"))","v":""},{"$f":"IF(ISBLANK('Data Input'!A158),\"\",SUM('Data Input'!H158,'Data Input'!K158,'Data Input'!P158,'Data Input'!Y158))","v":""},{"$f":"IF(Q153=\"\",\"\",Q153/COUNTIF('Data Input'!$C$8:$AK$8,\"G\"))","v":""}]
[{"$f":"IF('Data Input'!A159=0,\"\",'Data Input'!A159)","v":""},{"$f":"IF(ISBLANK('Data Input'!A159),\"\",COUNTIF('Data Input'!C159:AK159,\"\"))","v":""},{"$f":"IF(ISBLANK('Data Input'!A159),\"\",COUNTIF('Data Input'!C159:AK159,\"0\"))","v":""},{"$f":"IF(ISBLANK('Data Input'!A159),\"\",SUM(B154,C154))","v":""},{"$f":"IF(ISBLANK('Data Input'!A159),\"\",SUM('Data Input'!C159:AK159))","v":""},{"$f":"IF(E154=\"\",\"\",E154/(COUNTA('Data Input'!$C$8:$AK$8)))","v":""},{"$f":"IF(ISBLANK('Data Input'!A159),\"\",SUM('Data Input'!C159,'Data Input'!D159,'Data Input'!J159,'Data Input'!X159))","v":""},{"$f":"IF(G154=\"\",\"\",G154/COUNTIF('Data Input'!$C$8:$AK$8,\"N\"))","v":""},{"$f":"IF(ISBLANK('Data Input'!A159),\"\",SUM('Data Input'!G159,'Data Input'!I159,'Data Input'!L159,'Data Input'!N159,'Data Input'!O159,'Data Input'!S159,'Data Input'!Z159,'Data Input'!AA159,'Data Input'!AB159,'Data Input'!AC159,'Data Input'!AE159,'Data Input'!AF159,'Data Input'!AG159,'Data Input'!AI159,'Data Input'!AK159))","v":""},{"$f":"IF(I154=\"\",\"\",I154/COUNTIF('Data Input'!$C$8:$AK$8,\"C\"))","v":""},{"$f":"IF(ISBLANK('Data Input'!A159),\"\",SUM('Data Input'!T159,'Data Input'!U159))","v":""},{"$f":"IF(K154=\"\",\"\",K154/COUNTIF('Data Input'!$C$8:$AK$8,\"S\"))","v":""},{"$f":"IF(ISBLANK('Data Input'!A159),\"\",SUM('Data Input'!F159,'Data Input'!R159,'Data Input'!AJ159))","v":""},{"$f":"IF(M154=\"\",\"\",M154/COUNTIF('Data Input'!$C$8:$AK$8,\"F\"))","v":""},{"$f":"IF(ISBLANK('Data Input'!A159),\"\",SUM('Data Input'!E159,'Data Input'!M159,'Data Input'!Q159,'Data Input'!V159,'Data Input'!W159,'Data Input'!AD159,'Data Input'!AH159))","v":""},{"$f":"IF(O154=\"\",\"\",O154/COUNTIF('Data Input'!$C$8:$AK$8,\"M\"))","v":""},{"$f":"IF(ISBLANK('Data Input'!A159),\"\",SUM('Data Input'!H159,'Data Input'!K159,'Data Input'!P159,'Data Input'!Y159))","v":""},{"$f":"IF(Q154=\"\",\"\",Q154/COUNTIF('Data Input'!$C$8:$AK$8,\"G\"))","v":""}]
[{"$f":"IF('Data Input'!A160=0,\"\",'Data Input'!A160)","v":""},{"$f":"IF(ISBLANK('Data Input'!A160),\"\",COUNTIF('Data Input'!C160:AK160,\"\"))","v":""},{"$f":"IF(ISBLANK('Data Input'!A160),\"\",COUNTIF('Data Input'!C160:AK160,\"0\"))","v":""},{"$f":"IF(ISBLANK('Data Input'!A160),\"\",SUM(B155,C155))","v":""},{"$f":"IF(ISBLANK('Data Input'!A160),\"\",SUM('Data Input'!C160:AK160))","v":""},{"$f":"IF(E155=\"\",\"\",E155/(COUNTA('Data Input'!$C$8:$AK$8)))","v":""},{"$f":"IF(ISBLANK('Data Input'!A160),\"\",SUM('Data Input'!C160,'Data Input'!D160,'Data Input'!J160,'Data Input'!X160))","v":""},{"$f":"IF(G155=\"\",\"\",G155/COUNTIF('Data Input'!$C$8:$AK$8,\"N\"))","v":""},{"$f":"IF(ISBLANK('Data Input'!A160),\"\",SUM('Data Input'!G160,'Data Input'!I160,'Data Input'!L160,'Data Input'!N160,'Data Input'!O160,'Data Input'!S160,'Data Input'!Z160,'Data Input'!AA160,'Data Input'!AB160,'Data Input'!AC160,'Data Input'!AE160,'Data Input'!AF160,'Data Input'!AG160,'Data Input'!AI160,'Data Input'!AK160))","v":""},{"$f":"IF(I155=\"\",\"\",I155/COUNTIF('Data Input'!$C$8:$AK$8,\"C\"))","v":""},{"$f":"IF(ISBLANK('Data Input'!A160),\"\",SUM('Data Input'!T160,'Data Input'!U160))","v":""},{"$f":"IF(K155=\"\",\"\",K155/COUNTIF('Data Input'!$C$8:$AK$8,\"S\"))","v":""},{"$f":"IF(ISBLANK('Data Input'!A160),\"\",SUM('Data Input'!F160,'Data Input'!R160,'Data Input'!AJ160))","v":""},{"$f":"IF(M155=\"\",\"\",M155/COUNTIF('Data Input'!$C$8:$AK$8,\"F\"))","v":""},{"$f":"IF(ISBLANK('Data Input'!A160),\"\",SUM('Data Input'!E160,'Data Input'!M160,'Data Input'!Q160,'Data Input'!V160,'Data Input'!W160,'Data Input'!AD160,'Data Input'!AH160))","v":""},{"$f":"IF(O155=\"\",\"\",O155/COUNTIF('Data Input'!$C$8:$AK$8,\"M\"))","v":""},{"$f":"IF(ISBLANK('Data Input'!A160),\"\",SUM('Data Input'!H160,'Data Input'!K160,'Data Input'!P160,'Data Input'!Y160))","v":""},{"$f":"IF(Q155=\"\",\"\",Q155/COUNTIF('Data Input'!$C$8:$AK$8,\"G\"))","v":""}]
[{"$f":"IF('Data Input'!A161=0,\"\",'Data Input'!A161)","v":""},{"$f":"IF(ISBLANK('Data Input'!A161),\"\",COUNTIF('Data Input'!C161:AK161,\"\"))","v":""},{"$f":"IF(ISBLANK('Data Input'!A161),\"\",COUNTIF('Data Input'!C161:AK161,\"0\"))","v":""},{"$f":"IF(ISBLANK('Data Input'!A161),\"\",SUM(B156,C156))","v":""},{"$f":"IF(ISBLANK('Data Input'!A161),\"\",SUM('Data Input'!C161:AK161))","v":""},{"$f":"IF(E156=\"\",\"\",E156/(COUNTA('Data Input'!$C$8:$AK$8)))","v":""},{"$f":"IF(ISBLANK('Data Input'!A161),\"\",SUM('Data Input'!C161,'Data Input'!D161,'Data Input'!J161,'Data Input'!X161))","v":""},{"$f":"IF(G156=\"\",\"\",G156/COUNTIF('Data Input'!$C$8:$AK$8,\"N\"))","v":""},{"$f":"IF(ISBLANK('Data Input'!A161),\"\",SUM('Data Input'!G161,'Data Input'!I161,'Data Input'!L161,'Data Input'!N161,'Data Input'!O161,'Data Input'!S161,'Data Input'!Z161,'Data Input'!AA161,'Data Input'!AB161,'Data Input'!AC161,'Data Input'!AE161,'Data Input'!AF161,'Data Input'!AG161,'Data Input'!AI161,'Data Input'!AK161))","v":""},{"$f":"IF(I156=\"\",\"\",I156/COUNTIF('Data Input'!$C$8:$AK$8,\"C\"))","v":""},{"$f":"IF(ISBLANK('Data Input'!A161),\"\",SUM('Data Input'!T161,'Data Input'!U161))","v":""},{"$f":"IF(K156=\"\",\"\",K156/COUNTIF('Data Input'!$C$8:$AK$8,\"S\"))","v":""},{"$f":"IF(ISBLANK('Data Input'!A161),\"\",SUM('Data Input'!F161,'Data Input'!R161,'Data Input'!AJ161))","v":""},{"$f":"IF(M156=\"\",\"\",M156/COUNTIF('Data Input'!$C$8:$AK$8,\"F\"))","v":""},{"$f":"IF(ISBLANK('Data Input'!A161),\"\",SUM('Data Input'!E161,'Data Input'!M161,'Data Input'!Q161,'Data Input'!V161,'Data Input'!W161,'Data Input'!AD161,'Data Input'!AH161))","v":""},{"$f":"IF(O156=\"\",\"\",O156/COUNTIF('Data Input'!$C$8:$AK$8,\"M\"))","v":""},{"$f":"IF(ISBLANK('Data Input'!A161),\"\",SUM('Data Input'!H161,'Data Input'!K161,'Data Input'!P161,'Data Input'!Y161))","v":""},{"$f":"IF(Q156=\"\",\"\",Q156/COUNTIF('Data Input'!$C$8:$AK$8,\"G\"))","v":""}]
[{"$f":"IF('Data Input'!A162=0,\"\",'Data Input'!A162)","v":""},{"$f":"IF(ISBLANK('Data Input'!A162),\"\",COUNTIF('Data Input'!C162:AK162,\"\"))","v":""},{"$f":"IF(ISBLANK('Data Input'!A162),\"\",COUNTIF('Data Input'!C162:AK162,\"0\"))","v":""},{"$f":"IF(ISBLANK('Data Input'!A162),\"\",SUM(B157,C157))","v":""},{"$f":"IF(ISBLANK('Data Input'!A162),\"\",SUM('Data Input'!C162:AK162))","v":""},{"$f":"IF(E157=\"\",\"\",E157/(COUNTA('Data Input'!$C$8:$AK$8)))","v":""},{"$f":"IF(ISBLANK('Data Input'!A162),\"\",SUM('Data Input'!C162,'Data Input'!D162,'Data Input'!J162,'Data Input'!X162))","v":""},{"$f":"IF(G157=\"\",\"\",G157/COUNTIF('Data Input'!$C$8:$AK$8,\"N\"))","v":""},{"$f":"IF(ISBLANK('Data Input'!A162),\"\",SUM('Data Input'!G162,'Data Input'!I162,'Data Input'!L162,'Data Input'!N162,'Data Input'!O162,'Data Input'!S162,'Data Input'!Z162,'Data Input'!AA162,'Data Input'!AB162,'Data Input'!AC162,'Data Input'!AE162,'Data Input'!AF162,'Data Input'!AG162,'Data Input'!AI162,'Data Input'!AK162))","v":""},{"$f":"IF(I157=\"\",\"\",I157/COUNTIF('Data Input'!$C$8:$AK$8,\"C\"))","v":""},{"$f":"IF(ISBLANK('Data Input'!A162),\"\",SUM('Data Input'!T162,'Data Input'!U162))","v":""},{"$f":"IF(K157=\"\",\"\",K157/COUNTIF('Data Input'!$C$8:$AK$8,\"S\"))","v":""},{"$f":"IF(ISBLANK('Data Input'!A162),\"\",SUM('Data Input'!F162,'Data Input'!R162,'Data Input'!AJ162))","v":""},{"$f":"IF(M157=\"\",\"\",M157/COUNTIF('Data Input'!$C$8:$AK$8,\"F\"))","v":""},{"$f":"IF(ISBLANK('Data Input'!A162),\"\",SUM('Data Input'!E162,'Data Input'!M162,'Data Input'!Q162,'Data Input'!V162,'Data Input'!W162,'Data Input'!AD162,'Data Input'!AH162))","v":""},{"$f":"IF(O157=\"\",\"\",O157/COUNTIF('Data Input'!$C$8:$AK$8,\"M\"))","v":""},{"$f":"IF(ISBLANK('Data Input'!A162),\"\",SUM('Data Input'!H162,'Data Input'!K162,'Data Input'!P162,'Data Input'!Y162))","v":""},{"$f":"IF(Q157=\"\",\"\",Q157/COUNTIF('Data Input'!$C$8:$AK$8,\"G\"))","v":""}]
[{"$f":"IF('Data Input'!A163=0,\"\",'Data Input'!A163)","v":""},{"$f":"IF(ISBLANK('Data Input'!A163),\"\",COUNTIF('Data Input'!C163:AK163,\"\"))","v":""},{"$f":"IF(ISBLANK('Data Input'!A163),\"\",COUNTIF('Data Input'!C163:AK163,\"0\"))","v":""},{"$f":"IF(ISBLANK('Data Input'!A163),\"\",SUM(B158,C158))","v":""},{"$f":"IF(ISBLANK('Data Input'!A163),\"\",SUM('Data Input'!C163:AK163))","v":""},{"$f":"IF(E158=\"\",\"\",E158/(COUNTA('Data Input'!$C$8:$AK$8)))","v":""},{"$f":"IF(ISBLANK('Data Input'!A163),\"\",SUM('Data Input'!C163,'Data Input'!D163,'Data Input'!J163,'Data Input'!X163))","v":""},{"$f":"IF(G158=\"\",\"\",G158/COUNTIF('Data Input'!$C$8:$AK$8,\"N\"))","v":""},{"$f":"IF(ISBLANK('Data Input'!A163),\"\",SUM('Data Input'!G163,'Data Input'!I163,'Data Input'!L163,'Data Input'!N163,'Data Input'!O163,'Data Input'!S163,'Data Input'!Z163,'Data Input'!AA163,'Data Input'!AB163,'Data Input'!AC163,'Data Input'!AE163,'Data Input'!AF163,'Data Input'!AG163,'Data Input'!AI163,'Data Input'!AK163))","v":""},{"$f":"IF(I158=\"\",\"\",I158/COUNTIF('Data Input'!$C$8:$AK$8,\"C\"))","v":""},{"$f":"IF(ISBLANK('Data Input'!A163),\"\",SUM('Data Input'!T163,'Data Input'!U163))","v":""},{"$f":"IF(K158=\"\",\"\",K158/COUNTIF('Data Input'!$C$8:$AK$8,\"S\"))","v":""},{"$f":"IF(ISBLANK('Data Input'!A163),\"\",SUM('Data Input'!F163,'Data Input'!R163,'Data Input'!AJ163))","v":""},{"$f":"IF(M158=\"\",\"\",M158/COUNTIF('Data Input'!$C$8:$AK$8,\"F\"))","v":""},{"$f":"IF(ISBLANK('Data Input'!A163),\"\",SUM('Data Input'!E163,'Data Input'!M163,'Data Input'!Q163,'Data Input'!V163,'Data Input'!W163,'Data Input'!AD163,'Data Input'!AH163))","v":""},{"$f":"IF(O158=\"\",\"\",O158/COUNTIF('Data Input'!$C$8:$AK$8,\"M\"))","v":""},{"$f":"IF(ISBLANK('Data Input'!A163),\"\",SUM('Data Input'!H163,'Data Input'!K163,'Data Input'!P163,'Data Input'!Y163))","v":""},{"$f":"IF(Q158=\"\",\"\",Q158/COUNTIF('Data Input'!$C$8:$AK$8,\"G\"))","v":""}]
[{"$f":"IF('Data Input'!A164=0,\"\",'Data Input'!A164)","v":""},{"$f":"IF(ISBLANK('Data Input'!A164),\"\",COUNTIF('Data Input'!C164:AK164,\"\"))","v":""},{"$f":"IF(ISBLANK('Data Input'!A164),\"\",COUNTIF('Data Input'!C164:AK164,\"0\"))","v":""},{"$f":"IF(ISBLANK('Data Input'!A164),\"\",SUM(B159,C159))","v":""},{"$f":"IF(ISBLANK('Data Input'!A164),\"\",SUM('Data Input'!C164:AK164))","v":""},{"$f":"IF(E159=\"\",\"\",E159/(COUNTA('Data Input'!$C$8:$AK$8)))","v":""},{"$f":"IF(ISBLANK('Data Input'!A164),\"\",SUM('Data Input'!C164,'Data Input'!D164,'Data Input'!J164,'Data Input'!X164))","v":""},{"$f":"IF(G159=\"\",\"\",G159/COUNTIF('Data Input'!$C$8:$AK$8,\"N\"))","v":""},{"$f":"IF(ISBLANK('Data Input'!A164),\"\",SUM('Data Input'!G164,'Data Input'!I164,'Data Input'!L164,'Data Input'!N164,'Data Input'!O164,'Data Input'!S164,'Data Input'!Z164,'Data Input'!AA164,'Data Input'!AB164,'Data Input'!AC164,'Data Input'!AE164,'Data Input'!AF164,'Data Input'!AG164,'Data Input'!AI164,'Data Input'!AK164))","v":""},{"$f":"IF(I159=\"\",\"\",I159/COUNTIF('Data Input'!$C$8:$AK$8,\"C\"))","v":""},{"$f":"IF(ISBLANK('Data Input'!A164),\"\",SUM('Data Input'!T164,'Data Input'!U164))","v":""},{"$f":"IF(K159=\"\",\"\",K159/COUNTIF('Data Input'!$C$8:$AK$8,\"S\"))","v":""},{"$f":"IF(ISBLANK('Data Input'!A164),\"\",SUM('Data Input'!F164,'Data Input'!R164,'Data Input'!AJ164))","v":""},{"$f":"IF(M159=\"\",\"\",M159/COUNTIF('Data Input'!$C$8:$AK$8,\"F\"))","v":""},{"$f":"IF(ISBLANK('Data Input'!A164),\"\",SUM('Data Input'!E164,'Data Input'!M164,'Data Input'!Q164,'Data Input'!V164,'Data Input'!W164,'Data Input'!AD164,'Data Input'!AH164))","v":""},{"$f":"IF(O159=\"\",\"\",O159/COUNTIF('Data Input'!$C$8:$AK$8,\"M\"))","v":""},{"$f":"IF(ISBLANK('Data Input'!A164),\"\",SUM('Data Input'!H164,'Data Input'!K164,'Data Input'!P164,'Data Input'!Y164))","v":""},{"$f":"IF(Q159=\"\",\"\",Q159/COUNTIF('Data Input'!$C$8:$AK$8,\"G\"))","v":""}]
[{"$f":"IF('Data Input'!A165=0,\"\",'Data Input'!A165)","v":""},{"$f":"IF(ISBLANK('Data Input'!A165),\"\",COUNTIF('Data Input'!C165:AK165,\"\"))","v":""},{"$f":"IF(ISBLANK('Data Input'!A165),\"\",COUNTIF('Data Input'!C165:AK165,\"0\"))","v":""},{"$f":"IF(ISBLANK('Data Input'!A165),\"\",SUM(B160,C160))","v":""},{"$f":"IF(ISBLANK('Data Input'!A165),\"\",SUM('Data Input'!C165:AK165))","v":""},{"$f":"IF(E160=\"\",\"\",E160/(COUNTA('Data Input'!$C$8:$AK$8)))","v":""},{"$f":"IF(ISBLANK('Data Input'!A165),\"\",SUM('Data Input'!C165,'Data Input'!D165,'Data Input'!J165,'Data Input'!X165))","v":""},{"$f":"IF(G160=\"\",\"\",G160/COUNTIF('Data Input'!$C$8:$AK$8,\"N\"))","v":""},{"$f":"IF(ISBLANK('Data Input'!A165),\"\",SUM('Data Input'!G165,'Data Input'!I165,'Data Input'!L165,'Data Input'!N165,'Data Input'!O165,'Data Input'!S165,'Data Input'!Z165,'Data Input'!AA165,'Data Input'!AB165,'Data Input'!AC165,'Data Input'!AE165,'Data Input'!AF165,'Data Input'!AG165,'Data Input'!AI165,'Data Input'!AK165))","v":""},{"$f":"IF(I160=\"\",\"\",I160/COUNTIF('Data Input'!$C$8:$AK$8,\"C\"))","v":""},{"$f":"IF(ISBLANK('Data Input'!A165),\"\",SUM('Data Input'!T165,'Data Input'!U165))","v":""},{"$f":"IF(K160=\"\",\"\",K160/COUNTIF('Data Input'!$C$8:$AK$8,\"S\"))","v":""},{"$f":"IF(ISBLANK('Data Input'!A165),\"\",SUM('Data Input'!F165,'Data Input'!R165,'Data Input'!AJ165))","v":""},{"$f":"IF(M160=\"\",\"\",M160/COUNTIF('Data Input'!$C$8:$AK$8,\"F\"))","v":""},{"$f":"IF(ISBLANK('Data Input'!A165),\"\",SUM('Data Input'!E165,'Data Input'!M165,'Data Input'!Q165,'Data Input'!V165,'Data Input'!W165,'Data Input'!AD165,'Data Input'!AH165))","v":""},{"$f":"IF(O160=\"\",\"\",O160/COUNTIF('Data Input'!$C$8:$AK$8,\"M\"))","v":""},{"$f":"IF(ISBLANK('Data Input'!A165),\"\",SUM('Data Input'!H165,'Data Input'!K165,'Data Input'!P165,'Data Input'!Y165))","v":""},{"$f":"IF(Q160=\"\",\"\",Q160/COUNTIF('Data Input'!$C$8:$AK$8,\"G\"))","v":""}]
[{"$f":"IF('Data Input'!A166=0,\"\",'Data Input'!A166)","v":""},{"$f":"IF(ISBLANK('Data Input'!A166),\"\",COUNTIF('Data Input'!C166:AK166,\"\"))","v":""},{"$f":"IF(ISBLANK('Data Input'!A166),\"\",COUNTIF('Data Input'!C166:AK166,\"0\"))","v":""},{"$f":"IF(ISBLANK('Data Input'!A166),\"\",SUM(B161,C161))","v":""},{"$f":"IF(ISBLANK('Data Input'!A166),\"\",SUM('Data Input'!C166:AK166))","v":""},{"$f":"IF(E161=\"\",\"\",E161/(COUNTA('Data Input'!$C$8:$AK$8)))","v":""},{"$f":"IF(ISBLANK('Data Input'!A166),\"\",SUM('Data Input'!C166,'Data Input'!D166,'Data Input'!J166,'Data Input'!X166))","v":""},{"$f":"IF(G161=\"\",\"\",G161/COUNTIF('Data Input'!$C$8:$AK$8,\"N\"))","v":""},{"$f":"IF(ISBLANK('Data Input'!A166),\"\",SUM('Data Input'!G166,'Data Input'!I166,'Data Input'!L166,'Data Input'!N166,'Data Input'!O166,'Data Input'!S166,'Data Input'!Z166,'Data Input'!AA166,'Data Input'!AB166,'Data Input'!AC166,'Data Input'!AE166,'Data Input'!AF166,'Data Input'!AG166,'Data Input'!AI166,'Data Input'!AK166))","v":""},{"$f":"IF(I161=\"\",\"\",I161/COUNTIF('Data Input'!$C$8:$AK$8,\"C\"))","v":""},{"$f":"IF(ISBLANK('Data Input'!A166),\"\",SUM('Data Input'!T166,'Data Input'!U166))","v":""},{"$f":"IF(K161=\"\",\"\",K161/COUNTIF('Data Input'!$C$8:$AK$8,\"S\"))","v":""},{"$f":"IF(ISBLANK('Data Input'!A166),\"\",SUM('Data Input'!F166,'Data Input'!R166,'Data Input'!AJ166))","v":""},{"$f":"IF(M161=\"\",\"\",M161/COUNTIF('Data Input'!$C$8:$AK$8,\"F\"))","v":""},{"$f":"IF(ISBLANK('Data Input'!A166),\"\",SUM('Data Input'!E166,'Data Input'!M166,'Data Input'!Q166,'Data Input'!V166,'Data Input'!W166,'Data Input'!AD166,'Data Input'!AH166))","v":""},{"$f":"IF(O161=\"\",\"\",O161/COUNTIF('Data Input'!$C$8:$AK$8,\"M\"))","v":""},{"$f":"IF(ISBLANK('Data Input'!A166),\"\",SUM('Data Input'!H166,'Data Input'!K166,'Data Input'!P166,'Data Input'!Y166))","v":""},{"$f":"IF(Q161=\"\",\"\",Q161/COUNTIF('Data Input'!$C$8:$AK$8,\"G\"))","v":""}]
[{"$f":"IF('Data Input'!A167=0,\"\",'Data Input'!A167)","v":""},{"$f":"IF(ISBLANK('Data Input'!A167),\"\",COUNTIF('Data Input'!C167:AK167,\"\"))","v":""},{"$f":"IF(ISBLANK('Data Input'!A167),\"\",COUNTIF('Data Input'!C167:AK167,\"0\"))","v":""},{"$f":"IF(ISBLANK('Data Input'!A167),\"\",SUM(B162,C162))","v":""},{"$f":"IF(ISBLANK('Data Input'!A167),\"\",SUM('Data Input'!C167:AK167))","v":""},{"$f":"IF(E162=\"\",\"\",E162/(COUNTA('Data Input'!$C$8:$AK$8)))","v":""},{"$f":"IF(ISBLANK('Data Input'!A167),\"\",SUM('Data Input'!C167,'Data Input'!D167,'Data Input'!J167,'Data Input'!X167))","v":""},{"$f":"IF(G162=\"\",\"\",G162/COUNTIF('Data Input'!$C$8:$AK$8,\"N\"))","v":""},{"$f":"IF(ISBLANK('Data Input'!A167),\"\",SUM('Data Input'!G167,'Data Input'!I167,'Data Input'!L167,'Data Input'!N167,'Data Input'!O167,'Data Input'!S167,'Data Input'!Z167,'Data Input'!AA167,'Data Input'!AB167,'Data Input'!AC167,'Data Input'!AE167,'Data Input'!AF167,'Data Input'!AG167,'Data Input'!AI167,'Data Input'!AK167))","v":""},{"$f":"IF(I162=\"\",\"\",I162/COUNTIF('Data Input'!$C$8:$AK$8,\"C\"))","v":""},{"$f":"IF(ISBLANK('Data Input'!A167),\"\",SUM('Data Input'!T167,'Data Input'!U167))","v":""},{"$f":"IF(K162=\"\",\"\",K162/COUNTIF('Data Input'!$C$8:$AK$8,\"S\"))","v":""},{"$f":"IF(ISBLANK('Data Input'!A167),\"\",SUM('Data Input'!F167,'Data Input'!R167,'Data Input'!AJ167))","v":""},{"$f":"IF(M162=\"\",\"\",M162/COUNTIF('Data Input'!$C$8:$AK$8,\"F\"))","v":""},{"$f":"IF(ISBLANK('Data Input'!A167),\"\",SUM('Data Input'!E167,'Data Input'!M167,'Data Input'!Q167,'Data Input'!V167,'Data Input'!W167,'Data Input'!AD167,'Data Input'!AH167))","v":""},{"$f":"IF(O162=\"\",\"\",O162/COUNTIF('Data Input'!$C$8:$AK$8,\"M\"))","v":""},{"$f":"IF(ISBLANK('Data Input'!A167),\"\",SUM('Data Input'!H167,'Data Input'!K167,'Data Input'!P167,'Data Input'!Y167))","v":""},{"$f":"IF(Q162=\"\",\"\",Q162/COUNTIF('Data Input'!$C$8:$AK$8,\"G\"))","v":""}]
[{"$f":"IF('Data Input'!A168=0,\"\",'Data Input'!A168)","v":""},{"$f":"IF(ISBLANK('Data Input'!A168),\"\",COUNTIF('Data Input'!C168:AK168,\"\"))","v":""},{"$f":"IF(ISBLANK('Data Input'!A168),\"\",COUNTIF('Data Input'!C168:AK168,\"0\"))","v":""},{"$f":"IF(ISBLANK('Data Input'!A168),\"\",SUM(B163,C163))","v":""},{"$f":"IF(ISBLANK('Data Input'!A168),\"\",SUM('Data Input'!C168:AK168))","v":""},{"$f":"IF(E163=\"\",\"\",E163/(COUNTA('Data Input'!$C$8:$AK$8)))","v":""},{"$f":"IF(ISBLANK('Data Input'!A168),\"\",SUM('Data Input'!C168,'Data Input'!D168,'Data Input'!J168,'Data Input'!X168))","v":""},{"$f":"IF(G163=\"\",\"\",G163/COUNTIF('Data Input'!$C$8:$AK$8,\"N\"))","v":""},{"$f":"IF(ISBLANK('Data Input'!A168),\"\",SUM('Data Input'!G168,'Data Input'!I168,'Data Input'!L168,'Data Input'!N168,'Data Input'!O168,'Data Input'!S168,'Data Input'!Z168,'Data Input'!AA168,'Data Input'!AB168,'Data Input'!AC168,'Data Input'!AE168,'Data Input'!AF168,'Data Input'!AG168,'Data Input'!AI168,'Data Input'!AK168))","v":""},{"$f":"IF(I163=\"\",\"\",I163/COUNTIF('Data Input'!$C$8:$AK$8,\"C\"))","v":""},{"$f":"IF(ISBLANK('Data Input'!A168),\"\",SUM('Data Input'!T168,'Data Input'!U168))","v":""},{"$f":"IF(K163=\"\",\"\",K163/COUNTIF('Data Input'!$C$8:$AK$8,\"S\"))","v":""},{"$f":"IF(ISBLANK('Data Input'!A168),\"\",SUM('Data Input'!F168,'Data Input'!R168,'Data Input'!AJ168))","v":""},{"$f":"IF(M163=\"\",\"\",M163/COUNTIF('Data Input'!$C$8:$AK$8,\"F\"))","v":""},{"$f":"IF(ISBLANK('Data Input'!A168),\"\",SUM('Data Input'!E168,'Data Input'!M168,'Data Input'!Q168,'Data Input'!V168,'Data Input'!W168,'Data Input'!AD168,'Data Input'!AH168))","v":""},{"$f":"IF(O163=\"\",\"\",O163/COUNTIF('Data Input'!$C$8:$AK$8,\"M\"))","v":""},{"$f":"IF(ISBLANK('Data Input'!A168),\"\",SUM('Data Input'!H168,'Data Input'!K168,'Data Input'!P168,'Data Input'!Y168))","v":""},{"$f":"IF(Q163=\"\",\"\",Q163/COUNTIF('Data Input'!$C$8:$AK$8,\"G\"))","v":""}]
[{"$f":"IF('Data Input'!A169=0,\"\",'Data Input'!A169)","v":""},{"$f":"IF(ISBLANK('Data Input'!A169),\"\",COUNTIF('Data Input'!C169:AK169,\"\"))","v":""},{"$f":"IF(ISBLANK('Data Input'!A169),\"\",COUNTIF('Data Input'!C169:AK169,\"0\"))","v":""},{"$f":"IF(ISBLANK('Data Input'!A169),\"\",SUM(B164,C164))","v":""},{"$f":"IF(ISBLANK('Data Input'!A169),\"\",SUM('Data Input'!C169:AK169))","v":""},{"$f":"IF(E164=\"\",\"\",E164/(COUNTA('Data Input'!$C$8:$AK$8)))","v":""},{"$f":"IF(ISBLANK('Data Input'!A169),\"\",SUM('Data Input'!C169,'Data Input'!D169,'Data Input'!J169,'Data Input'!X169))","v":""},{"$f":"IF(G164=\"\",\"\",G164/COUNTIF('Data Input'!$C$8:$AK$8,\"N\"))","v":""},{"$f":"IF(ISBLANK('Data Input'!A169),\"\",SUM('Data Input'!G169,'Data Input'!I169,'Data Input'!L169,'Data Input'!N169,'Data Input'!O169,'Data Input'!S169,'Data Input'!Z169,'Data Input'!AA169,'Data Input'!AB169,'Data Input'!AC169,'Data Input'!AE169,'Data Input'!AF169,'Data Input'!AG169,'Data Input'!AI169,'Data Input'!AK169))","v":""},{"$f":"IF(I164=\"\",\"\",I164/COUNTIF('Data Input'!$C$8:$AK$8,\"C\"))","v":""},{"$f":"IF(ISBLANK('Data Input'!A169),\"\",SUM('Data Input'!T169,'Data Input'!U169))","v":""},{"$f":"IF(K164=\"\",\"\",K164/COUNTIF('Data Input'!$C$8:$AK$8,\"S\"))","v":""},{"$f":"IF(ISBLANK('Data Input'!A169),\"\",SUM('Data Input'!F169,'Data Input'!R169,'Data Input'!AJ169))","v":""},{"$f":"IF(M164=\"\",\"\",M164/COUNTIF('Data Input'!$C$8:$AK$8,\"F\"))","v":""},{"$f":"IF(ISBLANK('Data Input'!A169),\"\",SUM('Data Input'!E169,'Data Input'!M169,'Data Input'!Q169,'Data Input'!V169,'Data Input'!W169,'Data Input'!AD169,'Data Input'!AH169))","v":""},{"$f":"IF(O164=\"\",\"\",O164/COUNTIF('Data Input'!$C$8:$AK$8,\"M\"))","v":""},{"$f":"IF(ISBLANK('Data Input'!A169),\"\",SUM('Data Input'!H169,'Data Input'!K169,'Data Input'!P169,'Data Input'!Y169))","v":""},{"$f":"IF(Q164=\"\",\"\",Q164/COUNTIF('Data Input'!$C$8:$AK$8,\"G\"))","v":""}]
[{"$f":"IF('Data Input'!A170=0,\"\",'Data Input'!A170)","v":""},{"$f":"IF(ISBLANK('Data Input'!A170),\"\",COUNTIF('Data Input'!C170:AK170,\"\"))","v":""},{"$f":"IF(ISBLANK('Data Input'!A170),\"\",COUNTIF('Data Input'!C170:AK170,\"0\"))","v":""},{"$f":"IF(ISBLANK('Data Input'!A170),\"\",SUM(B165,C165))","v":""},{"$f":"IF(ISBLANK('Data Input'!A170),\"\",SUM('Data Input'!C170:AK170))","v":""},{"$f":"IF(E165=\"\",\"\",E165/(COUNTA('Data Input'!$C$8:$AK$8)))","v":""},{"$f":"IF(ISBLANK('Data Input'!A170),\"\",SUM('Data Input'!C170,'Data Input'!D170,'Data Input'!J170,'Data Input'!X170))","v":""},{"$f":"IF(G165=\"\",\"\",G165/COUNTIF('Data Input'!$C$8:$AK$8,\"N\"))","v":""},{"$f":"IF(ISBLANK('Data Input'!A170),\"\",SUM('Data Input'!G170,'Data Input'!I170,'Data Input'!L170,'Data Input'!N170,'Data Input'!O170,'Data Input'!S170,'Data Input'!Z170,'Data Input'!AA170,'Data Input'!AB170,'Data Input'!AC170,'Data Input'!AE170,'Data Input'!AF170,'Data Input'!AG170,'Data Input'!AI170,'Data Input'!AK170))","v":""},{"$f":"IF(I165=\"\",\"\",I165/COUNTIF('Data Input'!$C$8:$AK$8,\"C\"))","v":""},{"$f":"IF(ISBLANK('Data Input'!A170),\"\",SUM('Data Input'!T170,'Data Input'!U170))","v":""},{"$f":"IF(K165=\"\",\"\",K165/COUNTIF('Data Input'!$C$8:$AK$8,\"S\"))","v":""},{"$f":"IF(ISBLANK('Data Input'!A170),\"\",SUM('Data Input'!F170,'Data Input'!R170,'Data Input'!AJ170))","v":""},{"$f":"IF(M165=\"\",\"\",M165/COUNTIF('Data Input'!$C$8:$AK$8,\"F\"))","v":""},{"$f":"IF(ISBLANK('Data Input'!A170),\"\",SUM('Data Input'!E170,'Data Input'!M170,'Data Input'!Q170,'Data Input'!V170,'Data Input'!W170,'Data Input'!AD170,'Data Input'!AH170))","v":""},{"$f":"IF(O165=\"\",\"\",O165/COUNTIF('Data Input'!$C$8:$AK$8,\"M\"))","v":""},{"$f":"IF(ISBLANK('Data Input'!A170),\"\",SUM('Data Input'!H170,'Data Input'!K170,'Data Input'!P170,'Data Input'!Y170))","v":""},{"$f":"IF(Q165=\"\",\"\",Q165/COUNTIF('Data Input'!$C$8:$AK$8,\"G\"))","v":""}]
[{"$f":"IF('Data Input'!A171=0,\"\",'Data Input'!A171)","v":""},{"$f":"IF(ISBLANK('Data Input'!A171),\"\",COUNTIF('Data Input'!C171:AK171,\"\"))","v":""},{"$f":"IF(ISBLANK('Data Input'!A171),\"\",COUNTIF('Data Input'!C171:AK171,\"0\"))","v":""},{"$f":"IF(ISBLANK('Data Input'!A171),\"\",SUM(B166,C166))","v":""},{"$f":"IF(ISBLANK('Data Input'!A171),\"\",SUM('Data Input'!C171:AK171))","v":""},{"$f":"IF(E166=\"\",\"\",E166/(COUNTA('Data Input'!$C$8:$AK$8)))","v":""},{"$f":"IF(ISBLANK('Data Input'!A171),\"\",SUM('Data Input'!C171,'Data Input'!D171,'Data Input'!J171,'Data Input'!X171))","v":""},{"$f":"IF(G166=\"\",\"\",G166/COUNTIF('Data Input'!$C$8:$AK$8,\"N\"))","v":""},{"$f":"IF(ISBLANK('Data Input'!A171),\"\",SUM('Data Input'!G171,'Data Input'!I171,'Data Input'!L171,'Data Input'!N171,'Data Input'!O171,'Data Input'!S171,'Data Input'!Z171,'Data Input'!AA171,'Data Input'!AB171,'Data Input'!AC171,'Data Input'!AE171,'Data Input'!AF171,'Data Input'!AG171,'Data Input'!AI171,'Data Input'!AK171))","v":""},{"$f":"IF(I166=\"\",\"\",I166/COUNTIF('Data Input'!$C$8:$AK$8,\"C\"))","v":""},{"$f":"IF(ISBLANK('Data Input'!A171),\"\",SUM('Data Input'!T171,'Data Input'!U171))","v":""},{"$f":"IF(K166=\"\",\"\",K166/COUNTIF('Data Input'!$C$8:$AK$8,\"S\"))","v":""},{"$f":"IF(ISBLANK('Data Input'!A171),\"\",SUM('Data Input'!F171,'Data Input'!R171,'Data Input'!AJ171))","v":""},{"$f":"IF(M166=\"\",\"\",M166/COUNTIF('Data Input'!$C$8:$AK$8,\"F\"))","v":""},{"$f":"IF(ISBLANK('Data Input'!A171),\"\",SUM('Data Input'!E171,'Data Input'!M171,'Data Input'!Q171,'Data Input'!V171,'Data Input'!W171,'Data Input'!AD171,'Data Input'!AH171))","v":""},{"$f":"IF(O166=\"\",\"\",O166/COUNTIF('Data Input'!$C$8:$AK$8,\"M\"))","v":""},{"$f":"IF(ISBLANK('Data Input'!A171),\"\",SUM('Data Input'!H171,'Data Input'!K171,'Data Input'!P171,'Data Input'!Y171))","v":""},{"$f":"IF(Q166=\"\",\"\",Q166/COUNTIF('Data Input'!$C$8:$AK$8,\"G\"))","v":""}]
[{"$f":"IF('Data Input'!A172=0,\"\",'Data Input'!A172)","v":""},{"$f":"IF(ISBLANK('Data Input'!A172),\"\",COUNTIF('Data Input'!C172:AK172,\"\"))","v":""},{"$f":"IF(ISBLANK('Data Input'!A172),\"\",COUNTIF('Data Input'!C172:AK172,\"0\"))","v":""},{"$f":"IF(ISBLANK('Data Input'!A172),\"\",SUM(B167,C167))","v":""},{"$f":"IF(ISBLANK('Data Input'!A172),\"\",SUM('Data Input'!C172:AK172))","v":""},{"$f":"IF(E167=\"\",\"\",E167/(COUNTA('Data Input'!$C$8:$AK$8)))","v":""},{"$f":"IF(ISBLANK('Data Input'!A172),\"\",SUM('Data Input'!C172,'Data Input'!D172,'Data Input'!J172,'Data Input'!X172))","v":""},{"$f":"IF(G167=\"\",\"\",G167/COUNTIF('Data Input'!$C$8:$AK$8,\"N\"))","v":""},{"$f":"IF(ISBLANK('Data Input'!A172),\"\",SUM('Data Input'!G172,'Data Input'!I172,'Data Input'!L172,'Data Input'!N172,'Data Input'!O172,'Data Input'!S172,'Data Input'!Z172,'Data Input'!AA172,'Data Input'!AB172,'Data Input'!AC172,'Data Input'!AE172,'Data Input'!AF172,'Data Input'!AG172,'Data Input'!AI172,'Data Input'!AK172))","v":""},{"$f":"IF(I167=\"\",\"\",I167/COUNTIF('Data Input'!$C$8:$AK$8,\"C\"))","v":""},{"$f":"IF(ISBLANK('Data Input'!A172),\"\",SUM('Data Input'!T172,'Data Input'!U172))","v":""},{"$f":"IF(K167=\"\",\"\",K167/COUNTIF('Data Input'!$C$8:$AK$8,\"S\"))","v":""},{"$f":"IF(ISBLANK('Data Input'!A172),\"\",SUM('Data Input'!F172,'Data Input'!R172,'Data Input'!AJ172))","v":""},{"$f":"IF(M167=\"\",\"\",M167/COUNTIF('Data Input'!$C$8:$AK$8,\"F\"))","v":""},{"$f":"IF(ISBLANK('Data Input'!A172),\"\",SUM('Data Input'!E172,'Data Input'!M172,'Data Input'!Q172,'Data Input'!V172,'Data Input'!W172,'Data Input'!AD172,'Data Input'!AH172))","v":""},{"$f":"IF(O167=\"\",\"\",O167/COUNTIF('Data Input'!$C$8:$AK$8,\"M\"))","v":""},{"$f":"IF(ISBLANK('Data Input'!A172),\"\",SUM('Data Input'!H172,'Data Input'!K172,'Data Input'!P172,'Data Input'!Y172))","v":""},{"$f":"IF(Q167=\"\",\"\",Q167/COUNTIF('Data Input'!$C$8:$AK$8,\"G\"))","v":""}]
[{"$f":"IF('Data Input'!A173=0,\"\",'Data Input'!A173)","v":""},{"$f":"IF(ISBLANK('Data Input'!A173),\"\",COUNTIF('Data Input'!C173:AK173,\"\"))","v":""},{"$f":"IF(ISBLANK('Data Input'!A173),\"\",COUNTIF('Data Input'!C173:AK173,\"0\"))","v":""},{"$f":"IF(ISBLANK('Data Input'!A173),\"\",SUM(B168,C168))","v":""},{"$f":"IF(ISBLANK('Data Input'!A173),\"\",SUM('Data Input'!C173:AK173))","v":""},{"$f":"IF(E168=\"\",\"\",E168/(COUNTA('Data Input'!$C$8:$AK$8)))","v":""},{"$f":"IF(ISBLANK('Data Input'!A173),\"\",SUM('Data Input'!C173,'Data Input'!D173,'Data Input'!J173,'Data Input'!X173))","v":""},{"$f":"IF(G168=\"\",\"\",G168/COUNTIF('Data Input'!$C$8:$AK$8,\"N\"))","v":""},{"$f":"IF(ISBLANK('Data Input'!A173),\"\",SUM('Data Input'!G173,'Data Input'!I173,'Data Input'!L173,'Data Input'!N173,'Data Input'!O173,'Data Input'!S173,'Data Input'!Z173,'Data Input'!AA173,'Data Input'!AB173,'Data Input'!AC173,'Data Input'!AE173,'Data Input'!AF173,'Data Input'!AG173,'Data Input'!AI173,'Data Input'!AK173))","v":""},{"$f":"IF(I168=\"\",\"\",I168/COUNTIF('Data Input'!$C$8:$AK$8,\"C\"))","v":""},{"$f":"IF(ISBLANK('Data Input'!A173),\"\",SUM('Data Input'!T173,'Data Input'!U173))","v":""},{"$f":"IF(K168=\"\",\"\",K168/COUNTIF('Data Input'!$C$8:$AK$8,\"S\"))","v":""},{"$f":"IF(ISBLANK('Data Input'!A173),\"\",SUM('Data Input'!F173,'Data Input'!R173,'Data Input'!AJ173))","v":""},{"$f":"IF(M168=\"\",\"\",M168/COUNTIF('Data Input'!$C$8:$AK$8,\"F\"))","v":""},{"$f":"IF(ISBLANK('Data Input'!A173),\"\",SUM('Data Input'!E173,'Data Input'!M173,'Data Input'!Q173,'Data Input'!V173,'Data Input'!W173,'Data Input'!AD173,'Data Input'!AH173))","v":""},{"$f":"IF(O168=\"\",\"\",O168/COUNTIF('Data Input'!$C$8:$AK$8,\"M\"))","v":""},{"$f":"IF(ISBLANK('Data Input'!A173),\"\",SUM('Data Input'!H173,'Data Input'!K173,'Data Input'!P173,'Data Input'!Y173))","v":""},{"$f":"IF(Q168=\"\",\"\",Q168/COUNTIF('Data Input'!$C$8:$AK$8,\"G\"))","v":""}]
[{"$f":"IF('Data Input'!A174=0,\"\",'Data Input'!A174)","v":""},{"$f":"IF(ISBLANK('Data Input'!A174),\"\",COUNTIF('Data Input'!C174:AK174,\"\"))","v":""},{"$f":"IF(ISBLANK('Data Input'!A174),\"\",COUNTIF('Data Input'!C174:AK174,\"0\"))","v":""},{"$f":"IF(ISBLANK('Data Input'!A174),\"\",SUM(B169,C169))","v":""},{"$f":"IF(ISBLANK('Data Input'!A174),\"\",SUM('Data Input'!C174:AK174))","v":""},{"$f":"IF(E169=\"\",\"\",E169/(COUNTA('Data Input'!$C$8:$AK$8)))","v":""},{"$f":"IF(ISBLANK('Data Input'!A174),\"\",SUM('Data Input'!C174,'Data Input'!D174,'Data Input'!J174,'Data Input'!X174))","v":""},{"$f":"IF(G169=\"\",\"\",G169/COUNTIF('Data Input'!$C$8:$AK$8,\"N\"))","v":""},{"$f":"IF(ISBLANK('Data Input'!A174),\"\",SUM('Data Input'!G174,'Data Input'!I174,'Data Input'!L174,'Data Input'!N174,'Data Input'!O174,'Data Input'!S174,'Data Input'!Z174,'Data Input'!AA174,'Data Input'!AB174,'Data Input'!AC174,'Data Input'!AE174,'Data Input'!AF174,'Data Input'!AG174,'Data Input'!AI174,'Data Input'!AK174))","v":""},{"$f":"IF(I169=\"\",\"\",I169/COUNTIF('Data Input'!$C$8:$AK$8,\"C\"))","v":""},{"$f":"IF(ISBLANK('Data Input'!A174),\"\",SUM('Data Input'!T174,'Data Input'!U174))","v":""},{"$f":"IF(K169=\"\",\"\",K169/COUNTIF('Data Input'!$C$8:$AK$8,\"S\"))","v":""},{"$f":"IF(ISBLANK('Data Input'!A174),\"\",SUM('Data Input'!F174,'Data Input'!R174,'Data Input'!AJ174))","v":""},{"$f":"IF(M169=\"\",\"\",M169/COUNTIF('Data Input'!$C$8:$AK$8,\"F\"))","v":""},{"$f":"IF(ISBLANK('Data Input'!A174),\"\",SUM('Data Input'!E174,'Data Input'!M174,'Data Input'!Q174,'Data Input'!V174,'Data Input'!W174,'Data Input'!AD174,'Data Input'!AH174))","v":""},{"$f":"IF(O169=\"\",\"\",O169/COUNTIF('Data Input'!$C$8:$AK$8,\"M\"))","v":""},{"$f":"IF(ISBLANK('Data Input'!A174),\"\",SUM('Data Input'!H174,'Data Input'!K174,'Data Input'!P174,'Data Input'!Y174))","v":""},{"$f":"IF(Q169=\"\",\"\",Q169/COUNTIF('Data Input'!$C$8:$AK$8,\"G\"))","v":""}]
[{"$f":"IF('Data Input'!A175=0,\"\",'Data Input'!A175)","v":""},{"$f":"IF(ISBLANK('Data Input'!A175),\"\",COUNTIF('Data Input'!C175:AK175,\"\"))","v":""},{"$f":"IF(ISBLANK('Data Input'!A175),\"\",COUNTIF('Data Input'!C175:AK175,\"0\"))","v":""},{"$f":"IF(ISBLANK('Data Input'!A175),\"\",SUM(B170,C170))","v":""},{"$f":"IF(ISBLANK('Data Input'!A175),\"\",SUM('Data Input'!C175:AK175))","v":""},{"$f":"IF(E170=\"\",\"\",E170/(COUNTA('Data Input'!$C$8:$AK$8)))","v":""},{"$f":"IF(ISBLANK('Data Input'!A175),\"\",SUM('Data Input'!C175,'Data Input'!D175,'Data Input'!J175,'Data Input'!X175))","v":""},{"$f":"IF(G170=\"\",\"\",G170/COUNTIF('Data Input'!$C$8:$AK$8,\"N\"))","v":""},{"$f":"IF(ISBLANK('Data Input'!A175),\"\",SUM('Data Input'!G175,'Data Input'!I175,'Data Input'!L175,'Data Input'!N175,'Data Input'!O175,'Data Input'!S175,'Data Input'!Z175,'Data Input'!AA175,'Data Input'!AB175,'Data Input'!AC175,'Data Input'!AE175,'Data Input'!AF175,'Data Input'!AG175,'Data Input'!AI175,'Data Input'!AK175))","v":""},{"$f":"IF(I170=\"\",\"\",I170/COUNTIF('Data Input'!$C$8:$AK$8,\"C\"))","v":""},{"$f":"IF(ISBLANK('Data Input'!A175),\"\",SUM('Data Input'!T175,'Data Input'!U175))","v":""},{"$f":"IF(K170=\"\",\"\",K170/COUNTIF('Data Input'!$C$8:$AK$8,\"S\"))","v":""},{"$f":"IF(ISBLANK('Data Input'!A175),\"\",SUM('Data Input'!F175,'Data Input'!R175,'Data Input'!AJ175))","v":""},{"$f":"IF(M170=\"\",\"\",M170/COUNTIF('Data Input'!$C$8:$AK$8,\"F\"))","v":""},{"$f":"IF(ISBLANK('Data Input'!A175),\"\",SUM('Data Input'!E175,'Data Input'!M175,'Data Input'!Q175,'Data Input'!V175,'Data Input'!W175,'Data Input'!AD175,'Data Input'!AH175))","v":""},{"$f":"IF(O170=\"\",\"\",O170/COUNTIF('Data Input'!$C$8:$AK$8,\"M\"))","v":""},{"$f":"IF(ISBLANK('Data Input'!A175),\"\",SUM('Data Input'!H175,'Data Input'!K175,'Data Input'!P175,'Data Input'!Y175))","v":""},{"$f":"IF(Q170=\"\",\"\",Q170/COUNTIF('Data Input'!$C$8:$AK$8,\"G\"))","v":""}]
[{"$f":"IF('Data Input'!A176=0,\"\",'Data Input'!A176)","v":""},{"$f":"IF(ISBLANK('Data Input'!A176),\"\",COUNTIF('Data Input'!C176:AK176,\"\"))","v":""},{"$f":"IF(ISBLANK('Data Input'!A176),\"\",COUNTIF('Data Input'!C176:AK176,\"0\"))","v":""},{"$f":"IF(ISBLANK('Data Input'!A176),\"\",SUM(B171,C171))","v":""},{"$f":"IF(ISBLANK('Data Input'!A176),\"\",SUM('Data Input'!C176:AK176))","v":""},{"$f":"IF(E171=\"\",\"\",E171/(COUNTA('Data Input'!$C$8:$AK$8)))","v":""},{"$f":"IF(ISBLANK('Data Input'!A176),\"\",SUM('Data Input'!C176,'Data Input'!D176,'Data Input'!J176,'Data Input'!X176))","v":""},{"$f":"IF(G171=\"\",\"\",G171/COUNTIF('Data Input'!$C$8:$AK$8,\"N\"))","v":""},{"$f":"IF(ISBLANK('Data Input'!A176),\"\",SUM('Data Input'!G176,'Data Input'!I176,'Data Input'!L176,'Data Input'!N176,'Data Input'!O176,'Data Input'!S176,'Data Input'!Z176,'Data Input'!AA176,'Data Input'!AB176,'Data Input'!AC176,'Data Input'!AE176,'Data Input'!AF176,'Data Input'!AG176,'Data Input'!AI176,'Data Input'!AK176))","v":""},{"$f":"IF(I171=\"\",\"\",I171/COUNTIF('Data Input'!$C$8:$AK$8,\"C\"))","v":""},{"$f":"IF(ISBLANK('Data Input'!A176),\"\",SUM('Data Input'!T176,'Data Input'!U176))","v":""},{"$f":"IF(K171=\"\",\"\",K171/COUNTIF('Data Input'!$C$8:$AK$8,\"S\"))","v":""},{"$f":"IF(ISBLANK('Data Input'!A176),\"\",SUM('Data Input'!F176,'Data Input'!R176,'Data Input'!AJ176))","v":""},{"$f":"IF(M171=\"\",\"\",M171/COUNTIF('Data Input'!$C$8:$AK$8,\"F\"))","v":""},{"$f":"IF(ISBLANK('Data Input'!A176),\"\",SUM('Data Input'!E176,'Data Input'!M176,'Data Input'!Q176,'Data Input'!V176,'Data Input'!W176,'Data Input'!AD176,'Data Input'!AH176))","v":""},{"$f":"IF(O171=\"\",\"\",O171/COUNTIF('Data Input'!$C$8:$AK$8,\"M\"))","v":""},{"$f":"IF(ISBLANK('Data Input'!A176),\"\",SUM('Data Input'!H176,'Data Input'!K176,'Data Input'!P176,'Data Input'!Y176))","v":""},{"$f":"IF(Q171=\"\",\"\",Q171/COUNTIF('Data Input'!$C$8:$AK$8,\"G\"))","v":""}]
[{"$f":"IF('Data Input'!A177=0,\"\",'Data Input'!A177)","v":""},{"$f":"IF(ISBLANK('Data Input'!A177),\"\",COUNTIF('Data Input'!C177:AK177,\"\"))","v":""},{"$f":"IF(ISBLANK('Data Input'!A177),\"\",COUNTIF('Data Input'!C177:AK177,\"0\"))","v":""},{"$f":"IF(ISBLANK('Data Input'!A177),\"\",SUM(B172,C172))","v":""},{"$f":"IF(ISBLANK('Data Input'!A177),\"\",SUM('Data Input'!C177:AK177))","v":""},{"$f":"IF(E172=\"\",\"\",E172/(COUNTA('Data Input'!$C$8:$AK$8)))","v":""},{"$f":"IF(ISBLANK('Data Input'!A177),\"\",SUM('Data Input'!C177,'Data Input'!D177,'Data Input'!J177,'Data Input'!X177))","v":""},{"$f":"IF(G172=\"\",\"\",G172/COUNTIF('Data Input'!$C$8:$AK$8,\"N\"))","v":""},{"$f":"IF(ISBLANK('Data Input'!A177),\"\",SUM('Data Input'!G177,'Data Input'!I177,'Data Input'!L177,'Data Input'!N177,'Data Input'!O177,'Data Input'!S177,'Data Input'!Z177,'Data Input'!AA177,'Data Input'!AB177,'Data Input'!AC177,'Data Input'!AE177,'Data Input'!AF177,'Data Input'!AG177,'Data Input'!AI177,'Data Input'!AK177))","v":""},{"$f":"IF(I172=\"\",\"\",I172/COUNTIF('Data Input'!$C$8:$AK$8,\"C\"))","v":""},{"$f":"IF(ISBLANK('Data Input'!A177),\"\",SUM('Data Input'!T177,'Data Input'!U177))","v":""},{"$f":"IF(K172=\"\",\"\",K172/COUNTIF('Data Input'!$C$8:$AK$8,\"S\"))","v":""},{"$f":"IF(ISBLANK('Data Input'!A177),\"\",SUM('Data Input'!F177,'Data Input'!R177,'Data Input'!AJ177))","v":""},{"$f":"IF(M172=\"\",\"\",M172/COUNTIF('Data Input'!$C$8:$AK$8,\"F\"))","v":""},{"$f":"IF(ISBLANK('Data Input'!A177),\"\",SUM('Data Input'!E177,'Data Input'!M177,'Data Input'!Q177,'Data Input'!V177,'Data Input'!W177,'Data Input'!AD177,'Data Input'!AH177))","v":""},{"$f":"IF(O172=\"\",\"\",O172/COUNTIF('Data Input'!$C$8:$AK$8,\"M\"))","v":""},{"$f":"IF(ISBLANK('Data Input'!A177),\"\",SUM('Data Input'!H177,'Data Input'!K177,'Data Input'!P177,'Data Input'!Y177))","v":""},{"$f":"IF(Q172=\"\",\"\",Q172/COUNTIF('Data Input'!$C$8:$AK$8,\"G\"))","v":""}]
[{"$f":"IF('Data Input'!A178=0,\"\",'Data Input'!A178)","v":""},{"$f":"IF(ISBLANK('Data Input'!A178),\"\",COUNTIF('Data Input'!C178:AK178,\"\"))","v":""},{"$f":"IF(ISBLANK('Data Input'!A178),\"\",COUNTIF('Data Input'!C178:AK178,\"0\"))","v":""},{"$f":"IF(ISBLANK('Data Input'!A178),\"\",SUM(B173,C173))","v":""},{"$f":"IF(ISBLANK('Data Input'!A178),\"\",SUM('Data Input'!C178:AK178))","v":""},{"$f":"IF(E173=\"\",\"\",E173/(COUNTA('Data Input'!$C$8:$AK$8)))","v":""},{"$f":"IF(ISBLANK('Data Input'!A178),\"\",SUM('Data Input'!C178,'Data Input'!D178,'Data Input'!J178,'Data Input'!X178))","v":""},{"$f":"IF(G173=\"\",\"\",G173/COUNTIF('Data Input'!$C$8:$AK$8,\"N\"))","v":""},{"$f":"IF(ISBLANK('Data Input'!A178),\"\",SUM('Data Input'!G178,'Data Input'!I178,'Data Input'!L178,'Data Input'!N178,'Data Input'!O178,'Data Input'!S178,'Data Input'!Z178,'Data Input'!AA178,'Data Input'!AB178,'Data Input'!AC178,'Data Input'!AE178,'Data Input'!AF178,'Data Input'!AG178,'Data Input'!AI178,'Data Input'!AK178))","v":""},{"$f":"IF(I173=\"\",\"\",I173/COUNTIF('Data Input'!$C$8:$AK$8,\"C\"))","v":""},{"$f":"IF(ISBLANK('Data Input'!A178),\"\",SUM('Data Input'!T178,'Data Input'!U178))","v":""},{"$f":"IF(K173=\"\",\"\",K173/COUNTIF('Data Input'!$C$8:$AK$8,\"S\"))","v":""},{"$f":"IF(ISBLANK('Data Input'!A178),\"\",SUM('Data Input'!F178,'Data Input'!R178,'Data Input'!AJ178))","v":""},{"$f":"IF(M173=\"\",\"\",M173/COUNTIF('Data Input'!$C$8:$AK$8,\"F\"))","v":""},{"$f":"IF(ISBLANK('Data Input'!A178),\"\",SUM('Data Input'!E178,'Data Input'!M178,'Data Input'!Q178,'Data Input'!V178,'Data Input'!W178,'Data Input'!AD178,'Data Input'!AH178))","v":""},{"$f":"IF(O173=\"\",\"\",O173/COUNTIF('Data Input'!$C$8:$AK$8,\"M\"))","v":""},{"$f":"IF(ISBLANK('Data Input'!A178),\"\",SUM('Data Input'!H178,'Data Input'!K178,'Data Input'!P178,'Data Input'!Y178))","v":""},{"$f":"IF(Q173=\"\",\"\",Q173/COUNTIF('Data Input'!$C$8:$AK$8,\"G\"))","v":""}]
[{"$f":"IF('Data Input'!A179=0,\"\",'Data Input'!A179)","v":""},{"$f":"IF(ISBLANK('Data Input'!A179),\"\",COUNTIF('Data Input'!C179:AK179,\"\"))","v":""},{"$f":"IF(ISBLANK('Data Input'!A179),\"\",COUNTIF('Data Input'!C179:AK179,\"0\"))","v":""},{"$f":"IF(ISBLANK('Data Input'!A179),\"\",SUM(B174,C174))","v":""},{"$f":"IF(ISBLANK('Data Input'!A179),\"\",SUM('Data Input'!C179:AK179))","v":""},{"$f":"IF(E174=\"\",\"\",E174/(COUNTA('Data Input'!$C$8:$AK$8)))","v":""},{"$f":"IF(ISBLANK('Data Input'!A179),\"\",SUM('Data Input'!C179,'Data Input'!D179,'Data Input'!J179,'Data Input'!X179))","v":""},{"$f":"IF(G174=\"\",\"\",G174/COUNTIF('Data Input'!$C$8:$AK$8,\"N\"))","v":""},{"$f":"IF(ISBLANK('Data Input'!A179),\"\",SUM('Data Input'!G179,'Data Input'!I179,'Data Input'!L179,'Data Input'!N179,'Data Input'!O179,'Data Input'!S179,'Data Input'!Z179,'Data Input'!AA179,'Data Input'!AB179,'Data Input'!AC179,'Data Input'!AE179,'Data Input'!AF179,'Data Input'!AG179,'Data Input'!AI179,'Data Input'!AK179))","v":""},{"$f":"IF(I174=\"\",\"\",I174/COUNTIF('Data Input'!$C$8:$AK$8,\"C\"))","v":""},{"$f":"IF(ISBLANK('Data Input'!A179),\"\",SUM('Data Input'!T179,'Data Input'!U179))","v":""},{"$f":"IF(K174=\"\",\"\",K174/COUNTIF('Data Input'!$C$8:$AK$8,\"S\"))","v":""},{"$f":"IF(ISBLANK('Data Input'!A179),\"\",SUM('Data Input'!F179,'Data Input'!R179,'Data Input'!AJ179))","v":""},{"$f":"IF(M174=\"\",\"\",M174/COUNTIF('Data Input'!$C$8:$AK$8,\"F\"))","v":""},{"$f":"IF(ISBLANK('Data Input'!A179),\"\",SUM('Data Input'!E179,'Data Input'!M179,'Data Input'!Q179,'Data Input'!V179,'Data Input'!W179,'Data Input'!AD179,'Data Input'!AH179))","v":""},{"$f":"IF(O174=\"\",\"\",O174/COUNTIF('Data Input'!$C$8:$AK$8,\"M\"))","v":""},{"$f":"IF(ISBLANK('Data Input'!A179),\"\",SUM('Data Input'!H179,'Data Input'!K179,'Data Input'!P179,'Data Input'!Y179))","v":""},{"$f":"IF(Q174=\"\",\"\",Q174/COUNTIF('Data Input'!$C$8:$AK$8,\"G\"))","v":""}]
[{"$f":"IF('Data Input'!A180=0,\"\",'Data Input'!A180)","v":""},{"$f":"IF(ISBLANK('Data Input'!A180),\"\",COUNTIF('Data Input'!C180:AK180,\"\"))","v":""},{"$f":"IF(ISBLANK('Data Input'!A180),\"\",COUNTIF('Data Input'!C180:AK180,\"0\"))","v":""},{"$f":"IF(ISBLANK('Data Input'!A180),\"\",SUM(B175,C175))","v":""},{"$f":"IF(ISBLANK('Data Input'!A180),\"\",SUM('Data Input'!C180:AK180))","v":""},{"$f":"IF(E175=\"\",\"\",E175/(COUNTA('Data Input'!$C$8:$AK$8)))","v":""},{"$f":"IF(ISBLANK('Data Input'!A180),\"\",SUM('Data Input'!C180,'Data Input'!D180,'Data Input'!J180,'Data Input'!X180))","v":""},{"$f":"IF(G175=\"\",\"\",G175/COUNTIF('Data Input'!$C$8:$AK$8,\"N\"))","v":""},{"$f":"IF(ISBLANK('Data Input'!A180),\"\",SUM('Data Input'!G180,'Data Input'!I180,'Data Input'!L180,'Data Input'!N180,'Data Input'!O180,'Data Input'!S180,'Data Input'!Z180,'Data Input'!AA180,'Data Input'!AB180,'Data Input'!AC180,'Data Input'!AE180,'Data Input'!AF180,'Data Input'!AG180,'Data Input'!AI180,'Data Input'!AK180))","v":""},{"$f":"IF(I175=\"\",\"\",I175/COUNTIF('Data Input'!$C$8:$AK$8,\"C\"))","v":""},{"$f":"IF(ISBLANK('Data Input'!A180),\"\",SUM('Data Input'!T180,'Data Input'!U180))","v":""},{"$f":"IF(K175=\"\",\"\",K175/COUNTIF('Data Input'!$C$8:$AK$8,\"S\"))","v":""},{"$f":"IF(ISBLANK('Data Input'!A180),\"\",SUM('Data Input'!F180,'Data Input'!R180,'Data Input'!AJ180))","v":""},{"$f":"IF(M175=\"\",\"\",M175/COUNTIF('Data Input'!$C$8:$AK$8,\"F\"))","v":""},{"$f":"IF(ISBLANK('Data Input'!A180),\"\",SUM('Data Input'!E180,'Data Input'!M180,'Data Input'!Q180,'Data Input'!V180,'Data Input'!W180,'Data Input'!AD180,'Data Input'!AH180))","v":""},{"$f":"IF(O175=\"\",\"\",O175/COUNTIF('Data Input'!$C$8:$AK$8,\"M\"))","v":""},{"$f":"IF(ISBLANK('Data Input'!A180),\"\",SUM('Data Input'!H180,'Data Input'!K180,'Data Input'!P180,'Data Input'!Y180))","v":""},{"$f":"IF(Q175=\"\",\"\",Q175/COUNTIF('Data Input'!$C$8:$AK$8,\"G\"))","v":""}]
[{"$f":"IF('Data Input'!A181=0,\"\",'Data Input'!A181)","v":""},{"$f":"IF(ISBLANK('Data Input'!A181),\"\",COUNTIF('Data Input'!C181:AK181,\"\"))","v":""},{"$f":"IF(ISBLANK('Data Input'!A181),\"\",COUNTIF('Data Input'!C181:AK181,\"0\"))","v":""},{"$f":"IF(ISBLANK('Data Input'!A181),\"\",SUM(B176,C176))","v":""},{"$f":"IF(ISBLANK('Data Input'!A181),\"\",SUM('Data Input'!C181:AK181))","v":""},{"$f":"IF(E176=\"\",\"\",E176/(COUNTA('Data Input'!$C$8:$AK$8)))","v":""},{"$f":"IF(ISBLANK('Data Input'!A181),\"\",SUM('Data Input'!C181,'Data Input'!D181,'Data Input'!J181,'Data Input'!X181))","v":""},{"$f":"IF(G176=\"\",\"\",G176/COUNTIF('Data Input'!$C$8:$AK$8,\"N\"))","v":""},{"$f":"IF(ISBLANK('Data Input'!A181),\"\",SUM('Data Input'!G181,'Data Input'!I181,'Data Input'!L181,'Data Input'!N181,'Data Input'!O181,'Data Input'!S181,'Data Input'!Z181,'Data Input'!AA181,'Data Input'!AB181,'Data Input'!AC181,'Data Input'!AE181,'Data Input'!AF181,'Data Input'!AG181,'Data Input'!AI181,'Data Input'!AK181))","v":""},{"$f":"IF(I176=\"\",\"\",I176/COUNTIF('Data Input'!$C$8:$AK$8,\"C\"))","v":""},{"$f":"IF(ISBLANK('Data Input'!A181),\"\",SUM('Data Input'!T181,'Data Input'!U181))","v":""},{"$f":"IF(K176=\"\",\"\",K176/COUNTIF('Data Input'!$C$8:$AK$8,\"S\"))","v":""},{"$f":"IF(ISBLANK('Data Input'!A181),\"\",SUM('Data Input'!F181,'Data Input'!R181,'Data Input'!AJ181))","v":""},{"$f":"IF(M176=\"\",\"\",M176/COUNTIF('Data Input'!$C$8:$AK$8,\"F\"))","v":""},{"$f":"IF(ISBLANK('Data Input'!A181),\"\",SUM('Data Input'!E181,'Data Input'!M181,'Data Input'!Q181,'Data Input'!V181,'Data Input'!W181,'Data Input'!AD181,'Data Input'!AH181))","v":""},{"$f":"IF(O176=\"\",\"\",O176/COUNTIF('Data Input'!$C$8:$AK$8,\"M\"))","v":""},{"$f":"IF(ISBLANK('Data Input'!A181),\"\",SUM('Data Input'!H181,'Data Input'!K181,'Data Input'!P181,'Data Input'!Y181))","v":""},{"$f":"IF(Q176=\"\",\"\",Q176/COUNTIF('Data Input'!$C$8:$AK$8,\"G\"))","v":""}]
[{"$f":"IF('Data Input'!A182=0,\"\",'Data Input'!A182)","v":""},{"$f":"IF(ISBLANK('Data Input'!A182),\"\",COUNTIF('Data Input'!C182:AK182,\"\"))","v":""},{"$f":"IF(ISBLANK('Data Input'!A182),\"\",COUNTIF('Data Input'!C182:AK182,\"0\"))","v":""},{"$f":"IF(ISBLANK('Data Input'!A182),\"\",SUM(B177,C177))","v":""},{"$f":"IF(ISBLANK('Data Input'!A182),\"\",SUM('Data Input'!C182:AK182))","v":""},{"$f":"IF(E177=\"\",\"\",E177/(COUNTA('Data Input'!$C$8:$AK$8)))","v":""},{"$f":"IF(ISBLANK('Data Input'!A182),\"\",SUM('Data Input'!C182,'Data Input'!D182,'Data Input'!J182,'Data Input'!X182))","v":""},{"$f":"IF(G177=\"\",\"\",G177/COUNTIF('Data Input'!$C$8:$AK$8,\"N\"))","v":""},{"$f":"IF(ISBLANK('Data Input'!A182),\"\",SUM('Data Input'!G182,'Data Input'!I182,'Data Input'!L182,'Data Input'!N182,'Data Input'!O182,'Data Input'!S182,'Data Input'!Z182,'Data Input'!AA182,'Data Input'!AB182,'Data Input'!AC182,'Data Input'!AE182,'Data Input'!AF182,'Data Input'!AG182,'Data Input'!AI182,'Data Input'!AK182))","v":""},{"$f":"IF(I177=\"\",\"\",I177/COUNTIF('Data Input'!$C$8:$AK$8,\"C\"))","v":""},{"$f":"IF(ISBLANK('Data Input'!A182),\"\",SUM('Data Input'!T182,'Data Input'!U182))","v":""},{"$f":"IF(K177=\"\",\"\",K177/COUNTIF('Data Input'!$C$8:$AK$8,\"S\"))","v":""},{"$f":"IF(ISBLANK('Data Input'!A182),\"\",SUM('Data Input'!F182,'Data Input'!R182,'Data Input'!AJ182))","v":""},{"$f":"IF(M177=\"\",\"\",M177/COUNTIF('Data Input'!$C$8:$AK$8,\"F\"))","v":""},{"$f":"IF(ISBLANK('Data Input'!A182),\"\",SUM('Data Input'!E182,'Data Input'!M182,'Data Input'!Q182,'Data Input'!V182,'Data Input'!W182,'Data Input'!AD182,'Data Input'!AH182))","v":""},{"$f":"IF(O177=\"\",\"\",O177/COUNTIF('Data Input'!$C$8:$AK$8,\"M\"))","v":""},{"$f":"IF(ISBLANK('Data Input'!A182),\"\",SUM('Data Input'!H182,'Data Input'!K182,'Data Input'!P182,'Data Input'!Y182))","v":""},{"$f":"IF(Q177=\"\",\"\",Q177/COUNTIF('Data Input'!$C$8:$AK$8,\"G\"))","v":""}]
[{"$f":"IF('Data Input'!A183=0,\"\",'Data Input'!A183)","v":""},{"$f":"IF(ISBLANK('Data Input'!A183),\"\",COUNTIF('Data Input'!C183:AK183,\"\"))","v":""},{"$f":"IF(ISBLANK('Data Input'!A183),\"\",COUNTIF('Data Input'!C183:AK183,\"0\"))","v":""},{"$f":"IF(ISBLANK('Data Input'!A183),\"\",SUM(B178,C178))","v":""},{"$f":"IF(ISBLANK('Data Input'!A183),\"\",SUM('Data Input'!C183:AK183))","v":""},{"$f":"IF(E178=\"\",\"\",E178/(COUNTA('Data Input'!$C$8:$AK$8)))","v":""},{"$f":"IF(ISBLANK('Data Input'!A183),\"\",SUM('Data Input'!C183,'Data Input'!D183,'Data Input'!J183,'Data Input'!X183))","v":""},{"$f":"IF(G178=\"\",\"\",G178/COUNTIF('Data Input'!$C$8:$AK$8,\"N\"))","v":""},{"$f":"IF(ISBLANK('Data Input'!A183),\"\",SUM('Data Input'!G183,'Data Input'!I183,'Data Input'!L183,'Data Input'!N183,'Data Input'!O183,'Data Input'!S183,'Data Input'!Z183,'Data Input'!AA183,'Data Input'!AB183,'Data Input'!AC183,'Data Input'!AE183,'Data Input'!AF183,'Data Input'!AG183,'Data Input'!AI183,'Data Input'!AK183))","v":""},{"$f":"IF(I178=\"\",\"\",I178/COUNTIF('Data Input'!$C$8:$AK$8,\"C\"))","v":""},{"$f":"IF(ISBLANK('Data Input'!A183),\"\",SUM('Data Input'!T183,'Data Input'!U183))","v":""},{"$f":"IF(K178=\"\",\"\",K178/COUNTIF('Data Input'!$C$8:$AK$8,\"S\"))","v":""},{"$f":"IF(ISBLANK('Data Input'!A183),\"\",SUM('Data Input'!F183,'Data Input'!R183,'Data Input'!AJ183))","v":""},{"$f":"IF(M178=\"\",\"\",M178/COUNTIF('Data Input'!$C$8:$AK$8,\"F\"))","v":""},{"$f":"IF(ISBLANK('Data Input'!A183),\"\",SUM('Data Input'!E183,'Data Input'!M183,'Data Input'!Q183,'Data Input'!V183,'Data Input'!W183,'Data Input'!AD183,'Data Input'!AH183))","v":""},{"$f":"IF(O178=\"\",\"\",O178/COUNTIF('Data Input'!$C$8:$AK$8,\"M\"))","v":""},{"$f":"IF(ISBLANK('Data Input'!A183),\"\",SUM('Data Input'!H183,'Data Input'!K183,'Data Input'!P183,'Data Input'!Y183))","v":""},{"$f":"IF(Q178=\"\",\"\",Q178/COUNTIF('Data Input'!$C$8:$AK$8,\"G\"))","v":""}]
[{"$f":"IF('Data Input'!A184=0,\"\",'Data Input'!A184)","v":""},{"$f":"IF(ISBLANK('Data Input'!A184),\"\",COUNTIF('Data Input'!C184:AK184,\"\"))","v":""},{"$f":"IF(ISBLANK('Data Input'!A184),\"\",COUNTIF('Data Input'!C184:AK184,\"0\"))","v":""},{"$f":"IF(ISBLANK('Data Input'!A184),\"\",SUM(B179,C179))","v":""},{"$f":"IF(ISBLANK('Data Input'!A184),\"\",SUM('Data Input'!C184:AK184))","v":""},{"$f":"IF(E179=\"\",\"\",E179/(COUNTA('Data Input'!$C$8:$AK$8)))","v":""},{"$f":"IF(ISBLANK('Data Input'!A184),\"\",SUM('Data Input'!C184,'Data Input'!D184,'Data Input'!J184,'Data Input'!X184))","v":""},{"$f":"IF(G179=\"\",\"\",G179/COUNTIF('Data Input'!$C$8:$AK$8,\"N\"))","v":""},{"$f":"IF(ISBLANK('Data Input'!A184),\"\",SUM('Data Input'!G184,'Data Input'!I184,'Data Input'!L184,'Data Input'!N184,'Data Input'!O184,'Data Input'!S184,'Data Input'!Z184,'Data Input'!AA184,'Data Input'!AB184,'Data Input'!AC184,'Data Input'!AE184,'Data Input'!AF184,'Data Input'!AG184,'Data Input'!AI184,'Data Input'!AK184))","v":""},{"$f":"IF(I179=\"\",\"\",I179/COUNTIF('Data Input'!$C$8:$AK$8,\"C\"))","v":""},{"$f":"IF(ISBLANK('Data Input'!A184),\"\",SUM('Data Input'!T184,'Data Input'!U184))","v":""},{"$f":"IF(K179=\"\",\"\",K179/COUNTIF('Data Input'!$C$8:$AK$8,\"S\"))","v":""},{"$f":"IF(ISBLANK('Data Input'!A184),\"\",SUM('Data Input'!F184,'Data Input'!R184,'Data Input'!AJ184))","v":""},{"$f":"IF(M179=\"\",\"\",M179/COUNTIF('Data Input'!$C$8:$AK$8,\"F\"))","v":""},{"$f":"IF(ISBLANK('Data Input'!A184),\"\",SUM('Data Input'!E184,'Data Input'!M184,'Data Input'!Q184,'Data Input'!V184,'Data Input'!W184,'Data Input'!AD184,'Data Input'!AH184))","v":""},{"$f":"IF(O179=\"\",\"\",O179/COUNTIF('Data Input'!$C$8:$AK$8,\"M\"))","v":""},{"$f":"IF(ISBLANK('Data Input'!A184),\"\",SUM('Data Input'!H184,'Data Input'!K184,'Data Input'!P184,'Data Input'!Y184))","v":""},{"$f":"IF(Q179=\"\",\"\",Q179/COUNTIF('Data Input'!$C$8:$AK$8,\"G\"))","v":""}]
[{"$f":"IF('Data Input'!A185=0,\"\",'Data Input'!A185)","v":""},{"$f":"IF(ISBLANK('Data Input'!A185),\"\",COUNTIF('Data Input'!C185:AK185,\"\"))","v":""},{"$f":"IF(ISBLANK('Data Input'!A185),\"\",COUNTIF('Data Input'!C185:AK185,\"0\"))","v":""},{"$f":"IF(ISBLANK('Data Input'!A185),\"\",SUM(B180,C180))","v":""},{"$f":"IF(ISBLANK('Data Input'!A185),\"\",SUM('Data Input'!C185:AK185))","v":""},{"$f":"IF(E180=\"\",\"\",E180/(COUNTA('Data Input'!$C$8:$AK$8)))","v":""},{"$f":"IF(ISBLANK('Data Input'!A185),\"\",SUM('Data Input'!C185,'Data Input'!D185,'Data Input'!J185,'Data Input'!X185))","v":""},{"$f":"IF(G180=\"\",\"\",G180/COUNTIF('Data Input'!$C$8:$AK$8,\"N\"))","v":""},{"$f":"IF(ISBLANK('Data Input'!A185),\"\",SUM('Data Input'!G185,'Data Input'!I185,'Data Input'!L185,'Data Input'!N185,'Data Input'!O185,'Data Input'!S185,'Data Input'!Z185,'Data Input'!AA185,'Data Input'!AB185,'Data Input'!AC185,'Data Input'!AE185,'Data Input'!AF185,'Data Input'!AG185,'Data Input'!AI185,'Data Input'!AK185))","v":""},{"$f":"IF(I180=\"\",\"\",I180/COUNTIF('Data Input'!$C$8:$AK$8,\"C\"))","v":""},{"$f":"IF(ISBLANK('Data Input'!A185),\"\",SUM('Data Input'!T185,'Data Input'!U185))","v":""},{"$f":"IF(K180=\"\",\"\",K180/COUNTIF('Data Input'!$C$8:$AK$8,\"S\"))","v":""},{"$f":"IF(ISBLANK('Data Input'!A185),\"\",SUM('Data Input'!F185,'Data Input'!R185,'Data Input'!AJ185))","v":""},{"$f":"IF(M180=\"\",\"\",M180/COUNTIF('Data Input'!$C$8:$AK$8,\"F\"))","v":""},{"$f":"IF(ISBLANK('Data Input'!A185),\"\",SUM('Data Input'!E185,'Data Input'!M185,'Data Input'!Q185,'Data Input'!V185,'Data Input'!W185,'Data Input'!AD185,'Data Input'!AH185))","v":""},{"$f":"IF(O180=\"\",\"\",O180/COUNTIF('Data Input'!$C$8:$AK$8,\"M\"))","v":""},{"$f":"IF(ISBLANK('Data Input'!A185),\"\",SUM('Data Input'!H185,'Data Input'!K185,'Data Input'!P185,'Data Input'!Y185))","v":""},{"$f":"IF(Q180=\"\",\"\",Q180/COUNTIF('Data Input'!$C$8:$AK$8,\"G\"))","v":""}]
[{"$f":"IF('Data Input'!A186=0,\"\",'Data Input'!A186)","v":""},{"$f":"IF(ISBLANK('Data Input'!A186),\"\",COUNTIF('Data Input'!C186:AK186,\"\"))","v":""},{"$f":"IF(ISBLANK('Data Input'!A186),\"\",COUNTIF('Data Input'!C186:AK186,\"0\"))","v":""},{"$f":"IF(ISBLANK('Data Input'!A186),\"\",SUM(B181,C181))","v":""},{"$f":"IF(ISBLANK('Data Input'!A186),\"\",SUM('Data Input'!C186:AK186))","v":""},{"$f":"IF(E181=\"\",\"\",E181/(COUNTA('Data Input'!$C$8:$AK$8)))","v":""},{"$f":"IF(ISBLANK('Data Input'!A186),\"\",SUM('Data Input'!C186,'Data Input'!D186,'Data Input'!J186,'Data Input'!X186))","v":""},{"$f":"IF(G181=\"\",\"\",G181/COUNTIF('Data Input'!$C$8:$AK$8,\"N\"))","v":""},{"$f":"IF(ISBLANK('Data Input'!A186),\"\",SUM('Data Input'!G186,'Data Input'!I186,'Data Input'!L186,'Data Input'!N186,'Data Input'!O186,'Data Input'!S186,'Data Input'!Z186,'Data Input'!AA186,'Data Input'!AB186,'Data Input'!AC186,'Data Input'!AE186,'Data Input'!AF186,'Data Input'!AG186,'Data Input'!AI186,'Data Input'!AK186))","v":""},{"$f":"IF(I181=\"\",\"\",I181/COUNTIF('Data Input'!$C$8:$AK$8,\"C\"))","v":""},{"$f":"IF(ISBLANK('Data Input'!A186),\"\",SUM('Data Input'!T186,'Data Input'!U186))","v":""},{"$f":"IF(K181=\"\",\"\",K181/COUNTIF('Data Input'!$C$8:$AK$8,\"S\"))","v":""},{"$f":"IF(ISBLANK('Data Input'!A186),\"\",SUM('Data Input'!F186,'Data Input'!R186,'Data Input'!AJ186))","v":""},{"$f":"IF(M181=\"\",\"\",M181/COUNTIF('Data Input'!$C$8:$AK$8,\"F\"))","v":""},{"$f":"IF(ISBLANK('Data Input'!A186),\"\",SUM('Data Input'!E186,'Data Input'!M186,'Data Input'!Q186,'Data Input'!V186,'Data Input'!W186,'Data Input'!AD186,'Data Input'!AH186))","v":""},{"$f":"IF(O181=\"\",\"\",O181/COUNTIF('Data Input'!$C$8:$AK$8,\"M\"))","v":""},{"$f":"IF(ISBLANK('Data Input'!A186),\"\",SUM('Data Input'!H186,'Data Input'!K186,'Data Input'!P186,'Data Input'!Y186))","v":""},{"$f":"IF(Q181=\"\",\"\",Q181/COUNTIF('Data Input'!$C$8:$AK$8,\"G\"))","v":""}]
[{"$f":"IF('Data Input'!A187=0,\"\",'Data Input'!A187)","v":""},{"$f":"IF(ISBLANK('Data Input'!A187),\"\",COUNTIF('Data Input'!C187:AK187,\"\"))","v":""},{"$f":"IF(ISBLANK('Data Input'!A187),\"\",COUNTIF('Data Input'!C187:AK187,\"0\"))","v":""},{"$f":"IF(ISBLANK('Data Input'!A187),\"\",SUM(B182,C182))","v":""},{"$f":"IF(ISBLANK('Data Input'!A187),\"\",SUM('Data Input'!C187:AK187))","v":""},{"$f":"IF(E182=\"\",\"\",E182/(COUNTA('Data Input'!$C$8:$AK$8)))","v":""},{"$f":"IF(ISBLANK('Data Input'!A187),\"\",SUM('Data Input'!C187,'Data Input'!D187,'Data Input'!J187,'Data Input'!X187))","v":""},{"$f":"IF(G182=\"\",\"\",G182/COUNTIF('Data Input'!$C$8:$AK$8,\"N\"))","v":""},{"$f":"IF(ISBLANK('Data Input'!A187),\"\",SUM('Data Input'!G187,'Data Input'!I187,'Data Input'!L187,'Data Input'!N187,'Data Input'!O187,'Data Input'!S187,'Data Input'!Z187,'Data Input'!AA187,'Data Input'!AB187,'Data Input'!AC187,'Data Input'!AE187,'Data Input'!AF187,'Data Input'!AG187,'Data Input'!AI187,'Data Input'!AK187))","v":""},{"$f":"IF(I182=\"\",\"\",I182/COUNTIF('Data Input'!$C$8:$AK$8,\"C\"))","v":""},{"$f":"IF(ISBLANK('Data Input'!A187),\"\",SUM('Data Input'!T187,'Data Input'!U187))","v":""},{"$f":"IF(K182=\"\",\"\",K182/COUNTIF('Data Input'!$C$8:$AK$8,\"S\"))","v":""},{"$f":"IF(ISBLANK('Data Input'!A187),\"\",SUM('Data Input'!F187,'Data Input'!R187,'Data Input'!AJ187))","v":""},{"$f":"IF(M182=\"\",\"\",M182/COUNTIF('Data Input'!$C$8:$AK$8,\"F\"))","v":""},{"$f":"IF(ISBLANK('Data Input'!A187),\"\",SUM('Data Input'!E187,'Data Input'!M187,'Data Input'!Q187,'Data Input'!V187,'Data Input'!W187,'Data Input'!AD187,'Data Input'!AH187))","v":""},{"$f":"IF(O182=\"\",\"\",O182/COUNTIF('Data Input'!$C$8:$AK$8,\"M\"))","v":""},{"$f":"IF(ISBLANK('Data Input'!A187),\"\",SUM('Data Input'!H187,'Data Input'!K187,'Data Input'!P187,'Data Input'!Y187))","v":""},{"$f":"IF(Q182=\"\",\"\",Q182/COUNTIF('Data Input'!$C$8:$AK$8,\"G\"))","v":""}]
[{"$f":"IF('Data Input'!A188=0,\"\",'Data Input'!A188)","v":""},{"$f":"IF(ISBLANK('Data Input'!A188),\"\",COUNTIF('Data Input'!C188:AK188,\"\"))","v":""},{"$f":"IF(ISBLANK('Data Input'!A188),\"\",COUNTIF('Data Input'!C188:AK188,\"0\"))","v":""},{"$f":"IF(ISBLANK('Data Input'!A188),\"\",SUM(B183,C183))","v":""},{"$f":"IF(ISBLANK('Data Input'!A188),\"\",SUM('Data Input'!C188:AK188))","v":""},{"$f":"IF(E183=\"\",\"\",E183/(COUNTA('Data Input'!$C$8:$AK$8)))","v":""},{"$f":"IF(ISBLANK('Data Input'!A188),\"\",SUM('Data Input'!C188,'Data Input'!D188,'Data Input'!J188,'Data Input'!X188))","v":""},{"$f":"IF(G183=\"\",\"\",G183/COUNTIF('Data Input'!$C$8:$AK$8,\"N\"))","v":""},{"$f":"IF(ISBLANK('Data Input'!A188),\"\",SUM('Data Input'!G188,'Data Input'!I188,'Data Input'!L188,'Data Input'!N188,'Data Input'!O188,'Data Input'!S188,'Data Input'!Z188,'Data Input'!AA188,'Data Input'!AB188,'Data Input'!AC188,'Data Input'!AE188,'Data Input'!AF188,'Data Input'!AG188,'Data Input'!AI188,'Data Input'!AK188))","v":""},{"$f":"IF(I183=\"\",\"\",I183/COUNTIF('Data Input'!$C$8:$AK$8,\"C\"))","v":""},{"$f":"IF(ISBLANK('Data Input'!A188),\"\",SUM('Data Input'!T188,'Data Input'!U188))","v":""},{"$f":"IF(K183=\"\",\"\",K183/COUNTIF('Data Input'!$C$8:$AK$8,\"S\"))","v":""},{"$f":"IF(ISBLANK('Data Input'!A188),\"\",SUM('Data Input'!F188,'Data Input'!R188,'Data Input'!AJ188))","v":""},{"$f":"IF(M183=\"\",\"\",M183/COUNTIF('Data Input'!$C$8:$AK$8,\"F\"))","v":""},{"$f":"IF(ISBLANK('Data Input'!A188),\"\",SUM('Data Input'!E188,'Data Input'!M188,'Data Input'!Q188,'Data Input'!V188,'Data Input'!W188,'Data Input'!AD188,'Data Input'!AH188))","v":""},{"$f":"IF(O183=\"\",\"\",O183/COUNTIF('Data Input'!$C$8:$AK$8,\"M\"))","v":""},{"$f":"IF(ISBLANK('Data Input'!A188),\"\",SUM('Data Input'!H188,'Data Input'!K188,'Data Input'!P188,'Data Input'!Y188))","v":""},{"$f":"IF(Q183=\"\",\"\",Q183/COUNTIF('Data Input'!$C$8:$AK$8,\"G\"))","v":""}]
[{"$f":"IF('Data Input'!A189=0,\"\",'Data Input'!A189)","v":""},{"$f":"IF(ISBLANK('Data Input'!A189),\"\",COUNTIF('Data Input'!C189:AK189,\"\"))","v":""},{"$f":"IF(ISBLANK('Data Input'!A189),\"\",COUNTIF('Data Input'!C189:AK189,\"0\"))","v":""},{"$f":"IF(ISBLANK('Data Input'!A189),\"\",SUM(B184,C184))","v":""},{"$f":"IF(ISBLANK('Data Input'!A189),\"\",SUM('Data Input'!C189:AK189))","v":""},{"$f":"IF(E184=\"\",\"\",E184/(COUNTA('Data Input'!$C$8:$AK$8)))","v":""},{"$f":"IF(ISBLANK('Data Input'!A189),\"\",SUM('Data Input'!C189,'Data Input'!D189,'Data Input'!J189,'Data Input'!X189))","v":""},{"$f":"IF(G184=\"\",\"\",G184/COUNTIF('Data Input'!$C$8:$AK$8,\"N\"))","v":""},{"$f":"IF(ISBLANK('Data Input'!A189),\"\",SUM('Data Input'!G189,'Data Input'!I189,'Data Input'!L189,'Data Input'!N189,'Data Input'!O189,'Data Input'!S189,'Data Input'!Z189,'Data Input'!AA189,'Data Input'!AB189,'Data Input'!AC189,'Data Input'!AE189,'Data Input'!AF189,'Data Input'!AG189,'Data Input'!AI189,'Data Input'!AK189))","v":""},{"$f":"IF(I184=\"\",\"\",I184/COUNTIF('Data Input'!$C$8:$AK$8,\"C\"))","v":""},{"$f":"IF(ISBLANK('Data Input'!A189),\"\",SUM('Data Input'!T189,'Data Input'!U189))","v":""},{"$f":"IF(K184=\"\",\"\",K184/COUNTIF('Data Input'!$C$8:$AK$8,\"S\"))","v":""},{"$f":"IF(ISBLANK('Data Input'!A189),\"\",SUM('Data Input'!F189,'Data Input'!R189,'Data Input'!AJ189))","v":""},{"$f":"IF(M184=\"\",\"\",M184/COUNTIF('Data Input'!$C$8:$AK$8,\"F\"))","v":""},{"$f":"IF(ISBLANK('Data Input'!A189),\"\",SUM('Data Input'!E189,'Data Input'!M189,'Data Input'!Q189,'Data Input'!V189,'Data Input'!W189,'Data Input'!AD189,'Data Input'!AH189))","v":""},{"$f":"IF(O184=\"\",\"\",O184/COUNTIF('Data Input'!$C$8:$AK$8,\"M\"))","v":""},{"$f":"IF(ISBLANK('Data Input'!A189),\"\",SUM('Data Input'!H189,'Data Input'!K189,'Data Input'!P189,'Data Input'!Y189))","v":""},{"$f":"IF(Q184=\"\",\"\",Q184/COUNTIF('Data Input'!$C$8:$AK$8,\"G\"))","v":""}]
[{"$f":"IF('Data Input'!A190=0,\"\",'Data Input'!A190)","v":""},{"$f":"IF(ISBLANK('Data Input'!A190),\"\",COUNTIF('Data Input'!C190:AK190,\"\"))","v":""},{"$f":"IF(ISBLANK('Data Input'!A190),\"\",COUNTIF('Data Input'!C190:AK190,\"0\"))","v":""},{"$f":"IF(ISBLANK('Data Input'!A190),\"\",SUM(B185,C185))","v":""},{"$f":"IF(ISBLANK('Data Input'!A190),\"\",SUM('Data Input'!C190:AK190))","v":""},{"$f":"IF(E185=\"\",\"\",E185/(COUNTA('Data Input'!$C$8:$AK$8)))","v":""},{"$f":"IF(ISBLANK('Data Input'!A190),\"\",SUM('Data Input'!C190,'Data Input'!D190,'Data Input'!J190,'Data Input'!X190))","v":""},{"$f":"IF(G185=\"\",\"\",G185/COUNTIF('Data Input'!$C$8:$AK$8,\"N\"))","v":""},{"$f":"IF(ISBLANK('Data Input'!A190),\"\",SUM('Data Input'!G190,'Data Input'!I190,'Data Input'!L190,'Data Input'!N190,'Data Input'!O190,'Data Input'!S190,'Data Input'!Z190,'Data Input'!AA190,'Data Input'!AB190,'Data Input'!AC190,'Data Input'!AE190,'Data Input'!AF190,'Data Input'!AG190,'Data Input'!AI190,'Data Input'!AK190))","v":""},{"$f":"IF(I185=\"\",\"\",I185/COUNTIF('Data Input'!$C$8:$AK$8,\"C\"))","v":""},{"$f":"IF(ISBLANK('Data Input'!A190),\"\",SUM('Data Input'!T190,'Data Input'!U190))","v":""},{"$f":"IF(K185=\"\",\"\",K185/COUNTIF('Data Input'!$C$8:$AK$8,\"S\"))","v":""},{"$f":"IF(ISBLANK('Data Input'!A190),\"\",SUM('Data Input'!F190,'Data Input'!R190,'Data Input'!AJ190))","v":""},{"$f":"IF(M185=\"\",\"\",M185/COUNTIF('Data Input'!$C$8:$AK$8,\"F\"))","v":""},{"$f":"IF(ISBLANK('Data Input'!A190),\"\",SUM('Data Input'!E190,'Data Input'!M190,'Data Input'!Q190,'Data Input'!V190,'Data Input'!W190,'Data Input'!AD190,'Data Input'!AH190))","v":""},{"$f":"IF(O185=\"\",\"\",O185/COUNTIF('Data Input'!$C$8:$AK$8,\"M\"))","v":""},{"$f":"IF(ISBLANK('Data Input'!A190),\"\",SUM('Data Input'!H190,'Data Input'!K190,'Data Input'!P190,'Data Input'!Y190))","v":""},{"$f":"IF(Q185=\"\",\"\",Q185/COUNTIF('Data Input'!$C$8:$AK$8,\"G\"))","v":""}]
[{"$f":"IF('Data Input'!A191=0,\"\",'Data Input'!A191)","v":""},{"$f":"IF(ISBLANK('Data Input'!A191),\"\",COUNTIF('Data Input'!C191:AK191,\"\"))","v":""},{"$f":"IF(ISBLANK('Data Input'!A191),\"\",COUNTIF('Data Input'!C191:AK191,\"0\"))","v":""},{"$f":"IF(ISBLANK('Data Input'!A191),\"\",SUM(B186,C186))","v":""},{"$f":"IF(ISBLANK('Data Input'!A191),\"\",SUM('Data Input'!C191:AK191))","v":""},{"$f":"IF(E186=\"\",\"\",E186/(COUNTA('Data Input'!$C$8:$AK$8)))","v":""},{"$f":"IF(ISBLANK('Data Input'!A191),\"\",SUM('Data Input'!C191,'Data Input'!D191,'Data Input'!J191,'Data Input'!X191))","v":""},{"$f":"IF(G186=\"\",\"\",G186/COUNTIF('Data Input'!$C$8:$AK$8,\"N\"))","v":""},{"$f":"IF(ISBLANK('Data Input'!A191),\"\",SUM('Data Input'!G191,'Data Input'!I191,'Data Input'!L191,'Data Input'!N191,'Data Input'!O191,'Data Input'!S191,'Data Input'!Z191,'Data Input'!AA191,'Data Input'!AB191,'Data Input'!AC191,'Data Input'!AE191,'Data Input'!AF191,'Data Input'!AG191,'Data Input'!AI191,'Data Input'!AK191))","v":""},{"$f":"IF(I186=\"\",\"\",I186/COUNTIF('Data Input'!$C$8:$AK$8,\"C\"))","v":""},{"$f":"IF(ISBLANK('Data Input'!A191),\"\",SUM('Data Input'!T191,'Data Input'!U191))","v":""},{"$f":"IF(K186=\"\",\"\",K186/COUNTIF('Data Input'!$C$8:$AK$8,\"S\"))","v":""},{"$f":"IF(ISBLANK('Data Input'!A191),\"\",SUM('Data Input'!F191,'Data Input'!R191,'Data Input'!AJ191))","v":""},{"$f":"IF(M186=\"\",\"\",M186/COUNTIF('Data Input'!$C$8:$AK$8,\"F\"))","v":""},{"$f":"IF(ISBLANK('Data Input'!A191),\"\",SUM('Data Input'!E191,'Data Input'!M191,'Data Input'!Q191,'Data Input'!V191,'Data Input'!W191,'Data Input'!AD191,'Data Input'!AH191))","v":""},{"$f":"IF(O186=\"\",\"\",O186/COUNTIF('Data Input'!$C$8:$AK$8,\"M\"))","v":""},{"$f":"IF(ISBLANK('Data Input'!A191),\"\",SUM('Data Input'!H191,'Data Input'!K191,'Data Input'!P191,'Data Input'!Y191))","v":""},{"$f":"IF(Q186=\"\",\"\",Q186/COUNTIF('Data Input'!$C$8:$AK$8,\"G\"))","v":""}]
[{"$f":"IF('Data Input'!A192=0,\"\",'Data Input'!A192)","v":""},{"$f":"IF(ISBLANK('Data Input'!A192),\"\",COUNTIF('Data Input'!C192:AK192,\"\"))","v":""},{"$f":"IF(ISBLANK('Data Input'!A192),\"\",COUNTIF('Data Input'!C192:AK192,\"0\"))","v":""},{"$f":"IF(ISBLANK('Data Input'!A192),\"\",SUM(B187,C187))","v":""},{"$f":"IF(ISBLANK('Data Input'!A192),\"\",SUM('Data Input'!C192:AK192))","v":""},{"$f":"IF(E187=\"\",\"\",E187/(COUNTA('Data Input'!$C$8:$AK$8)))","v":""},{"$f":"IF(ISBLANK('Data Input'!A192),\"\",SUM('Data Input'!C192,'Data Input'!D192,'Data Input'!J192,'Data Input'!X192))","v":""},{"$f":"IF(G187=\"\",\"\",G187/COUNTIF('Data Input'!$C$8:$AK$8,\"N\"))","v":""},{"$f":"IF(ISBLANK('Data Input'!A192),\"\",SUM('Data Input'!G192,'Data Input'!I192,'Data Input'!L192,'Data Input'!N192,'Data Input'!O192,'Data Input'!S192,'Data Input'!Z192,'Data Input'!AA192,'Data Input'!AB192,'Data Input'!AC192,'Data Input'!AE192,'Data Input'!AF192,'Data Input'!AG192,'Data Input'!AI192,'Data Input'!AK192))","v":""},{"$f":"IF(I187=\"\",\"\",I187/COUNTIF('Data Input'!$C$8:$AK$8,\"C\"))","v":""},{"$f":"IF(ISBLANK('Data Input'!A192),\"\",SUM('Data Input'!T192,'Data Input'!U192))","v":""},{"$f":"IF(K187=\"\",\"\",K187/COUNTIF('Data Input'!$C$8:$AK$8,\"S\"))","v":""},{"$f":"IF(ISBLANK('Data Input'!A192),\"\",SUM('Data Input'!F192,'Data Input'!R192,'Data Input'!AJ192))","v":""},{"$f":"IF(M187=\"\",\"\",M187/COUNTIF('Data Input'!$C$8:$AK$8,\"F\"))","v":""},{"$f":"IF(ISBLANK('Data Input'!A192),\"\",SUM('Data Input'!E192,'Data Input'!M192,'Data Input'!Q192,'Data Input'!V192,'Data Input'!W192,'Data Input'!AD192,'Data Input'!AH192))","v":""},{"$f":"IF(O187=\"\",\"\",O187/COUNTIF('Data Input'!$C$8:$AK$8,\"M\"))","v":""},{"$f":"IF(ISBLANK('Data Input'!A192),\"\",SUM('Data Input'!H192,'Data Input'!K192,'Data Input'!P192,'Data Input'!Y192))","v":""},{"$f":"IF(Q187=\"\",\"\",Q187/COUNTIF('Data Input'!$C$8:$AK$8,\"G\"))","v":""}]
[{"$f":"IF('Data Input'!A193=0,\"\",'Data Input'!A193)","v":""},{"$f":"IF(ISBLANK('Data Input'!A193),\"\",COUNTIF('Data Input'!C193:AK193,\"\"))","v":""},{"$f":"IF(ISBLANK('Data Input'!A193),\"\",COUNTIF('Data Input'!C193:AK193,\"0\"))","v":""},{"$f":"IF(ISBLANK('Data Input'!A193),\"\",SUM(B188,C188))","v":""},{"$f":"IF(ISBLANK('Data Input'!A193),\"\",SUM('Data Input'!C193:AK193))","v":""},{"$f":"IF(E188=\"\",\"\",E188/(COUNTA('Data Input'!$C$8:$AK$8)))","v":""},{"$f":"IF(ISBLANK('Data Input'!A193),\"\",SUM('Data Input'!C193,'Data Input'!D193,'Data Input'!J193,'Data Input'!X193))","v":""},{"$f":"IF(G188=\"\",\"\",G188/COUNTIF('Data Input'!$C$8:$AK$8,\"N\"))","v":""},{"$f":"IF(ISBLANK('Data Input'!A193),\"\",SUM('Data Input'!G193,'Data Input'!I193,'Data Input'!L193,'Data Input'!N193,'Data Input'!O193,'Data Input'!S193,'Data Input'!Z193,'Data Input'!AA193,'Data Input'!AB193,'Data Input'!AC193,'Data Input'!AE193,'Data Input'!AF193,'Data Input'!AG193,'Data Input'!AI193,'Data Input'!AK193))","v":""},{"$f":"IF(I188=\"\",\"\",I188/COUNTIF('Data Input'!$C$8:$AK$8,\"C\"))","v":""},{"$f":"IF(ISBLANK('Data Input'!A193),\"\",SUM('Data Input'!T193,'Data Input'!U193))","v":""},{"$f":"IF(K188=\"\",\"\",K188/COUNTIF('Data Input'!$C$8:$AK$8,\"S\"))","v":""},{"$f":"IF(ISBLANK('Data Input'!A193),\"\",SUM('Data Input'!F193,'Data Input'!R193,'Data Input'!AJ193))","v":""},{"$f":"IF(M188=\"\",\"\",M188/COUNTIF('Data Input'!$C$8:$AK$8,\"F\"))","v":""},{"$f":"IF(ISBLANK('Data Input'!A193),\"\",SUM('Data Input'!E193,'Data Input'!M193,'Data Input'!Q193,'Data Input'!V193,'Data Input'!W193,'Data Input'!AD193,'Data Input'!AH193))","v":""},{"$f":"IF(O188=\"\",\"\",O188/COUNTIF('Data Input'!$C$8:$AK$8,\"M\"))","v":""},{"$f":"IF(ISBLANK('Data Input'!A193),\"\",SUM('Data Input'!H193,'Data Input'!K193,'Data Input'!P193,'Data Input'!Y193))","v":""},{"$f":"IF(Q188=\"\",\"\",Q188/COUNTIF('Data Input'!$C$8:$AK$8,\"G\"))","v":""}]
[{"$f":"IF('Data Input'!A194=0,\"\",'Data Input'!A194)","v":""},{"$f":"IF(ISBLANK('Data Input'!A194),\"\",COUNTIF('Data Input'!C194:AK194,\"\"))","v":""},{"$f":"IF(ISBLANK('Data Input'!A194),\"\",COUNTIF('Data Input'!C194:AK194,\"0\"))","v":""},{"$f":"IF(ISBLANK('Data Input'!A194),\"\",SUM(B189,C189))","v":""},{"$f":"IF(ISBLANK('Data Input'!A194),\"\",SUM('Data Input'!C194:AK194))","v":""},{"$f":"IF(E189=\"\",\"\",E189/(COUNTA('Data Input'!$C$8:$AK$8)))","v":""},{"$f":"IF(ISBLANK('Data Input'!A194),\"\",SUM('Data Input'!C194,'Data Input'!D194,'Data Input'!J194,'Data Input'!X194))","v":""},{"$f":"IF(G189=\"\",\"\",G189/COUNTIF('Data Input'!$C$8:$AK$8,\"N\"))","v":""},{"$f":"IF(ISBLANK('Data Input'!A194),\"\",SUM('Data Input'!G194,'Data Input'!I194,'Data Input'!L194,'Data Input'!N194,'Data Input'!O194,'Data Input'!S194,'Data Input'!Z194,'Data Input'!AA194,'Data Input'!AB194,'Data Input'!AC194,'Data Input'!AE194,'Data Input'!AF194,'Data Input'!AG194,'Data Input'!AI194,'Data Input'!AK194))","v":""},{"$f":"IF(I189=\"\",\"\",I189/COUNTIF('Data Input'!$C$8:$AK$8,\"C\"))","v":""},{"$f":"IF(ISBLANK('Data Input'!A194),\"\",SUM('Data Input'!T194,'Data Input'!U194))","v":""},{"$f":"IF(K189=\"\",\"\",K189/COUNTIF('Data Input'!$C$8:$AK$8,\"S\"))","v":""},{"$f":"IF(ISBLANK('Data Input'!A194),\"\",SUM('Data Input'!F194,'Data Input'!R194,'Data Input'!AJ194))","v":""},{"$f":"IF(M189=\"\",\"\",M189/COUNTIF('Data Input'!$C$8:$AK$8,\"F\"))","v":""},{"$f":"IF(ISBLANK('Data Input'!A194),\"\",SUM('Data Input'!E194,'Data Input'!M194,'Data Input'!Q194,'Data Input'!V194,'Data Input'!W194,'Data Input'!AD194,'Data Input'!AH194))","v":""},{"$f":"IF(O189=\"\",\"\",O189/COUNTIF('Data Input'!$C$8:$AK$8,\"M\"))","v":""},{"$f":"IF(ISBLANK('Data Input'!A194),\"\",SUM('Data Input'!H194,'Data Input'!K194,'Data Input'!P194,'Data Input'!Y194))","v":""},{"$f":"IF(Q189=\"\",\"\",Q189/COUNTIF('Data Input'!$C$8:$AK$8,\"G\"))","v":""}]
[{"$f":"IF('Data Input'!A195=0,\"\",'Data Input'!A195)","v":""},{"$f":"IF(ISBLANK('Data Input'!A195),\"\",COUNTIF('Data Input'!C195:AK195,\"\"))","v":""},{"$f":"IF(ISBLANK('Data Input'!A195),\"\",COUNTIF('Data Input'!C195:AK195,\"0\"))","v":""},{"$f":"IF(ISBLANK('Data Input'!A195),\"\",SUM(B190,C190))","v":""},{"$f":"IF(ISBLANK('Data Input'!A195),\"\",SUM('Data Input'!C195:AK195))","v":""},{"$f":"IF(E190=\"\",\"\",E190/(COUNTA('Data Input'!$C$8:$AK$8)))","v":""},{"$f":"IF(ISBLANK('Data Input'!A195),\"\",SUM('Data Input'!C195,'Data Input'!D195,'Data Input'!J195,'Data Input'!X195))","v":""},{"$f":"IF(G190=\"\",\"\",G190/COUNTIF('Data Input'!$C$8:$AK$8,\"N\"))","v":""},{"$f":"IF(ISBLANK('Data Input'!A195),\"\",SUM('Data Input'!G195,'Data Input'!I195,'Data Input'!L195,'Data Input'!N195,'Data Input'!O195,'Data Input'!S195,'Data Input'!Z195,'Data Input'!AA195,'Data Input'!AB195,'Data Input'!AC195,'Data Input'!AE195,'Data Input'!AF195,'Data Input'!AG195,'Data Input'!AI195,'Data Input'!AK195))","v":""},{"$f":"IF(I190=\"\",\"\",I190/COUNTIF('Data Input'!$C$8:$AK$8,\"C\"))","v":""},{"$f":"IF(ISBLANK('Data Input'!A195),\"\",SUM('Data Input'!T195,'Data Input'!U195))","v":""},{"$f":"IF(K190=\"\",\"\",K190/COUNTIF('Data Input'!$C$8:$AK$8,\"S\"))","v":""},{"$f":"IF(ISBLANK('Data Input'!A195),\"\",SUM('Data Input'!F195,'Data Input'!R195,'Data Input'!AJ195))","v":""},{"$f":"IF(M190=\"\",\"\",M190/COUNTIF('Data Input'!$C$8:$AK$8,\"F\"))","v":""},{"$f":"IF(ISBLANK('Data Input'!A195),\"\",SUM('Data Input'!E195,'Data Input'!M195,'Data Input'!Q195,'Data Input'!V195,'Data Input'!W195,'Data Input'!AD195,'Data Input'!AH195))","v":""},{"$f":"IF(O190=\"\",\"\",O190/COUNTIF('Data Input'!$C$8:$AK$8,\"M\"))","v":""},{"$f":"IF(ISBLANK('Data Input'!A195),\"\",SUM('Data Input'!H195,'Data Input'!K195,'Data Input'!P195,'Data Input'!Y195))","v":""},{"$f":"IF(Q190=\"\",\"\",Q190/COUNTIF('Data Input'!$C$8:$AK$8,\"G\"))","v":""}]
[{"$f":"IF('Data Input'!A196=0,\"\",'Data Input'!A196)","v":""},{"$f":"IF(ISBLANK('Data Input'!A196),\"\",COUNTIF('Data Input'!C196:AK196,\"\"))","v":""},{"$f":"IF(ISBLANK('Data Input'!A196),\"\",COUNTIF('Data Input'!C196:AK196,\"0\"))","v":""},{"$f":"IF(ISBLANK('Data Input'!A196),\"\",SUM(B191,C191))","v":""},{"$f":"IF(ISBLANK('Data Input'!A196),\"\",SUM('Data Input'!C196:AK196))","v":""},{"$f":"IF(E191=\"\",\"\",E191/(COUNTA('Data Input'!$C$8:$AK$8)))","v":""},{"$f":"IF(ISBLANK('Data Input'!A196),\"\",SUM('Data Input'!C196,'Data Input'!D196,'Data Input'!J196,'Data Input'!X196))","v":""},{"$f":"IF(G191=\"\",\"\",G191/COUNTIF('Data Input'!$C$8:$AK$8,\"N\"))","v":""},{"$f":"IF(ISBLANK('Data Input'!A196),\"\",SUM('Data Input'!G196,'Data Input'!I196,'Data Input'!L196,'Data Input'!N196,'Data Input'!O196,'Data Input'!S196,'Data Input'!Z196,'Data Input'!AA196,'Data Input'!AB196,'Data Input'!AC196,'Data Input'!AE196,'Data Input'!AF196,'Data Input'!AG196,'Data Input'!AI196,'Data Input'!AK196))","v":""},{"$f":"IF(I191=\"\",\"\",I191/COUNTIF('Data Input'!$C$8:$AK$8,\"C\"))","v":""},{"$f":"IF(ISBLANK('Data Input'!A196),\"\",SUM('Data Input'!T196,'Data Input'!U196))","v":""},{"$f":"IF(K191=\"\",\"\",K191/COUNTIF('Data Input'!$C$8:$AK$8,\"S\"))","v":""},{"$f":"IF(ISBLANK('Data Input'!A196),\"\",SUM('Data Input'!F196,'Data Input'!R196,'Data Input'!AJ196))","v":""},{"$f":"IF(M191=\"\",\"\",M191/COUNTIF('Data Input'!$C$8:$AK$8,\"F\"))","v":""},{"$f":"IF(ISBLANK('Data Input'!A196),\"\",SUM('Data Input'!E196,'Data Input'!M196,'Data Input'!Q196,'Data Input'!V196,'Data Input'!W196,'Data Input'!AD196,'Data Input'!AH196))","v":""},{"$f":"IF(O191=\"\",\"\",O191/COUNTIF('Data Input'!$C$8:$AK$8,\"M\"))","v":""},{"$f":"IF(ISBLANK('Data Input'!A196),\"\",SUM('Data Input'!H196,'Data Input'!K196,'Data Input'!P196,'Data Input'!Y196))","v":""},{"$f":"IF(Q191=\"\",\"\",Q191/COUNTIF('Data Input'!$C$8:$AK$8,\"G\"))","v":""}]
[{"$f":"IF('Data Input'!A197=0,\"\",'Data Input'!A197)","v":""},{"$f":"IF(ISBLANK('Data Input'!A197),\"\",COUNTIF('Data Input'!C197:AK197,\"\"))","v":""},{"$f":"IF(ISBLANK('Data Input'!A197),\"\",COUNTIF('Data Input'!C197:AK197,\"0\"))","v":""},{"$f":"IF(ISBLANK('Data Input'!A197),\"\",SUM(B192,C192))","v":""},{"$f":"IF(ISBLANK('Data Input'!A197),\"\",SUM('Data Input'!C197:AK197))","v":""},{"$f":"IF(E192=\"\",\"\",E192/(COUNTA('Data Input'!$C$8:$AK$8)))","v":""},{"$f":"IF(ISBLANK('Data Input'!A197),\"\",SUM('Data Input'!C197,'Data Input'!D197,'Data Input'!J197,'Data Input'!X197))","v":""},{"$f":"IF(G192=\"\",\"\",G192/COUNTIF('Data Input'!$C$8:$AK$8,\"N\"))","v":""},{"$f":"IF(ISBLANK('Data Input'!A197),\"\",SUM('Data Input'!G197,'Data Input'!I197,'Data Input'!L197,'Data Input'!N197,'Data Input'!O197,'Data Input'!S197,'Data Input'!Z197,'Data Input'!AA197,'Data Input'!AB197,'Data Input'!AC197,'Data Input'!AE197,'Data Input'!AF197,'Data Input'!AG197,'Data Input'!AI197,'Data Input'!AK197))","v":""},{"$f":"IF(I192=\"\",\"\",I192/COUNTIF('Data Input'!$C$8:$AK$8,\"C\"))","v":""},{"$f":"IF(ISBLANK('Data Input'!A197),\"\",SUM('Data Input'!T197,'Data Input'!U197))","v":""},{"$f":"IF(K192=\"\",\"\",K192/COUNTIF('Data Input'!$C$8:$AK$8,\"S\"))","v":""},{"$f":"IF(ISBLANK('Data Input'!A197),\"\",SUM('Data Input'!F197,'Data Input'!R197,'Data Input'!AJ197))","v":""},{"$f":"IF(M192=\"\",\"\",M192/COUNTIF('Data Input'!$C$8:$AK$8,\"F\"))","v":""},{"$f":"IF(ISBLANK('Data Input'!A197),\"\",SUM('Data Input'!E197,'Data Input'!M197,'Data Input'!Q197,'Data Input'!V197,'Data Input'!W197,'Data Input'!AD197,'Data Input'!AH197))","v":""},{"$f":"IF(O192=\"\",\"\",O192/COUNTIF('Data Input'!$C$8:$AK$8,\"M\"))","v":""},{"$f":"IF(ISBLANK('Data Input'!A197),\"\",SUM('Data Input'!H197,'Data Input'!K197,'Data Input'!P197,'Data Input'!Y197))","v":""},{"$f":"IF(Q192=\"\",\"\",Q192/COUNTIF('Data Input'!$C$8:$AK$8,\"G\"))","v":""}]
[{"$f":"IF('Data Input'!A198=0,\"\",'Data Input'!A198)","v":""},{"$f":"IF(ISBLANK('Data Input'!A198),\"\",COUNTIF('Data Input'!C198:AK198,\"\"))","v":""},{"$f":"IF(ISBLANK('Data Input'!A198),\"\",COUNTIF('Data Input'!C198:AK198,\"0\"))","v":""},{"$f":"IF(ISBLANK('Data Input'!A198),\"\",SUM(B193,C193))","v":""},{"$f":"IF(ISBLANK('Data Input'!A198),\"\",SUM('Data Input'!C198:AK198))","v":""},{"$f":"IF(E193=\"\",\"\",E193/(COUNTA('Data Input'!$C$8:$AK$8)))","v":""},{"$f":"IF(ISBLANK('Data Input'!A198),\"\",SUM('Data Input'!C198,'Data Input'!D198,'Data Input'!J198,'Data Input'!X198))","v":""},{"$f":"IF(G193=\"\",\"\",G193/COUNTIF('Data Input'!$C$8:$AK$8,\"N\"))","v":""},{"$f":"IF(ISBLANK('Data Input'!A198),\"\",SUM('Data Input'!G198,'Data Input'!I198,'Data Input'!L198,'Data Input'!N198,'Data Input'!O198,'Data Input'!S198,'Data Input'!Z198,'Data Input'!AA198,'Data Input'!AB198,'Data Input'!AC198,'Data Input'!AE198,'Data Input'!AF198,'Data Input'!AG198,'Data Input'!AI198,'Data Input'!AK198))","v":""},{"$f":"IF(I193=\"\",\"\",I193/COUNTIF('Data Input'!$C$8:$AK$8,\"C\"))","v":""},{"$f":"IF(ISBLANK('Data Input'!A198),\"\",SUM('Data Input'!T198,'Data Input'!U198))","v":""},{"$f":"IF(K193=\"\",\"\",K193/COUNTIF('Data Input'!$C$8:$AK$8,\"S\"))","v":""},{"$f":"IF(ISBLANK('Data Input'!A198),\"\",SUM('Data Input'!F198,'Data Input'!R198,'Data Input'!AJ198))","v":""},{"$f":"IF(M193=\"\",\"\",M193/COUNTIF('Data Input'!$C$8:$AK$8,\"F\"))","v":""},{"$f":"IF(ISBLANK('Data Input'!A198),\"\",SUM('Data Input'!E198,'Data Input'!M198,'Data Input'!Q198,'Data Input'!V198,'Data Input'!W198,'Data Input'!AD198,'Data Input'!AH198))","v":""},{"$f":"IF(O193=\"\",\"\",O193/COUNTIF('Data Input'!$C$8:$AK$8,\"M\"))","v":""},{"$f":"IF(ISBLANK('Data Input'!A198),\"\",SUM('Data Input'!H198,'Data Input'!K198,'Data Input'!P198,'Data Input'!Y198))","v":""},{"$f":"IF(Q193=\"\",\"\",Q193/COUNTIF('Data Input'!$C$8:$AK$8,\"G\"))","v":""}]
[{"$f":"IF('Data Input'!A199=0,\"\",'Data Input'!A199)","v":""},{"$f":"IF(ISBLANK('Data Input'!A199),\"\",COUNTIF('Data Input'!C199:AK199,\"\"))","v":""},{"$f":"IF(ISBLANK('Data Input'!A199),\"\",COUNTIF('Data Input'!C199:AK199,\"0\"))","v":""},{"$f":"IF(ISBLANK('Data Input'!A199),\"\",SUM(B194,C194))","v":""},{"$f":"IF(ISBLANK('Data Input'!A199),\"\",SUM('Data Input'!C199:AK199))","v":""},{"$f":"IF(E194=\"\",\"\",E194/(COUNTA('Data Input'!$C$8:$AK$8)))","v":""},{"$f":"IF(ISBLANK('Data Input'!A199),\"\",SUM('Data Input'!C199,'Data Input'!D199,'Data Input'!J199,'Data Input'!X199))","v":""},{"$f":"IF(G194=\"\",\"\",G194/COUNTIF('Data Input'!$C$8:$AK$8,\"N\"))","v":""},{"$f":"IF(ISBLANK('Data Input'!A199),\"\",SUM('Data Input'!G199,'Data Input'!I199,'Data Input'!L199,'Data Input'!N199,'Data Input'!O199,'Data Input'!S199,'Data Input'!Z199,'Data Input'!AA199,'Data Input'!AB199,'Data Input'!AC199,'Data Input'!AE199,'Data Input'!AF199,'Data Input'!AG199,'Data Input'!AI199,'Data Input'!AK199))","v":""},{"$f":"IF(I194=\"\",\"\",I194/COUNTIF('Data Input'!$C$8:$AK$8,\"C\"))","v":""},{"$f":"IF(ISBLANK('Data Input'!A199),\"\",SUM('Data Input'!T199,'Data Input'!U199))","v":""},{"$f":"IF(K194=\"\",\"\",K194/COUNTIF('Data Input'!$C$8:$AK$8,\"S\"))","v":""},{"$f":"IF(ISBLANK('Data Input'!A199),\"\",SUM('Data Input'!F199,'Data Input'!R199,'Data Input'!AJ199))","v":""},{"$f":"IF(M194=\"\",\"\",M194/COUNTIF('Data Input'!$C$8:$AK$8,\"F\"))","v":""},{"$f":"IF(ISBLANK('Data Input'!A199),\"\",SUM('Data Input'!E199,'Data Input'!M199,'Data Input'!Q199,'Data Input'!V199,'Data Input'!W199,'Data Input'!AD199,'Data Input'!AH199))","v":""},{"$f":"IF(O194=\"\",\"\",O194/COUNTIF('Data Input'!$C$8:$AK$8,\"M\"))","v":""},{"$f":"IF(ISBLANK('Data Input'!A199),\"\",SUM('Data Input'!H199,'Data Input'!K199,'Data Input'!P199,'Data Input'!Y199))","v":""},{"$f":"IF(Q194=\"\",\"\",Q194/COUNTIF('Data Input'!$C$8:$AK$8,\"G\"))","v":""}]
[{"$f":"IF('Data Input'!A200=0,\"\",'Data Input'!A200)","v":""},{"$f":"IF(ISBLANK('Data Input'!A200),\"\",COUNTIF('Data Input'!C200:AK200,\"\"))","v":""},{"$f":"IF(ISBLANK('Data Input'!A200),\"\",COUNTIF('Data Input'!C200:AK200,\"0\"))","v":""},{"$f":"IF(ISBLANK('Data Input'!A200),\"\",SUM(B195,C195))","v":""},{"$f":"IF(ISBLANK('Data Input'!A200),\"\",SUM('Data Input'!C200:AK200))","v":""},{"$f":"IF(E195=\"\",\"\",E195/(COUNTA('Data Input'!$C$8:$AK$8)))","v":""},{"$f":"IF(ISBLANK('Data Input'!A200),\"\",SUM('Data Input'!C200,'Data Input'!D200,'Data Input'!J200,'Data Input'!X200))","v":""},{"$f":"IF(G195=\"\",\"\",G195/COUNTIF('Data Input'!$C$8:$AK$8,\"N\"))","v":""},{"$f":"IF(ISBLANK('Data Input'!A200),\"\",SUM('Data Input'!G200,'Data Input'!I200,'Data Input'!L200,'Data Input'!N200,'Data Input'!O200,'Data Input'!S200,'Data Input'!Z200,'Data Input'!AA200,'Data Input'!AB200,'Data Input'!AC200,'Data Input'!AE200,'Data Input'!AF200,'Data Input'!AG200,'Data Input'!AI200,'Data Input'!AK200))","v":""},{"$f":"IF(I195=\"\",\"\",I195/COUNTIF('Data Input'!$C$8:$AK$8,\"C\"))","v":""},{"$f":"IF(ISBLANK('Data Input'!A200),\"\",SUM('Data Input'!T200,'Data Input'!U200))","v":""},{"$f":"IF(K195=\"\",\"\",K195/COUNTIF('Data Input'!$C$8:$AK$8,\"S\"))","v":""},{"$f":"IF(ISBLANK('Data Input'!A200),\"\",SUM('Data Input'!F200,'Data Input'!R200,'Data Input'!AJ200))","v":""},{"$f":"IF(M195=\"\",\"\",M195/COUNTIF('Data Input'!$C$8:$AK$8,\"F\"))","v":""},{"$f":"IF(ISBLANK('Data Input'!A200),\"\",SUM('Data Input'!E200,'Data Input'!M200,'Data Input'!Q200,'Data Input'!V200,'Data Input'!W200,'Data Input'!AD200,'Data Input'!AH200))","v":""},{"$f":"IF(O195=\"\",\"\",O195/COUNTIF('Data Input'!$C$8:$AK$8,\"M\"))","v":""},{"$f":"IF(ISBLANK('Data Input'!A200),\"\",SUM('Data Input'!H200,'Data Input'!K200,'Data Input'!P200,'Data Input'!Y200))","v":""},{"$f":"IF(Q195=\"\",\"\",Q195/COUNTIF('Data Input'!$C$8:$AK$8,\"G\"))","v":""}]
[{"$f":"IF('Data Input'!A201=0,\"\",'Data Input'!A201)","v":""},{"$f":"IF(ISBLANK('Data Input'!A201),\"\",COUNTIF('Data Input'!C201:AK201,\"\"))","v":""},{"$f":"IF(ISBLANK('Data Input'!A201),\"\",COUNTIF('Data Input'!C201:AK201,\"0\"))","v":""},{"$f":"IF(ISBLANK('Data Input'!A201),\"\",SUM(B196,C196))","v":""},{"$f":"IF(ISBLANK('Data Input'!A201),\"\",SUM('Data Input'!C201:AK201))","v":""},{"$f":"IF(E196=\"\",\"\",E196/(COUNTA('Data Input'!$C$8:$AK$8)))","v":""},{"$f":"IF(ISBLANK('Data Input'!A201),\"\",SUM('Data Input'!C201,'Data Input'!D201,'Data Input'!J201,'Data Input'!X201))","v":""},{"$f":"IF(G196=\"\",\"\",G196/COUNTIF('Data Input'!$C$8:$AK$8,\"N\"))","v":""},{"$f":"IF(ISBLANK('Data Input'!A201),\"\",SUM('Data Input'!G201,'Data Input'!I201,'Data Input'!L201,'Data Input'!N201,'Data Input'!O201,'Data Input'!S201,'Data Input'!Z201,'Data Input'!AA201,'Data Input'!AB201,'Data Input'!AC201,'Data Input'!AE201,'Data Input'!AF201,'Data Input'!AG201,'Data Input'!AI201,'Data Input'!AK201))","v":""},{"$f":"IF(I196=\"\",\"\",I196/COUNTIF('Data Input'!$C$8:$AK$8,\"C\"))","v":""},{"$f":"IF(ISBLANK('Data Input'!A201),\"\",SUM('Data Input'!T201,'Data Input'!U201))","v":""},{"$f":"IF(K196=\"\",\"\",K196/COUNTIF('Data Input'!$C$8:$AK$8,\"S\"))","v":""},{"$f":"IF(ISBLANK('Data Input'!A201),\"\",SUM('Data Input'!F201,'Data Input'!R201,'Data Input'!AJ201))","v":""},{"$f":"IF(M196=\"\",\"\",M196/COUNTIF('Data Input'!$C$8:$AK$8,\"F\"))","v":""},{"$f":"IF(ISBLANK('Data Input'!A201),\"\",SUM('Data Input'!E201,'Data Input'!M201,'Data Input'!Q201,'Data Input'!V201,'Data Input'!W201,'Data Input'!AD201,'Data Input'!AH201))","v":""},{"$f":"IF(O196=\"\",\"\",O196/COUNTIF('Data Input'!$C$8:$AK$8,\"M\"))","v":""},{"$f":"IF(ISBLANK('Data Input'!A201),\"\",SUM('Data Input'!H201,'Data Input'!K201,'Data Input'!P201,'Data Input'!Y201))","v":""},{"$f":"IF(Q196=\"\",\"\",Q196/COUNTIF('Data Input'!$C$8:$AK$8,\"G\"))","v":""}]
[{"$f":"IF('Data Input'!A202=0,\"\",'Data Input'!A202)","v":""},{"$f":"IF(ISBLANK('Data Input'!A202),\"\",COUNTIF('Data Input'!C202:AK202,\"\"))","v":""},{"$f":"IF(ISBLANK('Data Input'!A202),\"\",COUNTIF('Data Input'!C202:AK202,\"0\"))","v":""},{"$f":"IF(ISBLANK('Data Input'!A202),\"\",SUM(B197,C197))","v":""},{"$f":"IF(ISBLANK('Data Input'!A202),\"\",SUM('Data Input'!C202:AK202))","v":""},{"$f":"IF(E197=\"\",\"\",E197/(COUNTA('Data Input'!$C$8:$AK$8)))","v":""},{"$f":"IF(ISBLANK('Data Input'!A202),\"\",SUM('Data Input'!C202,'Data Input'!D202,'Data Input'!J202,'Data Input'!X202))","v":""},{"$f":"IF(G197=\"\",\"\",G197/COUNTIF('Data Input'!$C$8:$AK$8,\"N\"))","v":""},{"$f":"IF(ISBLANK('Data Input'!A202),\"\",SUM('Data Input'!G202,'Data Input'!I202,'Data Input'!L202,'Data Input'!N202,'Data Input'!O202,'Data Input'!S202,'Data Input'!Z202,'Data Input'!AA202,'Data Input'!AB202,'Data Input'!AC202,'Data Input'!AE202,'Data Input'!AF202,'Data Input'!AG202,'Data Input'!AI202,'Data Input'!AK202))","v":""},{"$f":"IF(I197=\"\",\"\",I197/COUNTIF('Data Input'!$C$8:$AK$8,\"C\"))","v":""},{"$f":"IF(ISBLANK('Data Input'!A202),\"\",SUM('Data Input'!T202,'Data Input'!U202))","v":""},{"$f":"IF(K197=\"\",\"\",K197/COUNTIF('Data Input'!$C$8:$AK$8,\"S\"))","v":""},{"$f":"IF(ISBLANK('Data Input'!A202),\"\",SUM('Data Input'!F202,'Data Input'!R202,'Data Input'!AJ202))","v":""},{"$f":"IF(M197=\"\",\"\",M197/COUNTIF('Data Input'!$C$8:$AK$8,\"F\"))","v":""},{"$f":"IF(ISBLANK('Data Input'!A202),\"\",SUM('Data Input'!E202,'Data Input'!M202,'Data Input'!Q202,'Data Input'!V202,'Data Input'!W202,'Data Input'!AD202,'Data Input'!AH202))","v":""},{"$f":"IF(O197=\"\",\"\",O197/COUNTIF('Data Input'!$C$8:$AK$8,\"M\"))","v":""},{"$f":"IF(ISBLANK('Data Input'!A202),\"\",SUM('Data Input'!H202,'Data Input'!K202,'Data Input'!P202,'Data Input'!Y202))","v":""},{"$f":"IF(Q197=\"\",\"\",Q197/COUNTIF('Data Input'!$C$8:$AK$8,\"G\"))","v":""}]
[{"$f":"IF('Data Input'!A203=0,\"\",'Data Input'!A203)","v":""},{"$f":"IF(ISBLANK('Data Input'!A203),\"\",COUNTIF('Data Input'!C203:AK203,\"\"))","v":""},{"$f":"IF(ISBLANK('Data Input'!A203),\"\",COUNTIF('Data Input'!C203:AK203,\"0\"))","v":""},{"$f":"IF(ISBLANK('Data Input'!A203),\"\",SUM(B198,C198))","v":""},{"$f":"IF(ISBLANK('Data Input'!A203),\"\",SUM('Data Input'!C203:AK203))","v":""},{"$f":"IF(E198=\"\",\"\",E198/(COUNTA('Data Input'!$C$8:$AK$8)))","v":""},{"$f":"IF(ISBLANK('Data Input'!A203),\"\",SUM('Data Input'!C203,'Data Input'!D203,'Data Input'!J203,'Data Input'!X203))","v":""},{"$f":"IF(G198=\"\",\"\",G198/COUNTIF('Data Input'!$C$8:$AK$8,\"N\"))","v":""},{"$f":"IF(ISBLANK('Data Input'!A203),\"\",SUM('Data Input'!G203,'Data Input'!I203,'Data Input'!L203,'Data Input'!N203,'Data Input'!O203,'Data Input'!S203,'Data Input'!Z203,'Data Input'!AA203,'Data Input'!AB203,'Data Input'!AC203,'Data Input'!AE203,'Data Input'!AF203,'Data Input'!AG203,'Data Input'!AI203,'Data Input'!AK203))","v":""},{"$f":"IF(I198=\"\",\"\",I198/COUNTIF('Data Input'!$C$8:$AK$8,\"C\"))","v":""},{"$f":"IF(ISBLANK('Data Input'!A203),\"\",SUM('Data Input'!T203,'Data Input'!U203))","v":""},{"$f":"IF(K198=\"\",\"\",K198/COUNTIF('Data Input'!$C$8:$AK$8,\"S\"))","v":""},{"$f":"IF(ISBLANK('Data Input'!A203),\"\",SUM('Data Input'!F203,'Data Input'!R203,'Data Input'!AJ203))","v":""},{"$f":"IF(M198=\"\",\"\",M198/COUNTIF('Data Input'!$C$8:$AK$8,\"F\"))","v":""},{"$f":"IF(ISBLANK('Data Input'!A203),\"\",SUM('Data Input'!E203,'Data Input'!M203,'Data Input'!Q203,'Data Input'!V203,'Data Input'!W203,'Data Input'!AD203,'Data Input'!AH203))","v":""},{"$f":"IF(O198=\"\",\"\",O198/COUNTIF('Data Input'!$C$8:$AK$8,\"M\"))","v":""},{"$f":"IF(ISBLANK('Data Input'!A203),\"\",SUM('Data Input'!H203,'Data Input'!K203,'Data Input'!P203,'Data Input'!Y203))","v":""},{"$f":"IF(Q198=\"\",\"\",Q198/COUNTIF('Data Input'!$C$8:$AK$8,\"G\"))","v":""}]
[{"$f":"IF('Data Input'!A204=0,\"\",'Data Input'!A204)","v":""},{"$f":"IF(ISBLANK('Data Input'!A204),\"\",COUNTIF('Data Input'!C204:AK204,\"\"))","v":""},{"$f":"IF(ISBLANK('Data Input'!A204),\"\",COUNTIF('Data Input'!C204:AK204,\"0\"))","v":""},{"$f":"IF(ISBLANK('Data Input'!A204),\"\",SUM(B199,C199))","v":""},{"$f":"IF(ISBLANK('Data Input'!A204),\"\",SUM('Data Input'!C204:AK204))","v":""},{"$f":"IF(E199=\"\",\"\",E199/(COUNTA('Data Input'!$C$8:$AK$8)))","v":""},{"$f":"IF(ISBLANK('Data Input'!A204),\"\",SUM('Data Input'!C204,'Data Input'!D204,'Data Input'!J204,'Data Input'!X204))","v":""},{"$f":"IF(G199=\"\",\"\",G199/COUNTIF('Data Input'!$C$8:$AK$8,\"N\"))","v":""},{"$f":"IF(ISBLANK('Data Input'!A204),\"\",SUM('Data Input'!G204,'Data Input'!I204,'Data Input'!L204,'Data Input'!N204,'Data Input'!O204,'Data Input'!S204,'Data Input'!Z204,'Data Input'!AA204,'Data Input'!AB204,'Data Input'!AC204,'Data Input'!AE204,'Data Input'!AF204,'Data Input'!AG204,'Data Input'!AI204,'Data Input'!AK204))","v":""},{"$f":"IF(I199=\"\",\"\",I199/COUNTIF('Data Input'!$C$8:$AK$8,\"C\"))","v":""},{"$f":"IF(ISBLANK('Data Input'!A204),\"\",SUM('Data Input'!T204,'Data Input'!U204))","v":""},{"$f":"IF(K199=\"\",\"\",K199/COUNTIF('Data Input'!$C$8:$AK$8,\"S\"))","v":""},{"$f":"IF(ISBLANK('Data Input'!A204),\"\",SUM('Data Input'!F204,'Data Input'!R204,'Data Input'!AJ204))","v":""},{"$f":"IF(M199=\"\",\"\",M199/COUNTIF('Data Input'!$C$8:$AK$8,\"F\"))","v":""},{"$f":"IF(ISBLANK('Data Input'!A204),\"\",SUM('Data Input'!E204,'Data Input'!M204,'Data Input'!Q204,'Data Input'!V204,'Data Input'!W204,'Data Input'!AD204,'Data Input'!AH204))","v":""},{"$f":"IF(O199=\"\",\"\",O199/COUNTIF('Data Input'!$C$8:$AK$8,\"M\"))","v":""},{"$f":"IF(ISBLANK('Data Input'!A204),\"\",SUM('Data Input'!H204,'Data Input'!K204,'Data Input'!P204,'Data Input'!Y204))","v":""},{"$f":"IF(Q199=\"\",\"\",Q199/COUNTIF('Data Input'!$C$8:$AK$8,\"G\"))","v":""}]
[{"$f":"IF('Data Input'!A205=0,\"\",'Data Input'!A205)","v":""},{"$f":"IF(ISBLANK('Data Input'!A205),\"\",COUNTIF('Data Input'!C205:AK205,\"\"))","v":""},{"$f":"IF(ISBLANK('Data Input'!A205),\"\",COUNTIF('Data Input'!C205:AK205,\"0\"))","v":""},{"$f":"IF(ISBLANK('Data Input'!A205),\"\",SUM(B200,C200))","v":""},{"$f":"IF(ISBLANK('Data Input'!A205),\"\",SUM('Data Input'!C205:AK205))","v":""},{"$f":"IF(E200=\"\",\"\",E200/(COUNTA('Data Input'!$C$8:$AK$8)))","v":""},{"$f":"IF(ISBLANK('Data Input'!A205),\"\",SUM('Data Input'!C205,'Data Input'!D205,'Data Input'!J205,'Data Input'!X205))","v":""},{"$f":"IF(G200=\"\",\"\",G200/COUNTIF('Data Input'!$C$8:$AK$8,\"N\"))","v":""},{"$f":"IF(ISBLANK('Data Input'!A205),\"\",SUM('Data Input'!G205,'Data Input'!I205,'Data Input'!L205,'Data Input'!N205,'Data Input'!O205,'Data Input'!S205,'Data Input'!Z205,'Data Input'!AA205,'Data Input'!AB205,'Data Input'!AC205,'Data Input'!AE205,'Data Input'!AF205,'Data Input'!AG205,'Data Input'!AI205,'Data Input'!AK205))","v":""},{"$f":"IF(I200=\"\",\"\",I200/COUNTIF('Data Input'!$C$8:$AK$8,\"C\"))","v":""},{"$f":"IF(ISBLANK('Data Input'!A205),\"\",SUM('Data Input'!T205,'Data Input'!U205))","v":""},{"$f":"IF(K200=\"\",\"\",K200/COUNTIF('Data Input'!$C$8:$AK$8,\"S\"))","v":""},{"$f":"IF(ISBLANK('Data Input'!A205),\"\",SUM('Data Input'!F205,'Data Input'!R205,'Data Input'!AJ205))","v":""},{"$f":"IF(M200=\"\",\"\",M200/COUNTIF('Data Input'!$C$8:$AK$8,\"F\"))","v":""},{"$f":"IF(ISBLANK('Data Input'!A205),\"\",SUM('Data Input'!E205,'Data Input'!M205,'Data Input'!Q205,'Data Input'!V205,'Data Input'!W205,'Data Input'!AD205,'Data Input'!AH205))","v":""},{"$f":"IF(O200=\"\",\"\",O200/COUNTIF('Data Input'!$C$8:$AK$8,\"M\"))","v":""},{"$f":"IF(ISBLANK('Data Input'!A205),\"\",SUM('Data Input'!H205,'Data Input'!K205,'Data Input'!P205,'Data Input'!Y205))","v":""},{"$f":"IF(Q200=\"\",\"\",Q200/COUNTIF('Data Input'!$C$8:$AK$8,\"G\"))","v":""}]
[{"$f":"IF('Data Input'!A206=0,\"\",'Data Input'!A206)","v":""},{"$f":"IF(ISBLANK('Data Input'!A206),\"\",COUNTIF('Data Input'!C206:AK206,\"\"))","v":""},{"$f":"IF(ISBLANK('Data Input'!A206),\"\",COUNTIF('Data Input'!C206:AK206,\"0\"))","v":""},{"$f":"IF(ISBLANK('Data Input'!A206),\"\",SUM(B201,C201))","v":""},{"$f":"IF(ISBLANK('Data Input'!A206),\"\",SUM('Data Input'!C206:AK206))","v":""},{"$f":"IF(E201=\"\",\"\",E201/(COUNTA('Data Input'!$C$8:$AK$8)))","v":""},{"$f":"IF(ISBLANK('Data Input'!A206),\"\",SUM('Data Input'!C206,'Data Input'!D206,'Data Input'!J206,'Data Input'!X206))","v":""},{"$f":"IF(G201=\"\",\"\",G201/COUNTIF('Data Input'!$C$8:$AK$8,\"N\"))","v":""},{"$f":"IF(ISBLANK('Data Input'!A206),\"\",SUM('Data Input'!G206,'Data Input'!I206,'Data Input'!L206,'Data Input'!N206,'Data Input'!O206,'Data Input'!S206,'Data Input'!Z206,'Data Input'!AA206,'Data Input'!AB206,'Data Input'!AC206,'Data Input'!AE206,'Data Input'!AF206,'Data Input'!AG206,'Data Input'!AI206,'Data Input'!AK206))","v":""},{"$f":"IF(I201=\"\",\"\",I201/COUNTIF('Data Input'!$C$8:$AK$8,\"C\"))","v":""},{"$f":"IF(ISBLANK('Data Input'!A206),\"\",SUM('Data Input'!T206,'Data Input'!U206))","v":""},{"$f":"IF(K201=\"\",\"\",K201/COUNTIF('Data Input'!$C$8:$AK$8,\"S\"))","v":""},{"$f":"IF(ISBLANK('Data Input'!A206),\"\",SUM('Data Input'!F206,'Data Input'!R206,'Data Input'!AJ206))","v":""},{"$f":"IF(M201=\"\",\"\",M201/COUNTIF('Data Input'!$C$8:$AK$8,\"F\"))","v":""},{"$f":"IF(ISBLANK('Data Input'!A206),\"\",SUM('Data Input'!E206,'Data Input'!M206,'Data Input'!Q206,'Data Input'!V206,'Data Input'!W206,'Data Input'!AD206,'Data Input'!AH206))","v":""},{"$f":"IF(O201=\"\",\"\",O201/COUNTIF('Data Input'!$C$8:$AK$8,\"M\"))","v":""},{"$f":"IF(ISBLANK('Data Input'!A206),\"\",SUM('Data Input'!H206,'Data Input'!K206,'Data Input'!P206,'Data Input'!Y206))","v":""},{"$f":"IF(Q201=\"\",\"\",Q201/COUNTIF('Data Input'!$C$8:$AK$8,\"G\"))","v":""}]
[{"$f":"IF('Data Input'!A207=0,\"\",'Data Input'!A207)","v":""},{"$f":"IF(ISBLANK('Data Input'!A207),\"\",COUNTIF('Data Input'!C207:AK207,\"\"))","v":""},{"$f":"IF(ISBLANK('Data Input'!A207),\"\",COUNTIF('Data Input'!C207:AK207,\"0\"))","v":""},{"$f":"IF(ISBLANK('Data Input'!A207),\"\",SUM(B202,C202))","v":""},{"$f":"IF(ISBLANK('Data Input'!A207),\"\",SUM('Data Input'!C207:AK207))","v":""},{"$f":"IF(E202=\"\",\"\",E202/(COUNTA('Data Input'!$C$8:$AK$8)))","v":""},{"$f":"IF(ISBLANK('Data Input'!A207),\"\",SUM('Data Input'!C207,'Data Input'!D207,'Data Input'!J207,'Data Input'!X207))","v":""},{"$f":"IF(G202=\"\",\"\",G202/COUNTIF('Data Input'!$C$8:$AK$8,\"N\"))","v":""},{"$f":"IF(ISBLANK('Data Input'!A207),\"\",SUM('Data Input'!G207,'Data Input'!I207,'Data Input'!L207,'Data Input'!N207,'Data Input'!O207,'Data Input'!S207,'Data Input'!Z207,'Data Input'!AA207,'Data Input'!AB207,'Data Input'!AC207,'Data Input'!AE207,'Data Input'!AF207,'Data Input'!AG207,'Data Input'!AI207,'Data Input'!AK207))","v":""},{"$f":"IF(I202=\"\",\"\",I202/COUNTIF('Data Input'!$C$8:$AK$8,\"C\"))","v":""},{"$f":"IF(ISBLANK('Data Input'!A207),\"\",SUM('Data Input'!T207,'Data Input'!U207))","v":""},{"$f":"IF(K202=\"\",\"\",K202/COUNTIF('Data Input'!$C$8:$AK$8,\"S\"))","v":""},{"$f":"IF(ISBLANK('Data Input'!A207),\"\",SUM('Data Input'!F207,'Data Input'!R207,'Data Input'!AJ207))","v":""},{"$f":"IF(M202=\"\",\"\",M202/COUNTIF('Data Input'!$C$8:$AK$8,\"F\"))","v":""},{"$f":"IF(ISBLANK('Data Input'!A207),\"\",SUM('Data Input'!E207,'Data Input'!M207,'Data Input'!Q207,'Data Input'!V207,'Data Input'!W207,'Data Input'!AD207,'Data Input'!AH207))","v":""},{"$f":"IF(O202=\"\",\"\",O202/COUNTIF('Data Input'!$C$8:$AK$8,\"M\"))","v":""},{"$f":"IF(ISBLANK('Data Input'!A207),\"\",SUM('Data Input'!H207,'Data Input'!K207,'Data Input'!P207,'Data Input'!Y207))","v":""},{"$f":"IF(Q202=\"\",\"\",Q202/COUNTIF('Data Input'!$C$8:$AK$8,\"G\"))","v":""}]
[{"$f":"IF('Data Input'!A208=0,\"\",'Data Input'!A208)","v":""},{"$f":"IF(ISBLANK('Data Input'!A208),\"\",COUNTIF('Data Input'!C208:AK208,\"\"))","v":""},{"$f":"IF(ISBLANK('Data Input'!A208),\"\",COUNTIF('Data Input'!C208:AK208,\"0\"))","v":""},{"$f":"IF(ISBLANK('Data Input'!A208),\"\",SUM(B203,C203))","v":""},{"$f":"IF(ISBLANK('Data Input'!A208),\"\",SUM('Data Input'!C208:AK208))","v":""},{"$f":"IF(E203=\"\",\"\",E203/(COUNTA('Data Input'!$C$8:$AK$8)))","v":""},{"$f":"IF(ISBLANK('Data Input'!A208),\"\",SUM('Data Input'!C208,'Data Input'!D208,'Data Input'!J208,'Data Input'!X208))","v":""},{"$f":"IF(G203=\"\",\"\",G203/COUNTIF('Data Input'!$C$8:$AK$8,\"N\"))","v":""},{"$f":"IF(ISBLANK('Data Input'!A208),\"\",SUM('Data Input'!G208,'Data Input'!I208,'Data Input'!L208,'Data Input'!N208,'Data Input'!O208,'Data Input'!S208,'Data Input'!Z208,'Data Input'!AA208,'Data Input'!AB208,'Data Input'!AC208,'Data Input'!AE208,'Data Input'!AF208,'Data Input'!AG208,'Data Input'!AI208,'Data Input'!AK208))","v":""},{"$f":"IF(I203=\"\",\"\",I203/COUNTIF('Data Input'!$C$8:$AK$8,\"C\"))","v":""},{"$f":"IF(ISBLANK('Data Input'!A208),\"\",SUM('Data Input'!T208,'Data Input'!U208))","v":""},{"$f":"IF(K203=\"\",\"\",K203/COUNTIF('Data Input'!$C$8:$AK$8,\"S\"))","v":""},{"$f":"IF(ISBLANK('Data Input'!A208),\"\",SUM('Data Input'!F208,'Data Input'!R208,'Data Input'!AJ208))","v":""},{"$f":"IF(M203=\"\",\"\",M203/COUNTIF('Data Input'!$C$8:$AK$8,\"F\"))","v":""},{"$f":"IF(ISBLANK('Data Input'!A208),\"\",SUM('Data Input'!E208,'Data Input'!M208,'Data Input'!Q208,'Data Input'!V208,'Data Input'!W208,'Data Input'!AD208,'Data Input'!AH208))","v":""},{"$f":"IF(O203=\"\",\"\",O203/COUNTIF('Data Input'!$C$8:$AK$8,\"M\"))","v":""},{"$f":"IF(ISBLANK('Data Input'!A208),\"\",SUM('Data Input'!H208,'Data Input'!K208,'Data Input'!P208,'Data Input'!Y208))","v":""},{"$f":"IF(Q203=\"\",\"\",Q203/COUNTIF('Data Input'!$C$8:$AK$8,\"G\"))","v":""}]
[{"$f":"IF('Data Input'!A209=0,\"\",'Data Input'!A209)","v":""},{"$f":"IF(ISBLANK('Data Input'!A209),\"\",COUNTIF('Data Input'!C209:AK209,\"\"))","v":""},{"$f":"IF(ISBLANK('Data Input'!A209),\"\",COUNTIF('Data Input'!C209:AK209,\"0\"))","v":""},{"$f":"IF(ISBLANK('Data Input'!A209),\"\",SUM(B204,C204))","v":""},{"$f":"IF(ISBLANK('Data Input'!A209),\"\",SUM('Data Input'!C209:AK209))","v":""},{"$f":"IF(E204=\"\",\"\",E204/(COUNTA('Data Input'!$C$8:$AK$8)))","v":""},{"$f":"IF(ISBLANK('Data Input'!A209),\"\",SUM('Data Input'!C209,'Data Input'!D209,'Data Input'!J209,'Data Input'!X209))","v":""},{"$f":"IF(G204=\"\",\"\",G204/COUNTIF('Data Input'!$C$8:$AK$8,\"N\"))","v":""},{"$f":"IF(ISBLANK('Data Input'!A209),\"\",SUM('Data Input'!G209,'Data Input'!I209,'Data Input'!L209,'Data Input'!N209,'Data Input'!O209,'Data Input'!S209,'Data Input'!Z209,'Data Input'!AA209,'Data Input'!AB209,'Data Input'!AC209,'Data Input'!AE209,'Data Input'!AF209,'Data Input'!AG209,'Data Input'!AI209,'Data Input'!AK209))","v":""},{"$f":"IF(I204=\"\",\"\",I204/COUNTIF('Data Input'!$C$8:$AK$8,\"C\"))","v":""},{"$f":"IF(ISBLANK('Data Input'!A209),\"\",SUM('Data Input'!T209,'Data Input'!U209))","v":""},{"$f":"IF(K204=\"\",\"\",K204/COUNTIF('Data Input'!$C$8:$AK$8,\"S\"))","v":""},{"$f":"IF(ISBLANK('Data Input'!A209),\"\",SUM('Data Input'!F209,'Data Input'!R209,'Data Input'!AJ209))","v":""},{"$f":"IF(M204=\"\",\"\",M204/COUNTIF('Data Input'!$C$8:$AK$8,\"F\"))","v":""},{"$f":"IF(ISBLANK('Data Input'!A209),\"\",SUM('Data Input'!E209,'Data Input'!M209,'Data Input'!Q209,'Data Input'!V209,'Data Input'!W209,'Data Input'!AD209,'Data Input'!AH209))","v":""},{"$f":"IF(O204=\"\",\"\",O204/COUNTIF('Data Input'!$C$8:$AK$8,\"M\"))","v":""},{"$f":"IF(ISBLANK('Data Input'!A209),\"\",SUM('Data Input'!H209,'Data Input'!K209,'Data Input'!P209,'Data Input'!Y209))","v":""},{"$f":"IF(Q204=\"\",\"\",Q204/COUNTIF('Data Input'!$C$8:$AK$8,\"G\"))","v":""}]
[{"$f":"IF('Data Input'!A210=0,\"\",'Data Input'!A210)","v":""},{"$f":"IF(ISBLANK('Data Input'!A210),\"\",COUNTIF('Data Input'!C210:AK210,\"\"))","v":""},{"$f":"IF(ISBLANK('Data Input'!A210),\"\",COUNTIF('Data Input'!C210:AK210,\"0\"))","v":""},{"$f":"IF(ISBLANK('Data Input'!A210),\"\",SUM(B205,C205))","v":""},{"$f":"IF(ISBLANK('Data Input'!A210),\"\",SUM('Data Input'!C210:AK210))","v":""},{"$f":"IF(E205=\"\",\"\",E205/(COUNTA('Data Input'!$C$8:$AK$8)))","v":""},{"$f":"IF(ISBLANK('Data Input'!A210),\"\",SUM('Data Input'!C210,'Data Input'!D210,'Data Input'!J210,'Data Input'!X210))","v":""},{"$f":"IF(G205=\"\",\"\",G205/COUNTIF('Data Input'!$C$8:$AK$8,\"N\"))","v":""},{"$f":"IF(ISBLANK('Data Input'!A210),\"\",SUM('Data Input'!G210,'Data Input'!I210,'Data Input'!L210,'Data Input'!N210,'Data Input'!O210,'Data Input'!S210,'Data Input'!Z210,'Data Input'!AA210,'Data Input'!AB210,'Data Input'!AC210,'Data Input'!AE210,'Data Input'!AF210,'Data Input'!AG210,'Data Input'!AI210,'Data Input'!AK210))","v":""},{"$f":"IF(I205=\"\",\"\",I205/COUNTIF('Data Input'!$C$8:$AK$8,\"C\"))","v":""},{"$f":"IF(ISBLANK('Data Input'!A210),\"\",SUM('Data Input'!T210,'Data Input'!U210))","v":""},{"$f":"IF(K205=\"\",\"\",K205/COUNTIF('Data Input'!$C$8:$AK$8,\"S\"))","v":""},{"$f":"IF(ISBLANK('Data Input'!A210),\"\",SUM('Data Input'!F210,'Data Input'!R210,'Data Input'!AJ210))","v":""},{"$f":"IF(M205=\"\",\"\",M205/COUNTIF('Data Input'!$C$8:$AK$8,\"F\"))","v":""},{"$f":"IF(ISBLANK('Data Input'!A210),\"\",SUM('Data Input'!E210,'Data Input'!M210,'Data Input'!Q210,'Data Input'!V210,'Data Input'!W210,'Data Input'!AD210,'Data Input'!AH210))","v":""},{"$f":"IF(O205=\"\",\"\",O205/COUNTIF('Data Input'!$C$8:$AK$8,\"M\"))","v":""},{"$f":"IF(ISBLANK('Data Input'!A210),\"\",SUM('Data Input'!H210,'Data Input'!K210,'Data Input'!P210,'Data Input'!Y210))","v":""},{"$f":"IF(Q205=\"\",\"\",Q205/COUNTIF('Data Input'!$C$8:$AK$8,\"G\"))","v":""}]
[{"$f":"IF('Data Input'!A211=0,\"\",'Data Input'!A211)","v":""},{"$f":"IF(ISBLANK('Data Input'!A211),\"\",COUNTIF('Data Input'!C211:AK211,\"\"))","v":""},{"$f":"IF(ISBLANK('Data Input'!A211),\"\",COUNTIF('Data Input'!C211:AK211,\"0\"))","v":""},{"$f":"IF(ISBLANK('Data Input'!A211),\"\",SUM(B206,C206))","v":""},{"$f":"IF(ISBLANK('Data Input'!A211),\"\",SUM('Data Input'!C211:AK211))","v":""},{"$f":"IF(E206=\"\",\"\",E206/(COUNTA('Data Input'!$C$8:$AK$8)))","v":""},{"$f":"IF(ISBLANK('Data Input'!A211),\"\",SUM('Data Input'!C211,'Data Input'!D211,'Data Input'!J211,'Data Input'!X211))","v":""},{"$f":"IF(G206=\"\",\"\",G206/COUNTIF('Data Input'!$C$8:$AK$8,\"N\"))","v":""},{"$f":"IF(ISBLANK('Data Input'!A211),\"\",SUM('Data Input'!G211,'Data Input'!I211,'Data Input'!L211,'Data Input'!N211,'Data Input'!O211,'Data Input'!S211,'Data Input'!Z211,'Data Input'!AA211,'Data Input'!AB211,'Data Input'!AC211,'Data Input'!AE211,'Data Input'!AF211,'Data Input'!AG211,'Data Input'!AI211,'Data Input'!AK211))","v":""},{"$f":"IF(I206=\"\",\"\",I206/COUNTIF('Data Input'!$C$8:$AK$8,\"C\"))","v":""},{"$f":"IF(ISBLANK('Data Input'!A211),\"\",SUM('Data Input'!T211,'Data Input'!U211))","v":""},{"$f":"IF(K206=\"\",\"\",K206/COUNTIF('Data Input'!$C$8:$AK$8,\"S\"))","v":""},{"$f":"IF(ISBLANK('Data Input'!A211),\"\",SUM('Data Input'!F211,'Data Input'!R211,'Data Input'!AJ211))","v":""},{"$f":"IF(M206=\"\",\"\",M206/COUNTIF('Data Input'!$C$8:$AK$8,\"F\"))","v":""},{"$f":"IF(ISBLANK('Data Input'!A211),\"\",SUM('Data Input'!E211,'Data Input'!M211,'Data Input'!Q211,'Data Input'!V211,'Data Input'!W211,'Data Input'!AD211,'Data Input'!AH211))","v":""},{"$f":"IF(O206=\"\",\"\",O206/COUNTIF('Data Input'!$C$8:$AK$8,\"M\"))","v":""},{"$f":"IF(ISBLANK('Data Input'!A211),\"\",SUM('Data Input'!H211,'Data Input'!K211,'Data Input'!P211,'Data Input'!Y211))","v":""},{"$f":"IF(Q206=\"\",\"\",Q206/COUNTIF('Data Input'!$C$8:$AK$8,\"G\"))","v":""}]
[{"$f":"IF('Data Input'!A212=0,\"\",'Data Input'!A212)","v":""},{"$f":"IF(ISBLANK('Data Input'!A212),\"\",COUNTIF('Data Input'!C212:AK212,\"\"))","v":""},{"$f":"IF(ISBLANK('Data Input'!A212),\"\",COUNTIF('Data Input'!C212:AK212,\"0\"))","v":""},{"$f":"IF(ISBLANK('Data Input'!A212),\"\",SUM(B207,C207))","v":""},{"$f":"IF(ISBLANK('Data Input'!A212),\"\",SUM('Data Input'!C212:AK212))","v":""},{"$f":"IF(E207=\"\",\"\",E207/(COUNTA('Data Input'!$C$8:$AK$8)))","v":""},{"$f":"IF(ISBLANK('Data Input'!A212),\"\",SUM('Data Input'!C212,'Data Input'!D212,'Data Input'!J212,'Data Input'!X212))","v":""},{"$f":"IF(G207=\"\",\"\",G207/COUNTIF('Data Input'!$C$8:$AK$8,\"N\"))","v":""},{"$f":"IF(ISBLANK('Data Input'!A212),\"\",SUM('Data Input'!G212,'Data Input'!I212,'Data Input'!L212,'Data Input'!N212,'Data Input'!O212,'Data Input'!S212,'Data Input'!Z212,'Data Input'!AA212,'Data Input'!AB212,'Data Input'!AC212,'Data Input'!AE212,'Data Input'!AF212,'Data Input'!AG212,'Data Input'!AI212,'Data Input'!AK212))","v":""},{"$f":"IF(I207=\"\",\"\",I207/COUNTIF('Data Input'!$C$8:$AK$8,\"C\"))","v":""},{"$f":"IF(ISBLANK('Data Input'!A212),\"\",SUM('Data Input'!T212,'Data Input'!U212))","v":""},{"$f":"IF(K207=\"\",\"\",K207/COUNTIF('Data Input'!$C$8:$AK$8,\"S\"))","v":""},{"$f":"IF(ISBLANK('Data Input'!A212),\"\",SUM('Data Input'!F212,'Data Input'!R212,'Data Input'!AJ212))","v":""},{"$f":"IF(M207=\"\",\"\",M207/COUNTIF('Data Input'!$C$8:$AK$8,\"F\"))","v":""},{"$f":"IF(ISBLANK('Data Input'!A212),\"\",SUM('Data Input'!E212,'Data Input'!M212,'Data Input'!Q212,'Data Input'!V212,'Data Input'!W212,'Data Input'!AD212,'Data Input'!AH212))","v":""},{"$f":"IF(O207=\"\",\"\",O207/COUNTIF('Data Input'!$C$8:$AK$8,\"M\"))","v":""},{"$f":"IF(ISBLANK('Data Input'!A212),\"\",SUM('Data Input'!H212,'Data Input'!K212,'Data Input'!P212,'Data Input'!Y212))","v":""},{"$f":"IF(Q207=\"\",\"\",Q207/COUNTIF('Data Input'!$C$8:$AK$8,\"G\"))","v":""}]
[{"$f":"IF('Data Input'!A213=0,\"\",'Data Input'!A213)","v":""},{"$f":"IF(ISBLANK('Data Input'!A213),\"\",COUNTIF('Data Input'!C213:AK213,\"\"))","v":""},{"$f":"IF(ISBLANK('Data Input'!A213),\"\",COUNTIF('Data Input'!C213:AK213,\"0\"))","v":""},{"$f":"IF(ISBLANK('Data Input'!A213),\"\",SUM(B208,C208))","v":""},{"$f":"IF(ISBLANK('Data Input'!A213),\"\",SUM('Data Input'!C213:AK213))","v":""},{"$f":"IF(E208=\"\",\"\",E208/(COUNTA('Data Input'!$C$8:$AK$8)))","v":""},{"$f":"IF(ISBLANK('Data Input'!A213),\"\",SUM('Data Input'!C213,'Data Input'!D213,'Data Input'!J213,'Data Input'!X213))","v":""},{"$f":"IF(G208=\"\",\"\",G208/COUNTIF('Data Input'!$C$8:$AK$8,\"N\"))","v":""},{"$f":"IF(ISBLANK('Data Input'!A213),\"\",SUM('Data Input'!G213,'Data Input'!I213,'Data Input'!L213,'Data Input'!N213,'Data Input'!O213,'Data Input'!S213,'Data Input'!Z213,'Data Input'!AA213,'Data Input'!AB213,'Data Input'!AC213,'Data Input'!AE213,'Data Input'!AF213,'Data Input'!AG213,'Data Input'!AI213,'Data Input'!AK213))","v":""},{"$f":"IF(I208=\"\",\"\",I208/COUNTIF('Data Input'!$C$8:$AK$8,\"C\"))","v":""},{"$f":"IF(ISBLANK('Data Input'!A213),\"\",SUM('Data Input'!T213,'Data Input'!U213))","v":""},{"$f":"IF(K208=\"\",\"\",K208/COUNTIF('Data Input'!$C$8:$AK$8,\"S\"))","v":""},{"$f":"IF(ISBLANK('Data Input'!A213),\"\",SUM('Data Input'!F213,'Data Input'!R213,'Data Input'!AJ213))","v":""},{"$f":"IF(M208=\"\",\"\",M208/COUNTIF('Data Input'!$C$8:$AK$8,\"F\"))","v":""},{"$f":"IF(ISBLANK('Data Input'!A213),\"\",SUM('Data Input'!E213,'Data Input'!M213,'Data Input'!Q213,'Data Input'!V213,'Data Input'!W213,'Data Input'!AD213,'Data Input'!AH213))","v":""},{"$f":"IF(O208=\"\",\"\",O208/COUNTIF('Data Input'!$C$8:$AK$8,\"M\"))","v":""},{"$f":"IF(ISBLANK('Data Input'!A213),\"\",SUM('Data Input'!H213,'Data Input'!K213,'Data Input'!P213,'Data Input'!Y213))","v":""},{"$f":"IF(Q208=\"\",\"\",Q208/COUNTIF('Data Input'!$C$8:$AK$8,\"G\"))","v":""}]
[{"$f":"IF('Data Input'!A214=0,\"\",'Data Input'!A214)","v":""},{"$f":"IF(ISBLANK('Data Input'!A214),\"\",COUNTIF('Data Input'!C214:AK214,\"\"))","v":""},{"$f":"IF(ISBLANK('Data Input'!A214),\"\",COUNTIF('Data Input'!C214:AK214,\"0\"))","v":""},{"$f":"IF(ISBLANK('Data Input'!A214),\"\",SUM(B209,C209))","v":""},{"$f":"IF(ISBLANK('Data Input'!A214),\"\",SUM('Data Input'!C214:AK214))","v":""},{"$f":"IF(E209=\"\",\"\",E209/(COUNTA('Data Input'!$C$8:$AK$8)))","v":""},{"$f":"IF(ISBLANK('Data Input'!A214),\"\",SUM('Data Input'!C214,'Data Input'!D214,'Data Input'!J214,'Data Input'!X214))","v":""},{"$f":"IF(G209=\"\",\"\",G209/COUNTIF('Data Input'!$C$8:$AK$8,\"N\"))","v":""},{"$f":"IF(ISBLANK('Data Input'!A214),\"\",SUM('Data Input'!G214,'Data Input'!I214,'Data Input'!L214,'Data Input'!N214,'Data Input'!O214,'Data Input'!S214,'Data Input'!Z214,'Data Input'!AA214,'Data Input'!AB214,'Data Input'!AC214,'Data Input'!AE214,'Data Input'!AF214,'Data Input'!AG214,'Data Input'!AI214,'Data Input'!AK214))","v":""},{"$f":"IF(I209=\"\",\"\",I209/COUNTIF('Data Input'!$C$8:$AK$8,\"C\"))","v":""},{"$f":"IF(ISBLANK('Data Input'!A214),\"\",SUM('Data Input'!T214,'Data Input'!U214))","v":""},{"$f":"IF(K209=\"\",\"\",K209/COUNTIF('Data Input'!$C$8:$AK$8,\"S\"))","v":""},{"$f":"IF(ISBLANK('Data Input'!A214),\"\",SUM('Data Input'!F214,'Data Input'!R214,'Data Input'!AJ214))","v":""},{"$f":"IF(M209=\"\",\"\",M209/COUNTIF('Data Input'!$C$8:$AK$8,\"F\"))","v":""},{"$f":"IF(ISBLANK('Data Input'!A214),\"\",SUM('Data Input'!E214,'Data Input'!M214,'Data Input'!Q214,'Data Input'!V214,'Data Input'!W214,'Data Input'!AD214,'Data Input'!AH214))","v":""},{"$f":"IF(O209=\"\",\"\",O209/COUNTIF('Data Input'!$C$8:$AK$8,\"M\"))","v":""},{"$f":"IF(ISBLANK('Data Input'!A214),\"\",SUM('Data Input'!H214,'Data Input'!K214,'Data Input'!P214,'Data Input'!Y214))","v":""},{"$f":"IF(Q209=\"\",\"\",Q209/COUNTIF('Data Input'!$C$8:$AK$8,\"G\"))","v":""}]
[{"$f":"IF('Data Input'!A215=0,\"\",'Data Input'!A215)","v":""},{"$f":"IF(ISBLANK('Data Input'!A215),\"\",COUNTIF('Data Input'!C215:AK215,\"\"))","v":""},{"$f":"IF(ISBLANK('Data Input'!A215),\"\",COUNTIF('Data Input'!C215:AK215,\"0\"))","v":""},{"$f":"IF(ISBLANK('Data Input'!A215),\"\",SUM(B210,C210))","v":""},{"$f":"IF(ISBLANK('Data Input'!A215),\"\",SUM('Data Input'!C215:AK215))","v":""},{"$f":"IF(E210=\"\",\"\",E210/(COUNTA('Data Input'!$C$8:$AK$8)))","v":""},{"$f":"IF(ISBLANK('Data Input'!A215),\"\",SUM('Data Input'!C215,'Data Input'!D215,'Data Input'!J215,'Data Input'!X215))","v":""},{"$f":"IF(G210=\"\",\"\",G210/COUNTIF('Data Input'!$C$8:$AK$8,\"N\"))","v":""},{"$f":"IF(ISBLANK('Data Input'!A215),\"\",SUM('Data Input'!G215,'Data Input'!I215,'Data Input'!L215,'Data Input'!N215,'Data Input'!O215,'Data Input'!S215,'Data Input'!Z215,'Data Input'!AA215,'Data Input'!AB215,'Data Input'!AC215,'Data Input'!AE215,'Data Input'!AF215,'Data Input'!AG215,'Data Input'!AI215,'Data Input'!AK215))","v":""},{"$f":"IF(I210=\"\",\"\",I210/COUNTIF('Data Input'!$C$8:$AK$8,\"C\"))","v":""},{"$f":"IF(ISBLANK('Data Input'!A215),\"\",SUM('Data Input'!T215,'Data Input'!U215))","v":""},{"$f":"IF(K210=\"\",\"\",K210/COUNTIF('Data Input'!$C$8:$AK$8,\"S\"))","v":""},{"$f":"IF(ISBLANK('Data Input'!A215),\"\",SUM('Data Input'!F215,'Data Input'!R215,'Data Input'!AJ215))","v":""},{"$f":"IF(M210=\"\",\"\",M210/COUNTIF('Data Input'!$C$8:$AK$8,\"F\"))","v":""},{"$f":"IF(ISBLANK('Data Input'!A215),\"\",SUM('Data Input'!E215,'Data Input'!M215,'Data Input'!Q215,'Data Input'!V215,'Data Input'!W215,'Data Input'!AD215,'Data Input'!AH215))","v":""},{"$f":"IF(O210=\"\",\"\",O210/COUNTIF('Data Input'!$C$8:$AK$8,\"M\"))","v":""},{"$f":"IF(ISBLANK('Data Input'!A215),\"\",SUM('Data Input'!H215,'Data Input'!K215,'Data Input'!P215,'Data Input'!Y215))","v":""},{"$f":"IF(Q210=\"\",\"\",Q210/COUNTIF('Data Input'!$C$8:$AK$8,\"G\"))","v":""}]
[{"$f":"IF('Data Input'!A216=0,\"\",'Data Input'!A216)","v":""},{"$f":"IF(ISBLANK('Data Input'!A216),\"\",COUNTIF('Data Input'!C216:AK216,\"\"))","v":""},{"$f":"IF(ISBLANK('Data Input'!A216),\"\",COUNTIF('Data Input'!C216:AK216,\"0\"))","v":""},{"$f":"IF(ISBLANK('Data Input'!A216),\"\",SUM(B211,C211))","v":""},{"$f":"IF(ISBLANK('Data Input'!A216),\"\",SUM('Data Input'!C216:AK216))","v":""},{"$f":"IF(E211=\"\",\"\",E211/(COUNTA('Data Input'!$C$8:$AK$8)))","v":""},{"$f":"IF(ISBLANK('Data Input'!A216),\"\",SUM('Data Input'!C216,'Data Input'!D216,'Data Input'!J216,'Data Input'!X216))","v":""},{"$f":"IF(G211=\"\",\"\",G211/COUNTIF('Data Input'!$C$8:$AK$8,\"N\"))","v":""},{"$f":"IF(ISBLANK('Data Input'!A216),\"\",SUM('Data Input'!G216,'Data Input'!I216,'Data Input'!L216,'Data Input'!N216,'Data Input'!O216,'Data Input'!S216,'Data Input'!Z216,'Data Input'!AA216,'Data Input'!AB216,'Data Input'!AC216,'Data Input'!AE216,'Data Input'!AF216,'Data Input'!AG216,'Data Input'!AI216,'Data Input'!AK216))","v":""},{"$f":"IF(I211=\"\",\"\",I211/COUNTIF('Data Input'!$C$8:$AK$8,\"C\"))","v":""},{"$f":"IF(ISBLANK('Data Input'!A216),\"\",SUM('Data Input'!T216,'Data Input'!U216))","v":""},{"$f":"IF(K211=\"\",\"\",K211/COUNTIF('Data Input'!$C$8:$AK$8,\"S\"))","v":""},{"$f":"IF(ISBLANK('Data Input'!A216),\"\",SUM('Data Input'!F216,'Data Input'!R216,'Data Input'!AJ216))","v":""},{"$f":"IF(M211=\"\",\"\",M211/COUNTIF('Data Input'!$C$8:$AK$8,\"F\"))","v":""},{"$f":"IF(ISBLANK('Data Input'!A216),\"\",SUM('Data Input'!E216,'Data Input'!M216,'Data Input'!Q216,'Data Input'!V216,'Data Input'!W216,'Data Input'!AD216,'Data Input'!AH216))","v":""},{"$f":"IF(O211=\"\",\"\",O211/COUNTIF('Data Input'!$C$8:$AK$8,\"M\"))","v":""},{"$f":"IF(ISBLANK('Data Input'!A216),\"\",SUM('Data Input'!H216,'Data Input'!K216,'Data Input'!P216,'Data Input'!Y216))","v":""},{"$f":"IF(Q211=\"\",\"\",Q211/COUNTIF('Data Input'!$C$8:$AK$8,\"G\"))","v":""}]
[{"$f":"IF('Data Input'!A217=0,\"\",'Data Input'!A217)","v":""},{"$f":"IF(ISBLANK('Data Input'!A217),\"\",COUNTIF('Data Input'!C217:AK217,\"\"))","v":""},{"$f":"IF(ISBLANK('Data Input'!A217),\"\",COUNTIF('Data Input'!C217:AK217,\"0\"))","v":""},{"$f":"IF(ISBLANK('Data Input'!A217),\"\",SUM(B212,C212))","v":""},{"$f":"IF(ISBLANK('Data Input'!A217),\"\",SUM('Data Input'!C217:AK217))","v":""},{"$f":"IF(E212=\"\",\"\",E212/(COUNTA('Data Input'!$C$8:$AK$8)))","v":""},{"$f":"IF(ISBLANK('Data Input'!A217),\"\",SUM('Data Input'!C217,'Data Input'!D217,'Data Input'!J217,'Data Input'!X217))","v":""},{"$f":"IF(G212=\"\",\"\",G212/COUNTIF('Data Input'!$C$8:$AK$8,\"N\"))","v":""},{"$f":"IF(ISBLANK('Data Input'!A217),\"\",SUM('Data Input'!G217,'Data Input'!I217,'Data Input'!L217,'Data Input'!N217,'Data Input'!O217,'Data Input'!S217,'Data Input'!Z217,'Data Input'!AA217,'Data Input'!AB217,'Data Input'!AC217,'Data Input'!AE217,'Data Input'!AF217,'Data Input'!AG217,'Data Input'!AI217,'Data Input'!AK217))","v":""},{"$f":"IF(I212=\"\",\"\",I212/COUNTIF('Data Input'!$C$8:$AK$8,\"C\"))","v":""},{"$f":"IF(ISBLANK('Data Input'!A217),\"\",SUM('Data Input'!T217,'Data Input'!U217))","v":""},{"$f":"IF(K212=\"\",\"\",K212/COUNTIF('Data Input'!$C$8:$AK$8,\"S\"))","v":""},{"$f":"IF(ISBLANK('Data Input'!A217),\"\",SUM('Data Input'!F217,'Data Input'!R217,'Data Input'!AJ217))","v":""},{"$f":"IF(M212=\"\",\"\",M212/COUNTIF('Data Input'!$C$8:$AK$8,\"F\"))","v":""},{"$f":"IF(ISBLANK('Data Input'!A217),\"\",SUM('Data Input'!E217,'Data Input'!M217,'Data Input'!Q217,'Data Input'!V217,'Data Input'!W217,'Data Input'!AD217,'Data Input'!AH217))","v":""},{"$f":"IF(O212=\"\",\"\",O212/COUNTIF('Data Input'!$C$8:$AK$8,\"M\"))","v":""},{"$f":"IF(ISBLANK('Data Input'!A217),\"\",SUM('Data Input'!H217,'Data Input'!K217,'Data Input'!P217,'Data Input'!Y217))","v":""},{"$f":"IF(Q212=\"\",\"\",Q212/COUNTIF('Data Input'!$C$8:$AK$8,\"G\"))","v":""}]
[{"$f":"IF('Data Input'!A218=0,\"\",'Data Input'!A218)","v":""},{"$f":"IF(ISBLANK('Data Input'!A218),\"\",COUNTIF('Data Input'!C218:AK218,\"\"))","v":""},{"$f":"IF(ISBLANK('Data Input'!A218),\"\",COUNTIF('Data Input'!C218:AK218,\"0\"))","v":""},{"$f":"IF(ISBLANK('Data Input'!A218),\"\",SUM(B213,C213))","v":""},{"$f":"IF(ISBLANK('Data Input'!A218),\"\",SUM('Data Input'!C218:AK218))","v":""},{"$f":"IF(E213=\"\",\"\",E213/(COUNTA('Data Input'!$C$8:$AK$8)))","v":""},{"$f":"IF(ISBLANK('Data Input'!A218),\"\",SUM('Data Input'!C218,'Data Input'!D218,'Data Input'!J218,'Data Input'!X218))","v":""},{"$f":"IF(G213=\"\",\"\",G213/COUNTIF('Data Input'!$C$8:$AK$8,\"N\"))","v":""},{"$f":"IF(ISBLANK('Data Input'!A218),\"\",SUM('Data Input'!G218,'Data Input'!I218,'Data Input'!L218,'Data Input'!N218,'Data Input'!O218,'Data Input'!S218,'Data Input'!Z218,'Data Input'!AA218,'Data Input'!AB218,'Data Input'!AC218,'Data Input'!AE218,'Data Input'!AF218,'Data Input'!AG218,'Data Input'!AI218,'Data Input'!AK218))","v":""},{"$f":"IF(I213=\"\",\"\",I213/COUNTIF('Data Input'!$C$8:$AK$8,\"C\"))","v":""},{"$f":"IF(ISBLANK('Data Input'!A218),\"\",SUM('Data Input'!T218,'Data Input'!U218))","v":""},{"$f":"IF(K213=\"\",\"\",K213/COUNTIF('Data Input'!$C$8:$AK$8,\"S\"))","v":""},{"$f":"IF(ISBLANK('Data Input'!A218),\"\",SUM('Data Input'!F218,'Data Input'!R218,'Data Input'!AJ218))","v":""},{"$f":"IF(M213=\"\",\"\",M213/COUNTIF('Data Input'!$C$8:$AK$8,\"F\"))","v":""},{"$f":"IF(ISBLANK('Data Input'!A218),\"\",SUM('Data Input'!E218,'Data Input'!M218,'Data Input'!Q218,'Data Input'!V218,'Data Input'!W218,'Data Input'!AD218,'Data Input'!AH218))","v":""},{"$f":"IF(O213=\"\",\"\",O213/COUNTIF('Data Input'!$C$8:$AK$8,\"M\"))","v":""},{"$f":"IF(ISBLANK('Data Input'!A218),\"\",SUM('Data Input'!H218,'Data Input'!K218,'Data Input'!P218,'Data Input'!Y218))","v":""},{"$f":"IF(Q213=\"\",\"\",Q213/COUNTIF('Data Input'!$C$8:$AK$8,\"G\"))","v":""}]
[{"$f":"IF('Data Input'!A219=0,\"\",'Data Input'!A219)","v":""},{"$f":"IF(ISBLANK('Data Input'!A219),\"\",COUNTIF('Data Input'!C219:AK219,\"\"))","v":""},{"$f":"IF(ISBLANK('Data Input'!A219),\"\",COUNTIF('Data Input'!C219:AK219,\"0\"))","v":""},{"$f":"IF(ISBLANK('Data Input'!A219),\"\",SUM(B214,C214))","v":""},{"$f":"IF(ISBLANK('Data Input'!A219),\"\",SUM('Data Input'!C219:AK219))","v":""},{"$f":"IF(E214=\"\",\"\",E214/(COUNTA('Data Input'!$C$8:$AK$8)))","v":""},{"$f":"IF(ISBLANK('Data Input'!A219),\"\",SUM('Data Input'!C219,'Data Input'!D219,'Data Input'!J219,'Data Input'!X219))","v":""},{"$f":"IF(G214=\"\",\"\",G214/COUNTIF('Data Input'!$C$8:$AK$8,\"N\"))","v":""},{"$f":"IF(ISBLANK('Data Input'!A219),\"\",SUM('Data Input'!G219,'Data Input'!I219,'Data Input'!L219,'Data Input'!N219,'Data Input'!O219,'Data Input'!S219,'Data Input'!Z219,'Data Input'!AA219,'Data Input'!AB219,'Data Input'!AC219,'Data Input'!AE219,'Data Input'!AF219,'Data Input'!AG219,'Data Input'!AI219,'Data Input'!AK219))","v":""},{"$f":"IF(I214=\"\",\"\",I214/COUNTIF('Data Input'!$C$8:$AK$8,\"C\"))","v":""},{"$f":"IF(ISBLANK('Data Input'!A219),\"\",SUM('Data Input'!T219,'Data Input'!U219))","v":""},{"$f":"IF(K214=\"\",\"\",K214/COUNTIF('Data Input'!$C$8:$AK$8,\"S\"))","v":""},{"$f":"IF(ISBLANK('Data Input'!A219),\"\",SUM('Data Input'!F219,'Data Input'!R219,'Data Input'!AJ219))","v":""},{"$f":"IF(M214=\"\",\"\",M214/COUNTIF('Data Input'!$C$8:$AK$8,\"F\"))","v":""},{"$f":"IF(ISBLANK('Data Input'!A219),\"\",SUM('Data Input'!E219,'Data Input'!M219,'Data Input'!Q219,'Data Input'!V219,'Data Input'!W219,'Data Input'!AD219,'Data Input'!AH219))","v":""},{"$f":"IF(O214=\"\",\"\",O214/COUNTIF('Data Input'!$C$8:$AK$8,\"M\"))","v":""},{"$f":"IF(ISBLANK('Data Input'!A219),\"\",SUM('Data Input'!H219,'Data Input'!K219,'Data Input'!P219,'Data Input'!Y219))","v":""},{"$f":"IF(Q214=\"\",\"\",Q214/COUNTIF('Data Input'!$C$8:$AK$8,\"G\"))","v":""}]
[{"$f":"IF('Data Input'!A220=0,\"\",'Data Input'!A220)","v":""},{"$f":"IF(ISBLANK('Data Input'!A220),\"\",COUNTIF('Data Input'!C220:AK220,\"\"))","v":""},{"$f":"IF(ISBLANK('Data Input'!A220),\"\",COUNTIF('Data Input'!C220:AK220,\"0\"))","v":""},{"$f":"IF(ISBLANK('Data Input'!A220),\"\",SUM(B215,C215))","v":""},{"$f":"IF(ISBLANK('Data Input'!A220),\"\",SUM('Data Input'!C220:AK220))","v":""},{"$f":"IF(E215=\"\",\"\",E215/(COUNTA('Data Input'!$C$8:$AK$8)))","v":""},{"$f":"IF(ISBLANK('Data Input'!A220),\"\",SUM('Data Input'!C220,'Data Input'!D220,'Data Input'!J220,'Data Input'!X220))","v":""},{"$f":"IF(G215=\"\",\"\",G215/COUNTIF('Data Input'!$C$8:$AK$8,\"N\"))","v":""},{"$f":"IF(ISBLANK('Data Input'!A220),\"\",SUM('Data Input'!G220,'Data Input'!I220,'Data Input'!L220,'Data Input'!N220,'Data Input'!O220,'Data Input'!S220,'Data Input'!Z220,'Data Input'!AA220,'Data Input'!AB220,'Data Input'!AC220,'Data Input'!AE220,'Data Input'!AF220,'Data Input'!AG220,'Data Input'!AI220,'Data Input'!AK220))","v":""},{"$f":"IF(I215=\"\",\"\",I215/COUNTIF('Data Input'!$C$8:$AK$8,\"C\"))","v":""},{"$f":"IF(ISBLANK('Data Input'!A220),\"\",SUM('Data Input'!T220,'Data Input'!U220))","v":""},{"$f":"IF(K215=\"\",\"\",K215/COUNTIF('Data Input'!$C$8:$AK$8,\"S\"))","v":""},{"$f":"IF(ISBLANK('Data Input'!A220),\"\",SUM('Data Input'!F220,'Data Input'!R220,'Data Input'!AJ220))","v":""},{"$f":"IF(M215=\"\",\"\",M215/COUNTIF('Data Input'!$C$8:$AK$8,\"F\"))","v":""},{"$f":"IF(ISBLANK('Data Input'!A220),\"\",SUM('Data Input'!E220,'Data Input'!M220,'Data Input'!Q220,'Data Input'!V220,'Data Input'!W220,'Data Input'!AD220,'Data Input'!AH220))","v":""},{"$f":"IF(O215=\"\",\"\",O215/COUNTIF('Data Input'!$C$8:$AK$8,\"M\"))","v":""},{"$f":"IF(ISBLANK('Data Input'!A220),\"\",SUM('Data Input'!H220,'Data Input'!K220,'Data Input'!P220,'Data Input'!Y220))","v":""},{"$f":"IF(Q215=\"\",\"\",Q215/COUNTIF('Data Input'!$C$8:$AK$8,\"G\"))","v":""}]
[{"$f":"IF('Data Input'!A221=0,\"\",'Data Input'!A221)","v":""},{"$f":"IF(ISBLANK('Data Input'!A221),\"\",COUNTIF('Data Input'!C221:AK221,\"\"))","v":""},{"$f":"IF(ISBLANK('Data Input'!A221),\"\",COUNTIF('Data Input'!C221:AK221,\"0\"))","v":""},{"$f":"IF(ISBLANK('Data Input'!A221),\"\",SUM(B216,C216))","v":""},{"$f":"IF(ISBLANK('Data Input'!A221),\"\",SUM('Data Input'!C221:AK221))","v":""},{"$f":"IF(E216=\"\",\"\",E216/(COUNTA('Data Input'!$C$8:$AK$8)))","v":""},{"$f":"IF(ISBLANK('Data Input'!A221),\"\",SUM('Data Input'!C221,'Data Input'!D221,'Data Input'!J221,'Data Input'!X221))","v":""},{"$f":"IF(G216=\"\",\"\",G216/COUNTIF('Data Input'!$C$8:$AK$8,\"N\"))","v":""},{"$f":"IF(ISBLANK('Data Input'!A221),\"\",SUM('Data Input'!G221,'Data Input'!I221,'Data Input'!L221,'Data Input'!N221,'Data Input'!O221,'Data Input'!S221,'Data Input'!Z221,'Data Input'!AA221,'Data Input'!AB221,'Data Input'!AC221,'Data Input'!AE221,'Data Input'!AF221,'Data Input'!AG221,'Data Input'!AI221,'Data Input'!AK221))","v":""},{"$f":"IF(I216=\"\",\"\",I216/COUNTIF('Data Input'!$C$8:$AK$8,\"C\"))","v":""},{"$f":"IF(ISBLANK('Data Input'!A221),\"\",SUM('Data Input'!T221,'Data Input'!U221))","v":""},{"$f":"IF(K216=\"\",\"\",K216/COUNTIF('Data Input'!$C$8:$AK$8,\"S\"))","v":""},{"$f":"IF(ISBLANK('Data Input'!A221),\"\",SUM('Data Input'!F221,'Data Input'!R221,'Data Input'!AJ221))","v":""},{"$f":"IF(M216=\"\",\"\",M216/COUNTIF('Data Input'!$C$8:$AK$8,\"F\"))","v":""},{"$f":"IF(ISBLANK('Data Input'!A221),\"\",SUM('Data Input'!E221,'Data Input'!M221,'Data Input'!Q221,'Data Input'!V221,'Data Input'!W221,'Data Input'!AD221,'Data Input'!AH221))","v":""},{"$f":"IF(O216=\"\",\"\",O216/COUNTIF('Data Input'!$C$8:$AK$8,\"M\"))","v":""},{"$f":"IF(ISBLANK('Data Input'!A221),\"\",SUM('Data Input'!H221,'Data Input'!K221,'Data Input'!P221,'Data Input'!Y221))","v":""},{"$f":"IF(Q216=\"\",\"\",Q216/COUNTIF('Data Input'!$C$8:$AK$8,\"G\"))","v":""}]
[{"$f":"IF('Data Input'!A222=0,\"\",'Data Input'!A222)","v":""},{"$f":"IF(ISBLANK('Data Input'!A222),\"\",COUNTIF('Data Input'!C222:AK222,\"\"))","v":""},{"$f":"IF(ISBLANK('Data Input'!A222),\"\",COUNTIF('Data Input'!C222:AK222,\"0\"))","v":""},{"$f":"IF(ISBLANK('Data Input'!A222),\"\",SUM(B217,C217))","v":""},{"$f":"IF(ISBLANK('Data Input'!A222),\"\",SUM('Data Input'!C222:AK222))","v":""},{"$f":"IF(E217=\"\",\"\",E217/(COUNTA('Data Input'!$C$8:$AK$8)))","v":""},{"$f":"IF(ISBLANK('Data Input'!A222),\"\",SUM('Data Input'!C222,'Data Input'!D222,'Data Input'!J222,'Data Input'!X222))","v":""},{"$f":"IF(G217=\"\",\"\",G217/COUNTIF('Data Input'!$C$8:$AK$8,\"N\"))","v":""},{"$f":"IF(ISBLANK('Data Input'!A222),\"\",SUM('Data Input'!G222,'Data Input'!I222,'Data Input'!L222,'Data Input'!N222,'Data Input'!O222,'Data Input'!S222,'Data Input'!Z222,'Data Input'!AA222,'Data Input'!AB222,'Data Input'!AC222,'Data Input'!AE222,'Data Input'!AF222,'Data Input'!AG222,'Data Input'!AI222,'Data Input'!AK222))","v":""},{"$f":"IF(I217=\"\",\"\",I217/COUNTIF('Data Input'!$C$8:$AK$8,\"C\"))","v":""},{"$f":"IF(ISBLANK('Data Input'!A222),\"\",SUM('Data Input'!T222,'Data Input'!U222))","v":""},{"$f":"IF(K217=\"\",\"\",K217/COUNTIF('Data Input'!$C$8:$AK$8,\"S\"))","v":""},{"$f":"IF(ISBLANK('Data Input'!A222),\"\",SUM('Data Input'!F222,'Data Input'!R222,'Data Input'!AJ222))","v":""},{"$f":"IF(M217=\"\",\"\",M217/COUNTIF('Data Input'!$C$8:$AK$8,\"F\"))","v":""},{"$f":"IF(ISBLANK('Data Input'!A222),\"\",SUM('Data Input'!E222,'Data Input'!M222,'Data Input'!Q222,'Data Input'!V222,'Data Input'!W222,'Data Input'!AD222,'Data Input'!AH222))","v":""},{"$f":"IF(O217=\"\",\"\",O217/COUNTIF('Data Input'!$C$8:$AK$8,\"M\"))","v":""},{"$f":"IF(ISBLANK('Data Input'!A222),\"\",SUM('Data Input'!H222,'Data Input'!K222,'Data Input'!P222,'Data Input'!Y222))","v":""},{"$f":"IF(Q217=\"\",\"\",Q217/COUNTIF('Data Input'!$C$8:$AK$8,\"G\"))","v":""}]
[{"$f":"IF('Data Input'!A223=0,\"\",'Data Input'!A223)","v":""},{"$f":"IF(ISBLANK('Data Input'!A223),\"\",COUNTIF('Data Input'!C223:AK223,\"\"))","v":""},{"$f":"IF(ISBLANK('Data Input'!A223),\"\",COUNTIF('Data Input'!C223:AK223,\"0\"))","v":""},{"$f":"IF(ISBLANK('Data Input'!A223),\"\",SUM(B218,C218))","v":""},{"$f":"IF(ISBLANK('Data Input'!A223),\"\",SUM('Data Input'!C223:AK223))","v":""},{"$f":"IF(E218=\"\",\"\",E218/(COUNTA('Data Input'!$C$8:$AK$8)))","v":""},{"$f":"IF(ISBLANK('Data Input'!A223),\"\",SUM('Data Input'!C223,'Data Input'!D223,'Data Input'!J223,'Data Input'!X223))","v":""},{"$f":"IF(G218=\"\",\"\",G218/COUNTIF('Data Input'!$C$8:$AK$8,\"N\"))","v":""},{"$f":"IF(ISBLANK('Data Input'!A223),\"\",SUM('Data Input'!G223,'Data Input'!I223,'Data Input'!L223,'Data Input'!N223,'Data Input'!O223,'Data Input'!S223,'Data Input'!Z223,'Data Input'!AA223,'Data Input'!AB223,'Data Input'!AC223,'Data Input'!AE223,'Data Input'!AF223,'Data Input'!AG223,'Data Input'!AI223,'Data Input'!AK223))","v":""},{"$f":"IF(I218=\"\",\"\",I218/COUNTIF('Data Input'!$C$8:$AK$8,\"C\"))","v":""},{"$f":"IF(ISBLANK('Data Input'!A223),\"\",SUM('Data Input'!T223,'Data Input'!U223))","v":""},{"$f":"IF(K218=\"\",\"\",K218/COUNTIF('Data Input'!$C$8:$AK$8,\"S\"))","v":""},{"$f":"IF(ISBLANK('Data Input'!A223),\"\",SUM('Data Input'!F223,'Data Input'!R223,'Data Input'!AJ223))","v":""},{"$f":"IF(M218=\"\",\"\",M218/COUNTIF('Data Input'!$C$8:$AK$8,\"F\"))","v":""},{"$f":"IF(ISBLANK('Data Input'!A223),\"\",SUM('Data Input'!E223,'Data Input'!M223,'Data Input'!Q223,'Data Input'!V223,'Data Input'!W223,'Data Input'!AD223,'Data Input'!AH223))","v":""},{"$f":"IF(O218=\"\",\"\",O218/COUNTIF('Data Input'!$C$8:$AK$8,\"M\"))","v":""},{"$f":"IF(ISBLANK('Data Input'!A223),\"\",SUM('Data Input'!H223,'Data Input'!K223,'Data Input'!P223,'Data Input'!Y223))","v":""},{"$f":"IF(Q218=\"\",\"\",Q218/COUNTIF('Data Input'!$C$8:$AK$8,\"G\"))","v":""}]
[{"$f":"IF('Data Input'!A224=0,\"\",'Data Input'!A224)","v":""},{"$f":"IF(ISBLANK('Data Input'!A224),\"\",COUNTIF('Data Input'!C224:AK224,\"\"))","v":""},{"$f":"IF(ISBLANK('Data Input'!A224),\"\",COUNTIF('Data Input'!C224:AK224,\"0\"))","v":""},{"$f":"IF(ISBLANK('Data Input'!A224),\"\",SUM(B219,C219))","v":""},{"$f":"IF(ISBLANK('Data Input'!A224),\"\",SUM('Data Input'!C224:AK224))","v":""},{"$f":"IF(E219=\"\",\"\",E219/(COUNTA('Data Input'!$C$8:$AK$8)))","v":""},{"$f":"IF(ISBLANK('Data Input'!A224),\"\",SUM('Data Input'!C224,'Data Input'!D224,'Data Input'!J224,'Data Input'!X224))","v":""},{"$f":"IF(G219=\"\",\"\",G219/COUNTIF('Data Input'!$C$8:$AK$8,\"N\"))","v":""},{"$f":"IF(ISBLANK('Data Input'!A224),\"\",SUM('Data Input'!G224,'Data Input'!I224,'Data Input'!L224,'Data Input'!N224,'Data Input'!O224,'Data Input'!S224,'Data Input'!Z224,'Data Input'!AA224,'Data Input'!AB224,'Data Input'!AC224,'Data Input'!AE224,'Data Input'!AF224,'Data Input'!AG224,'Data Input'!AI224,'Data Input'!AK224))","v":""},{"$f":"IF(I219=\"\",\"\",I219/COUNTIF('Data Input'!$C$8:$AK$8,\"C\"))","v":""},{"$f":"IF(ISBLANK('Data Input'!A224),\"\",SUM('Data Input'!T224,'Data Input'!U224))","v":""},{"$f":"IF(K219=\"\",\"\",K219/COUNTIF('Data Input'!$C$8:$AK$8,\"S\"))","v":""},{"$f":"IF(ISBLANK('Data Input'!A224),\"\",SUM('Data Input'!F224,'Data Input'!R224,'Data Input'!AJ224))","v":""},{"$f":"IF(M219=\"\",\"\",M219/COUNTIF('Data Input'!$C$8:$AK$8,\"F\"))","v":""},{"$f":"IF(ISBLANK('Data Input'!A224),\"\",SUM('Data Input'!E224,'Data Input'!M224,'Data Input'!Q224,'Data Input'!V224,'Data Input'!W224,'Data Input'!AD224,'Data Input'!AH224))","v":""},{"$f":"IF(O219=\"\",\"\",O219/COUNTIF('Data Input'!$C$8:$AK$8,\"M\"))","v":""},{"$f":"IF(ISBLANK('Data Input'!A224),\"\",SUM('Data Input'!H224,'Data Input'!K224,'Data Input'!P224,'Data Input'!Y224))","v":""},{"$f":"IF(Q219=\"\",\"\",Q219/COUNTIF('Data Input'!$C$8:$AK$8,\"G\"))","v":""}]
[{"$f":"IF('Data Input'!A225=0,\"\",'Data Input'!A225)","v":""},{"$f":"IF(ISBLANK('Data Input'!A225),\"\",COUNTIF('Data Input'!C225:AK225,\"\"))","v":""},{"$f":"IF(ISBLANK('Data Input'!A225),\"\",COUNTIF('Data Input'!C225:AK225,\"0\"))","v":""},{"$f":"IF(ISBLANK('Data Input'!A225),\"\",SUM(B220,C220))","v":""},{"$f":"IF(ISBLANK('Data Input'!A225),\"\",SUM('Data Input'!C225:AK225))","v":""},{"$f":"IF(E220=\"\",\"\",E220/(COUNTA('Data Input'!$C$8:$AK$8)))","v":""},{"$f":"IF(ISBLANK('Data Input'!A225),\"\",SUM('Data Input'!C225,'Data Input'!D225,'Data Input'!J225,'Data Input'!X225))","v":""},{"$f":"IF(G220=\"\",\"\",G220/COUNTIF('Data Input'!$C$8:$AK$8,\"N\"))","v":""},{"$f":"IF(ISBLANK('Data Input'!A225),\"\",SUM('Data Input'!G225,'Data Input'!I225,'Data Input'!L225,'Data Input'!N225,'Data Input'!O225,'Data Input'!S225,'Data Input'!Z225,'Data Input'!AA225,'Data Input'!AB225,'Data Input'!AC225,'Data Input'!AE225,'Data Input'!AF225,'Data Input'!AG225,'Data Input'!AI225,'Data Input'!AK225))","v":""},{"$f":"IF(I220=\"\",\"\",I220/COUNTIF('Data Input'!$C$8:$AK$8,\"C\"))","v":""},{"$f":"IF(ISBLANK('Data Input'!A225),\"\",SUM('Data Input'!T225,'Data Input'!U225))","v":""},{"$f":"IF(K220=\"\",\"\",K220/COUNTIF('Data Input'!$C$8:$AK$8,\"S\"))","v":""},{"$f":"IF(ISBLANK('Data Input'!A225),\"\",SUM('Data Input'!F225,'Data Input'!R225,'Data Input'!AJ225))","v":""},{"$f":"IF(M220=\"\",\"\",M220/COUNTIF('Data Input'!$C$8:$AK$8,\"F\"))","v":""},{"$f":"IF(ISBLANK('Data Input'!A225),\"\",SUM('Data Input'!E225,'Data Input'!M225,'Data Input'!Q225,'Data Input'!V225,'Data Input'!W225,'Data Input'!AD225,'Data Input'!AH225))","v":""},{"$f":"IF(O220=\"\",\"\",O220/COUNTIF('Data Input'!$C$8:$AK$8,\"M\"))","v":""},{"$f":"IF(ISBLANK('Data Input'!A225),\"\",SUM('Data Input'!H225,'Data Input'!K225,'Data Input'!P225,'Data Input'!Y225))","v":""},{"$f":"IF(Q220=\"\",\"\",Q220/COUNTIF('Data Input'!$C$8:$AK$8,\"G\"))","v":""}]
[{"$f":"IF('Data Input'!A226=0,\"\",'Data Input'!A226)","v":""},{"$f":"IF(ISBLANK('Data Input'!A226),\"\",COUNTIF('Data Input'!C226:AK226,\"\"))","v":""},{"$f":"IF(ISBLANK('Data Input'!A226),\"\",COUNTIF('Data Input'!C226:AK226,\"0\"))","v":""},{"$f":"IF(ISBLANK('Data Input'!A226),\"\",SUM(B221,C221))","v":""},{"$f":"IF(ISBLANK('Data Input'!A226),\"\",SUM('Data Input'!C226:AK226))","v":""},{"$f":"IF(E221=\"\",\"\",E221/(COUNTA('Data Input'!$C$8:$AK$8)))","v":""},{"$f":"IF(ISBLANK('Data Input'!A226),\"\",SUM('Data Input'!C226,'Data Input'!D226,'Data Input'!J226,'Data Input'!X226))","v":""},{"$f":"IF(G221=\"\",\"\",G221/COUNTIF('Data Input'!$C$8:$AK$8,\"N\"))","v":""},{"$f":"IF(ISBLANK('Data Input'!A226),\"\",SUM('Data Input'!G226,'Data Input'!I226,'Data Input'!L226,'Data Input'!N226,'Data Input'!O226,'Data Input'!S226,'Data Input'!Z226,'Data Input'!AA226,'Data Input'!AB226,'Data Input'!AC226,'Data Input'!AE226,'Data Input'!AF226,'Data Input'!AG226,'Data Input'!AI226,'Data Input'!AK226))","v":""},{"$f":"IF(I221=\"\",\"\",I221/COUNTIF('Data Input'!$C$8:$AK$8,\"C\"))","v":""},{"$f":"IF(ISBLANK('Data Input'!A226),\"\",SUM('Data Input'!T226,'Data Input'!U226))","v":""},{"$f":"IF(K221=\"\",\"\",K221/COUNTIF('Data Input'!$C$8:$AK$8,\"S\"))","v":""},{"$f":"IF(ISBLANK('Data Input'!A226),\"\",SUM('Data Input'!F226,'Data Input'!R226,'Data Input'!AJ226))","v":""},{"$f":"IF(M221=\"\",\"\",M221/COUNTIF('Data Input'!$C$8:$AK$8,\"F\"))","v":""},{"$f":"IF(ISBLANK('Data Input'!A226),\"\",SUM('Data Input'!E226,'Data Input'!M226,'Data Input'!Q226,'Data Input'!V226,'Data Input'!W226,'Data Input'!AD226,'Data Input'!AH226))","v":""},{"$f":"IF(O221=\"\",\"\",O221/COUNTIF('Data Input'!$C$8:$AK$8,\"M\"))","v":""},{"$f":"IF(ISBLANK('Data Input'!A226),\"\",SUM('Data Input'!H226,'Data Input'!K226,'Data Input'!P226,'Data Input'!Y226))","v":""},{"$f":"IF(Q221=\"\",\"\",Q221/COUNTIF('Data Input'!$C$8:$AK$8,\"G\"))","v":""}]
[{"$f":"IF('Data Input'!A227=0,\"\",'Data Input'!A227)","v":""},{"$f":"IF(ISBLANK('Data Input'!A227),\"\",COUNTIF('Data Input'!C227:AK227,\"\"))","v":""},{"$f":"IF(ISBLANK('Data Input'!A227),\"\",COUNTIF('Data Input'!C227:AK227,\"0\"))","v":""},{"$f":"IF(ISBLANK('Data Input'!A227),\"\",SUM(B222,C222))","v":""},{"$f":"IF(ISBLANK('Data Input'!A227),\"\",SUM('Data Input'!C227:AK227))","v":""},{"$f":"IF(E222=\"\",\"\",E222/(COUNTA('Data Input'!$C$8:$AK$8)))","v":""},{"$f":"IF(ISBLANK('Data Input'!A227),\"\",SUM('Data Input'!C227,'Data Input'!D227,'Data Input'!J227,'Data Input'!X227))","v":""},{"$f":"IF(G222=\"\",\"\",G222/COUNTIF('Data Input'!$C$8:$AK$8,\"N\"))","v":""},{"$f":"IF(ISBLANK('Data Input'!A227),\"\",SUM('Data Input'!G227,'Data Input'!I227,'Data Input'!L227,'Data Input'!N227,'Data Input'!O227,'Data Input'!S227,'Data Input'!Z227,'Data Input'!AA227,'Data Input'!AB227,'Data Input'!AC227,'Data Input'!AE227,'Data Input'!AF227,'Data Input'!AG227,'Data Input'!AI227,'Data Input'!AK227))","v":""},{"$f":"IF(I222=\"\",\"\",I222/COUNTIF('Data Input'!$C$8:$AK$8,\"C\"))","v":""},{"$f":"IF(ISBLANK('Data Input'!A227),\"\",SUM('Data Input'!T227,'Data Input'!U227))","v":""},{"$f":"IF(K222=\"\",\"\",K222/COUNTIF('Data Input'!$C$8:$AK$8,\"S\"))","v":""},{"$f":"IF(ISBLANK('Data Input'!A227),\"\",SUM('Data Input'!F227,'Data Input'!R227,'Data Input'!AJ227))","v":""},{"$f":"IF(M222=\"\",\"\",M222/COUNTIF('Data Input'!$C$8:$AK$8,\"F\"))","v":""},{"$f":"IF(ISBLANK('Data Input'!A227),\"\",SUM('Data Input'!E227,'Data Input'!M227,'Data Input'!Q227,'Data Input'!V227,'Data Input'!W227,'Data Input'!AD227,'Data Input'!AH227))","v":""},{"$f":"IF(O222=\"\",\"\",O222/COUNTIF('Data Input'!$C$8:$AK$8,\"M\"))","v":""},{"$f":"IF(ISBLANK('Data Input'!A227),\"\",SUM('Data Input'!H227,'Data Input'!K227,'Data Input'!P227,'Data Input'!Y227))","v":""},{"$f":"IF(Q222=\"\",\"\",Q222/COUNTIF('Data Input'!$C$8:$AK$8,\"G\"))","v":""}]
[{"$f":"IF('Data Input'!A228=0,\"\",'Data Input'!A228)","v":""},{"$f":"IF(ISBLANK('Data Input'!A228),\"\",COUNTIF('Data Input'!C228:AK228,\"\"))","v":""},{"$f":"IF(ISBLANK('Data Input'!A228),\"\",COUNTIF('Data Input'!C228:AK228,\"0\"))","v":""},{"$f":"IF(ISBLANK('Data Input'!A228),\"\",SUM(B223,C223))","v":""},{"$f":"IF(ISBLANK('Data Input'!A228),\"\",SUM('Data Input'!C228:AK228))","v":""},{"$f":"IF(E223=\"\",\"\",E223/(COUNTA('Data Input'!$C$8:$AK$8)))","v":""},{"$f":"IF(ISBLANK('Data Input'!A228),\"\",SUM('Data Input'!C228,'Data Input'!D228,'Data Input'!J228,'Data Input'!X228))","v":""},{"$f":"IF(G223=\"\",\"\",G223/COUNTIF('Data Input'!$C$8:$AK$8,\"N\"))","v":""},{"$f":"IF(ISBLANK('Data Input'!A228),\"\",SUM('Data Input'!G228,'Data Input'!I228,'Data Input'!L228,'Data Input'!N228,'Data Input'!O228,'Data Input'!S228,'Data Input'!Z228,'Data Input'!AA228,'Data Input'!AB228,'Data Input'!AC228,'Data Input'!AE228,'Data Input'!AF228,'Data Input'!AG228,'Data Input'!AI228,'Data Input'!AK228))","v":""},{"$f":"IF(I223=\"\",\"\",I223/COUNTIF('Data Input'!$C$8:$AK$8,\"C\"))","v":""},{"$f":"IF(ISBLANK('Data Input'!A228),\"\",SUM('Data Input'!T228,'Data Input'!U228))","v":""},{"$f":"IF(K223=\"\",\"\",K223/COUNTIF('Data Input'!$C$8:$AK$8,\"S\"))","v":""},{"$f":"IF(ISBLANK('Data Input'!A228),\"\",SUM('Data Input'!F228,'Data Input'!R228,'Data Input'!AJ228))","v":""},{"$f":"IF(M223=\"\",\"\",M223/COUNTIF('Data Input'!$C$8:$AK$8,\"F\"))","v":""},{"$f":"IF(ISBLANK('Data Input'!A228),\"\",SUM('Data Input'!E228,'Data Input'!M228,'Data Input'!Q228,'Data Input'!V228,'Data Input'!W228,'Data Input'!AD228,'Data Input'!AH228))","v":""},{"$f":"IF(O223=\"\",\"\",O223/COUNTIF('Data Input'!$C$8:$AK$8,\"M\"))","v":""},{"$f":"IF(ISBLANK('Data Input'!A228),\"\",SUM('Data Input'!H228,'Data Input'!K228,'Data Input'!P228,'Data Input'!Y228))","v":""},{"$f":"IF(Q223=\"\",\"\",Q223/COUNTIF('Data Input'!$C$8:$AK$8,\"G\"))","v":""}]
[{"$f":"IF('Data Input'!A229=0,\"\",'Data Input'!A229)","v":""},{"$f":"IF(ISBLANK('Data Input'!A229),\"\",COUNTIF('Data Input'!C229:AK229,\"\"))","v":""},{"$f":"IF(ISBLANK('Data Input'!A229),\"\",COUNTIF('Data Input'!C229:AK229,\"0\"))","v":""},{"$f":"IF(ISBLANK('Data Input'!A229),\"\",SUM(B224,C224))","v":""},{"$f":"IF(ISBLANK('Data Input'!A229),\"\",SUM('Data Input'!C229:AK229))","v":""},{"$f":"IF(E224=\"\",\"\",E224/(COUNTA('Data Input'!$C$8:$AK$8)))","v":""},{"$f":"IF(ISBLANK('Data Input'!A229),\"\",SUM('Data Input'!C229,'Data Input'!D229,'Data Input'!J229,'Data Input'!X229))","v":""},{"$f":"IF(G224=\"\",\"\",G224/COUNTIF('Data Input'!$C$8:$AK$8,\"N\"))","v":""},{"$f":"IF(ISBLANK('Data Input'!A229),\"\",SUM('Data Input'!G229,'Data Input'!I229,'Data Input'!L229,'Data Input'!N229,'Data Input'!O229,'Data Input'!S229,'Data Input'!Z229,'Data Input'!AA229,'Data Input'!AB229,'Data Input'!AC229,'Data Input'!AE229,'Data Input'!AF229,'Data Input'!AG229,'Data Input'!AI229,'Data Input'!AK229))","v":""},{"$f":"IF(I224=\"\",\"\",I224/COUNTIF('Data Input'!$C$8:$AK$8,\"C\"))","v":""},{"$f":"IF(ISBLANK('Data Input'!A229),\"\",SUM('Data Input'!T229,'Data Input'!U229))","v":""},{"$f":"IF(K224=\"\",\"\",K224/COUNTIF('Data Input'!$C$8:$AK$8,\"S\"))","v":""},{"$f":"IF(ISBLANK('Data Input'!A229),\"\",SUM('Data Input'!F229,'Data Input'!R229,'Data Input'!AJ229))","v":""},{"$f":"IF(M224=\"\",\"\",M224/COUNTIF('Data Input'!$C$8:$AK$8,\"F\"))","v":""},{"$f":"IF(ISBLANK('Data Input'!A229),\"\",SUM('Data Input'!E229,'Data Input'!M229,'Data Input'!Q229,'Data Input'!V229,'Data Input'!W229,'Data Input'!AD229,'Data Input'!AH229))","v":""},{"$f":"IF(O224=\"\",\"\",O224/COUNTIF('Data Input'!$C$8:$AK$8,\"M\"))","v":""},{"$f":"IF(ISBLANK('Data Input'!A229),\"\",SUM('Data Input'!H229,'Data Input'!K229,'Data Input'!P229,'Data Input'!Y229))","v":""},{"$f":"IF(Q224=\"\",\"\",Q224/COUNTIF('Data Input'!$C$8:$AK$8,\"G\"))","v":""}]
[{"$f":"IF('Data Input'!A230=0,\"\",'Data Input'!A230)","v":""},{"$f":"IF(ISBLANK('Data Input'!A230),\"\",COUNTIF('Data Input'!C230:AK230,\"\"))","v":""},{"$f":"IF(ISBLANK('Data Input'!A230),\"\",COUNTIF('Data Input'!C230:AK230,\"0\"))","v":""},{"$f":"IF(ISBLANK('Data Input'!A230),\"\",SUM(B225,C225))","v":""},{"$f":"IF(ISBLANK('Data Input'!A230),\"\",SUM('Data Input'!C230:AK230))","v":""},{"$f":"IF(E225=\"\",\"\",E225/(COUNTA('Data Input'!$C$8:$AK$8)))","v":""},{"$f":"IF(ISBLANK('Data Input'!A230),\"\",SUM('Data Input'!C230,'Data Input'!D230,'Data Input'!J230,'Data Input'!X230))","v":""},{"$f":"IF(G225=\"\",\"\",G225/COUNTIF('Data Input'!$C$8:$AK$8,\"N\"))","v":""},{"$f":"IF(ISBLANK('Data Input'!A230),\"\",SUM('Data Input'!G230,'Data Input'!I230,'Data Input'!L230,'Data Input'!N230,'Data Input'!O230,'Data Input'!S230,'Data Input'!Z230,'Data Input'!AA230,'Data Input'!AB230,'Data Input'!AC230,'Data Input'!AE230,'Data Input'!AF230,'Data Input'!AG230,'Data Input'!AI230,'Data Input'!AK230))","v":""},{"$f":"IF(I225=\"\",\"\",I225/COUNTIF('Data Input'!$C$8:$AK$8,\"C\"))","v":""},{"$f":"IF(ISBLANK('Data Input'!A230),\"\",SUM('Data Input'!T230,'Data Input'!U230))","v":""},{"$f":"IF(K225=\"\",\"\",K225/COUNTIF('Data Input'!$C$8:$AK$8,\"S\"))","v":""},{"$f":"IF(ISBLANK('Data Input'!A230),\"\",SUM('Data Input'!F230,'Data Input'!R230,'Data Input'!AJ230))","v":""},{"$f":"IF(M225=\"\",\"\",M225/COUNTIF('Data Input'!$C$8:$AK$8,\"F\"))","v":""},{"$f":"IF(ISBLANK('Data Input'!A230),\"\",SUM('Data Input'!E230,'Data Input'!M230,'Data Input'!Q230,'Data Input'!V230,'Data Input'!W230,'Data Input'!AD230,'Data Input'!AH230))","v":""},{"$f":"IF(O225=\"\",\"\",O225/COUNTIF('Data Input'!$C$8:$AK$8,\"M\"))","v":""},{"$f":"IF(ISBLANK('Data Input'!A230),\"\",SUM('Data Input'!H230,'Data Input'!K230,'Data Input'!P230,'Data Input'!Y230))","v":""},{"$f":"IF(Q225=\"\",\"\",Q225/COUNTIF('Data Input'!$C$8:$AK$8,\"G\"))","v":""}]
[{"$f":"IF('Data Input'!A231=0,\"\",'Data Input'!A231)","v":""},{"$f":"IF(ISBLANK('Data Input'!A231),\"\",COUNTIF('Data Input'!C231:AK231,\"\"))","v":""},{"$f":"IF(ISBLANK('Data Input'!A231),\"\",COUNTIF('Data Input'!C231:AK231,\"0\"))","v":""},{"$f":"IF(ISBLANK('Data Input'!A231),\"\",SUM(B226,C226))","v":""},{"$f":"IF(ISBLANK('Data Input'!A231),\"\",SUM('Data Input'!C231:AK231))","v":""},{"$f":"IF(E226=\"\",\"\",E226/(COUNTA('Data Input'!$C$8:$AK$8)))","v":""},{"$f":"IF(ISBLANK('Data Input'!A231),\"\",SUM('Data Input'!C231,'Data Input'!D231,'Data Input'!J231,'Data Input'!X231))","v":""},{"$f":"IF(G226=\"\",\"\",G226/COUNTIF('Data Input'!$C$8:$AK$8,\"N\"))","v":""},{"$f":"IF(ISBLANK('Data Input'!A231),\"\",SUM('Data Input'!G231,'Data Input'!I231,'Data Input'!L231,'Data Input'!N231,'Data Input'!O231,'Data Input'!S231,'Data Input'!Z231,'Data Input'!AA231,'Data Input'!AB231,'Data Input'!AC231,'Data Input'!AE231,'Data Input'!AF231,'Data Input'!AG231,'Data Input'!AI231,'Data Input'!AK231))","v":""},{"$f":"IF(I226=\"\",\"\",I226/COUNTIF('Data Input'!$C$8:$AK$8,\"C\"))","v":""},{"$f":"IF(ISBLANK('Data Input'!A231),\"\",SUM('Data Input'!T231,'Data Input'!U231))","v":""},{"$f":"IF(K226=\"\",\"\",K226/COUNTIF('Data Input'!$C$8:$AK$8,\"S\"))","v":""},{"$f":"IF(ISBLANK('Data Input'!A231),\"\",SUM('Data Input'!F231,'Data Input'!R231,'Data Input'!AJ231))","v":""},{"$f":"IF(M226=\"\",\"\",M226/COUNTIF('Data Input'!$C$8:$AK$8,\"F\"))","v":""},{"$f":"IF(ISBLANK('Data Input'!A231),\"\",SUM('Data Input'!E231,'Data Input'!M231,'Data Input'!Q231,'Data Input'!V231,'Data Input'!W231,'Data Input'!AD231,'Data Input'!AH231))","v":""},{"$f":"IF(O226=\"\",\"\",O226/COUNTIF('Data Input'!$C$8:$AK$8,\"M\"))","v":""},{"$f":"IF(ISBLANK('Data Input'!A231),\"\",SUM('Data Input'!H231,'Data Input'!K231,'Data Input'!P231,'Data Input'!Y231))","v":""},{"$f":"IF(Q226=\"\",\"\",Q226/COUNTIF('Data Input'!$C$8:$AK$8,\"G\"))","v":""}]
[{"$f":"IF('Data Input'!A232=0,\"\",'Data Input'!A232)","v":""},{"$f":"IF(ISBLANK('Data Input'!A232),\"\",COUNTIF('Data Input'!C232:AK232,\"\"))","v":""},{"$f":"IF(ISBLANK('Data Input'!A232),\"\",COUNTIF('Data Input'!C232:AK232,\"0\"))","v":""},{"$f":"IF(ISBLANK('Data Input'!A232),\"\",SUM(B227,C227))","v":""},{"$f":"IF(ISBLANK('Data Input'!A232),\"\",SUM('Data Input'!C232:AK232))","v":""},{"$f":"IF(E227=\"\",\"\",E227/(COUNTA('Data Input'!$C$8:$AK$8)))","v":""},{"$f":"IF(ISBLANK('Data Input'!A232),\"\",SUM('Data Input'!C232,'Data Input'!D232,'Data Input'!J232,'Data Input'!X232))","v":""},{"$f":"IF(G227=\"\",\"\",G227/COUNTIF('Data Input'!$C$8:$AK$8,\"N\"))","v":""},{"$f":"IF(ISBLANK('Data Input'!A232),\"\",SUM('Data Input'!G232,'Data Input'!I232,'Data Input'!L232,'Data Input'!N232,'Data Input'!O232,'Data Input'!S232,'Data Input'!Z232,'Data Input'!AA232,'Data Input'!AB232,'Data Input'!AC232,'Data Input'!AE232,'Data Input'!AF232,'Data Input'!AG232,'Data Input'!AI232,'Data Input'!AK232))","v":""},{"$f":"IF(I227=\"\",\"\",I227/COUNTIF('Data Input'!$C$8:$AK$8,\"C\"))","v":""},{"$f":"IF(ISBLANK('Data Input'!A232),\"\",SUM('Data Input'!T232,'Data Input'!U232))","v":""},{"$f":"IF(K227=\"\",\"\",K227/COUNTIF('Data Input'!$C$8:$AK$8,\"S\"))","v":""},{"$f":"IF(ISBLANK('Data Input'!A232),\"\",SUM('Data Input'!F232,'Data Input'!R232,'Data Input'!AJ232))","v":""},{"$f":"IF(M227=\"\",\"\",M227/COUNTIF('Data Input'!$C$8:$AK$8,\"F\"))","v":""},{"$f":"IF(ISBLANK('Data Input'!A232),\"\",SUM('Data Input'!E232,'Data Input'!M232,'Data Input'!Q232,'Data Input'!V232,'Data Input'!W232,'Data Input'!AD232,'Data Input'!AH232))","v":""},{"$f":"IF(O227=\"\",\"\",O227/COUNTIF('Data Input'!$C$8:$AK$8,\"M\"))","v":""},{"$f":"IF(ISBLANK('Data Input'!A232),\"\",SUM('Data Input'!H232,'Data Input'!K232,'Data Input'!P232,'Data Input'!Y232))","v":""},{"$f":"IF(Q227=\"\",\"\",Q227/COUNTIF('Data Input'!$C$8:$AK$8,\"G\"))","v":""}]
[{"$f":"IF('Data Input'!A233=0,\"\",'Data Input'!A233)","v":""},{"$f":"IF(ISBLANK('Data Input'!A233),\"\",COUNTIF('Data Input'!C233:AK233,\"\"))","v":""},{"$f":"IF(ISBLANK('Data Input'!A233),\"\",COUNTIF('Data Input'!C233:AK233,\"0\"))","v":""},{"$f":"IF(ISBLANK('Data Input'!A233),\"\",SUM(B228,C228))","v":""},{"$f":"IF(ISBLANK('Data Input'!A233),\"\",SUM('Data Input'!C233:AK233))","v":""},{"$f":"IF(E228=\"\",\"\",E228/(COUNTA('Data Input'!$C$8:$AK$8)))","v":""},{"$f":"IF(ISBLANK('Data Input'!A233),\"\",SUM('Data Input'!C233,'Data Input'!D233,'Data Input'!J233,'Data Input'!X233))","v":""},{"$f":"IF(G228=\"\",\"\",G228/COUNTIF('Data Input'!$C$8:$AK$8,\"N\"))","v":""},{"$f":"IF(ISBLANK('Data Input'!A233),\"\",SUM('Data Input'!G233,'Data Input'!I233,'Data Input'!L233,'Data Input'!N233,'Data Input'!O233,'Data Input'!S233,'Data Input'!Z233,'Data Input'!AA233,'Data Input'!AB233,'Data Input'!AC233,'Data Input'!AE233,'Data Input'!AF233,'Data Input'!AG233,'Data Input'!AI233,'Data Input'!AK233))","v":""},{"$f":"IF(I228=\"\",\"\",I228/COUNTIF('Data Input'!$C$8:$AK$8,\"C\"))","v":""},{"$f":"IF(ISBLANK('Data Input'!A233),\"\",SUM('Data Input'!T233,'Data Input'!U233))","v":""},{"$f":"IF(K228=\"\",\"\",K228/COUNTIF('Data Input'!$C$8:$AK$8,\"S\"))","v":""},{"$f":"IF(ISBLANK('Data Input'!A233),\"\",SUM('Data Input'!F233,'Data Input'!R233,'Data Input'!AJ233))","v":""},{"$f":"IF(M228=\"\",\"\",M228/COUNTIF('Data Input'!$C$8:$AK$8,\"F\"))","v":""},{"$f":"IF(ISBLANK('Data Input'!A233),\"\",SUM('Data Input'!E233,'Data Input'!M233,'Data Input'!Q233,'Data Input'!V233,'Data Input'!W233,'Data Input'!AD233,'Data Input'!AH233))","v":""},{"$f":"IF(O228=\"\",\"\",O228/COUNTIF('Data Input'!$C$8:$AK$8,\"M\"))","v":""},{"$f":"IF(ISBLANK('Data Input'!A233),\"\",SUM('Data Input'!H233,'Data Input'!K233,'Data Input'!P233,'Data Input'!Y233))","v":""},{"$f":"IF(Q228=\"\",\"\",Q228/COUNTIF('Data Input'!$C$8:$AK$8,\"G\"))","v":""}]
[{"$f":"IF('Data Input'!A234=0,\"\",'Data Input'!A234)","v":""},{"$f":"IF(ISBLANK('Data Input'!A234),\"\",COUNTIF('Data Input'!C234:AK234,\"\"))","v":""},{"$f":"IF(ISBLANK('Data Input'!A234),\"\",COUNTIF('Data Input'!C234:AK234,\"0\"))","v":""},{"$f":"IF(ISBLANK('Data Input'!A234),\"\",SUM(B229,C229))","v":""},{"$f":"IF(ISBLANK('Data Input'!A234),\"\",SUM('Data Input'!C234:AK234))","v":""},{"$f":"IF(E229=\"\",\"\",E229/(COUNTA('Data Input'!$C$8:$AK$8)))","v":""},{"$f":"IF(ISBLANK('Data Input'!A234),\"\",SUM('Data Input'!C234,'Data Input'!D234,'Data Input'!J234,'Data Input'!X234))","v":""},{"$f":"IF(G229=\"\",\"\",G229/COUNTIF('Data Input'!$C$8:$AK$8,\"N\"))","v":""},{"$f":"IF(ISBLANK('Data Input'!A234),\"\",SUM('Data Input'!G234,'Data Input'!I234,'Data Input'!L234,'Data Input'!N234,'Data Input'!O234,'Data Input'!S234,'Data Input'!Z234,'Data Input'!AA234,'Data Input'!AB234,'Data Input'!AC234,'Data Input'!AE234,'Data Input'!AF234,'Data Input'!AG234,'Data Input'!AI234,'Data Input'!AK234))","v":""},{"$f":"IF(I229=\"\",\"\",I229/COUNTIF('Data Input'!$C$8:$AK$8,\"C\"))","v":""},{"$f":"IF(ISBLANK('Data Input'!A234),\"\",SUM('Data Input'!T234,'Data Input'!U234))","v":""},{"$f":"IF(K229=\"\",\"\",K229/COUNTIF('Data Input'!$C$8:$AK$8,\"S\"))","v":""},{"$f":"IF(ISBLANK('Data Input'!A234),\"\",SUM('Data Input'!F234,'Data Input'!R234,'Data Input'!AJ234))","v":""},{"$f":"IF(M229=\"\",\"\",M229/COUNTIF('Data Input'!$C$8:$AK$8,\"F\"))","v":""},{"$f":"IF(ISBLANK('Data Input'!A234),\"\",SUM('Data Input'!E234,'Data Input'!M234,'Data Input'!Q234,'Data Input'!V234,'Data Input'!W234,'Data Input'!AD234,'Data Input'!AH234))","v":""},{"$f":"IF(O229=\"\",\"\",O229/COUNTIF('Data Input'!$C$8:$AK$8,\"M\"))","v":""},{"$f":"IF(ISBLANK('Data Input'!A234),\"\",SUM('Data Input'!H234,'Data Input'!K234,'Data Input'!P234,'Data Input'!Y234))","v":""},{"$f":"IF(Q229=\"\",\"\",Q229/COUNTIF('Data Input'!$C$8:$AK$8,\"G\"))","v":""}]
[{"$f":"IF('Data Input'!A235=0,\"\",'Data Input'!A235)","v":""},{"$f":"IF(ISBLANK('Data Input'!A235),\"\",COUNTIF('Data Input'!C235:AK235,\"\"))","v":""},{"$f":"IF(ISBLANK('Data Input'!A235),\"\",COUNTIF('Data Input'!C235:AK235,\"0\"))","v":""},{"$f":"IF(ISBLANK('Data Input'!A235),\"\",SUM(B230,C230))","v":""},{"$f":"IF(ISBLANK('Data Input'!A235),\"\",SUM('Data Input'!C235:AK235))","v":""},{"$f":"IF(E230=\"\",\"\",E230/(COUNTA('Data Input'!$C$8:$AK$8)))","v":""},{"$f":"IF(ISBLANK('Data Input'!A235),\"\",SUM('Data Input'!C235,'Data Input'!D235,'Data Input'!J235,'Data Input'!X235))","v":""},{"$f":"IF(G230=\"\",\"\",G230/COUNTIF('Data Input'!$C$8:$AK$8,\"N\"))","v":""},{"$f":"IF(ISBLANK('Data Input'!A235),\"\",SUM('Data Input'!G235,'Data Input'!I235,'Data Input'!L235,'Data Input'!N235,'Data Input'!O235,'Data Input'!S235,'Data Input'!Z235,'Data Input'!AA235,'Data Input'!AB235,'Data Input'!AC235,'Data Input'!AE235,'Data Input'!AF235,'Data Input'!AG235,'Data Input'!AI235,'Data Input'!AK235))","v":""},{"$f":"IF(I230=\"\",\"\",I230/COUNTIF('Data Input'!$C$8:$AK$8,\"C\"))","v":""},{"$f":"IF(ISBLANK('Data Input'!A235),\"\",SUM('Data Input'!T235,'Data Input'!U235))","v":""},{"$f":"IF(K230=\"\",\"\",K230/COUNTIF('Data Input'!$C$8:$AK$8,\"S\"))","v":""},{"$f":"IF(ISBLANK('Data Input'!A235),\"\",SUM('Data Input'!F235,'Data Input'!R235,'Data Input'!AJ235))","v":""},{"$f":"IF(M230=\"\",\"\",M230/COUNTIF('Data Input'!$C$8:$AK$8,\"F\"))","v":""},{"$f":"IF(ISBLANK('Data Input'!A235),\"\",SUM('Data Input'!E235,'Data Input'!M235,'Data Input'!Q235,'Data Input'!V235,'Data Input'!W235,'Data Input'!AD235,'Data Input'!AH235))","v":""},{"$f":"IF(O230=\"\",\"\",O230/COUNTIF('Data Input'!$C$8:$AK$8,\"M\"))","v":""},{"$f":"IF(ISBLANK('Data Input'!A235),\"\",SUM('Data Input'!H235,'Data Input'!K235,'Data Input'!P235,'Data Input'!Y235))","v":""},{"$f":"IF(Q230=\"\",\"\",Q230/COUNTIF('Data Input'!$C$8:$AK$8,\"G\"))","v":""}]
[{"$f":"IF('Data Input'!A236=0,\"\",'Data Input'!A236)","v":""},{"$f":"IF(ISBLANK('Data Input'!A236),\"\",COUNTIF('Data Input'!C236:AK236,\"\"))","v":""},{"$f":"IF(ISBLANK('Data Input'!A236),\"\",COUNTIF('Data Input'!C236:AK236,\"0\"))","v":""},{"$f":"IF(ISBLANK('Data Input'!A236),\"\",SUM(B231,C231))","v":""},{"$f":"IF(ISBLANK('Data Input'!A236),\"\",SUM('Data Input'!C236:AK236))","v":""},{"$f":"IF(E231=\"\",\"\",E231/(COUNTA('Data Input'!$C$8:$AK$8)))","v":""},{"$f":"IF(ISBLANK('Data Input'!A236),\"\",SUM('Data Input'!C236,'Data Input'!D236,'Data Input'!J236,'Data Input'!X236))","v":""},{"$f":"IF(G231=\"\",\"\",G231/COUNTIF('Data Input'!$C$8:$AK$8,\"N\"))","v":""},{"$f":"IF(ISBLANK('Data Input'!A236),\"\",SUM('Data Input'!G236,'Data Input'!I236,'Data Input'!L236,'Data Input'!N236,'Data Input'!O236,'Data Input'!S236,'Data Input'!Z236,'Data Input'!AA236,'Data Input'!AB236,'Data Input'!AC236,'Data Input'!AE236,'Data Input'!AF236,'Data Input'!AG236,'Data Input'!AI236,'Data Input'!AK236))","v":""},{"$f":"IF(I231=\"\",\"\",I231/COUNTIF('Data Input'!$C$8:$AK$8,\"C\"))","v":""},{"$f":"IF(ISBLANK('Data Input'!A236),\"\",SUM('Data Input'!T236,'Data Input'!U236))","v":""},{"$f":"IF(K231=\"\",\"\",K231/COUNTIF('Data Input'!$C$8:$AK$8,\"S\"))","v":""},{"$f":"IF(ISBLANK('Data Input'!A236),\"\",SUM('Data Input'!F236,'Data Input'!R236,'Data Input'!AJ236))","v":""},{"$f":"IF(M231=\"\",\"\",M231/COUNTIF('Data Input'!$C$8:$AK$8,\"F\"))","v":""},{"$f":"IF(ISBLANK('Data Input'!A236),\"\",SUM('Data Input'!E236,'Data Input'!M236,'Data Input'!Q236,'Data Input'!V236,'Data Input'!W236,'Data Input'!AD236,'Data Input'!AH236))","v":""},{"$f":"IF(O231=\"\",\"\",O231/COUNTIF('Data Input'!$C$8:$AK$8,\"M\"))","v":""},{"$f":"IF(ISBLANK('Data Input'!A236),\"\",SUM('Data Input'!H236,'Data Input'!K236,'Data Input'!P236,'Data Input'!Y236))","v":""},{"$f":"IF(Q231=\"\",\"\",Q231/COUNTIF('Data Input'!$C$8:$AK$8,\"G\"))","v":""}]
[{"$f":"IF('Data Input'!A237=0,\"\",'Data Input'!A237)","v":""},{"$f":"IF(ISBLANK('Data Input'!A237),\"\",COUNTIF('Data Input'!C237:AK237,\"\"))","v":""},{"$f":"IF(ISBLANK('Data Input'!A237),\"\",COUNTIF('Data Input'!C237:AK237,\"0\"))","v":""},{"$f":"IF(ISBLANK('Data Input'!A237),\"\",SUM(B232,C232))","v":""},{"$f":"IF(ISBLANK('Data Input'!A237),\"\",SUM('Data Input'!C237:AK237))","v":""},{"$f":"IF(E232=\"\",\"\",E232/(COUNTA('Data Input'!$C$8:$AK$8)))","v":""},{"$f":"IF(ISBLANK('Data Input'!A237),\"\",SUM('Data Input'!C237,'Data Input'!D237,'Data Input'!J237,'Data Input'!X237))","v":""},{"$f":"IF(G232=\"\",\"\",G232/COUNTIF('Data Input'!$C$8:$AK$8,\"N\"))","v":""},{"$f":"IF(ISBLANK('Data Input'!A237),\"\",SUM('Data Input'!G237,'Data Input'!I237,'Data Input'!L237,'Data Input'!N237,'Data Input'!O237,'Data Input'!S237,'Data Input'!Z237,'Data Input'!AA237,'Data Input'!AB237,'Data Input'!AC237,'Data Input'!AE237,'Data Input'!AF237,'Data Input'!AG237,'Data Input'!AI237,'Data Input'!AK237))","v":""},{"$f":"IF(I232=\"\",\"\",I232/COUNTIF('Data Input'!$C$8:$AK$8,\"C\"))","v":""},{"$f":"IF(ISBLANK('Data Input'!A237),\"\",SUM('Data Input'!T237,'Data Input'!U237))","v":""},{"$f":"IF(K232=\"\",\"\",K232/COUNTIF('Data Input'!$C$8:$AK$8,\"S\"))","v":""},{"$f":"IF(ISBLANK('Data Input'!A237),\"\",SUM('Data Input'!F237,'Data Input'!R237,'Data Input'!AJ237))","v":""},{"$f":"IF(M232=\"\",\"\",M232/COUNTIF('Data Input'!$C$8:$AK$8,\"F\"))","v":""},{"$f":"IF(ISBLANK('Data Input'!A237),\"\",SUM('Data Input'!E237,'Data Input'!M237,'Data Input'!Q237,'Data Input'!V237,'Data Input'!W237,'Data Input'!AD237,'Data Input'!AH237))","v":""},{"$f":"IF(O232=\"\",\"\",O232/COUNTIF('Data Input'!$C$8:$AK$8,\"M\"))","v":""},{"$f":"IF(ISBLANK('Data Input'!A237),\"\",SUM('Data Input'!H237,'Data Input'!K237,'Data Input'!P237,'Data Input'!Y237))","v":""},{"$f":"IF(Q232=\"\",\"\",Q232/COUNTIF('Data Input'!$C$8:$AK$8,\"G\"))","v":""}]
[{"$f":"IF('Data Input'!A238=0,\"\",'Data Input'!A238)","v":""},{"$f":"IF(ISBLANK('Data Input'!A238),\"\",COUNTIF('Data Input'!C238:AK238,\"\"))","v":""},{"$f":"IF(ISBLANK('Data Input'!A238),\"\",COUNTIF('Data Input'!C238:AK238,\"0\"))","v":""},{"$f":"IF(ISBLANK('Data Input'!A238),\"\",SUM(B233,C233))","v":""},{"$f":"IF(ISBLANK('Data Input'!A238),\"\",SUM('Data Input'!C238:AK238))","v":""},{"$f":"IF(E233=\"\",\"\",E233/(COUNTA('Data Input'!$C$8:$AK$8)))","v":""},{"$f":"IF(ISBLANK('Data Input'!A238),\"\",SUM('Data Input'!C238,'Data Input'!D238,'Data Input'!J238,'Data Input'!X238))","v":""},{"$f":"IF(G233=\"\",\"\",G233/COUNTIF('Data Input'!$C$8:$AK$8,\"N\"))","v":""},{"$f":"IF(ISBLANK('Data Input'!A238),\"\",SUM('Data Input'!G238,'Data Input'!I238,'Data Input'!L238,'Data Input'!N238,'Data Input'!O238,'Data Input'!S238,'Data Input'!Z238,'Data Input'!AA238,'Data Input'!AB238,'Data Input'!AC238,'Data Input'!AE238,'Data Input'!AF238,'Data Input'!AG238,'Data Input'!AI238,'Data Input'!AK238))","v":""},{"$f":"IF(I233=\"\",\"\",I233/COUNTIF('Data Input'!$C$8:$AK$8,\"C\"))","v":""},{"$f":"IF(ISBLANK('Data Input'!A238),\"\",SUM('Data Input'!T238,'Data Input'!U238))","v":""},{"$f":"IF(K233=\"\",\"\",K233/COUNTIF('Data Input'!$C$8:$AK$8,\"S\"))","v":""},{"$f":"IF(ISBLANK('Data Input'!A238),\"\",SUM('Data Input'!F238,'Data Input'!R238,'Data Input'!AJ238))","v":""},{"$f":"IF(M233=\"\",\"\",M233/COUNTIF('Data Input'!$C$8:$AK$8,\"F\"))","v":""},{"$f":"IF(ISBLANK('Data Input'!A238),\"\",SUM('Data Input'!E238,'Data Input'!M238,'Data Input'!Q238,'Data Input'!V238,'Data Input'!W238,'Data Input'!AD238,'Data Input'!AH238))","v":""},{"$f":"IF(O233=\"\",\"\",O233/COUNTIF('Data Input'!$C$8:$AK$8,\"M\"))","v":""},{"$f":"IF(ISBLANK('Data Input'!A238),\"\",SUM('Data Input'!H238,'Data Input'!K238,'Data Input'!P238,'Data Input'!Y238))","v":""},{"$f":"IF(Q233=\"\",\"\",Q233/COUNTIF('Data Input'!$C$8:$AK$8,\"G\"))","v":""}]
[{"$f":"IF('Data Input'!A239=0,\"\",'Data Input'!A239)","v":""},{"$f":"IF(ISBLANK('Data Input'!A239),\"\",COUNTIF('Data Input'!C239:AK239,\"\"))","v":""},{"$f":"IF(ISBLANK('Data Input'!A239),\"\",COUNTIF('Data Input'!C239:AK239,\"0\"))","v":""},{"$f":"IF(ISBLANK('Data Input'!A239),\"\",SUM(B234,C234))","v":""},{"$f":"IF(ISBLANK('Data Input'!A239),\"\",SUM('Data Input'!C239:AK239))","v":""},{"$f":"IF(E234=\"\",\"\",E234/(COUNTA('Data Input'!$C$8:$AK$8)))","v":""},{"$f":"IF(ISBLANK('Data Input'!A239),\"\",SUM('Data Input'!C239,'Data Input'!D239,'Data Input'!J239,'Data Input'!X239))","v":""},{"$f":"IF(G234=\"\",\"\",G234/COUNTIF('Data Input'!$C$8:$AK$8,\"N\"))","v":""},{"$f":"IF(ISBLANK('Data Input'!A239),\"\",SUM('Data Input'!G239,'Data Input'!I239,'Data Input'!L239,'Data Input'!N239,'Data Input'!O239,'Data Input'!S239,'Data Input'!Z239,'Data Input'!AA239,'Data Input'!AB239,'Data Input'!AC239,'Data Input'!AE239,'Data Input'!AF239,'Data Input'!AG239,'Data Input'!AI239,'Data Input'!AK239))","v":""},{"$f":"IF(I234=\"\",\"\",I234/COUNTIF('Data Input'!$C$8:$AK$8,\"C\"))","v":""},{"$f":"IF(ISBLANK('Data Input'!A239),\"\",SUM('Data Input'!T239,'Data Input'!U239))","v":""},{"$f":"IF(K234=\"\",\"\",K234/COUNTIF('Data Input'!$C$8:$AK$8,\"S\"))","v":""},{"$f":"IF(ISBLANK('Data Input'!A239),\"\",SUM('Data Input'!F239,'Data Input'!R239,'Data Input'!AJ239))","v":""},{"$f":"IF(M234=\"\",\"\",M234/COUNTIF('Data Input'!$C$8:$AK$8,\"F\"))","v":""},{"$f":"IF(ISBLANK('Data Input'!A239),\"\",SUM('Data Input'!E239,'Data Input'!M239,'Data Input'!Q239,'Data Input'!V239,'Data Input'!W239,'Data Input'!AD239,'Data Input'!AH239))","v":""},{"$f":"IF(O234=\"\",\"\",O234/COUNTIF('Data Input'!$C$8:$AK$8,\"M\"))","v":""},{"$f":"IF(ISBLANK('Data Input'!A239),\"\",SUM('Data Input'!H239,'Data Input'!K239,'Data Input'!P239,'Data Input'!Y239))","v":""},{"$f":"IF(Q234=\"\",\"\",Q234/COUNTIF('Data Input'!$C$8:$AK$8,\"G\"))","v":""}]
[{"$f":"IF('Data Input'!A240=0,\"\",'Data Input'!A240)","v":""},{"$f":"IF(ISBLANK('Data Input'!A240),\"\",COUNTIF('Data Input'!C240:AK240,\"\"))","v":""},{"$f":"IF(ISBLANK('Data Input'!A240),\"\",COUNTIF('Data Input'!C240:AK240,\"0\"))","v":""},{"$f":"IF(ISBLANK('Data Input'!A240),\"\",SUM(B235,C235))","v":""},{"$f":"IF(ISBLANK('Data Input'!A240),\"\",SUM('Data Input'!C240:AK240))","v":""},{"$f":"IF(E235=\"\",\"\",E235/(COUNTA('Data Input'!$C$8:$AK$8)))","v":""},{"$f":"IF(ISBLANK('Data Input'!A240),\"\",SUM('Data Input'!C240,'Data Input'!D240,'Data Input'!J240,'Data Input'!X240))","v":""},{"$f":"IF(G235=\"\",\"\",G235/COUNTIF('Data Input'!$C$8:$AK$8,\"N\"))","v":""},{"$f":"IF(ISBLANK('Data Input'!A240),\"\",SUM('Data Input'!G240,'Data Input'!I240,'Data Input'!L240,'Data Input'!N240,'Data Input'!O240,'Data Input'!S240,'Data Input'!Z240,'Data Input'!AA240,'Data Input'!AB240,'Data Input'!AC240,'Data Input'!AE240,'Data Input'!AF240,'Data Input'!AG240,'Data Input'!AI240,'Data Input'!AK240))","v":""},{"$f":"IF(I235=\"\",\"\",I235/COUNTIF('Data Input'!$C$8:$AK$8,\"C\"))","v":""},{"$f":"IF(ISBLANK('Data Input'!A240),\"\",SUM('Data Input'!T240,'Data Input'!U240))","v":""},{"$f":"IF(K235=\"\",\"\",K235/COUNTIF('Data Input'!$C$8:$AK$8,\"S\"))","v":""},{"$f":"IF(ISBLANK('Data Input'!A240),\"\",SUM('Data Input'!F240,'Data Input'!R240,'Data Input'!AJ240))","v":""},{"$f":"IF(M235=\"\",\"\",M235/COUNTIF('Data Input'!$C$8:$AK$8,\"F\"))","v":""},{"$f":"IF(ISBLANK('Data Input'!A240),\"\",SUM('Data Input'!E240,'Data Input'!M240,'Data Input'!Q240,'Data Input'!V240,'Data Input'!W240,'Data Input'!AD240,'Data Input'!AH240))","v":""},{"$f":"IF(O235=\"\",\"\",O235/COUNTIF('Data Input'!$C$8:$AK$8,\"M\"))","v":""},{"$f":"IF(ISBLANK('Data Input'!A240),\"\",SUM('Data Input'!H240,'Data Input'!K240,'Data Input'!P240,'Data Input'!Y240))","v":""},{"$f":"IF(Q235=\"\",\"\",Q235/COUNTIF('Data Input'!$C$8:$AK$8,\"G\"))","v":""}]
[{"$f":"IF('Data Input'!A241=0,\"\",'Data Input'!A241)","v":""},{"$f":"IF(ISBLANK('Data Input'!A241),\"\",COUNTIF('Data Input'!C241:AK241,\"\"))","v":""},{"$f":"IF(ISBLANK('Data Input'!A241),\"\",COUNTIF('Data Input'!C241:AK241,\"0\"))","v":""},{"$f":"IF(ISBLANK('Data Input'!A241),\"\",SUM(B236,C236))","v":""},{"$f":"IF(ISBLANK('Data Input'!A241),\"\",SUM('Data Input'!C241:AK241))","v":""},{"$f":"IF(E236=\"\",\"\",E236/(COUNTA('Data Input'!$C$8:$AK$8)))","v":""},{"$f":"IF(ISBLANK('Data Input'!A241),\"\",SUM('Data Input'!C241,'Data Input'!D241,'Data Input'!J241,'Data Input'!X241))","v":""},{"$f":"IF(G236=\"\",\"\",G236/COUNTIF('Data Input'!$C$8:$AK$8,\"N\"))","v":""},{"$f":"IF(ISBLANK('Data Input'!A241),\"\",SUM('Data Input'!G241,'Data Input'!I241,'Data Input'!L241,'Data Input'!N241,'Data Input'!O241,'Data Input'!S241,'Data Input'!Z241,'Data Input'!AA241,'Data Input'!AB241,'Data Input'!AC241,'Data Input'!AE241,'Data Input'!AF241,'Data Input'!AG241,'Data Input'!AI241,'Data Input'!AK241))","v":""},{"$f":"IF(I236=\"\",\"\",I236/COUNTIF('Data Input'!$C$8:$AK$8,\"C\"))","v":""},{"$f":"IF(ISBLANK('Data Input'!A241),\"\",SUM('Data Input'!T241,'Data Input'!U241))","v":""},{"$f":"IF(K236=\"\",\"\",K236/COUNTIF('Data Input'!$C$8:$AK$8,\"S\"))","v":""},{"$f":"IF(ISBLANK('Data Input'!A241),\"\",SUM('Data Input'!F241,'Data Input'!R241,'Data Input'!AJ241))","v":""},{"$f":"IF(M236=\"\",\"\",M236/COUNTIF('Data Input'!$C$8:$AK$8,\"F\"))","v":""},{"$f":"IF(ISBLANK('Data Input'!A241),\"\",SUM('Data Input'!E241,'Data Input'!M241,'Data Input'!Q241,'Data Input'!V241,'Data Input'!W241,'Data Input'!AD241,'Data Input'!AH241))","v":""},{"$f":"IF(O236=\"\",\"\",O236/COUNTIF('Data Input'!$C$8:$AK$8,\"M\"))","v":""},{"$f":"IF(ISBLANK('Data Input'!A241),\"\",SUM('Data Input'!H241,'Data Input'!K241,'Data Input'!P241,'Data Input'!Y241))","v":""},{"$f":"IF(Q236=\"\",\"\",Q236/COUNTIF('Data Input'!$C$8:$AK$8,\"G\"))","v":""}]
[{"$f":"IF('Data Input'!A242=0,\"\",'Data Input'!A242)","v":""},{"$f":"IF(ISBLANK('Data Input'!A242),\"\",COUNTIF('Data Input'!C242:AK242,\"\"))","v":""},{"$f":"IF(ISBLANK('Data Input'!A242),\"\",COUNTIF('Data Input'!C242:AK242,\"0\"))","v":""},{"$f":"IF(ISBLANK('Data Input'!A242),\"\",SUM(B237,C237))","v":""},{"$f":"IF(ISBLANK('Data Input'!A242),\"\",SUM('Data Input'!C242:AK242))","v":""},{"$f":"IF(E237=\"\",\"\",E237/(COUNTA('Data Input'!$C$8:$AK$8)))","v":""},{"$f":"IF(ISBLANK('Data Input'!A242),\"\",SUM('Data Input'!C242,'Data Input'!D242,'Data Input'!J242,'Data Input'!X242))","v":""},{"$f":"IF(G237=\"\",\"\",G237/COUNTIF('Data Input'!$C$8:$AK$8,\"N\"))","v":""},{"$f":"IF(ISBLANK('Data Input'!A242),\"\",SUM('Data Input'!G242,'Data Input'!I242,'Data Input'!L242,'Data Input'!N242,'Data Input'!O242,'Data Input'!S242,'Data Input'!Z242,'Data Input'!AA242,'Data Input'!AB242,'Data Input'!AC242,'Data Input'!AE242,'Data Input'!AF242,'Data Input'!AG242,'Data Input'!AI242,'Data Input'!AK242))","v":""},{"$f":"IF(I237=\"\",\"\",I237/COUNTIF('Data Input'!$C$8:$AK$8,\"C\"))","v":""},{"$f":"IF(ISBLANK('Data Input'!A242),\"\",SUM('Data Input'!T242,'Data Input'!U242))","v":""},{"$f":"IF(K237=\"\",\"\",K237/COUNTIF('Data Input'!$C$8:$AK$8,\"S\"))","v":""},{"$f":"IF(ISBLANK('Data Input'!A242),\"\",SUM('Data Input'!F242,'Data Input'!R242,'Data Input'!AJ242))","v":""},{"$f":"IF(M237=\"\",\"\",M237/COUNTIF('Data Input'!$C$8:$AK$8,\"F\"))","v":""},{"$f":"IF(ISBLANK('Data Input'!A242),\"\",SUM('Data Input'!E242,'Data Input'!M242,'Data Input'!Q242,'Data Input'!V242,'Data Input'!W242,'Data Input'!AD242,'Data Input'!AH242))","v":""},{"$f":"IF(O237=\"\",\"\",O237/COUNTIF('Data Input'!$C$8:$AK$8,\"M\"))","v":""},{"$f":"IF(ISBLANK('Data Input'!A242),\"\",SUM('Data Input'!H242,'Data Input'!K242,'Data Input'!P242,'Data Input'!Y242))","v":""},{"$f":"IF(Q237=\"\",\"\",Q237/COUNTIF('Data Input'!$C$8:$AK$8,\"G\"))","v":""}]
[{"$f":"IF('Data Input'!A243=0,\"\",'Data Input'!A243)","v":""},{"$f":"IF(ISBLANK('Data Input'!A243),\"\",COUNTIF('Data Input'!C243:AK243,\"\"))","v":""},{"$f":"IF(ISBLANK('Data Input'!A243),\"\",COUNTIF('Data Input'!C243:AK243,\"0\"))","v":""},{"$f":"IF(ISBLANK('Data Input'!A243),\"\",SUM(B238,C238))","v":""},{"$f":"IF(ISBLANK('Data Input'!A243),\"\",SUM('Data Input'!C243:AK243))","v":""},{"$f":"IF(E238=\"\",\"\",E238/(COUNTA('Data Input'!$C$8:$AK$8)))","v":""},{"$f":"IF(ISBLANK('Data Input'!A243),\"\",SUM('Data Input'!C243,'Data Input'!D243,'Data Input'!J243,'Data Input'!X243))","v":""},{"$f":"IF(G238=\"\",\"\",G238/COUNTIF('Data Input'!$C$8:$AK$8,\"N\"))","v":""},{"$f":"IF(ISBLANK('Data Input'!A243),\"\",SUM('Data Input'!G243,'Data Input'!I243,'Data Input'!L243,'Data Input'!N243,'Data Input'!O243,'Data Input'!S243,'Data Input'!Z243,'Data Input'!AA243,'Data Input'!AB243,'Data Input'!AC243,'Data Input'!AE243,'Data Input'!AF243,'Data Input'!AG243,'Data Input'!AI243,'Data Input'!AK243))","v":""},{"$f":"IF(I238=\"\",\"\",I238/COUNTIF('Data Input'!$C$8:$AK$8,\"C\"))","v":""},{"$f":"IF(ISBLANK('Data Input'!A243),\"\",SUM('Data Input'!T243,'Data Input'!U243))","v":""},{"$f":"IF(K238=\"\",\"\",K238/COUNTIF('Data Input'!$C$8:$AK$8,\"S\"))","v":""},{"$f":"IF(ISBLANK('Data Input'!A243),\"\",SUM('Data Input'!F243,'Data Input'!R243,'Data Input'!AJ243))","v":""},{"$f":"IF(M238=\"\",\"\",M238/COUNTIF('Data Input'!$C$8:$AK$8,\"F\"))","v":""},{"$f":"IF(ISBLANK('Data Input'!A243),\"\",SUM('Data Input'!E243,'Data Input'!M243,'Data Input'!Q243,'Data Input'!V243,'Data Input'!W243,'Data Input'!AD243,'Data Input'!AH243))","v":""},{"$f":"IF(O238=\"\",\"\",O238/COUNTIF('Data Input'!$C$8:$AK$8,\"M\"))","v":""},{"$f":"IF(ISBLANK('Data Input'!A243),\"\",SUM('Data Input'!H243,'Data Input'!K243,'Data Input'!P243,'Data Input'!Y243))","v":""},{"$f":"IF(Q238=\"\",\"\",Q238/COUNTIF('Data Input'!$C$8:$AK$8,\"G\"))","v":""}]
[{"$f":"IF('Data Input'!A244=0,\"\",'Data Input'!A244)","v":""},{"$f":"IF(ISBLANK('Data Input'!A244),\"\",COUNTIF('Data Input'!C244:AK244,\"\"))","v":""},{"$f":"IF(ISBLANK('Data Input'!A244),\"\",COUNTIF('Data Input'!C244:AK244,\"0\"))","v":""},{"$f":"IF(ISBLANK('Data Input'!A244),\"\",SUM(B239,C239))","v":""},{"$f":"IF(ISBLANK('Data Input'!A244),\"\",SUM('Data Input'!C244:AK244))","v":""},{"$f":"IF(E239=\"\",\"\",E239/(COUNTA('Data Input'!$C$8:$AK$8)))","v":""},{"$f":"IF(ISBLANK('Data Input'!A244),\"\",SUM('Data Input'!C244,'Data Input'!D244,'Data Input'!J244,'Data Input'!X244))","v":""},{"$f":"IF(G239=\"\",\"\",G239/COUNTIF('Data Input'!$C$8:$AK$8,\"N\"))","v":""},{"$f":"IF(ISBLANK('Data Input'!A244),\"\",SUM('Data Input'!G244,'Data Input'!I244,'Data Input'!L244,'Data Input'!N244,'Data Input'!O244,'Data Input'!S244,'Data Input'!Z244,'Data Input'!AA244,'Data Input'!AB244,'Data Input'!AC244,'Data Input'!AE244,'Data Input'!AF244,'Data Input'!AG244,'Data Input'!AI244,'Data Input'!AK244))","v":""},{"$f":"IF(I239=\"\",\"\",I239/COUNTIF('Data Input'!$C$8:$AK$8,\"C\"))","v":""},{"$f":"IF(ISBLANK('Data Input'!A244),\"\",SUM('Data Input'!T244,'Data Input'!U244))","v":""},{"$f":"IF(K239=\"\",\"\",K239/COUNTIF('Data Input'!$C$8:$AK$8,\"S\"))","v":""},{"$f":"IF(ISBLANK('Data Input'!A244),\"\",SUM('Data Input'!F244,'Data Input'!R244,'Data Input'!AJ244))","v":""},{"$f":"IF(M239=\"\",\"\",M239/COUNTIF('Data Input'!$C$8:$AK$8,\"F\"))","v":""},{"$f":"IF(ISBLANK('Data Input'!A244),\"\",SUM('Data Input'!E244,'Data Input'!M244,'Data Input'!Q244,'Data Input'!V244,'Data Input'!W244,'Data Input'!AD244,'Data Input'!AH244))","v":""},{"$f":"IF(O239=\"\",\"\",O239/COUNTIF('Data Input'!$C$8:$AK$8,\"M\"))","v":""},{"$f":"IF(ISBLANK('Data Input'!A244),\"\",SUM('Data Input'!H244,'Data Input'!K244,'Data Input'!P244,'Data Input'!Y244))","v":""},{"$f":"IF(Q239=\"\",\"\",Q239/COUNTIF('Data Input'!$C$8:$AK$8,\"G\"))","v":""}]
[{"$f":"IF('Data Input'!A245=0,\"\",'Data Input'!A245)","v":""},{"$f":"IF(ISBLANK('Data Input'!A245),\"\",COUNTIF('Data Input'!C245:AK245,\"\"))","v":""},{"$f":"IF(ISBLANK('Data Input'!A245),\"\",COUNTIF('Data Input'!C245:AK245,\"0\"))","v":""},{"$f":"IF(ISBLANK('Data Input'!A245),\"\",SUM(B240,C240))","v":""},{"$f":"IF(ISBLANK('Data Input'!A245),\"\",SUM('Data Input'!C245:AK245))","v":""},{"$f":"IF(E240=\"\",\"\",E240/(COUNTA('Data Input'!$C$8:$AK$8)))","v":""},{"$f":"IF(ISBLANK('Data Input'!A245),\"\",SUM('Data Input'!C245,'Data Input'!D245,'Data Input'!J245,'Data Input'!X245))","v":""},{"$f":"IF(G240=\"\",\"\",G240/COUNTIF('Data Input'!$C$8:$AK$8,\"N\"))","v":""},{"$f":"IF(ISBLANK('Data Input'!A245),\"\",SUM('Data Input'!G245,'Data Input'!I245,'Data Input'!L245,'Data Input'!N245,'Data Input'!O245,'Data Input'!S245,'Data Input'!Z245,'Data Input'!AA245,'Data Input'!AB245,'Data Input'!AC245,'Data Input'!AE245,'Data Input'!AF245,'Data Input'!AG245,'Data Input'!AI245,'Data Input'!AK245))","v":""},{"$f":"IF(I240=\"\",\"\",I240/COUNTIF('Data Input'!$C$8:$AK$8,\"C\"))","v":""},{"$f":"IF(ISBLANK('Data Input'!A245),\"\",SUM('Data Input'!T245,'Data Input'!U245))","v":""},{"$f":"IF(K240=\"\",\"\",K240/COUNTIF('Data Input'!$C$8:$AK$8,\"S\"))","v":""},{"$f":"IF(ISBLANK('Data Input'!A245),\"\",SUM('Data Input'!F245,'Data Input'!R245,'Data Input'!AJ245))","v":""},{"$f":"IF(M240=\"\",\"\",M240/COUNTIF('Data Input'!$C$8:$AK$8,\"F\"))","v":""},{"$f":"IF(ISBLANK('Data Input'!A245),\"\",SUM('Data Input'!E245,'Data Input'!M245,'Data Input'!Q245,'Data Input'!V245,'Data Input'!W245,'Data Input'!AD245,'Data Input'!AH245))","v":""},{"$f":"IF(O240=\"\",\"\",O240/COUNTIF('Data Input'!$C$8:$AK$8,\"M\"))","v":""},{"$f":"IF(ISBLANK('Data Input'!A245),\"\",SUM('Data Input'!H245,'Data Input'!K245,'Data Input'!P245,'Data Input'!Y245))","v":""},{"$f":"IF(Q240=\"\",\"\",Q240/COUNTIF('Data Input'!$C$8:$AK$8,\"G\"))","v":""}]
[{"$f":"IF('Data Input'!A246=0,\"\",'Data Input'!A246)","v":""},{"$f":"IF(ISBLANK('Data Input'!A246),\"\",COUNTIF('Data Input'!C246:AK246,\"\"))","v":""},{"$f":"IF(ISBLANK('Data Input'!A246),\"\",COUNTIF('Data Input'!C246:AK246,\"0\"))","v":""},{"$f":"IF(ISBLANK('Data Input'!A246),\"\",SUM(B241,C241))","v":""},{"$f":"IF(ISBLANK('Data Input'!A246),\"\",SUM('Data Input'!C246:AK246))","v":""},{"$f":"IF(E241=\"\",\"\",E241/(COUNTA('Data Input'!$C$8:$AK$8)))","v":""},{"$f":"IF(ISBLANK('Data Input'!A246),\"\",SUM('Data Input'!C246,'Data Input'!D246,'Data Input'!J246,'Data Input'!X246))","v":""},{"$f":"IF(G241=\"\",\"\",G241/COUNTIF('Data Input'!$C$8:$AK$8,\"N\"))","v":""},{"$f":"IF(ISBLANK('Data Input'!A246),\"\",SUM('Data Input'!G246,'Data Input'!I246,'Data Input'!L246,'Data Input'!N246,'Data Input'!O246,'Data Input'!S246,'Data Input'!Z246,'Data Input'!AA246,'Data Input'!AB246,'Data Input'!AC246,'Data Input'!AE246,'Data Input'!AF246,'Data Input'!AG246,'Data Input'!AI246,'Data Input'!AK246))","v":""},{"$f":"IF(I241=\"\",\"\",I241/COUNTIF('Data Input'!$C$8:$AK$8,\"C\"))","v":""},{"$f":"IF(ISBLANK('Data Input'!A246),\"\",SUM('Data Input'!T246,'Data Input'!U246))","v":""},{"$f":"IF(K241=\"\",\"\",K241/COUNTIF('Data Input'!$C$8:$AK$8,\"S\"))","v":""},{"$f":"IF(ISBLANK('Data Input'!A246),\"\",SUM('Data Input'!F246,'Data Input'!R246,'Data Input'!AJ246))","v":""},{"$f":"IF(M241=\"\",\"\",M241/COUNTIF('Data Input'!$C$8:$AK$8,\"F\"))","v":""},{"$f":"IF(ISBLANK('Data Input'!A246),\"\",SUM('Data Input'!E246,'Data Input'!M246,'Data Input'!Q246,'Data Input'!V246,'Data Input'!W246,'Data Input'!AD246,'Data Input'!AH246))","v":""},{"$f":"IF(O241=\"\",\"\",O241/COUNTIF('Data Input'!$C$8:$AK$8,\"M\"))","v":""},{"$f":"IF(ISBLANK('Data Input'!A246),\"\",SUM('Data Input'!H246,'Data Input'!K246,'Data Input'!P246,'Data Input'!Y246))","v":""},{"$f":"IF(Q241=\"\",\"\",Q241/COUNTIF('Data Input'!$C$8:$AK$8,\"G\"))","v":""}]
[{"$f":"IF('Data Input'!A247=0,\"\",'Data Input'!A247)","v":""},{"$f":"IF(ISBLANK('Data Input'!A247),\"\",COUNTIF('Data Input'!C247:AK247,\"\"))","v":""},{"$f":"IF(ISBLANK('Data Input'!A247),\"\",COUNTIF('Data Input'!C247:AK247,\"0\"))","v":""},{"$f":"IF(ISBLANK('Data Input'!A247),\"\",SUM(B242,C242))","v":""},{"$f":"IF(ISBLANK('Data Input'!A247),\"\",SUM('Data Input'!C247:AK247))","v":""},{"$f":"IF(E242=\"\",\"\",E242/(COUNTA('Data Input'!$C$8:$AK$8)))","v":""},{"$f":"IF(ISBLANK('Data Input'!A247),\"\",SUM('Data Input'!C247,'Data Input'!D247,'Data Input'!J247,'Data Input'!X247))","v":""},{"$f":"IF(G242=\"\",\"\",G242/COUNTIF('Data Input'!$C$8:$AK$8,\"N\"))","v":""},{"$f":"IF(ISBLANK('Data Input'!A247),\"\",SUM('Data Input'!G247,'Data Input'!I247,'Data Input'!L247,'Data Input'!N247,'Data Input'!O247,'Data Input'!S247,'Data Input'!Z247,'Data Input'!AA247,'Data Input'!AB247,'Data Input'!AC247,'Data Input'!AE247,'Data Input'!AF247,'Data Input'!AG247,'Data Input'!AI247,'Data Input'!AK247))","v":""},{"$f":"IF(I242=\"\",\"\",I242/COUNTIF('Data Input'!$C$8:$AK$8,\"C\"))","v":""},{"$f":"IF(ISBLANK('Data Input'!A247),\"\",SUM('Data Input'!T247,'Data Input'!U247))","v":""},{"$f":"IF(K242=\"\",\"\",K242/COUNTIF('Data Input'!$C$8:$AK$8,\"S\"))","v":""},{"$f":"IF(ISBLANK('Data Input'!A247),\"\",SUM('Data Input'!F247,'Data Input'!R247,'Data Input'!AJ247))","v":""},{"$f":"IF(M242=\"\",\"\",M242/COUNTIF('Data Input'!$C$8:$AK$8,\"F\"))","v":""},{"$f":"IF(ISBLANK('Data Input'!A247),\"\",SUM('Data Input'!E247,'Data Input'!M247,'Data Input'!Q247,'Data Input'!V247,'Data Input'!W247,'Data Input'!AD247,'Data Input'!AH247))","v":""},{"$f":"IF(O242=\"\",\"\",O242/COUNTIF('Data Input'!$C$8:$AK$8,\"M\"))","v":""},{"$f":"IF(ISBLANK('Data Input'!A247),\"\",SUM('Data Input'!H247,'Data Input'!K247,'Data Input'!P247,'Data Input'!Y247))","v":""},{"$f":"IF(Q242=\"\",\"\",Q242/COUNTIF('Data Input'!$C$8:$AK$8,\"G\"))","v":""}]
[{"$f":"IF('Data Input'!A248=0,\"\",'Data Input'!A248)","v":""},{"$f":"IF(ISBLANK('Data Input'!A248),\"\",COUNTIF('Data Input'!C248:AK248,\"\"))","v":""},{"$f":"IF(ISBLANK('Data Input'!A248),\"\",COUNTIF('Data Input'!C248:AK248,\"0\"))","v":""},{"$f":"IF(ISBLANK('Data Input'!A248),\"\",SUM(B243,C243))","v":""},{"$f":"IF(ISBLANK('Data Input'!A248),\"\",SUM('Data Input'!C248:AK248))","v":""},{"$f":"IF(E243=\"\",\"\",E243/(COUNTA('Data Input'!$C$8:$AK$8)))","v":""},{"$f":"IF(ISBLANK('Data Input'!A248),\"\",SUM('Data Input'!C248,'Data Input'!D248,'Data Input'!J248,'Data Input'!X248))","v":""},{"$f":"IF(G243=\"\",\"\",G243/COUNTIF('Data Input'!$C$8:$AK$8,\"N\"))","v":""},{"$f":"IF(ISBLANK('Data Input'!A248),\"\",SUM('Data Input'!G248,'Data Input'!I248,'Data Input'!L248,'Data Input'!N248,'Data Input'!O248,'Data Input'!S248,'Data Input'!Z248,'Data Input'!AA248,'Data Input'!AB248,'Data Input'!AC248,'Data Input'!AE248,'Data Input'!AF248,'Data Input'!AG248,'Data Input'!AI248,'Data Input'!AK248))","v":""},{"$f":"IF(I243=\"\",\"\",I243/COUNTIF('Data Input'!$C$8:$AK$8,\"C\"))","v":""},{"$f":"IF(ISBLANK('Data Input'!A248),\"\",SUM('Data Input'!T248,'Data Input'!U248))","v":""},{"$f":"IF(K243=\"\",\"\",K243/COUNTIF('Data Input'!$C$8:$AK$8,\"S\"))","v":""},{"$f":"IF(ISBLANK('Data Input'!A248),\"\",SUM('Data Input'!F248,'Data Input'!R248,'Data Input'!AJ248))","v":""},{"$f":"IF(M243=\"\",\"\",M243/COUNTIF('Data Input'!$C$8:$AK$8,\"F\"))","v":""},{"$f":"IF(ISBLANK('Data Input'!A248),\"\",SUM('Data Input'!E248,'Data Input'!M248,'Data Input'!Q248,'Data Input'!V248,'Data Input'!W248,'Data Input'!AD248,'Data Input'!AH248))","v":""},{"$f":"IF(O243=\"\",\"\",O243/COUNTIF('Data Input'!$C$8:$AK$8,\"M\"))","v":""},{"$f":"IF(ISBLANK('Data Input'!A248),\"\",SUM('Data Input'!H248,'Data Input'!K248,'Data Input'!P248,'Data Input'!Y248))","v":""},{"$f":"IF(Q243=\"\",\"\",Q243/COUNTIF('Data Input'!$C$8:$AK$8,\"G\"))","v":""}]
[{"$f":"IF('Data Input'!A249=0,\"\",'Data Input'!A249)","v":""},{"$f":"IF(ISBLANK('Data Input'!A249),\"\",COUNTIF('Data Input'!C249:AK249,\"\"))","v":""},{"$f":"IF(ISBLANK('Data Input'!A249),\"\",COUNTIF('Data Input'!C249:AK249,\"0\"))","v":""},{"$f":"IF(ISBLANK('Data Input'!A249),\"\",SUM(B244,C244))","v":""},{"$f":"IF(ISBLANK('Data Input'!A249),\"\",SUM('Data Input'!C249:AK249))","v":""},{"$f":"IF(E244=\"\",\"\",E244/(COUNTA('Data Input'!$C$8:$AK$8)))","v":""},{"$f":"IF(ISBLANK('Data Input'!A249),\"\",SUM('Data Input'!C249,'Data Input'!D249,'Data Input'!J249,'Data Input'!X249))","v":""},{"$f":"IF(G244=\"\",\"\",G244/COUNTIF('Data Input'!$C$8:$AK$8,\"N\"))","v":""},{"$f":"IF(ISBLANK('Data Input'!A249),\"\",SUM('Data Input'!G249,'Data Input'!I249,'Data Input'!L249,'Data Input'!N249,'Data Input'!O249,'Data Input'!S249,'Data Input'!Z249,'Data Input'!AA249,'Data Input'!AB249,'Data Input'!AC249,'Data Input'!AE249,'Data Input'!AF249,'Data Input'!AG249,'Data Input'!AI249,'Data Input'!AK249))","v":""},{"$f":"IF(I244=\"\",\"\",I244/COUNTIF('Data Input'!$C$8:$AK$8,\"C\"))","v":""},{"$f":"IF(ISBLANK('Data Input'!A249),\"\",SUM('Data Input'!T249,'Data Input'!U249))","v":""},{"$f":"IF(K244=\"\",\"\",K244/COUNTIF('Data Input'!$C$8:$AK$8,\"S\"))","v":""},{"$f":"IF(ISBLANK('Data Input'!A249),\"\",SUM('Data Input'!F249,'Data Input'!R249,'Data Input'!AJ249))","v":""},{"$f":"IF(M244=\"\",\"\",M244/COUNTIF('Data Input'!$C$8:$AK$8,\"F\"))","v":""},{"$f":"IF(ISBLANK('Data Input'!A249),\"\",SUM('Data Input'!E249,'Data Input'!M249,'Data Input'!Q249,'Data Input'!V249,'Data Input'!W249,'Data Input'!AD249,'Data Input'!AH249))","v":""},{"$f":"IF(O244=\"\",\"\",O244/COUNTIF('Data Input'!$C$8:$AK$8,\"M\"))","v":""},{"$f":"IF(ISBLANK('Data Input'!A249),\"\",SUM('Data Input'!H249,'Data Input'!K249,'Data Input'!P249,'Data Input'!Y249))","v":""},{"$f":"IF(Q244=\"\",\"\",Q244/COUNTIF('Data Input'!$C$8:$AK$8,\"G\"))","v":""}]
[{"$f":"IF('Data Input'!A250=0,\"\",'Data Input'!A250)","v":""},{"$f":"IF(ISBLANK('Data Input'!A250),\"\",COUNTIF('Data Input'!C250:AK250,\"\"))","v":""},{"$f":"IF(ISBLANK('Data Input'!A250),\"\",COUNTIF('Data Input'!C250:AK250,\"0\"))","v":""},{"$f":"IF(ISBLANK('Data Input'!A250),\"\",SUM(B245,C245))","v":""},{"$f":"IF(ISBLANK('Data Input'!A250),\"\",SUM('Data Input'!C250:AK250))","v":""},{"$f":"IF(E245=\"\",\"\",E245/(COUNTA('Data Input'!$C$8:$AK$8)))","v":""},{"$f":"IF(ISBLANK('Data Input'!A250),\"\",SUM('Data Input'!C250,'Data Input'!D250,'Data Input'!J250,'Data Input'!X250))","v":""},{"$f":"IF(G245=\"\",\"\",G245/COUNTIF('Data Input'!$C$8:$AK$8,\"N\"))","v":""},{"$f":"IF(ISBLANK('Data Input'!A250),\"\",SUM('Data Input'!G250,'Data Input'!I250,'Data Input'!L250,'Data Input'!N250,'Data Input'!O250,'Data Input'!S250,'Data Input'!Z250,'Data Input'!AA250,'Data Input'!AB250,'Data Input'!AC250,'Data Input'!AE250,'Data Input'!AF250,'Data Input'!AG250,'Data Input'!AI250,'Data Input'!AK250))","v":""},{"$f":"IF(I245=\"\",\"\",I245/COUNTIF('Data Input'!$C$8:$AK$8,\"C\"))","v":""},{"$f":"IF(ISBLANK('Data Input'!A250),\"\",SUM('Data Input'!T250,'Data Input'!U250))","v":""},{"$f":"IF(K245=\"\",\"\",K245/COUNTIF('Data Input'!$C$8:$AK$8,\"S\"))","v":""},{"$f":"IF(ISBLANK('Data Input'!A250),\"\",SUM('Data Input'!F250,'Data Input'!R250,'Data Input'!AJ250))","v":""},{"$f":"IF(M245=\"\",\"\",M245/COUNTIF('Data Input'!$C$8:$AK$8,\"F\"))","v":""},{"$f":"IF(ISBLANK('Data Input'!A250),\"\",SUM('Data Input'!E250,'Data Input'!M250,'Data Input'!Q250,'Data Input'!V250,'Data Input'!W250,'Data Input'!AD250,'Data Input'!AH250))","v":""},{"$f":"IF(O245=\"\",\"\",O245/COUNTIF('Data Input'!$C$8:$AK$8,\"M\"))","v":""},{"$f":"IF(ISBLANK('Data Input'!A250),\"\",SUM('Data Input'!H250,'Data Input'!K250,'Data Input'!P250,'Data Input'!Y250))","v":""},{"$f":"IF(Q245=\"\",\"\",Q245/COUNTIF('Data Input'!$C$8:$AK$8,\"G\"))","v":""}]
[{"$f":"IF('Data Input'!A251=0,\"\",'Data Input'!A251)","v":""},{"$f":"IF(ISBLANK('Data Input'!A251),\"\",COUNTIF('Data Input'!C251:AK251,\"\"))","v":""},{"$f":"IF(ISBLANK('Data Input'!A251),\"\",COUNTIF('Data Input'!C251:AK251,\"0\"))","v":""},{"$f":"IF(ISBLANK('Data Input'!A251),\"\",SUM(B246,C246))","v":""},{"$f":"IF(ISBLANK('Data Input'!A251),\"\",SUM('Data Input'!C251:AK251))","v":""},{"$f":"IF(E246=\"\",\"\",E246/(COUNTA('Data Input'!$C$8:$AK$8)))","v":""},{"$f":"IF(ISBLANK('Data Input'!A251),\"\",SUM('Data Input'!C251,'Data Input'!D251,'Data Input'!J251,'Data Input'!X251))","v":""},{"$f":"IF(G246=\"\",\"\",G246/COUNTIF('Data Input'!$C$8:$AK$8,\"N\"))","v":""},{"$f":"IF(ISBLANK('Data Input'!A251),\"\",SUM('Data Input'!G251,'Data Input'!I251,'Data Input'!L251,'Data Input'!N251,'Data Input'!O251,'Data Input'!S251,'Data Input'!Z251,'Data Input'!AA251,'Data Input'!AB251,'Data Input'!AC251,'Data Input'!AE251,'Data Input'!AF251,'Data Input'!AG251,'Data Input'!AI251,'Data Input'!AK251))","v":""},{"$f":"IF(I246=\"\",\"\",I246/COUNTIF('Data Input'!$C$8:$AK$8,\"C\"))","v":""},{"$f":"IF(ISBLANK('Data Input'!A251),\"\",SUM('Data Input'!T251,'Data Input'!U251))","v":""},{"$f":"IF(K246=\"\",\"\",K246/COUNTIF('Data Input'!$C$8:$AK$8,\"S\"))","v":""},{"$f":"IF(ISBLANK('Data Input'!A251),\"\",SUM('Data Input'!F251,'Data Input'!R251,'Data Input'!AJ251))","v":""},{"$f":"IF(M246=\"\",\"\",M246/COUNTIF('Data Input'!$C$8:$AK$8,\"F\"))","v":""},{"$f":"IF(ISBLANK('Data Input'!A251),\"\",SUM('Data Input'!E251,'Data Input'!M251,'Data Input'!Q251,'Data Input'!V251,'Data Input'!W251,'Data Input'!AD251,'Data Input'!AH251))","v":""},{"$f":"IF(O246=\"\",\"\",O246/COUNTIF('Data Input'!$C$8:$AK$8,\"M\"))","v":""},{"$f":"IF(ISBLANK('Data Input'!A251),\"\",SUM('Data Input'!H251,'Data Input'!K251,'Data Input'!P251,'Data Input'!Y251))","v":""},{"$f":"IF(Q246=\"\",\"\",Q246/COUNTIF('Data Input'!$C$8:$AK$8,\"G\"))","v":""}]
[{"$f":"IF('Data Input'!A252=0,\"\",'Data Input'!A252)","v":""},{"$f":"IF(ISBLANK('Data Input'!A252),\"\",COUNTIF('Data Input'!C252:AK252,\"\"))","v":""},{"$f":"IF(ISBLANK('Data Input'!A252),\"\",COUNTIF('Data Input'!C252:AK252,\"0\"))","v":""},{"$f":"IF(ISBLANK('Data Input'!A252),\"\",SUM(B247,C247))","v":""},{"$f":"IF(ISBLANK('Data Input'!A252),\"\",SUM('Data Input'!C252:AK252))","v":""},{"$f":"IF(E247=\"\",\"\",E247/(COUNTA('Data Input'!$C$8:$AK$8)))","v":""},{"$f":"IF(ISBLANK('Data Input'!A252),\"\",SUM('Data Input'!C252,'Data Input'!D252,'Data Input'!J252,'Data Input'!X252))","v":""},{"$f":"IF(G247=\"\",\"\",G247/COUNTIF('Data Input'!$C$8:$AK$8,\"N\"))","v":""},{"$f":"IF(ISBLANK('Data Input'!A252),\"\",SUM('Data Input'!G252,'Data Input'!I252,'Data Input'!L252,'Data Input'!N252,'Data Input'!O252,'Data Input'!S252,'Data Input'!Z252,'Data Input'!AA252,'Data Input'!AB252,'Data Input'!AC252,'Data Input'!AE252,'Data Input'!AF252,'Data Input'!AG252,'Data Input'!AI252,'Data Input'!AK252))","v":""},{"$f":"IF(I247=\"\",\"\",I247/COUNTIF('Data Input'!$C$8:$AK$8,\"C\"))","v":""},{"$f":"IF(ISBLANK('Data Input'!A252),\"\",SUM('Data Input'!T252,'Data Input'!U252))","v":""},{"$f":"IF(K247=\"\",\"\",K247/COUNTIF('Data Input'!$C$8:$AK$8,\"S\"))","v":""},{"$f":"IF(ISBLANK('Data Input'!A252),\"\",SUM('Data Input'!F252,'Data Input'!R252,'Data Input'!AJ252))","v":""},{"$f":"IF(M247=\"\",\"\",M247/COUNTIF('Data Input'!$C$8:$AK$8,\"F\"))","v":""},{"$f":"IF(ISBLANK('Data Input'!A252),\"\",SUM('Data Input'!E252,'Data Input'!M252,'Data Input'!Q252,'Data Input'!V252,'Data Input'!W252,'Data Input'!AD252,'Data Input'!AH252))","v":""},{"$f":"IF(O247=\"\",\"\",O247/COUNTIF('Data Input'!$C$8:$AK$8,\"M\"))","v":""},{"$f":"IF(ISBLANK('Data Input'!A252),\"\",SUM('Data Input'!H252,'Data Input'!K252,'Data Input'!P252,'Data Input'!Y252))","v":""},{"$f":"IF(Q247=\"\",\"\",Q247/COUNTIF('Data Input'!$C$8:$AK$8,\"G\"))","v":""}]
[{"$f":"IF('Data Input'!A253=0,\"\",'Data Input'!A253)","v":""},{"$f":"IF(ISBLANK('Data Input'!A253),\"\",COUNTIF('Data Input'!C253:AK253,\"\"))","v":""},{"$f":"IF(ISBLANK('Data Input'!A253),\"\",COUNTIF('Data Input'!C253:AK253,\"0\"))","v":""},{"$f":"IF(ISBLANK('Data Input'!A253),\"\",SUM(B248,C248))","v":""},{"$f":"IF(ISBLANK('Data Input'!A253),\"\",SUM('Data Input'!C253:AK253))","v":""},{"$f":"IF(E248=\"\",\"\",E248/(COUNTA('Data Input'!$C$8:$AK$8)))","v":""},{"$f":"IF(ISBLANK('Data Input'!A253),\"\",SUM('Data Input'!C253,'Data Input'!D253,'Data Input'!J253,'Data Input'!X253))","v":""},{"$f":"IF(G248=\"\",\"\",G248/COUNTIF('Data Input'!$C$8:$AK$8,\"N\"))","v":""},{"$f":"IF(ISBLANK('Data Input'!A253),\"\",SUM('Data Input'!G253,'Data Input'!I253,'Data Input'!L253,'Data Input'!N253,'Data Input'!O253,'Data Input'!S253,'Data Input'!Z253,'Data Input'!AA253,'Data Input'!AB253,'Data Input'!AC253,'Data Input'!AE253,'Data Input'!AF253,'Data Input'!AG253,'Data Input'!AI253,'Data Input'!AK253))","v":""},{"$f":"IF(I248=\"\",\"\",I248/COUNTIF('Data Input'!$C$8:$AK$8,\"C\"))","v":""},{"$f":"IF(ISBLANK('Data Input'!A253),\"\",SUM('Data Input'!T253,'Data Input'!U253))","v":""},{"$f":"IF(K248=\"\",\"\",K248/COUNTIF('Data Input'!$C$8:$AK$8,\"S\"))","v":""},{"$f":"IF(ISBLANK('Data Input'!A253),\"\",SUM('Data Input'!F253,'Data Input'!R253,'Data Input'!AJ253))","v":""},{"$f":"IF(M248=\"\",\"\",M248/COUNTIF('Data Input'!$C$8:$AK$8,\"F\"))","v":""},{"$f":"IF(ISBLANK('Data Input'!A253),\"\",SUM('Data Input'!E253,'Data Input'!M253,'Data Input'!Q253,'Data Input'!V253,'Data Input'!W253,'Data Input'!AD253,'Data Input'!AH253))","v":""},{"$f":"IF(O248=\"\",\"\",O248/COUNTIF('Data Input'!$C$8:$AK$8,\"M\"))","v":""},{"$f":"IF(ISBLANK('Data Input'!A253),\"\",SUM('Data Input'!H253,'Data Input'!K253,'Data Input'!P253,'Data Input'!Y253))","v":""},{"$f":"IF(Q248=\"\",\"\",Q248/COUNTIF('Data Input'!$C$8:$AK$8,\"G\"))","v":""}]
[{"$f":"IF('Data Input'!A254=0,\"\",'Data Input'!A254)","v":""},{"$f":"IF(ISBLANK('Data Input'!A254),\"\",COUNTIF('Data Input'!C254:AK254,\"\"))","v":""},{"$f":"IF(ISBLANK('Data Input'!A254),\"\",COUNTIF('Data Input'!C254:AK254,\"0\"))","v":""},{"$f":"IF(ISBLANK('Data Input'!A254),\"\",SUM(B249,C249))","v":""},{"$f":"IF(ISBLANK('Data Input'!A254),\"\",SUM('Data Input'!C254:AK254))","v":""},{"$f":"IF(E249=\"\",\"\",E249/(COUNTA('Data Input'!$C$8:$AK$8)))","v":""},{"$f":"IF(ISBLANK('Data Input'!A254),\"\",SUM('Data Input'!C254,'Data Input'!D254,'Data Input'!J254,'Data Input'!X254))","v":""},{"$f":"IF(G249=\"\",\"\",G249/COUNTIF('Data Input'!$C$8:$AK$8,\"N\"))","v":""},{"$f":"IF(ISBLANK('Data Input'!A254),\"\",SUM('Data Input'!G254,'Data Input'!I254,'Data Input'!L254,'Data Input'!N254,'Data Input'!O254,'Data Input'!S254,'Data Input'!Z254,'Data Input'!AA254,'Data Input'!AB254,'Data Input'!AC254,'Data Input'!AE254,'Data Input'!AF254,'Data Input'!AG254,'Data Input'!AI254,'Data Input'!AK254))","v":""},{"$f":"IF(I249=\"\",\"\",I249/COUNTIF('Data Input'!$C$8:$AK$8,\"C\"))","v":""},{"$f":"IF(ISBLANK('Data Input'!A254),\"\",SUM('Data Input'!T254,'Data Input'!U254))","v":""},{"$f":"IF(K249=\"\",\"\",K249/COUNTIF('Data Input'!$C$8:$AK$8,\"S\"))","v":""},{"$f":"IF(ISBLANK('Data Input'!A254),\"\",SUM('Data Input'!F254,'Data Input'!R254,'Data Input'!AJ254))","v":""},{"$f":"IF(M249=\"\",\"\",M249/COUNTIF('Data Input'!$C$8:$AK$8,\"F\"))","v":""},{"$f":"IF(ISBLANK('Data Input'!A254),\"\",SUM('Data Input'!E254,'Data Input'!M254,'Data Input'!Q254,'Data Input'!V254,'Data Input'!W254,'Data Input'!AD254,'Data Input'!AH254))","v":""},{"$f":"IF(O249=\"\",\"\",O249/COUNTIF('Data Input'!$C$8:$AK$8,\"M\"))","v":""},{"$f":"IF(ISBLANK('Data Input'!A254),\"\",SUM('Data Input'!H254,'Data Input'!K254,'Data Input'!P254,'Data Input'!Y254))","v":""},{"$f":"IF(Q249=\"\",\"\",Q249/COUNTIF('Data Input'!$C$8:$AK$8,\"G\"))","v":""}]
[{"$f":"IF('Data Input'!A255=0,\"\",'Data Input'!A255)","v":""},{"$f":"IF(ISBLANK('Data Input'!A255),\"\",COUNTIF('Data Input'!C255:AK255,\"\"))","v":""},{"$f":"IF(ISBLANK('Data Input'!A255),\"\",COUNTIF('Data Input'!C255:AK255,\"0\"))","v":""},{"$f":"IF(ISBLANK('Data Input'!A255),\"\",SUM(B250,C250))","v":""},{"$f":"IF(ISBLANK('Data Input'!A255),\"\",SUM('Data Input'!C255:AK255))","v":""},{"$f":"IF(E250=\"\",\"\",E250/(COUNTA('Data Input'!$C$8:$AK$8)))","v":""},{"$f":"IF(ISBLANK('Data Input'!A255),\"\",SUM('Data Input'!C255,'Data Input'!D255,'Data Input'!J255,'Data Input'!X255))","v":""},{"$f":"IF(G250=\"\",\"\",G250/COUNTIF('Data Input'!$C$8:$AK$8,\"N\"))","v":""},{"$f":"IF(ISBLANK('Data Input'!A255),\"\",SUM('Data Input'!G255,'Data Input'!I255,'Data Input'!L255,'Data Input'!N255,'Data Input'!O255,'Data Input'!S255,'Data Input'!Z255,'Data Input'!AA255,'Data Input'!AB255,'Data Input'!AC255,'Data Input'!AE255,'Data Input'!AF255,'Data Input'!AG255,'Data Input'!AI255,'Data Input'!AK255))","v":""},{"$f":"IF(I250=\"\",\"\",I250/COUNTIF('Data Input'!$C$8:$AK$8,\"C\"))","v":""},{"$f":"IF(ISBLANK('Data Input'!A255),\"\",SUM('Data Input'!T255,'Data Input'!U255))","v":""},{"$f":"IF(K250=\"\",\"\",K250/COUNTIF('Data Input'!$C$8:$AK$8,\"S\"))","v":""},{"$f":"IF(ISBLANK('Data Input'!A255),\"\",SUM('Data Input'!F255,'Data Input'!R255,'Data Input'!AJ255))","v":""},{"$f":"IF(M250=\"\",\"\",M250/COUNTIF('Data Input'!$C$8:$AK$8,\"F\"))","v":""},{"$f":"IF(ISBLANK('Data Input'!A255),\"\",SUM('Data Input'!E255,'Data Input'!M255,'Data Input'!Q255,'Data Input'!V255,'Data Input'!W255,'Data Input'!AD255,'Data Input'!AH255))","v":""},{"$f":"IF(O250=\"\",\"\",O250/COUNTIF('Data Input'!$C$8:$AK$8,\"M\"))","v":""},{"$f":"IF(ISBLANK('Data Input'!A255),\"\",SUM('Data Input'!H255,'Data Input'!K255,'Data Input'!P255,'Data Input'!Y255))","v":""},{"$f":"IF(Q250=\"\",\"\",Q250/COUNTIF('Data Input'!$C$8:$AK$8,\"G\"))","v":""}]
[{"$f":"IF('Data Input'!A256=0,\"\",'Data Input'!A256)","v":""},{"$f":"IF(ISBLANK('Data Input'!A256),\"\",COUNTIF('Data Input'!C256:AK256,\"\"))","v":""},{"$f":"IF(ISBLANK('Data Input'!A256),\"\",COUNTIF('Data Input'!C256:AK256,\"0\"))","v":""},{"$f":"IF(ISBLANK('Data Input'!A256),\"\",SUM(B251,C251))","v":""},{"$f":"IF(ISBLANK('Data Input'!A256),\"\",SUM('Data Input'!C256:AK256))","v":""},{"$f":"IF(E251=\"\",\"\",E251/(COUNTA('Data Input'!$C$8:$AK$8)))","v":""},{"$f":"IF(ISBLANK('Data Input'!A256),\"\",SUM('Data Input'!C256,'Data Input'!D256,'Data Input'!J256,'Data Input'!X256))","v":""},{"$f":"IF(G251=\"\",\"\",G251/COUNTIF('Data Input'!$C$8:$AK$8,\"N\"))","v":""},{"$f":"IF(ISBLANK('Data Input'!A256),\"\",SUM('Data Input'!G256,'Data Input'!I256,'Data Input'!L256,'Data Input'!N256,'Data Input'!O256,'Data Input'!S256,'Data Input'!Z256,'Data Input'!AA256,'Data Input'!AB256,'Data Input'!AC256,'Data Input'!AE256,'Data Input'!AF256,'Data Input'!AG256,'Data Input'!AI256,'Data Input'!AK256))","v":""},{"$f":"IF(I251=\"\",\"\",I251/COUNTIF('Data Input'!$C$8:$AK$8,\"C\"))","v":""},{"$f":"IF(ISBLANK('Data Input'!A256),\"\",SUM('Data Input'!T256,'Data Input'!U256))","v":""},{"$f":"IF(K251=\"\",\"\",K251/COUNTIF('Data Input'!$C$8:$AK$8,\"S\"))","v":""},{"$f":"IF(ISBLANK('Data Input'!A256),\"\",SUM('Data Input'!F256,'Data Input'!R256,'Data Input'!AJ256))","v":""},{"$f":"IF(M251=\"\",\"\",M251/COUNTIF('Data Input'!$C$8:$AK$8,\"F\"))","v":""},{"$f":"IF(ISBLANK('Data Input'!A256),\"\",SUM('Data Input'!E256,'Data Input'!M256,'Data Input'!Q256,'Data Input'!V256,'Data Input'!W256,'Data Input'!AD256,'Data Input'!AH256))","v":""},{"$f":"IF(O251=\"\",\"\",O251/COUNTIF('Data Input'!$C$8:$AK$8,\"M\"))","v":""},{"$f":"IF(ISBLANK('Data Input'!A256),\"\",SUM('Data Input'!H256,'Data Input'!K256,'Data Input'!P256,'Data Input'!Y256))","v":""},{"$f":"IF(Q251=\"\",\"\",Q251/COUNTIF('Data Input'!$C$8:$AK$8,\"G\"))","v":""}]
[{"$f":"IF('Data Input'!A257=0,\"\",'Data Input'!A257)","v":""},{"$f":"IF(ISBLANK('Data Input'!A257),\"\",COUNTIF('Data Input'!C257:AK257,\"\"))","v":""},{"$f":"IF(ISBLANK('Data Input'!A257),\"\",COUNTIF('Data Input'!C257:AK257,\"0\"))","v":""},{"$f":"IF(ISBLANK('Data Input'!A257),\"\",SUM(B252,C252))","v":""},{"$f":"IF(ISBLANK('Data Input'!A257),\"\",SUM('Data Input'!C257:AK257))","v":""},{"$f":"IF(E252=\"\",\"\",E252/(COUNTA('Data Input'!$C$8:$AK$8)))","v":""},{"$f":"IF(ISBLANK('Data Input'!A257),\"\",SUM('Data Input'!C257,'Data Input'!D257,'Data Input'!J257,'Data Input'!X257))","v":""},{"$f":"IF(G252=\"\",\"\",G252/COUNTIF('Data Input'!$C$8:$AK$8,\"N\"))","v":""},{"$f":"IF(ISBLANK('Data Input'!A257),\"\",SUM('Data Input'!G257,'Data Input'!I257,'Data Input'!L257,'Data Input'!N257,'Data Input'!O257,'Data Input'!S257,'Data Input'!Z257,'Data Input'!AA257,'Data Input'!AB257,'Data Input'!AC257,'Data Input'!AE257,'Data Input'!AF257,'Data Input'!AG257,'Data Input'!AI257,'Data Input'!AK257))","v":""},{"$f":"IF(I252=\"\",\"\",I252/COUNTIF('Data Input'!$C$8:$AK$8,\"C\"))","v":""},{"$f":"IF(ISBLANK('Data Input'!A257),\"\",SUM('Data Input'!T257,'Data Input'!U257))","v":""},{"$f":"IF(K252=\"\",\"\",K252/COUNTIF('Data Input'!$C$8:$AK$8,\"S\"))","v":""},{"$f":"IF(ISBLANK('Data Input'!A257),\"\",SUM('Data Input'!F257,'Data Input'!R257,'Data Input'!AJ257))","v":""},{"$f":"IF(M252=\"\",\"\",M252/COUNTIF('Data Input'!$C$8:$AK$8,\"F\"))","v":""},{"$f":"IF(ISBLANK('Data Input'!A257),\"\",SUM('Data Input'!E257,'Data Input'!M257,'Data Input'!Q257,'Data Input'!V257,'Data Input'!W257,'Data Input'!AD257,'Data Input'!AH257))","v":""},{"$f":"IF(O252=\"\",\"\",O252/COUNTIF('Data Input'!$C$8:$AK$8,\"M\"))","v":""},{"$f":"IF(ISBLANK('Data Input'!A257),\"\",SUM('Data Input'!H257,'Data Input'!K257,'Data Input'!P257,'Data Input'!Y257))","v":""},{"$f":"IF(Q252=\"\",\"\",Q252/COUNTIF('Data Input'!$C$8:$AK$8,\"G\"))","v":""}]
[{"$f":"IF('Data Input'!A258=0,\"\",'Data Input'!A258)","v":""},{"$f":"IF(ISBLANK('Data Input'!A258),\"\",COUNTIF('Data Input'!C258:AK258,\"\"))","v":""},{"$f":"IF(ISBLANK('Data Input'!A258),\"\",COUNTIF('Data Input'!C258:AK258,\"0\"))","v":""},{"$f":"IF(ISBLANK('Data Input'!A258),\"\",SUM(B253,C253))","v":""},{"$f":"IF(ISBLANK('Data Input'!A258),\"\",SUM('Data Input'!C258:AK258))","v":""},{"$f":"IF(E253=\"\",\"\",E253/(COUNTA('Data Input'!$C$8:$AK$8)))","v":""},{"$f":"IF(ISBLANK('Data Input'!A258),\"\",SUM('Data Input'!C258,'Data Input'!D258,'Data Input'!J258,'Data Input'!X258))","v":""},{"$f":"IF(G253=\"\",\"\",G253/COUNTIF('Data Input'!$C$8:$AK$8,\"N\"))","v":""},{"$f":"IF(ISBLANK('Data Input'!A258),\"\",SUM('Data Input'!G258,'Data Input'!I258,'Data Input'!L258,'Data Input'!N258,'Data Input'!O258,'Data Input'!S258,'Data Input'!Z258,'Data Input'!AA258,'Data Input'!AB258,'Data Input'!AC258,'Data Input'!AE258,'Data Input'!AF258,'Data Input'!AG258,'Data Input'!AI258,'Data Input'!AK258))","v":""},{"$f":"IF(I253=\"\",\"\",I253/COUNTIF('Data Input'!$C$8:$AK$8,\"C\"))","v":""},{"$f":"IF(ISBLANK('Data Input'!A258),\"\",SUM('Data Input'!T258,'Data Input'!U258))","v":""},{"$f":"IF(K253=\"\",\"\",K253/COUNTIF('Data Input'!$C$8:$AK$8,\"S\"))","v":""},{"$f":"IF(ISBLANK('Data Input'!A258),\"\",SUM('Data Input'!F258,'Data Input'!R258,'Data Input'!AJ258))","v":""},{"$f":"IF(M253=\"\",\"\",M253/COUNTIF('Data Input'!$C$8:$AK$8,\"F\"))","v":""},{"$f":"IF(ISBLANK('Data Input'!A258),\"\",SUM('Data Input'!E258,'Data Input'!M258,'Data Input'!Q258,'Data Input'!V258,'Data Input'!W258,'Data Input'!AD258,'Data Input'!AH258))","v":""},{"$f":"IF(O253=\"\",\"\",O253/COUNTIF('Data Input'!$C$8:$AK$8,\"M\"))","v":""},{"$f":"IF(ISBLANK('Data Input'!A258),\"\",SUM('Data Input'!H258,'Data Input'!K258,'Data Input'!P258,'Data Input'!Y258))","v":""},{"$f":"IF(Q253=\"\",\"\",Q253/COUNTIF('Data Input'!$C$8:$AK$8,\"G\"))","v":""}]
[{"$f":"IF('Data Input'!A259=0,\"\",'Data Input'!A259)","v":""},{"$f":"IF(ISBLANK('Data Input'!A259),\"\",COUNTIF('Data Input'!C259:AK259,\"\"))","v":""},{"$f":"IF(ISBLANK('Data Input'!A259),\"\",COUNTIF('Data Input'!C259:AK259,\"0\"))","v":""},{"$f":"IF(ISBLANK('Data Input'!A259),\"\",SUM(B254,C254))","v":""},{"$f":"IF(ISBLANK('Data Input'!A259),\"\",SUM('Data Input'!C259:AK259))","v":""},{"$f":"IF(E254=\"\",\"\",E254/(COUNTA('Data Input'!$C$8:$AK$8)))","v":""},{"$f":"IF(ISBLANK('Data Input'!A259),\"\",SUM('Data Input'!C259,'Data Input'!D259,'Data Input'!J259,'Data Input'!X259))","v":""},{"$f":"IF(G254=\"\",\"\",G254/COUNTIF('Data Input'!$C$8:$AK$8,\"N\"))","v":""},{"$f":"IF(ISBLANK('Data Input'!A259),\"\",SUM('Data Input'!G259,'Data Input'!I259,'Data Input'!L259,'Data Input'!N259,'Data Input'!O259,'Data Input'!S259,'Data Input'!Z259,'Data Input'!AA259,'Data Input'!AB259,'Data Input'!AC259,'Data Input'!AE259,'Data Input'!AF259,'Data Input'!AG259,'Data Input'!AI259,'Data Input'!AK259))","v":""},{"$f":"IF(I254=\"\",\"\",I254/COUNTIF('Data Input'!$C$8:$AK$8,\"C\"))","v":""},{"$f":"IF(ISBLANK('Data Input'!A259),\"\",SUM('Data Input'!T259,'Data Input'!U259))","v":""},{"$f":"IF(K254=\"\",\"\",K254/COUNTIF('Data Input'!$C$8:$AK$8,\"S\"))","v":""},{"$f":"IF(ISBLANK('Data Input'!A259),\"\",SUM('Data Input'!F259,'Data Input'!R259,'Data Input'!AJ259))","v":""},{"$f":"IF(M254=\"\",\"\",M254/COUNTIF('Data Input'!$C$8:$AK$8,\"F\"))","v":""},{"$f":"IF(ISBLANK('Data Input'!A259),\"\",SUM('Data Input'!E259,'Data Input'!M259,'Data Input'!Q259,'Data Input'!V259,'Data Input'!W259,'Data Input'!AD259,'Data Input'!AH259))","v":""},{"$f":"IF(O254=\"\",\"\",O254/COUNTIF('Data Input'!$C$8:$AK$8,\"M\"))","v":""},{"$f":"IF(ISBLANK('Data Input'!A259),\"\",SUM('Data Input'!H259,'Data Input'!K259,'Data Input'!P259,'Data Input'!Y259))","v":""},{"$f":"IF(Q254=\"\",\"\",Q254/COUNTIF('Data Input'!$C$8:$AK$8,\"G\"))","v":""}]
[{"$f":"IF('Data Input'!A260=0,\"\",'Data Input'!A260)","v":""},{"$f":"IF(ISBLANK('Data Input'!A260),\"\",COUNTIF('Data Input'!C260:AK260,\"\"))","v":""},{"$f":"IF(ISBLANK('Data Input'!A260),\"\",COUNTIF('Data Input'!C260:AK260,\"0\"))","v":""},{"$f":"IF(ISBLANK('Data Input'!A260),\"\",SUM(B255,C255))","v":""},{"$f":"IF(ISBLANK('Data Input'!A260),\"\",SUM('Data Input'!C260:AK260))","v":""},{"$f":"IF(E255=\"\",\"\",E255/(COUNTA('Data Input'!$C$8:$AK$8)))","v":""},{"$f":"IF(ISBLANK('Data Input'!A260),\"\",SUM('Data Input'!C260,'Data Input'!D260,'Data Input'!J260,'Data Input'!X260))","v":""},{"$f":"IF(G255=\"\",\"\",G255/COUNTIF('Data Input'!$C$8:$AK$8,\"N\"))","v":""},{"$f":"IF(ISBLANK('Data Input'!A260),\"\",SUM('Data Input'!G260,'Data Input'!I260,'Data Input'!L260,'Data Input'!N260,'Data Input'!O260,'Data Input'!S260,'Data Input'!Z260,'Data Input'!AA260,'Data Input'!AB260,'Data Input'!AC260,'Data Input'!AE260,'Data Input'!AF260,'Data Input'!AG260,'Data Input'!AI260,'Data Input'!AK260))","v":""},{"$f":"IF(I255=\"\",\"\",I255/COUNTIF('Data Input'!$C$8:$AK$8,\"C\"))","v":""},{"$f":"IF(ISBLANK('Data Input'!A260),\"\",SUM('Data Input'!T260,'Data Input'!U260))","v":""},{"$f":"IF(K255=\"\",\"\",K255/COUNTIF('Data Input'!$C$8:$AK$8,\"S\"))","v":""},{"$f":"IF(ISBLANK('Data Input'!A260),\"\",SUM('Data Input'!F260,'Data Input'!R260,'Data Input'!AJ260))","v":""},{"$f":"IF(M255=\"\",\"\",M255/COUNTIF('Data Input'!$C$8:$AK$8,\"F\"))","v":""},{"$f":"IF(ISBLANK('Data Input'!A260),\"\",SUM('Data Input'!E260,'Data Input'!M260,'Data Input'!Q260,'Data Input'!V260,'Data Input'!W260,'Data Input'!AD260,'Data Input'!AH260))","v":""},{"$f":"IF(O255=\"\",\"\",O255/COUNTIF('Data Input'!$C$8:$AK$8,\"M\"))","v":""},{"$f":"IF(ISBLANK('Data Input'!A260),\"\",SUM('Data Input'!H260,'Data Input'!K260,'Data Input'!P260,'Data Input'!Y260))","v":""},{"$f":"IF(Q255=\"\",\"\",Q255/COUNTIF('Data Input'!$C$8:$AK$8,\"G\"))","v":""}]
[{"$f":"IF('Data Input'!A261=0,\"\",'Data Input'!A261)","v":""},{"$f":"IF(ISBLANK('Data Input'!A261),\"\",COUNTIF('Data Input'!C261:AK261,\"\"))","v":""},{"$f":"IF(ISBLANK('Data Input'!A261),\"\",COUNTIF('Data Input'!C261:AK261,\"0\"))","v":""},{"$f":"IF(ISBLANK('Data Input'!A261),\"\",SUM(B256,C256))","v":""},{"$f":"IF(ISBLANK('Data Input'!A261),\"\",SUM('Data Input'!C261:AK261))","v":""},{"$f":"IF(E256=\"\",\"\",E256/(COUNTA('Data Input'!$C$8:$AK$8)))","v":""},{"$f":"IF(ISBLANK('Data Input'!A261),\"\",SUM('Data Input'!C261,'Data Input'!D261,'Data Input'!J261,'Data Input'!X261))","v":""},{"$f":"IF(G256=\"\",\"\",G256/COUNTIF('Data Input'!$C$8:$AK$8,\"N\"))","v":""},{"$f":"IF(ISBLANK('Data Input'!A261),\"\",SUM('Data Input'!G261,'Data Input'!I261,'Data Input'!L261,'Data Input'!N261,'Data Input'!O261,'Data Input'!S261,'Data Input'!Z261,'Data Input'!AA261,'Data Input'!AB261,'Data Input'!AC261,'Data Input'!AE261,'Data Input'!AF261,'Data Input'!AG261,'Data Input'!AI261,'Data Input'!AK261))","v":""},{"$f":"IF(I256=\"\",\"\",I256/COUNTIF('Data Input'!$C$8:$AK$8,\"C\"))","v":""},{"$f":"IF(ISBLANK('Data Input'!A261),\"\",SUM('Data Input'!T261,'Data Input'!U261))","v":""},{"$f":"IF(K256=\"\",\"\",K256/COUNTIF('Data Input'!$C$8:$AK$8,\"S\"))","v":""},{"$f":"IF(ISBLANK('Data Input'!A261),\"\",SUM('Data Input'!F261,'Data Input'!R261,'Data Input'!AJ261))","v":""},{"$f":"IF(M256=\"\",\"\",M256/COUNTIF('Data Input'!$C$8:$AK$8,\"F\"))","v":""},{"$f":"IF(ISBLANK('Data Input'!A261),\"\",SUM('Data Input'!E261,'Data Input'!M261,'Data Input'!Q261,'Data Input'!V261,'Data Input'!W261,'Data Input'!AD261,'Data Input'!AH261))","v":""},{"$f":"IF(O256=\"\",\"\",O256/COUNTIF('Data Input'!$C$8:$AK$8,\"M\"))","v":""},{"$f":"IF(ISBLANK('Data Input'!A261),\"\",SUM('Data Input'!H261,'Data Input'!K261,'Data Input'!P261,'Data Input'!Y261))","v":""},{"$f":"IF(Q256=\"\",\"\",Q256/COUNTIF('Data Input'!$C$8:$AK$8,\"G\"))","v":""}]
[{"$f":"IF('Data Input'!A262=0,\"\",'Data Input'!A262)","v":""},{"$f":"IF(ISBLANK('Data Input'!A262),\"\",COUNTIF('Data Input'!C262:AK262,\"\"))","v":""},{"$f":"IF(ISBLANK('Data Input'!A262),\"\",COUNTIF('Data Input'!C262:AK262,\"0\"))","v":""},{"$f":"IF(ISBLANK('Data Input'!A262),\"\",SUM(B257,C257))","v":""},{"$f":"IF(ISBLANK('Data Input'!A262),\"\",SUM('Data Input'!C262:AK262))","v":""},{"$f":"IF(E257=\"\",\"\",E257/(COUNTA('Data Input'!$C$8:$AK$8)))","v":""},{"$f":"IF(ISBLANK('Data Input'!A262),\"\",SUM('Data Input'!C262,'Data Input'!D262,'Data Input'!J262,'Data Input'!X262))","v":""},{"$f":"IF(G257=\"\",\"\",G257/COUNTIF('Data Input'!$C$8:$AK$8,\"N\"))","v":""},{"$f":"IF(ISBLANK('Data Input'!A262),\"\",SUM('Data Input'!G262,'Data Input'!I262,'Data Input'!L262,'Data Input'!N262,'Data Input'!O262,'Data Input'!S262,'Data Input'!Z262,'Data Input'!AA262,'Data Input'!AB262,'Data Input'!AC262,'Data Input'!AE262,'Data Input'!AF262,'Data Input'!AG262,'Data Input'!AI262,'Data Input'!AK262))","v":""},{"$f":"IF(I257=\"\",\"\",I257/COUNTIF('Data Input'!$C$8:$AK$8,\"C\"))","v":""},{"$f":"IF(ISBLANK('Data Input'!A262),\"\",SUM('Data Input'!T262,'Data Input'!U262))","v":""},{"$f":"IF(K257=\"\",\"\",K257/COUNTIF('Data Input'!$C$8:$AK$8,\"S\"))","v":""},{"$f":"IF(ISBLANK('Data Input'!A262),\"\",SUM('Data Input'!F262,'Data Input'!R262,'Data Input'!AJ262))","v":""},{"$f":"IF(M257=\"\",\"\",M257/COUNTIF('Data Input'!$C$8:$AK$8,\"F\"))","v":""},{"$f":"IF(ISBLANK('Data Input'!A262),\"\",SUM('Data Input'!E262,'Data Input'!M262,'Data Input'!Q262,'Data Input'!V262,'Data Input'!W262,'Data Input'!AD262,'Data Input'!AH262))","v":""},{"$f":"IF(O257=\"\",\"\",O257/COUNTIF('Data Input'!$C$8:$AK$8,\"M\"))","v":""},{"$f":"IF(ISBLANK('Data Input'!A262),\"\",SUM('Data Input'!H262,'Data Input'!K262,'Data Input'!P262,'Data Input'!Y262))","v":""},{"$f":"IF(Q257=\"\",\"\",Q257/COUNTIF('Data Input'!$C$8:$AK$8,\"G\"))","v":""}]
[{"$f":"IF('Data Input'!A263=0,\"\",'Data Input'!A263)","v":""},{"$f":"IF(ISBLANK('Data Input'!A263),\"\",COUNTIF('Data Input'!C263:AK263,\"\"))","v":""},{"$f":"IF(ISBLANK('Data Input'!A263),\"\",COUNTIF('Data Input'!C263:AK263,\"0\"))","v":""},{"$f":"IF(ISBLANK('Data Input'!A263),\"\",SUM(B258,C258))","v":""},{"$f":"IF(ISBLANK('Data Input'!A263),\"\",SUM('Data Input'!C263:AK263))","v":""},{"$f":"IF(E258=\"\",\"\",E258/(COUNTA('Data Input'!$C$8:$AK$8)))","v":""},{"$f":"IF(ISBLANK('Data Input'!A263),\"\",SUM('Data Input'!C263,'Data Input'!D263,'Data Input'!J263,'Data Input'!X263))","v":""},{"$f":"IF(G258=\"\",\"\",G258/COUNTIF('Data Input'!$C$8:$AK$8,\"N\"))","v":""},{"$f":"IF(ISBLANK('Data Input'!A263),\"\",SUM('Data Input'!G263,'Data Input'!I263,'Data Input'!L263,'Data Input'!N263,'Data Input'!O263,'Data Input'!S263,'Data Input'!Z263,'Data Input'!AA263,'Data Input'!AB263,'Data Input'!AC263,'Data Input'!AE263,'Data Input'!AF263,'Data Input'!AG263,'Data Input'!AI263,'Data Input'!AK263))","v":""},{"$f":"IF(I258=\"\",\"\",I258/COUNTIF('Data Input'!$C$8:$AK$8,\"C\"))","v":""},{"$f":"IF(ISBLANK('Data Input'!A263),\"\",SUM('Data Input'!T263,'Data Input'!U263))","v":""},{"$f":"IF(K258=\"\",\"\",K258/COUNTIF('Data Input'!$C$8:$AK$8,\"S\"))","v":""},{"$f":"IF(ISBLANK('Data Input'!A263),\"\",SUM('Data Input'!F263,'Data Input'!R263,'Data Input'!AJ263))","v":""},{"$f":"IF(M258=\"\",\"\",M258/COUNTIF('Data Input'!$C$8:$AK$8,\"F\"))","v":""},{"$f":"IF(ISBLANK('Data Input'!A263),\"\",SUM('Data Input'!E263,'Data Input'!M263,'Data Input'!Q263,'Data Input'!V263,'Data Input'!W263,'Data Input'!AD263,'Data Input'!AH263))","v":""},{"$f":"IF(O258=\"\",\"\",O258/COUNTIF('Data Input'!$C$8:$AK$8,\"M\"))","v":""},{"$f":"IF(ISBLANK('Data Input'!A263),\"\",SUM('Data Input'!H263,'Data Input'!K263,'Data Input'!P263,'Data Input'!Y263))","v":""},{"$f":"IF(Q258=\"\",\"\",Q258/COUNTIF('Data Input'!$C$8:$AK$8,\"G\"))","v":""}]
[{"$f":"IF('Data Input'!A264=0,\"\",'Data Input'!A264)","v":""},{"$f":"IF(ISBLANK('Data Input'!A264),\"\",COUNTIF('Data Input'!C264:AK264,\"\"))","v":""},{"$f":"IF(ISBLANK('Data Input'!A264),\"\",COUNTIF('Data Input'!C264:AK264,\"0\"))","v":""},{"$f":"IF(ISBLANK('Data Input'!A264),\"\",SUM(B259,C259))","v":""},{"$f":"IF(ISBLANK('Data Input'!A264),\"\",SUM('Data Input'!C264:AK264))","v":""},{"$f":"IF(E259=\"\",\"\",E259/(COUNTA('Data Input'!$C$8:$AK$8)))","v":""},{"$f":"IF(ISBLANK('Data Input'!A264),\"\",SUM('Data Input'!C264,'Data Input'!D264,'Data Input'!J264,'Data Input'!X264))","v":""},{"$f":"IF(G259=\"\",\"\",G259/COUNTIF('Data Input'!$C$8:$AK$8,\"N\"))","v":""},{"$f":"IF(ISBLANK('Data Input'!A264),\"\",SUM('Data Input'!G264,'Data Input'!I264,'Data Input'!L264,'Data Input'!N264,'Data Input'!O264,'Data Input'!S264,'Data Input'!Z264,'Data Input'!AA264,'Data Input'!AB264,'Data Input'!AC264,'Data Input'!AE264,'Data Input'!AF264,'Data Input'!AG264,'Data Input'!AI264,'Data Input'!AK264))","v":""},{"$f":"IF(I259=\"\",\"\",I259/COUNTIF('Data Input'!$C$8:$AK$8,\"C\"))","v":""},{"$f":"IF(ISBLANK('Data Input'!A264),\"\",SUM('Data Input'!T264,'Data Input'!U264))","v":""},{"$f":"IF(K259=\"\",\"\",K259/COUNTIF('Data Input'!$C$8:$AK$8,\"S\"))","v":""},{"$f":"IF(ISBLANK('Data Input'!A264),\"\",SUM('Data Input'!F264,'Data Input'!R264,'Data Input'!AJ264))","v":""},{"$f":"IF(M259=\"\",\"\",M259/COUNTIF('Data Input'!$C$8:$AK$8,\"F\"))","v":""},{"$f":"IF(ISBLANK('Data Input'!A264),\"\",SUM('Data Input'!E264,'Data Input'!M264,'Data Input'!Q264,'Data Input'!V264,'Data Input'!W264,'Data Input'!AD264,'Data Input'!AH264))","v":""},{"$f":"IF(O259=\"\",\"\",O259/COUNTIF('Data Input'!$C$8:$AK$8,\"M\"))","v":""},{"$f":"IF(ISBLANK('Data Input'!A264),\"\",SUM('Data Input'!H264,'Data Input'!K264,'Data Input'!P264,'Data Input'!Y264))","v":""},{"$f":"IF(Q259=\"\",\"\",Q259/COUNTIF('Data Input'!$C$8:$AK$8,\"G\"))","v":""}]
[{"$f":"IF('Data Input'!A265=0,\"\",'Data Input'!A265)","v":""},{"$f":"IF(ISBLANK('Data Input'!A265),\"\",COUNTIF('Data Input'!C265:AK265,\"\"))","v":""},{"$f":"IF(ISBLANK('Data Input'!A265),\"\",COUNTIF('Data Input'!C265:AK265,\"0\"))","v":""},{"$f":"IF(ISBLANK('Data Input'!A265),\"\",SUM(B260,C260))","v":""},{"$f":"IF(ISBLANK('Data Input'!A265),\"\",SUM('Data Input'!C265:AK265))","v":""},{"$f":"IF(E260=\"\",\"\",E260/(COUNTA('Data Input'!$C$8:$AK$8)))","v":""},{"$f":"IF(ISBLANK('Data Input'!A265),\"\",SUM('Data Input'!C265,'Data Input'!D265,'Data Input'!J265,'Data Input'!X265))","v":""},{"$f":"IF(G260=\"\",\"\",G260/COUNTIF('Data Input'!$C$8:$AK$8,\"N\"))","v":""},{"$f":"IF(ISBLANK('Data Input'!A265),\"\",SUM('Data Input'!G265,'Data Input'!I265,'Data Input'!L265,'Data Input'!N265,'Data Input'!O265,'Data Input'!S265,'Data Input'!Z265,'Data Input'!AA265,'Data Input'!AB265,'Data Input'!AC265,'Data Input'!AE265,'Data Input'!AF265,'Data Input'!AG265,'Data Input'!AI265,'Data Input'!AK265))","v":""},{"$f":"IF(I260=\"\",\"\",I260/COUNTIF('Data Input'!$C$8:$AK$8,\"C\"))","v":""},{"$f":"IF(ISBLANK('Data Input'!A265),\"\",SUM('Data Input'!T265,'Data Input'!U265))","v":""},{"$f":"IF(K260=\"\",\"\",K260/COUNTIF('Data Input'!$C$8:$AK$8,\"S\"))","v":""},{"$f":"IF(ISBLANK('Data Input'!A265),\"\",SUM('Data Input'!F265,'Data Input'!R265,'Data Input'!AJ265))","v":""},{"$f":"IF(M260=\"\",\"\",M260/COUNTIF('Data Input'!$C$8:$AK$8,\"F\"))","v":""},{"$f":"IF(ISBLANK('Data Input'!A265),\"\",SUM('Data Input'!E265,'Data Input'!M265,'Data Input'!Q265,'Data Input'!V265,'Data Input'!W265,'Data Input'!AD265,'Data Input'!AH265))","v":""},{"$f":"IF(O260=\"\",\"\",O260/COUNTIF('Data Input'!$C$8:$AK$8,\"M\"))","v":""},{"$f":"IF(ISBLANK('Data Input'!A265),\"\",SUM('Data Input'!H265,'Data Input'!K265,'Data Input'!P265,'Data Input'!Y265))","v":""},{"$f":"IF(Q260=\"\",\"\",Q260/COUNTIF('Data Input'!$C$8:$AK$8,\"G\"))","v":""}]
[{"$f":"IF('Data Input'!A266=0,\"\",'Data Input'!A266)","v":""},{"$f":"IF(ISBLANK('Data Input'!A266),\"\",COUNTIF('Data Input'!C266:AK266,\"\"))","v":""},{"$f":"IF(ISBLANK('Data Input'!A266),\"\",COUNTIF('Data Input'!C266:AK266,\"0\"))","v":""},{"$f":"IF(ISBLANK('Data Input'!A266),\"\",SUM(B261,C261))","v":""},{"$f":"IF(ISBLANK('Data Input'!A266),\"\",SUM('Data Input'!C266:AK266))","v":""},{"$f":"IF(E261=\"\",\"\",E261/(COUNTA('Data Input'!$C$8:$AK$8)))","v":""},{"$f":"IF(ISBLANK('Data Input'!A266),\"\",SUM('Data Input'!C266,'Data Input'!D266,'Data Input'!J266,'Data Input'!X266))","v":""},{"$f":"IF(G261=\"\",\"\",G261/COUNTIF('Data Input'!$C$8:$AK$8,\"N\"))","v":""},{"$f":"IF(ISBLANK('Data Input'!A266),\"\",SUM('Data Input'!G266,'Data Input'!I266,'Data Input'!L266,'Data Input'!N266,'Data Input'!O266,'Data Input'!S266,'Data Input'!Z266,'Data Input'!AA266,'Data Input'!AB266,'Data Input'!AC266,'Data Input'!AE266,'Data Input'!AF266,'Data Input'!AG266,'Data Input'!AI266,'Data Input'!AK266))","v":""},{"$f":"IF(I261=\"\",\"\",I261/COUNTIF('Data Input'!$C$8:$AK$8,\"C\"))","v":""},{"$f":"IF(ISBLANK('Data Input'!A266),\"\",SUM('Data Input'!T266,'Data Input'!U266))","v":""},{"$f":"IF(K261=\"\",\"\",K261/COUNTIF('Data Input'!$C$8:$AK$8,\"S\"))","v":""},{"$f":"IF(ISBLANK('Data Input'!A266),\"\",SUM('Data Input'!F266,'Data Input'!R266,'Data Input'!AJ266))","v":""},{"$f":"IF(M261=\"\",\"\",M261/COUNTIF('Data Input'!$C$8:$AK$8,\"F\"))","v":""},{"$f":"IF(ISBLANK('Data Input'!A266),\"\",SUM('Data Input'!E266,'Data Input'!M266,'Data Input'!Q266,'Data Input'!V266,'Data Input'!W266,'Data Input'!AD266,'Data Input'!AH266))","v":""},{"$f":"IF(O261=\"\",\"\",O261/COUNTIF('Data Input'!$C$8:$AK$8,\"M\"))","v":""},{"$f":"IF(ISBLANK('Data Input'!A266),\"\",SUM('Data Input'!H266,'Data Input'!K266,'Data Input'!P266,'Data Input'!Y266))","v":""},{"$f":"IF(Q261=\"\",\"\",Q261/COUNTIF('Data Input'!$C$8:$AK$8,\"G\"))","v":""}]
[{"$f":"IF('Data Input'!A267=0,\"\",'Data Input'!A267)","v":""},{"$f":"IF(ISBLANK('Data Input'!A267),\"\",COUNTIF('Data Input'!C267:AK267,\"\"))","v":""},{"$f":"IF(ISBLANK('Data Input'!A267),\"\",COUNTIF('Data Input'!C267:AK267,\"0\"))","v":""},{"$f":"IF(ISBLANK('Data Input'!A267),\"\",SUM(B262,C262))","v":""},{"$f":"IF(ISBLANK('Data Input'!A267),\"\",SUM('Data Input'!C267:AK267))","v":""},{"$f":"IF(E262=\"\",\"\",E262/(COUNTA('Data Input'!$C$8:$AK$8)))","v":""},{"$f":"IF(ISBLANK('Data Input'!A267),\"\",SUM('Data Input'!C267,'Data Input'!D267,'Data Input'!J267,'Data Input'!X267))","v":""},{"$f":"IF(G262=\"\",\"\",G262/COUNTIF('Data Input'!$C$8:$AK$8,\"N\"))","v":""},{"$f":"IF(ISBLANK('Data Input'!A267),\"\",SUM('Data Input'!G267,'Data Input'!I267,'Data Input'!L267,'Data Input'!N267,'Data Input'!O267,'Data Input'!S267,'Data Input'!Z267,'Data Input'!AA267,'Data Input'!AB267,'Data Input'!AC267,'Data Input'!AE267,'Data Input'!AF267,'Data Input'!AG267,'Data Input'!AI267,'Data Input'!AK267))","v":""},{"$f":"IF(I262=\"\",\"\",I262/COUNTIF('Data Input'!$C$8:$AK$8,\"C\"))","v":""},{"$f":"IF(ISBLANK('Data Input'!A267),\"\",SUM('Data Input'!T267,'Data Input'!U267))","v":""},{"$f":"IF(K262=\"\",\"\",K262/COUNTIF('Data Input'!$C$8:$AK$8,\"S\"))","v":""},{"$f":"IF(ISBLANK('Data Input'!A267),\"\",SUM('Data Input'!F267,'Data Input'!R267,'Data Input'!AJ267))","v":""},{"$f":"IF(M262=\"\",\"\",M262/COUNTIF('Data Input'!$C$8:$AK$8,\"F\"))","v":""},{"$f":"IF(ISBLANK('Data Input'!A267),\"\",SUM('Data Input'!E267,'Data Input'!M267,'Data Input'!Q267,'Data Input'!V267,'Data Input'!W267,'Data Input'!AD267,'Data Input'!AH267))","v":""},{"$f":"IF(O262=\"\",\"\",O262/COUNTIF('Data Input'!$C$8:$AK$8,\"M\"))","v":""},{"$f":"IF(ISBLANK('Data Input'!A267),\"\",SUM('Data Input'!H267,'Data Input'!K267,'Data Input'!P267,'Data Input'!Y267))","v":""},{"$f":"IF(Q262=\"\",\"\",Q262/COUNTIF('Data Input'!$C$8:$AK$8,\"G\"))","v":""}]
[{"$f":"IF('Data Input'!A268=0,\"\",'Data Input'!A268)","v":""},{"$f":"IF(ISBLANK('Data Input'!A268),\"\",COUNTIF('Data Input'!C268:AK268,\"\"))","v":""},{"$f":"IF(ISBLANK('Data Input'!A268),\"\",COUNTIF('Data Input'!C268:AK268,\"0\"))","v":""},{"$f":"IF(ISBLANK('Data Input'!A268),\"\",SUM(B263,C263))","v":""},{"$f":"IF(ISBLANK('Data Input'!A268),\"\",SUM('Data Input'!C268:AK268))","v":""},{"$f":"IF(E263=\"\",\"\",E263/(COUNTA('Data Input'!$C$8:$AK$8)))","v":""},{"$f":"IF(ISBLANK('Data Input'!A268),\"\",SUM('Data Input'!C268,'Data Input'!D268,'Data Input'!J268,'Data Input'!X268))","v":""},{"$f":"IF(G263=\"\",\"\",G263/COUNTIF('Data Input'!$C$8:$AK$8,\"N\"))","v":""},{"$f":"IF(ISBLANK('Data Input'!A268),\"\",SUM('Data Input'!G268,'Data Input'!I268,'Data Input'!L268,'Data Input'!N268,'Data Input'!O268,'Data Input'!S268,'Data Input'!Z268,'Data Input'!AA268,'Data Input'!AB268,'Data Input'!AC268,'Data Input'!AE268,'Data Input'!AF268,'Data Input'!AG268,'Data Input'!AI268,'Data Input'!AK268))","v":""},{"$f":"IF(I263=\"\",\"\",I263/COUNTIF('Data Input'!$C$8:$AK$8,\"C\"))","v":""},{"$f":"IF(ISBLANK('Data Input'!A268),\"\",SUM('Data Input'!T268,'Data Input'!U268))","v":""},{"$f":"IF(K263=\"\",\"\",K263/COUNTIF('Data Input'!$C$8:$AK$8,\"S\"))","v":""},{"$f":"IF(ISBLANK('Data Input'!A268),\"\",SUM('Data Input'!F268,'Data Input'!R268,'Data Input'!AJ268))","v":""},{"$f":"IF(M263=\"\",\"\",M263/COUNTIF('Data Input'!$C$8:$AK$8,\"F\"))","v":""},{"$f":"IF(ISBLANK('Data Input'!A268),\"\",SUM('Data Input'!E268,'Data Input'!M268,'Data Input'!Q268,'Data Input'!V268,'Data Input'!W268,'Data Input'!AD268,'Data Input'!AH268))","v":""},{"$f":"IF(O263=\"\",\"\",O263/COUNTIF('Data Input'!$C$8:$AK$8,\"M\"))","v":""},{"$f":"IF(ISBLANK('Data Input'!A268),\"\",SUM('Data Input'!H268,'Data Input'!K268,'Data Input'!P268,'Data Input'!Y268))","v":""},{"$f":"IF(Q263=\"\",\"\",Q263/COUNTIF('Data Input'!$C$8:$AK$8,\"G\"))","v":""}]
[{"$f":"IF('Data Input'!A269=0,\"\",'Data Input'!A269)","v":""},{"$f":"IF(ISBLANK('Data Input'!A269),\"\",COUNTIF('Data Input'!C269:AK269,\"\"))","v":""},{"$f":"IF(ISBLANK('Data Input'!A269),\"\",COUNTIF('Data Input'!C269:AK269,\"0\"))","v":""},{"$f":"IF(ISBLANK('Data Input'!A269),\"\",SUM(B264,C264))","v":""},{"$f":"IF(ISBLANK('Data Input'!A269),\"\",SUM('Data Input'!C269:AK269))","v":""},{"$f":"IF(E264=\"\",\"\",E264/(COUNTA('Data Input'!$C$8:$AK$8)))","v":""},{"$f":"IF(ISBLANK('Data Input'!A269),\"\",SUM('Data Input'!C269,'Data Input'!D269,'Data Input'!J269,'Data Input'!X269))","v":""},{"$f":"IF(G264=\"\",\"\",G264/COUNTIF('Data Input'!$C$8:$AK$8,\"N\"))","v":""},{"$f":"IF(ISBLANK('Data Input'!A269),\"\",SUM('Data Input'!G269,'Data Input'!I269,'Data Input'!L269,'Data Input'!N269,'Data Input'!O269,'Data Input'!S269,'Data Input'!Z269,'Data Input'!AA269,'Data Input'!AB269,'Data Input'!AC269,'Data Input'!AE269,'Data Input'!AF269,'Data Input'!AG269,'Data Input'!AI269,'Data Input'!AK269))","v":""},{"$f":"IF(I264=\"\",\"\",I264/COUNTIF('Data Input'!$C$8:$AK$8,\"C\"))","v":""},{"$f":"IF(ISBLANK('Data Input'!A269),\"\",SUM('Data Input'!T269,'Data Input'!U269))","v":""},{"$f":"IF(K264=\"\",\"\",K264/COUNTIF('Data Input'!$C$8:$AK$8,\"S\"))","v":""},{"$f":"IF(ISBLANK('Data Input'!A269),\"\",SUM('Data Input'!F269,'Data Input'!R269,'Data Input'!AJ269))","v":""},{"$f":"IF(M264=\"\",\"\",M264/COUNTIF('Data Input'!$C$8:$AK$8,\"F\"))","v":""},{"$f":"IF(ISBLANK('Data Input'!A269),\"\",SUM('Data Input'!E269,'Data Input'!M269,'Data Input'!Q269,'Data Input'!V269,'Data Input'!W269,'Data Input'!AD269,'Data Input'!AH269))","v":""},{"$f":"IF(O264=\"\",\"\",O264/COUNTIF('Data Input'!$C$8:$AK$8,\"M\"))","v":""},{"$f":"IF(ISBLANK('Data Input'!A269),\"\",SUM('Data Input'!H269,'Data Input'!K269,'Data Input'!P269,'Data Input'!Y269))","v":""},{"$f":"IF(Q264=\"\",\"\",Q264/COUNTIF('Data Input'!$C$8:$AK$8,\"G\"))","v":""}]
[{"$f":"IF('Data Input'!A270=0,\"\",'Data Input'!A270)","v":""},{"$f":"IF(ISBLANK('Data Input'!A270),\"\",COUNTIF('Data Input'!C270:AK270,\"\"))","v":""},{"$f":"IF(ISBLANK('Data Input'!A270),\"\",COUNTIF('Data Input'!C270:AK270,\"0\"))","v":""},{"$f":"IF(ISBLANK('Data Input'!A270),\"\",SUM(B265,C265))","v":""},{"$f":"IF(ISBLANK('Data Input'!A270),\"\",SUM('Data Input'!C270:AK270))","v":""},{"$f":"IF(E265=\"\",\"\",E265/(COUNTA('Data Input'!$C$8:$AK$8)))","v":""},{"$f":"IF(ISBLANK('Data Input'!A270),\"\",SUM('Data Input'!C270,'Data Input'!D270,'Data Input'!J270,'Data Input'!X270))","v":""},{"$f":"IF(G265=\"\",\"\",G265/COUNTIF('Data Input'!$C$8:$AK$8,\"N\"))","v":""},{"$f":"IF(ISBLANK('Data Input'!A270),\"\",SUM('Data Input'!G270,'Data Input'!I270,'Data Input'!L270,'Data Input'!N270,'Data Input'!O270,'Data Input'!S270,'Data Input'!Z270,'Data Input'!AA270,'Data Input'!AB270,'Data Input'!AC270,'Data Input'!AE270,'Data Input'!AF270,'Data Input'!AG270,'Data Input'!AI270,'Data Input'!AK270))","v":""},{"$f":"IF(I265=\"\",\"\",I265/COUNTIF('Data Input'!$C$8:$AK$8,\"C\"))","v":""},{"$f":"IF(ISBLANK('Data Input'!A270),\"\",SUM('Data Input'!T270,'Data Input'!U270))","v":""},{"$f":"IF(K265=\"\",\"\",K265/COUNTIF('Data Input'!$C$8:$AK$8,\"S\"))","v":""},{"$f":"IF(ISBLANK('Data Input'!A270),\"\",SUM('Data Input'!F270,'Data Input'!R270,'Data Input'!AJ270))","v":""},{"$f":"IF(M265=\"\",\"\",M265/COUNTIF('Data Input'!$C$8:$AK$8,\"F\"))","v":""},{"$f":"IF(ISBLANK('Data Input'!A270),\"\",SUM('Data Input'!E270,'Data Input'!M270,'Data Input'!Q270,'Data Input'!V270,'Data Input'!W270,'Data Input'!AD270,'Data Input'!AH270))","v":""},{"$f":"IF(O265=\"\",\"\",O265/COUNTIF('Data Input'!$C$8:$AK$8,\"M\"))","v":""},{"$f":"IF(ISBLANK('Data Input'!A270),\"\",SUM('Data Input'!H270,'Data Input'!K270,'Data Input'!P270,'Data Input'!Y270))","v":""},{"$f":"IF(Q265=\"\",\"\",Q265/COUNTIF('Data Input'!$C$8:$AK$8,\"G\"))","v":""}]
[{"$f":"IF('Data Input'!A271=0,\"\",'Data Input'!A271)","v":""},{"$f":"IF(ISBLANK('Data Input'!A271),\"\",COUNTIF('Data Input'!C271:AK271,\"\"))","v":""},{"$f":"IF(ISBLANK('Data Input'!A271),\"\",COUNTIF('Data Input'!C271:AK271,\"0\"))","v":""},{"$f":"IF(ISBLANK('Data Input'!A271),\"\",SUM(B266,C266))","v":""},{"$f":"IF(ISBLANK('Data Input'!A271),\"\",SUM('Data Input'!C271:AK271))","v":""},{"$f":"IF(E266=\"\",\"\",E266/(COUNTA('Data Input'!$C$8:$AK$8)))","v":""},{"$f":"IF(ISBLANK('Data Input'!A271),\"\",SUM('Data Input'!C271,'Data Input'!D271,'Data Input'!J271,'Data Input'!X271))","v":""},{"$f":"IF(G266=\"\",\"\",G266/COUNTIF('Data Input'!$C$8:$AK$8,\"N\"))","v":""},{"$f":"IF(ISBLANK('Data Input'!A271),\"\",SUM('Data Input'!G271,'Data Input'!I271,'Data Input'!L271,'Data Input'!N271,'Data Input'!O271,'Data Input'!S271,'Data Input'!Z271,'Data Input'!AA271,'Data Input'!AB271,'Data Input'!AC271,'Data Input'!AE271,'Data Input'!AF271,'Data Input'!AG271,'Data Input'!AI271,'Data Input'!AK271))","v":""},{"$f":"IF(I266=\"\",\"\",I266/COUNTIF('Data Input'!$C$8:$AK$8,\"C\"))","v":""},{"$f":"IF(ISBLANK('Data Input'!A271),\"\",SUM('Data Input'!T271,'Data Input'!U271))","v":""},{"$f":"IF(K266=\"\",\"\",K266/COUNTIF('Data Input'!$C$8:$AK$8,\"S\"))","v":""},{"$f":"IF(ISBLANK('Data Input'!A271),\"\",SUM('Data Input'!F271,'Data Input'!R271,'Data Input'!AJ271))","v":""},{"$f":"IF(M266=\"\",\"\",M266/COUNTIF('Data Input'!$C$8:$AK$8,\"F\"))","v":""},{"$f":"IF(ISBLANK('Data Input'!A271),\"\",SUM('Data Input'!E271,'Data Input'!M271,'Data Input'!Q271,'Data Input'!V271,'Data Input'!W271,'Data Input'!AD271,'Data Input'!AH271))","v":""},{"$f":"IF(O266=\"\",\"\",O266/COUNTIF('Data Input'!$C$8:$AK$8,\"M\"))","v":""},{"$f":"IF(ISBLANK('Data Input'!A271),\"\",SUM('Data Input'!H271,'Data Input'!K271,'Data Input'!P271,'Data Input'!Y271))","v":""},{"$f":"IF(Q266=\"\",\"\",Q266/COUNTIF('Data Input'!$C$8:$AK$8,\"G\"))","v":""}]
[{"$f":"IF('Data Input'!A272=0,\"\",'Data Input'!A272)","v":""},{"$f":"IF(ISBLANK('Data Input'!A272),\"\",COUNTIF('Data Input'!C272:AK272,\"\"))","v":""},{"$f":"IF(ISBLANK('Data Input'!A272),\"\",COUNTIF('Data Input'!C272:AK272,\"0\"))","v":""},{"$f":"IF(ISBLANK('Data Input'!A272),\"\",SUM(B267,C267))","v":""},{"$f":"IF(ISBLANK('Data Input'!A272),\"\",SUM('Data Input'!C272:AK272))","v":""},{"$f":"IF(E267=\"\",\"\",E267/(COUNTA('Data Input'!$C$8:$AK$8)))","v":""},{"$f":"IF(ISBLANK('Data Input'!A272),\"\",SUM('Data Input'!C272,'Data Input'!D272,'Data Input'!J272,'Data Input'!X272))","v":""},{"$f":"IF(G267=\"\",\"\",G267/COUNTIF('Data Input'!$C$8:$AK$8,\"N\"))","v":""},{"$f":"IF(ISBLANK('Data Input'!A272),\"\",SUM('Data Input'!G272,'Data Input'!I272,'Data Input'!L272,'Data Input'!N272,'Data Input'!O272,'Data Input'!S272,'Data Input'!Z272,'Data Input'!AA272,'Data Input'!AB272,'Data Input'!AC272,'Data Input'!AE272,'Data Input'!AF272,'Data Input'!AG272,'Data Input'!AI272,'Data Input'!AK272))","v":""},{"$f":"IF(I267=\"\",\"\",I267/COUNTIF('Data Input'!$C$8:$AK$8,\"C\"))","v":""},{"$f":"IF(ISBLANK('Data Input'!A272),\"\",SUM('Data Input'!T272,'Data Input'!U272))","v":""},{"$f":"IF(K267=\"\",\"\",K267/COUNTIF('Data Input'!$C$8:$AK$8,\"S\"))","v":""},{"$f":"IF(ISBLANK('Data Input'!A272),\"\",SUM('Data Input'!F272,'Data Input'!R272,'Data Input'!AJ272))","v":""},{"$f":"IF(M267=\"\",\"\",M267/COUNTIF('Data Input'!$C$8:$AK$8,\"F\"))","v":""},{"$f":"IF(ISBLANK('Data Input'!A272),\"\",SUM('Data Input'!E272,'Data Input'!M272,'Data Input'!Q272,'Data Input'!V272,'Data Input'!W272,'Data Input'!AD272,'Data Input'!AH272))","v":""},{"$f":"IF(O267=\"\",\"\",O267/COUNTIF('Data Input'!$C$8:$AK$8,\"M\"))","v":""},{"$f":"IF(ISBLANK('Data Input'!A272),\"\",SUM('Data Input'!H272,'Data Input'!K272,'Data Input'!P272,'Data Input'!Y272))","v":""},{"$f":"IF(Q267=\"\",\"\",Q267/COUNTIF('Data Input'!$C$8:$AK$8,\"G\"))","v":""}]
[{"$f":"IF('Data Input'!A273=0,\"\",'Data Input'!A273)","v":""},{"$f":"IF(ISBLANK('Data Input'!A273),\"\",COUNTIF('Data Input'!C273:AK273,\"\"))","v":""},{"$f":"IF(ISBLANK('Data Input'!A273),\"\",COUNTIF('Data Input'!C273:AK273,\"0\"))","v":""},{"$f":"IF(ISBLANK('Data Input'!A273),\"\",SUM(B268,C268))","v":""},{"$f":"IF(ISBLANK('Data Input'!A273),\"\",SUM('Data Input'!C273:AK273))","v":""},{"$f":"IF(E268=\"\",\"\",E268/(COUNTA('Data Input'!$C$8:$AK$8)))","v":""},{"$f":"IF(ISBLANK('Data Input'!A273),\"\",SUM('Data Input'!C273,'Data Input'!D273,'Data Input'!J273,'Data Input'!X273))","v":""},{"$f":"IF(G268=\"\",\"\",G268/COUNTIF('Data Input'!$C$8:$AK$8,\"N\"))","v":""},{"$f":"IF(ISBLANK('Data Input'!A273),\"\",SUM('Data Input'!G273,'Data Input'!I273,'Data Input'!L273,'Data Input'!N273,'Data Input'!O273,'Data Input'!S273,'Data Input'!Z273,'Data Input'!AA273,'Data Input'!AB273,'Data Input'!AC273,'Data Input'!AE273,'Data Input'!AF273,'Data Input'!AG273,'Data Input'!AI273,'Data Input'!AK273))","v":""},{"$f":"IF(I268=\"\",\"\",I268/COUNTIF('Data Input'!$C$8:$AK$8,\"C\"))","v":""},{"$f":"IF(ISBLANK('Data Input'!A273),\"\",SUM('Data Input'!T273,'Data Input'!U273))","v":""},{"$f":"IF(K268=\"\",\"\",K268/COUNTIF('Data Input'!$C$8:$AK$8,\"S\"))","v":""},{"$f":"IF(ISBLANK('Data Input'!A273),\"\",SUM('Data Input'!F273,'Data Input'!R273,'Data Input'!AJ273))","v":""},{"$f":"IF(M268=\"\",\"\",M268/COUNTIF('Data Input'!$C$8:$AK$8,\"F\"))","v":""},{"$f":"IF(ISBLANK('Data Input'!A273),\"\",SUM('Data Input'!E273,'Data Input'!M273,'Data Input'!Q273,'Data Input'!V273,'Data Input'!W273,'Data Input'!AD273,'Data Input'!AH273))","v":""},{"$f":"IF(O268=\"\",\"\",O268/COUNTIF('Data Input'!$C$8:$AK$8,\"M\"))","v":""},{"$f":"IF(ISBLANK('Data Input'!A273),\"\",SUM('Data Input'!H273,'Data Input'!K273,'Data Input'!P273,'Data Input'!Y273))","v":""},{"$f":"IF(Q268=\"\",\"\",Q268/COUNTIF('Data Input'!$C$8:$AK$8,\"G\"))","v":""}]
[{"$f":"IF('Data Input'!A274=0,\"\",'Data Input'!A274)","v":""},{"$f":"IF(ISBLANK('Data Input'!A274),\"\",COUNTIF('Data Input'!C274:AK274,\"\"))","v":""},{"$f":"IF(ISBLANK('Data Input'!A274),\"\",COUNTIF('Data Input'!C274:AK274,\"0\"))","v":""},{"$f":"IF(ISBLANK('Data Input'!A274),\"\",SUM(B269,C269))","v":""},{"$f":"IF(ISBLANK('Data Input'!A274),\"\",SUM('Data Input'!C274:AK274))","v":""},{"$f":"IF(E269=\"\",\"\",E269/(COUNTA('Data Input'!$C$8:$AK$8)))","v":""},{"$f":"IF(ISBLANK('Data Input'!A274),\"\",SUM('Data Input'!C274,'Data Input'!D274,'Data Input'!J274,'Data Input'!X274))","v":""},{"$f":"IF(G269=\"\",\"\",G269/COUNTIF('Data Input'!$C$8:$AK$8,\"N\"))","v":""},{"$f":"IF(ISBLANK('Data Input'!A274),\"\",SUM('Data Input'!G274,'Data Input'!I274,'Data Input'!L274,'Data Input'!N274,'Data Input'!O274,'Data Input'!S274,'Data Input'!Z274,'Data Input'!AA274,'Data Input'!AB274,'Data Input'!AC274,'Data Input'!AE274,'Data Input'!AF274,'Data Input'!AG274,'Data Input'!AI274,'Data Input'!AK274))","v":""},{"$f":"IF(I269=\"\",\"\",I269/COUNTIF('Data Input'!$C$8:$AK$8,\"C\"))","v":""},{"$f":"IF(ISBLANK('Data Input'!A274),\"\",SUM('Data Input'!T274,'Data Input'!U274))","v":""},{"$f":"IF(K269=\"\",\"\",K269/COUNTIF('Data Input'!$C$8:$AK$8,\"S\"))","v":""},{"$f":"IF(ISBLANK('Data Input'!A274),\"\",SUM('Data Input'!F274,'Data Input'!R274,'Data Input'!AJ274))","v":""},{"$f":"IF(M269=\"\",\"\",M269/COUNTIF('Data Input'!$C$8:$AK$8,\"F\"))","v":""},{"$f":"IF(ISBLANK('Data Input'!A274),\"\",SUM('Data Input'!E274,'Data Input'!M274,'Data Input'!Q274,'Data Input'!V274,'Data Input'!W274,'Data Input'!AD274,'Data Input'!AH274))","v":""},{"$f":"IF(O269=\"\",\"\",O269/COUNTIF('Data Input'!$C$8:$AK$8,\"M\"))","v":""},{"$f":"IF(ISBLANK('Data Input'!A274),\"\",SUM('Data Input'!H274,'Data Input'!K274,'Data Input'!P274,'Data Input'!Y274))","v":""},{"$f":"IF(Q269=\"\",\"\",Q269/COUNTIF('Data Input'!$C$8:$AK$8,\"G\"))","v":""}]
[{"$f":"IF('Data Input'!A275=0,\"\",'Data Input'!A275)","v":""},{"$f":"IF(ISBLANK('Data Input'!A275),\"\",COUNTIF('Data Input'!C275:AK275,\"\"))","v":""},{"$f":"IF(ISBLANK('Data Input'!A275),\"\",COUNTIF('Data Input'!C275:AK275,\"0\"))","v":""},{"$f":"IF(ISBLANK('Data Input'!A275),\"\",SUM(B270,C270))","v":""},{"$f":"IF(ISBLANK('Data Input'!A275),\"\",SUM('Data Input'!C275:AK275))","v":""},{"$f":"IF(E270=\"\",\"\",E270/(COUNTA('Data Input'!$C$8:$AK$8)))","v":""},{"$f":"IF(ISBLANK('Data Input'!A275),\"\",SUM('Data Input'!C275,'Data Input'!D275,'Data Input'!J275,'Data Input'!X275))","v":""},{"$f":"IF(G270=\"\",\"\",G270/COUNTIF('Data Input'!$C$8:$AK$8,\"N\"))","v":""},{"$f":"IF(ISBLANK('Data Input'!A275),\"\",SUM('Data Input'!G275,'Data Input'!I275,'Data Input'!L275,'Data Input'!N275,'Data Input'!O275,'Data Input'!S275,'Data Input'!Z275,'Data Input'!AA275,'Data Input'!AB275,'Data Input'!AC275,'Data Input'!AE275,'Data Input'!AF275,'Data Input'!AG275,'Data Input'!AI275,'Data Input'!AK275))","v":""},{"$f":"IF(I270=\"\",\"\",I270/COUNTIF('Data Input'!$C$8:$AK$8,\"C\"))","v":""},{"$f":"IF(ISBLANK('Data Input'!A275),\"\",SUM('Data Input'!T275,'Data Input'!U275))","v":""},{"$f":"IF(K270=\"\",\"\",K270/COUNTIF('Data Input'!$C$8:$AK$8,\"S\"))","v":""},{"$f":"IF(ISBLANK('Data Input'!A275),\"\",SUM('Data Input'!F275,'Data Input'!R275,'Data Input'!AJ275))","v":""},{"$f":"IF(M270=\"\",\"\",M270/COUNTIF('Data Input'!$C$8:$AK$8,\"F\"))","v":""},{"$f":"IF(ISBLANK('Data Input'!A275),\"\",SUM('Data Input'!E275,'Data Input'!M275,'Data Input'!Q275,'Data Input'!V275,'Data Input'!W275,'Data Input'!AD275,'Data Input'!AH275))","v":""},{"$f":"IF(O270=\"\",\"\",O270/COUNTIF('Data Input'!$C$8:$AK$8,\"M\"))","v":""},{"$f":"IF(ISBLANK('Data Input'!A275),\"\",SUM('Data Input'!H275,'Data Input'!K275,'Data Input'!P275,'Data Input'!Y275))","v":""},{"$f":"IF(Q270=\"\",\"\",Q270/COUNTIF('Data Input'!$C$8:$AK$8,\"G\"))","v":""}]
[{"$f":"IF('Data Input'!A276=0,\"\",'Data Input'!A276)","v":""},{"$f":"IF(ISBLANK('Data Input'!A276),\"\",COUNTIF('Data Input'!C276:AK276,\"\"))","v":""},{"$f":"IF(ISBLANK('Data Input'!A276),\"\",COUNTIF('Data Input'!C276:AK276,\"0\"))","v":""},{"$f":"IF(ISBLANK('Data Input'!A276),\"\",SUM(B271,C271))","v":""},{"$f":"IF(ISBLANK('Data Input'!A276),\"\",SUM('Data Input'!C276:AK276))","v":""},{"$f":"IF(E271=\"\",\"\",E271/(COUNTA('Data Input'!$C$8:$AK$8)))","v":""},{"$f":"IF(ISBLANK('Data Input'!A276),\"\",SUM('Data Input'!C276,'Data Input'!D276,'Data Input'!J276,'Data Input'!X276))","v":""},{"$f":"IF(G271=\"\",\"\",G271/COUNTIF('Data Input'!$C$8:$AK$8,\"N\"))","v":""},{"$f":"IF(ISBLANK('Data Input'!A276),\"\",SUM('Data Input'!G276,'Data Input'!I276,'Data Input'!L276,'Data Input'!N276,'Data Input'!O276,'Data Input'!S276,'Data Input'!Z276,'Data Input'!AA276,'Data Input'!AB276,'Data Input'!AC276,'Data Input'!AE276,'Data Input'!AF276,'Data Input'!AG276,'Data Input'!AI276,'Data Input'!AK276))","v":""},{"$f":"IF(I271=\"\",\"\",I271/COUNTIF('Data Input'!$C$8:$AK$8,\"C\"))","v":""},{"$f":"IF(ISBLANK('Data Input'!A276),\"\",SUM('Data Input'!T276,'Data Input'!U276))","v":""},{"$f":"IF(K271=\"\",\"\",K271/COUNTIF('Data Input'!$C$8:$AK$8,\"S\"))","v":""},{"$f":"IF(ISBLANK('Data Input'!A276),\"\",SUM('Data Input'!F276,'Data Input'!R276,'Data Input'!AJ276))","v":""},{"$f":"IF(M271=\"\",\"\",M271/COUNTIF('Data Input'!$C$8:$AK$8,\"F\"))","v":""},{"$f":"IF(ISBLANK('Data Input'!A276),\"\",SUM('Data Input'!E276,'Data Input'!M276,'Data Input'!Q276,'Data Input'!V276,'Data Input'!W276,'Data Input'!AD276,'Data Input'!AH276))","v":""},{"$f":"IF(O271=\"\",\"\",O271/COUNTIF('Data Input'!$C$8:$AK$8,\"M\"))","v":""},{"$f":"IF(ISBLANK('Data Input'!A276),\"\",SUM('Data Input'!H276,'Data Input'!K276,'Data Input'!P276,'Data Input'!Y276))","v":""},{"$f":"IF(Q271=\"\",\"\",Q271/COUNTIF('Data Input'!$C$8:$AK$8,\"G\"))","v":""}]
[{"$f":"IF('Data Input'!A277=0,\"\",'Data Input'!A277)","v":""},{"$f":"IF(ISBLANK('Data Input'!A277),\"\",COUNTIF('Data Input'!C277:AK277,\"\"))","v":""},{"$f":"IF(ISBLANK('Data Input'!A277),\"\",COUNTIF('Data Input'!C277:AK277,\"0\"))","v":""},{"$f":"IF(ISBLANK('Data Input'!A277),\"\",SUM(B272,C272))","v":""},{"$f":"IF(ISBLANK('Data Input'!A277),\"\",SUM('Data Input'!C277:AK277))","v":""},{"$f":"IF(E272=\"\",\"\",E272/(COUNTA('Data Input'!$C$8:$AK$8)))","v":""},{"$f":"IF(ISBLANK('Data Input'!A277),\"\",SUM('Data Input'!C277,'Data Input'!D277,'Data Input'!J277,'Data Input'!X277))","v":""},{"$f":"IF(G272=\"\",\"\",G272/COUNTIF('Data Input'!$C$8:$AK$8,\"N\"))","v":""},{"$f":"IF(ISBLANK('Data Input'!A277),\"\",SUM('Data Input'!G277,'Data Input'!I277,'Data Input'!L277,'Data Input'!N277,'Data Input'!O277,'Data Input'!S277,'Data Input'!Z277,'Data Input'!AA277,'Data Input'!AB277,'Data Input'!AC277,'Data Input'!AE277,'Data Input'!AF277,'Data Input'!AG277,'Data Input'!AI277,'Data Input'!AK277))","v":""},{"$f":"IF(I272=\"\",\"\",I272/COUNTIF('Data Input'!$C$8:$AK$8,\"C\"))","v":""},{"$f":"IF(ISBLANK('Data Input'!A277),\"\",SUM('Data Input'!T277,'Data Input'!U277))","v":""},{"$f":"IF(K272=\"\",\"\",K272/COUNTIF('Data Input'!$C$8:$AK$8,\"S\"))","v":""},{"$f":"IF(ISBLANK('Data Input'!A277),\"\",SUM('Data Input'!F277,'Data Input'!R277,'Data Input'!AJ277))","v":""},{"$f":"IF(M272=\"\",\"\",M272/COUNTIF('Data Input'!$C$8:$AK$8,\"F\"))","v":""},{"$f":"IF(ISBLANK('Data Input'!A277),\"\",SUM('Data Input'!E277,'Data Input'!M277,'Data Input'!Q277,'Data Input'!V277,'Data Input'!W277,'Data Input'!AD277,'Data Input'!AH277))","v":""},{"$f":"IF(O272=\"\",\"\",O272/COUNTIF('Data Input'!$C$8:$AK$8,\"M\"))","v":""},{"$f":"IF(ISBLANK('Data Input'!A277),\"\",SUM('Data Input'!H277,'Data Input'!K277,'Data Input'!P277,'Data Input'!Y277))","v":""},{"$f":"IF(Q272=\"\",\"\",Q272/COUNTIF('Data Input'!$C$8:$AK$8,\"G\"))","v":""}]
[{"$f":"IF('Data Input'!A278=0,\"\",'Data Input'!A278)","v":""},{"$f":"IF(ISBLANK('Data Input'!A278),\"\",COUNTIF('Data Input'!C278:AK278,\"\"))","v":""},{"$f":"IF(ISBLANK('Data Input'!A278),\"\",COUNTIF('Data Input'!C278:AK278,\"0\"))","v":""},{"$f":"IF(ISBLANK('Data Input'!A278),\"\",SUM(B273,C273))","v":""},{"$f":"IF(ISBLANK('Data Input'!A278),\"\",SUM('Data Input'!C278:AK278))","v":""},{"$f":"IF(E273=\"\",\"\",E273/(COUNTA('Data Input'!$C$8:$AK$8)))","v":""},{"$f":"IF(ISBLANK('Data Input'!A278),\"\",SUM('Data Input'!C278,'Data Input'!D278,'Data Input'!J278,'Data Input'!X278))","v":""},{"$f":"IF(G273=\"\",\"\",G273/COUNTIF('Data Input'!$C$8:$AK$8,\"N\"))","v":""},{"$f":"IF(ISBLANK('Data Input'!A278),\"\",SUM('Data Input'!G278,'Data Input'!I278,'Data Input'!L278,'Data Input'!N278,'Data Input'!O278,'Data Input'!S278,'Data Input'!Z278,'Data Input'!AA278,'Data Input'!AB278,'Data Input'!AC278,'Data Input'!AE278,'Data Input'!AF278,'Data Input'!AG278,'Data Input'!AI278,'Data Input'!AK278))","v":""},{"$f":"IF(I273=\"\",\"\",I273/COUNTIF('Data Input'!$C$8:$AK$8,\"C\"))","v":""},{"$f":"IF(ISBLANK('Data Input'!A278),\"\",SUM('Data Input'!T278,'Data Input'!U278))","v":""},{"$f":"IF(K273=\"\",\"\",K273/COUNTIF('Data Input'!$C$8:$AK$8,\"S\"))","v":""},{"$f":"IF(ISBLANK('Data Input'!A278),\"\",SUM('Data Input'!F278,'Data Input'!R278,'Data Input'!AJ278))","v":""},{"$f":"IF(M273=\"\",\"\",M273/COUNTIF('Data Input'!$C$8:$AK$8,\"F\"))","v":""},{"$f":"IF(ISBLANK('Data Input'!A278),\"\",SUM('Data Input'!E278,'Data Input'!M278,'Data Input'!Q278,'Data Input'!V278,'Data Input'!W278,'Data Input'!AD278,'Data Input'!AH278))","v":""},{"$f":"IF(O273=\"\",\"\",O273/COUNTIF('Data Input'!$C$8:$AK$8,\"M\"))","v":""},{"$f":"IF(ISBLANK('Data Input'!A278),\"\",SUM('Data Input'!H278,'Data Input'!K278,'Data Input'!P278,'Data Input'!Y278))","v":""},{"$f":"IF(Q273=\"\",\"\",Q273/COUNTIF('Data Input'!$C$8:$AK$8,\"G\"))","v":""}]
[{"$f":"IF('Data Input'!A279=0,\"\",'Data Input'!A279)","v":""},{"$f":"IF(ISBLANK('Data Input'!A279),\"\",COUNTIF('Data Input'!C279:AK279,\"\"))","v":""},{"$f":"IF(ISBLANK('Data Input'!A279),\"\",COUNTIF('Data Input'!C279:AK279,\"0\"))","v":""},{"$f":"IF(ISBLANK('Data Input'!A279),\"\",SUM(B274,C274))","v":""},{"$f":"IF(ISBLANK('Data Input'!A279),\"\",SUM('Data Input'!C279:AK279))","v":""},{"$f":"IF(E274=\"\",\"\",E274/(COUNTA('Data Input'!$C$8:$AK$8)))","v":""},{"$f":"IF(ISBLANK('Data Input'!A279),\"\",SUM('Data Input'!C279,'Data Input'!D279,'Data Input'!J279,'Data Input'!X279))","v":""},{"$f":"IF(G274=\"\",\"\",G274/COUNTIF('Data Input'!$C$8:$AK$8,\"N\"))","v":""},{"$f":"IF(ISBLANK('Data Input'!A279),\"\",SUM('Data Input'!G279,'Data Input'!I279,'Data Input'!L279,'Data Input'!N279,'Data Input'!O279,'Data Input'!S279,'Data Input'!Z279,'Data Input'!AA279,'Data Input'!AB279,'Data Input'!AC279,'Data Input'!AE279,'Data Input'!AF279,'Data Input'!AG279,'Data Input'!AI279,'Data Input'!AK279))","v":""},{"$f":"IF(I274=\"\",\"\",I274/COUNTIF('Data Input'!$C$8:$AK$8,\"C\"))","v":""},{"$f":"IF(ISBLANK('Data Input'!A279),\"\",SUM('Data Input'!T279,'Data Input'!U279))","v":""},{"$f":"IF(K274=\"\",\"\",K274/COUNTIF('Data Input'!$C$8:$AK$8,\"S\"))","v":""},{"$f":"IF(ISBLANK('Data Input'!A279),\"\",SUM('Data Input'!F279,'Data Input'!R279,'Data Input'!AJ279))","v":""},{"$f":"IF(M274=\"\",\"\",M274/COUNTIF('Data Input'!$C$8:$AK$8,\"F\"))","v":""},{"$f":"IF(ISBLANK('Data Input'!A279),\"\",SUM('Data Input'!E279,'Data Input'!M279,'Data Input'!Q279,'Data Input'!V279,'Data Input'!W279,'Data Input'!AD279,'Data Input'!AH279))","v":""},{"$f":"IF(O274=\"\",\"\",O274/COUNTIF('Data Input'!$C$8:$AK$8,\"M\"))","v":""},{"$f":"IF(ISBLANK('Data Input'!A279),\"\",SUM('Data Input'!H279,'Data Input'!K279,'Data Input'!P279,'Data Input'!Y279))","v":""},{"$f":"IF(Q274=\"\",\"\",Q274/COUNTIF('Data Input'!$C$8:$AK$8,\"G\"))","v":""}]
[{"$f":"IF('Data Input'!A280=0,\"\",'Data Input'!A280)","v":""},{"$f":"IF(ISBLANK('Data Input'!A280),\"\",COUNTIF('Data Input'!C280:AK280,\"\"))","v":""},{"$f":"IF(ISBLANK('Data Input'!A280),\"\",COUNTIF('Data Input'!C280:AK280,\"0\"))","v":""},{"$f":"IF(ISBLANK('Data Input'!A280),\"\",SUM(B275,C275))","v":""},{"$f":"IF(ISBLANK('Data Input'!A280),\"\",SUM('Data Input'!C280:AK280))","v":""},{"$f":"IF(E275=\"\",\"\",E275/(COUNTA('Data Input'!$C$8:$AK$8)))","v":""},{"$f":"IF(ISBLANK('Data Input'!A280),\"\",SUM('Data Input'!C280,'Data Input'!D280,'Data Input'!J280,'Data Input'!X280))","v":""},{"$f":"IF(G275=\"\",\"\",G275/COUNTIF('Data Input'!$C$8:$AK$8,\"N\"))","v":""},{"$f":"IF(ISBLANK('Data Input'!A280),\"\",SUM('Data Input'!G280,'Data Input'!I280,'Data Input'!L280,'Data Input'!N280,'Data Input'!O280,'Data Input'!S280,'Data Input'!Z280,'Data Input'!AA280,'Data Input'!AB280,'Data Input'!AC280,'Data Input'!AE280,'Data Input'!AF280,'Data Input'!AG280,'Data Input'!AI280,'Data Input'!AK280))","v":""},{"$f":"IF(I275=\"\",\"\",I275/COUNTIF('Data Input'!$C$8:$AK$8,\"C\"))","v":""},{"$f":"IF(ISBLANK('Data Input'!A280),\"\",SUM('Data Input'!T280,'Data Input'!U280))","v":""},{"$f":"IF(K275=\"\",\"\",K275/COUNTIF('Data Input'!$C$8:$AK$8,\"S\"))","v":""},{"$f":"IF(ISBLANK('Data Input'!A280),\"\",SUM('Data Input'!F280,'Data Input'!R280,'Data Input'!AJ280))","v":""},{"$f":"IF(M275=\"\",\"\",M275/COUNTIF('Data Input'!$C$8:$AK$8,\"F\"))","v":""},{"$f":"IF(ISBLANK('Data Input'!A280),\"\",SUM('Data Input'!E280,'Data Input'!M280,'Data Input'!Q280,'Data Input'!V280,'Data Input'!W280,'Data Input'!AD280,'Data Input'!AH280))","v":""},{"$f":"IF(O275=\"\",\"\",O275/COUNTIF('Data Input'!$C$8:$AK$8,\"M\"))","v":""},{"$f":"IF(ISBLANK('Data Input'!A280),\"\",SUM('Data Input'!H280,'Data Input'!K280,'Data Input'!P280,'Data Input'!Y280))","v":""},{"$f":"IF(Q275=\"\",\"\",Q275/COUNTIF('Data Input'!$C$8:$AK$8,\"G\"))","v":""}]
[{"$f":"IF('Data Input'!A281=0,\"\",'Data Input'!A281)","v":""},{"$f":"IF(ISBLANK('Data Input'!A281),\"\",COUNTIF('Data Input'!C281:AK281,\"\"))","v":""},{"$f":"IF(ISBLANK('Data Input'!A281),\"\",COUNTIF('Data Input'!C281:AK281,\"0\"))","v":""},{"$f":"IF(ISBLANK('Data Input'!A281),\"\",SUM(B276,C276))","v":""},{"$f":"IF(ISBLANK('Data Input'!A281),\"\",SUM('Data Input'!C281:AK281))","v":""},{"$f":"IF(E276=\"\",\"\",E276/(COUNTA('Data Input'!$C$8:$AK$8)))","v":""},{"$f":"IF(ISBLANK('Data Input'!A281),\"\",SUM('Data Input'!C281,'Data Input'!D281,'Data Input'!J281,'Data Input'!X281))","v":""},{"$f":"IF(G276=\"\",\"\",G276/COUNTIF('Data Input'!$C$8:$AK$8,\"N\"))","v":""},{"$f":"IF(ISBLANK('Data Input'!A281),\"\",SUM('Data Input'!G281,'Data Input'!I281,'Data Input'!L281,'Data Input'!N281,'Data Input'!O281,'Data Input'!S281,'Data Input'!Z281,'Data Input'!AA281,'Data Input'!AB281,'Data Input'!AC281,'Data Input'!AE281,'Data Input'!AF281,'Data Input'!AG281,'Data Input'!AI281,'Data Input'!AK281))","v":""},{"$f":"IF(I276=\"\",\"\",I276/COUNTIF('Data Input'!$C$8:$AK$8,\"C\"))","v":""},{"$f":"IF(ISBLANK('Data Input'!A281),\"\",SUM('Data Input'!T281,'Data Input'!U281))","v":""},{"$f":"IF(K276=\"\",\"\",K276/COUNTIF('Data Input'!$C$8:$AK$8,\"S\"))","v":""},{"$f":"IF(ISBLANK('Data Input'!A281),\"\",SUM('Data Input'!F281,'Data Input'!R281,'Data Input'!AJ281))","v":""},{"$f":"IF(M276=\"\",\"\",M276/COUNTIF('Data Input'!$C$8:$AK$8,\"F\"))","v":""},{"$f":"IF(ISBLANK('Data Input'!A281),\"\",SUM('Data Input'!E281,'Data Input'!M281,'Data Input'!Q281,'Data Input'!V281,'Data Input'!W281,'Data Input'!AD281,'Data Input'!AH281))","v":""},{"$f":"IF(O276=\"\",\"\",O276/COUNTIF('Data Input'!$C$8:$AK$8,\"M\"))","v":""},{"$f":"IF(ISBLANK('Data Input'!A281),\"\",SUM('Data Input'!H281,'Data Input'!K281,'Data Input'!P281,'Data Input'!Y281))","v":""},{"$f":"IF(Q276=\"\",\"\",Q276/COUNTIF('Data Input'!$C$8:$AK$8,\"G\"))","v":""}]
[{"$f":"IF('Data Input'!A282=0,\"\",'Data Input'!A282)","v":""},{"$f":"IF(ISBLANK('Data Input'!A282),\"\",COUNTIF('Data Input'!C282:AK282,\"\"))","v":""},{"$f":"IF(ISBLANK('Data Input'!A282),\"\",COUNTIF('Data Input'!C282:AK282,\"0\"))","v":""},{"$f":"IF(ISBLANK('Data Input'!A282),\"\",SUM(B277,C277))","v":""},{"$f":"IF(ISBLANK('Data Input'!A282),\"\",SUM('Data Input'!C282:AK282))","v":""},{"$f":"IF(E277=\"\",\"\",E277/(COUNTA('Data Input'!$C$8:$AK$8)))","v":""},{"$f":"IF(ISBLANK('Data Input'!A282),\"\",SUM('Data Input'!C282,'Data Input'!D282,'Data Input'!J282,'Data Input'!X282))","v":""},{"$f":"IF(G277=\"\",\"\",G277/COUNTIF('Data Input'!$C$8:$AK$8,\"N\"))","v":""},{"$f":"IF(ISBLANK('Data Input'!A282),\"\",SUM('Data Input'!G282,'Data Input'!I282,'Data Input'!L282,'Data Input'!N282,'Data Input'!O282,'Data Input'!S282,'Data Input'!Z282,'Data Input'!AA282,'Data Input'!AB282,'Data Input'!AC282,'Data Input'!AE282,'Data Input'!AF282,'Data Input'!AG282,'Data Input'!AI282,'Data Input'!AK282))","v":""},{"$f":"IF(I277=\"\",\"\",I277/COUNTIF('Data Input'!$C$8:$AK$8,\"C\"))","v":""},{"$f":"IF(ISBLANK('Data Input'!A282),\"\",SUM('Data Input'!T282,'Data Input'!U282))","v":""},{"$f":"IF(K277=\"\",\"\",K277/COUNTIF('Data Input'!$C$8:$AK$8,\"S\"))","v":""},{"$f":"IF(ISBLANK('Data Input'!A282),\"\",SUM('Data Input'!F282,'Data Input'!R282,'Data Input'!AJ282))","v":""},{"$f":"IF(M277=\"\",\"\",M277/COUNTIF('Data Input'!$C$8:$AK$8,\"F\"))","v":""},{"$f":"IF(ISBLANK('Data Input'!A282),\"\",SUM('Data Input'!E282,'Data Input'!M282,'Data Input'!Q282,'Data Input'!V282,'Data Input'!W282,'Data Input'!AD282,'Data Input'!AH282))","v":""},{"$f":"IF(O277=\"\",\"\",O277/COUNTIF('Data Input'!$C$8:$AK$8,\"M\"))","v":""},{"$f":"IF(ISBLANK('Data Input'!A282),\"\",SUM('Data Input'!H282,'Data Input'!K282,'Data Input'!P282,'Data Input'!Y282))","v":""},{"$f":"IF(Q277=\"\",\"\",Q277/COUNTIF('Data Input'!$C$8:$AK$8,\"G\"))","v":""}]
[{"$f":"IF('Data Input'!A283=0,\"\",'Data Input'!A283)","v":""},{"$f":"IF(ISBLANK('Data Input'!A283),\"\",COUNTIF('Data Input'!C283:AK283,\"\"))","v":""},{"$f":"IF(ISBLANK('Data Input'!A283),\"\",COUNTIF('Data Input'!C283:AK283,\"0\"))","v":""},{"$f":"IF(ISBLANK('Data Input'!A283),\"\",SUM(B278,C278))","v":""},{"$f":"IF(ISBLANK('Data Input'!A283),\"\",SUM('Data Input'!C283:AK283))","v":""},{"$f":"IF(E278=\"\",\"\",E278/(COUNTA('Data Input'!$C$8:$AK$8)))","v":""},{"$f":"IF(ISBLANK('Data Input'!A283),\"\",SUM('Data Input'!C283,'Data Input'!D283,'Data Input'!J283,'Data Input'!X283))","v":""},{"$f":"IF(G278=\"\",\"\",G278/COUNTIF('Data Input'!$C$8:$AK$8,\"N\"))","v":""},{"$f":"IF(ISBLANK('Data Input'!A283),\"\",SUM('Data Input'!G283,'Data Input'!I283,'Data Input'!L283,'Data Input'!N283,'Data Input'!O283,'Data Input'!S283,'Data Input'!Z283,'Data Input'!AA283,'Data Input'!AB283,'Data Input'!AC283,'Data Input'!AE283,'Data Input'!AF283,'Data Input'!AG283,'Data Input'!AI283,'Data Input'!AK283))","v":""},{"$f":"IF(I278=\"\",\"\",I278/COUNTIF('Data Input'!$C$8:$AK$8,\"C\"))","v":""},{"$f":"IF(ISBLANK('Data Input'!A283),\"\",SUM('Data Input'!T283,'Data Input'!U283))","v":""},{"$f":"IF(K278=\"\",\"\",K278/COUNTIF('Data Input'!$C$8:$AK$8,\"S\"))","v":""},{"$f":"IF(ISBLANK('Data Input'!A283),\"\",SUM('Data Input'!F283,'Data Input'!R283,'Data Input'!AJ283))","v":""},{"$f":"IF(M278=\"\",\"\",M278/COUNTIF('Data Input'!$C$8:$AK$8,\"F\"))","v":""},{"$f":"IF(ISBLANK('Data Input'!A283),\"\",SUM('Data Input'!E283,'Data Input'!M283,'Data Input'!Q283,'Data Input'!V283,'Data Input'!W283,'Data Input'!AD283,'Data Input'!AH283))","v":""},{"$f":"IF(O278=\"\",\"\",O278/COUNTIF('Data Input'!$C$8:$AK$8,\"M\"))","v":""},{"$f":"IF(ISBLANK('Data Input'!A283),\"\",SUM('Data Input'!H283,'Data Input'!K283,'Data Input'!P283,'Data Input'!Y283))","v":""},{"$f":"IF(Q278=\"\",\"\",Q278/COUNTIF('Data Input'!$C$8:$AK$8,\"G\"))","v":""}]
[{"$f":"IF('Data Input'!A284=0,\"\",'Data Input'!A284)","v":""},{"$f":"IF(ISBLANK('Data Input'!A284),\"\",COUNTIF('Data Input'!C284:AK284,\"\"))","v":""},{"$f":"IF(ISBLANK('Data Input'!A284),\"\",COUNTIF('Data Input'!C284:AK284,\"0\"))","v":""},{"$f":"IF(ISBLANK('Data Input'!A284),\"\",SUM(B279,C279))","v":""},{"$f":"IF(ISBLANK('Data Input'!A284),\"\",SUM('Data Input'!C284:AK284))","v":""},{"$f":"IF(E279=\"\",\"\",E279/(COUNTA('Data Input'!$C$8:$AK$8)))","v":""},{"$f":"IF(ISBLANK('Data Input'!A284),\"\",SUM('Data Input'!C284,'Data Input'!D284,'Data Input'!J284,'Data Input'!X284))","v":""},{"$f":"IF(G279=\"\",\"\",G279/COUNTIF('Data Input'!$C$8:$AK$8,\"N\"))","v":""},{"$f":"IF(ISBLANK('Data Input'!A284),\"\",SUM('Data Input'!G284,'Data Input'!I284,'Data Input'!L284,'Data Input'!N284,'Data Input'!O284,'Data Input'!S284,'Data Input'!Z284,'Data Input'!AA284,'Data Input'!AB284,'Data Input'!AC284,'Data Input'!AE284,'Data Input'!AF284,'Data Input'!AG284,'Data Input'!AI284,'Data Input'!AK284))","v":""},{"$f":"IF(I279=\"\",\"\",I279/COUNTIF('Data Input'!$C$8:$AK$8,\"C\"))","v":""},{"$f":"IF(ISBLANK('Data Input'!A284),\"\",SUM('Data Input'!T284,'Data Input'!U284))","v":""},{"$f":"IF(K279=\"\",\"\",K279/COUNTIF('Data Input'!$C$8:$AK$8,\"S\"))","v":""},{"$f":"IF(ISBLANK('Data Input'!A284),\"\",SUM('Data Input'!F284,'Data Input'!R284,'Data Input'!AJ284))","v":""},{"$f":"IF(M279=\"\",\"\",M279/COUNTIF('Data Input'!$C$8:$AK$8,\"F\"))","v":""},{"$f":"IF(ISBLANK('Data Input'!A284),\"\",SUM('Data Input'!E284,'Data Input'!M284,'Data Input'!Q284,'Data Input'!V284,'Data Input'!W284,'Data Input'!AD284,'Data Input'!AH284))","v":""},{"$f":"IF(O279=\"\",\"\",O279/COUNTIF('Data Input'!$C$8:$AK$8,\"M\"))","v":""},{"$f":"IF(ISBLANK('Data Input'!A284),\"\",SUM('Data Input'!H284,'Data Input'!K284,'Data Input'!P284,'Data Input'!Y284))","v":""},{"$f":"IF(Q279=\"\",\"\",Q279/COUNTIF('Data Input'!$C$8:$AK$8,\"G\"))","v":""}]
[{"$f":"IF('Data Input'!A285=0,\"\",'Data Input'!A285)","v":""},{"$f":"IF(ISBLANK('Data Input'!A285),\"\",COUNTIF('Data Input'!C285:AK285,\"\"))","v":""},{"$f":"IF(ISBLANK('Data Input'!A285),\"\",COUNTIF('Data Input'!C285:AK285,\"0\"))","v":""},{"$f":"IF(ISBLANK('Data Input'!A285),\"\",SUM(B280,C280))","v":""},{"$f":"IF(ISBLANK('Data Input'!A285),\"\",SUM('Data Input'!C285:AK285))","v":""},{"$f":"IF(E280=\"\",\"\",E280/(COUNTA('Data Input'!$C$8:$AK$8)))","v":""},{"$f":"IF(ISBLANK('Data Input'!A285),\"\",SUM('Data Input'!C285,'Data Input'!D285,'Data Input'!J285,'Data Input'!X285))","v":""},{"$f":"IF(G280=\"\",\"\",G280/COUNTIF('Data Input'!$C$8:$AK$8,\"N\"))","v":""},{"$f":"IF(ISBLANK('Data Input'!A285),\"\",SUM('Data Input'!G285,'Data Input'!I285,'Data Input'!L285,'Data Input'!N285,'Data Input'!O285,'Data Input'!S285,'Data Input'!Z285,'Data Input'!AA285,'Data Input'!AB285,'Data Input'!AC285,'Data Input'!AE285,'Data Input'!AF285,'Data Input'!AG285,'Data Input'!AI285,'Data Input'!AK285))","v":""},{"$f":"IF(I280=\"\",\"\",I280/COUNTIF('Data Input'!$C$8:$AK$8,\"C\"))","v":""},{"$f":"IF(ISBLANK('Data Input'!A285),\"\",SUM('Data Input'!T285,'Data Input'!U285))","v":""},{"$f":"IF(K280=\"\",\"\",K280/COUNTIF('Data Input'!$C$8:$AK$8,\"S\"))","v":""},{"$f":"IF(ISBLANK('Data Input'!A285),\"\",SUM('Data Input'!F285,'Data Input'!R285,'Data Input'!AJ285))","v":""},{"$f":"IF(M280=\"\",\"\",M280/COUNTIF('Data Input'!$C$8:$AK$8,\"F\"))","v":""},{"$f":"IF(ISBLANK('Data Input'!A285),\"\",SUM('Data Input'!E285,'Data Input'!M285,'Data Input'!Q285,'Data Input'!V285,'Data Input'!W285,'Data Input'!AD285,'Data Input'!AH285))","v":""},{"$f":"IF(O280=\"\",\"\",O280/COUNTIF('Data Input'!$C$8:$AK$8,\"M\"))","v":""},{"$f":"IF(ISBLANK('Data Input'!A285),\"\",SUM('Data Input'!H285,'Data Input'!K285,'Data Input'!P285,'Data Input'!Y285))","v":""},{"$f":"IF(Q280=\"\",\"\",Q280/COUNTIF('Data Input'!$C$8:$AK$8,\"G\"))","v":""}]
[{"$f":"IF('Data Input'!A286=0,\"\",'Data Input'!A286)","v":""},{"$f":"IF(ISBLANK('Data Input'!A286),\"\",COUNTIF('Data Input'!C286:AK286,\"\"))","v":""},{"$f":"IF(ISBLANK('Data Input'!A286),\"\",COUNTIF('Data Input'!C286:AK286,\"0\"))","v":""},{"$f":"IF(ISBLANK('Data Input'!A286),\"\",SUM(B281,C281))","v":""},{"$f":"IF(ISBLANK('Data Input'!A286),\"\",SUM('Data Input'!C286:AK286))","v":""},{"$f":"IF(E281=\"\",\"\",E281/(COUNTA('Data Input'!$C$8:$AK$8)))","v":""},{"$f":"IF(ISBLANK('Data Input'!A286),\"\",SUM('Data Input'!C286,'Data Input'!D286,'Data Input'!J286,'Data Input'!X286))","v":""},{"$f":"IF(G281=\"\",\"\",G281/COUNTIF('Data Input'!$C$8:$AK$8,\"N\"))","v":""},{"$f":"IF(ISBLANK('Data Input'!A286),\"\",SUM('Data Input'!G286,'Data Input'!I286,'Data Input'!L286,'Data Input'!N286,'Data Input'!O286,'Data Input'!S286,'Data Input'!Z286,'Data Input'!AA286,'Data Input'!AB286,'Data Input'!AC286,'Data Input'!AE286,'Data Input'!AF286,'Data Input'!AG286,'Data Input'!AI286,'Data Input'!AK286))","v":""},{"$f":"IF(I281=\"\",\"\",I281/COUNTIF('Data Input'!$C$8:$AK$8,\"C\"))","v":""},{"$f":"IF(ISBLANK('Data Input'!A286),\"\",SUM('Data Input'!T286,'Data Input'!U286))","v":""},{"$f":"IF(K281=\"\",\"\",K281/COUNTIF('Data Input'!$C$8:$AK$8,\"S\"))","v":""},{"$f":"IF(ISBLANK('Data Input'!A286),\"\",SUM('Data Input'!F286,'Data Input'!R286,'Data Input'!AJ286))","v":""},{"$f":"IF(M281=\"\",\"\",M281/COUNTIF('Data Input'!$C$8:$AK$8,\"F\"))","v":""},{"$f":"IF(ISBLANK('Data Input'!A286),\"\",SUM('Data Input'!E286,'Data Input'!M286,'Data Input'!Q286,'Data Input'!V286,'Data Input'!W286,'Data Input'!AD286,'Data Input'!AH286))","v":""},{"$f":"IF(O281=\"\",\"\",O281/COUNTIF('Data Input'!$C$8:$AK$8,\"M\"))","v":""},{"$f":"IF(ISBLANK('Data Input'!A286),\"\",SUM('Data Input'!H286,'Data Input'!K286,'Data Input'!P286,'Data Input'!Y286))","v":""},{"$f":"IF(Q281=\"\",\"\",Q281/COUNTIF('Data Input'!$C$8:$AK$8,\"G\"))","v":""}]
[{"$f":"IF('Data Input'!A287=0,\"\",'Data Input'!A287)","v":""},{"$f":"IF(ISBLANK('Data Input'!A287),\"\",COUNTIF('Data Input'!C287:AK287,\"\"))","v":""},{"$f":"IF(ISBLANK('Data Input'!A287),\"\",COUNTIF('Data Input'!C287:AK287,\"0\"))","v":""},{"$f":"IF(ISBLANK('Data Input'!A287),\"\",SUM(B282,C282))","v":""},{"$f":"IF(ISBLANK('Data Input'!A287),\"\",SUM('Data Input'!C287:AK287))","v":""},{"$f":"IF(E282=\"\",\"\",E282/(COUNTA('Data Input'!$C$8:$AK$8)))","v":""},{"$f":"IF(ISBLANK('Data Input'!A287),\"\",SUM('Data Input'!C287,'Data Input'!D287,'Data Input'!J287,'Data Input'!X287))","v":""},{"$f":"IF(G282=\"\",\"\",G282/COUNTIF('Data Input'!$C$8:$AK$8,\"N\"))","v":""},{"$f":"IF(ISBLANK('Data Input'!A287),\"\",SUM('Data Input'!G287,'Data Input'!I287,'Data Input'!L287,'Data Input'!N287,'Data Input'!O287,'Data Input'!S287,'Data Input'!Z287,'Data Input'!AA287,'Data Input'!AB287,'Data Input'!AC287,'Data Input'!AE287,'Data Input'!AF287,'Data Input'!AG287,'Data Input'!AI287,'Data Input'!AK287))","v":""},{"$f":"IF(I282=\"\",\"\",I282/COUNTIF('Data Input'!$C$8:$AK$8,\"C\"))","v":""},{"$f":"IF(ISBLANK('Data Input'!A287),\"\",SUM('Data Input'!T287,'Data Input'!U287))","v":""},{"$f":"IF(K282=\"\",\"\",K282/COUNTIF('Data Input'!$C$8:$AK$8,\"S\"))","v":""},{"$f":"IF(ISBLANK('Data Input'!A287),\"\",SUM('Data Input'!F287,'Data Input'!R287,'Data Input'!AJ287))","v":""},{"$f":"IF(M282=\"\",\"\",M282/COUNTIF('Data Input'!$C$8:$AK$8,\"F\"))","v":""},{"$f":"IF(ISBLANK('Data Input'!A287),\"\",SUM('Data Input'!E287,'Data Input'!M287,'Data Input'!Q287,'Data Input'!V287,'Data Input'!W287,'Data Input'!AD287,'Data Input'!AH287))","v":""},{"$f":"IF(O282=\"\",\"\",O282/COUNTIF('Data Input'!$C$8:$AK$8,\"M\"))","v":""},{"$f":"IF(ISBLANK('Data Input'!A287),\"\",SUM('Data Input'!H287,'Data Input'!K287,'Data Input'!P287,'Data Input'!Y287))","v":""},{"$f":"IF(Q282=\"\",\"\",Q282/COUNTIF('Data Input'!$C$8:$AK$8,\"G\"))","v":""}]
[{"$f":"IF('Data Input'!A288=0,\"\",'Data Input'!A288)","v":""},{"$f":"IF(ISBLANK('Data Input'!A288),\"\",COUNTIF('Data Input'!C288:AK288,\"\"))","v":""},{"$f":"IF(ISBLANK('Data Input'!A288),\"\",COUNTIF('Data Input'!C288:AK288,\"0\"))","v":""},{"$f":"IF(ISBLANK('Data Input'!A288),\"\",SUM(B283,C283))","v":""},{"$f":"IF(ISBLANK('Data Input'!A288),\"\",SUM('Data Input'!C288:AK288))","v":""},{"$f":"IF(E283=\"\",\"\",E283/(COUNTA('Data Input'!$C$8:$AK$8)))","v":""},{"$f":"IF(ISBLANK('Data Input'!A288),\"\",SUM('Data Input'!C288,'Data Input'!D288,'Data Input'!J288,'Data Input'!X288))","v":""},{"$f":"IF(G283=\"\",\"\",G283/COUNTIF('Data Input'!$C$8:$AK$8,\"N\"))","v":""},{"$f":"IF(ISBLANK('Data Input'!A288),\"\",SUM('Data Input'!G288,'Data Input'!I288,'Data Input'!L288,'Data Input'!N288,'Data Input'!O288,'Data Input'!S288,'Data Input'!Z288,'Data Input'!AA288,'Data Input'!AB288,'Data Input'!AC288,'Data Input'!AE288,'Data Input'!AF288,'Data Input'!AG288,'Data Input'!AI288,'Data Input'!AK288))","v":""},{"$f":"IF(I283=\"\",\"\",I283/COUNTIF('Data Input'!$C$8:$AK$8,\"C\"))","v":""},{"$f":"IF(ISBLANK('Data Input'!A288),\"\",SUM('Data Input'!T288,'Data Input'!U288))","v":""},{"$f":"IF(K283=\"\",\"\",K283/COUNTIF('Data Input'!$C$8:$AK$8,\"S\"))","v":""},{"$f":"IF(ISBLANK('Data Input'!A288),\"\",SUM('Data Input'!F288,'Data Input'!R288,'Data Input'!AJ288))","v":""},{"$f":"IF(M283=\"\",\"\",M283/COUNTIF('Data Input'!$C$8:$AK$8,\"F\"))","v":""},{"$f":"IF(ISBLANK('Data Input'!A288),\"\",SUM('Data Input'!E288,'Data Input'!M288,'Data Input'!Q288,'Data Input'!V288,'Data Input'!W288,'Data Input'!AD288,'Data Input'!AH288))","v":""},{"$f":"IF(O283=\"\",\"\",O283/COUNTIF('Data Input'!$C$8:$AK$8,\"M\"))","v":""},{"$f":"IF(ISBLANK('Data Input'!A288),\"\",SUM('Data Input'!H288,'Data Input'!K288,'Data Input'!P288,'Data Input'!Y288))","v":""},{"$f":"IF(Q283=\"\",\"\",Q283/COUNTIF('Data Input'!$C$8:$AK$8,\"G\"))","v":""}]
[{"$f":"IF('Data Input'!A289=0,\"\",'Data Input'!A289)","v":""},{"$f":"IF(ISBLANK('Data Input'!A289),\"\",COUNTIF('Data Input'!C289:AK289,\"\"))","v":""},{"$f":"IF(ISBLANK('Data Input'!A289),\"\",COUNTIF('Data Input'!C289:AK289,\"0\"))","v":""},{"$f":"IF(ISBLANK('Data Input'!A289),\"\",SUM(B284,C284))","v":""},{"$f":"IF(ISBLANK('Data Input'!A289),\"\",SUM('Data Input'!C289:AK289))","v":""},{"$f":"IF(E284=\"\",\"\",E284/(COUNTA('Data Input'!$C$8:$AK$8)))","v":""},{"$f":"IF(ISBLANK('Data Input'!A289),\"\",SUM('Data Input'!C289,'Data Input'!D289,'Data Input'!J289,'Data Input'!X289))","v":""},{"$f":"IF(G284=\"\",\"\",G284/COUNTIF('Data Input'!$C$8:$AK$8,\"N\"))","v":""},{"$f":"IF(ISBLANK('Data Input'!A289),\"\",SUM('Data Input'!G289,'Data Input'!I289,'Data Input'!L289,'Data Input'!N289,'Data Input'!O289,'Data Input'!S289,'Data Input'!Z289,'Data Input'!AA289,'Data Input'!AB289,'Data Input'!AC289,'Data Input'!AE289,'Data Input'!AF289,'Data Input'!AG289,'Data Input'!AI289,'Data Input'!AK289))","v":""},{"$f":"IF(I284=\"\",\"\",I284/COUNTIF('Data Input'!$C$8:$AK$8,\"C\"))","v":""},{"$f":"IF(ISBLANK('Data Input'!A289),\"\",SUM('Data Input'!T289,'Data Input'!U289))","v":""},{"$f":"IF(K284=\"\",\"\",K284/COUNTIF('Data Input'!$C$8:$AK$8,\"S\"))","v":""},{"$f":"IF(ISBLANK('Data Input'!A289),\"\",SUM('Data Input'!F289,'Data Input'!R289,'Data Input'!AJ289))","v":""},{"$f":"IF(M284=\"\",\"\",M284/COUNTIF('Data Input'!$C$8:$AK$8,\"F\"))","v":""},{"$f":"IF(ISBLANK('Data Input'!A289),\"\",SUM('Data Input'!E289,'Data Input'!M289,'Data Input'!Q289,'Data Input'!V289,'Data Input'!W289,'Data Input'!AD289,'Data Input'!AH289))","v":""},{"$f":"IF(O284=\"\",\"\",O284/COUNTIF('Data Input'!$C$8:$AK$8,\"M\"))","v":""},{"$f":"IF(ISBLANK('Data Input'!A289),\"\",SUM('Data Input'!H289,'Data Input'!K289,'Data Input'!P289,'Data Input'!Y289))","v":""},{"$f":"IF(Q284=\"\",\"\",Q284/COUNTIF('Data Input'!$C$8:$AK$8,\"G\"))","v":""}]
[{"$f":"IF('Data Input'!A290=0,\"\",'Data Input'!A290)","v":""},{"$f":"IF(ISBLANK('Data Input'!A290),\"\",COUNTIF('Data Input'!C290:AK290,\"\"))","v":""},{"$f":"IF(ISBLANK('Data Input'!A290),\"\",COUNTIF('Data Input'!C290:AK290,\"0\"))","v":""},{"$f":"IF(ISBLANK('Data Input'!A290),\"\",SUM(B285,C285))","v":""},{"$f":"IF(ISBLANK('Data Input'!A290),\"\",SUM('Data Input'!C290:AK290))","v":""},{"$f":"IF(E285=\"\",\"\",E285/(COUNTA('Data Input'!$C$8:$AK$8)))","v":""},{"$f":"IF(ISBLANK('Data Input'!A290),\"\",SUM('Data Input'!C290,'Data Input'!D290,'Data Input'!J290,'Data Input'!X290))","v":""},{"$f":"IF(G285=\"\",\"\",G285/COUNTIF('Data Input'!$C$8:$AK$8,\"N\"))","v":""},{"$f":"IF(ISBLANK('Data Input'!A290),\"\",SUM('Data Input'!G290,'Data Input'!I290,'Data Input'!L290,'Data Input'!N290,'Data Input'!O290,'Data Input'!S290,'Data Input'!Z290,'Data Input'!AA290,'Data Input'!AB290,'Data Input'!AC290,'Data Input'!AE290,'Data Input'!AF290,'Data Input'!AG290,'Data Input'!AI290,'Data Input'!AK290))","v":""},{"$f":"IF(I285=\"\",\"\",I285/COUNTIF('Data Input'!$C$8:$AK$8,\"C\"))","v":""},{"$f":"IF(ISBLANK('Data Input'!A290),\"\",SUM('Data Input'!T290,'Data Input'!U290))","v":""},{"$f":"IF(K285=\"\",\"\",K285/COUNTIF('Data Input'!$C$8:$AK$8,\"S\"))","v":""},{"$f":"IF(ISBLANK('Data Input'!A290),\"\",SUM('Data Input'!F290,'Data Input'!R290,'Data Input'!AJ290))","v":""},{"$f":"IF(M285=\"\",\"\",M285/COUNTIF('Data Input'!$C$8:$AK$8,\"F\"))","v":""},{"$f":"IF(ISBLANK('Data Input'!A290),\"\",SUM('Data Input'!E290,'Data Input'!M290,'Data Input'!Q290,'Data Input'!V290,'Data Input'!W290,'Data Input'!AD290,'Data Input'!AH290))","v":""},{"$f":"IF(O285=\"\",\"\",O285/COUNTIF('Data Input'!$C$8:$AK$8,\"M\"))","v":""},{"$f":"IF(ISBLANK('Data Input'!A290),\"\",SUM('Data Input'!H290,'Data Input'!K290,'Data Input'!P290,'Data Input'!Y290))","v":""},{"$f":"IF(Q285=\"\",\"\",Q285/COUNTIF('Data Input'!$C$8:$AK$8,\"G\"))","v":""}]
[{"$f":"IF('Data Input'!A291=0,\"\",'Data Input'!A291)","v":""},{"$f":"IF(ISBLANK('Data Input'!A291),\"\",COUNTIF('Data Input'!C291:AK291,\"\"))","v":""},{"$f":"IF(ISBLANK('Data Input'!A291),\"\",COUNTIF('Data Input'!C291:AK291,\"0\"))","v":""},{"$f":"IF(ISBLANK('Data Input'!A291),\"\",SUM(B286,C286))","v":""},{"$f":"IF(ISBLANK('Data Input'!A291),\"\",SUM('Data Input'!C291:AK291))","v":""},{"$f":"IF(E286=\"\",\"\",E286/(COUNTA('Data Input'!$C$8:$AK$8)))","v":""},{"$f":"IF(ISBLANK('Data Input'!A291),\"\",SUM('Data Input'!C291,'Data Input'!D291,'Data Input'!J291,'Data Input'!X291))","v":""},{"$f":"IF(G286=\"\",\"\",G286/COUNTIF('Data Input'!$C$8:$AK$8,\"N\"))","v":""},{"$f":"IF(ISBLANK('Data Input'!A291),\"\",SUM('Data Input'!G291,'Data Input'!I291,'Data Input'!L291,'Data Input'!N291,'Data Input'!O291,'Data Input'!S291,'Data Input'!Z291,'Data Input'!AA291,'Data Input'!AB291,'Data Input'!AC291,'Data Input'!AE291,'Data Input'!AF291,'Data Input'!AG291,'Data Input'!AI291,'Data Input'!AK291))","v":""},{"$f":"IF(I286=\"\",\"\",I286/COUNTIF('Data Input'!$C$8:$AK$8,\"C\"))","v":""},{"$f":"IF(ISBLANK('Data Input'!A291),\"\",SUM('Data Input'!T291,'Data Input'!U291))","v":""},{"$f":"IF(K286=\"\",\"\",K286/COUNTIF('Data Input'!$C$8:$AK$8,\"S\"))","v":""},{"$f":"IF(ISBLANK('Data Input'!A291),\"\",SUM('Data Input'!F291,'Data Input'!R291,'Data Input'!AJ291))","v":""},{"$f":"IF(M286=\"\",\"\",M286/COUNTIF('Data Input'!$C$8:$AK$8,\"F\"))","v":""},{"$f":"IF(ISBLANK('Data Input'!A291),\"\",SUM('Data Input'!E291,'Data Input'!M291,'Data Input'!Q291,'Data Input'!V291,'Data Input'!W291,'Data Input'!AD291,'Data Input'!AH291))","v":""},{"$f":"IF(O286=\"\",\"\",O286/COUNTIF('Data Input'!$C$8:$AK$8,\"M\"))","v":""},{"$f":"IF(ISBLANK('Data Input'!A291),\"\",SUM('Data Input'!H291,'Data Input'!K291,'Data Input'!P291,'Data Input'!Y291))","v":""},{"$f":"IF(Q286=\"\",\"\",Q286/COUNTIF('Data Input'!$C$8:$AK$8,\"G\"))","v":""}]
[{"$f":"IF('Data Input'!A292=0,\"\",'Data Input'!A292)","v":""},{"$f":"IF(ISBLANK('Data Input'!A292),\"\",COUNTIF('Data Input'!C292:AK292,\"\"))","v":""},{"$f":"IF(ISBLANK('Data Input'!A292),\"\",COUNTIF('Data Input'!C292:AK292,\"0\"))","v":""},{"$f":"IF(ISBLANK('Data Input'!A292),\"\",SUM(B287,C287))","v":""},{"$f":"IF(ISBLANK('Data Input'!A292),\"\",SUM('Data Input'!C292:AK292))","v":""},{"$f":"IF(E287=\"\",\"\",E287/(COUNTA('Data Input'!$C$8:$AK$8)))","v":""},{"$f":"IF(ISBLANK('Data Input'!A292),\"\",SUM('Data Input'!C292,'Data Input'!D292,'Data Input'!J292,'Data Input'!X292))","v":""},{"$f":"IF(G287=\"\",\"\",G287/COUNTIF('Data Input'!$C$8:$AK$8,\"N\"))","v":""},{"$f":"IF(ISBLANK('Data Input'!A292),\"\",SUM('Data Input'!G292,'Data Input'!I292,'Data Input'!L292,'Data Input'!N292,'Data Input'!O292,'Data Input'!S292,'Data Input'!Z292,'Data Input'!AA292,'Data Input'!AB292,'Data Input'!AC292,'Data Input'!AE292,'Data Input'!AF292,'Data Input'!AG292,'Data Input'!AI292,'Data Input'!AK292))","v":""},{"$f":"IF(I287=\"\",\"\",I287/COUNTIF('Data Input'!$C$8:$AK$8,\"C\"))","v":""},{"$f":"IF(ISBLANK('Data Input'!A292),\"\",SUM('Data Input'!T292,'Data Input'!U292))","v":""},{"$f":"IF(K287=\"\",\"\",K287/COUNTIF('Data Input'!$C$8:$AK$8,\"S\"))","v":""},{"$f":"IF(ISBLANK('Data Input'!A292),\"\",SUM('Data Input'!F292,'Data Input'!R292,'Data Input'!AJ292))","v":""},{"$f":"IF(M287=\"\",\"\",M287/COUNTIF('Data Input'!$C$8:$AK$8,\"F\"))","v":""},{"$f":"IF(ISBLANK('Data Input'!A292),\"\",SUM('Data Input'!E292,'Data Input'!M292,'Data Input'!Q292,'Data Input'!V292,'Data Input'!W292,'Data Input'!AD292,'Data Input'!AH292))","v":""},{"$f":"IF(O287=\"\",\"\",O287/COUNTIF('Data Input'!$C$8:$AK$8,\"M\"))","v":""},{"$f":"IF(ISBLANK('Data Input'!A292),\"\",SUM('Data Input'!H292,'Data Input'!K292,'Data Input'!P292,'Data Input'!Y292))","v":""},{"$f":"IF(Q287=\"\",\"\",Q287/COUNTIF('Data Input'!$C$8:$AK$8,\"G\"))","v":""}]
[{"$f":"IF('Data Input'!A293=0,\"\",'Data Input'!A293)","v":""},{"$f":"IF(ISBLANK('Data Input'!A293),\"\",COUNTIF('Data Input'!C293:AK293,\"\"))","v":""},{"$f":"IF(ISBLANK('Data Input'!A293),\"\",COUNTIF('Data Input'!C293:AK293,\"0\"))","v":""},{"$f":"IF(ISBLANK('Data Input'!A293),\"\",SUM(B288,C288))","v":""},{"$f":"IF(ISBLANK('Data Input'!A293),\"\",SUM('Data Input'!C293:AK293))","v":""},{"$f":"IF(E288=\"\",\"\",E288/(COUNTA('Data Input'!$C$8:$AK$8)))","v":""},{"$f":"IF(ISBLANK('Data Input'!A293),\"\",SUM('Data Input'!C293,'Data Input'!D293,'Data Input'!J293,'Data Input'!X293))","v":""},{"$f":"IF(G288=\"\",\"\",G288/COUNTIF('Data Input'!$C$8:$AK$8,\"N\"))","v":""},{"$f":"IF(ISBLANK('Data Input'!A293),\"\",SUM('Data Input'!G293,'Data Input'!I293,'Data Input'!L293,'Data Input'!N293,'Data Input'!O293,'Data Input'!S293,'Data Input'!Z293,'Data Input'!AA293,'Data Input'!AB293,'Data Input'!AC293,'Data Input'!AE293,'Data Input'!AF293,'Data Input'!AG293,'Data Input'!AI293,'Data Input'!AK293))","v":""},{"$f":"IF(I288=\"\",\"\",I288/COUNTIF('Data Input'!$C$8:$AK$8,\"C\"))","v":""},{"$f":"IF(ISBLANK('Data Input'!A293),\"\",SUM('Data Input'!T293,'Data Input'!U293))","v":""},{"$f":"IF(K288=\"\",\"\",K288/COUNTIF('Data Input'!$C$8:$AK$8,\"S\"))","v":""},{"$f":"IF(ISBLANK('Data Input'!A293),\"\",SUM('Data Input'!F293,'Data Input'!R293,'Data Input'!AJ293))","v":""},{"$f":"IF(M288=\"\",\"\",M288/COUNTIF('Data Input'!$C$8:$AK$8,\"F\"))","v":""},{"$f":"IF(ISBLANK('Data Input'!A293),\"\",SUM('Data Input'!E293,'Data Input'!M293,'Data Input'!Q293,'Data Input'!V293,'Data Input'!W293,'Data Input'!AD293,'Data Input'!AH293))","v":""},{"$f":"IF(O288=\"\",\"\",O288/COUNTIF('Data Input'!$C$8:$AK$8,\"M\"))","v":""},{"$f":"IF(ISBLANK('Data Input'!A293),\"\",SUM('Data Input'!H293,'Data Input'!K293,'Data Input'!P293,'Data Input'!Y293))","v":""},{"$f":"IF(Q288=\"\",\"\",Q288/COUNTIF('Data Input'!$C$8:$AK$8,\"G\"))","v":""}]
[{"$f":"IF('Data Input'!A294=0,\"\",'Data Input'!A294)","v":""},{"$f":"IF(ISBLANK('Data Input'!A294),\"\",COUNTIF('Data Input'!C294:AK294,\"\"))","v":""},{"$f":"IF(ISBLANK('Data Input'!A294),\"\",COUNTIF('Data Input'!C294:AK294,\"0\"))","v":""},{"$f":"IF(ISBLANK('Data Input'!A294),\"\",SUM(B289,C289))","v":""},{"$f":"IF(ISBLANK('Data Input'!A294),\"\",SUM('Data Input'!C294:AK294))","v":""},{"$f":"IF(E289=\"\",\"\",E289/(COUNTA('Data Input'!$C$8:$AK$8)))","v":""},{"$f":"IF(ISBLANK('Data Input'!A294),\"\",SUM('Data Input'!C294,'Data Input'!D294,'Data Input'!J294,'Data Input'!X294))","v":""},{"$f":"IF(G289=\"\",\"\",G289/COUNTIF('Data Input'!$C$8:$AK$8,\"N\"))","v":""},{"$f":"IF(ISBLANK('Data Input'!A294),\"\",SUM('Data Input'!G294,'Data Input'!I294,'Data Input'!L294,'Data Input'!N294,'Data Input'!O294,'Data Input'!S294,'Data Input'!Z294,'Data Input'!AA294,'Data Input'!AB294,'Data Input'!AC294,'Data Input'!AE294,'Data Input'!AF294,'Data Input'!AG294,'Data Input'!AI294,'Data Input'!AK294))","v":""},{"$f":"IF(I289=\"\",\"\",I289/COUNTIF('Data Input'!$C$8:$AK$8,\"C\"))","v":""},{"$f":"IF(ISBLANK('Data Input'!A294),\"\",SUM('Data Input'!T294,'Data Input'!U294))","v":""},{"$f":"IF(K289=\"\",\"\",K289/COUNTIF('Data Input'!$C$8:$AK$8,\"S\"))","v":""},{"$f":"IF(ISBLANK('Data Input'!A294),\"\",SUM('Data Input'!F294,'Data Input'!R294,'Data Input'!AJ294))","v":""},{"$f":"IF(M289=\"\",\"\",M289/COUNTIF('Data Input'!$C$8:$AK$8,\"F\"))","v":""},{"$f":"IF(ISBLANK('Data Input'!A294),\"\",SUM('Data Input'!E294,'Data Input'!M294,'Data Input'!Q294,'Data Input'!V294,'Data Input'!W294,'Data Input'!AD294,'Data Input'!AH294))","v":""},{"$f":"IF(O289=\"\",\"\",O289/COUNTIF('Data Input'!$C$8:$AK$8,\"M\"))","v":""},{"$f":"IF(ISBLANK('Data Input'!A294),\"\",SUM('Data Input'!H294,'Data Input'!K294,'Data Input'!P294,'Data Input'!Y294))","v":""},{"$f":"IF(Q289=\"\",\"\",Q289/COUNTIF('Data Input'!$C$8:$AK$8,\"G\"))","v":""}]
[{"$f":"IF('Data Input'!A295=0,\"\",'Data Input'!A295)","v":""},{"$f":"IF(ISBLANK('Data Input'!A295),\"\",COUNTIF('Data Input'!C295:AK295,\"\"))","v":""},{"$f":"IF(ISBLANK('Data Input'!A295),\"\",COUNTIF('Data Input'!C295:AK295,\"0\"))","v":""},{"$f":"IF(ISBLANK('Data Input'!A295),\"\",SUM(B290,C290))","v":""},{"$f":"IF(ISBLANK('Data Input'!A295),\"\",SUM('Data Input'!C295:AK295))","v":""},{"$f":"IF(E290=\"\",\"\",E290/(COUNTA('Data Input'!$C$8:$AK$8)))","v":""},{"$f":"IF(ISBLANK('Data Input'!A295),\"\",SUM('Data Input'!C295,'Data Input'!D295,'Data Input'!J295,'Data Input'!X295))","v":""},{"$f":"IF(G290=\"\",\"\",G290/COUNTIF('Data Input'!$C$8:$AK$8,\"N\"))","v":""},{"$f":"IF(ISBLANK('Data Input'!A295),\"\",SUM('Data Input'!G295,'Data Input'!I295,'Data Input'!L295,'Data Input'!N295,'Data Input'!O295,'Data Input'!S295,'Data Input'!Z295,'Data Input'!AA295,'Data Input'!AB295,'Data Input'!AC295,'Data Input'!AE295,'Data Input'!AF295,'Data Input'!AG295,'Data Input'!AI295,'Data Input'!AK295))","v":""},{"$f":"IF(I290=\"\",\"\",I290/COUNTIF('Data Input'!$C$8:$AK$8,\"C\"))","v":""},{"$f":"IF(ISBLANK('Data Input'!A295),\"\",SUM('Data Input'!T295,'Data Input'!U295))","v":""},{"$f":"IF(K290=\"\",\"\",K290/COUNTIF('Data Input'!$C$8:$AK$8,\"S\"))","v":""},{"$f":"IF(ISBLANK('Data Input'!A295),\"\",SUM('Data Input'!F295,'Data Input'!R295,'Data Input'!AJ295))","v":""},{"$f":"IF(M290=\"\",\"\",M290/COUNTIF('Data Input'!$C$8:$AK$8,\"F\"))","v":""},{"$f":"IF(ISBLANK('Data Input'!A295),\"\",SUM('Data Input'!E295,'Data Input'!M295,'Data Input'!Q295,'Data Input'!V295,'Data Input'!W295,'Data Input'!AD295,'Data Input'!AH295))","v":""},{"$f":"IF(O290=\"\",\"\",O290/COUNTIF('Data Input'!$C$8:$AK$8,\"M\"))","v":""},{"$f":"IF(ISBLANK('Data Input'!A295),\"\",SUM('Data Input'!H295,'Data Input'!K295,'Data Input'!P295,'Data Input'!Y295))","v":""},{"$f":"IF(Q290=\"\",\"\",Q290/COUNTIF('Data Input'!$C$8:$AK$8,\"G\"))","v":""}]
[{"$f":"IF('Data Input'!A296=0,\"\",'Data Input'!A296)","v":""},{"$f":"IF(ISBLANK('Data Input'!A296),\"\",COUNTIF('Data Input'!C296:AK296,\"\"))","v":""},{"$f":"IF(ISBLANK('Data Input'!A296),\"\",COUNTIF('Data Input'!C296:AK296,\"0\"))","v":""},{"$f":"IF(ISBLANK('Data Input'!A296),\"\",SUM(B291,C291))","v":""},{"$f":"IF(ISBLANK('Data Input'!A296),\"\",SUM('Data Input'!C296:AK296))","v":""},{"$f":"IF(E291=\"\",\"\",E291/(COUNTA('Data Input'!$C$8:$AK$8)))","v":""},{"$f":"IF(ISBLANK('Data Input'!A296),\"\",SUM('Data Input'!C296,'Data Input'!D296,'Data Input'!J296,'Data Input'!X296))","v":""},{"$f":"IF(G291=\"\",\"\",G291/COUNTIF('Data Input'!$C$8:$AK$8,\"N\"))","v":""},{"$f":"IF(ISBLANK('Data Input'!A296),\"\",SUM('Data Input'!G296,'Data Input'!I296,'Data Input'!L296,'Data Input'!N296,'Data Input'!O296,'Data Input'!S296,'Data Input'!Z296,'Data Input'!AA296,'Data Input'!AB296,'Data Input'!AC296,'Data Input'!AE296,'Data Input'!AF296,'Data Input'!AG296,'Data Input'!AI296,'Data Input'!AK296))","v":""},{"$f":"IF(I291=\"\",\"\",I291/COUNTIF('Data Input'!$C$8:$AK$8,\"C\"))","v":""},{"$f":"IF(ISBLANK('Data Input'!A296),\"\",SUM('Data Input'!T296,'Data Input'!U296))","v":""},{"$f":"IF(K291=\"\",\"\",K291/COUNTIF('Data Input'!$C$8:$AK$8,\"S\"))","v":""},{"$f":"IF(ISBLANK('Data Input'!A296),\"\",SUM('Data Input'!F296,'Data Input'!R296,'Data Input'!AJ296))","v":""},{"$f":"IF(M291=\"\",\"\",M291/COUNTIF('Data Input'!$C$8:$AK$8,\"F\"))","v":""},{"$f":"IF(ISBLANK('Data Input'!A296),\"\",SUM('Data Input'!E296,'Data Input'!M296,'Data Input'!Q296,'Data Input'!V296,'Data Input'!W296,'Data Input'!AD296,'Data Input'!AH296))","v":""},{"$f":"IF(O291=\"\",\"\",O291/COUNTIF('Data Input'!$C$8:$AK$8,\"M\"))","v":""},{"$f":"IF(ISBLANK('Data Input'!A296),\"\",SUM('Data Input'!H296,'Data Input'!K296,'Data Input'!P296,'Data Input'!Y296))","v":""},{"$f":"IF(Q291=\"\",\"\",Q291/COUNTIF('Data Input'!$C$8:$AK$8,\"G\"))","v":""}]
[{"$f":"IF('Data Input'!A297=0,\"\",'Data Input'!A297)","v":""},{"$f":"IF(ISBLANK('Data Input'!A297),\"\",COUNTIF('Data Input'!C297:AK297,\"\"))","v":""},{"$f":"IF(ISBLANK('Data Input'!A297),\"\",COUNTIF('Data Input'!C297:AK297,\"0\"))","v":""},{"$f":"IF(ISBLANK('Data Input'!A297),\"\",SUM(B292,C292))","v":""},{"$f":"IF(ISBLANK('Data Input'!A297),\"\",SUM('Data Input'!C297:AK297))","v":""},{"$f":"IF(E292=\"\",\"\",E292/(COUNTA('Data Input'!$C$8:$AK$8)))","v":""},{"$f":"IF(ISBLANK('Data Input'!A297),\"\",SUM('Data Input'!C297,'Data Input'!D297,'Data Input'!J297,'Data Input'!X297))","v":""},{"$f":"IF(G292=\"\",\"\",G292/COUNTIF('Data Input'!$C$8:$AK$8,\"N\"))","v":""},{"$f":"IF(ISBLANK('Data Input'!A297),\"\",SUM('Data Input'!G297,'Data Input'!I297,'Data Input'!L297,'Data Input'!N297,'Data Input'!O297,'Data Input'!S297,'Data Input'!Z297,'Data Input'!AA297,'Data Input'!AB297,'Data Input'!AC297,'Data Input'!AE297,'Data Input'!AF297,'Data Input'!AG297,'Data Input'!AI297,'Data Input'!AK297))","v":""},{"$f":"IF(I292=\"\",\"\",I292/COUNTIF('Data Input'!$C$8:$AK$8,\"C\"))","v":""},{"$f":"IF(ISBLANK('Data Input'!A297),\"\",SUM('Data Input'!T297,'Data Input'!U297))","v":""},{"$f":"IF(K292=\"\",\"\",K292/COUNTIF('Data Input'!$C$8:$AK$8,\"S\"))","v":""},{"$f":"IF(ISBLANK('Data Input'!A297),\"\",SUM('Data Input'!F297,'Data Input'!R297,'Data Input'!AJ297))","v":""},{"$f":"IF(M292=\"\",\"\",M292/COUNTIF('Data Input'!$C$8:$AK$8,\"F\"))","v":""},{"$f":"IF(ISBLANK('Data Input'!A297),\"\",SUM('Data Input'!E297,'Data Input'!M297,'Data Input'!Q297,'Data Input'!V297,'Data Input'!W297,'Data Input'!AD297,'Data Input'!AH297))","v":""},{"$f":"IF(O292=\"\",\"\",O292/COUNTIF('Data Input'!$C$8:$AK$8,\"M\"))","v":""},{"$f":"IF(ISBLANK('Data Input'!A297),\"\",SUM('Data Input'!H297,'Data Input'!K297,'Data Input'!P297,'Data Input'!Y297))","v":""},{"$f":"IF(Q292=\"\",\"\",Q292/COUNTIF('Data Input'!$C$8:$AK$8,\"G\"))","v":""}]
[{"$f":"IF('Data Input'!A298=0,\"\",'Data Input'!A298)","v":""},{"$f":"IF(ISBLANK('Data Input'!A298),\"\",COUNTIF('Data Input'!C298:AK298,\"\"))","v":""},{"$f":"IF(ISBLANK('Data Input'!A298),\"\",COUNTIF('Data Input'!C298:AK298,\"0\"))","v":""},{"$f":"IF(ISBLANK('Data Input'!A298),\"\",SUM(B293,C293))","v":""},{"$f":"IF(ISBLANK('Data Input'!A298),\"\",SUM('Data Input'!C298:AK298))","v":""},{"$f":"IF(E293=\"\",\"\",E293/(COUNTA('Data Input'!$C$8:$AK$8)))","v":""},{"$f":"IF(ISBLANK('Data Input'!A298),\"\",SUM('Data Input'!C298,'Data Input'!D298,'Data Input'!J298,'Data Input'!X298))","v":""},{"$f":"IF(G293=\"\",\"\",G293/COUNTIF('Data Input'!$C$8:$AK$8,\"N\"))","v":""},{"$f":"IF(ISBLANK('Data Input'!A298),\"\",SUM('Data Input'!G298,'Data Input'!I298,'Data Input'!L298,'Data Input'!N298,'Data Input'!O298,'Data Input'!S298,'Data Input'!Z298,'Data Input'!AA298,'Data Input'!AB298,'Data Input'!AC298,'Data Input'!AE298,'Data Input'!AF298,'Data Input'!AG298,'Data Input'!AI298,'Data Input'!AK298))","v":""},{"$f":"IF(I293=\"\",\"\",I293/COUNTIF('Data Input'!$C$8:$AK$8,\"C\"))","v":""},{"$f":"IF(ISBLANK('Data Input'!A298),\"\",SUM('Data Input'!T298,'Data Input'!U298))","v":""},{"$f":"IF(K293=\"\",\"\",K293/COUNTIF('Data Input'!$C$8:$AK$8,\"S\"))","v":""},{"$f":"IF(ISBLANK('Data Input'!A298),\"\",SUM('Data Input'!F298,'Data Input'!R298,'Data Input'!AJ298))","v":""},{"$f":"IF(M293=\"\",\"\",M293/COUNTIF('Data Input'!$C$8:$AK$8,\"F\"))","v":""},{"$f":"IF(ISBLANK('Data Input'!A298),\"\",SUM('Data Input'!E298,'Data Input'!M298,'Data Input'!Q298,'Data Input'!V298,'Data Input'!W298,'Data Input'!AD298,'Data Input'!AH298))","v":""},{"$f":"IF(O293=\"\",\"\",O293/COUNTIF('Data Input'!$C$8:$AK$8,\"M\"))","v":""},{"$f":"IF(ISBLANK('Data Input'!A298),\"\",SUM('Data Input'!H298,'Data Input'!K298,'Data Input'!P298,'Data Input'!Y298))","v":""},{"$f":"IF(Q293=\"\",\"\",Q293/COUNTIF('Data Input'!$C$8:$AK$8,\"G\"))","v":""}]
[{"$f":"IF('Data Input'!A299=0,\"\",'Data Input'!A299)","v":""},{"$f":"IF(ISBLANK('Data Input'!A299),\"\",COUNTIF('Data Input'!C299:AK299,\"\"))","v":""},{"$f":"IF(ISBLANK('Data Input'!A299),\"\",COUNTIF('Data Input'!C299:AK299,\"0\"))","v":""},{"$f":"IF(ISBLANK('Data Input'!A299),\"\",SUM(B294,C294))","v":""},{"$f":"IF(ISBLANK('Data Input'!A299),\"\",SUM('Data Input'!C299:AK299))","v":""},{"$f":"IF(E294=\"\",\"\",E294/(COUNTA('Data Input'!$C$8:$AK$8)))","v":""},{"$f":"IF(ISBLANK('Data Input'!A299),\"\",SUM('Data Input'!C299,'Data Input'!D299,'Data Input'!J299,'Data Input'!X299))","v":""},{"$f":"IF(G294=\"\",\"\",G294/COUNTIF('Data Input'!$C$8:$AK$8,\"N\"))","v":""},{"$f":"IF(ISBLANK('Data Input'!A299),\"\",SUM('Data Input'!G299,'Data Input'!I299,'Data Input'!L299,'Data Input'!N299,'Data Input'!O299,'Data Input'!S299,'Data Input'!Z299,'Data Input'!AA299,'Data Input'!AB299,'Data Input'!AC299,'Data Input'!AE299,'Data Input'!AF299,'Data Input'!AG299,'Data Input'!AI299,'Data Input'!AK299))","v":""},{"$f":"IF(I294=\"\",\"\",I294/COUNTIF('Data Input'!$C$8:$AK$8,\"C\"))","v":""},{"$f":"IF(ISBLANK('Data Input'!A299),\"\",SUM('Data Input'!T299,'Data Input'!U299))","v":""},{"$f":"IF(K294=\"\",\"\",K294/COUNTIF('Data Input'!$C$8:$AK$8,\"S\"))","v":""},{"$f":"IF(ISBLANK('Data Input'!A299),\"\",SUM('Data Input'!F299,'Data Input'!R299,'Data Input'!AJ299))","v":""},{"$f":"IF(M294=\"\",\"\",M294/COUNTIF('Data Input'!$C$8:$AK$8,\"F\"))","v":""},{"$f":"IF(ISBLANK('Data Input'!A299),\"\",SUM('Data Input'!E299,'Data Input'!M299,'Data Input'!Q299,'Data Input'!V299,'Data Input'!W299,'Data Input'!AD299,'Data Input'!AH299))","v":""},{"$f":"IF(O294=\"\",\"\",O294/COUNTIF('Data Input'!$C$8:$AK$8,\"M\"))","v":""},{"$f":"IF(ISBLANK('Data Input'!A299),\"\",SUM('Data Input'!H299,'Data Input'!K299,'Data Input'!P299,'Data Input'!Y299))","v":""},{"$f":"IF(Q294=\"\",\"\",Q294/COUNTIF('Data Input'!$C$8:$AK$8,\"G\"))","v":""}]
[{"$f":"IF('Data Input'!A300=0,\"\",'Data Input'!A300)","v":""},{"$f":"IF(ISBLANK('Data Input'!A300),\"\",COUNTIF('Data Input'!C300:AK300,\"\"))","v":""},{"$f":"IF(ISBLANK('Data Input'!A300),\"\",COUNTIF('Data Input'!C300:AK300,\"0\"))","v":""},{"$f":"IF(ISBLANK('Data Input'!A300),\"\",SUM(B295,C295))","v":""},{"$f":"IF(ISBLANK('Data Input'!A300),\"\",SUM('Data Input'!C300:AK300))","v":""},{"$f":"IF(E295=\"\",\"\",E295/(COUNTA('Data Input'!$C$8:$AK$8)))","v":""},{"$f":"IF(ISBLANK('Data Input'!A300),\"\",SUM('Data Input'!C300,'Data Input'!D300,'Data Input'!J300,'Data Input'!X300))","v":""},{"$f":"IF(G295=\"\",\"\",G295/COUNTIF('Data Input'!$C$8:$AK$8,\"N\"))","v":""},{"$f":"IF(ISBLANK('Data Input'!A300),\"\",SUM('Data Input'!G300,'Data Input'!I300,'Data Input'!L300,'Data Input'!N300,'Data Input'!O300,'Data Input'!S300,'Data Input'!Z300,'Data Input'!AA300,'Data Input'!AB300,'Data Input'!AC300,'Data Input'!AE300,'Data Input'!AF300,'Data Input'!AG300,'Data Input'!AI300,'Data Input'!AK300))","v":""},{"$f":"IF(I295=\"\",\"\",I295/COUNTIF('Data Input'!$C$8:$AK$8,\"C\"))","v":""},{"$f":"IF(ISBLANK('Data Input'!A300),\"\",SUM('Data Input'!T300,'Data Input'!U300))","v":""},{"$f":"IF(K295=\"\",\"\",K295/COUNTIF('Data Input'!$C$8:$AK$8,\"S\"))","v":""},{"$f":"IF(ISBLANK('Data Input'!A300),\"\",SUM('Data Input'!F300,'Data Input'!R300,'Data Input'!AJ300))","v":""},{"$f":"IF(M295=\"\",\"\",M295/COUNTIF('Data Input'!$C$8:$AK$8,\"F\"))","v":""},{"$f":"IF(ISBLANK('Data Input'!A300),\"\",SUM('Data Input'!E300,'Data Input'!M300,'Data Input'!Q300,'Data Input'!V300,'Data Input'!W300,'Data Input'!AD300,'Data Input'!AH300))","v":""},{"$f":"IF(O295=\"\",\"\",O295/COUNTIF('Data Input'!$C$8:$AK$8,\"M\"))","v":""},{"$f":"IF(ISBLANK('Data Input'!A300),\"\",SUM('Data Input'!H300,'Data Input'!K300,'Data Input'!P300,'Data Input'!Y300))","v":""},{"$f":"IF(Q295=\"\",\"\",Q295/COUNTIF('Data Input'!$C$8:$AK$8,\"G\"))","v":""}]
[{"$f":"IF('Data Input'!A301=0,\"\",'Data Input'!A301)","v":""},{"$f":"IF(ISBLANK('Data Input'!A301),\"\",COUNTIF('Data Input'!C301:AK301,\"\"))","v":""},{"$f":"IF(ISBLANK('Data Input'!A301),\"\",COUNTIF('Data Input'!C301:AK301,\"0\"))","v":""},{"$f":"IF(ISBLANK('Data Input'!A301),\"\",SUM(B296,C296))","v":""},{"$f":"IF(ISBLANK('Data Input'!A301),\"\",SUM('Data Input'!C301:AK301))","v":""},{"$f":"IF(E296=\"\",\"\",E296/(COUNTA('Data Input'!$C$8:$AK$8)))","v":""},{"$f":"IF(ISBLANK('Data Input'!A301),\"\",SUM('Data Input'!C301,'Data Input'!D301,'Data Input'!J301,'Data Input'!X301))","v":""},{"$f":"IF(G296=\"\",\"\",G296/COUNTIF('Data Input'!$C$8:$AK$8,\"N\"))","v":""},{"$f":"IF(ISBLANK('Data Input'!A301),\"\",SUM('Data Input'!G301,'Data Input'!I301,'Data Input'!L301,'Data Input'!N301,'Data Input'!O301,'Data Input'!S301,'Data Input'!Z301,'Data Input'!AA301,'Data Input'!AB301,'Data Input'!AC301,'Data Input'!AE301,'Data Input'!AF301,'Data Input'!AG301,'Data Input'!AI301,'Data Input'!AK301))","v":""},{"$f":"IF(I296=\"\",\"\",I296/COUNTIF('Data Input'!$C$8:$AK$8,\"C\"))","v":""},{"$f":"IF(ISBLANK('Data Input'!A301),\"\",SUM('Data Input'!T301,'Data Input'!U301))","v":""},{"$f":"IF(K296=\"\",\"\",K296/COUNTIF('Data Input'!$C$8:$AK$8,\"S\"))","v":""},{"$f":"IF(ISBLANK('Data Input'!A301),\"\",SUM('Data Input'!F301,'Data Input'!R301,'Data Input'!AJ301))","v":""},{"$f":"IF(M296=\"\",\"\",M296/COUNTIF('Data Input'!$C$8:$AK$8,\"F\"))","v":""},{"$f":"IF(ISBLANK('Data Input'!A301),\"\",SUM('Data Input'!E301,'Data Input'!M301,'Data Input'!Q301,'Data Input'!V301,'Data Input'!W301,'Data Input'!AD301,'Data Input'!AH301))","v":""},{"$f":"IF(O296=\"\",\"\",O296/COUNTIF('Data Input'!$C$8:$AK$8,\"M\"))","v":""},{"$f":"IF(ISBLANK('Data Input'!A301),\"\",SUM('Data Input'!H301,'Data Input'!K301,'Data Input'!P301,'Data Input'!Y301))","v":""},{"$f":"IF(Q296=\"\",\"\",Q296/COUNTIF('Data Input'!$C$8:$AK$8,\"G\"))","v":""}]
[{"$f":"IF('Data Input'!A302=0,\"\",'Data Input'!A302)","v":""},{"$f":"IF(ISBLANK('Data Input'!A302),\"\",COUNTIF('Data Input'!C302:AK302,\"\"))","v":""},{"$f":"IF(ISBLANK('Data Input'!A302),\"\",COUNTIF('Data Input'!C302:AK302,\"0\"))","v":""},{"$f":"IF(ISBLANK('Data Input'!A302),\"\",SUM(B297,C297))","v":""},{"$f":"IF(ISBLANK('Data Input'!A302),\"\",SUM('Data Input'!C302:AK302))","v":""},{"$f":"IF(E297=\"\",\"\",E297/(COUNTA('Data Input'!$C$8:$AK$8)))","v":""},{"$f":"IF(ISBLANK('Data Input'!A302),\"\",SUM('Data Input'!C302,'Data Input'!D302,'Data Input'!J302,'Data Input'!X302))","v":""},{"$f":"IF(G297=\"\",\"\",G297/COUNTIF('Data Input'!$C$8:$AK$8,\"N\"))","v":""},{"$f":"IF(ISBLANK('Data Input'!A302),\"\",SUM('Data Input'!G302,'Data Input'!I302,'Data Input'!L302,'Data Input'!N302,'Data Input'!O302,'Data Input'!S302,'Data Input'!Z302,'Data Input'!AA302,'Data Input'!AB302,'Data Input'!AC302,'Data Input'!AE302,'Data Input'!AF302,'Data Input'!AG302,'Data Input'!AI302,'Data Input'!AK302))","v":""},{"$f":"IF(I297=\"\",\"\",I297/COUNTIF('Data Input'!$C$8:$AK$8,\"C\"))","v":""},{"$f":"IF(ISBLANK('Data Input'!A302),\"\",SUM('Data Input'!T302,'Data Input'!U302))","v":""},{"$f":"IF(K297=\"\",\"\",K297/COUNTIF('Data Input'!$C$8:$AK$8,\"S\"))","v":""},{"$f":"IF(ISBLANK('Data Input'!A302),\"\",SUM('Data Input'!F302,'Data Input'!R302,'Data Input'!AJ302))","v":""},{"$f":"IF(M297=\"\",\"\",M297/COUNTIF('Data Input'!$C$8:$AK$8,\"F\"))","v":""},{"$f":"IF(ISBLANK('Data Input'!A302),\"\",SUM('Data Input'!E302,'Data Input'!M302,'Data Input'!Q302,'Data Input'!V302,'Data Input'!W302,'Data Input'!AD302,'Data Input'!AH302))","v":""},{"$f":"IF(O297=\"\",\"\",O297/COUNTIF('Data Input'!$C$8:$AK$8,\"M\"))","v":""},{"$f":"IF(ISBLANK('Data Input'!A302),\"\",SUM('Data Input'!H302,'Data Input'!K302,'Data Input'!P302,'Data Input'!Y302))","v":""},{"$f":"IF(Q297=\"\",\"\",Q297/COUNTIF('Data Input'!$C$8:$AK$8,\"G\"))","v":""}]
[{"$f":"IF('Data Input'!A303=0,\"\",'Data Input'!A303)","v":""},{"$f":"IF(ISBLANK('Data Input'!A303),\"\",COUNTIF('Data Input'!C303:AK303,\"\"))","v":""},{"$f":"IF(ISBLANK('Data Input'!A303),\"\",COUNTIF('Data Input'!C303:AK303,\"0\"))","v":""},{"$f":"IF(ISBLANK('Data Input'!A303),\"\",SUM(B298,C298))","v":""},{"$f":"IF(ISBLANK('Data Input'!A303),\"\",SUM('Data Input'!C303:AK303))","v":""},{"$f":"IF(E298=\"\",\"\",E298/(COUNTA('Data Input'!$C$8:$AK$8)))","v":""},{"$f":"IF(ISBLANK('Data Input'!A303),\"\",SUM('Data Input'!C303,'Data Input'!D303,'Data Input'!J303,'Data Input'!X303))","v":""},{"$f":"IF(G298=\"\",\"\",G298/COUNTIF('Data Input'!$C$8:$AK$8,\"N\"))","v":""},{"$f":"IF(ISBLANK('Data Input'!A303),\"\",SUM('Data Input'!G303,'Data Input'!I303,'Data Input'!L303,'Data Input'!N303,'Data Input'!O303,'Data Input'!S303,'Data Input'!Z303,'Data Input'!AA303,'Data Input'!AB303,'Data Input'!AC303,'Data Input'!AE303,'Data Input'!AF303,'Data Input'!AG303,'Data Input'!AI303,'Data Input'!AK303))","v":""},{"$f":"IF(I298=\"\",\"\",I298/COUNTIF('Data Input'!$C$8:$AK$8,\"C\"))","v":""},{"$f":"IF(ISBLANK('Data Input'!A303),\"\",SUM('Data Input'!T303,'Data Input'!U303))","v":""},{"$f":"IF(K298=\"\",\"\",K298/COUNTIF('Data Input'!$C$8:$AK$8,\"S\"))","v":""},{"$f":"IF(ISBLANK('Data Input'!A303),\"\",SUM('Data Input'!F303,'Data Input'!R303,'Data Input'!AJ303))","v":""},{"$f":"IF(M298=\"\",\"\",M298/COUNTIF('Data Input'!$C$8:$AK$8,\"F\"))","v":""},{"$f":"IF(ISBLANK('Data Input'!A303),\"\",SUM('Data Input'!E303,'Data Input'!M303,'Data Input'!Q303,'Data Input'!V303,'Data Input'!W303,'Data Input'!AD303,'Data Input'!AH303))","v":""},{"$f":"IF(O298=\"\",\"\",O298/COUNTIF('Data Input'!$C$8:$AK$8,\"M\"))","v":""},{"$f":"IF(ISBLANK('Data Input'!A303),\"\",SUM('Data Input'!H303,'Data Input'!K303,'Data Input'!P303,'Data Input'!Y303))","v":""},{"$f":"IF(Q298=\"\",\"\",Q298/COUNTIF('Data Input'!$C$8:$AK$8,\"G\"))","v":""}]
[{"$f":"IF('Data Input'!A304=0,\"\",'Data Input'!A304)","v":""},{"$f":"IF(ISBLANK('Data Input'!A304),\"\",COUNTIF('Data Input'!C304:AK304,\"\"))","v":""},{"$f":"IF(ISBLANK('Data Input'!A304),\"\",COUNTIF('Data Input'!C304:AK304,\"0\"))","v":""},{"$f":"IF(ISBLANK('Data Input'!A304),\"\",SUM(B299,C299))","v":""},{"$f":"IF(ISBLANK('Data Input'!A304),\"\",SUM('Data Input'!C304:AK304))","v":""},{"$f":"IF(E299=\"\",\"\",E299/(COUNTA('Data Input'!$C$8:$AK$8)))","v":""},{"$f":"IF(ISBLANK('Data Input'!A304),\"\",SUM('Data Input'!C304,'Data Input'!D304,'Data Input'!J304,'Data Input'!X304))","v":""},{"$f":"IF(G299=\"\",\"\",G299/COUNTIF('Data Input'!$C$8:$AK$8,\"N\"))","v":""},{"$f":"IF(ISBLANK('Data Input'!A304),\"\",SUM('Data Input'!G304,'Data Input'!I304,'Data Input'!L304,'Data Input'!N304,'Data Input'!O304,'Data Input'!S304,'Data Input'!Z304,'Data Input'!AA304,'Data Input'!AB304,'Data Input'!AC304,'Data Input'!AE304,'Data Input'!AF304,'Data Input'!AG304,'Data Input'!AI304,'Data Input'!AK304))","v":""},{"$f":"IF(I299=\"\",\"\",I299/COUNTIF('Data Input'!$C$8:$AK$8,\"C\"))","v":""},{"$f":"IF(ISBLANK('Data Input'!A304),\"\",SUM('Data Input'!T304,'Data Input'!U304))","v":""},{"$f":"IF(K299=\"\",\"\",K299/COUNTIF('Data Input'!$C$8:$AK$8,\"S\"))","v":""},{"$f":"IF(ISBLANK('Data Input'!A304),\"\",SUM('Data Input'!F304,'Data Input'!R304,'Data Input'!AJ304))","v":""},{"$f":"IF(M299=\"\",\"\",M299/COUNTIF('Data Input'!$C$8:$AK$8,\"F\"))","v":""},{"$f":"IF(ISBLANK('Data Input'!A304),\"\",SUM('Data Input'!E304,'Data Input'!M304,'Data Input'!Q304,'Data Input'!V304,'Data Input'!W304,'Data Input'!AD304,'Data Input'!AH304))","v":""},{"$f":"IF(O299=\"\",\"\",O299/COUNTIF('Data Input'!$C$8:$AK$8,\"M\"))","v":""},{"$f":"IF(ISBLANK('Data Input'!A304),\"\",SUM('Data Input'!H304,'Data Input'!K304,'Data Input'!P304,'Data Input'!Y304))","v":""},{"$f":"IF(Q299=\"\",\"\",Q299/COUNTIF('Data Input'!$C$8:$AK$8,\"G\"))","v":""}]
[{"$f":"IF('Data Input'!A305=0,\"\",'Data Input'!A305)","v":""},{"$f":"IF(ISBLANK('Data Input'!A305),\"\",COUNTIF('Data Input'!C305:AK305,\"\"))","v":""},{"$f":"IF(ISBLANK('Data Input'!A305),\"\",COUNTIF('Data Input'!C305:AK305,\"0\"))","v":""},{"$f":"IF(ISBLANK('Data Input'!A305),\"\",SUM(B300,C300))","v":""},{"$f":"IF(ISBLANK('Data Input'!A305),\"\",SUM('Data Input'!C305:AK305))","v":""},{"$f":"IF(E300=\"\",\"\",E300/(COUNTA('Data Input'!$C$8:$AK$8)))","v":""},{"$f":"IF(ISBLANK('Data Input'!A305),\"\",SUM('Data Input'!C305,'Data Input'!D305,'Data Input'!J305,'Data Input'!X305))","v":""},{"$f":"IF(G300=\"\",\"\",G300/COUNTIF('Data Input'!$C$8:$AK$8,\"N\"))","v":""},{"$f":"IF(ISBLANK('Data Input'!A305),\"\",SUM('Data Input'!G305,'Data Input'!I305,'Data Input'!L305,'Data Input'!N305,'Data Input'!O305,'Data Input'!S305,'Data Input'!Z305,'Data Input'!AA305,'Data Input'!AB305,'Data Input'!AC305,'Data Input'!AE305,'Data Input'!AF305,'Data Input'!AG305,'Data Input'!AI305,'Data Input'!AK305))","v":""},{"$f":"IF(I300=\"\",\"\",I300/COUNTIF('Data Input'!$C$8:$AK$8,\"C\"))","v":""},{"$f":"IF(ISBLANK('Data Input'!A305),\"\",SUM('Data Input'!T305,'Data Input'!U305))","v":""},{"$f":"IF(K300=\"\",\"\",K300/COUNTIF('Data Input'!$C$8:$AK$8,\"S\"))","v":""},{"$f":"IF(ISBLANK('Data Input'!A305),\"\",SUM('Data Input'!F305,'Data Input'!R305,'Data Input'!AJ305))","v":""},{"$f":"IF(M300=\"\",\"\",M300/COUNTIF('Data Input'!$C$8:$AK$8,\"F\"))","v":""},{"$f":"IF(ISBLANK('Data Input'!A305),\"\",SUM('Data Input'!E305,'Data Input'!M305,'Data Input'!Q305,'Data Input'!V305,'Data Input'!W305,'Data Input'!AD305,'Data Input'!AH305))","v":""},{"$f":"IF(O300=\"\",\"\",O300/COUNTIF('Data Input'!$C$8:$AK$8,\"M\"))","v":""},{"$f":"IF(ISBLANK('Data Input'!A305),\"\",SUM('Data Input'!H305,'Data Input'!K305,'Data Input'!P305,'Data Input'!Y305))","v":""},{"$f":"IF(Q300=\"\",\"\",Q300/COUNTIF('Data Input'!$C$8:$AK$8,\"G\"))","v":""}]
[{"$f":"IF('Data Input'!A306=0,\"\",'Data Input'!A306)","v":""},{"$f":"IF(ISBLANK('Data Input'!A306),\"\",COUNTIF('Data Input'!C306:AK306,\"\"))","v":""},{"$f":"IF(ISBLANK('Data Input'!A306),\"\",COUNTIF('Data Input'!C306:AK306,\"0\"))","v":""},{"$f":"IF(ISBLANK('Data Input'!A306),\"\",SUM(B301,C301))","v":""},{"$f":"IF(ISBLANK('Data Input'!A306),\"\",SUM('Data Input'!C306:AK306))","v":""},{"$f":"IF(E301=\"\",\"\",E301/(COUNTA('Data Input'!$C$8:$AK$8)))","v":""},{"$f":"IF(ISBLANK('Data Input'!A306),\"\",SUM('Data Input'!C306,'Data Input'!D306,'Data Input'!J306,'Data Input'!X306))","v":""},{"$f":"IF(G301=\"\",\"\",G301/COUNTIF('Data Input'!$C$8:$AK$8,\"N\"))","v":""},{"$f":"IF(ISBLANK('Data Input'!A306),\"\",SUM('Data Input'!G306,'Data Input'!I306,'Data Input'!L306,'Data Input'!N306,'Data Input'!O306,'Data Input'!S306,'Data Input'!Z306,'Data Input'!AA306,'Data Input'!AB306,'Data Input'!AC306,'Data Input'!AE306,'Data Input'!AF306,'Data Input'!AG306,'Data Input'!AI306,'Data Input'!AK306))","v":""},{"$f":"IF(I301=\"\",\"\",I301/COUNTIF('Data Input'!$C$8:$AK$8,\"C\"))","v":""},{"$f":"IF(ISBLANK('Data Input'!A306),\"\",SUM('Data Input'!T306,'Data Input'!U306))","v":""},{"$f":"IF(K301=\"\",\"\",K301/COUNTIF('Data Input'!$C$8:$AK$8,\"S\"))","v":""},{"$f":"IF(ISBLANK('Data Input'!A306),\"\",SUM('Data Input'!F306,'Data Input'!R306,'Data Input'!AJ306))","v":""},{"$f":"IF(M301=\"\",\"\",M301/COUNTIF('Data Input'!$C$8:$AK$8,\"F\"))","v":""},{"$f":"IF(ISBLANK('Data Input'!A306),\"\",SUM('Data Input'!E306,'Data Input'!M306,'Data Input'!Q306,'Data Input'!V306,'Data Input'!W306,'Data Input'!AD306,'Data Input'!AH306))","v":""},{"$f":"IF(O301=\"\",\"\",O301/COUNTIF('Data Input'!$C$8:$AK$8,\"M\"))","v":""},{"$f":"IF(ISBLANK('Data Input'!A306),\"\",SUM('Data Input'!H306,'Data Input'!K306,'Data Input'!P306,'Data Input'!Y306))","v":""},{"$f":"IF(Q301=\"\",\"\",Q301/COUNTIF('Data Input'!$C$8:$AK$8,\"G\"))","v":""}]
[{"$f":"IF('Data Input'!A307=0,\"\",'Data Input'!A307)","v":""},{"$f":"IF(ISBLANK('Data Input'!A307),\"\",COUNTIF('Data Input'!C307:AK307,\"\"))","v":""},{"$f":"IF(ISBLANK('Data Input'!A307),\"\",COUNTIF('Data Input'!C307:AK307,\"0\"))","v":""},{"$f":"IF(ISBLANK('Data Input'!A307),\"\",SUM(B302,C302))","v":""},{"$f":"IF(ISBLANK('Data Input'!A307),\"\",SUM('Data Input'!C307:AK307))","v":""},{"$f":"IF(E302=\"\",\"\",E302/(COUNTA('Data Input'!$C$8:$AK$8)))","v":""},{"$f":"IF(ISBLANK('Data Input'!A307),\"\",SUM('Data Input'!C307,'Data Input'!D307,'Data Input'!J307,'Data Input'!X307))","v":""},{"$f":"IF(G302=\"\",\"\",G302/COUNTIF('Data Input'!$C$8:$AK$8,\"N\"))","v":""},{"$f":"IF(ISBLANK('Data Input'!A307),\"\",SUM('Data Input'!G307,'Data Input'!I307,'Data Input'!L307,'Data Input'!N307,'Data Input'!O307,'Data Input'!S307,'Data Input'!Z307,'Data Input'!AA307,'Data Input'!AB307,'Data Input'!AC307,'Data Input'!AE307,'Data Input'!AF307,'Data Input'!AG307,'Data Input'!AI307,'Data Input'!AK307))","v":""},{"$f":"IF(I302=\"\",\"\",I302/COUNTIF('Data Input'!$C$8:$AK$8,\"C\"))","v":""},{"$f":"IF(ISBLANK('Data Input'!A307),\"\",SUM('Data Input'!T307,'Data Input'!U307))","v":""},{"$f":"IF(K302=\"\",\"\",K302/COUNTIF('Data Input'!$C$8:$AK$8,\"S\"))","v":""},{"$f":"IF(ISBLANK('Data Input'!A307),\"\",SUM('Data Input'!F307,'Data Input'!R307,'Data Input'!AJ307))","v":""},{"$f":"IF(M302=\"\",\"\",M302/COUNTIF('Data Input'!$C$8:$AK$8,\"F\"))","v":""},{"$f":"IF(ISBLANK('Data Input'!A307),\"\",SUM('Data Input'!E307,'Data Input'!M307,'Data Input'!Q307,'Data Input'!V307,'Data Input'!W307,'Data Input'!AD307,'Data Input'!AH307))","v":""},{"$f":"IF(O302=\"\",\"\",O302/COUNTIF('Data Input'!$C$8:$AK$8,\"M\"))","v":""},{"$f":"IF(ISBLANK('Data Input'!A307),\"\",SUM('Data Input'!H307,'Data Input'!K307,'Data Input'!P307,'Data Input'!Y307))","v":""},{"$f":"IF(Q302=\"\",\"\",Q302/COUNTIF('Data Input'!$C$8:$AK$8,\"G\"))","v":""}]
[{"$f":"IF('Data Input'!A308=0,\"\",'Data Input'!A308)","v":""},{"$f":"IF(ISBLANK('Data Input'!A308),\"\",COUNTIF('Data Input'!C308:AK308,\"\"))","v":""},{"$f":"IF(ISBLANK('Data Input'!A308),\"\",COUNTIF('Data Input'!C308:AK308,\"0\"))","v":""},{"$f":"IF(ISBLANK('Data Input'!A308),\"\",SUM(B303,C303))","v":""},{"$f":"IF(ISBLANK('Data Input'!A308),\"\",SUM('Data Input'!C308:AK308))","v":""},{"$f":"IF(E303=\"\",\"\",E303/(COUNTA('Data Input'!$C$8:$AK$8)))","v":""},{"$f":"IF(ISBLANK('Data Input'!A308),\"\",SUM('Data Input'!C308,'Data Input'!D308,'Data Input'!J308,'Data Input'!X308))","v":""},{"$f":"IF(G303=\"\",\"\",G303/COUNTIF('Data Input'!$C$8:$AK$8,\"N\"))","v":""},{"$f":"IF(ISBLANK('Data Input'!A308),\"\",SUM('Data Input'!G308,'Data Input'!I308,'Data Input'!L308,'Data Input'!N308,'Data Input'!O308,'Data Input'!S308,'Data Input'!Z308,'Data Input'!AA308,'Data Input'!AB308,'Data Input'!AC308,'Data Input'!AE308,'Data Input'!AF308,'Data Input'!AG308,'Data Input'!AI308,'Data Input'!AK308))","v":""},{"$f":"IF(I303=\"\",\"\",I303/COUNTIF('Data Input'!$C$8:$AK$8,\"C\"))","v":""},{"$f":"IF(ISBLANK('Data Input'!A308),\"\",SUM('Data Input'!T308,'Data Input'!U308))","v":""},{"$f":"IF(K303=\"\",\"\",K303/COUNTIF('Data Input'!$C$8:$AK$8,\"S\"))","v":""},{"$f":"IF(ISBLANK('Data Input'!A308),\"\",SUM('Data Input'!F308,'Data Input'!R308,'Data Input'!AJ308))","v":""},{"$f":"IF(M303=\"\",\"\",M303/COUNTIF('Data Input'!$C$8:$AK$8,\"F\"))","v":""},{"$f":"IF(ISBLANK('Data Input'!A308),\"\",SUM('Data Input'!E308,'Data Input'!M308,'Data Input'!Q308,'Data Input'!V308,'Data Input'!W308,'Data Input'!AD308,'Data Input'!AH308))","v":""},{"$f":"IF(O303=\"\",\"\",O303/COUNTIF('Data Input'!$C$8:$AK$8,\"M\"))","v":""},{"$f":"IF(ISBLANK('Data Input'!A308),\"\",SUM('Data Input'!H308,'Data Input'!K308,'Data Input'!P308,'Data Input'!Y308))","v":""},{"$f":"IF(Q303=\"\",\"\",Q303/COUNTIF('Data Input'!$C$8:$AK$8,\"G\"))","v":""}]
[{"$f":"IF('Data Input'!A309=0,\"\",'Data Input'!A309)","v":""},{"$f":"IF(ISBLANK('Data Input'!A309),\"\",COUNTIF('Data Input'!C309:AK309,\"\"))","v":""},{"$f":"IF(ISBLANK('Data Input'!A309),\"\",COUNTIF('Data Input'!C309:AK309,\"0\"))","v":""},{"$f":"IF(ISBLANK('Data Input'!A309),\"\",SUM(B304,C304))","v":""},{"$f":"IF(ISBLANK('Data Input'!A309),\"\",SUM('Data Input'!C309:AK309))","v":""},{"$f":"IF(E304=\"\",\"\",E304/(COUNTA('Data Input'!$C$8:$AK$8)))","v":""},{"$f":"IF(ISBLANK('Data Input'!A309),\"\",SUM('Data Input'!C309,'Data Input'!D309,'Data Input'!J309,'Data Input'!X309))","v":""},{"$f":"IF(G304=\"\",\"\",G304/COUNTIF('Data Input'!$C$8:$AK$8,\"N\"))","v":""},{"$f":"IF(ISBLANK('Data Input'!A309),\"\",SUM('Data Input'!G309,'Data Input'!I309,'Data Input'!L309,'Data Input'!N309,'Data Input'!O309,'Data Input'!S309,'Data Input'!Z309,'Data Input'!AA309,'Data Input'!AB309,'Data Input'!AC309,'Data Input'!AE309,'Data Input'!AF309,'Data Input'!AG309,'Data Input'!AI309,'Data Input'!AK309))","v":""},{"$f":"IF(I304=\"\",\"\",I304/COUNTIF('Data Input'!$C$8:$AK$8,\"C\"))","v":""},{"$f":"IF(ISBLANK('Data Input'!A309),\"\",SUM('Data Input'!T309,'Data Input'!U309))","v":""},{"$f":"IF(K304=\"\",\"\",K304/COUNTIF('Data Input'!$C$8:$AK$8,\"S\"))","v":""},{"$f":"IF(ISBLANK('Data Input'!A309),\"\",SUM('Data Input'!F309,'Data Input'!R309,'Data Input'!AJ309))","v":""},{"$f":"IF(M304=\"\",\"\",M304/COUNTIF('Data Input'!$C$8:$AK$8,\"F\"))","v":""},{"$f":"IF(ISBLANK('Data Input'!A309),\"\",SUM('Data Input'!E309,'Data Input'!M309,'Data Input'!Q309,'Data Input'!V309,'Data Input'!W309,'Data Input'!AD309,'Data Input'!AH309))","v":""},{"$f":"IF(O304=\"\",\"\",O304/COUNTIF('Data Input'!$C$8:$AK$8,\"M\"))","v":""},{"$f":"IF(ISBLANK('Data Input'!A309),\"\",SUM('Data Input'!H309,'Data Input'!K309,'Data Input'!P309,'Data Input'!Y309))","v":""},{"$f":"IF(Q304=\"\",\"\",Q304/COUNTIF('Data Input'!$C$8:$AK$8,\"G\"))","v":""}]
[{"$f":"IF('Data Input'!A310=0,\"\",'Data Input'!A310)","v":""},{"$f":"IF(ISBLANK('Data Input'!A310),\"\",COUNTIF('Data Input'!C310:AK310,\"\"))","v":""},{"$f":"IF(ISBLANK('Data Input'!A310),\"\",COUNTIF('Data Input'!C310:AK310,\"0\"))","v":""},{"$f":"IF(ISBLANK('Data Input'!A310),\"\",SUM(B305,C305))","v":""},{"$f":"IF(ISBLANK('Data Input'!A310),\"\",SUM('Data Input'!C310:AK310))","v":""},{"$f":"IF(E305=\"\",\"\",E305/(COUNTA('Data Input'!$C$8:$AK$8)))","v":""},{"$f":"IF(ISBLANK('Data Input'!A310),\"\",SUM('Data Input'!C310,'Data Input'!D310,'Data Input'!J310,'Data Input'!X310))","v":""},{"$f":"IF(G305=\"\",\"\",G305/COUNTIF('Data Input'!$C$8:$AK$8,\"N\"))","v":""},{"$f":"IF(ISBLANK('Data Input'!A310),\"\",SUM('Data Input'!G310,'Data Input'!I310,'Data Input'!L310,'Data Input'!N310,'Data Input'!O310,'Data Input'!S310,'Data Input'!Z310,'Data Input'!AA310,'Data Input'!AB310,'Data Input'!AC310,'Data Input'!AE310,'Data Input'!AF310,'Data Input'!AG310,'Data Input'!AI310,'Data Input'!AK310))","v":""},{"$f":"IF(I305=\"\",\"\",I305/COUNTIF('Data Input'!$C$8:$AK$8,\"C\"))","v":""},{"$f":"IF(ISBLANK('Data Input'!A310),\"\",SUM('Data Input'!T310,'Data Input'!U310))","v":""},{"$f":"IF(K305=\"\",\"\",K305/COUNTIF('Data Input'!$C$8:$AK$8,\"S\"))","v":""},{"$f":"IF(ISBLANK('Data Input'!A310),\"\",SUM('Data Input'!F310,'Data Input'!R310,'Data Input'!AJ310))","v":""},{"$f":"IF(M305=\"\",\"\",M305/COUNTIF('Data Input'!$C$8:$AK$8,\"F\"))","v":""},{"$f":"IF(ISBLANK('Data Input'!A310),\"\",SUM('Data Input'!E310,'Data Input'!M310,'Data Input'!Q310,'Data Input'!V310,'Data Input'!W310,'Data Input'!AD310,'Data Input'!AH310))","v":""},{"$f":"IF(O305=\"\",\"\",O305/COUNTIF('Data Input'!$C$8:$AK$8,\"M\"))","v":""},{"$f":"IF(ISBLANK('Data Input'!A310),\"\",SUM('Data Input'!H310,'Data Input'!K310,'Data Input'!P310,'Data Input'!Y310))","v":""},{"$f":"IF(Q305=\"\",\"\",Q305/COUNTIF('Data Input'!$C$8:$AK$8,\"G\"))","v":""}]
[{"$f":"IF('Data Input'!A311=0,\"\",'Data Input'!A311)","v":""},{"$f":"IF(ISBLANK('Data Input'!A311),\"\",COUNTIF('Data Input'!C311:AK311,\"\"))","v":""},{"$f":"IF(ISBLANK('Data Input'!A311),\"\",COUNTIF('Data Input'!C311:AK311,\"0\"))","v":""},{"$f":"IF(ISBLANK('Data Input'!A311),\"\",SUM(B306,C306))","v":""},{"$f":"IF(ISBLANK('Data Input'!A311),\"\",SUM('Data Input'!C311:AK311))","v":""},{"$f":"IF(E306=\"\",\"\",E306/(COUNTA('Data Input'!$C$8:$AK$8)))","v":""},{"$f":"IF(ISBLANK('Data Input'!A311),\"\",SUM('Data Input'!C311,'Data Input'!D311,'Data Input'!J311,'Data Input'!X311))","v":""},{"$f":"IF(G306=\"\",\"\",G306/COUNTIF('Data Input'!$C$8:$AK$8,\"N\"))","v":""},{"$f":"IF(ISBLANK('Data Input'!A311),\"\",SUM('Data Input'!G311,'Data Input'!I311,'Data Input'!L311,'Data Input'!N311,'Data Input'!O311,'Data Input'!S311,'Data Input'!Z311,'Data Input'!AA311,'Data Input'!AB311,'Data Input'!AC311,'Data Input'!AE311,'Data Input'!AF311,'Data Input'!AG311,'Data Input'!AI311,'Data Input'!AK311))","v":""},{"$f":"IF(I306=\"\",\"\",I306/COUNTIF('Data Input'!$C$8:$AK$8,\"C\"))","v":""},{"$f":"IF(ISBLANK('Data Input'!A311),\"\",SUM('Data Input'!T311,'Data Input'!U311))","v":""},{"$f":"IF(K306=\"\",\"\",K306/COUNTIF('Data Input'!$C$8:$AK$8,\"S\"))","v":""},{"$f":"IF(ISBLANK('Data Input'!A311),\"\",SUM('Data Input'!F311,'Data Input'!R311,'Data Input'!AJ311))","v":""},{"$f":"IF(M306=\"\",\"\",M306/COUNTIF('Data Input'!$C$8:$AK$8,\"F\"))","v":""},{"$f":"IF(ISBLANK('Data Input'!A311),\"\",SUM('Data Input'!E311,'Data Input'!M311,'Data Input'!Q311,'Data Input'!V311,'Data Input'!W311,'Data Input'!AD311,'Data Input'!AH311))","v":""},{"$f":"IF(O306=\"\",\"\",O306/COUNTIF('Data Input'!$C$8:$AK$8,\"M\"))","v":""},{"$f":"IF(ISBLANK('Data Input'!A311),\"\",SUM('Data Input'!H311,'Data Input'!K311,'Data Input'!P311,'Data Input'!Y311))","v":""},{"$f":"IF(Q306=\"\",\"\",Q306/COUNTIF('Data Input'!$C$8:$AK$8,\"G\"))","v":""}]
[{"$f":"IF('Data Input'!A312=0,\"\",'Data Input'!A312)","v":""},{"$f":"IF(ISBLANK('Data Input'!A312),\"\",COUNTIF('Data Input'!C312:AK312,\"\"))","v":""},{"$f":"IF(ISBLANK('Data Input'!A312),\"\",COUNTIF('Data Input'!C312:AK312,\"0\"))","v":""},{"$f":"IF(ISBLANK('Data Input'!A312),\"\",SUM(B307,C307))","v":""},{"$f":"IF(ISBLANK('Data Input'!A312),\"\",SUM('Data Input'!C312:AK312))","v":""},{"$f":"IF(E307=\"\",\"\",E307/(COUNTA('Data Input'!$C$8:$AK$8)))","v":""},{"$f":"IF(ISBLANK('Data Input'!A312),\"\",SUM('Data Input'!C312,'Data Input'!D312,'Data Input'!J312,'Data Input'!X312))","v":""},{"$f":"IF(G307=\"\",\"\",G307/COUNTIF('Data Input'!$C$8:$AK$8,\"N\"))","v":""},{"$f":"IF(ISBLANK('Data Input'!A312),\"\",SUM('Data Input'!G312,'Data Input'!I312,'Data Input'!L312,'Data Input'!N312,'Data Input'!O312,'Data Input'!S312,'Data Input'!Z312,'Data Input'!AA312,'Data Input'!AB312,'Data Input'!AC312,'Data Input'!AE312,'Data Input'!AF312,'Data Input'!AG312,'Data Input'!AI312,'Data Input'!AK312))","v":""},{"$f":"IF(I307=\"\",\"\",I307/COUNTIF('Data Input'!$C$8:$AK$8,\"C\"))","v":""},{"$f":"IF(ISBLANK('Data Input'!A312),\"\",SUM('Data Input'!T312,'Data Input'!U312))","v":""},{"$f":"IF(K307=\"\",\"\",K307/COUNTIF('Data Input'!$C$8:$AK$8,\"S\"))","v":""},{"$f":"IF(ISBLANK('Data Input'!A312),\"\",SUM('Data Input'!F312,'Data Input'!R312,'Data Input'!AJ312))","v":""},{"$f":"IF(M307=\"\",\"\",M307/COUNTIF('Data Input'!$C$8:$AK$8,\"F\"))","v":""},{"$f":"IF(ISBLANK('Data Input'!A312),\"\",SUM('Data Input'!E312,'Data Input'!M312,'Data Input'!Q312,'Data Input'!V312,'Data Input'!W312,'Data Input'!AD312,'Data Input'!AH312))","v":""},{"$f":"IF(O307=\"\",\"\",O307/COUNTIF('Data Input'!$C$8:$AK$8,\"M\"))","v":""},{"$f":"IF(ISBLANK('Data Input'!A312),\"\",SUM('Data Input'!H312,'Data Input'!K312,'Data Input'!P312,'Data Input'!Y312))","v":""},{"$f":"IF(Q307=\"\",\"\",Q307/COUNTIF('Data Input'!$C$8:$AK$8,\"G\"))","v":""}]
[{"$f":"IF('Data Input'!A313=0,\"\",'Data Input'!A313)","v":""},{"$f":"IF(ISBLANK('Data Input'!A313),\"\",COUNTIF('Data Input'!C313:AK313,\"\"))","v":""},{"$f":"IF(ISBLANK('Data Input'!A313),\"\",COUNTIF('Data Input'!C313:AK313,\"0\"))","v":""},{"$f":"IF(ISBLANK('Data Input'!A313),\"\",SUM(B308,C308))","v":""},{"$f":"IF(ISBLANK('Data Input'!A313),\"\",SUM('Data Input'!C313:AK313))","v":""},{"$f":"IF(E308=\"\",\"\",E308/(COUNTA('Data Input'!$C$8:$AK$8)))","v":""},{"$f":"IF(ISBLANK('Data Input'!A313),\"\",SUM('Data Input'!C313,'Data Input'!D313,'Data Input'!J313,'Data Input'!X313))","v":""},{"$f":"IF(G308=\"\",\"\",G308/COUNTIF('Data Input'!$C$8:$AK$8,\"N\"))","v":""},{"$f":"IF(ISBLANK('Data Input'!A313),\"\",SUM('Data Input'!G313,'Data Input'!I313,'Data Input'!L313,'Data Input'!N313,'Data Input'!O313,'Data Input'!S313,'Data Input'!Z313,'Data Input'!AA313,'Data Input'!AB313,'Data Input'!AC313,'Data Input'!AE313,'Data Input'!AF313,'Data Input'!AG313,'Data Input'!AI313,'Data Input'!AK313))","v":""},{"$f":"IF(I308=\"\",\"\",I308/COUNTIF('Data Input'!$C$8:$AK$8,\"C\"))","v":""},{"$f":"IF(ISBLANK('Data Input'!A313),\"\",SUM('Data Input'!T313,'Data Input'!U313))","v":""},{"$f":"IF(K308=\"\",\"\",K308/COUNTIF('Data Input'!$C$8:$AK$8,\"S\"))","v":""},{"$f":"IF(ISBLANK('Data Input'!A313),\"\",SUM('Data Input'!F313,'Data Input'!R313,'Data Input'!AJ313))","v":""},{"$f":"IF(M308=\"\",\"\",M308/COUNTIF('Data Input'!$C$8:$AK$8,\"F\"))","v":""},{"$f":"IF(ISBLANK('Data Input'!A313),\"\",SUM('Data Input'!E313,'Data Input'!M313,'Data Input'!Q313,'Data Input'!V313,'Data Input'!W313,'Data Input'!AD313,'Data Input'!AH313))","v":""},{"$f":"IF(O308=\"\",\"\",O308/COUNTIF('Data Input'!$C$8:$AK$8,\"M\"))","v":""},{"$f":"IF(ISBLANK('Data Input'!A313),\"\",SUM('Data Input'!H313,'Data Input'!K313,'Data Input'!P313,'Data Input'!Y313))","v":""},{"$f":"IF(Q308=\"\",\"\",Q308/COUNTIF('Data Input'!$C$8:$AK$8,\"G\"))","v":""}]
[{"$f":"IF('Data Input'!A314=0,\"\",'Data Input'!A314)","v":""},{"$f":"IF(ISBLANK('Data Input'!A314),\"\",COUNTIF('Data Input'!C314:AK314,\"\"))","v":""},{"$f":"IF(ISBLANK('Data Input'!A314),\"\",COUNTIF('Data Input'!C314:AK314,\"0\"))","v":""},{"$f":"IF(ISBLANK('Data Input'!A314),\"\",SUM(B309,C309))","v":""},{"$f":"IF(ISBLANK('Data Input'!A314),\"\",SUM('Data Input'!C314:AK314))","v":""},{"$f":"IF(E309=\"\",\"\",E309/(COUNTA('Data Input'!$C$8:$AK$8)))","v":""},{"$f":"IF(ISBLANK('Data Input'!A314),\"\",SUM('Data Input'!C314,'Data Input'!D314,'Data Input'!J314,'Data Input'!X314))","v":""},{"$f":"IF(G309=\"\",\"\",G309/COUNTIF('Data Input'!$C$8:$AK$8,\"N\"))","v":""},{"$f":"IF(ISBLANK('Data Input'!A314),\"\",SUM('Data Input'!G314,'Data Input'!I314,'Data Input'!L314,'Data Input'!N314,'Data Input'!O314,'Data Input'!S314,'Data Input'!Z314,'Data Input'!AA314,'Data Input'!AB314,'Data Input'!AC314,'Data Input'!AE314,'Data Input'!AF314,'Data Input'!AG314,'Data Input'!AI314,'Data Input'!AK314))","v":""},{"$f":"IF(I309=\"\",\"\",I309/COUNTIF('Data Input'!$C$8:$AK$8,\"C\"))","v":""},{"$f":"IF(ISBLANK('Data Input'!A314),\"\",SUM('Data Input'!T314,'Data Input'!U314))","v":""},{"$f":"IF(K309=\"\",\"\",K309/COUNTIF('Data Input'!$C$8:$AK$8,\"S\"))","v":""},{"$f":"IF(ISBLANK('Data Input'!A314),\"\",SUM('Data Input'!F314,'Data Input'!R314,'Data Input'!AJ314))","v":""},{"$f":"IF(M309=\"\",\"\",M309/COUNTIF('Data Input'!$C$8:$AK$8,\"F\"))","v":""},{"$f":"IF(ISBLANK('Data Input'!A314),\"\",SUM('Data Input'!E314,'Data Input'!M314,'Data Input'!Q314,'Data Input'!V314,'Data Input'!W314,'Data Input'!AD314,'Data Input'!AH314))","v":""},{"$f":"IF(O309=\"\",\"\",O309/COUNTIF('Data Input'!$C$8:$AK$8,\"M\"))","v":""},{"$f":"IF(ISBLANK('Data Input'!A314),\"\",SUM('Data Input'!H314,'Data Input'!K314,'Data Input'!P314,'Data Input'!Y314))","v":""},{"$f":"IF(Q309=\"\",\"\",Q309/COUNTIF('Data Input'!$C$8:$AK$8,\"G\"))","v":""}]
[{"$f":"IF('Data Input'!A315=0,\"\",'Data Input'!A315)","v":""},{"$f":"IF(ISBLANK('Data Input'!A315),\"\",COUNTIF('Data Input'!C315:AK315,\"\"))","v":""},{"$f":"IF(ISBLANK('Data Input'!A315),\"\",COUNTIF('Data Input'!C315:AK315,\"0\"))","v":""},{"$f":"IF(ISBLANK('Data Input'!A315),\"\",SUM(B310,C310))","v":""},{"$f":"IF(ISBLANK('Data Input'!A315),\"\",SUM('Data Input'!C315:AK315))","v":""},{"$f":"IF(E310=\"\",\"\",E310/(COUNTA('Data Input'!$C$8:$AK$8)))","v":""},{"$f":"IF(ISBLANK('Data Input'!A315),\"\",SUM('Data Input'!C315,'Data Input'!D315,'Data Input'!J315,'Data Input'!X315))","v":""},{"$f":"IF(G310=\"\",\"\",G310/COUNTIF('Data Input'!$C$8:$AK$8,\"N\"))","v":""},{"$f":"IF(ISBLANK('Data Input'!A315),\"\",SUM('Data Input'!G315,'Data Input'!I315,'Data Input'!L315,'Data Input'!N315,'Data Input'!O315,'Data Input'!S315,'Data Input'!Z315,'Data Input'!AA315,'Data Input'!AB315,'Data Input'!AC315,'Data Input'!AE315,'Data Input'!AF315,'Data Input'!AG315,'Data Input'!AI315,'Data Input'!AK315))","v":""},{"$f":"IF(I310=\"\",\"\",I310/COUNTIF('Data Input'!$C$8:$AK$8,\"C\"))","v":""},{"$f":"IF(ISBLANK('Data Input'!A315),\"\",SUM('Data Input'!T315,'Data Input'!U315))","v":""},{"$f":"IF(K310=\"\",\"\",K310/COUNTIF('Data Input'!$C$8:$AK$8,\"S\"))","v":""},{"$f":"IF(ISBLANK('Data Input'!A315),\"\",SUM('Data Input'!F315,'Data Input'!R315,'Data Input'!AJ315))","v":""},{"$f":"IF(M310=\"\",\"\",M310/COUNTIF('Data Input'!$C$8:$AK$8,\"F\"))","v":""},{"$f":"IF(ISBLANK('Data Input'!A315),\"\",SUM('Data Input'!E315,'Data Input'!M315,'Data Input'!Q315,'Data Input'!V315,'Data Input'!W315,'Data Input'!AD315,'Data Input'!AH315))","v":""},{"$f":"IF(O310=\"\",\"\",O310/COUNTIF('Data Input'!$C$8:$AK$8,\"M\"))","v":""},{"$f":"IF(ISBLANK('Data Input'!A315),\"\",SUM('Data Input'!H315,'Data Input'!K315,'Data Input'!P315,'Data Input'!Y315))","v":""},{"$f":"IF(Q310=\"\",\"\",Q310/COUNTIF('Data Input'!$C$8:$AK$8,\"G\"))","v":""}]
[{"$f":"IF('Data Input'!A316=0,\"\",'Data Input'!A316)","v":""},{"$f":"IF(ISBLANK('Data Input'!A316),\"\",COUNTIF('Data Input'!C316:AK316,\"\"))","v":""},{"$f":"IF(ISBLANK('Data Input'!A316),\"\",COUNTIF('Data Input'!C316:AK316,\"0\"))","v":""},{"$f":"IF(ISBLANK('Data Input'!A316),\"\",SUM(B311,C311))","v":""},{"$f":"IF(ISBLANK('Data Input'!A316),\"\",SUM('Data Input'!C316:AK316))","v":""},{"$f":"IF(E311=\"\",\"\",E311/(COUNTA('Data Input'!$C$8:$AK$8)))","v":""},{"$f":"IF(ISBLANK('Data Input'!A316),\"\",SUM('Data Input'!C316,'Data Input'!D316,'Data Input'!J316,'Data Input'!X316))","v":""},{"$f":"IF(G311=\"\",\"\",G311/COUNTIF('Data Input'!$C$8:$AK$8,\"N\"))","v":""},{"$f":"IF(ISBLANK('Data Input'!A316),\"\",SUM('Data Input'!G316,'Data Input'!I316,'Data Input'!L316,'Data Input'!N316,'Data Input'!O316,'Data Input'!S316,'Data Input'!Z316,'Data Input'!AA316,'Data Input'!AB316,'Data Input'!AC316,'Data Input'!AE316,'Data Input'!AF316,'Data Input'!AG316,'Data Input'!AI316,'Data Input'!AK316))","v":""},{"$f":"IF(I311=\"\",\"\",I311/COUNTIF('Data Input'!$C$8:$AK$8,\"C\"))","v":""},{"$f":"IF(ISBLANK('Data Input'!A316),\"\",SUM('Data Input'!T316,'Data Input'!U316))","v":""},{"$f":"IF(K311=\"\",\"\",K311/COUNTIF('Data Input'!$C$8:$AK$8,\"S\"))","v":""},{"$f":"IF(ISBLANK('Data Input'!A316),\"\",SUM('Data Input'!F316,'Data Input'!R316,'Data Input'!AJ316))","v":""},{"$f":"IF(M311=\"\",\"\",M311/COUNTIF('Data Input'!$C$8:$AK$8,\"F\"))","v":""},{"$f":"IF(ISBLANK('Data Input'!A316),\"\",SUM('Data Input'!E316,'Data Input'!M316,'Data Input'!Q316,'Data Input'!V316,'Data Input'!W316,'Data Input'!AD316,'Data Input'!AH316))","v":""},{"$f":"IF(O311=\"\",\"\",O311/COUNTIF('Data Input'!$C$8:$AK$8,\"M\"))","v":""},{"$f":"IF(ISBLANK('Data Input'!A316),\"\",SUM('Data Input'!H316,'Data Input'!K316,'Data Input'!P316,'Data Input'!Y316))","v":""},{"$f":"IF(Q311=\"\",\"\",Q311/COUNTIF('Data Input'!$C$8:$AK$8,\"G\"))","v":""}]
[{"$f":"IF('Data Input'!A317=0,\"\",'Data Input'!A317)","v":""},{"$f":"IF(ISBLANK('Data Input'!A317),\"\",COUNTIF('Data Input'!C317:AK317,\"\"))","v":""},{"$f":"IF(ISBLANK('Data Input'!A317),\"\",COUNTIF('Data Input'!C317:AK317,\"0\"))","v":""},{"$f":"IF(ISBLANK('Data Input'!A317),\"\",SUM(B312,C312))","v":""},{"$f":"IF(ISBLANK('Data Input'!A317),\"\",SUM('Data Input'!C317:AK317))","v":""},{"$f":"IF(E312=\"\",\"\",E312/(COUNTA('Data Input'!$C$8:$AK$8)))","v":""},{"$f":"IF(ISBLANK('Data Input'!A317),\"\",SUM('Data Input'!C317,'Data Input'!D317,'Data Input'!J317,'Data Input'!X317))","v":""},{"$f":"IF(G312=\"\",\"\",G312/COUNTIF('Data Input'!$C$8:$AK$8,\"N\"))","v":""},{"$f":"IF(ISBLANK('Data Input'!A317),\"\",SUM('Data Input'!G317,'Data Input'!I317,'Data Input'!L317,'Data Input'!N317,'Data Input'!O317,'Data Input'!S317,'Data Input'!Z317,'Data Input'!AA317,'Data Input'!AB317,'Data Input'!AC317,'Data Input'!AE317,'Data Input'!AF317,'Data Input'!AG317,'Data Input'!AI317,'Data Input'!AK317))","v":""},{"$f":"IF(I312=\"\",\"\",I312/COUNTIF('Data Input'!$C$8:$AK$8,\"C\"))","v":""},{"$f":"IF(ISBLANK('Data Input'!A317),\"\",SUM('Data Input'!T317,'Data Input'!U317))","v":""},{"$f":"IF(K312=\"\",\"\",K312/COUNTIF('Data Input'!$C$8:$AK$8,\"S\"))","v":""},{"$f":"IF(ISBLANK('Data Input'!A317),\"\",SUM('Data Input'!F317,'Data Input'!R317,'Data Input'!AJ317))","v":""},{"$f":"IF(M312=\"\",\"\",M312/COUNTIF('Data Input'!$C$8:$AK$8,\"F\"))","v":""},{"$f":"IF(ISBLANK('Data Input'!A317),\"\",SUM('Data Input'!E317,'Data Input'!M317,'Data Input'!Q317,'Data Input'!V317,'Data Input'!W317,'Data Input'!AD317,'Data Input'!AH317))","v":""},{"$f":"IF(O312=\"\",\"\",O312/COUNTIF('Data Input'!$C$8:$AK$8,\"M\"))","v":""},{"$f":"IF(ISBLANK('Data Input'!A317),\"\",SUM('Data Input'!H317,'Data Input'!K317,'Data Input'!P317,'Data Input'!Y317))","v":""},{"$f":"IF(Q312=\"\",\"\",Q312/COUNTIF('Data Input'!$C$8:$AK$8,\"G\"))","v":""}]
[{"$f":"IF('Data Input'!A318=0,\"\",'Data Input'!A318)","v":""},{"$f":"IF(ISBLANK('Data Input'!A318),\"\",COUNTIF('Data Input'!C318:AK318,\"\"))","v":""},{"$f":"IF(ISBLANK('Data Input'!A318),\"\",COUNTIF('Data Input'!C318:AK318,\"0\"))","v":""},{"$f":"IF(ISBLANK('Data Input'!A318),\"\",SUM(B313,C313))","v":""},{"$f":"IF(ISBLANK('Data Input'!A318),\"\",SUM('Data Input'!C318:AK318))","v":""},{"$f":"IF(E313=\"\",\"\",E313/(COUNTA('Data Input'!$C$8:$AK$8)))","v":""},{"$f":"IF(ISBLANK('Data Input'!A318),\"\",SUM('Data Input'!C318,'Data Input'!D318,'Data Input'!J318,'Data Input'!X318))","v":""},{"$f":"IF(G313=\"\",\"\",G313/COUNTIF('Data Input'!$C$8:$AK$8,\"N\"))","v":""},{"$f":"IF(ISBLANK('Data Input'!A318),\"\",SUM('Data Input'!G318,'Data Input'!I318,'Data Input'!L318,'Data Input'!N318,'Data Input'!O318,'Data Input'!S318,'Data Input'!Z318,'Data Input'!AA318,'Data Input'!AB318,'Data Input'!AC318,'Data Input'!AE318,'Data Input'!AF318,'Data Input'!AG318,'Data Input'!AI318,'Data Input'!AK318))","v":""},{"$f":"IF(I313=\"\",\"\",I313/COUNTIF('Data Input'!$C$8:$AK$8,\"C\"))","v":""},{"$f":"IF(ISBLANK('Data Input'!A318),\"\",SUM('Data Input'!T318,'Data Input'!U318))","v":""},{"$f":"IF(K313=\"\",\"\",K313/COUNTIF('Data Input'!$C$8:$AK$8,\"S\"))","v":""},{"$f":"IF(ISBLANK('Data Input'!A318),\"\",SUM('Data Input'!F318,'Data Input'!R318,'Data Input'!AJ318))","v":""},{"$f":"IF(M313=\"\",\"\",M313/COUNTIF('Data Input'!$C$8:$AK$8,\"F\"))","v":""},{"$f":"IF(ISBLANK('Data Input'!A318),\"\",SUM('Data Input'!E318,'Data Input'!M318,'Data Input'!Q318,'Data Input'!V318,'Data Input'!W318,'Data Input'!AD318,'Data Input'!AH318))","v":""},{"$f":"IF(O313=\"\",\"\",O313/COUNTIF('Data Input'!$C$8:$AK$8,\"M\"))","v":""},{"$f":"IF(ISBLANK('Data Input'!A318),\"\",SUM('Data Input'!H318,'Data Input'!K318,'Data Input'!P318,'Data Input'!Y318))","v":""},{"$f":"IF(Q313=\"\",\"\",Q313/COUNTIF('Data Input'!$C$8:$AK$8,\"G\"))","v":""}]
[{"$f":"IF('Data Input'!A319=0,\"\",'Data Input'!A319)","v":""},{"$f":"IF(ISBLANK('Data Input'!A319),\"\",COUNTIF('Data Input'!C319:AK319,\"\"))","v":""},{"$f":"IF(ISBLANK('Data Input'!A319),\"\",COUNTIF('Data Input'!C319:AK319,\"0\"))","v":""},{"$f":"IF(ISBLANK('Data Input'!A319),\"\",SUM(B314,C314))","v":""},{"$f":"IF(ISBLANK('Data Input'!A319),\"\",SUM('Data Input'!C319:AK319))","v":""},{"$f":"IF(E314=\"\",\"\",E314/(COUNTA('Data Input'!$C$8:$AK$8)))","v":""},{"$f":"IF(ISBLANK('Data Input'!A319),\"\",SUM('Data Input'!C319,'Data Input'!D319,'Data Input'!J319,'Data Input'!X319))","v":""},{"$f":"IF(G314=\"\",\"\",G314/COUNTIF('Data Input'!$C$8:$AK$8,\"N\"))","v":""},{"$f":"IF(ISBLANK('Data Input'!A319),\"\",SUM('Data Input'!G319,'Data Input'!I319,'Data Input'!L319,'Data Input'!N319,'Data Input'!O319,'Data Input'!S319,'Data Input'!Z319,'Data Input'!AA319,'Data Input'!AB319,'Data Input'!AC319,'Data Input'!AE319,'Data Input'!AF319,'Data Input'!AG319,'Data Input'!AI319,'Data Input'!AK319))","v":""},{"$f":"IF(I314=\"\",\"\",I314/COUNTIF('Data Input'!$C$8:$AK$8,\"C\"))","v":""},{"$f":"IF(ISBLANK('Data Input'!A319),\"\",SUM('Data Input'!T319,'Data Input'!U319))","v":""},{"$f":"IF(K314=\"\",\"\",K314/COUNTIF('Data Input'!$C$8:$AK$8,\"S\"))","v":""},{"$f":"IF(ISBLANK('Data Input'!A319),\"\",SUM('Data Input'!F319,'Data Input'!R319,'Data Input'!AJ319))","v":""},{"$f":"IF(M314=\"\",\"\",M314/COUNTIF('Data Input'!$C$8:$AK$8,\"F\"))","v":""},{"$f":"IF(ISBLANK('Data Input'!A319),\"\",SUM('Data Input'!E319,'Data Input'!M319,'Data Input'!Q319,'Data Input'!V319,'Data Input'!W319,'Data Input'!AD319,'Data Input'!AH319))","v":""},{"$f":"IF(O314=\"\",\"\",O314/COUNTIF('Data Input'!$C$8:$AK$8,\"M\"))","v":""},{"$f":"IF(ISBLANK('Data Input'!A319),\"\",SUM('Data Input'!H319,'Data Input'!K319,'Data Input'!P319,'Data Input'!Y319))","v":""},{"$f":"IF(Q314=\"\",\"\",Q314/COUNTIF('Data Input'!$C$8:$AK$8,\"G\"))","v":""}]
[{"$f":"IF('Data Input'!A320=0,\"\",'Data Input'!A320)","v":""},{"$f":"IF(ISBLANK('Data Input'!A320),\"\",COUNTIF('Data Input'!C320:AK320,\"\"))","v":""},{"$f":"IF(ISBLANK('Data Input'!A320),\"\",COUNTIF('Data Input'!C320:AK320,\"0\"))","v":""},{"$f":"IF(ISBLANK('Data Input'!A320),\"\",SUM(B315,C315))","v":""},{"$f":"IF(ISBLANK('Data Input'!A320),\"\",SUM('Data Input'!C320:AK320))","v":""},{"$f":"IF(E315=\"\",\"\",E315/(COUNTA('Data Input'!$C$8:$AK$8)))","v":""},{"$f":"IF(ISBLANK('Data Input'!A320),\"\",SUM('Data Input'!C320,'Data Input'!D320,'Data Input'!J320,'Data Input'!X320))","v":""},{"$f":"IF(G315=\"\",\"\",G315/COUNTIF('Data Input'!$C$8:$AK$8,\"N\"))","v":""},{"$f":"IF(ISBLANK('Data Input'!A320),\"\",SUM('Data Input'!G320,'Data Input'!I320,'Data Input'!L320,'Data Input'!N320,'Data Input'!O320,'Data Input'!S320,'Data Input'!Z320,'Data Input'!AA320,'Data Input'!AB320,'Data Input'!AC320,'Data Input'!AE320,'Data Input'!AF320,'Data Input'!AG320,'Data Input'!AI320,'Data Input'!AK320))","v":""},{"$f":"IF(I315=\"\",\"\",I315/COUNTIF('Data Input'!$C$8:$AK$8,\"C\"))","v":""},{"$f":"IF(ISBLANK('Data Input'!A320),\"\",SUM('Data Input'!T320,'Data Input'!U320))","v":""},{"$f":"IF(K315=\"\",\"\",K315/COUNTIF('Data Input'!$C$8:$AK$8,\"S\"))","v":""},{"$f":"IF(ISBLANK('Data Input'!A320),\"\",SUM('Data Input'!F320,'Data Input'!R320,'Data Input'!AJ320))","v":""},{"$f":"IF(M315=\"\",\"\",M315/COUNTIF('Data Input'!$C$8:$AK$8,\"F\"))","v":""},{"$f":"IF(ISBLANK('Data Input'!A320),\"\",SUM('Data Input'!E320,'Data Input'!M320,'Data Input'!Q320,'Data Input'!V320,'Data Input'!W320,'Data Input'!AD320,'Data Input'!AH320))","v":""},{"$f":"IF(O315=\"\",\"\",O315/COUNTIF('Data Input'!$C$8:$AK$8,\"M\"))","v":""},{"$f":"IF(ISBLANK('Data Input'!A320),\"\",SUM('Data Input'!H320,'Data Input'!K320,'Data Input'!P320,'Data Input'!Y320))","v":""},{"$f":"IF(Q315=\"\",\"\",Q315/COUNTIF('Data Input'!$C$8:$AK$8,\"G\"))","v":""}]
[{"$f":"IF('Data Input'!A321=0,\"\",'Data Input'!A321)","v":""},{"$f":"IF(ISBLANK('Data Input'!A321),\"\",COUNTIF('Data Input'!C321:AK321,\"\"))","v":""},{"$f":"IF(ISBLANK('Data Input'!A321),\"\",COUNTIF('Data Input'!C321:AK321,\"0\"))","v":""},{"$f":"IF(ISBLANK('Data Input'!A321),\"\",SUM(B316,C316))","v":""},{"$f":"IF(ISBLANK('Data Input'!A321),\"\",SUM('Data Input'!C321:AK321))","v":""},{"$f":"IF(E316=\"\",\"\",E316/(COUNTA('Data Input'!$C$8:$AK$8)))","v":""},{"$f":"IF(ISBLANK('Data Input'!A321),\"\",SUM('Data Input'!C321,'Data Input'!D321,'Data Input'!J321,'Data Input'!X321))","v":""},{"$f":"IF(G316=\"\",\"\",G316/COUNTIF('Data Input'!$C$8:$AK$8,\"N\"))","v":""},{"$f":"IF(ISBLANK('Data Input'!A321),\"\",SUM('Data Input'!G321,'Data Input'!I321,'Data Input'!L321,'Data Input'!N321,'Data Input'!O321,'Data Input'!S321,'Data Input'!Z321,'Data Input'!AA321,'Data Input'!AB321,'Data Input'!AC321,'Data Input'!AE321,'Data Input'!AF321,'Data Input'!AG321,'Data Input'!AI321,'Data Input'!AK321))","v":""},{"$f":"IF(I316=\"\",\"\",I316/COUNTIF('Data Input'!$C$8:$AK$8,\"C\"))","v":""},{"$f":"IF(ISBLANK('Data Input'!A321),\"\",SUM('Data Input'!T321,'Data Input'!U321))","v":""},{"$f":"IF(K316=\"\",\"\",K316/COUNTIF('Data Input'!$C$8:$AK$8,\"S\"))","v":""},{"$f":"IF(ISBLANK('Data Input'!A321),\"\",SUM('Data Input'!F321,'Data Input'!R321,'Data Input'!AJ321))","v":""},{"$f":"IF(M316=\"\",\"\",M316/COUNTIF('Data Input'!$C$8:$AK$8,\"F\"))","v":""},{"$f":"IF(ISBLANK('Data Input'!A321),\"\",SUM('Data Input'!E321,'Data Input'!M321,'Data Input'!Q321,'Data Input'!V321,'Data Input'!W321,'Data Input'!AD321,'Data Input'!AH321))","v":""},{"$f":"IF(O316=\"\",\"\",O316/COUNTIF('Data Input'!$C$8:$AK$8,\"M\"))","v":""},{"$f":"IF(ISBLANK('Data Input'!A321),\"\",SUM('Data Input'!H321,'Data Input'!K321,'Data Input'!P321,'Data Input'!Y321))","v":""},{"$f":"IF(Q316=\"\",\"\",Q316/COUNTIF('Data Input'!$C$8:$AK$8,\"G\"))","v":""}]
[{"$f":"IF('Data Input'!A322=0,\"\",'Data Input'!A322)","v":""},{"$f":"IF(ISBLANK('Data Input'!A322),\"\",COUNTIF('Data Input'!C322:AK322,\"\"))","v":""},{"$f":"IF(ISBLANK('Data Input'!A322),\"\",COUNTIF('Data Input'!C322:AK322,\"0\"))","v":""},{"$f":"IF(ISBLANK('Data Input'!A322),\"\",SUM(B317,C317))","v":""},{"$f":"IF(ISBLANK('Data Input'!A322),\"\",SUM('Data Input'!C322:AK322))","v":""},{"$f":"IF(E317=\"\",\"\",E317/(COUNTA('Data Input'!$C$8:$AK$8)))","v":""},{"$f":"IF(ISBLANK('Data Input'!A322),\"\",SUM('Data Input'!C322,'Data Input'!D322,'Data Input'!J322,'Data Input'!X322))","v":""},{"$f":"IF(G317=\"\",\"\",G317/COUNTIF('Data Input'!$C$8:$AK$8,\"N\"))","v":""},{"$f":"IF(ISBLANK('Data Input'!A322),\"\",SUM('Data Input'!G322,'Data Input'!I322,'Data Input'!L322,'Data Input'!N322,'Data Input'!O322,'Data Input'!S322,'Data Input'!Z322,'Data Input'!AA322,'Data Input'!AB322,'Data Input'!AC322,'Data Input'!AE322,'Data Input'!AF322,'Data Input'!AG322,'Data Input'!AI322,'Data Input'!AK322))","v":""},{"$f":"IF(I317=\"\",\"\",I317/COUNTIF('Data Input'!$C$8:$AK$8,\"C\"))","v":""},{"$f":"IF(ISBLANK('Data Input'!A322),\"\",SUM('Data Input'!T322,'Data Input'!U322))","v":""},{"$f":"IF(K317=\"\",\"\",K317/COUNTIF('Data Input'!$C$8:$AK$8,\"S\"))","v":""},{"$f":"IF(ISBLANK('Data Input'!A322),\"\",SUM('Data Input'!F322,'Data Input'!R322,'Data Input'!AJ322))","v":""},{"$f":"IF(M317=\"\",\"\",M317/COUNTIF('Data Input'!$C$8:$AK$8,\"F\"))","v":""},{"$f":"IF(ISBLANK('Data Input'!A322),\"\",SUM('Data Input'!E322,'Data Input'!M322,'Data Input'!Q322,'Data Input'!V322,'Data Input'!W322,'Data Input'!AD322,'Data Input'!AH322))","v":""},{"$f":"IF(O317=\"\",\"\",O317/COUNTIF('Data Input'!$C$8:$AK$8,\"M\"))","v":""},{"$f":"IF(ISBLANK('Data Input'!A322),\"\",SUM('Data Input'!H322,'Data Input'!K322,'Data Input'!P322,'Data Input'!Y322))","v":""},{"$f":"IF(Q317=\"\",\"\",Q317/COUNTIF('Data Input'!$C$8:$AK$8,\"G\"))","v":""}]
[{"$f":"IF('Data Input'!A323=0,\"\",'Data Input'!A323)","v":""},{"$f":"IF(ISBLANK('Data Input'!A323),\"\",COUNTIF('Data Input'!C323:AK323,\"\"))","v":""},{"$f":"IF(ISBLANK('Data Input'!A323),\"\",COUNTIF('Data Input'!C323:AK323,\"0\"))","v":""},{"$f":"IF(ISBLANK('Data Input'!A323),\"\",SUM(B318,C318))","v":""},{"$f":"IF(ISBLANK('Data Input'!A323),\"\",SUM('Data Input'!C323:AK323))","v":""},{"$f":"IF(E318=\"\",\"\",E318/(COUNTA('Data Input'!$C$8:$AK$8)))","v":""},{"$f":"IF(ISBLANK('Data Input'!A323),\"\",SUM('Data Input'!C323,'Data Input'!D323,'Data Input'!J323,'Data Input'!X323))","v":""},{"$f":"IF(G318=\"\",\"\",G318/COUNTIF('Data Input'!$C$8:$AK$8,\"N\"))","v":""},{"$f":"IF(ISBLANK('Data Input'!A323),\"\",SUM('Data Input'!G323,'Data Input'!I323,'Data Input'!L323,'Data Input'!N323,'Data Input'!O323,'Data Input'!S323,'Data Input'!Z323,'Data Input'!AA323,'Data Input'!AB323,'Data Input'!AC323,'Data Input'!AE323,'Data Input'!AF323,'Data Input'!AG323,'Data Input'!AI323,'Data Input'!AK323))","v":""},{"$f":"IF(I318=\"\",\"\",I318/COUNTIF('Data Input'!$C$8:$AK$8,\"C\"))","v":""},{"$f":"IF(ISBLANK('Data Input'!A323),\"\",SUM('Data Input'!T323,'Data Input'!U323))","v":""},{"$f":"IF(K318=\"\",\"\",K318/COUNTIF('Data Input'!$C$8:$AK$8,\"S\"))","v":""},{"$f":"IF(ISBLANK('Data Input'!A323),\"\",SUM('Data Input'!F323,'Data Input'!R323,'Data Input'!AJ323))","v":""},{"$f":"IF(M318=\"\",\"\",M318/COUNTIF('Data Input'!$C$8:$AK$8,\"F\"))","v":""},{"$f":"IF(ISBLANK('Data Input'!A323),\"\",SUM('Data Input'!E323,'Data Input'!M323,'Data Input'!Q323,'Data Input'!V323,'Data Input'!W323,'Data Input'!AD323,'Data Input'!AH323))","v":""},{"$f":"IF(O318=\"\",\"\",O318/COUNTIF('Data Input'!$C$8:$AK$8,\"M\"))","v":""},{"$f":"IF(ISBLANK('Data Input'!A323),\"\",SUM('Data Input'!H323,'Data Input'!K323,'Data Input'!P323,'Data Input'!Y323))","v":""},{"$f":"IF(Q318=\"\",\"\",Q318/COUNTIF('Data Input'!$C$8:$AK$8,\"G\"))","v":""}]
[{"$f":"IF('Data Input'!A324=0,\"\",'Data Input'!A324)","v":""},{"$f":"IF(ISBLANK('Data Input'!A324),\"\",COUNTIF('Data Input'!C324:AK324,\"\"))","v":""},{"$f":"IF(ISBLANK('Data Input'!A324),\"\",COUNTIF('Data Input'!C324:AK324,\"0\"))","v":""},{"$f":"IF(ISBLANK('Data Input'!A324),\"\",SUM(B319,C319))","v":""},{"$f":"IF(ISBLANK('Data Input'!A324),\"\",SUM('Data Input'!C324:AK324))","v":""},{"$f":"IF(E319=\"\",\"\",E319/(COUNTA('Data Input'!$C$8:$AK$8)))","v":""},{"$f":"IF(ISBLANK('Data Input'!A324),\"\",SUM('Data Input'!C324,'Data Input'!D324,'Data Input'!J324,'Data Input'!X324))","v":""},{"$f":"IF(G319=\"\",\"\",G319/COUNTIF('Data Input'!$C$8:$AK$8,\"N\"))","v":""},{"$f":"IF(ISBLANK('Data Input'!A324),\"\",SUM('Data Input'!G324,'Data Input'!I324,'Data Input'!L324,'Data Input'!N324,'Data Input'!O324,'Data Input'!S324,'Data Input'!Z324,'Data Input'!AA324,'Data Input'!AB324,'Data Input'!AC324,'Data Input'!AE324,'Data Input'!AF324,'Data Input'!AG324,'Data Input'!AI324,'Data Input'!AK324))","v":""},{"$f":"IF(I319=\"\",\"\",I319/COUNTIF('Data Input'!$C$8:$AK$8,\"C\"))","v":""},{"$f":"IF(ISBLANK('Data Input'!A324),\"\",SUM('Data Input'!T324,'Data Input'!U324))","v":""},{"$f":"IF(K319=\"\",\"\",K319/COUNTIF('Data Input'!$C$8:$AK$8,\"S\"))","v":""},{"$f":"IF(ISBLANK('Data Input'!A324),\"\",SUM('Data Input'!F324,'Data Input'!R324,'Data Input'!AJ324))","v":""},{"$f":"IF(M319=\"\",\"\",M319/COUNTIF('Data Input'!$C$8:$AK$8,\"F\"))","v":""},{"$f":"IF(ISBLANK('Data Input'!A324),\"\",SUM('Data Input'!E324,'Data Input'!M324,'Data Input'!Q324,'Data Input'!V324,'Data Input'!W324,'Data Input'!AD324,'Data Input'!AH324))","v":""},{"$f":"IF(O319=\"\",\"\",O319/COUNTIF('Data Input'!$C$8:$AK$8,\"M\"))","v":""},{"$f":"IF(ISBLANK('Data Input'!A324),\"\",SUM('Data Input'!H324,'Data Input'!K324,'Data Input'!P324,'Data Input'!Y324))","v":""},{"$f":"IF(Q319=\"\",\"\",Q319/COUNTIF('Data Input'!$C$8:$AK$8,\"G\"))","v":""}]
[{"$f":"IF('Data Input'!A325=0,\"\",'Data Input'!A325)","v":""},{"$f":"IF(ISBLANK('Data Input'!A325),\"\",COUNTIF('Data Input'!C325:AK325,\"\"))","v":""},{"$f":"IF(ISBLANK('Data Input'!A325),\"\",COUNTIF('Data Input'!C325:AK325,\"0\"))","v":""},{"$f":"IF(ISBLANK('Data Input'!A325),\"\",SUM(B320,C320))","v":""},{"$f":"IF(ISBLANK('Data Input'!A325),\"\",SUM('Data Input'!C325:AK325))","v":""},{"$f":"IF(E320=\"\",\"\",E320/(COUNTA('Data Input'!$C$8:$AK$8)))","v":""},{"$f":"IF(ISBLANK('Data Input'!A325),\"\",SUM('Data Input'!C325,'Data Input'!D325,'Data Input'!J325,'Data Input'!X325))","v":""},{"$f":"IF(G320=\"\",\"\",G320/COUNTIF('Data Input'!$C$8:$AK$8,\"N\"))","v":""},{"$f":"IF(ISBLANK('Data Input'!A325),\"\",SUM('Data Input'!G325,'Data Input'!I325,'Data Input'!L325,'Data Input'!N325,'Data Input'!O325,'Data Input'!S325,'Data Input'!Z325,'Data Input'!AA325,'Data Input'!AB325,'Data Input'!AC325,'Data Input'!AE325,'Data Input'!AF325,'Data Input'!AG325,'Data Input'!AI325,'Data Input'!AK325))","v":""},{"$f":"IF(I320=\"\",\"\",I320/COUNTIF('Data Input'!$C$8:$AK$8,\"C\"))","v":""},{"$f":"IF(ISBLANK('Data Input'!A325),\"\",SUM('Data Input'!T325,'Data Input'!U325))","v":""},{"$f":"IF(K320=\"\",\"\",K320/COUNTIF('Data Input'!$C$8:$AK$8,\"S\"))","v":""},{"$f":"IF(ISBLANK('Data Input'!A325),\"\",SUM('Data Input'!F325,'Data Input'!R325,'Data Input'!AJ325))","v":""},{"$f":"IF(M320=\"\",\"\",M320/COUNTIF('Data Input'!$C$8:$AK$8,\"F\"))","v":""},{"$f":"IF(ISBLANK('Data Input'!A325),\"\",SUM('Data Input'!E325,'Data Input'!M325,'Data Input'!Q325,'Data Input'!V325,'Data Input'!W325,'Data Input'!AD325,'Data Input'!AH325))","v":""},{"$f":"IF(O320=\"\",\"\",O320/COUNTIF('Data Input'!$C$8:$AK$8,\"M\"))","v":""},{"$f":"IF(ISBLANK('Data Input'!A325),\"\",SUM('Data Input'!H325,'Data Input'!K325,'Data Input'!P325,'Data Input'!Y325))","v":""},{"$f":"IF(Q320=\"\",\"\",Q320/COUNTIF('Data Input'!$C$8:$AK$8,\"G\"))","v":""}]
[{"$f":"IF('Data Input'!A326=0,\"\",'Data Input'!A326)","v":""},{"$f":"IF(ISBLANK('Data Input'!A326),\"\",COUNTIF('Data Input'!C326:AK326,\"\"))","v":""},{"$f":"IF(ISBLANK('Data Input'!A326),\"\",COUNTIF('Data Input'!C326:AK326,\"0\"))","v":""},{"$f":"IF(ISBLANK('Data Input'!A326),\"\",SUM(B321,C321))","v":""},{"$f":"IF(ISBLANK('Data Input'!A326),\"\",SUM('Data Input'!C326:AK326))","v":""},{"$f":"IF(E321=\"\",\"\",E321/(COUNTA('Data Input'!$C$8:$AK$8)))","v":""},{"$f":"IF(ISBLANK('Data Input'!A326),\"\",SUM('Data Input'!C326,'Data Input'!D326,'Data Input'!J326,'Data Input'!X326))","v":""},{"$f":"IF(G321=\"\",\"\",G321/COUNTIF('Data Input'!$C$8:$AK$8,\"N\"))","v":""},{"$f":"IF(ISBLANK('Data Input'!A326),\"\",SUM('Data Input'!G326,'Data Input'!I326,'Data Input'!L326,'Data Input'!N326,'Data Input'!O326,'Data Input'!S326,'Data Input'!Z326,'Data Input'!AA326,'Data Input'!AB326,'Data Input'!AC326,'Data Input'!AE326,'Data Input'!AF326,'Data Input'!AG326,'Data Input'!AI326,'Data Input'!AK326))","v":""},{"$f":"IF(I321=\"\",\"\",I321/COUNTIF('Data Input'!$C$8:$AK$8,\"C\"))","v":""},{"$f":"IF(ISBLANK('Data Input'!A326),\"\",SUM('Data Input'!T326,'Data Input'!U326))","v":""},{"$f":"IF(K321=\"\",\"\",K321/COUNTIF('Data Input'!$C$8:$AK$8,\"S\"))","v":""},{"$f":"IF(ISBLANK('Data Input'!A326),\"\",SUM('Data Input'!F326,'Data Input'!R326,'Data Input'!AJ326))","v":""},{"$f":"IF(M321=\"\",\"\",M321/COUNTIF('Data Input'!$C$8:$AK$8,\"F\"))","v":""},{"$f":"IF(ISBLANK('Data Input'!A326),\"\",SUM('Data Input'!E326,'Data Input'!M326,'Data Input'!Q326,'Data Input'!V326,'Data Input'!W326,'Data Input'!AD326,'Data Input'!AH326))","v":""},{"$f":"IF(O321=\"\",\"\",O321/COUNTIF('Data Input'!$C$8:$AK$8,\"M\"))","v":""},{"$f":"IF(ISBLANK('Data Input'!A326),\"\",SUM('Data Input'!H326,'Data Input'!K326,'Data Input'!P326,'Data Input'!Y326))","v":""},{"$f":"IF(Q321=\"\",\"\",Q321/COUNTIF('Data Input'!$C$8:$AK$8,\"G\"))","v":""}]
[{"$f":"IF('Data Input'!A327=0,\"\",'Data Input'!A327)","v":""},{"$f":"IF(ISBLANK('Data Input'!A327),\"\",COUNTIF('Data Input'!C327:AK327,\"\"))","v":""},{"$f":"IF(ISBLANK('Data Input'!A327),\"\",COUNTIF('Data Input'!C327:AK327,\"0\"))","v":""},{"$f":"IF(ISBLANK('Data Input'!A327),\"\",SUM(B322,C322))","v":""},{"$f":"IF(ISBLANK('Data Input'!A327),\"\",SUM('Data Input'!C327:AK327))","v":""},{"$f":"IF(E322=\"\",\"\",E322/(COUNTA('Data Input'!$C$8:$AK$8)))","v":""},{"$f":"IF(ISBLANK('Data Input'!A327),\"\",SUM('Data Input'!C327,'Data Input'!D327,'Data Input'!J327,'Data Input'!X327))","v":""},{"$f":"IF(G322=\"\",\"\",G322/COUNTIF('Data Input'!$C$8:$AK$8,\"N\"))","v":""},{"$f":"IF(ISBLANK('Data Input'!A327),\"\",SUM('Data Input'!G327,'Data Input'!I327,'Data Input'!L327,'Data Input'!N327,'Data Input'!O327,'Data Input'!S327,'Data Input'!Z327,'Data Input'!AA327,'Data Input'!AB327,'Data Input'!AC327,'Data Input'!AE327,'Data Input'!AF327,'Data Input'!AG327,'Data Input'!AI327,'Data Input'!AK327))","v":""},{"$f":"IF(I322=\"\",\"\",I322/COUNTIF('Data Input'!$C$8:$AK$8,\"C\"))","v":""},{"$f":"IF(ISBLANK('Data Input'!A327),\"\",SUM('Data Input'!T327,'Data Input'!U327))","v":""},{"$f":"IF(K322=\"\",\"\",K322/COUNTIF('Data Input'!$C$8:$AK$8,\"S\"))","v":""},{"$f":"IF(ISBLANK('Data Input'!A327),\"\",SUM('Data Input'!F327,'Data Input'!R327,'Data Input'!AJ327))","v":""},{"$f":"IF(M322=\"\",\"\",M322/COUNTIF('Data Input'!$C$8:$AK$8,\"F\"))","v":""},{"$f":"IF(ISBLANK('Data Input'!A327),\"\",SUM('Data Input'!E327,'Data Input'!M327,'Data Input'!Q327,'Data Input'!V327,'Data Input'!W327,'Data Input'!AD327,'Data Input'!AH327))","v":""},{"$f":"IF(O322=\"\",\"\",O322/COUNTIF('Data Input'!$C$8:$AK$8,\"M\"))","v":""},{"$f":"IF(ISBLANK('Data Input'!A327),\"\",SUM('Data Input'!H327,'Data Input'!K327,'Data Input'!P327,'Data Input'!Y327))","v":""},{"$f":"IF(Q322=\"\",\"\",Q322/COUNTIF('Data Input'!$C$8:$AK$8,\"G\"))","v":""}]
[{"$f":"IF('Data Input'!A328=0,\"\",'Data Input'!A328)","v":""},{"$f":"IF(ISBLANK('Data Input'!A328),\"\",COUNTIF('Data Input'!C328:AK328,\"\"))","v":""},{"$f":"IF(ISBLANK('Data Input'!A328),\"\",COUNTIF('Data Input'!C328:AK328,\"0\"))","v":""},{"$f":"IF(ISBLANK('Data Input'!A328),\"\",SUM(B323,C323))","v":""},{"$f":"IF(ISBLANK('Data Input'!A328),\"\",SUM('Data Input'!C328:AK328))","v":""},{"$f":"IF(E323=\"\",\"\",E323/(COUNTA('Data Input'!$C$8:$AK$8)))","v":""},{"$f":"IF(ISBLANK('Data Input'!A328),\"\",SUM('Data Input'!C328,'Data Input'!D328,'Data Input'!J328,'Data Input'!X328))","v":""},{"$f":"IF(G323=\"\",\"\",G323/COUNTIF('Data Input'!$C$8:$AK$8,\"N\"))","v":""},{"$f":"IF(ISBLANK('Data Input'!A328),\"\",SUM('Data Input'!G328,'Data Input'!I328,'Data Input'!L328,'Data Input'!N328,'Data Input'!O328,'Data Input'!S328,'Data Input'!Z328,'Data Input'!AA328,'Data Input'!AB328,'Data Input'!AC328,'Data Input'!AE328,'Data Input'!AF328,'Data Input'!AG328,'Data Input'!AI328,'Data Input'!AK328))","v":""},{"$f":"IF(I323=\"\",\"\",I323/COUNTIF('Data Input'!$C$8:$AK$8,\"C\"))","v":""},{"$f":"IF(ISBLANK('Data Input'!A328),\"\",SUM('Data Input'!T328,'Data Input'!U328))","v":""},{"$f":"IF(K323=\"\",\"\",K323/COUNTIF('Data Input'!$C$8:$AK$8,\"S\"))","v":""},{"$f":"IF(ISBLANK('Data Input'!A328),\"\",SUM('Data Input'!F328,'Data Input'!R328,'Data Input'!AJ328))","v":""},{"$f":"IF(M323=\"\",\"\",M323/COUNTIF('Data Input'!$C$8:$AK$8,\"F\"))","v":""},{"$f":"IF(ISBLANK('Data Input'!A328),\"\",SUM('Data Input'!E328,'Data Input'!M328,'Data Input'!Q328,'Data Input'!V328,'Data Input'!W328,'Data Input'!AD328,'Data Input'!AH328))","v":""},{"$f":"IF(O323=\"\",\"\",O323/COUNTIF('Data Input'!$C$8:$AK$8,\"M\"))","v":""},{"$f":"IF(ISBLANK('Data Input'!A328),\"\",SUM('Data Input'!H328,'Data Input'!K328,'Data Input'!P328,'Data Input'!Y328))","v":""},{"$f":"IF(Q323=\"\",\"\",Q323/COUNTIF('Data Input'!$C$8:$AK$8,\"G\"))","v":""}]
[{"$f":"IF('Data Input'!A329=0,\"\",'Data Input'!A329)","v":""},{"$f":"IF(ISBLANK('Data Input'!A329),\"\",COUNTIF('Data Input'!C329:AK329,\"\"))","v":""},{"$f":"IF(ISBLANK('Data Input'!A329),\"\",COUNTIF('Data Input'!C329:AK329,\"0\"))","v":""},{"$f":"IF(ISBLANK('Data Input'!A329),\"\",SUM(B324,C324))","v":""},{"$f":"IF(ISBLANK('Data Input'!A329),\"\",SUM('Data Input'!C329:AK329))","v":""},{"$f":"IF(E324=\"\",\"\",E324/(COUNTA('Data Input'!$C$8:$AK$8)))","v":""},{"$f":"IF(ISBLANK('Data Input'!A329),\"\",SUM('Data Input'!C329,'Data Input'!D329,'Data Input'!J329,'Data Input'!X329))","v":""},{"$f":"IF(G324=\"\",\"\",G324/COUNTIF('Data Input'!$C$8:$AK$8,\"N\"))","v":""},{"$f":"IF(ISBLANK('Data Input'!A329),\"\",SUM('Data Input'!G329,'Data Input'!I329,'Data Input'!L329,'Data Input'!N329,'Data Input'!O329,'Data Input'!S329,'Data Input'!Z329,'Data Input'!AA329,'Data Input'!AB329,'Data Input'!AC329,'Data Input'!AE329,'Data Input'!AF329,'Data Input'!AG329,'Data Input'!AI329,'Data Input'!AK329))","v":""},{"$f":"IF(I324=\"\",\"\",I324/COUNTIF('Data Input'!$C$8:$AK$8,\"C\"))","v":""},{"$f":"IF(ISBLANK('Data Input'!A329),\"\",SUM('Data Input'!T329,'Data Input'!U329))","v":""},{"$f":"IF(K324=\"\",\"\",K324/COUNTIF('Data Input'!$C$8:$AK$8,\"S\"))","v":""},{"$f":"IF(ISBLANK('Data Input'!A329),\"\",SUM('Data Input'!F329,'Data Input'!R329,'Data Input'!AJ329))","v":""},{"$f":"IF(M324=\"\",\"\",M324/COUNTIF('Data Input'!$C$8:$AK$8,\"F\"))","v":""},{"$f":"IF(ISBLANK('Data Input'!A329),\"\",SUM('Data Input'!E329,'Data Input'!M329,'Data Input'!Q329,'Data Input'!V329,'Data Input'!W329,'Data Input'!AD329,'Data Input'!AH329))","v":""},{"$f":"IF(O324=\"\",\"\",O324/COUNTIF('Data Input'!$C$8:$AK$8,\"M\"))","v":""},{"$f":"IF(ISBLANK('Data Input'!A329),\"\",SUM('Data Input'!H329,'Data Input'!K329,'Data Input'!P329,'Data Input'!Y329))","v":""},{"$f":"IF(Q324=\"\",\"\",Q324/COUNTIF('Data Input'!$C$8:$AK$8,\"G\"))","v":""}]
[{"$f":"IF('Data Input'!A330=0,\"\",'Data Input'!A330)","v":""},{"$f":"IF(ISBLANK('Data Input'!A330),\"\",COUNTIF('Data Input'!C330:AK330,\"\"))","v":""},{"$f":"IF(ISBLANK('Data Input'!A330),\"\",COUNTIF('Data Input'!C330:AK330,\"0\"))","v":""},{"$f":"IF(ISBLANK('Data Input'!A330),\"\",SUM(B325,C325))","v":""},{"$f":"IF(ISBLANK('Data Input'!A330),\"\",SUM('Data Input'!C330:AK330))","v":""},{"$f":"IF(E325=\"\",\"\",E325/(COUNTA('Data Input'!$C$8:$AK$8)))","v":""},{"$f":"IF(ISBLANK('Data Input'!A330),\"\",SUM('Data Input'!C330,'Data Input'!D330,'Data Input'!J330,'Data Input'!X330))","v":""},{"$f":"IF(G325=\"\",\"\",G325/COUNTIF('Data Input'!$C$8:$AK$8,\"N\"))","v":""},{"$f":"IF(ISBLANK('Data Input'!A330),\"\",SUM('Data Input'!G330,'Data Input'!I330,'Data Input'!L330,'Data Input'!N330,'Data Input'!O330,'Data Input'!S330,'Data Input'!Z330,'Data Input'!AA330,'Data Input'!AB330,'Data Input'!AC330,'Data Input'!AE330,'Data Input'!AF330,'Data Input'!AG330,'Data Input'!AI330,'Data Input'!AK330))","v":""},{"$f":"IF(I325=\"\",\"\",I325/COUNTIF('Data Input'!$C$8:$AK$8,\"C\"))","v":""},{"$f":"IF(ISBLANK('Data Input'!A330),\"\",SUM('Data Input'!T330,'Data Input'!U330))","v":""},{"$f":"IF(K325=\"\",\"\",K325/COUNTIF('Data Input'!$C$8:$AK$8,\"S\"))","v":""},{"$f":"IF(ISBLANK('Data Input'!A330),\"\",SUM('Data Input'!F330,'Data Input'!R330,'Data Input'!AJ330))","v":""},{"$f":"IF(M325=\"\",\"\",M325/COUNTIF('Data Input'!$C$8:$AK$8,\"F\"))","v":""},{"$f":"IF(ISBLANK('Data Input'!A330),\"\",SUM('Data Input'!E330,'Data Input'!M330,'Data Input'!Q330,'Data Input'!V330,'Data Input'!W330,'Data Input'!AD330,'Data Input'!AH330))","v":""},{"$f":"IF(O325=\"\",\"\",O325/COUNTIF('Data Input'!$C$8:$AK$8,\"M\"))","v":""},{"$f":"IF(ISBLANK('Data Input'!A330),\"\",SUM('Data Input'!H330,'Data Input'!K330,'Data Input'!P330,'Data Input'!Y330))","v":""},{"$f":"IF(Q325=\"\",\"\",Q325/COUNTIF('Data Input'!$C$8:$AK$8,\"G\"))","v":""}]
[{"$f":"IF('Data Input'!A331=0,\"\",'Data Input'!A331)","v":""},{"$f":"IF(ISBLANK('Data Input'!A331),\"\",COUNTIF('Data Input'!C331:AK331,\"\"))","v":""},{"$f":"IF(ISBLANK('Data Input'!A331),\"\",COUNTIF('Data Input'!C331:AK331,\"0\"))","v":""},{"$f":"IF(ISBLANK('Data Input'!A331),\"\",SUM(B326,C326))","v":""},{"$f":"IF(ISBLANK('Data Input'!A331),\"\",SUM('Data Input'!C331:AK331))","v":""},{"$f":"IF(E326=\"\",\"\",E326/(COUNTA('Data Input'!$C$8:$AK$8)))","v":""},{"$f":"IF(ISBLANK('Data Input'!A331),\"\",SUM('Data Input'!C331,'Data Input'!D331,'Data Input'!J331,'Data Input'!X331))","v":""},{"$f":"IF(G326=\"\",\"\",G326/COUNTIF('Data Input'!$C$8:$AK$8,\"N\"))","v":""},{"$f":"IF(ISBLANK('Data Input'!A331),\"\",SUM('Data Input'!G331,'Data Input'!I331,'Data Input'!L331,'Data Input'!N331,'Data Input'!O331,'Data Input'!S331,'Data Input'!Z331,'Data Input'!AA331,'Data Input'!AB331,'Data Input'!AC331,'Data Input'!AE331,'Data Input'!AF331,'Data Input'!AG331,'Data Input'!AI331,'Data Input'!AK331))","v":""},{"$f":"IF(I326=\"\",\"\",I326/COUNTIF('Data Input'!$C$8:$AK$8,\"C\"))","v":""},{"$f":"IF(ISBLANK('Data Input'!A331),\"\",SUM('Data Input'!T331,'Data Input'!U331))","v":""},{"$f":"IF(K326=\"\",\"\",K326/COUNTIF('Data Input'!$C$8:$AK$8,\"S\"))","v":""},{"$f":"IF(ISBLANK('Data Input'!A331),\"\",SUM('Data Input'!F331,'Data Input'!R331,'Data Input'!AJ331))","v":""},{"$f":"IF(M326=\"\",\"\",M326/COUNTIF('Data Input'!$C$8:$AK$8,\"F\"))","v":""},{"$f":"IF(ISBLANK('Data Input'!A331),\"\",SUM('Data Input'!E331,'Data Input'!M331,'Data Input'!Q331,'Data Input'!V331,'Data Input'!W331,'Data Input'!AD331,'Data Input'!AH331))","v":""},{"$f":"IF(O326=\"\",\"\",O326/COUNTIF('Data Input'!$C$8:$AK$8,\"M\"))","v":""},{"$f":"IF(ISBLANK('Data Input'!A331),\"\",SUM('Data Input'!H331,'Data Input'!K331,'Data Input'!P331,'Data Input'!Y331))","v":""},{"$f":"IF(Q326=\"\",\"\",Q326/COUNTIF('Data Input'!$C$8:$AK$8,\"G\"))","v":""}]
[{"$f":"IF('Data Input'!A332=0,\"\",'Data Input'!A332)","v":""},{"$f":"IF(ISBLANK('Data Input'!A332),\"\",COUNTIF('Data Input'!C332:AK332,\"\"))","v":""},{"$f":"IF(ISBLANK('Data Input'!A332),\"\",COUNTIF('Data Input'!C332:AK332,\"0\"))","v":""},{"$f":"IF(ISBLANK('Data Input'!A332),\"\",SUM(B327,C327))","v":""},{"$f":"IF(ISBLANK('Data Input'!A332),\"\",SUM('Data Input'!C332:AK332))","v":""},{"$f":"IF(E327=\"\",\"\",E327/(COUNTA('Data Input'!$C$8:$AK$8)))","v":""},{"$f":"IF(ISBLANK('Data Input'!A332),\"\",SUM('Data Input'!C332,'Data Input'!D332,'Data Input'!J332,'Data Input'!X332))","v":""},{"$f":"IF(G327=\"\",\"\",G327/COUNTIF('Data Input'!$C$8:$AK$8,\"N\"))","v":""},{"$f":"IF(ISBLANK('Data Input'!A332),\"\",SUM('Data Input'!G332,'Data Input'!I332,'Data Input'!L332,'Data Input'!N332,'Data Input'!O332,'Data Input'!S332,'Data Input'!Z332,'Data Input'!AA332,'Data Input'!AB332,'Data Input'!AC332,'Data Input'!AE332,'Data Input'!AF332,'Data Input'!AG332,'Data Input'!AI332,'Data Input'!AK332))","v":""},{"$f":"IF(I327=\"\",\"\",I327/COUNTIF('Data Input'!$C$8:$AK$8,\"C\"))","v":""},{"$f":"IF(ISBLANK('Data Input'!A332),\"\",SUM('Data Input'!T332,'Data Input'!U332))","v":""},{"$f":"IF(K327=\"\",\"\",K327/COUNTIF('Data Input'!$C$8:$AK$8,\"S\"))","v":""},{"$f":"IF(ISBLANK('Data Input'!A332),\"\",SUM('Data Input'!F332,'Data Input'!R332,'Data Input'!AJ332))","v":""},{"$f":"IF(M327=\"\",\"\",M327/COUNTIF('Data Input'!$C$8:$AK$8,\"F\"))","v":""},{"$f":"IF(ISBLANK('Data Input'!A332),\"\",SUM('Data Input'!E332,'Data Input'!M332,'Data Input'!Q332,'Data Input'!V332,'Data Input'!W332,'Data Input'!AD332,'Data Input'!AH332))","v":""},{"$f":"IF(O327=\"\",\"\",O327/COUNTIF('Data Input'!$C$8:$AK$8,\"M\"))","v":""},{"$f":"IF(ISBLANK('Data Input'!A332),\"\",SUM('Data Input'!H332,'Data Input'!K332,'Data Input'!P332,'Data Input'!Y332))","v":""},{"$f":"IF(Q327=\"\",\"\",Q327/COUNTIF('Data Input'!$C$8:$AK$8,\"G\"))","v":""}]
[{"$f":"IF('Data Input'!A333=0,\"\",'Data Input'!A333)","v":""},{"$f":"IF(ISBLANK('Data Input'!A333),\"\",COUNTIF('Data Input'!C333:AK333,\"\"))","v":""},{"$f":"IF(ISBLANK('Data Input'!A333),\"\",COUNTIF('Data Input'!C333:AK333,\"0\"))","v":""},{"$f":"IF(ISBLANK('Data Input'!A333),\"\",SUM(B328,C328))","v":""},{"$f":"IF(ISBLANK('Data Input'!A333),\"\",SUM('Data Input'!C333:AK333))","v":""},{"$f":"IF(E328=\"\",\"\",E328/(COUNTA('Data Input'!$C$8:$AK$8)))","v":""},{"$f":"IF(ISBLANK('Data Input'!A333),\"\",SUM('Data Input'!C333,'Data Input'!D333,'Data Input'!J333,'Data Input'!X333))","v":""},{"$f":"IF(G328=\"\",\"\",G328/COUNTIF('Data Input'!$C$8:$AK$8,\"N\"))","v":""},{"$f":"IF(ISBLANK('Data Input'!A333),\"\",SUM('Data Input'!G333,'Data Input'!I333,'Data Input'!L333,'Data Input'!N333,'Data Input'!O333,'Data Input'!S333,'Data Input'!Z333,'Data Input'!AA333,'Data Input'!AB333,'Data Input'!AC333,'Data Input'!AE333,'Data Input'!AF333,'Data Input'!AG333,'Data Input'!AI333,'Data Input'!AK333))","v":""},{"$f":"IF(I328=\"\",\"\",I328/COUNTIF('Data Input'!$C$8:$AK$8,\"C\"))","v":""},{"$f":"IF(ISBLANK('Data Input'!A333),\"\",SUM('Data Input'!T333,'Data Input'!U333))","v":""},{"$f":"IF(K328=\"\",\"\",K328/COUNTIF('Data Input'!$C$8:$AK$8,\"S\"))","v":""},{"$f":"IF(ISBLANK('Data Input'!A333),\"\",SUM('Data Input'!F333,'Data Input'!R333,'Data Input'!AJ333))","v":""},{"$f":"IF(M328=\"\",\"\",M328/COUNTIF('Data Input'!$C$8:$AK$8,\"F\"))","v":""},{"$f":"IF(ISBLANK('Data Input'!A333),\"\",SUM('Data Input'!E333,'Data Input'!M333,'Data Input'!Q333,'Data Input'!V333,'Data Input'!W333,'Data Input'!AD333,'Data Input'!AH333))","v":""},{"$f":"IF(O328=\"\",\"\",O328/COUNTIF('Data Input'!$C$8:$AK$8,\"M\"))","v":""},{"$f":"IF(ISBLANK('Data Input'!A333),\"\",SUM('Data Input'!H333,'Data Input'!K333,'Data Input'!P333,'Data Input'!Y333))","v":""},{"$f":"IF(Q328=\"\",\"\",Q328/COUNTIF('Data Input'!$C$8:$AK$8,\"G\"))","v":""}]
[{"$f":"IF('Data Input'!A334=0,\"\",'Data Input'!A334)","v":""},{"$f":"IF(ISBLANK('Data Input'!A334),\"\",COUNTIF('Data Input'!C334:AK334,\"\"))","v":""},{"$f":"IF(ISBLANK('Data Input'!A334),\"\",COUNTIF('Data Input'!C334:AK334,\"0\"))","v":""},{"$f":"IF(ISBLANK('Data Input'!A334),\"\",SUM(B329,C329))","v":""},{"$f":"IF(ISBLANK('Data Input'!A334),\"\",SUM('Data Input'!C334:AK334))","v":""},{"$f":"IF(E329=\"\",\"\",E329/(COUNTA('Data Input'!$C$8:$AK$8)))","v":""},{"$f":"IF(ISBLANK('Data Input'!A334),\"\",SUM('Data Input'!C334,'Data Input'!D334,'Data Input'!J334,'Data Input'!X334))","v":""},{"$f":"IF(G329=\"\",\"\",G329/COUNTIF('Data Input'!$C$8:$AK$8,\"N\"))","v":""},{"$f":"IF(ISBLANK('Data Input'!A334),\"\",SUM('Data Input'!G334,'Data Input'!I334,'Data Input'!L334,'Data Input'!N334,'Data Input'!O334,'Data Input'!S334,'Data Input'!Z334,'Data Input'!AA334,'Data Input'!AB334,'Data Input'!AC334,'Data Input'!AE334,'Data Input'!AF334,'Data Input'!AG334,'Data Input'!AI334,'Data Input'!AK334))","v":""},{"$f":"IF(I329=\"\",\"\",I329/COUNTIF('Data Input'!$C$8:$AK$8,\"C\"))","v":""},{"$f":"IF(ISBLANK('Data Input'!A334),\"\",SUM('Data Input'!T334,'Data Input'!U334))","v":""},{"$f":"IF(K329=\"\",\"\",K329/COUNTIF('Data Input'!$C$8:$AK$8,\"S\"))","v":""},{"$f":"IF(ISBLANK('Data Input'!A334),\"\",SUM('Data Input'!F334,'Data Input'!R334,'Data Input'!AJ334))","v":""},{"$f":"IF(M329=\"\",\"\",M329/COUNTIF('Data Input'!$C$8:$AK$8,\"F\"))","v":""},{"$f":"IF(ISBLANK('Data Input'!A334),\"\",SUM('Data Input'!E334,'Data Input'!M334,'Data Input'!Q334,'Data Input'!V334,'Data Input'!W334,'Data Input'!AD334,'Data Input'!AH334))","v":""},{"$f":"IF(O329=\"\",\"\",O329/COUNTIF('Data Input'!$C$8:$AK$8,\"M\"))","v":""},{"$f":"IF(ISBLANK('Data Input'!A334),\"\",SUM('Data Input'!H334,'Data Input'!K334,'Data Input'!P334,'Data Input'!Y334))","v":""},{"$f":"IF(Q329=\"\",\"\",Q329/COUNTIF('Data Input'!$C$8:$AK$8,\"G\"))","v":""}]
[{"$f":"IF('Data Input'!A335=0,\"\",'Data Input'!A335)","v":""},{"$f":"IF(ISBLANK('Data Input'!A335),\"\",COUNTIF('Data Input'!C335:AK335,\"\"))","v":""},{"$f":"IF(ISBLANK('Data Input'!A335),\"\",COUNTIF('Data Input'!C335:AK335,\"0\"))","v":""},{"$f":"IF(ISBLANK('Data Input'!A335),\"\",SUM(B330,C330))","v":""},{"$f":"IF(ISBLANK('Data Input'!A335),\"\",SUM('Data Input'!C335:AK335))","v":""},{"$f":"IF(E330=\"\",\"\",E330/(COUNTA('Data Input'!$C$8:$AK$8)))","v":""},{"$f":"IF(ISBLANK('Data Input'!A335),\"\",SUM('Data Input'!C335,'Data Input'!D335,'Data Input'!J335,'Data Input'!X335))","v":""},{"$f":"IF(G330=\"\",\"\",G330/COUNTIF('Data Input'!$C$8:$AK$8,\"N\"))","v":""},{"$f":"IF(ISBLANK('Data Input'!A335),\"\",SUM('Data Input'!G335,'Data Input'!I335,'Data Input'!L335,'Data Input'!N335,'Data Input'!O335,'Data Input'!S335,'Data Input'!Z335,'Data Input'!AA335,'Data Input'!AB335,'Data Input'!AC335,'Data Input'!AE335,'Data Input'!AF335,'Data Input'!AG335,'Data Input'!AI335,'Data Input'!AK335))","v":""},{"$f":"IF(I330=\"\",\"\",I330/COUNTIF('Data Input'!$C$8:$AK$8,\"C\"))","v":""},{"$f":"IF(ISBLANK('Data Input'!A335),\"\",SUM('Data Input'!T335,'Data Input'!U335))","v":""},{"$f":"IF(K330=\"\",\"\",K330/COUNTIF('Data Input'!$C$8:$AK$8,\"S\"))","v":""},{"$f":"IF(ISBLANK('Data Input'!A335),\"\",SUM('Data Input'!F335,'Data Input'!R335,'Data Input'!AJ335))","v":""},{"$f":"IF(M330=\"\",\"\",M330/COUNTIF('Data Input'!$C$8:$AK$8,\"F\"))","v":""},{"$f":"IF(ISBLANK('Data Input'!A335),\"\",SUM('Data Input'!E335,'Data Input'!M335,'Data Input'!Q335,'Data Input'!V335,'Data Input'!W335,'Data Input'!AD335,'Data Input'!AH335))","v":""},{"$f":"IF(O330=\"\",\"\",O330/COUNTIF('Data Input'!$C$8:$AK$8,\"M\"))","v":""},{"$f":"IF(ISBLANK('Data Input'!A335),\"\",SUM('Data Input'!H335,'Data Input'!K335,'Data Input'!P335,'Data Input'!Y335))","v":""},{"$f":"IF(Q330=\"\",\"\",Q330/COUNTIF('Data Input'!$C$8:$AK$8,\"G\"))","v":""}]
[{"$f":"IF('Data Input'!A336=0,\"\",'Data Input'!A336)","v":""},{"$f":"IF(ISBLANK('Data Input'!A336),\"\",COUNTIF('Data Input'!C336:AK336,\"\"))","v":""},{"$f":"IF(ISBLANK('Data Input'!A336),\"\",COUNTIF('Data Input'!C336:AK336,\"0\"))","v":""},{"$f":"IF(ISBLANK('Data Input'!A336),\"\",SUM(B331,C331))","v":""},{"$f":"IF(ISBLANK('Data Input'!A336),\"\",SUM('Data Input'!C336:AK336))","v":""},{"$f":"IF(E331=\"\",\"\",E331/(COUNTA('Data Input'!$C$8:$AK$8)))","v":""},{"$f":"IF(ISBLANK('Data Input'!A336),\"\",SUM('Data Input'!C336,'Data Input'!D336,'Data Input'!J336,'Data Input'!X336))","v":""},{"$f":"IF(G331=\"\",\"\",G331/COUNTIF('Data Input'!$C$8:$AK$8,\"N\"))","v":""},{"$f":"IF(ISBLANK('Data Input'!A336),\"\",SUM('Data Input'!G336,'Data Input'!I336,'Data Input'!L336,'Data Input'!N336,'Data Input'!O336,'Data Input'!S336,'Data Input'!Z336,'Data Input'!AA336,'Data Input'!AB336,'Data Input'!AC336,'Data Input'!AE336,'Data Input'!AF336,'Data Input'!AG336,'Data Input'!AI336,'Data Input'!AK336))","v":""},{"$f":"IF(I331=\"\",\"\",I331/COUNTIF('Data Input'!$C$8:$AK$8,\"C\"))","v":""},{"$f":"IF(ISBLANK('Data Input'!A336),\"\",SUM('Data Input'!T336,'Data Input'!U336))","v":""},{"$f":"IF(K331=\"\",\"\",K331/COUNTIF('Data Input'!$C$8:$AK$8,\"S\"))","v":""},{"$f":"IF(ISBLANK('Data Input'!A336),\"\",SUM('Data Input'!F336,'Data Input'!R336,'Data Input'!AJ336))","v":""},{"$f":"IF(M331=\"\",\"\",M331/COUNTIF('Data Input'!$C$8:$AK$8,\"F\"))","v":""},{"$f":"IF(ISBLANK('Data Input'!A336),\"\",SUM('Data Input'!E336,'Data Input'!M336,'Data Input'!Q336,'Data Input'!V336,'Data Input'!W336,'Data Input'!AD336,'Data Input'!AH336))","v":""},{"$f":"IF(O331=\"\",\"\",O331/COUNTIF('Data Input'!$C$8:$AK$8,\"M\"))","v":""},{"$f":"IF(ISBLANK('Data Input'!A336),\"\",SUM('Data Input'!H336,'Data Input'!K336,'Data Input'!P336,'Data Input'!Y336))","v":""},{"$f":"IF(Q331=\"\",\"\",Q331/COUNTIF('Data Input'!$C$8:$AK$8,\"G\"))","v":""}]
[{"$f":"IF('Data Input'!A337=0,\"\",'Data Input'!A337)","v":""},{"$f":"IF(ISBLANK('Data Input'!A337),\"\",COUNTIF('Data Input'!C337:AK337,\"\"))","v":""},{"$f":"IF(ISBLANK('Data Input'!A337),\"\",COUNTIF('Data Input'!C337:AK337,\"0\"))","v":""},{"$f":"IF(ISBLANK('Data Input'!A337),\"\",SUM(B332,C332))","v":""},{"$f":"IF(ISBLANK('Data Input'!A337),\"\",SUM('Data Input'!C337:AK337))","v":""},{"$f":"IF(E332=\"\",\"\",E332/(COUNTA('Data Input'!$C$8:$AK$8)))","v":""},{"$f":"IF(ISBLANK('Data Input'!A337),\"\",SUM('Data Input'!C337,'Data Input'!D337,'Data Input'!J337,'Data Input'!X337))","v":""},{"$f":"IF(G332=\"\",\"\",G332/COUNTIF('Data Input'!$C$8:$AK$8,\"N\"))","v":""},{"$f":"IF(ISBLANK('Data Input'!A337),\"\",SUM('Data Input'!G337,'Data Input'!I337,'Data Input'!L337,'Data Input'!N337,'Data Input'!O337,'Data Input'!S337,'Data Input'!Z337,'Data Input'!AA337,'Data Input'!AB337,'Data Input'!AC337,'Data Input'!AE337,'Data Input'!AF337,'Data Input'!AG337,'Data Input'!AI337,'Data Input'!AK337))","v":""},{"$f":"IF(I332=\"\",\"\",I332/COUNTIF('Data Input'!$C$8:$AK$8,\"C\"))","v":""},{"$f":"IF(ISBLANK('Data Input'!A337),\"\",SUM('Data Input'!T337,'Data Input'!U337))","v":""},{"$f":"IF(K332=\"\",\"\",K332/COUNTIF('Data Input'!$C$8:$AK$8,\"S\"))","v":""},{"$f":"IF(ISBLANK('Data Input'!A337),\"\",SUM('Data Input'!F337,'Data Input'!R337,'Data Input'!AJ337))","v":""},{"$f":"IF(M332=\"\",\"\",M332/COUNTIF('Data Input'!$C$8:$AK$8,\"F\"))","v":""},{"$f":"IF(ISBLANK('Data Input'!A337),\"\",SUM('Data Input'!E337,'Data Input'!M337,'Data Input'!Q337,'Data Input'!V337,'Data Input'!W337,'Data Input'!AD337,'Data Input'!AH337))","v":""},{"$f":"IF(O332=\"\",\"\",O332/COUNTIF('Data Input'!$C$8:$AK$8,\"M\"))","v":""},{"$f":"IF(ISBLANK('Data Input'!A337),\"\",SUM('Data Input'!H337,'Data Input'!K337,'Data Input'!P337,'Data Input'!Y337))","v":""},{"$f":"IF(Q332=\"\",\"\",Q332/COUNTIF('Data Input'!$C$8:$AK$8,\"G\"))","v":""}]
[{"$f":"IF('Data Input'!A338=0,\"\",'Data Input'!A338)","v":""},{"$f":"IF(ISBLANK('Data Input'!A338),\"\",COUNTIF('Data Input'!C338:AK338,\"\"))","v":""},{"$f":"IF(ISBLANK('Data Input'!A338),\"\",COUNTIF('Data Input'!C338:AK338,\"0\"))","v":""},{"$f":"IF(ISBLANK('Data Input'!A338),\"\",SUM(B333,C333))","v":""},{"$f":"IF(ISBLANK('Data Input'!A338),\"\",SUM('Data Input'!C338:AK338))","v":""},{"$f":"IF(E333=\"\",\"\",E333/(COUNTA('Data Input'!$C$8:$AK$8)))","v":""},{"$f":"IF(ISBLANK('Data Input'!A338),\"\",SUM('Data Input'!C338,'Data Input'!D338,'Data Input'!J338,'Data Input'!X338))","v":""},{"$f":"IF(G333=\"\",\"\",G333/COUNTIF('Data Input'!$C$8:$AK$8,\"N\"))","v":""},{"$f":"IF(ISBLANK('Data Input'!A338),\"\",SUM('Data Input'!G338,'Data Input'!I338,'Data Input'!L338,'Data Input'!N338,'Data Input'!O338,'Data Input'!S338,'Data Input'!Z338,'Data Input'!AA338,'Data Input'!AB338,'Data Input'!AC338,'Data Input'!AE338,'Data Input'!AF338,'Data Input'!AG338,'Data Input'!AI338,'Data Input'!AK338))","v":""},{"$f":"IF(I333=\"\",\"\",I333/COUNTIF('Data Input'!$C$8:$AK$8,\"C\"))","v":""},{"$f":"IF(ISBLANK('Data Input'!A338),\"\",SUM('Data Input'!T338,'Data Input'!U338))","v":""},{"$f":"IF(K333=\"\",\"\",K333/COUNTIF('Data Input'!$C$8:$AK$8,\"S\"))","v":""},{"$f":"IF(ISBLANK('Data Input'!A338),\"\",SUM('Data Input'!F338,'Data Input'!R338,'Data Input'!AJ338))","v":""},{"$f":"IF(M333=\"\",\"\",M333/COUNTIF('Data Input'!$C$8:$AK$8,\"F\"))","v":""},{"$f":"IF(ISBLANK('Data Input'!A338),\"\",SUM('Data Input'!E338,'Data Input'!M338,'Data Input'!Q338,'Data Input'!V338,'Data Input'!W338,'Data Input'!AD338,'Data Input'!AH338))","v":""},{"$f":"IF(O333=\"\",\"\",O333/COUNTIF('Data Input'!$C$8:$AK$8,\"M\"))","v":""},{"$f":"IF(ISBLANK('Data Input'!A338),\"\",SUM('Data Input'!H338,'Data Input'!K338,'Data Input'!P338,'Data Input'!Y338))","v":""},{"$f":"IF(Q333=\"\",\"\",Q333/COUNTIF('Data Input'!$C$8:$AK$8,\"G\"))","v":""}]
[{"$f":"IF('Data Input'!A339=0,\"\",'Data Input'!A339)","v":""},{"$f":"IF(ISBLANK('Data Input'!A339),\"\",COUNTIF('Data Input'!C339:AK339,\"\"))","v":""},{"$f":"IF(ISBLANK('Data Input'!A339),\"\",COUNTIF('Data Input'!C339:AK339,\"0\"))","v":""},{"$f":"IF(ISBLANK('Data Input'!A339),\"\",SUM(B334,C334))","v":""},{"$f":"IF(ISBLANK('Data Input'!A339),\"\",SUM('Data Input'!C339:AK339))","v":""},{"$f":"IF(E334=\"\",\"\",E334/(COUNTA('Data Input'!$C$8:$AK$8)))","v":""},{"$f":"IF(ISBLANK('Data Input'!A339),\"\",SUM('Data Input'!C339,'Data Input'!D339,'Data Input'!J339,'Data Input'!X339))","v":""},{"$f":"IF(G334=\"\",\"\",G334/COUNTIF('Data Input'!$C$8:$AK$8,\"N\"))","v":""},{"$f":"IF(ISBLANK('Data Input'!A339),\"\",SUM('Data Input'!G339,'Data Input'!I339,'Data Input'!L339,'Data Input'!N339,'Data Input'!O339,'Data Input'!S339,'Data Input'!Z339,'Data Input'!AA339,'Data Input'!AB339,'Data Input'!AC339,'Data Input'!AE339,'Data Input'!AF339,'Data Input'!AG339,'Data Input'!AI339,'Data Input'!AK339))","v":""},{"$f":"IF(I334=\"\",\"\",I334/COUNTIF('Data Input'!$C$8:$AK$8,\"C\"))","v":""},{"$f":"IF(ISBLANK('Data Input'!A339),\"\",SUM('Data Input'!T339,'Data Input'!U339))","v":""},{"$f":"IF(K334=\"\",\"\",K334/COUNTIF('Data Input'!$C$8:$AK$8,\"S\"))","v":""},{"$f":"IF(ISBLANK('Data Input'!A339),\"\",SUM('Data Input'!F339,'Data Input'!R339,'Data Input'!AJ339))","v":""},{"$f":"IF(M334=\"\",\"\",M334/COUNTIF('Data Input'!$C$8:$AK$8,\"F\"))","v":""},{"$f":"IF(ISBLANK('Data Input'!A339),\"\",SUM('Data Input'!E339,'Data Input'!M339,'Data Input'!Q339,'Data Input'!V339,'Data Input'!W339,'Data Input'!AD339,'Data Input'!AH339))","v":""},{"$f":"IF(O334=\"\",\"\",O334/COUNTIF('Data Input'!$C$8:$AK$8,\"M\"))","v":""},{"$f":"IF(ISBLANK('Data Input'!A339),\"\",SUM('Data Input'!H339,'Data Input'!K339,'Data Input'!P339,'Data Input'!Y339))","v":""},{"$f":"IF(Q334=\"\",\"\",Q334/COUNTIF('Data Input'!$C$8:$AK$8,\"G\"))","v":""}]
[{"$f":"IF('Data Input'!A340=0,\"\",'Data Input'!A340)","v":""},{"$f":"IF(ISBLANK('Data Input'!A340),\"\",COUNTIF('Data Input'!C340:AK340,\"\"))","v":""},{"$f":"IF(ISBLANK('Data Input'!A340),\"\",COUNTIF('Data Input'!C340:AK340,\"0\"))","v":""},{"$f":"IF(ISBLANK('Data Input'!A340),\"\",SUM(B335,C335))","v":""},{"$f":"IF(ISBLANK('Data Input'!A340),\"\",SUM('Data Input'!C340:AK340))","v":""},{"$f":"IF(E335=\"\",\"\",E335/(COUNTA('Data Input'!$C$8:$AK$8)))","v":""},{"$f":"IF(ISBLANK('Data Input'!A340),\"\",SUM('Data Input'!C340,'Data Input'!D340,'Data Input'!J340,'Data Input'!X340))","v":""},{"$f":"IF(G335=\"\",\"\",G335/COUNTIF('Data Input'!$C$8:$AK$8,\"N\"))","v":""},{"$f":"IF(ISBLANK('Data Input'!A340),\"\",SUM('Data Input'!G340,'Data Input'!I340,'Data Input'!L340,'Data Input'!N340,'Data Input'!O340,'Data Input'!S340,'Data Input'!Z340,'Data Input'!AA340,'Data Input'!AB340,'Data Input'!AC340,'Data Input'!AE340,'Data Input'!AF340,'Data Input'!AG340,'Data Input'!AI340,'Data Input'!AK340))","v":""},{"$f":"IF(I335=\"\",\"\",I335/COUNTIF('Data Input'!$C$8:$AK$8,\"C\"))","v":""},{"$f":"IF(ISBLANK('Data Input'!A340),\"\",SUM('Data Input'!T340,'Data Input'!U340))","v":""},{"$f":"IF(K335=\"\",\"\",K335/COUNTIF('Data Input'!$C$8:$AK$8,\"S\"))","v":""},{"$f":"IF(ISBLANK('Data Input'!A340),\"\",SUM('Data Input'!F340,'Data Input'!R340,'Data Input'!AJ340))","v":""},{"$f":"IF(M335=\"\",\"\",M335/COUNTIF('Data Input'!$C$8:$AK$8,\"F\"))","v":""},{"$f":"IF(ISBLANK('Data Input'!A340),\"\",SUM('Data Input'!E340,'Data Input'!M340,'Data Input'!Q340,'Data Input'!V340,'Data Input'!W340,'Data Input'!AD340,'Data Input'!AH340))","v":""},{"$f":"IF(O335=\"\",\"\",O335/COUNTIF('Data Input'!$C$8:$AK$8,\"M\"))","v":""},{"$f":"IF(ISBLANK('Data Input'!A340),\"\",SUM('Data Input'!H340,'Data Input'!K340,'Data Input'!P340,'Data Input'!Y340))","v":""},{"$f":"IF(Q335=\"\",\"\",Q335/COUNTIF('Data Input'!$C$8:$AK$8,\"G\"))","v":""}]
[{"$f":"IF('Data Input'!A341=0,\"\",'Data Input'!A341)","v":""},{"$f":"IF(ISBLANK('Data Input'!A341),\"\",COUNTIF('Data Input'!C341:AK341,\"\"))","v":""},{"$f":"IF(ISBLANK('Data Input'!A341),\"\",COUNTIF('Data Input'!C341:AK341,\"0\"))","v":""},{"$f":"IF(ISBLANK('Data Input'!A341),\"\",SUM(B336,C336))","v":""},{"$f":"IF(ISBLANK('Data Input'!A341),\"\",SUM('Data Input'!C341:AK341))","v":""},{"$f":"IF(E336=\"\",\"\",E336/(COUNTA('Data Input'!$C$8:$AK$8)))","v":""},{"$f":"IF(ISBLANK('Data Input'!A341),\"\",SUM('Data Input'!C341,'Data Input'!D341,'Data Input'!J341,'Data Input'!X341))","v":""},{"$f":"IF(G336=\"\",\"\",G336/COUNTIF('Data Input'!$C$8:$AK$8,\"N\"))","v":""},{"$f":"IF(ISBLANK('Data Input'!A341),\"\",SUM('Data Input'!G341,'Data Input'!I341,'Data Input'!L341,'Data Input'!N341,'Data Input'!O341,'Data Input'!S341,'Data Input'!Z341,'Data Input'!AA341,'Data Input'!AB341,'Data Input'!AC341,'Data Input'!AE341,'Data Input'!AF341,'Data Input'!AG341,'Data Input'!AI341,'Data Input'!AK341))","v":""},{"$f":"IF(I336=\"\",\"\",I336/COUNTIF('Data Input'!$C$8:$AK$8,\"C\"))","v":""},{"$f":"IF(ISBLANK('Data Input'!A341),\"\",SUM('Data Input'!T341,'Data Input'!U341))","v":""},{"$f":"IF(K336=\"\",\"\",K336/COUNTIF('Data Input'!$C$8:$AK$8,\"S\"))","v":""},{"$f":"IF(ISBLANK('Data Input'!A341),\"\",SUM('Data Input'!F341,'Data Input'!R341,'Data Input'!AJ341))","v":""},{"$f":"IF(M336=\"\",\"\",M336/COUNTIF('Data Input'!$C$8:$AK$8,\"F\"))","v":""},{"$f":"IF(ISBLANK('Data Input'!A341),\"\",SUM('Data Input'!E341,'Data Input'!M341,'Data Input'!Q341,'Data Input'!V341,'Data Input'!W341,'Data Input'!AD341,'Data Input'!AH341))","v":""},{"$f":"IF(O336=\"\",\"\",O336/COUNTIF('Data Input'!$C$8:$AK$8,\"M\"))","v":""},{"$f":"IF(ISBLANK('Data Input'!A341),\"\",SUM('Data Input'!H341,'Data Input'!K341,'Data Input'!P341,'Data Input'!Y341))","v":""},{"$f":"IF(Q336=\"\",\"\",Q336/COUNTIF('Data Input'!$C$8:$AK$8,\"G\"))","v":""}]
[{"$f":"IF('Data Input'!A342=0,\"\",'Data Input'!A342)","v":""},{"$f":"IF(ISBLANK('Data Input'!A342),\"\",COUNTIF('Data Input'!C342:AK342,\"\"))","v":""},{"$f":"IF(ISBLANK('Data Input'!A342),\"\",COUNTIF('Data Input'!C342:AK342,\"0\"))","v":""},{"$f":"IF(ISBLANK('Data Input'!A342),\"\",SUM(B337,C337))","v":""},{"$f":"IF(ISBLANK('Data Input'!A342),\"\",SUM('Data Input'!C342:AK342))","v":""},{"$f":"IF(E337=\"\",\"\",E337/(COUNTA('Data Input'!$C$8:$AK$8)))","v":""},{"$f":"IF(ISBLANK('Data Input'!A342),\"\",SUM('Data Input'!C342,'Data Input'!D342,'Data Input'!J342,'Data Input'!X342))","v":""},{"$f":"IF(G337=\"\",\"\",G337/COUNTIF('Data Input'!$C$8:$AK$8,\"N\"))","v":""},{"$f":"IF(ISBLANK('Data Input'!A342),\"\",SUM('Data Input'!G342,'Data Input'!I342,'Data Input'!L342,'Data Input'!N342,'Data Input'!O342,'Data Input'!S342,'Data Input'!Z342,'Data Input'!AA342,'Data Input'!AB342,'Data Input'!AC342,'Data Input'!AE342,'Data Input'!AF342,'Data Input'!AG342,'Data Input'!AI342,'Data Input'!AK342))","v":""},{"$f":"IF(I337=\"\",\"\",I337/COUNTIF('Data Input'!$C$8:$AK$8,\"C\"))","v":""},{"$f":"IF(ISBLANK('Data Input'!A342),\"\",SUM('Data Input'!T342,'Data Input'!U342))","v":""},{"$f":"IF(K337=\"\",\"\",K337/COUNTIF('Data Input'!$C$8:$AK$8,\"S\"))","v":""},{"$f":"IF(ISBLANK('Data Input'!A342),\"\",SUM('Data Input'!F342,'Data Input'!R342,'Data Input'!AJ342))","v":""},{"$f":"IF(M337=\"\",\"\",M337/COUNTIF('Data Input'!$C$8:$AK$8,\"F\"))","v":""},{"$f":"IF(ISBLANK('Data Input'!A342),\"\",SUM('Data Input'!E342,'Data Input'!M342,'Data Input'!Q342,'Data Input'!V342,'Data Input'!W342,'Data Input'!AD342,'Data Input'!AH342))","v":""},{"$f":"IF(O337=\"\",\"\",O337/COUNTIF('Data Input'!$C$8:$AK$8,\"M\"))","v":""},{"$f":"IF(ISBLANK('Data Input'!A342),\"\",SUM('Data Input'!H342,'Data Input'!K342,'Data Input'!P342,'Data Input'!Y342))","v":""},{"$f":"IF(Q337=\"\",\"\",Q337/COUNTIF('Data Input'!$C$8:$AK$8,\"G\"))","v":""}]
[{"$f":"IF('Data Input'!A343=0,\"\",'Data Input'!A343)","v":""},{"$f":"IF(ISBLANK('Data Input'!A343),\"\",COUNTIF('Data Input'!C343:AK343,\"\"))","v":""},{"$f":"IF(ISBLANK('Data Input'!A343),\"\",COUNTIF('Data Input'!C343:AK343,\"0\"))","v":""},{"$f":"IF(ISBLANK('Data Input'!A343),\"\",SUM(B338,C338))","v":""},{"$f":"IF(ISBLANK('Data Input'!A343),\"\",SUM('Data Input'!C343:AK343))","v":""},{"$f":"IF(E338=\"\",\"\",E338/(COUNTA('Data Input'!$C$8:$AK$8)))","v":""},{"$f":"IF(ISBLANK('Data Input'!A343),\"\",SUM('Data Input'!C343,'Data Input'!D343,'Data Input'!J343,'Data Input'!X343))","v":""},{"$f":"IF(G338=\"\",\"\",G338/COUNTIF('Data Input'!$C$8:$AK$8,\"N\"))","v":""},{"$f":"IF(ISBLANK('Data Input'!A343),\"\",SUM('Data Input'!G343,'Data Input'!I343,'Data Input'!L343,'Data Input'!N343,'Data Input'!O343,'Data Input'!S343,'Data Input'!Z343,'Data Input'!AA343,'Data Input'!AB343,'Data Input'!AC343,'Data Input'!AE343,'Data Input'!AF343,'Data Input'!AG343,'Data Input'!AI343,'Data Input'!AK343))","v":""},{"$f":"IF(I338=\"\",\"\",I338/COUNTIF('Data Input'!$C$8:$AK$8,\"C\"))","v":""},{"$f":"IF(ISBLANK('Data Input'!A343),\"\",SUM('Data Input'!T343,'Data Input'!U343))","v":""},{"$f":"IF(K338=\"\",\"\",K338/COUNTIF('Data Input'!$C$8:$AK$8,\"S\"))","v":""},{"$f":"IF(ISBLANK('Data Input'!A343),\"\",SUM('Data Input'!F343,'Data Input'!R343,'Data Input'!AJ343))","v":""},{"$f":"IF(M338=\"\",\"\",M338/COUNTIF('Data Input'!$C$8:$AK$8,\"F\"))","v":""},{"$f":"IF(ISBLANK('Data Input'!A343),\"\",SUM('Data Input'!E343,'Data Input'!M343,'Data Input'!Q343,'Data Input'!V343,'Data Input'!W343,'Data Input'!AD343,'Data Input'!AH343))","v":""},{"$f":"IF(O338=\"\",\"\",O338/COUNTIF('Data Input'!$C$8:$AK$8,\"M\"))","v":""},{"$f":"IF(ISBLANK('Data Input'!A343),\"\",SUM('Data Input'!H343,'Data Input'!K343,'Data Input'!P343,'Data Input'!Y343))","v":""},{"$f":"IF(Q338=\"\",\"\",Q338/COUNTIF('Data Input'!$C$8:$AK$8,\"G\"))","v":""}]
[{"$f":"IF('Data Input'!A344=0,\"\",'Data Input'!A344)","v":""},{"$f":"IF(ISBLANK('Data Input'!A344),\"\",COUNTIF('Data Input'!C344:AK344,\"\"))","v":""},{"$f":"IF(ISBLANK('Data Input'!A344),\"\",COUNTIF('Data Input'!C344:AK344,\"0\"))","v":""},{"$f":"IF(ISBLANK('Data Input'!A344),\"\",SUM(B339,C339))","v":""},{"$f":"IF(ISBLANK('Data Input'!A344),\"\",SUM('Data Input'!C344:AK344))","v":""},{"$f":"IF(E339=\"\",\"\",E339/(COUNTA('Data Input'!$C$8:$AK$8)))","v":""},{"$f":"IF(ISBLANK('Data Input'!A344),\"\",SUM('Data Input'!C344,'Data Input'!D344,'Data Input'!J344,'Data Input'!X344))","v":""},{"$f":"IF(G339=\"\",\"\",G339/COUNTIF('Data Input'!$C$8:$AK$8,\"N\"))","v":""},{"$f":"IF(ISBLANK('Data Input'!A344),\"\",SUM('Data Input'!G344,'Data Input'!I344,'Data Input'!L344,'Data Input'!N344,'Data Input'!O344,'Data Input'!S344,'Data Input'!Z344,'Data Input'!AA344,'Data Input'!AB344,'Data Input'!AC344,'Data Input'!AE344,'Data Input'!AF344,'Data Input'!AG344,'Data Input'!AI344,'Data Input'!AK344))","v":""},{"$f":"IF(I339=\"\",\"\",I339/COUNTIF('Data Input'!$C$8:$AK$8,\"C\"))","v":""},{"$f":"IF(ISBLANK('Data Input'!A344),\"\",SUM('Data Input'!T344,'Data Input'!U344))","v":""},{"$f":"IF(K339=\"\",\"\",K339/COUNTIF('Data Input'!$C$8:$AK$8,\"S\"))","v":""},{"$f":"IF(ISBLANK('Data Input'!A344),\"\",SUM('Data Input'!F344,'Data Input'!R344,'Data Input'!AJ344))","v":""},{"$f":"IF(M339=\"\",\"\",M339/COUNTIF('Data Input'!$C$8:$AK$8,\"F\"))","v":""},{"$f":"IF(ISBLANK('Data Input'!A344),\"\",SUM('Data Input'!E344,'Data Input'!M344,'Data Input'!Q344,'Data Input'!V344,'Data Input'!W344,'Data Input'!AD344,'Data Input'!AH344))","v":""},{"$f":"IF(O339=\"\",\"\",O339/COUNTIF('Data Input'!$C$8:$AK$8,\"M\"))","v":""},{"$f":"IF(ISBLANK('Data Input'!A344),\"\",SUM('Data Input'!H344,'Data Input'!K344,'Data Input'!P344,'Data Input'!Y344))","v":""},{"$f":"IF(Q339=\"\",\"\",Q339/COUNTIF('Data Input'!$C$8:$AK$8,\"G\"))","v":""}]
[{"$f":"IF('Data Input'!A345=0,\"\",'Data Input'!A345)","v":""},{"$f":"IF(ISBLANK('Data Input'!A345),\"\",COUNTIF('Data Input'!C345:AK345,\"\"))","v":""},{"$f":"IF(ISBLANK('Data Input'!A345),\"\",COUNTIF('Data Input'!C345:AK345,\"0\"))","v":""},{"$f":"IF(ISBLANK('Data Input'!A345),\"\",SUM(B340,C340))","v":""},{"$f":"IF(ISBLANK('Data Input'!A345),\"\",SUM('Data Input'!C345:AK345))","v":""},{"$f":"IF(E340=\"\",\"\",E340/(COUNTA('Data Input'!$C$8:$AK$8)))","v":""},{"$f":"IF(ISBLANK('Data Input'!A345),\"\",SUM('Data Input'!C345,'Data Input'!D345,'Data Input'!J345,'Data Input'!X345))","v":""},{"$f":"IF(G340=\"\",\"\",G340/COUNTIF('Data Input'!$C$8:$AK$8,\"N\"))","v":""},{"$f":"IF(ISBLANK('Data Input'!A345),\"\",SUM('Data Input'!G345,'Data Input'!I345,'Data Input'!L345,'Data Input'!N345,'Data Input'!O345,'Data Input'!S345,'Data Input'!Z345,'Data Input'!AA345,'Data Input'!AB345,'Data Input'!AC345,'Data Input'!AE345,'Data Input'!AF345,'Data Input'!AG345,'Data Input'!AI345,'Data Input'!AK345))","v":""},{"$f":"IF(I340=\"\",\"\",I340/COUNTIF('Data Input'!$C$8:$AK$8,\"C\"))","v":""},{"$f":"IF(ISBLANK('Data Input'!A345),\"\",SUM('Data Input'!T345,'Data Input'!U345))","v":""},{"$f":"IF(K340=\"\",\"\",K340/COUNTIF('Data Input'!$C$8:$AK$8,\"S\"))","v":""},{"$f":"IF(ISBLANK('Data Input'!A345),\"\",SUM('Data Input'!F345,'Data Input'!R345,'Data Input'!AJ345))","v":""},{"$f":"IF(M340=\"\",\"\",M340/COUNTIF('Data Input'!$C$8:$AK$8,\"F\"))","v":""},{"$f":"IF(ISBLANK('Data Input'!A345),\"\",SUM('Data Input'!E345,'Data Input'!M345,'Data Input'!Q345,'Data Input'!V345,'Data Input'!W345,'Data Input'!AD345,'Data Input'!AH345))","v":""},{"$f":"IF(O340=\"\",\"\",O340/COUNTIF('Data Input'!$C$8:$AK$8,\"M\"))","v":""},{"$f":"IF(ISBLANK('Data Input'!A345),\"\",SUM('Data Input'!H345,'Data Input'!K345,'Data Input'!P345,'Data Input'!Y345))","v":""},{"$f":"IF(Q340=\"\",\"\",Q340/COUNTIF('Data Input'!$C$8:$AK$8,\"G\"))","v":""}]
[{"$f":"IF('Data Input'!A346=0,\"\",'Data Input'!A346)","v":""},{"$f":"IF(ISBLANK('Data Input'!A346),\"\",COUNTIF('Data Input'!C346:AK346,\"\"))","v":""},{"$f":"IF(ISBLANK('Data Input'!A346),\"\",COUNTIF('Data Input'!C346:AK346,\"0\"))","v":""},{"$f":"IF(ISBLANK('Data Input'!A346),\"\",SUM(B341,C341))","v":""},{"$f":"IF(ISBLANK('Data Input'!A346),\"\",SUM('Data Input'!C346:AK346))","v":""},{"$f":"IF(E341=\"\",\"\",E341/(COUNTA('Data Input'!$C$8:$AK$8)))","v":""},{"$f":"IF(ISBLANK('Data Input'!A346),\"\",SUM('Data Input'!C346,'Data Input'!D346,'Data Input'!J346,'Data Input'!X346))","v":""},{"$f":"IF(G341=\"\",\"\",G341/COUNTIF('Data Input'!$C$8:$AK$8,\"N\"))","v":""},{"$f":"IF(ISBLANK('Data Input'!A346),\"\",SUM('Data Input'!G346,'Data Input'!I346,'Data Input'!L346,'Data Input'!N346,'Data Input'!O346,'Data Input'!S346,'Data Input'!Z346,'Data Input'!AA346,'Data Input'!AB346,'Data Input'!AC346,'Data Input'!AE346,'Data Input'!AF346,'Data Input'!AG346,'Data Input'!AI346,'Data Input'!AK346))","v":""},{"$f":"IF(I341=\"\",\"\",I341/COUNTIF('Data Input'!$C$8:$AK$8,\"C\"))","v":""},{"$f":"IF(ISBLANK('Data Input'!A346),\"\",SUM('Data Input'!T346,'Data Input'!U346))","v":""},{"$f":"IF(K341=\"\",\"\",K341/COUNTIF('Data Input'!$C$8:$AK$8,\"S\"))","v":""},{"$f":"IF(ISBLANK('Data Input'!A346),\"\",SUM('Data Input'!F346,'Data Input'!R346,'Data Input'!AJ346))","v":""},{"$f":"IF(M341=\"\",\"\",M341/COUNTIF('Data Input'!$C$8:$AK$8,\"F\"))","v":""},{"$f":"IF(ISBLANK('Data Input'!A346),\"\",SUM('Data Input'!E346,'Data Input'!M346,'Data Input'!Q346,'Data Input'!V346,'Data Input'!W346,'Data Input'!AD346,'Data Input'!AH346))","v":""},{"$f":"IF(O341=\"\",\"\",O341/COUNTIF('Data Input'!$C$8:$AK$8,\"M\"))","v":""},{"$f":"IF(ISBLANK('Data Input'!A346),\"\",SUM('Data Input'!H346,'Data Input'!K346,'Data Input'!P346,'Data Input'!Y346))","v":""},{"$f":"IF(Q341=\"\",\"\",Q341/COUNTIF('Data Input'!$C$8:$AK$8,\"G\"))","v":""}]
[{"$f":"IF('Data Input'!A347=0,\"\",'Data Input'!A347)","v":""},{"$f":"IF(ISBLANK('Data Input'!A347),\"\",COUNTIF('Data Input'!C347:AK347,\"\"))","v":""},{"$f":"IF(ISBLANK('Data Input'!A347),\"\",COUNTIF('Data Input'!C347:AK347,\"0\"))","v":""},{"$f":"IF(ISBLANK('Data Input'!A347),\"\",SUM(B342,C342))","v":""},{"$f":"IF(ISBLANK('Data Input'!A347),\"\",SUM('Data Input'!C347:AK347))","v":""},{"$f":"IF(E342=\"\",\"\",E342/(COUNTA('Data Input'!$C$8:$AK$8)))","v":""},{"$f":"IF(ISBLANK('Data Input'!A347),\"\",SUM('Data Input'!C347,'Data Input'!D347,'Data Input'!J347,'Data Input'!X347))","v":""},{"$f":"IF(G342=\"\",\"\",G342/COUNTIF('Data Input'!$C$8:$AK$8,\"N\"))","v":""},{"$f":"IF(ISBLANK('Data Input'!A347),\"\",SUM('Data Input'!G347,'Data Input'!I347,'Data Input'!L347,'Data Input'!N347,'Data Input'!O347,'Data Input'!S347,'Data Input'!Z347,'Data Input'!AA347,'Data Input'!AB347,'Data Input'!AC347,'Data Input'!AE347,'Data Input'!AF347,'Data Input'!AG347,'Data Input'!AI347,'Data Input'!AK347))","v":""},{"$f":"IF(I342=\"\",\"\",I342/COUNTIF('Data Input'!$C$8:$AK$8,\"C\"))","v":""},{"$f":"IF(ISBLANK('Data Input'!A347),\"\",SUM('Data Input'!T347,'Data Input'!U347))","v":""},{"$f":"IF(K342=\"\",\"\",K342/COUNTIF('Data Input'!$C$8:$AK$8,\"S\"))","v":""},{"$f":"IF(ISBLANK('Data Input'!A347),\"\",SUM('Data Input'!F347,'Data Input'!R347,'Data Input'!AJ347))","v":""},{"$f":"IF(M342=\"\",\"\",M342/COUNTIF('Data Input'!$C$8:$AK$8,\"F\"))","v":""},{"$f":"IF(ISBLANK('Data Input'!A347),\"\",SUM('Data Input'!E347,'Data Input'!M347,'Data Input'!Q347,'Data Input'!V347,'Data Input'!W347,'Data Input'!AD347,'Data Input'!AH347))","v":""},{"$f":"IF(O342=\"\",\"\",O342/COUNTIF('Data Input'!$C$8:$AK$8,\"M\"))","v":""},{"$f":"IF(ISBLANK('Data Input'!A347),\"\",SUM('Data Input'!H347,'Data Input'!K347,'Data Input'!P347,'Data Input'!Y347))","v":""},{"$f":"IF(Q342=\"\",\"\",Q342/COUNTIF('Data Input'!$C$8:$AK$8,\"G\"))","v":""}]
[{"$f":"IF('Data Input'!A348=0,\"\",'Data Input'!A348)","v":""},{"$f":"IF(ISBLANK('Data Input'!A348),\"\",COUNTIF('Data Input'!C348:AK348,\"\"))","v":""},{"$f":"IF(ISBLANK('Data Input'!A348),\"\",COUNTIF('Data Input'!C348:AK348,\"0\"))","v":""},{"$f":"IF(ISBLANK('Data Input'!A348),\"\",SUM(B343,C343))","v":""},{"$f":"IF(ISBLANK('Data Input'!A348),\"\",SUM('Data Input'!C348:AK348))","v":""},{"$f":"IF(E343=\"\",\"\",E343/(COUNTA('Data Input'!$C$8:$AK$8)))","v":""},{"$f":"IF(ISBLANK('Data Input'!A348),\"\",SUM('Data Input'!C348,'Data Input'!D348,'Data Input'!J348,'Data Input'!X348))","v":""},{"$f":"IF(G343=\"\",\"\",G343/COUNTIF('Data Input'!$C$8:$AK$8,\"N\"))","v":""},{"$f":"IF(ISBLANK('Data Input'!A348),\"\",SUM('Data Input'!G348,'Data Input'!I348,'Data Input'!L348,'Data Input'!N348,'Data Input'!O348,'Data Input'!S348,'Data Input'!Z348,'Data Input'!AA348,'Data Input'!AB348,'Data Input'!AC348,'Data Input'!AE348,'Data Input'!AF348,'Data Input'!AG348,'Data Input'!AI348,'Data Input'!AK348))","v":""},{"$f":"IF(I343=\"\",\"\",I343/COUNTIF('Data Input'!$C$8:$AK$8,\"C\"))","v":""},{"$f":"IF(ISBLANK('Data Input'!A348),\"\",SUM('Data Input'!T348,'Data Input'!U348))","v":""},{"$f":"IF(K343=\"\",\"\",K343/COUNTIF('Data Input'!$C$8:$AK$8,\"S\"))","v":""},{"$f":"IF(ISBLANK('Data Input'!A348),\"\",SUM('Data Input'!F348,'Data Input'!R348,'Data Input'!AJ348))","v":""},{"$f":"IF(M343=\"\",\"\",M343/COUNTIF('Data Input'!$C$8:$AK$8,\"F\"))","v":""},{"$f":"IF(ISBLANK('Data Input'!A348),\"\",SUM('Data Input'!E348,'Data Input'!M348,'Data Input'!Q348,'Data Input'!V348,'Data Input'!W348,'Data Input'!AD348,'Data Input'!AH348))","v":""},{"$f":"IF(O343=\"\",\"\",O343/COUNTIF('Data Input'!$C$8:$AK$8,\"M\"))","v":""},{"$f":"IF(ISBLANK('Data Input'!A348),\"\",SUM('Data Input'!H348,'Data Input'!K348,'Data Input'!P348,'Data Input'!Y348))","v":""},{"$f":"IF(Q343=\"\",\"\",Q343/COUNTIF('Data Input'!$C$8:$AK$8,\"G\"))","v":""}]
[{"$f":"IF('Data Input'!A349=0,\"\",'Data Input'!A349)","v":""},{"$f":"IF(ISBLANK('Data Input'!A349),\"\",COUNTIF('Data Input'!C349:AK349,\"\"))","v":""},{"$f":"IF(ISBLANK('Data Input'!A349),\"\",COUNTIF('Data Input'!C349:AK349,\"0\"))","v":""},{"$f":"IF(ISBLANK('Data Input'!A349),\"\",SUM(B344,C344))","v":""},{"$f":"IF(ISBLANK('Data Input'!A349),\"\",SUM('Data Input'!C349:AK349))","v":""},{"$f":"IF(E344=\"\",\"\",E344/(COUNTA('Data Input'!$C$8:$AK$8)))","v":""},{"$f":"IF(ISBLANK('Data Input'!A349),\"\",SUM('Data Input'!C349,'Data Input'!D349,'Data Input'!J349,'Data Input'!X349))","v":""},{"$f":"IF(G344=\"\",\"\",G344/COUNTIF('Data Input'!$C$8:$AK$8,\"N\"))","v":""},{"$f":"IF(ISBLANK('Data Input'!A349),\"\",SUM('Data Input'!G349,'Data Input'!I349,'Data Input'!L349,'Data Input'!N349,'Data Input'!O349,'Data Input'!S349,'Data Input'!Z349,'Data Input'!AA349,'Data Input'!AB349,'Data Input'!AC349,'Data Input'!AE349,'Data Input'!AF349,'Data Input'!AG349,'Data Input'!AI349,'Data Input'!AK349))","v":""},{"$f":"IF(I344=\"\",\"\",I344/COUNTIF('Data Input'!$C$8:$AK$8,\"C\"))","v":""},{"$f":"IF(ISBLANK('Data Input'!A349),\"\",SUM('Data Input'!T349,'Data Input'!U349))","v":""},{"$f":"IF(K344=\"\",\"\",K344/COUNTIF('Data Input'!$C$8:$AK$8,\"S\"))","v":""},{"$f":"IF(ISBLANK('Data Input'!A349),\"\",SUM('Data Input'!F349,'Data Input'!R349,'Data Input'!AJ349))","v":""},{"$f":"IF(M344=\"\",\"\",M344/COUNTIF('Data Input'!$C$8:$AK$8,\"F\"))","v":""},{"$f":"IF(ISBLANK('Data Input'!A349),\"\",SUM('Data Input'!E349,'Data Input'!M349,'Data Input'!Q349,'Data Input'!V349,'Data Input'!W349,'Data Input'!AD349,'Data Input'!AH349))","v":""},{"$f":"IF(O344=\"\",\"\",O344/COUNTIF('Data Input'!$C$8:$AK$8,\"M\"))","v":""},{"$f":"IF(ISBLANK('Data Input'!A349),\"\",SUM('Data Input'!H349,'Data Input'!K349,'Data Input'!P349,'Data Input'!Y349))","v":""},{"$f":"IF(Q344=\"\",\"\",Q344/COUNTIF('Data Input'!$C$8:$AK$8,\"G\"))","v":""}]
[{"$f":"IF('Data Input'!A350=0,\"\",'Data Input'!A350)","v":""},{"$f":"IF(ISBLANK('Data Input'!A350),\"\",COUNTIF('Data Input'!C350:AK350,\"\"))","v":""},{"$f":"IF(ISBLANK('Data Input'!A350),\"\",COUNTIF('Data Input'!C350:AK350,\"0\"))","v":""},{"$f":"IF(ISBLANK('Data Input'!A350),\"\",SUM(B345,C345))","v":""},{"$f":"IF(ISBLANK('Data Input'!A350),\"\",SUM('Data Input'!C350:AK350))","v":""},{"$f":"IF(E345=\"\",\"\",E345/(COUNTA('Data Input'!$C$8:$AK$8)))","v":""},{"$f":"IF(ISBLANK('Data Input'!A350),\"\",SUM('Data Input'!C350,'Data Input'!D350,'Data Input'!J350,'Data Input'!X350))","v":""},{"$f":"IF(G345=\"\",\"\",G345/COUNTIF('Data Input'!$C$8:$AK$8,\"N\"))","v":""},{"$f":"IF(ISBLANK('Data Input'!A350),\"\",SUM('Data Input'!G350,'Data Input'!I350,'Data Input'!L350,'Data Input'!N350,'Data Input'!O350,'Data Input'!S350,'Data Input'!Z350,'Data Input'!AA350,'Data Input'!AB350,'Data Input'!AC350,'Data Input'!AE350,'Data Input'!AF350,'Data Input'!AG350,'Data Input'!AI350,'Data Input'!AK350))","v":""},{"$f":"IF(I345=\"\",\"\",I345/COUNTIF('Data Input'!$C$8:$AK$8,\"C\"))","v":""},{"$f":"IF(ISBLANK('Data Input'!A350),\"\",SUM('Data Input'!T350,'Data Input'!U350))","v":""},{"$f":"IF(K345=\"\",\"\",K345/COUNTIF('Data Input'!$C$8:$AK$8,\"S\"))","v":""},{"$f":"IF(ISBLANK('Data Input'!A350),\"\",SUM('Data Input'!F350,'Data Input'!R350,'Data Input'!AJ350))","v":""},{"$f":"IF(M345=\"\",\"\",M345/COUNTIF('Data Input'!$C$8:$AK$8,\"F\"))","v":""},{"$f":"IF(ISBLANK('Data Input'!A350),\"\",SUM('Data Input'!E350,'Data Input'!M350,'Data Input'!Q350,'Data Input'!V350,'Data Input'!W350,'Data Input'!AD350,'Data Input'!AH350))","v":""},{"$f":"IF(O345=\"\",\"\",O345/COUNTIF('Data Input'!$C$8:$AK$8,\"M\"))","v":""},{"$f":"IF(ISBLANK('Data Input'!A350),\"\",SUM('Data Input'!H350,'Data Input'!K350,'Data Input'!P350,'Data Input'!Y350))","v":""},{"$f":"IF(Q345=\"\",\"\",Q345/COUNTIF('Data Input'!$C$8:$AK$8,\"G\"))","v":""}]
[{"$f":"IF('Data Input'!A351=0,\"\",'Data Input'!A351)","v":""},{"$f":"IF(ISBLANK('Data Input'!A351),\"\",COUNTIF('Data Input'!C351:AK351,\"\"))","v":""},{"$f":"IF(ISBLANK('Data Input'!A351),\"\",COUNTIF('Data Input'!C351:AK351,\"0\"))","v":""},{"$f":"IF(ISBLANK('Data Input'!A351),\"\",SUM(B346,C346))","v":""},{"$f":"IF(ISBLANK('Data Input'!A351),\"\",SUM('Data Input'!C351:AK351))","v":""},{"$f":"IF(E346=\"\",\"\",E346/(COUNTA('Data Input'!$C$8:$AK$8)))","v":""},{"$f":"IF(ISBLANK('Data Input'!A351),\"\",SUM('Data Input'!C351,'Data Input'!D351,'Data Input'!J351,'Data Input'!X351))","v":""},{"$f":"IF(G346=\"\",\"\",G346/COUNTIF('Data Input'!$C$8:$AK$8,\"N\"))","v":""},{"$f":"IF(ISBLANK('Data Input'!A351),\"\",SUM('Data Input'!G351,'Data Input'!I351,'Data Input'!L351,'Data Input'!N351,'Data Input'!O351,'Data Input'!S351,'Data Input'!Z351,'Data Input'!AA351,'Data Input'!AB351,'Data Input'!AC351,'Data Input'!AE351,'Data Input'!AF351,'Data Input'!AG351,'Data Input'!AI351,'Data Input'!AK351))","v":""},{"$f":"IF(I346=\"\",\"\",I346/COUNTIF('Data Input'!$C$8:$AK$8,\"C\"))","v":""},{"$f":"IF(ISBLANK('Data Input'!A351),\"\",SUM('Data Input'!T351,'Data Input'!U351))","v":""},{"$f":"IF(K346=\"\",\"\",K346/COUNTIF('Data Input'!$C$8:$AK$8,\"S\"))","v":""},{"$f":"IF(ISBLANK('Data Input'!A351),\"\",SUM('Data Input'!F351,'Data Input'!R351,'Data Input'!AJ351))","v":""},{"$f":"IF(M346=\"\",\"\",M346/COUNTIF('Data Input'!$C$8:$AK$8,\"F\"))","v":""},{"$f":"IF(ISBLANK('Data Input'!A351),\"\",SUM('Data Input'!E351,'Data Input'!M351,'Data Input'!Q351,'Data Input'!V351,'Data Input'!W351,'Data Input'!AD351,'Data Input'!AH351))","v":""},{"$f":"IF(O346=\"\",\"\",O346/COUNTIF('Data Input'!$C$8:$AK$8,\"M\"))","v":""},{"$f":"IF(ISBLANK('Data Input'!A351),\"\",SUM('Data Input'!H351,'Data Input'!K351,'Data Input'!P351,'Data Input'!Y351))","v":""},{"$f":"IF(Q346=\"\",\"\",Q346/COUNTIF('Data Input'!$C$8:$AK$8,\"G\"))","v":""}]
[{"$f":"IF('Data Input'!A352=0,\"\",'Data Input'!A352)","v":""},{"$f":"IF(ISBLANK('Data Input'!A352),\"\",COUNTIF('Data Input'!C352:AK352,\"\"))","v":""},{"$f":"IF(ISBLANK('Data Input'!A352),\"\",COUNTIF('Data Input'!C352:AK352,\"0\"))","v":""},{"$f":"IF(ISBLANK('Data Input'!A352),\"\",SUM(B347,C347))","v":""},{"$f":"IF(ISBLANK('Data Input'!A352),\"\",SUM('Data Input'!C352:AK352))","v":""},{"$f":"IF(E347=\"\",\"\",E347/(COUNTA('Data Input'!$C$8:$AK$8)))","v":""},{"$f":"IF(ISBLANK('Data Input'!A352),\"\",SUM('Data Input'!C352,'Data Input'!D352,'Data Input'!J352,'Data Input'!X352))","v":""},{"$f":"IF(G347=\"\",\"\",G347/COUNTIF('Data Input'!$C$8:$AK$8,\"N\"))","v":""},{"$f":"IF(ISBLANK('Data Input'!A352),\"\",SUM('Data Input'!G352,'Data Input'!I352,'Data Input'!L352,'Data Input'!N352,'Data Input'!O352,'Data Input'!S352,'Data Input'!Z352,'Data Input'!AA352,'Data Input'!AB352,'Data Input'!AC352,'Data Input'!AE352,'Data Input'!AF352,'Data Input'!AG352,'Data Input'!AI352,'Data Input'!AK352))","v":""},{"$f":"IF(I347=\"\",\"\",I347/COUNTIF('Data Input'!$C$8:$AK$8,\"C\"))","v":""},{"$f":"IF(ISBLANK('Data Input'!A352),\"\",SUM('Data Input'!T352,'Data Input'!U352))","v":""},{"$f":"IF(K347=\"\",\"\",K347/COUNTIF('Data Input'!$C$8:$AK$8,\"S\"))","v":""},{"$f":"IF(ISBLANK('Data Input'!A352),\"\",SUM('Data Input'!F352,'Data Input'!R352,'Data Input'!AJ352))","v":""},{"$f":"IF(M347=\"\",\"\",M347/COUNTIF('Data Input'!$C$8:$AK$8,\"F\"))","v":""},{"$f":"IF(ISBLANK('Data Input'!A352),\"\",SUM('Data Input'!E352,'Data Input'!M352,'Data Input'!Q352,'Data Input'!V352,'Data Input'!W352,'Data Input'!AD352,'Data Input'!AH352))","v":""},{"$f":"IF(O347=\"\",\"\",O347/COUNTIF('Data Input'!$C$8:$AK$8,\"M\"))","v":""},{"$f":"IF(ISBLANK('Data Input'!A352),\"\",SUM('Data Input'!H352,'Data Input'!K352,'Data Input'!P352,'Data Input'!Y352))","v":""},{"$f":"IF(Q347=\"\",\"\",Q347/COUNTIF('Data Input'!$C$8:$AK$8,\"G\"))","v":""}]
[{"$f":"IF('Data Input'!A353=0,\"\",'Data Input'!A353)","v":""},{"$f":"IF(ISBLANK('Data Input'!A353),\"\",COUNTIF('Data Input'!C353:AK353,\"\"))","v":""},{"$f":"IF(ISBLANK('Data Input'!A353),\"\",COUNTIF('Data Input'!C353:AK353,\"0\"))","v":""},{"$f":"IF(ISBLANK('Data Input'!A353),\"\",SUM(B348,C348))","v":""},{"$f":"IF(ISBLANK('Data Input'!A353),\"\",SUM('Data Input'!C353:AK353))","v":""},{"$f":"IF(E348=\"\",\"\",E348/(COUNTA('Data Input'!$C$8:$AK$8)))","v":""},{"$f":"IF(ISBLANK('Data Input'!A353),\"\",SUM('Data Input'!C353,'Data Input'!D353,'Data Input'!J353,'Data Input'!X353))","v":""},{"$f":"IF(G348=\"\",\"\",G348/COUNTIF('Data Input'!$C$8:$AK$8,\"N\"))","v":""},{"$f":"IF(ISBLANK('Data Input'!A353),\"\",SUM('Data Input'!G353,'Data Input'!I353,'Data Input'!L353,'Data Input'!N353,'Data Input'!O353,'Data Input'!S353,'Data Input'!Z353,'Data Input'!AA353,'Data Input'!AB353,'Data Input'!AC353,'Data Input'!AE353,'Data Input'!AF353,'Data Input'!AG353,'Data Input'!AI353,'Data Input'!AK353))","v":""},{"$f":"IF(I348=\"\",\"\",I348/COUNTIF('Data Input'!$C$8:$AK$8,\"C\"))","v":""},{"$f":"IF(ISBLANK('Data Input'!A353),\"\",SUM('Data Input'!T353,'Data Input'!U353))","v":""},{"$f":"IF(K348=\"\",\"\",K348/COUNTIF('Data Input'!$C$8:$AK$8,\"S\"))","v":""},{"$f":"IF(ISBLANK('Data Input'!A353),\"\",SUM('Data Input'!F353,'Data Input'!R353,'Data Input'!AJ353))","v":""},{"$f":"IF(M348=\"\",\"\",M348/COUNTIF('Data Input'!$C$8:$AK$8,\"F\"))","v":""},{"$f":"IF(ISBLANK('Data Input'!A353),\"\",SUM('Data Input'!E353,'Data Input'!M353,'Data Input'!Q353,'Data Input'!V353,'Data Input'!W353,'Data Input'!AD353,'Data Input'!AH353))","v":""},{"$f":"IF(O348=\"\",\"\",O348/COUNTIF('Data Input'!$C$8:$AK$8,\"M\"))","v":""},{"$f":"IF(ISBLANK('Data Input'!A353),\"\",SUM('Data Input'!H353,'Data Input'!K353,'Data Input'!P353,'Data Input'!Y353))","v":""},{"$f":"IF(Q348=\"\",\"\",Q348/COUNTIF('Data Input'!$C$8:$AK$8,\"G\"))","v":""}]
[{"$f":"IF('Data Input'!A354=0,\"\",'Data Input'!A354)","v":""},{"$f":"IF(ISBLANK('Data Input'!A354),\"\",COUNTIF('Data Input'!C354:AK354,\"\"))","v":""},{"$f":"IF(ISBLANK('Data Input'!A354),\"\",COUNTIF('Data Input'!C354:AK354,\"0\"))","v":""},{"$f":"IF(ISBLANK('Data Input'!A354),\"\",SUM(B349,C349))","v":""},{"$f":"IF(ISBLANK('Data Input'!A354),\"\",SUM('Data Input'!C354:AK354))","v":""},{"$f":"IF(E349=\"\",\"\",E349/(COUNTA('Data Input'!$C$8:$AK$8)))","v":""},{"$f":"IF(ISBLANK('Data Input'!A354),\"\",SUM('Data Input'!C354,'Data Input'!D354,'Data Input'!J354,'Data Input'!X354))","v":""},{"$f":"IF(G349=\"\",\"\",G349/COUNTIF('Data Input'!$C$8:$AK$8,\"N\"))","v":""},{"$f":"IF(ISBLANK('Data Input'!A354),\"\",SUM('Data Input'!G354,'Data Input'!I354,'Data Input'!L354,'Data Input'!N354,'Data Input'!O354,'Data Input'!S354,'Data Input'!Z354,'Data Input'!AA354,'Data Input'!AB354,'Data Input'!AC354,'Data Input'!AE354,'Data Input'!AF354,'Data Input'!AG354,'Data Input'!AI354,'Data Input'!AK354))","v":""},{"$f":"IF(I349=\"\",\"\",I349/COUNTIF('Data Input'!$C$8:$AK$8,\"C\"))","v":""},{"$f":"IF(ISBLANK('Data Input'!A354),\"\",SUM('Data Input'!T354,'Data Input'!U354))","v":""},{"$f":"IF(K349=\"\",\"\",K349/COUNTIF('Data Input'!$C$8:$AK$8,\"S\"))","v":""},{"$f":"IF(ISBLANK('Data Input'!A354),\"\",SUM('Data Input'!F354,'Data Input'!R354,'Data Input'!AJ354))","v":""},{"$f":"IF(M349=\"\",\"\",M349/COUNTIF('Data Input'!$C$8:$AK$8,\"F\"))","v":""},{"$f":"IF(ISBLANK('Data Input'!A354),\"\",SUM('Data Input'!E354,'Data Input'!M354,'Data Input'!Q354,'Data Input'!V354,'Data Input'!W354,'Data Input'!AD354,'Data Input'!AH354))","v":""},{"$f":"IF(O349=\"\",\"\",O349/COUNTIF('Data Input'!$C$8:$AK$8,\"M\"))","v":""},{"$f":"IF(ISBLANK('Data Input'!A354),\"\",SUM('Data Input'!H354,'Data Input'!K354,'Data Input'!P354,'Data Input'!Y354))","v":""},{"$f":"IF(Q349=\"\",\"\",Q349/COUNTIF('Data Input'!$C$8:$AK$8,\"G\"))","v":""}]
[{"$f":"IF('Data Input'!A355=0,\"\",'Data Input'!A355)","v":""},{"$f":"IF(ISBLANK('Data Input'!A355),\"\",COUNTIF('Data Input'!C355:AK355,\"\"))","v":""},{"$f":"IF(ISBLANK('Data Input'!A355),\"\",COUNTIF('Data Input'!C355:AK355,\"0\"))","v":""},{"$f":"IF(ISBLANK('Data Input'!A355),\"\",SUM(B350,C350))","v":""},{"$f":"IF(ISBLANK('Data Input'!A355),\"\",SUM('Data Input'!C355:AK355))","v":""},{"$f":"IF(E350=\"\",\"\",E350/(COUNTA('Data Input'!$C$8:$AK$8)))","v":""},{"$f":"IF(ISBLANK('Data Input'!A355),\"\",SUM('Data Input'!C355,'Data Input'!D355,'Data Input'!J355,'Data Input'!X355))","v":""},{"$f":"IF(G350=\"\",\"\",G350/COUNTIF('Data Input'!$C$8:$AK$8,\"N\"))","v":""},{"$f":"IF(ISBLANK('Data Input'!A355),\"\",SUM('Data Input'!G355,'Data Input'!I355,'Data Input'!L355,'Data Input'!N355,'Data Input'!O355,'Data Input'!S355,'Data Input'!Z355,'Data Input'!AA355,'Data Input'!AB355,'Data Input'!AC355,'Data Input'!AE355,'Data Input'!AF355,'Data Input'!AG355,'Data Input'!AI355,'Data Input'!AK355))","v":""},{"$f":"IF(I350=\"\",\"\",I350/COUNTIF('Data Input'!$C$8:$AK$8,\"C\"))","v":""},{"$f":"IF(ISBLANK('Data Input'!A355),\"\",SUM('Data Input'!T355,'Data Input'!U355))","v":""},{"$f":"IF(K350=\"\",\"\",K350/COUNTIF('Data Input'!$C$8:$AK$8,\"S\"))","v":""},{"$f":"IF(ISBLANK('Data Input'!A355),\"\",SUM('Data Input'!F355,'Data Input'!R355,'Data Input'!AJ355))","v":""},{"$f":"IF(M350=\"\",\"\",M350/COUNTIF('Data Input'!$C$8:$AK$8,\"F\"))","v":""},{"$f":"IF(ISBLANK('Data Input'!A355),\"\",SUM('Data Input'!E355,'Data Input'!M355,'Data Input'!Q355,'Data Input'!V355,'Data Input'!W355,'Data Input'!AD355,'Data Input'!AH355))","v":""},{"$f":"IF(O350=\"\",\"\",O350/COUNTIF('Data Input'!$C$8:$AK$8,\"M\"))","v":""},{"$f":"IF(ISBLANK('Data Input'!A355),\"\",SUM('Data Input'!H355,'Data Input'!K355,'Data Input'!P355,'Data Input'!Y355))","v":""},{"$f":"IF(Q350=\"\",\"\",Q350/COUNTIF('Data Input'!$C$8:$AK$8,\"G\"))","v":""}]
[{"$f":"IF('Data Input'!A356=0,\"\",'Data Input'!A356)","v":""},{"$f":"IF(ISBLANK('Data Input'!A356),\"\",COUNTIF('Data Input'!C356:AK356,\"\"))","v":""},{"$f":"IF(ISBLANK('Data Input'!A356),\"\",COUNTIF('Data Input'!C356:AK356,\"0\"))","v":""},{"$f":"IF(ISBLANK('Data Input'!A356),\"\",SUM(B351,C351))","v":""},{"$f":"IF(ISBLANK('Data Input'!A356),\"\",SUM('Data Input'!C356:AK356))","v":""},{"$f":"IF(E351=\"\",\"\",E351/(COUNTA('Data Input'!$C$8:$AK$8)))","v":""},{"$f":"IF(ISBLANK('Data Input'!A356),\"\",SUM('Data Input'!C356,'Data Input'!D356,'Data Input'!J356,'Data Input'!X356))","v":""},{"$f":"IF(G351=\"\",\"\",G351/COUNTIF('Data Input'!$C$8:$AK$8,\"N\"))","v":""},{"$f":"IF(ISBLANK('Data Input'!A356),\"\",SUM('Data Input'!G356,'Data Input'!I356,'Data Input'!L356,'Data Input'!N356,'Data Input'!O356,'Data Input'!S356,'Data Input'!Z356,'Data Input'!AA356,'Data Input'!AB356,'Data Input'!AC356,'Data Input'!AE356,'Data Input'!AF356,'Data Input'!AG356,'Data Input'!AI356,'Data Input'!AK356))","v":""},{"$f":"IF(I351=\"\",\"\",I351/COUNTIF('Data Input'!$C$8:$AK$8,\"C\"))","v":""},{"$f":"IF(ISBLANK('Data Input'!A356),\"\",SUM('Data Input'!T356,'Data Input'!U356))","v":""},{"$f":"IF(K351=\"\",\"\",K351/COUNTIF('Data Input'!$C$8:$AK$8,\"S\"))","v":""},{"$f":"IF(ISBLANK('Data Input'!A356),\"\",SUM('Data Input'!F356,'Data Input'!R356,'Data Input'!AJ356))","v":""},{"$f":"IF(M351=\"\",\"\",M351/COUNTIF('Data Input'!$C$8:$AK$8,\"F\"))","v":""},{"$f":"IF(ISBLANK('Data Input'!A356),\"\",SUM('Data Input'!E356,'Data Input'!M356,'Data Input'!Q356,'Data Input'!V356,'Data Input'!W356,'Data Input'!AD356,'Data Input'!AH356))","v":""},{"$f":"IF(O351=\"\",\"\",O351/COUNTIF('Data Input'!$C$8:$AK$8,\"M\"))","v":""},{"$f":"IF(ISBLANK('Data Input'!A356),\"\",SUM('Data Input'!H356,'Data Input'!K356,'Data Input'!P356,'Data Input'!Y356))","v":""},{"$f":"IF(Q351=\"\",\"\",Q351/COUNTIF('Data Input'!$C$8:$AK$8,\"G\"))","v":""}]
[{"$f":"IF('Data Input'!A357=0,\"\",'Data Input'!A357)","v":""},{"$f":"IF(ISBLANK('Data Input'!A357),\"\",COUNTIF('Data Input'!C357:AK357,\"\"))","v":""},{"$f":"IF(ISBLANK('Data Input'!A357),\"\",COUNTIF('Data Input'!C357:AK357,\"0\"))","v":""},{"$f":"IF(ISBLANK('Data Input'!A357),\"\",SUM(B352,C352))","v":""},{"$f":"IF(ISBLANK('Data Input'!A357),\"\",SUM('Data Input'!C357:AK357))","v":""},{"$f":"IF(E352=\"\",\"\",E352/(COUNTA('Data Input'!$C$8:$AK$8)))","v":""},{"$f":"IF(ISBLANK('Data Input'!A357),\"\",SUM('Data Input'!C357,'Data Input'!D357,'Data Input'!J357,'Data Input'!X357))","v":""},{"$f":"IF(G352=\"\",\"\",G352/COUNTIF('Data Input'!$C$8:$AK$8,\"N\"))","v":""},{"$f":"IF(ISBLANK('Data Input'!A357),\"\",SUM('Data Input'!G357,'Data Input'!I357,'Data Input'!L357,'Data Input'!N357,'Data Input'!O357,'Data Input'!S357,'Data Input'!Z357,'Data Input'!AA357,'Data Input'!AB357,'Data Input'!AC357,'Data Input'!AE357,'Data Input'!AF357,'Data Input'!AG357,'Data Input'!AI357,'Data Input'!AK357))","v":""},{"$f":"IF(I352=\"\",\"\",I352/COUNTIF('Data Input'!$C$8:$AK$8,\"C\"))","v":""},{"$f":"IF(ISBLANK('Data Input'!A357),\"\",SUM('Data Input'!T357,'Data Input'!U357))","v":""},{"$f":"IF(K352=\"\",\"\",K352/COUNTIF('Data Input'!$C$8:$AK$8,\"S\"))","v":""},{"$f":"IF(ISBLANK('Data Input'!A357),\"\",SUM('Data Input'!F357,'Data Input'!R357,'Data Input'!AJ357))","v":""},{"$f":"IF(M352=\"\",\"\",M352/COUNTIF('Data Input'!$C$8:$AK$8,\"F\"))","v":""},{"$f":"IF(ISBLANK('Data Input'!A357),\"\",SUM('Data Input'!E357,'Data Input'!M357,'Data Input'!Q357,'Data Input'!V357,'Data Input'!W357,'Data Input'!AD357,'Data Input'!AH357))","v":""},{"$f":"IF(O352=\"\",\"\",O352/COUNTIF('Data Input'!$C$8:$AK$8,\"M\"))","v":""},{"$f":"IF(ISBLANK('Data Input'!A357),\"\",SUM('Data Input'!H357,'Data Input'!K357,'Data Input'!P357,'Data Input'!Y357))","v":""},{"$f":"IF(Q352=\"\",\"\",Q352/COUNTIF('Data Input'!$C$8:$AK$8,\"G\"))","v":""}]
[{"$f":"IF('Data Input'!A358=0,\"\",'Data Input'!A358)","v":""},{"$f":"IF(ISBLANK('Data Input'!A358),\"\",COUNTIF('Data Input'!C358:AK358,\"\"))","v":""},{"$f":"IF(ISBLANK('Data Input'!A358),\"\",COUNTIF('Data Input'!C358:AK358,\"0\"))","v":""},{"$f":"IF(ISBLANK('Data Input'!A358),\"\",SUM(B353,C353))","v":""},{"$f":"IF(ISBLANK('Data Input'!A358),\"\",SUM('Data Input'!C358:AK358))","v":""},{"$f":"IF(E353=\"\",\"\",E353/(COUNTA('Data Input'!$C$8:$AK$8)))","v":""},{"$f":"IF(ISBLANK('Data Input'!A358),\"\",SUM('Data Input'!C358,'Data Input'!D358,'Data Input'!J358,'Data Input'!X358))","v":""},{"$f":"IF(G353=\"\",\"\",G353/COUNTIF('Data Input'!$C$8:$AK$8,\"N\"))","v":""},{"$f":"IF(ISBLANK('Data Input'!A358),\"\",SUM('Data Input'!G358,'Data Input'!I358,'Data Input'!L358,'Data Input'!N358,'Data Input'!O358,'Data Input'!S358,'Data Input'!Z358,'Data Input'!AA358,'Data Input'!AB358,'Data Input'!AC358,'Data Input'!AE358,'Data Input'!AF358,'Data Input'!AG358,'Data Input'!AI358,'Data Input'!AK358))","v":""},{"$f":"IF(I353=\"\",\"\",I353/COUNTIF('Data Input'!$C$8:$AK$8,\"C\"))","v":""},{"$f":"IF(ISBLANK('Data Input'!A358),\"\",SUM('Data Input'!T358,'Data Input'!U358))","v":""},{"$f":"IF(K353=\"\",\"\",K353/COUNTIF('Data Input'!$C$8:$AK$8,\"S\"))","v":""},{"$f":"IF(ISBLANK('Data Input'!A358),\"\",SUM('Data Input'!F358,'Data Input'!R358,'Data Input'!AJ358))","v":""},{"$f":"IF(M353=\"\",\"\",M353/COUNTIF('Data Input'!$C$8:$AK$8,\"F\"))","v":""},{"$f":"IF(ISBLANK('Data Input'!A358),\"\",SUM('Data Input'!E358,'Data Input'!M358,'Data Input'!Q358,'Data Input'!V358,'Data Input'!W358,'Data Input'!AD358,'Data Input'!AH358))","v":""},{"$f":"IF(O353=\"\",\"\",O353/COUNTIF('Data Input'!$C$8:$AK$8,\"M\"))","v":""},{"$f":"IF(ISBLANK('Data Input'!A358),\"\",SUM('Data Input'!H358,'Data Input'!K358,'Data Input'!P358,'Data Input'!Y358))","v":""},{"$f":"IF(Q353=\"\",\"\",Q353/COUNTIF('Data Input'!$C$8:$AK$8,\"G\"))","v":""}]
[{"$f":"IF('Data Input'!A359=0,\"\",'Data Input'!A359)","v":""},{"$f":"IF(ISBLANK('Data Input'!A359),\"\",COUNTIF('Data Input'!C359:AK359,\"\"))","v":""},{"$f":"IF(ISBLANK('Data Input'!A359),\"\",COUNTIF('Data Input'!C359:AK359,\"0\"))","v":""},{"$f":"IF(ISBLANK('Data Input'!A359),\"\",SUM(B354,C354))","v":""},{"$f":"IF(ISBLANK('Data Input'!A359),\"\",SUM('Data Input'!C359:AK359))","v":""},{"$f":"IF(E354=\"\",\"\",E354/(COUNTA('Data Input'!$C$8:$AK$8)))","v":""},{"$f":"IF(ISBLANK('Data Input'!A359),\"\",SUM('Data Input'!C359,'Data Input'!D359,'Data Input'!J359,'Data Input'!X359))","v":""},{"$f":"IF(G354=\"\",\"\",G354/COUNTIF('Data Input'!$C$8:$AK$8,\"N\"))","v":""},{"$f":"IF(ISBLANK('Data Input'!A359),\"\",SUM('Data Input'!G359,'Data Input'!I359,'Data Input'!L359,'Data Input'!N359,'Data Input'!O359,'Data Input'!S359,'Data Input'!Z359,'Data Input'!AA359,'Data Input'!AB359,'Data Input'!AC359,'Data Input'!AE359,'Data Input'!AF359,'Data Input'!AG359,'Data Input'!AI359,'Data Input'!AK359))","v":""},{"$f":"IF(I354=\"\",\"\",I354/COUNTIF('Data Input'!$C$8:$AK$8,\"C\"))","v":""},{"$f":"IF(ISBLANK('Data Input'!A359),\"\",SUM('Data Input'!T359,'Data Input'!U359))","v":""},{"$f":"IF(K354=\"\",\"\",K354/COUNTIF('Data Input'!$C$8:$AK$8,\"S\"))","v":""},{"$f":"IF(ISBLANK('Data Input'!A359),\"\",SUM('Data Input'!F359,'Data Input'!R359,'Data Input'!AJ359))","v":""},{"$f":"IF(M354=\"\",\"\",M354/COUNTIF('Data Input'!$C$8:$AK$8,\"F\"))","v":""},{"$f":"IF(ISBLANK('Data Input'!A359),\"\",SUM('Data Input'!E359,'Data Input'!M359,'Data Input'!Q359,'Data Input'!V359,'Data Input'!W359,'Data Input'!AD359,'Data Input'!AH359))","v":""},{"$f":"IF(O354=\"\",\"\",O354/COUNTIF('Data Input'!$C$8:$AK$8,\"M\"))","v":""},{"$f":"IF(ISBLANK('Data Input'!A359),\"\",SUM('Data Input'!H359,'Data Input'!K359,'Data Input'!P359,'Data Input'!Y359))","v":""},{"$f":"IF(Q354=\"\",\"\",Q354/COUNTIF('Data Input'!$C$8:$AK$8,\"G\"))","v":""}]
[{"$f":"IF('Data Input'!A360=0,\"\",'Data Input'!A360)","v":""},{"$f":"IF(ISBLANK('Data Input'!A360),\"\",COUNTIF('Data Input'!C360:AK360,\"\"))","v":""},{"$f":"IF(ISBLANK('Data Input'!A360),\"\",COUNTIF('Data Input'!C360:AK360,\"0\"))","v":""},{"$f":"IF(ISBLANK('Data Input'!A360),\"\",SUM(B355,C355))","v":""},{"$f":"IF(ISBLANK('Data Input'!A360),\"\",SUM('Data Input'!C360:AK360))","v":""},{"$f":"IF(E355=\"\",\"\",E355/(COUNTA('Data Input'!$C$8:$AK$8)))","v":""},{"$f":"IF(ISBLANK('Data Input'!A360),\"\",SUM('Data Input'!C360,'Data Input'!D360,'Data Input'!J360,'Data Input'!X360))","v":""},{"$f":"IF(G355=\"\",\"\",G355/COUNTIF('Data Input'!$C$8:$AK$8,\"N\"))","v":""},{"$f":"IF(ISBLANK('Data Input'!A360),\"\",SUM('Data Input'!G360,'Data Input'!I360,'Data Input'!L360,'Data Input'!N360,'Data Input'!O360,'Data Input'!S360,'Data Input'!Z360,'Data Input'!AA360,'Data Input'!AB360,'Data Input'!AC360,'Data Input'!AE360,'Data Input'!AF360,'Data Input'!AG360,'Data Input'!AI360,'Data Input'!AK360))","v":""},{"$f":"IF(I355=\"\",\"\",I355/COUNTIF('Data Input'!$C$8:$AK$8,\"C\"))","v":""},{"$f":"IF(ISBLANK('Data Input'!A360),\"\",SUM('Data Input'!T360,'Data Input'!U360))","v":""},{"$f":"IF(K355=\"\",\"\",K355/COUNTIF('Data Input'!$C$8:$AK$8,\"S\"))","v":""},{"$f":"IF(ISBLANK('Data Input'!A360),\"\",SUM('Data Input'!F360,'Data Input'!R360,'Data Input'!AJ360))","v":""},{"$f":"IF(M355=\"\",\"\",M355/COUNTIF('Data Input'!$C$8:$AK$8,\"F\"))","v":""},{"$f":"IF(ISBLANK('Data Input'!A360),\"\",SUM('Data Input'!E360,'Data Input'!M360,'Data Input'!Q360,'Data Input'!V360,'Data Input'!W360,'Data Input'!AD360,'Data Input'!AH360))","v":""},{"$f":"IF(O355=\"\",\"\",O355/COUNTIF('Data Input'!$C$8:$AK$8,\"M\"))","v":""},{"$f":"IF(ISBLANK('Data Input'!A360),\"\",SUM('Data Input'!H360,'Data Input'!K360,'Data Input'!P360,'Data Input'!Y360))","v":""},{"$f":"IF(Q355=\"\",\"\",Q355/COUNTIF('Data Input'!$C$8:$AK$8,\"G\"))","v":""}]
[{"$f":"IF('Data Input'!A361=0,\"\",'Data Input'!A361)","v":""},{"$f":"IF(ISBLANK('Data Input'!A361),\"\",COUNTIF('Data Input'!C361:AK361,\"\"))","v":""},{"$f":"IF(ISBLANK('Data Input'!A361),\"\",COUNTIF('Data Input'!C361:AK361,\"0\"))","v":""},{"$f":"IF(ISBLANK('Data Input'!A361),\"\",SUM(B356,C356))","v":""},{"$f":"IF(ISBLANK('Data Input'!A361),\"\",SUM('Data Input'!C361:AK361))","v":""},{"$f":"IF(E356=\"\",\"\",E356/(COUNTA('Data Input'!$C$8:$AK$8)))","v":""},{"$f":"IF(ISBLANK('Data Input'!A361),\"\",SUM('Data Input'!C361,'Data Input'!D361,'Data Input'!J361,'Data Input'!X361))","v":""},{"$f":"IF(G356=\"\",\"\",G356/COUNTIF('Data Input'!$C$8:$AK$8,\"N\"))","v":""},{"$f":"IF(ISBLANK('Data Input'!A361),\"\",SUM('Data Input'!G361,'Data Input'!I361,'Data Input'!L361,'Data Input'!N361,'Data Input'!O361,'Data Input'!S361,'Data Input'!Z361,'Data Input'!AA361,'Data Input'!AB361,'Data Input'!AC361,'Data Input'!AE361,'Data Input'!AF361,'Data Input'!AG361,'Data Input'!AI361,'Data Input'!AK361))","v":""},{"$f":"IF(I356=\"\",\"\",I356/COUNTIF('Data Input'!$C$8:$AK$8,\"C\"))","v":""},{"$f":"IF(ISBLANK('Data Input'!A361),\"\",SUM('Data Input'!T361,'Data Input'!U361))","v":""},{"$f":"IF(K356=\"\",\"\",K356/COUNTIF('Data Input'!$C$8:$AK$8,\"S\"))","v":""},{"$f":"IF(ISBLANK('Data Input'!A361),\"\",SUM('Data Input'!F361,'Data Input'!R361,'Data Input'!AJ361))","v":""},{"$f":"IF(M356=\"\",\"\",M356/COUNTIF('Data Input'!$C$8:$AK$8,\"F\"))","v":""},{"$f":"IF(ISBLANK('Data Input'!A361),\"\",SUM('Data Input'!E361,'Data Input'!M361,'Data Input'!Q361,'Data Input'!V361,'Data Input'!W361,'Data Input'!AD361,'Data Input'!AH361))","v":""},{"$f":"IF(O356=\"\",\"\",O356/COUNTIF('Data Input'!$C$8:$AK$8,\"M\"))","v":""},{"$f":"IF(ISBLANK('Data Input'!A361),\"\",SUM('Data Input'!H361,'Data Input'!K361,'Data Input'!P361,'Data Input'!Y361))","v":""},{"$f":"IF(Q356=\"\",\"\",Q356/COUNTIF('Data Input'!$C$8:$AK$8,\"G\"))","v":""}]
[{"$f":"IF('Data Input'!A362=0,\"\",'Data Input'!A362)","v":""},{"$f":"IF(ISBLANK('Data Input'!A362),\"\",COUNTIF('Data Input'!C362:AK362,\"\"))","v":""},{"$f":"IF(ISBLANK('Data Input'!A362),\"\",COUNTIF('Data Input'!C362:AK362,\"0\"))","v":""},{"$f":"IF(ISBLANK('Data Input'!A362),\"\",SUM(B357,C357))","v":""},{"$f":"IF(ISBLANK('Data Input'!A362),\"\",SUM('Data Input'!C362:AK362))","v":""},{"$f":"IF(E357=\"\",\"\",E357/(COUNTA('Data Input'!$C$8:$AK$8)))","v":""},{"$f":"IF(ISBLANK('Data Input'!A362),\"\",SUM('Data Input'!C362,'Data Input'!D362,'Data Input'!J362,'Data Input'!X362))","v":""},{"$f":"IF(G357=\"\",\"\",G357/COUNTIF('Data Input'!$C$8:$AK$8,\"N\"))","v":""},{"$f":"IF(ISBLANK('Data Input'!A362),\"\",SUM('Data Input'!G362,'Data Input'!I362,'Data Input'!L362,'Data Input'!N362,'Data Input'!O362,'Data Input'!S362,'Data Input'!Z362,'Data Input'!AA362,'Data Input'!AB362,'Data Input'!AC362,'Data Input'!AE362,'Data Input'!AF362,'Data Input'!AG362,'Data Input'!AI362,'Data Input'!AK362))","v":""},{"$f":"IF(I357=\"\",\"\",I357/COUNTIF('Data Input'!$C$8:$AK$8,\"C\"))","v":""},{"$f":"IF(ISBLANK('Data Input'!A362),\"\",SUM('Data Input'!T362,'Data Input'!U362))","v":""},{"$f":"IF(K357=\"\",\"\",K357/COUNTIF('Data Input'!$C$8:$AK$8,\"S\"))","v":""},{"$f":"IF(ISBLANK('Data Input'!A362),\"\",SUM('Data Input'!F362,'Data Input'!R362,'Data Input'!AJ362))","v":""},{"$f":"IF(M357=\"\",\"\",M357/COUNTIF('Data Input'!$C$8:$AK$8,\"F\"))","v":""},{"$f":"IF(ISBLANK('Data Input'!A362),\"\",SUM('Data Input'!E362,'Data Input'!M362,'Data Input'!Q362,'Data Input'!V362,'Data Input'!W362,'Data Input'!AD362,'Data Input'!AH362))","v":""},{"$f":"IF(O357=\"\",\"\",O357/COUNTIF('Data Input'!$C$8:$AK$8,\"M\"))","v":""},{"$f":"IF(ISBLANK('Data Input'!A362),\"\",SUM('Data Input'!H362,'Data Input'!K362,'Data Input'!P362,'Data Input'!Y362))","v":""},{"$f":"IF(Q357=\"\",\"\",Q357/COUNTIF('Data Input'!$C$8:$AK$8,\"G\"))","v":""}]
[{"$f":"IF('Data Input'!A363=0,\"\",'Data Input'!A363)","v":""},{"$f":"IF(ISBLANK('Data Input'!A363),\"\",COUNTIF('Data Input'!C363:AK363,\"\"))","v":""},{"$f":"IF(ISBLANK('Data Input'!A363),\"\",COUNTIF('Data Input'!C363:AK363,\"0\"))","v":""},{"$f":"IF(ISBLANK('Data Input'!A363),\"\",SUM(B358,C358))","v":""},{"$f":"IF(ISBLANK('Data Input'!A363),\"\",SUM('Data Input'!C363:AK363))","v":""},{"$f":"IF(E358=\"\",\"\",E358/(COUNTA('Data Input'!$C$8:$AK$8)))","v":""},{"$f":"IF(ISBLANK('Data Input'!A363),\"\",SUM('Data Input'!C363,'Data Input'!D363,'Data Input'!J363,'Data Input'!X363))","v":""},{"$f":"IF(G358=\"\",\"\",G358/COUNTIF('Data Input'!$C$8:$AK$8,\"N\"))","v":""},{"$f":"IF(ISBLANK('Data Input'!A363),\"\",SUM('Data Input'!G363,'Data Input'!I363,'Data Input'!L363,'Data Input'!N363,'Data Input'!O363,'Data Input'!S363,'Data Input'!Z363,'Data Input'!AA363,'Data Input'!AB363,'Data Input'!AC363,'Data Input'!AE363,'Data Input'!AF363,'Data Input'!AG363,'Data Input'!AI363,'Data Input'!AK363))","v":""},{"$f":"IF(I358=\"\",\"\",I358/COUNTIF('Data Input'!$C$8:$AK$8,\"C\"))","v":""},{"$f":"IF(ISBLANK('Data Input'!A363),\"\",SUM('Data Input'!T363,'Data Input'!U363))","v":""},{"$f":"IF(K358=\"\",\"\",K358/COUNTIF('Data Input'!$C$8:$AK$8,\"S\"))","v":""},{"$f":"IF(ISBLANK('Data Input'!A363),\"\",SUM('Data Input'!F363,'Data Input'!R363,'Data Input'!AJ363))","v":""},{"$f":"IF(M358=\"\",\"\",M358/COUNTIF('Data Input'!$C$8:$AK$8,\"F\"))","v":""},{"$f":"IF(ISBLANK('Data Input'!A363),\"\",SUM('Data Input'!E363,'Data Input'!M363,'Data Input'!Q363,'Data Input'!V363,'Data Input'!W363,'Data Input'!AD363,'Data Input'!AH363))","v":""},{"$f":"IF(O358=\"\",\"\",O358/COUNTIF('Data Input'!$C$8:$AK$8,\"M\"))","v":""},{"$f":"IF(ISBLANK('Data Input'!A363),\"\",SUM('Data Input'!H363,'Data Input'!K363,'Data Input'!P363,'Data Input'!Y363))","v":""},{"$f":"IF(Q358=\"\",\"\",Q358/COUNTIF('Data Input'!$C$8:$AK$8,\"G\"))","v":""}]
[{"$f":"IF('Data Input'!A364=0,\"\",'Data Input'!A364)","v":""},{"$f":"IF(ISBLANK('Data Input'!A364),\"\",COUNTIF('Data Input'!C364:AK364,\"\"))","v":""},{"$f":"IF(ISBLANK('Data Input'!A364),\"\",COUNTIF('Data Input'!C364:AK364,\"0\"))","v":""},{"$f":"IF(ISBLANK('Data Input'!A364),\"\",SUM(B359,C359))","v":""},{"$f":"IF(ISBLANK('Data Input'!A364),\"\",SUM('Data Input'!C364:AK364))","v":""},{"$f":"IF(E359=\"\",\"\",E359/(COUNTA('Data Input'!$C$8:$AK$8)))","v":""},{"$f":"IF(ISBLANK('Data Input'!A364),\"\",SUM('Data Input'!C364,'Data Input'!D364,'Data Input'!J364,'Data Input'!X364))","v":""},{"$f":"IF(G359=\"\",\"\",G359/COUNTIF('Data Input'!$C$8:$AK$8,\"N\"))","v":""},{"$f":"IF(ISBLANK('Data Input'!A364),\"\",SUM('Data Input'!G364,'Data Input'!I364,'Data Input'!L364,'Data Input'!N364,'Data Input'!O364,'Data Input'!S364,'Data Input'!Z364,'Data Input'!AA364,'Data Input'!AB364,'Data Input'!AC364,'Data Input'!AE364,'Data Input'!AF364,'Data Input'!AG364,'Data Input'!AI364,'Data Input'!AK364))","v":""},{"$f":"IF(I359=\"\",\"\",I359/COUNTIF('Data Input'!$C$8:$AK$8,\"C\"))","v":""},{"$f":"IF(ISBLANK('Data Input'!A364),\"\",SUM('Data Input'!T364,'Data Input'!U364))","v":""},{"$f":"IF(K359=\"\",\"\",K359/COUNTIF('Data Input'!$C$8:$AK$8,\"S\"))","v":""},{"$f":"IF(ISBLANK('Data Input'!A364),\"\",SUM('Data Input'!F364,'Data Input'!R364,'Data Input'!AJ364))","v":""},{"$f":"IF(M359=\"\",\"\",M359/COUNTIF('Data Input'!$C$8:$AK$8,\"F\"))","v":""},{"$f":"IF(ISBLANK('Data Input'!A364),\"\",SUM('Data Input'!E364,'Data Input'!M364,'Data Input'!Q364,'Data Input'!V364,'Data Input'!W364,'Data Input'!AD364,'Data Input'!AH364))","v":""},{"$f":"IF(O359=\"\",\"\",O359/COUNTIF('Data Input'!$C$8:$AK$8,\"M\"))","v":""},{"$f":"IF(ISBLANK('Data Input'!A364),\"\",SUM('Data Input'!H364,'Data Input'!K364,'Data Input'!P364,'Data Input'!Y364))","v":""},{"$f":"IF(Q359=\"\",\"\",Q359/COUNTIF('Data Input'!$C$8:$AK$8,\"G\"))","v":""}]
[{"$f":"IF('Data Input'!A365=0,\"\",'Data Input'!A365)","v":""},{"$f":"IF(ISBLANK('Data Input'!A365),\"\",COUNTIF('Data Input'!C365:AK365,\"\"))","v":""},{"$f":"IF(ISBLANK('Data Input'!A365),\"\",COUNTIF('Data Input'!C365:AK365,\"0\"))","v":""},{"$f":"IF(ISBLANK('Data Input'!A365),\"\",SUM(B360,C360))","v":""},{"$f":"IF(ISBLANK('Data Input'!A365),\"\",SUM('Data Input'!C365:AK365))","v":""},{"$f":"IF(E360=\"\",\"\",E360/(COUNTA('Data Input'!$C$8:$AK$8)))","v":""},{"$f":"IF(ISBLANK('Data Input'!A365),\"\",SUM('Data Input'!C365,'Data Input'!D365,'Data Input'!J365,'Data Input'!X365))","v":""},{"$f":"IF(G360=\"\",\"\",G360/COUNTIF('Data Input'!$C$8:$AK$8,\"N\"))","v":""},{"$f":"IF(ISBLANK('Data Input'!A365),\"\",SUM('Data Input'!G365,'Data Input'!I365,'Data Input'!L365,'Data Input'!N365,'Data Input'!O365,'Data Input'!S365,'Data Input'!Z365,'Data Input'!AA365,'Data Input'!AB365,'Data Input'!AC365,'Data Input'!AE365,'Data Input'!AF365,'Data Input'!AG365,'Data Input'!AI365,'Data Input'!AK365))","v":""},{"$f":"IF(I360=\"\",\"\",I360/COUNTIF('Data Input'!$C$8:$AK$8,\"C\"))","v":""},{"$f":"IF(ISBLANK('Data Input'!A365),\"\",SUM('Data Input'!T365,'Data Input'!U365))","v":""},{"$f":"IF(K360=\"\",\"\",K360/COUNTIF('Data Input'!$C$8:$AK$8,\"S\"))","v":""},{"$f":"IF(ISBLANK('Data Input'!A365),\"\",SUM('Data Input'!F365,'Data Input'!R365,'Data Input'!AJ365))","v":""},{"$f":"IF(M360=\"\",\"\",M360/COUNTIF('Data Input'!$C$8:$AK$8,\"F\"))","v":""},{"$f":"IF(ISBLANK('Data Input'!A365),\"\",SUM('Data Input'!E365,'Data Input'!M365,'Data Input'!Q365,'Data Input'!V365,'Data Input'!W365,'Data Input'!AD365,'Data Input'!AH365))","v":""},{"$f":"IF(O360=\"\",\"\",O360/COUNTIF('Data Input'!$C$8:$AK$8,\"M\"))","v":""},{"$f":"IF(ISBLANK('Data Input'!A365),\"\",SUM('Data Input'!H365,'Data Input'!K365,'Data Input'!P365,'Data Input'!Y365))","v":""},{"$f":"IF(Q360=\"\",\"\",Q360/COUNTIF('Data Input'!$C$8:$AK$8,\"G\"))","v":""}]
[{"$f":"IF('Data Input'!A366=0,\"\",'Data Input'!A366)","v":""},{"$f":"IF(ISBLANK('Data Input'!A366),\"\",COUNTIF('Data Input'!C366:AK366,\"\"))","v":""},{"$f":"IF(ISBLANK('Data Input'!A366),\"\",COUNTIF('Data Input'!C366:AK366,\"0\"))","v":""},{"$f":"IF(ISBLANK('Data Input'!A366),\"\",SUM(B361,C361))","v":""},{"$f":"IF(ISBLANK('Data Input'!A366),\"\",SUM('Data Input'!C366:AK366))","v":""},{"$f":"IF(E361=\"\",\"\",E361/(COUNTA('Data Input'!$C$8:$AK$8)))","v":""},{"$f":"IF(ISBLANK('Data Input'!A366),\"\",SUM('Data Input'!C366,'Data Input'!D366,'Data Input'!J366,'Data Input'!X366))","v":""},{"$f":"IF(G361=\"\",\"\",G361/COUNTIF('Data Input'!$C$8:$AK$8,\"N\"))","v":""},{"$f":"IF(ISBLANK('Data Input'!A366),\"\",SUM('Data Input'!G366,'Data Input'!I366,'Data Input'!L366,'Data Input'!N366,'Data Input'!O366,'Data Input'!S366,'Data Input'!Z366,'Data Input'!AA366,'Data Input'!AB366,'Data Input'!AC366,'Data Input'!AE366,'Data Input'!AF366,'Data Input'!AG366,'Data Input'!AI366,'Data Input'!AK366))","v":""},{"$f":"IF(I361=\"\",\"\",I361/COUNTIF('Data Input'!$C$8:$AK$8,\"C\"))","v":""},{"$f":"IF(ISBLANK('Data Input'!A366),\"\",SUM('Data Input'!T366,'Data Input'!U366))","v":""},{"$f":"IF(K361=\"\",\"\",K361/COUNTIF('Data Input'!$C$8:$AK$8,\"S\"))","v":""},{"$f":"IF(ISBLANK('Data Input'!A366),\"\",SUM('Data Input'!F366,'Data Input'!R366,'Data Input'!AJ366))","v":""},{"$f":"IF(M361=\"\",\"\",M361/COUNTIF('Data Input'!$C$8:$AK$8,\"F\"))","v":""},{"$f":"IF(ISBLANK('Data Input'!A366),\"\",SUM('Data Input'!E366,'Data Input'!M366,'Data Input'!Q366,'Data Input'!V366,'Data Input'!W366,'Data Input'!AD366,'Data Input'!AH366))","v":""},{"$f":"IF(O361=\"\",\"\",O361/COUNTIF('Data Input'!$C$8:$AK$8,\"M\"))","v":""},{"$f":"IF(ISBLANK('Data Input'!A366),\"\",SUM('Data Input'!H366,'Data Input'!K366,'Data Input'!P366,'Data Input'!Y366))","v":""},{"$f":"IF(Q361=\"\",\"\",Q361/COUNTIF('Data Input'!$C$8:$AK$8,\"G\"))","v":""}]
[{"$f":"IF('Data Input'!A367=0,\"\",'Data Input'!A367)","v":""},{"$f":"IF(ISBLANK('Data Input'!A367),\"\",COUNTIF('Data Input'!C367:AK367,\"\"))","v":""},{"$f":"IF(ISBLANK('Data Input'!A367),\"\",COUNTIF('Data Input'!C367:AK367,\"0\"))","v":""},{"$f":"IF(ISBLANK('Data Input'!A367),\"\",SUM(B362,C362))","v":""},{"$f":"IF(ISBLANK('Data Input'!A367),\"\",SUM('Data Input'!C367:AK367))","v":""},{"$f":"IF(E362=\"\",\"\",E362/(COUNTA('Data Input'!$C$8:$AK$8)))","v":""},{"$f":"IF(ISBLANK('Data Input'!A367),\"\",SUM('Data Input'!C367,'Data Input'!D367,'Data Input'!J367,'Data Input'!X367))","v":""},{"$f":"IF(G362=\"\",\"\",G362/COUNTIF('Data Input'!$C$8:$AK$8,\"N\"))","v":""},{"$f":"IF(ISBLANK('Data Input'!A367),\"\",SUM('Data Input'!G367,'Data Input'!I367,'Data Input'!L367,'Data Input'!N367,'Data Input'!O367,'Data Input'!S367,'Data Input'!Z367,'Data Input'!AA367,'Data Input'!AB367,'Data Input'!AC367,'Data Input'!AE367,'Data Input'!AF367,'Data Input'!AG367,'Data Input'!AI367,'Data Input'!AK367))","v":""},{"$f":"IF(I362=\"\",\"\",I362/COUNTIF('Data Input'!$C$8:$AK$8,\"C\"))","v":""},{"$f":"IF(ISBLANK('Data Input'!A367),\"\",SUM('Data Input'!T367,'Data Input'!U367))","v":""},{"$f":"IF(K362=\"\",\"\",K362/COUNTIF('Data Input'!$C$8:$AK$8,\"S\"))","v":""},{"$f":"IF(ISBLANK('Data Input'!A367),\"\",SUM('Data Input'!F367,'Data Input'!R367,'Data Input'!AJ367))","v":""},{"$f":"IF(M362=\"\",\"\",M362/COUNTIF('Data Input'!$C$8:$AK$8,\"F\"))","v":""},{"$f":"IF(ISBLANK('Data Input'!A367),\"\",SUM('Data Input'!E367,'Data Input'!M367,'Data Input'!Q367,'Data Input'!V367,'Data Input'!W367,'Data Input'!AD367,'Data Input'!AH367))","v":""},{"$f":"IF(O362=\"\",\"\",O362/COUNTIF('Data Input'!$C$8:$AK$8,\"M\"))","v":""},{"$f":"IF(ISBLANK('Data Input'!A367),\"\",SUM('Data Input'!H367,'Data Input'!K367,'Data Input'!P367,'Data Input'!Y367))","v":""},{"$f":"IF(Q362=\"\",\"\",Q362/COUNTIF('Data Input'!$C$8:$AK$8,\"G\"))","v":""}]
[{"$f":"IF('Data Input'!A368=0,\"\",'Data Input'!A368)","v":""},{"$f":"IF(ISBLANK('Data Input'!A368),\"\",COUNTIF('Data Input'!C368:AK368,\"\"))","v":""},{"$f":"IF(ISBLANK('Data Input'!A368),\"\",COUNTIF('Data Input'!C368:AK368,\"0\"))","v":""},{"$f":"IF(ISBLANK('Data Input'!A368),\"\",SUM(B363,C363))","v":""},{"$f":"IF(ISBLANK('Data Input'!A368),\"\",SUM('Data Input'!C368:AK368))","v":""},{"$f":"IF(E363=\"\",\"\",E363/(COUNTA('Data Input'!$C$8:$AK$8)))","v":""},{"$f":"IF(ISBLANK('Data Input'!A368),\"\",SUM('Data Input'!C368,'Data Input'!D368,'Data Input'!J368,'Data Input'!X368))","v":""},{"$f":"IF(G363=\"\",\"\",G363/COUNTIF('Data Input'!$C$8:$AK$8,\"N\"))","v":""},{"$f":"IF(ISBLANK('Data Input'!A368),\"\",SUM('Data Input'!G368,'Data Input'!I368,'Data Input'!L368,'Data Input'!N368,'Data Input'!O368,'Data Input'!S368,'Data Input'!Z368,'Data Input'!AA368,'Data Input'!AB368,'Data Input'!AC368,'Data Input'!AE368,'Data Input'!AF368,'Data Input'!AG368,'Data Input'!AI368,'Data Input'!AK368))","v":""},{"$f":"IF(I363=\"\",\"\",I363/COUNTIF('Data Input'!$C$8:$AK$8,\"C\"))","v":""},{"$f":"IF(ISBLANK('Data Input'!A368),\"\",SUM('Data Input'!T368,'Data Input'!U368))","v":""},{"$f":"IF(K363=\"\",\"\",K363/COUNTIF('Data Input'!$C$8:$AK$8,\"S\"))","v":""},{"$f":"IF(ISBLANK('Data Input'!A368),\"\",SUM('Data Input'!F368,'Data Input'!R368,'Data Input'!AJ368))","v":""},{"$f":"IF(M363=\"\",\"\",M363/COUNTIF('Data Input'!$C$8:$AK$8,\"F\"))","v":""},{"$f":"IF(ISBLANK('Data Input'!A368),\"\",SUM('Data Input'!E368,'Data Input'!M368,'Data Input'!Q368,'Data Input'!V368,'Data Input'!W368,'Data Input'!AD368,'Data Input'!AH368))","v":""},{"$f":"IF(O363=\"\",\"\",O363/COUNTIF('Data Input'!$C$8:$AK$8,\"M\"))","v":""},{"$f":"IF(ISBLANK('Data Input'!A368),\"\",SUM('Data Input'!H368,'Data Input'!K368,'Data Input'!P368,'Data Input'!Y368))","v":""},{"$f":"IF(Q363=\"\",\"\",Q363/COUNTIF('Data Input'!$C$8:$AK$8,\"G\"))","v":""}]
[{"$f":"IF('Data Input'!A369=0,\"\",'Data Input'!A369)","v":""},{"$f":"IF(ISBLANK('Data Input'!A369),\"\",COUNTIF('Data Input'!C369:AK369,\"\"))","v":""},{"$f":"IF(ISBLANK('Data Input'!A369),\"\",COUNTIF('Data Input'!C369:AK369,\"0\"))","v":""},{"$f":"IF(ISBLANK('Data Input'!A369),\"\",SUM(B364,C364))","v":""},{"$f":"IF(ISBLANK('Data Input'!A369),\"\",SUM('Data Input'!C369:AK369))","v":""},{"$f":"IF(E364=\"\",\"\",E364/(COUNTA('Data Input'!$C$8:$AK$8)))","v":""},{"$f":"IF(ISBLANK('Data Input'!A369),\"\",SUM('Data Input'!C369,'Data Input'!D369,'Data Input'!J369,'Data Input'!X369))","v":""},{"$f":"IF(G364=\"\",\"\",G364/COUNTIF('Data Input'!$C$8:$AK$8,\"N\"))","v":""},{"$f":"IF(ISBLANK('Data Input'!A369),\"\",SUM('Data Input'!G369,'Data Input'!I369,'Data Input'!L369,'Data Input'!N369,'Data Input'!O369,'Data Input'!S369,'Data Input'!Z369,'Data Input'!AA369,'Data Input'!AB369,'Data Input'!AC369,'Data Input'!AE369,'Data Input'!AF369,'Data Input'!AG369,'Data Input'!AI369,'Data Input'!AK369))","v":""},{"$f":"IF(I364=\"\",\"\",I364/COUNTIF('Data Input'!$C$8:$AK$8,\"C\"))","v":""},{"$f":"IF(ISBLANK('Data Input'!A369),\"\",SUM('Data Input'!T369,'Data Input'!U369))","v":""},{"$f":"IF(K364=\"\",\"\",K364/COUNTIF('Data Input'!$C$8:$AK$8,\"S\"))","v":""},{"$f":"IF(ISBLANK('Data Input'!A369),\"\",SUM('Data Input'!F369,'Data Input'!R369,'Data Input'!AJ369))","v":""},{"$f":"IF(M364=\"\",\"\",M364/COUNTIF('Data Input'!$C$8:$AK$8,\"F\"))","v":""},{"$f":"IF(ISBLANK('Data Input'!A369),\"\",SUM('Data Input'!E369,'Data Input'!M369,'Data Input'!Q369,'Data Input'!V369,'Data Input'!W369,'Data Input'!AD369,'Data Input'!AH369))","v":""},{"$f":"IF(O364=\"\",\"\",O364/COUNTIF('Data Input'!$C$8:$AK$8,\"M\"))","v":""},{"$f":"IF(ISBLANK('Data Input'!A369),\"\",SUM('Data Input'!H369,'Data Input'!K369,'Data Input'!P369,'Data Input'!Y369))","v":""},{"$f":"IF(Q364=\"\",\"\",Q364/COUNTIF('Data Input'!$C$8:$AK$8,\"G\"))","v":""}]
[{"$f":"IF('Data Input'!A370=0,\"\",'Data Input'!A370)","v":""},{"$f":"IF(ISBLANK('Data Input'!A370),\"\",COUNTIF('Data Input'!C370:AK370,\"\"))","v":""},{"$f":"IF(ISBLANK('Data Input'!A370),\"\",COUNTIF('Data Input'!C370:AK370,\"0\"))","v":""},{"$f":"IF(ISBLANK('Data Input'!A370),\"\",SUM(B365,C365))","v":""},{"$f":"IF(ISBLANK('Data Input'!A370),\"\",SUM('Data Input'!C370:AK370))","v":""},{"$f":"IF(E365=\"\",\"\",E365/(COUNTA('Data Input'!$C$8:$AK$8)))","v":""},{"$f":"IF(ISBLANK('Data Input'!A370),\"\",SUM('Data Input'!C370,'Data Input'!D370,'Data Input'!J370,'Data Input'!X370))","v":""},{"$f":"IF(G365=\"\",\"\",G365/COUNTIF('Data Input'!$C$8:$AK$8,\"N\"))","v":""},{"$f":"IF(ISBLANK('Data Input'!A370),\"\",SUM('Data Input'!G370,'Data Input'!I370,'Data Input'!L370,'Data Input'!N370,'Data Input'!O370,'Data Input'!S370,'Data Input'!Z370,'Data Input'!AA370,'Data Input'!AB370,'Data Input'!AC370,'Data Input'!AE370,'Data Input'!AF370,'Data Input'!AG370,'Data Input'!AI370,'Data Input'!AK370))","v":""},{"$f":"IF(I365=\"\",\"\",I365/COUNTIF('Data Input'!$C$8:$AK$8,\"C\"))","v":""},{"$f":"IF(ISBLANK('Data Input'!A370),\"\",SUM('Data Input'!T370,'Data Input'!U370))","v":""},{"$f":"IF(K365=\"\",\"\",K365/COUNTIF('Data Input'!$C$8:$AK$8,\"S\"))","v":""},{"$f":"IF(ISBLANK('Data Input'!A370),\"\",SUM('Data Input'!F370,'Data Input'!R370,'Data Input'!AJ370))","v":""},{"$f":"IF(M365=\"\",\"\",M365/COUNTIF('Data Input'!$C$8:$AK$8,\"F\"))","v":""},{"$f":"IF(ISBLANK('Data Input'!A370),\"\",SUM('Data Input'!E370,'Data Input'!M370,'Data Input'!Q370,'Data Input'!V370,'Data Input'!W370,'Data Input'!AD370,'Data Input'!AH370))","v":""},{"$f":"IF(O365=\"\",\"\",O365/COUNTIF('Data Input'!$C$8:$AK$8,\"M\"))","v":""},{"$f":"IF(ISBLANK('Data Input'!A370),\"\",SUM('Data Input'!H370,'Data Input'!K370,'Data Input'!P370,'Data Input'!Y370))","v":""},{"$f":"IF(Q365=\"\",\"\",Q365/COUNTIF('Data Input'!$C$8:$AK$8,\"G\"))","v":""}]
[{"$f":"IF('Data Input'!A371=0,\"\",'Data Input'!A371)","v":""},{"$f":"IF(ISBLANK('Data Input'!A371),\"\",COUNTIF('Data Input'!C371:AK371,\"\"))","v":""},{"$f":"IF(ISBLANK('Data Input'!A371),\"\",COUNTIF('Data Input'!C371:AK371,\"0\"))","v":""},{"$f":"IF(ISBLANK('Data Input'!A371),\"\",SUM(B366,C366))","v":""},{"$f":"IF(ISBLANK('Data Input'!A371),\"\",SUM('Data Input'!C371:AK371))","v":""},{"$f":"IF(E366=\"\",\"\",E366/(COUNTA('Data Input'!$C$8:$AK$8)))","v":""},{"$f":"IF(ISBLANK('Data Input'!A371),\"\",SUM('Data Input'!C371,'Data Input'!D371,'Data Input'!J371,'Data Input'!X371))","v":""},{"$f":"IF(G366=\"\",\"\",G366/COUNTIF('Data Input'!$C$8:$AK$8,\"N\"))","v":""},{"$f":"IF(ISBLANK('Data Input'!A371),\"\",SUM('Data Input'!G371,'Data Input'!I371,'Data Input'!L371,'Data Input'!N371,'Data Input'!O371,'Data Input'!S371,'Data Input'!Z371,'Data Input'!AA371,'Data Input'!AB371,'Data Input'!AC371,'Data Input'!AE371,'Data Input'!AF371,'Data Input'!AG371,'Data Input'!AI371,'Data Input'!AK371))","v":""},{"$f":"IF(I366=\"\",\"\",I366/COUNTIF('Data Input'!$C$8:$AK$8,\"C\"))","v":""},{"$f":"IF(ISBLANK('Data Input'!A371),\"\",SUM('Data Input'!T371,'Data Input'!U371))","v":""},{"$f":"IF(K366=\"\",\"\",K366/COUNTIF('Data Input'!$C$8:$AK$8,\"S\"))","v":""},{"$f":"IF(ISBLANK('Data Input'!A371),\"\",SUM('Data Input'!F371,'Data Input'!R371,'Data Input'!AJ371))","v":""},{"$f":"IF(M366=\"\",\"\",M366/COUNTIF('Data Input'!$C$8:$AK$8,\"F\"))","v":""},{"$f":"IF(ISBLANK('Data Input'!A371),\"\",SUM('Data Input'!E371,'Data Input'!M371,'Data Input'!Q371,'Data Input'!V371,'Data Input'!W371,'Data Input'!AD371,'Data Input'!AH371))","v":""},{"$f":"IF(O366=\"\",\"\",O366/COUNTIF('Data Input'!$C$8:$AK$8,\"M\"))","v":""},{"$f":"IF(ISBLANK('Data Input'!A371),\"\",SUM('Data Input'!H371,'Data Input'!K371,'Data Input'!P371,'Data Input'!Y371))","v":""},{"$f":"IF(Q366=\"\",\"\",Q366/COUNTIF('Data Input'!$C$8:$AK$8,\"G\"))","v":""}]
[{"$f":"IF('Data Input'!A372=0,\"\",'Data Input'!A372)","v":""},{"$f":"IF(ISBLANK('Data Input'!A372),\"\",COUNTIF('Data Input'!C372:AK372,\"\"))","v":""},{"$f":"IF(ISBLANK('Data Input'!A372),\"\",COUNTIF('Data Input'!C372:AK372,\"0\"))","v":""},{"$f":"IF(ISBLANK('Data Input'!A372),\"\",SUM(B367,C367))","v":""},{"$f":"IF(ISBLANK('Data Input'!A372),\"\",SUM('Data Input'!C372:AK372))","v":""},{"$f":"IF(E367=\"\",\"\",E367/(COUNTA('Data Input'!$C$8:$AK$8)))","v":""},{"$f":"IF(ISBLANK('Data Input'!A372),\"\",SUM('Data Input'!C372,'Data Input'!D372,'Data Input'!J372,'Data Input'!X372))","v":""},{"$f":"IF(G367=\"\",\"\",G367/COUNTIF('Data Input'!$C$8:$AK$8,\"N\"))","v":""},{"$f":"IF(ISBLANK('Data Input'!A372),\"\",SUM('Data Input'!G372,'Data Input'!I372,'Data Input'!L372,'Data Input'!N372,'Data Input'!O372,'Data Input'!S372,'Data Input'!Z372,'Data Input'!AA372,'Data Input'!AB372,'Data Input'!AC372,'Data Input'!AE372,'Data Input'!AF372,'Data Input'!AG372,'Data Input'!AI372,'Data Input'!AK372))","v":""},{"$f":"IF(I367=\"\",\"\",I367/COUNTIF('Data Input'!$C$8:$AK$8,\"C\"))","v":""},{"$f":"IF(ISBLANK('Data Input'!A372),\"\",SUM('Data Input'!T372,'Data Input'!U372))","v":""},{"$f":"IF(K367=\"\",\"\",K367/COUNTIF('Data Input'!$C$8:$AK$8,\"S\"))","v":""},{"$f":"IF(ISBLANK('Data Input'!A372),\"\",SUM('Data Input'!F372,'Data Input'!R372,'Data Input'!AJ372))","v":""},{"$f":"IF(M367=\"\",\"\",M367/COUNTIF('Data Input'!$C$8:$AK$8,\"F\"))","v":""},{"$f":"IF(ISBLANK('Data Input'!A372),\"\",SUM('Data Input'!E372,'Data Input'!M372,'Data Input'!Q372,'Data Input'!V372,'Data Input'!W372,'Data Input'!AD372,'Data Input'!AH372))","v":""},{"$f":"IF(O367=\"\",\"\",O367/COUNTIF('Data Input'!$C$8:$AK$8,\"M\"))","v":""},{"$f":"IF(ISBLANK('Data Input'!A372),\"\",SUM('Data Input'!H372,'Data Input'!K372,'Data Input'!P372,'Data Input'!Y372))","v":""},{"$f":"IF(Q367=\"\",\"\",Q367/COUNTIF('Data Input'!$C$8:$AK$8,\"G\"))","v":""}]
[{"$f":"IF('Data Input'!A373=0,\"\",'Data Input'!A373)","v":""},{"$f":"IF(ISBLANK('Data Input'!A373),\"\",COUNTIF('Data Input'!C373:AK373,\"\"))","v":""},{"$f":"IF(ISBLANK('Data Input'!A373),\"\",COUNTIF('Data Input'!C373:AK373,\"0\"))","v":""},{"$f":"IF(ISBLANK('Data Input'!A373),\"\",SUM(B368,C368))","v":""},{"$f":"IF(ISBLANK('Data Input'!A373),\"\",SUM('Data Input'!C373:AK373))","v":""},{"$f":"IF(E368=\"\",\"\",E368/(COUNTA('Data Input'!$C$8:$AK$8)))","v":""},{"$f":"IF(ISBLANK('Data Input'!A373),\"\",SUM('Data Input'!C373,'Data Input'!D373,'Data Input'!J373,'Data Input'!X373))","v":""},{"$f":"IF(G368=\"\",\"\",G368/COUNTIF('Data Input'!$C$8:$AK$8,\"N\"))","v":""},{"$f":"IF(ISBLANK('Data Input'!A373),\"\",SUM('Data Input'!G373,'Data Input'!I373,'Data Input'!L373,'Data Input'!N373,'Data Input'!O373,'Data Input'!S373,'Data Input'!Z373,'Data Input'!AA373,'Data Input'!AB373,'Data Input'!AC373,'Data Input'!AE373,'Data Input'!AF373,'Data Input'!AG373,'Data Input'!AI373,'Data Input'!AK373))","v":""},{"$f":"IF(I368=\"\",\"\",I368/COUNTIF('Data Input'!$C$8:$AK$8,\"C\"))","v":""},{"$f":"IF(ISBLANK('Data Input'!A373),\"\",SUM('Data Input'!T373,'Data Input'!U373))","v":""},{"$f":"IF(K368=\"\",\"\",K368/COUNTIF('Data Input'!$C$8:$AK$8,\"S\"))","v":""},{"$f":"IF(ISBLANK('Data Input'!A373),\"\",SUM('Data Input'!F373,'Data Input'!R373,'Data Input'!AJ373))","v":""},{"$f":"IF(M368=\"\",\"\",M368/COUNTIF('Data Input'!$C$8:$AK$8,\"F\"))","v":""},{"$f":"IF(ISBLANK('Data Input'!A373),\"\",SUM('Data Input'!E373,'Data Input'!M373,'Data Input'!Q373,'Data Input'!V373,'Data Input'!W373,'Data Input'!AD373,'Data Input'!AH373))","v":""},{"$f":"IF(O368=\"\",\"\",O368/COUNTIF('Data Input'!$C$8:$AK$8,\"M\"))","v":""},{"$f":"IF(ISBLANK('Data Input'!A373),\"\",SUM('Data Input'!H373,'Data Input'!K373,'Data Input'!P373,'Data Input'!Y373))","v":""},{"$f":"IF(Q368=\"\",\"\",Q368/COUNTIF('Data Input'!$C$8:$AK$8,\"G\"))","v":""}]
[{"$f":"IF('Data Input'!A374=0,\"\",'Data Input'!A374)","v":""},{"$f":"IF(ISBLANK('Data Input'!A374),\"\",COUNTIF('Data Input'!C374:AK374,\"\"))","v":""},{"$f":"IF(ISBLANK('Data Input'!A374),\"\",COUNTIF('Data Input'!C374:AK374,\"0\"))","v":""},{"$f":"IF(ISBLANK('Data Input'!A374),\"\",SUM(B369,C369))","v":""},{"$f":"IF(ISBLANK('Data Input'!A374),\"\",SUM('Data Input'!C374:AK374))","v":""},{"$f":"IF(E369=\"\",\"\",E369/(COUNTA('Data Input'!$C$8:$AK$8)))","v":""},{"$f":"IF(ISBLANK('Data Input'!A374),\"\",SUM('Data Input'!C374,'Data Input'!D374,'Data Input'!J374,'Data Input'!X374))","v":""},{"$f":"IF(G369=\"\",\"\",G369/COUNTIF('Data Input'!$C$8:$AK$8,\"N\"))","v":""},{"$f":"IF(ISBLANK('Data Input'!A374),\"\",SUM('Data Input'!G374,'Data Input'!I374,'Data Input'!L374,'Data Input'!N374,'Data Input'!O374,'Data Input'!S374,'Data Input'!Z374,'Data Input'!AA374,'Data Input'!AB374,'Data Input'!AC374,'Data Input'!AE374,'Data Input'!AF374,'Data Input'!AG374,'Data Input'!AI374,'Data Input'!AK374))","v":""},{"$f":"IF(I369=\"\",\"\",I369/COUNTIF('Data Input'!$C$8:$AK$8,\"C\"))","v":""},{"$f":"IF(ISBLANK('Data Input'!A374),\"\",SUM('Data Input'!T374,'Data Input'!U374))","v":""},{"$f":"IF(K369=\"\",\"\",K369/COUNTIF('Data Input'!$C$8:$AK$8,\"S\"))","v":""},{"$f":"IF(ISBLANK('Data Input'!A374),\"\",SUM('Data Input'!F374,'Data Input'!R374,'Data Input'!AJ374))","v":""},{"$f":"IF(M369=\"\",\"\",M369/COUNTIF('Data Input'!$C$8:$AK$8,\"F\"))","v":""},{"$f":"IF(ISBLANK('Data Input'!A374),\"\",SUM('Data Input'!E374,'Data Input'!M374,'Data Input'!Q374,'Data Input'!V374,'Data Input'!W374,'Data Input'!AD374,'Data Input'!AH374))","v":""},{"$f":"IF(O369=\"\",\"\",O369/COUNTIF('Data Input'!$C$8:$AK$8,\"M\"))","v":""},{"$f":"IF(ISBLANK('Data Input'!A374),\"\",SUM('Data Input'!H374,'Data Input'!K374,'Data Input'!P374,'Data Input'!Y374))","v":""},{"$f":"IF(Q369=\"\",\"\",Q369/COUNTIF('Data Input'!$C$8:$AK$8,\"G\"))","v":""}]
[{"$f":"IF('Data Input'!A375=0,\"\",'Data Input'!A375)","v":""},{"$f":"IF(ISBLANK('Data Input'!A375),\"\",COUNTIF('Data Input'!C375:AK375,\"\"))","v":""},{"$f":"IF(ISBLANK('Data Input'!A375),\"\",COUNTIF('Data Input'!C375:AK375,\"0\"))","v":""},{"$f":"IF(ISBLANK('Data Input'!A375),\"\",SUM(B370,C370))","v":""},{"$f":"IF(ISBLANK('Data Input'!A375),\"\",SUM('Data Input'!C375:AK375))","v":""},{"$f":"IF(E370=\"\",\"\",E370/(COUNTA('Data Input'!$C$8:$AK$8)))","v":""},{"$f":"IF(ISBLANK('Data Input'!A375),\"\",SUM('Data Input'!C375,'Data Input'!D375,'Data Input'!J375,'Data Input'!X375))","v":""},{"$f":"IF(G370=\"\",\"\",G370/COUNTIF('Data Input'!$C$8:$AK$8,\"N\"))","v":""},{"$f":"IF(ISBLANK('Data Input'!A375),\"\",SUM('Data Input'!G375,'Data Input'!I375,'Data Input'!L375,'Data Input'!N375,'Data Input'!O375,'Data Input'!S375,'Data Input'!Z375,'Data Input'!AA375,'Data Input'!AB375,'Data Input'!AC375,'Data Input'!AE375,'Data Input'!AF375,'Data Input'!AG375,'Data Input'!AI375,'Data Input'!AK375))","v":""},{"$f":"IF(I370=\"\",\"\",I370/COUNTIF('Data Input'!$C$8:$AK$8,\"C\"))","v":""},{"$f":"IF(ISBLANK('Data Input'!A375),\"\",SUM('Data Input'!T375,'Data Input'!U375))","v":""},{"$f":"IF(K370=\"\",\"\",K370/COUNTIF('Data Input'!$C$8:$AK$8,\"S\"))","v":""},{"$f":"IF(ISBLANK('Data Input'!A375),\"\",SUM('Data Input'!F375,'Data Input'!R375,'Data Input'!AJ375))","v":""},{"$f":"IF(M370=\"\",\"\",M370/COUNTIF('Data Input'!$C$8:$AK$8,\"F\"))","v":""},{"$f":"IF(ISBLANK('Data Input'!A375),\"\",SUM('Data Input'!E375,'Data Input'!M375,'Data Input'!Q375,'Data Input'!V375,'Data Input'!W375,'Data Input'!AD375,'Data Input'!AH375))","v":""},{"$f":"IF(O370=\"\",\"\",O370/COUNTIF('Data Input'!$C$8:$AK$8,\"M\"))","v":""},{"$f":"IF(ISBLANK('Data Input'!A375),\"\",SUM('Data Input'!H375,'Data Input'!K375,'Data Input'!P375,'Data Input'!Y375))","v":""},{"$f":"IF(Q370=\"\",\"\",Q370/COUNTIF('Data Input'!$C$8:$AK$8,\"G\"))","v":""}]
[{"$f":"IF('Data Input'!A376=0,\"\",'Data Input'!A376)","v":""},{"$f":"IF(ISBLANK('Data Input'!A376),\"\",COUNTIF('Data Input'!C376:AK376,\"\"))","v":""},{"$f":"IF(ISBLANK('Data Input'!A376),\"\",COUNTIF('Data Input'!C376:AK376,\"0\"))","v":""},{"$f":"IF(ISBLANK('Data Input'!A376),\"\",SUM(B371,C371))","v":""},{"$f":"IF(ISBLANK('Data Input'!A376),\"\",SUM('Data Input'!C376:AK376))","v":""},{"$f":"IF(E371=\"\",\"\",E371/(COUNTA('Data Input'!$C$8:$AK$8)))","v":""},{"$f":"IF(ISBLANK('Data Input'!A376),\"\",SUM('Data Input'!C376,'Data Input'!D376,'Data Input'!J376,'Data Input'!X376))","v":""},{"$f":"IF(G371=\"\",\"\",G371/COUNTIF('Data Input'!$C$8:$AK$8,\"N\"))","v":""},{"$f":"IF(ISBLANK('Data Input'!A376),\"\",SUM('Data Input'!G376,'Data Input'!I376,'Data Input'!L376,'Data Input'!N376,'Data Input'!O376,'Data Input'!S376,'Data Input'!Z376,'Data Input'!AA376,'Data Input'!AB376,'Data Input'!AC376,'Data Input'!AE376,'Data Input'!AF376,'Data Input'!AG376,'Data Input'!AI376,'Data Input'!AK376))","v":""},{"$f":"IF(I371=\"\",\"\",I371/COUNTIF('Data Input'!$C$8:$AK$8,\"C\"))","v":""},{"$f":"IF(ISBLANK('Data Input'!A376),\"\",SUM('Data Input'!T376,'Data Input'!U376))","v":""},{"$f":"IF(K371=\"\",\"\",K371/COUNTIF('Data Input'!$C$8:$AK$8,\"S\"))","v":""},{"$f":"IF(ISBLANK('Data Input'!A376),\"\",SUM('Data Input'!F376,'Data Input'!R376,'Data Input'!AJ376))","v":""},{"$f":"IF(M371=\"\",\"\",M371/COUNTIF('Data Input'!$C$8:$AK$8,\"F\"))","v":""},{"$f":"IF(ISBLANK('Data Input'!A376),\"\",SUM('Data Input'!E376,'Data Input'!M376,'Data Input'!Q376,'Data Input'!V376,'Data Input'!W376,'Data Input'!AD376,'Data Input'!AH376))","v":""},{"$f":"IF(O371=\"\",\"\",O371/COUNTIF('Data Input'!$C$8:$AK$8,\"M\"))","v":""},{"$f":"IF(ISBLANK('Data Input'!A376),\"\",SUM('Data Input'!H376,'Data Input'!K376,'Data Input'!P376,'Data Input'!Y376))","v":""},{"$f":"IF(Q371=\"\",\"\",Q371/COUNTIF('Data Input'!$C$8:$AK$8,\"G\"))","v":""}]
[{"$f":"IF('Data Input'!A377=0,\"\",'Data Input'!A377)","v":""},{"$f":"IF(ISBLANK('Data Input'!A377),\"\",COUNTIF('Data Input'!C377:AK377,\"\"))","v":""},{"$f":"IF(ISBLANK('Data Input'!A377),\"\",COUNTIF('Data Input'!C377:AK377,\"0\"))","v":""},{"$f":"IF(ISBLANK('Data Input'!A377),\"\",SUM(B372,C372))","v":""},{"$f":"IF(ISBLANK('Data Input'!A377),\"\",SUM('Data Input'!C377:AK377))","v":""},{"$f":"IF(E372=\"\",\"\",E372/(COUNTA('Data Input'!$C$8:$AK$8)))","v":""},{"$f":"IF(ISBLANK('Data Input'!A377),\"\",SUM('Data Input'!C377,'Data Input'!D377,'Data Input'!J377,'Data Input'!X377))","v":""},{"$f":"IF(G372=\"\",\"\",G372/COUNTIF('Data Input'!$C$8:$AK$8,\"N\"))","v":""},{"$f":"IF(ISBLANK('Data Input'!A377),\"\",SUM('Data Input'!G377,'Data Input'!I377,'Data Input'!L377,'Data Input'!N377,'Data Input'!O377,'Data Input'!S377,'Data Input'!Z377,'Data Input'!AA377,'Data Input'!AB377,'Data Input'!AC377,'Data Input'!AE377,'Data Input'!AF377,'Data Input'!AG377,'Data Input'!AI377,'Data Input'!AK377))","v":""},{"$f":"IF(I372=\"\",\"\",I372/COUNTIF('Data Input'!$C$8:$AK$8,\"C\"))","v":""},{"$f":"IF(ISBLANK('Data Input'!A377),\"\",SUM('Data Input'!T377,'Data Input'!U377))","v":""},{"$f":"IF(K372=\"\",\"\",K372/COUNTIF('Data Input'!$C$8:$AK$8,\"S\"))","v":""},{"$f":"IF(ISBLANK('Data Input'!A377),\"\",SUM('Data Input'!F377,'Data Input'!R377,'Data Input'!AJ377))","v":""},{"$f":"IF(M372=\"\",\"\",M372/COUNTIF('Data Input'!$C$8:$AK$8,\"F\"))","v":""},{"$f":"IF(ISBLANK('Data Input'!A377),\"\",SUM('Data Input'!E377,'Data Input'!M377,'Data Input'!Q377,'Data Input'!V377,'Data Input'!W377,'Data Input'!AD377,'Data Input'!AH377))","v":""},{"$f":"IF(O372=\"\",\"\",O372/COUNTIF('Data Input'!$C$8:$AK$8,\"M\"))","v":""},{"$f":"IF(ISBLANK('Data Input'!A377),\"\",SUM('Data Input'!H377,'Data Input'!K377,'Data Input'!P377,'Data Input'!Y377))","v":""},{"$f":"IF(Q372=\"\",\"\",Q372/COUNTIF('Data Input'!$C$8:$AK$8,\"G\"))","v":""}]
[{"$f":"IF('Data Input'!A378=0,\"\",'Data Input'!A378)","v":""},{"$f":"IF(ISBLANK('Data Input'!A378),\"\",COUNTIF('Data Input'!C378:AK378,\"\"))","v":""},{"$f":"IF(ISBLANK('Data Input'!A378),\"\",COUNTIF('Data Input'!C378:AK378,\"0\"))","v":""},{"$f":"IF(ISBLANK('Data Input'!A378),\"\",SUM(B373,C373))","v":""},{"$f":"IF(ISBLANK('Data Input'!A378),\"\",SUM('Data Input'!C378:AK378))","v":""},{"$f":"IF(E373=\"\",\"\",E373/(COUNTA('Data Input'!$C$8:$AK$8)))","v":""},{"$f":"IF(ISBLANK('Data Input'!A378),\"\",SUM('Data Input'!C378,'Data Input'!D378,'Data Input'!J378,'Data Input'!X378))","v":""},{"$f":"IF(G373=\"\",\"\",G373/COUNTIF('Data Input'!$C$8:$AK$8,\"N\"))","v":""},{"$f":"IF(ISBLANK('Data Input'!A378),\"\",SUM('Data Input'!G378,'Data Input'!I378,'Data Input'!L378,'Data Input'!N378,'Data Input'!O378,'Data Input'!S378,'Data Input'!Z378,'Data Input'!AA378,'Data Input'!AB378,'Data Input'!AC378,'Data Input'!AE378,'Data Input'!AF378,'Data Input'!AG378,'Data Input'!AI378,'Data Input'!AK378))","v":""},{"$f":"IF(I373=\"\",\"\",I373/COUNTIF('Data Input'!$C$8:$AK$8,\"C\"))","v":""},{"$f":"IF(ISBLANK('Data Input'!A378),\"\",SUM('Data Input'!T378,'Data Input'!U378))","v":""},{"$f":"IF(K373=\"\",\"\",K373/COUNTIF('Data Input'!$C$8:$AK$8,\"S\"))","v":""},{"$f":"IF(ISBLANK('Data Input'!A378),\"\",SUM('Data Input'!F378,'Data Input'!R378,'Data Input'!AJ378))","v":""},{"$f":"IF(M373=\"\",\"\",M373/COUNTIF('Data Input'!$C$8:$AK$8,\"F\"))","v":""},{"$f":"IF(ISBLANK('Data Input'!A378),\"\",SUM('Data Input'!E378,'Data Input'!M378,'Data Input'!Q378,'Data Input'!V378,'Data Input'!W378,'Data Input'!AD378,'Data Input'!AH378))","v":""},{"$f":"IF(O373=\"\",\"\",O373/COUNTIF('Data Input'!$C$8:$AK$8,\"M\"))","v":""},{"$f":"IF(ISBLANK('Data Input'!A378),\"\",SUM('Data Input'!H378,'Data Input'!K378,'Data Input'!P378,'Data Input'!Y378))","v":""},{"$f":"IF(Q373=\"\",\"\",Q373/COUNTIF('Data Input'!$C$8:$AK$8,\"G\"))","v":""}]
[{"$f":"IF('Data Input'!A379=0,\"\",'Data Input'!A379)","v":""},{"$f":"IF(ISBLANK('Data Input'!A379),\"\",COUNTIF('Data Input'!C379:AK379,\"\"))","v":""},{"$f":"IF(ISBLANK('Data Input'!A379),\"\",COUNTIF('Data Input'!C379:AK379,\"0\"))","v":""},{"$f":"IF(ISBLANK('Data Input'!A379),\"\",SUM(B374,C374))","v":""},{"$f":"IF(ISBLANK('Data Input'!A379),\"\",SUM('Data Input'!C379:AK379))","v":""},{"$f":"IF(E374=\"\",\"\",E374/(COUNTA('Data Input'!$C$8:$AK$8)))","v":""},{"$f":"IF(ISBLANK('Data Input'!A379),\"\",SUM('Data Input'!C379,'Data Input'!D379,'Data Input'!J379,'Data Input'!X379))","v":""},{"$f":"IF(G374=\"\",\"\",G374/COUNTIF('Data Input'!$C$8:$AK$8,\"N\"))","v":""},{"$f":"IF(ISBLANK('Data Input'!A379),\"\",SUM('Data Input'!G379,'Data Input'!I379,'Data Input'!L379,'Data Input'!N379,'Data Input'!O379,'Data Input'!S379,'Data Input'!Z379,'Data Input'!AA379,'Data Input'!AB379,'Data Input'!AC379,'Data Input'!AE379,'Data Input'!AF379,'Data Input'!AG379,'Data Input'!AI379,'Data Input'!AK379))","v":""},{"$f":"IF(I374=\"\",\"\",I374/COUNTIF('Data Input'!$C$8:$AK$8,\"C\"))","v":""},{"$f":"IF(ISBLANK('Data Input'!A379),\"\",SUM('Data Input'!T379,'Data Input'!U379))","v":""},{"$f":"IF(K374=\"\",\"\",K374/COUNTIF('Data Input'!$C$8:$AK$8,\"S\"))","v":""},{"$f":"IF(ISBLANK('Data Input'!A379),\"\",SUM('Data Input'!F379,'Data Input'!R379,'Data Input'!AJ379))","v":""},{"$f":"IF(M374=\"\",\"\",M374/COUNTIF('Data Input'!$C$8:$AK$8,\"F\"))","v":""},{"$f":"IF(ISBLANK('Data Input'!A379),\"\",SUM('Data Input'!E379,'Data Input'!M379,'Data Input'!Q379,'Data Input'!V379,'Data Input'!W379,'Data Input'!AD379,'Data Input'!AH379))","v":""},{"$f":"IF(O374=\"\",\"\",O374/COUNTIF('Data Input'!$C$8:$AK$8,\"M\"))","v":""},{"$f":"IF(ISBLANK('Data Input'!A379),\"\",SUM('Data Input'!H379,'Data Input'!K379,'Data Input'!P379,'Data Input'!Y379))","v":""},{"$f":"IF(Q374=\"\",\"\",Q374/COUNTIF('Data Input'!$C$8:$AK$8,\"G\"))","v":""}]
[{"$f":"IF('Data Input'!A380=0,\"\",'Data Input'!A380)","v":""},{"$f":"IF(ISBLANK('Data Input'!A380),\"\",COUNTIF('Data Input'!C380:AK380,\"\"))","v":""},{"$f":"IF(ISBLANK('Data Input'!A380),\"\",COUNTIF('Data Input'!C380:AK380,\"0\"))","v":""},{"$f":"IF(ISBLANK('Data Input'!A380),\"\",SUM(B375,C375))","v":""},{"$f":"IF(ISBLANK('Data Input'!A380),\"\",SUM('Data Input'!C380:AK380))","v":""},{"$f":"IF(E375=\"\",\"\",E375/(COUNTA('Data Input'!$C$8:$AK$8)))","v":""},{"$f":"IF(ISBLANK('Data Input'!A380),\"\",SUM('Data Input'!C380,'Data Input'!D380,'Data Input'!J380,'Data Input'!X380))","v":""},{"$f":"IF(G375=\"\",\"\",G375/COUNTIF('Data Input'!$C$8:$AK$8,\"N\"))","v":""},{"$f":"IF(ISBLANK('Data Input'!A380),\"\",SUM('Data Input'!G380,'Data Input'!I380,'Data Input'!L380,'Data Input'!N380,'Data Input'!O380,'Data Input'!S380,'Data Input'!Z380,'Data Input'!AA380,'Data Input'!AB380,'Data Input'!AC380,'Data Input'!AE380,'Data Input'!AF380,'Data Input'!AG380,'Data Input'!AI380,'Data Input'!AK380))","v":""},{"$f":"IF(I375=\"\",\"\",I375/COUNTIF('Data Input'!$C$8:$AK$8,\"C\"))","v":""},{"$f":"IF(ISBLANK('Data Input'!A380),\"\",SUM('Data Input'!T380,'Data Input'!U380))","v":""},{"$f":"IF(K375=\"\",\"\",K375/COUNTIF('Data Input'!$C$8:$AK$8,\"S\"))","v":""},{"$f":"IF(ISBLANK('Data Input'!A380),\"\",SUM('Data Input'!F380,'Data Input'!R380,'Data Input'!AJ380))","v":""},{"$f":"IF(M375=\"\",\"\",M375/COUNTIF('Data Input'!$C$8:$AK$8,\"F\"))","v":""},{"$f":"IF(ISBLANK('Data Input'!A380),\"\",SUM('Data Input'!E380,'Data Input'!M380,'Data Input'!Q380,'Data Input'!V380,'Data Input'!W380,'Data Input'!AD380,'Data Input'!AH380))","v":""},{"$f":"IF(O375=\"\",\"\",O375/COUNTIF('Data Input'!$C$8:$AK$8,\"M\"))","v":""},{"$f":"IF(ISBLANK('Data Input'!A380),\"\",SUM('Data Input'!H380,'Data Input'!K380,'Data Input'!P380,'Data Input'!Y380))","v":""},{"$f":"IF(Q375=\"\",\"\",Q375/COUNTIF('Data Input'!$C$8:$AK$8,\"G\"))","v":""}]
[{"$f":"IF('Data Input'!A381=0,\"\",'Data Input'!A381)","v":""},{"$f":"IF(ISBLANK('Data Input'!A381),\"\",COUNTIF('Data Input'!C381:AK381,\"\"))","v":""},{"$f":"IF(ISBLANK('Data Input'!A381),\"\",COUNTIF('Data Input'!C381:AK381,\"0\"))","v":""},{"$f":"IF(ISBLANK('Data Input'!A381),\"\",SUM(B376,C376))","v":""},{"$f":"IF(ISBLANK('Data Input'!A381),\"\",SUM('Data Input'!C381:AK381))","v":""},{"$f":"IF(E376=\"\",\"\",E376/(COUNTA('Data Input'!$C$8:$AK$8)))","v":""},{"$f":"IF(ISBLANK('Data Input'!A381),\"\",SUM('Data Input'!C381,'Data Input'!D381,'Data Input'!J381,'Data Input'!X381))","v":""},{"$f":"IF(G376=\"\",\"\",G376/COUNTIF('Data Input'!$C$8:$AK$8,\"N\"))","v":""},{"$f":"IF(ISBLANK('Data Input'!A381),\"\",SUM('Data Input'!G381,'Data Input'!I381,'Data Input'!L381,'Data Input'!N381,'Data Input'!O381,'Data Input'!S381,'Data Input'!Z381,'Data Input'!AA381,'Data Input'!AB381,'Data Input'!AC381,'Data Input'!AE381,'Data Input'!AF381,'Data Input'!AG381,'Data Input'!AI381,'Data Input'!AK381))","v":""},{"$f":"IF(I376=\"\",\"\",I376/COUNTIF('Data Input'!$C$8:$AK$8,\"C\"))","v":""},{"$f":"IF(ISBLANK('Data Input'!A381),\"\",SUM('Data Input'!T381,'Data Input'!U381))","v":""},{"$f":"IF(K376=\"\",\"\",K376/COUNTIF('Data Input'!$C$8:$AK$8,\"S\"))","v":""},{"$f":"IF(ISBLANK('Data Input'!A381),\"\",SUM('Data Input'!F381,'Data Input'!R381,'Data Input'!AJ381))","v":""},{"$f":"IF(M376=\"\",\"\",M376/COUNTIF('Data Input'!$C$8:$AK$8,\"F\"))","v":""},{"$f":"IF(ISBLANK('Data Input'!A381),\"\",SUM('Data Input'!E381,'Data Input'!M381,'Data Input'!Q381,'Data Input'!V381,'Data Input'!W381,'Data Input'!AD381,'Data Input'!AH381))","v":""},{"$f":"IF(O376=\"\",\"\",O376/COUNTIF('Data Input'!$C$8:$AK$8,\"M\"))","v":""},{"$f":"IF(ISBLANK('Data Input'!A381),\"\",SUM('Data Input'!H381,'Data Input'!K381,'Data Input'!P381,'Data Input'!Y381))","v":""},{"$f":"IF(Q376=\"\",\"\",Q376/COUNTIF('Data Input'!$C$8:$AK$8,\"G\"))","v":""}]
[{"$f":"IF('Data Input'!A382=0,\"\",'Data Input'!A382)","v":""},{"$f":"IF(ISBLANK('Data Input'!A382),\"\",COUNTIF('Data Input'!C382:AK382,\"\"))","v":""},{"$f":"IF(ISBLANK('Data Input'!A382),\"\",COUNTIF('Data Input'!C382:AK382,\"0\"))","v":""},{"$f":"IF(ISBLANK('Data Input'!A382),\"\",SUM(B377,C377))","v":""},{"$f":"IF(ISBLANK('Data Input'!A382),\"\",SUM('Data Input'!C382:AK382))","v":""},{"$f":"IF(E377=\"\",\"\",E377/(COUNTA('Data Input'!$C$8:$AK$8)))","v":""},{"$f":"IF(ISBLANK('Data Input'!A382),\"\",SUM('Data Input'!C382,'Data Input'!D382,'Data Input'!J382,'Data Input'!X382))","v":""},{"$f":"IF(G377=\"\",\"\",G377/COUNTIF('Data Input'!$C$8:$AK$8,\"N\"))","v":""},{"$f":"IF(ISBLANK('Data Input'!A382),\"\",SUM('Data Input'!G382,'Data Input'!I382,'Data Input'!L382,'Data Input'!N382,'Data Input'!O382,'Data Input'!S382,'Data Input'!Z382,'Data Input'!AA382,'Data Input'!AB382,'Data Input'!AC382,'Data Input'!AE382,'Data Input'!AF382,'Data Input'!AG382,'Data Input'!AI382,'Data Input'!AK382))","v":""},{"$f":"IF(I377=\"\",\"\",I377/COUNTIF('Data Input'!$C$8:$AK$8,\"C\"))","v":""},{"$f":"IF(ISBLANK('Data Input'!A382),\"\",SUM('Data Input'!T382,'Data Input'!U382))","v":""},{"$f":"IF(K377=\"\",\"\",K377/COUNTIF('Data Input'!$C$8:$AK$8,\"S\"))","v":""},{"$f":"IF(ISBLANK('Data Input'!A382),\"\",SUM('Data Input'!F382,'Data Input'!R382,'Data Input'!AJ382))","v":""},{"$f":"IF(M377=\"\",\"\",M377/COUNTIF('Data Input'!$C$8:$AK$8,\"F\"))","v":""},{"$f":"IF(ISBLANK('Data Input'!A382),\"\",SUM('Data Input'!E382,'Data Input'!M382,'Data Input'!Q382,'Data Input'!V382,'Data Input'!W382,'Data Input'!AD382,'Data Input'!AH382))","v":""},{"$f":"IF(O377=\"\",\"\",O377/COUNTIF('Data Input'!$C$8:$AK$8,\"M\"))","v":""},{"$f":"IF(ISBLANK('Data Input'!A382),\"\",SUM('Data Input'!H382,'Data Input'!K382,'Data Input'!P382,'Data Input'!Y382))","v":""},{"$f":"IF(Q377=\"\",\"\",Q377/COUNTIF('Data Input'!$C$8:$AK$8,\"G\"))","v":""}]
[{"$f":"IF('Data Input'!A383=0,\"\",'Data Input'!A383)","v":""},{"$f":"IF(ISBLANK('Data Input'!A383),\"\",COUNTIF('Data Input'!C383:AK383,\"\"))","v":""},{"$f":"IF(ISBLANK('Data Input'!A383),\"\",COUNTIF('Data Input'!C383:AK383,\"0\"))","v":""},{"$f":"IF(ISBLANK('Data Input'!A383),\"\",SUM(B378,C378))","v":""},{"$f":"IF(ISBLANK('Data Input'!A383),\"\",SUM('Data Input'!C383:AK383))","v":""},{"$f":"IF(E378=\"\",\"\",E378/(COUNTA('Data Input'!$C$8:$AK$8)))","v":""},{"$f":"IF(ISBLANK('Data Input'!A383),\"\",SUM('Data Input'!C383,'Data Input'!D383,'Data Input'!J383,'Data Input'!X383))","v":""},{"$f":"IF(G378=\"\",\"\",G378/COUNTIF('Data Input'!$C$8:$AK$8,\"N\"))","v":""},{"$f":"IF(ISBLANK('Data Input'!A383),\"\",SUM('Data Input'!G383,'Data Input'!I383,'Data Input'!L383,'Data Input'!N383,'Data Input'!O383,'Data Input'!S383,'Data Input'!Z383,'Data Input'!AA383,'Data Input'!AB383,'Data Input'!AC383,'Data Input'!AE383,'Data Input'!AF383,'Data Input'!AG383,'Data Input'!AI383,'Data Input'!AK383))","v":""},{"$f":"IF(I378=\"\",\"\",I378/COUNTIF('Data Input'!$C$8:$AK$8,\"C\"))","v":""},{"$f":"IF(ISBLANK('Data Input'!A383),\"\",SUM('Data Input'!T383,'Data Input'!U383))","v":""},{"$f":"IF(K378=\"\",\"\",K378/COUNTIF('Data Input'!$C$8:$AK$8,\"S\"))","v":""},{"$f":"IF(ISBLANK('Data Input'!A383),\"\",SUM('Data Input'!F383,'Data Input'!R383,'Data Input'!AJ383))","v":""},{"$f":"IF(M378=\"\",\"\",M378/COUNTIF('Data Input'!$C$8:$AK$8,\"F\"))","v":""},{"$f":"IF(ISBLANK('Data Input'!A383),\"\",SUM('Data Input'!E383,'Data Input'!M383,'Data Input'!Q383,'Data Input'!V383,'Data Input'!W383,'Data Input'!AD383,'Data Input'!AH383))","v":""},{"$f":"IF(O378=\"\",\"\",O378/COUNTIF('Data Input'!$C$8:$AK$8,\"M\"))","v":""},{"$f":"IF(ISBLANK('Data Input'!A383),\"\",SUM('Data Input'!H383,'Data Input'!K383,'Data Input'!P383,'Data Input'!Y383))","v":""},{"$f":"IF(Q378=\"\",\"\",Q378/COUNTIF('Data Input'!$C$8:$AK$8,\"G\"))","v":""}]
[{"$f":"IF('Data Input'!A384=0,\"\",'Data Input'!A384)","v":""},{"$f":"IF(ISBLANK('Data Input'!A384),\"\",COUNTIF('Data Input'!C384:AK384,\"\"))","v":""},{"$f":"IF(ISBLANK('Data Input'!A384),\"\",COUNTIF('Data Input'!C384:AK384,\"0\"))","v":""},{"$f":"IF(ISBLANK('Data Input'!A384),\"\",SUM(B379,C379))","v":""},{"$f":"IF(ISBLANK('Data Input'!A384),\"\",SUM('Data Input'!C384:AK384))","v":""},{"$f":"IF(E379=\"\",\"\",E379/(COUNTA('Data Input'!$C$8:$AK$8)))","v":""},{"$f":"IF(ISBLANK('Data Input'!A384),\"\",SUM('Data Input'!C384,'Data Input'!D384,'Data Input'!J384,'Data Input'!X384))","v":""},{"$f":"IF(G379=\"\",\"\",G379/COUNTIF('Data Input'!$C$8:$AK$8,\"N\"))","v":""},{"$f":"IF(ISBLANK('Data Input'!A384),\"\",SUM('Data Input'!G384,'Data Input'!I384,'Data Input'!L384,'Data Input'!N384,'Data Input'!O384,'Data Input'!S384,'Data Input'!Z384,'Data Input'!AA384,'Data Input'!AB384,'Data Input'!AC384,'Data Input'!AE384,'Data Input'!AF384,'Data Input'!AG384,'Data Input'!AI384,'Data Input'!AK384))","v":""},{"$f":"IF(I379=\"\",\"\",I379/COUNTIF('Data Input'!$C$8:$AK$8,\"C\"))","v":""},{"$f":"IF(ISBLANK('Data Input'!A384),\"\",SUM('Data Input'!T384,'Data Input'!U384))","v":""},{"$f":"IF(K379=\"\",\"\",K379/COUNTIF('Data Input'!$C$8:$AK$8,\"S\"))","v":""},{"$f":"IF(ISBLANK('Data Input'!A384),\"\",SUM('Data Input'!F384,'Data Input'!R384,'Data Input'!AJ384))","v":""},{"$f":"IF(M379=\"\",\"\",M379/COUNTIF('Data Input'!$C$8:$AK$8,\"F\"))","v":""},{"$f":"IF(ISBLANK('Data Input'!A384),\"\",SUM('Data Input'!E384,'Data Input'!M384,'Data Input'!Q384,'Data Input'!V384,'Data Input'!W384,'Data Input'!AD384,'Data Input'!AH384))","v":""},{"$f":"IF(O379=\"\",\"\",O379/COUNTIF('Data Input'!$C$8:$AK$8,\"M\"))","v":""},{"$f":"IF(ISBLANK('Data Input'!A384),\"\",SUM('Data Input'!H384,'Data Input'!K384,'Data Input'!P384,'Data Input'!Y384))","v":""},{"$f":"IF(Q379=\"\",\"\",Q379/COUNTIF('Data Input'!$C$8:$AK$8,\"G\"))","v":""}]
[{"$f":"IF('Data Input'!A385=0,\"\",'Data Input'!A385)","v":""},{"$f":"IF(ISBLANK('Data Input'!A385),\"\",COUNTIF('Data Input'!C385:AK385,\"\"))","v":""},{"$f":"IF(ISBLANK('Data Input'!A385),\"\",COUNTIF('Data Input'!C385:AK385,\"0\"))","v":""},{"$f":"IF(ISBLANK('Data Input'!A385),\"\",SUM(B380,C380))","v":""},{"$f":"IF(ISBLANK('Data Input'!A385),\"\",SUM('Data Input'!C385:AK385))","v":""},{"$f":"IF(E380=\"\",\"\",E380/(COUNTA('Data Input'!$C$8:$AK$8)))","v":""},{"$f":"IF(ISBLANK('Data Input'!A385),\"\",SUM('Data Input'!C385,'Data Input'!D385,'Data Input'!J385,'Data Input'!X385))","v":""},{"$f":"IF(G380=\"\",\"\",G380/COUNTIF('Data Input'!$C$8:$AK$8,\"N\"))","v":""},{"$f":"IF(ISBLANK('Data Input'!A385),\"\",SUM('Data Input'!G385,'Data Input'!I385,'Data Input'!L385,'Data Input'!N385,'Data Input'!O385,'Data Input'!S385,'Data Input'!Z385,'Data Input'!AA385,'Data Input'!AB385,'Data Input'!AC385,'Data Input'!AE385,'Data Input'!AF385,'Data Input'!AG385,'Data Input'!AI385,'Data Input'!AK385))","v":""},{"$f":"IF(I380=\"\",\"\",I380/COUNTIF('Data Input'!$C$8:$AK$8,\"C\"))","v":""},{"$f":"IF(ISBLANK('Data Input'!A385),\"\",SUM('Data Input'!T385,'Data Input'!U385))","v":""},{"$f":"IF(K380=\"\",\"\",K380/COUNTIF('Data Input'!$C$8:$AK$8,\"S\"))","v":""},{"$f":"IF(ISBLANK('Data Input'!A385),\"\",SUM('Data Input'!F385,'Data Input'!R385,'Data Input'!AJ385))","v":""},{"$f":"IF(M380=\"\",\"\",M380/COUNTIF('Data Input'!$C$8:$AK$8,\"F\"))","v":""},{"$f":"IF(ISBLANK('Data Input'!A385),\"\",SUM('Data Input'!E385,'Data Input'!M385,'Data Input'!Q385,'Data Input'!V385,'Data Input'!W385,'Data Input'!AD385,'Data Input'!AH385))","v":""},{"$f":"IF(O380=\"\",\"\",O380/COUNTIF('Data Input'!$C$8:$AK$8,\"M\"))","v":""},{"$f":"IF(ISBLANK('Data Input'!A385),\"\",SUM('Data Input'!H385,'Data Input'!K385,'Data Input'!P385,'Data Input'!Y385))","v":""},{"$f":"IF(Q380=\"\",\"\",Q380/COUNTIF('Data Input'!$C$8:$AK$8,\"G\"))","v":""}]
[{"$f":"IF('Data Input'!A386=0,\"\",'Data Input'!A386)","v":""},{"$f":"IF(ISBLANK('Data Input'!A386),\"\",COUNTIF('Data Input'!C386:AK386,\"\"))","v":""},{"$f":"IF(ISBLANK('Data Input'!A386),\"\",COUNTIF('Data Input'!C386:AK386,\"0\"))","v":""},{"$f":"IF(ISBLANK('Data Input'!A386),\"\",SUM(B381,C381))","v":""},{"$f":"IF(ISBLANK('Data Input'!A386),\"\",SUM('Data Input'!C386:AK386))","v":""},{"$f":"IF(E381=\"\",\"\",E381/(COUNTA('Data Input'!$C$8:$AK$8)))","v":""},{"$f":"IF(ISBLANK('Data Input'!A386),\"\",SUM('Data Input'!C386,'Data Input'!D386,'Data Input'!J386,'Data Input'!X386))","v":""},{"$f":"IF(G381=\"\",\"\",G381/COUNTIF('Data Input'!$C$8:$AK$8,\"N\"))","v":""},{"$f":"IF(ISBLANK('Data Input'!A386),\"\",SUM('Data Input'!G386,'Data Input'!I386,'Data Input'!L386,'Data Input'!N386,'Data Input'!O386,'Data Input'!S386,'Data Input'!Z386,'Data Input'!AA386,'Data Input'!AB386,'Data Input'!AC386,'Data Input'!AE386,'Data Input'!AF386,'Data Input'!AG386,'Data Input'!AI386,'Data Input'!AK386))","v":""},{"$f":"IF(I381=\"\",\"\",I381/COUNTIF('Data Input'!$C$8:$AK$8,\"C\"))","v":""},{"$f":"IF(ISBLANK('Data Input'!A386),\"\",SUM('Data Input'!T386,'Data Input'!U386))","v":""},{"$f":"IF(K381=\"\",\"\",K381/COUNTIF('Data Input'!$C$8:$AK$8,\"S\"))","v":""},{"$f":"IF(ISBLANK('Data Input'!A386),\"\",SUM('Data Input'!F386,'Data Input'!R386,'Data Input'!AJ386))","v":""},{"$f":"IF(M381=\"\",\"\",M381/COUNTIF('Data Input'!$C$8:$AK$8,\"F\"))","v":""},{"$f":"IF(ISBLANK('Data Input'!A386),\"\",SUM('Data Input'!E386,'Data Input'!M386,'Data Input'!Q386,'Data Input'!V386,'Data Input'!W386,'Data Input'!AD386,'Data Input'!AH386))","v":""},{"$f":"IF(O381=\"\",\"\",O381/COUNTIF('Data Input'!$C$8:$AK$8,\"M\"))","v":""},{"$f":"IF(ISBLANK('Data Input'!A386),\"\",SUM('Data Input'!H386,'Data Input'!K386,'Data Input'!P386,'Data Input'!Y386))","v":""},{"$f":"IF(Q381=\"\",\"\",Q381/COUNTIF('Data Input'!$C$8:$AK$8,\"G\"))","v":""}]
[{"$f":"IF('Data Input'!A387=0,\"\",'Data Input'!A387)","v":""},{"$f":"IF(ISBLANK('Data Input'!A387),\"\",COUNTIF('Data Input'!C387:AK387,\"\"))","v":""},{"$f":"IF(ISBLANK('Data Input'!A387),\"\",COUNTIF('Data Input'!C387:AK387,\"0\"))","v":""},{"$f":"IF(ISBLANK('Data Input'!A387),\"\",SUM(B382,C382))","v":""},{"$f":"IF(ISBLANK('Data Input'!A387),\"\",SUM('Data Input'!C387:AK387))","v":""},{"$f":"IF(E382=\"\",\"\",E382/(COUNTA('Data Input'!$C$8:$AK$8)))","v":""},{"$f":"IF(ISBLANK('Data Input'!A387),\"\",SUM('Data Input'!C387,'Data Input'!D387,'Data Input'!J387,'Data Input'!X387))","v":""},{"$f":"IF(G382=\"\",\"\",G382/COUNTIF('Data Input'!$C$8:$AK$8,\"N\"))","v":""},{"$f":"IF(ISBLANK('Data Input'!A387),\"\",SUM('Data Input'!G387,'Data Input'!I387,'Data Input'!L387,'Data Input'!N387,'Data Input'!O387,'Data Input'!S387,'Data Input'!Z387,'Data Input'!AA387,'Data Input'!AB387,'Data Input'!AC387,'Data Input'!AE387,'Data Input'!AF387,'Data Input'!AG387,'Data Input'!AI387,'Data Input'!AK387))","v":""},{"$f":"IF(I382=\"\",\"\",I382/COUNTIF('Data Input'!$C$8:$AK$8,\"C\"))","v":""},{"$f":"IF(ISBLANK('Data Input'!A387),\"\",SUM('Data Input'!T387,'Data Input'!U387))","v":""},{"$f":"IF(K382=\"\",\"\",K382/COUNTIF('Data Input'!$C$8:$AK$8,\"S\"))","v":""},{"$f":"IF(ISBLANK('Data Input'!A387),\"\",SUM('Data Input'!F387,'Data Input'!R387,'Data Input'!AJ387))","v":""},{"$f":"IF(M382=\"\",\"\",M382/COUNTIF('Data Input'!$C$8:$AK$8,\"F\"))","v":""},{"$f":"IF(ISBLANK('Data Input'!A387),\"\",SUM('Data Input'!E387,'Data Input'!M387,'Data Input'!Q387,'Data Input'!V387,'Data Input'!W387,'Data Input'!AD387,'Data Input'!AH387))","v":""},{"$f":"IF(O382=\"\",\"\",O382/COUNTIF('Data Input'!$C$8:$AK$8,\"M\"))","v":""},{"$f":"IF(ISBLANK('Data Input'!A387),\"\",SUM('Data Input'!H387,'Data Input'!K387,'Data Input'!P387,'Data Input'!Y387))","v":""},{"$f":"IF(Q382=\"\",\"\",Q382/COUNTIF('Data Input'!$C$8:$AK$8,\"G\"))","v":""}]
[{"$f":"IF('Data Input'!A388=0,\"\",'Data Input'!A388)","v":""},{"$f":"IF(ISBLANK('Data Input'!A388),\"\",COUNTIF('Data Input'!C388:AK388,\"\"))","v":""},{"$f":"IF(ISBLANK('Data Input'!A388),\"\",COUNTIF('Data Input'!C388:AK388,\"0\"))","v":""},{"$f":"IF(ISBLANK('Data Input'!A388),\"\",SUM(B383,C383))","v":""},{"$f":"IF(ISBLANK('Data Input'!A388),\"\",SUM('Data Input'!C388:AK388))","v":""},{"$f":"IF(E383=\"\",\"\",E383/(COUNTA('Data Input'!$C$8:$AK$8)))","v":""},{"$f":"IF(ISBLANK('Data Input'!A388),\"\",SUM('Data Input'!C388,'Data Input'!D388,'Data Input'!J388,'Data Input'!X388))","v":""},{"$f":"IF(G383=\"\",\"\",G383/COUNTIF('Data Input'!$C$8:$AK$8,\"N\"))","v":""},{"$f":"IF(ISBLANK('Data Input'!A388),\"\",SUM('Data Input'!G388,'Data Input'!I388,'Data Input'!L388,'Data Input'!N388,'Data Input'!O388,'Data Input'!S388,'Data Input'!Z388,'Data Input'!AA388,'Data Input'!AB388,'Data Input'!AC388,'Data Input'!AE388,'Data Input'!AF388,'Data Input'!AG388,'Data Input'!AI388,'Data Input'!AK388))","v":""},{"$f":"IF(I383=\"\",\"\",I383/COUNTIF('Data Input'!$C$8:$AK$8,\"C\"))","v":""},{"$f":"IF(ISBLANK('Data Input'!A388),\"\",SUM('Data Input'!T388,'Data Input'!U388))","v":""},{"$f":"IF(K383=\"\",\"\",K383/COUNTIF('Data Input'!$C$8:$AK$8,\"S\"))","v":""},{"$f":"IF(ISBLANK('Data Input'!A388),\"\",SUM('Data Input'!F388,'Data Input'!R388,'Data Input'!AJ388))","v":""},{"$f":"IF(M383=\"\",\"\",M383/COUNTIF('Data Input'!$C$8:$AK$8,\"F\"))","v":""},{"$f":"IF(ISBLANK('Data Input'!A388),\"\",SUM('Data Input'!E388,'Data Input'!M388,'Data Input'!Q388,'Data Input'!V388,'Data Input'!W388,'Data Input'!AD388,'Data Input'!AH388))","v":""},{"$f":"IF(O383=\"\",\"\",O383/COUNTIF('Data Input'!$C$8:$AK$8,\"M\"))","v":""},{"$f":"IF(ISBLANK('Data Input'!A388),\"\",SUM('Data Input'!H388,'Data Input'!K388,'Data Input'!P388,'Data Input'!Y388))","v":""},{"$f":"IF(Q383=\"\",\"\",Q383/COUNTIF('Data Input'!$C$8:$AK$8,\"G\"))","v":""}]
[{"$f":"IF('Data Input'!A389=0,\"\",'Data Input'!A389)","v":""},{"$f":"IF(ISBLANK('Data Input'!A389),\"\",COUNTIF('Data Input'!C389:AK389,\"\"))","v":""},{"$f":"IF(ISBLANK('Data Input'!A389),\"\",COUNTIF('Data Input'!C389:AK389,\"0\"))","v":""},{"$f":"IF(ISBLANK('Data Input'!A389),\"\",SUM(B384,C384))","v":""},{"$f":"IF(ISBLANK('Data Input'!A389),\"\",SUM('Data Input'!C389:AK389))","v":""},{"$f":"IF(E384=\"\",\"\",E384/(COUNTA('Data Input'!$C$8:$AK$8)))","v":""},{"$f":"IF(ISBLANK('Data Input'!A389),\"\",SUM('Data Input'!C389,'Data Input'!D389,'Data Input'!J389,'Data Input'!X389))","v":""},{"$f":"IF(G384=\"\",\"\",G384/COUNTIF('Data Input'!$C$8:$AK$8,\"N\"))","v":""},{"$f":"IF(ISBLANK('Data Input'!A389),\"\",SUM('Data Input'!G389,'Data Input'!I389,'Data Input'!L389,'Data Input'!N389,'Data Input'!O389,'Data Input'!S389,'Data Input'!Z389,'Data Input'!AA389,'Data Input'!AB389,'Data Input'!AC389,'Data Input'!AE389,'Data Input'!AF389,'Data Input'!AG389,'Data Input'!AI389,'Data Input'!AK389))","v":""},{"$f":"IF(I384=\"\",\"\",I384/COUNTIF('Data Input'!$C$8:$AK$8,\"C\"))","v":""},{"$f":"IF(ISBLANK('Data Input'!A389),\"\",SUM('Data Input'!T389,'Data Input'!U389))","v":""},{"$f":"IF(K384=\"\",\"\",K384/COUNTIF('Data Input'!$C$8:$AK$8,\"S\"))","v":""},{"$f":"IF(ISBLANK('Data Input'!A389),\"\",SUM('Data Input'!F389,'Data Input'!R389,'Data Input'!AJ389))","v":""},{"$f":"IF(M384=\"\",\"\",M384/COUNTIF('Data Input'!$C$8:$AK$8,\"F\"))","v":""},{"$f":"IF(ISBLANK('Data Input'!A389),\"\",SUM('Data Input'!E389,'Data Input'!M389,'Data Input'!Q389,'Data Input'!V389,'Data Input'!W389,'Data Input'!AD389,'Data Input'!AH389))","v":""},{"$f":"IF(O384=\"\",\"\",O384/COUNTIF('Data Input'!$C$8:$AK$8,\"M\"))","v":""},{"$f":"IF(ISBLANK('Data Input'!A389),\"\",SUM('Data Input'!H389,'Data Input'!K389,'Data Input'!P389,'Data Input'!Y389))","v":""},{"$f":"IF(Q384=\"\",\"\",Q384/COUNTIF('Data Input'!$C$8:$AK$8,\"G\"))","v":""}]
[{"$f":"IF('Data Input'!A390=0,\"\",'Data Input'!A390)","v":""},{"$f":"IF(ISBLANK('Data Input'!A390),\"\",COUNTIF('Data Input'!C390:AK390,\"\"))","v":""},{"$f":"IF(ISBLANK('Data Input'!A390),\"\",COUNTIF('Data Input'!C390:AK390,\"0\"))","v":""},{"$f":"IF(ISBLANK('Data Input'!A390),\"\",SUM(B385,C385))","v":""},{"$f":"IF(ISBLANK('Data Input'!A390),\"\",SUM('Data Input'!C390:AK390))","v":""},{"$f":"IF(E385=\"\",\"\",E385/(COUNTA('Data Input'!$C$8:$AK$8)))","v":""},{"$f":"IF(ISBLANK('Data Input'!A390),\"\",SUM('Data Input'!C390,'Data Input'!D390,'Data Input'!J390,'Data Input'!X390))","v":""},{"$f":"IF(G385=\"\",\"\",G385/COUNTIF('Data Input'!$C$8:$AK$8,\"N\"))","v":""},{"$f":"IF(ISBLANK('Data Input'!A390),\"\",SUM('Data Input'!G390,'Data Input'!I390,'Data Input'!L390,'Data Input'!N390,'Data Input'!O390,'Data Input'!S390,'Data Input'!Z390,'Data Input'!AA390,'Data Input'!AB390,'Data Input'!AC390,'Data Input'!AE390,'Data Input'!AF390,'Data Input'!AG390,'Data Input'!AI390,'Data Input'!AK390))","v":""},{"$f":"IF(I385=\"\",\"\",I385/COUNTIF('Data Input'!$C$8:$AK$8,\"C\"))","v":""},{"$f":"IF(ISBLANK('Data Input'!A390),\"\",SUM('Data Input'!T390,'Data Input'!U390))","v":""},{"$f":"IF(K385=\"\",\"\",K385/COUNTIF('Data Input'!$C$8:$AK$8,\"S\"))","v":""},{"$f":"IF(ISBLANK('Data Input'!A390),\"\",SUM('Data Input'!F390,'Data Input'!R390,'Data Input'!AJ390))","v":""},{"$f":"IF(M385=\"\",\"\",M385/COUNTIF('Data Input'!$C$8:$AK$8,\"F\"))","v":""},{"$f":"IF(ISBLANK('Data Input'!A390),\"\",SUM('Data Input'!E390,'Data Input'!M390,'Data Input'!Q390,'Data Input'!V390,'Data Input'!W390,'Data Input'!AD390,'Data Input'!AH390))","v":""},{"$f":"IF(O385=\"\",\"\",O385/COUNTIF('Data Input'!$C$8:$AK$8,\"M\"))","v":""},{"$f":"IF(ISBLANK('Data Input'!A390),\"\",SUM('Data Input'!H390,'Data Input'!K390,'Data Input'!P390,'Data Input'!Y390))","v":""},{"$f":"IF(Q385=\"\",\"\",Q385/COUNTIF('Data Input'!$C$8:$AK$8,\"G\"))","v":""}]
[{"$f":"IF('Data Input'!A391=0,\"\",'Data Input'!A391)","v":""},{"$f":"IF(ISBLANK('Data Input'!A391),\"\",COUNTIF('Data Input'!C391:AK391,\"\"))","v":""},{"$f":"IF(ISBLANK('Data Input'!A391),\"\",COUNTIF('Data Input'!C391:AK391,\"0\"))","v":""},{"$f":"IF(ISBLANK('Data Input'!A391),\"\",SUM(B386,C386))","v":""},{"$f":"IF(ISBLANK('Data Input'!A391),\"\",SUM('Data Input'!C391:AK391))","v":""},{"$f":"IF(E386=\"\",\"\",E386/(COUNTA('Data Input'!$C$8:$AK$8)))","v":""},{"$f":"IF(ISBLANK('Data Input'!A391),\"\",SUM('Data Input'!C391,'Data Input'!D391,'Data Input'!J391,'Data Input'!X391))","v":""},{"$f":"IF(G386=\"\",\"\",G386/COUNTIF('Data Input'!$C$8:$AK$8,\"N\"))","v":""},{"$f":"IF(ISBLANK('Data Input'!A391),\"\",SUM('Data Input'!G391,'Data Input'!I391,'Data Input'!L391,'Data Input'!N391,'Data Input'!O391,'Data Input'!S391,'Data Input'!Z391,'Data Input'!AA391,'Data Input'!AB391,'Data Input'!AC391,'Data Input'!AE391,'Data Input'!AF391,'Data Input'!AG391,'Data Input'!AI391,'Data Input'!AK391))","v":""},{"$f":"IF(I386=\"\",\"\",I386/COUNTIF('Data Input'!$C$8:$AK$8,\"C\"))","v":""},{"$f":"IF(ISBLANK('Data Input'!A391),\"\",SUM('Data Input'!T391,'Data Input'!U391))","v":""},{"$f":"IF(K386=\"\",\"\",K386/COUNTIF('Data Input'!$C$8:$AK$8,\"S\"))","v":""},{"$f":"IF(ISBLANK('Data Input'!A391),\"\",SUM('Data Input'!F391,'Data Input'!R391,'Data Input'!AJ391))","v":""},{"$f":"IF(M386=\"\",\"\",M386/COUNTIF('Data Input'!$C$8:$AK$8,\"F\"))","v":""},{"$f":"IF(ISBLANK('Data Input'!A391),\"\",SUM('Data Input'!E391,'Data Input'!M391,'Data Input'!Q391,'Data Input'!V391,'Data Input'!W391,'Data Input'!AD391,'Data Input'!AH391))","v":""},{"$f":"IF(O386=\"\",\"\",O386/COUNTIF('Data Input'!$C$8:$AK$8,\"M\"))","v":""},{"$f":"IF(ISBLANK('Data Input'!A391),\"\",SUM('Data Input'!H391,'Data Input'!K391,'Data Input'!P391,'Data Input'!Y391))","v":""},{"$f":"IF(Q386=\"\",\"\",Q386/COUNTIF('Data Input'!$C$8:$AK$8,\"G\"))","v":""}]
[{"$f":"IF('Data Input'!A392=0,\"\",'Data Input'!A392)","v":""},{"$f":"IF(ISBLANK('Data Input'!A392),\"\",COUNTIF('Data Input'!C392:AK392,\"\"))","v":""},{"$f":"IF(ISBLANK('Data Input'!A392),\"\",COUNTIF('Data Input'!C392:AK392,\"0\"))","v":""},{"$f":"IF(ISBLANK('Data Input'!A392),\"\",SUM(B387,C387))","v":""},{"$f":"IF(ISBLANK('Data Input'!A392),\"\",SUM('Data Input'!C392:AK392))","v":""},{"$f":"IF(E387=\"\",\"\",E387/(COUNTA('Data Input'!$C$8:$AK$8)))","v":""},{"$f":"IF(ISBLANK('Data Input'!A392),\"\",SUM('Data Input'!C392,'Data Input'!D392,'Data Input'!J392,'Data Input'!X392))","v":""},{"$f":"IF(G387=\"\",\"\",G387/COUNTIF('Data Input'!$C$8:$AK$8,\"N\"))","v":""},{"$f":"IF(ISBLANK('Data Input'!A392),\"\",SUM('Data Input'!G392,'Data Input'!I392,'Data Input'!L392,'Data Input'!N392,'Data Input'!O392,'Data Input'!S392,'Data Input'!Z392,'Data Input'!AA392,'Data Input'!AB392,'Data Input'!AC392,'Data Input'!AE392,'Data Input'!AF392,'Data Input'!AG392,'Data Input'!AI392,'Data Input'!AK392))","v":""},{"$f":"IF(I387=\"\",\"\",I387/COUNTIF('Data Input'!$C$8:$AK$8,\"C\"))","v":""},{"$f":"IF(ISBLANK('Data Input'!A392),\"\",SUM('Data Input'!T392,'Data Input'!U392))","v":""},{"$f":"IF(K387=\"\",\"\",K387/COUNTIF('Data Input'!$C$8:$AK$8,\"S\"))","v":""},{"$f":"IF(ISBLANK('Data Input'!A392),\"\",SUM('Data Input'!F392,'Data Input'!R392,'Data Input'!AJ392))","v":""},{"$f":"IF(M387=\"\",\"\",M387/COUNTIF('Data Input'!$C$8:$AK$8,\"F\"))","v":""},{"$f":"IF(ISBLANK('Data Input'!A392),\"\",SUM('Data Input'!E392,'Data Input'!M392,'Data Input'!Q392,'Data Input'!V392,'Data Input'!W392,'Data Input'!AD392,'Data Input'!AH392))","v":""},{"$f":"IF(O387=\"\",\"\",O387/COUNTIF('Data Input'!$C$8:$AK$8,\"M\"))","v":""},{"$f":"IF(ISBLANK('Data Input'!A392),\"\",SUM('Data Input'!H392,'Data Input'!K392,'Data Input'!P392,'Data Input'!Y392))","v":""},{"$f":"IF(Q387=\"\",\"\",Q387/COUNTIF('Data Input'!$C$8:$AK$8,\"G\"))","v":""}]
[{"$f":"IF('Data Input'!A393=0,\"\",'Data Input'!A393)","v":""},{"$f":"IF(ISBLANK('Data Input'!A393),\"\",COUNTIF('Data Input'!C393:AK393,\"\"))","v":""},{"$f":"IF(ISBLANK('Data Input'!A393),\"\",COUNTIF('Data Input'!C393:AK393,\"0\"))","v":""},{"$f":"IF(ISBLANK('Data Input'!A393),\"\",SUM(B388,C388))","v":""},{"$f":"IF(ISBLANK('Data Input'!A393),\"\",SUM('Data Input'!C393:AK393))","v":""},{"$f":"IF(E388=\"\",\"\",E388/(COUNTA('Data Input'!$C$8:$AK$8)))","v":""},{"$f":"IF(ISBLANK('Data Input'!A393),\"\",SUM('Data Input'!C393,'Data Input'!D393,'Data Input'!J393,'Data Input'!X393))","v":""},{"$f":"IF(G388=\"\",\"\",G388/COUNTIF('Data Input'!$C$8:$AK$8,\"N\"))","v":""},{"$f":"IF(ISBLANK('Data Input'!A393),\"\",SUM('Data Input'!G393,'Data Input'!I393,'Data Input'!L393,'Data Input'!N393,'Data Input'!O393,'Data Input'!S393,'Data Input'!Z393,'Data Input'!AA393,'Data Input'!AB393,'Data Input'!AC393,'Data Input'!AE393,'Data Input'!AF393,'Data Input'!AG393,'Data Input'!AI393,'Data Input'!AK393))","v":""},{"$f":"IF(I388=\"\",\"\",I388/COUNTIF('Data Input'!$C$8:$AK$8,\"C\"))","v":""},{"$f":"IF(ISBLANK('Data Input'!A393),\"\",SUM('Data Input'!T393,'Data Input'!U393))","v":""},{"$f":"IF(K388=\"\",\"\",K388/COUNTIF('Data Input'!$C$8:$AK$8,\"S\"))","v":""},{"$f":"IF(ISBLANK('Data Input'!A393),\"\",SUM('Data Input'!F393,'Data Input'!R393,'Data Input'!AJ393))","v":""},{"$f":"IF(M388=\"\",\"\",M388/COUNTIF('Data Input'!$C$8:$AK$8,\"F\"))","v":""},{"$f":"IF(ISBLANK('Data Input'!A393),\"\",SUM('Data Input'!E393,'Data Input'!M393,'Data Input'!Q393,'Data Input'!V393,'Data Input'!W393,'Data Input'!AD393,'Data Input'!AH393))","v":""},{"$f":"IF(O388=\"\",\"\",O388/COUNTIF('Data Input'!$C$8:$AK$8,\"M\"))","v":""},{"$f":"IF(ISBLANK('Data Input'!A393),\"\",SUM('Data Input'!H393,'Data Input'!K393,'Data Input'!P393,'Data Input'!Y393))","v":""},{"$f":"IF(Q388=\"\",\"\",Q388/COUNTIF('Data Input'!$C$8:$AK$8,\"G\"))","v":""}]
[{"$f":"IF('Data Input'!A394=0,\"\",'Data Input'!A394)","v":""},{"$f":"IF(ISBLANK('Data Input'!A394),\"\",COUNTIF('Data Input'!C394:AK394,\"\"))","v":""},{"$f":"IF(ISBLANK('Data Input'!A394),\"\",COUNTIF('Data Input'!C394:AK394,\"0\"))","v":""},{"$f":"IF(ISBLANK('Data Input'!A394),\"\",SUM(B389,C389))","v":""},{"$f":"IF(ISBLANK('Data Input'!A394),\"\",SUM('Data Input'!C394:AK394))","v":""},{"$f":"IF(E389=\"\",\"\",E389/(COUNTA('Data Input'!$C$8:$AK$8)))","v":""},{"$f":"IF(ISBLANK('Data Input'!A394),\"\",SUM('Data Input'!C394,'Data Input'!D394,'Data Input'!J394,'Data Input'!X394))","v":""},{"$f":"IF(G389=\"\",\"\",G389/COUNTIF('Data Input'!$C$8:$AK$8,\"N\"))","v":""},{"$f":"IF(ISBLANK('Data Input'!A394),\"\",SUM('Data Input'!G394,'Data Input'!I394,'Data Input'!L394,'Data Input'!N394,'Data Input'!O394,'Data Input'!S394,'Data Input'!Z394,'Data Input'!AA394,'Data Input'!AB394,'Data Input'!AC394,'Data Input'!AE394,'Data Input'!AF394,'Data Input'!AG394,'Data Input'!AI394,'Data Input'!AK394))","v":""},{"$f":"IF(I389=\"\",\"\",I389/COUNTIF('Data Input'!$C$8:$AK$8,\"C\"))","v":""},{"$f":"IF(ISBLANK('Data Input'!A394),\"\",SUM('Data Input'!T394,'Data Input'!U394))","v":""},{"$f":"IF(K389=\"\",\"\",K389/COUNTIF('Data Input'!$C$8:$AK$8,\"S\"))","v":""},{"$f":"IF(ISBLANK('Data Input'!A394),\"\",SUM('Data Input'!F394,'Data Input'!R394,'Data Input'!AJ394))","v":""},{"$f":"IF(M389=\"\",\"\",M389/COUNTIF('Data Input'!$C$8:$AK$8,\"F\"))","v":""},{"$f":"IF(ISBLANK('Data Input'!A394),\"\",SUM('Data Input'!E394,'Data Input'!M394,'Data Input'!Q394,'Data Input'!V394,'Data Input'!W394,'Data Input'!AD394,'Data Input'!AH394))","v":""},{"$f":"IF(O389=\"\",\"\",O389/COUNTIF('Data Input'!$C$8:$AK$8,\"M\"))","v":""},{"$f":"IF(ISBLANK('Data Input'!A394),\"\",SUM('Data Input'!H394,'Data Input'!K394,'Data Input'!P394,'Data Input'!Y394))","v":""},{"$f":"IF(Q389=\"\",\"\",Q389/COUNTIF('Data Input'!$C$8:$AK$8,\"G\"))","v":""}]
[{"$f":"IF('Data Input'!A395=0,\"\",'Data Input'!A395)","v":""},{"$f":"IF(ISBLANK('Data Input'!A395),\"\",COUNTIF('Data Input'!C395:AK395,\"\"))","v":""},{"$f":"IF(ISBLANK('Data Input'!A395),\"\",COUNTIF('Data Input'!C395:AK395,\"0\"))","v":""},{"$f":"IF(ISBLANK('Data Input'!A395),\"\",SUM(B390,C390))","v":""},{"$f":"IF(ISBLANK('Data Input'!A395),\"\",SUM('Data Input'!C395:AK395))","v":""},{"$f":"IF(E390=\"\",\"\",E390/(COUNTA('Data Input'!$C$8:$AK$8)))","v":""},{"$f":"IF(ISBLANK('Data Input'!A395),\"\",SUM('Data Input'!C395,'Data Input'!D395,'Data Input'!J395,'Data Input'!X395))","v":""},{"$f":"IF(G390=\"\",\"\",G390/COUNTIF('Data Input'!$C$8:$AK$8,\"N\"))","v":""},{"$f":"IF(ISBLANK('Data Input'!A395),\"\",SUM('Data Input'!G395,'Data Input'!I395,'Data Input'!L395,'Data Input'!N395,'Data Input'!O395,'Data Input'!S395,'Data Input'!Z395,'Data Input'!AA395,'Data Input'!AB395,'Data Input'!AC395,'Data Input'!AE395,'Data Input'!AF395,'Data Input'!AG395,'Data Input'!AI395,'Data Input'!AK395))","v":""},{"$f":"IF(I390=\"\",\"\",I390/COUNTIF('Data Input'!$C$8:$AK$8,\"C\"))","v":""},{"$f":"IF(ISBLANK('Data Input'!A395),\"\",SUM('Data Input'!T395,'Data Input'!U395))","v":""},{"$f":"IF(K390=\"\",\"\",K390/COUNTIF('Data Input'!$C$8:$AK$8,\"S\"))","v":""},{"$f":"IF(ISBLANK('Data Input'!A395),\"\",SUM('Data Input'!F395,'Data Input'!R395,'Data Input'!AJ395))","v":""},{"$f":"IF(M390=\"\",\"\",M390/COUNTIF('Data Input'!$C$8:$AK$8,\"F\"))","v":""},{"$f":"IF(ISBLANK('Data Input'!A395),\"\",SUM('Data Input'!E395,'Data Input'!M395,'Data Input'!Q395,'Data Input'!V395,'Data Input'!W395,'Data Input'!AD395,'Data Input'!AH395))","v":""},{"$f":"IF(O390=\"\",\"\",O390/COUNTIF('Data Input'!$C$8:$AK$8,\"M\"))","v":""},{"$f":"IF(ISBLANK('Data Input'!A395),\"\",SUM('Data Input'!H395,'Data Input'!K395,'Data Input'!P395,'Data Input'!Y395))","v":""},{"$f":"IF(Q390=\"\",\"\",Q390/COUNTIF('Data Input'!$C$8:$AK$8,\"G\"))","v":""}]
[{"$f":"IF('Data Input'!A396=0,\"\",'Data Input'!A396)","v":""},{"$f":"IF(ISBLANK('Data Input'!A396),\"\",COUNTIF('Data Input'!C396:AK396,\"\"))","v":""},{"$f":"IF(ISBLANK('Data Input'!A396),\"\",COUNTIF('Data Input'!C396:AK396,\"0\"))","v":""},{"$f":"IF(ISBLANK('Data Input'!A396),\"\",SUM(B391,C391))","v":""},{"$f":"IF(ISBLANK('Data Input'!A396),\"\",SUM('Data Input'!C396:AK396))","v":""},{"$f":"IF(E391=\"\",\"\",E391/(COUNTA('Data Input'!$C$8:$AK$8)))","v":""},{"$f":"IF(ISBLANK('Data Input'!A396),\"\",SUM('Data Input'!C396,'Data Input'!D396,'Data Input'!J396,'Data Input'!X396))","v":""},{"$f":"IF(G391=\"\",\"\",G391/COUNTIF('Data Input'!$C$8:$AK$8,\"N\"))","v":""},{"$f":"IF(ISBLANK('Data Input'!A396),\"\",SUM('Data Input'!G396,'Data Input'!I396,'Data Input'!L396,'Data Input'!N396,'Data Input'!O396,'Data Input'!S396,'Data Input'!Z396,'Data Input'!AA396,'Data Input'!AB396,'Data Input'!AC396,'Data Input'!AE396,'Data Input'!AF396,'Data Input'!AG396,'Data Input'!AI396,'Data Input'!AK396))","v":""},{"$f":"IF(I391=\"\",\"\",I391/COUNTIF('Data Input'!$C$8:$AK$8,\"C\"))","v":""},{"$f":"IF(ISBLANK('Data Input'!A396),\"\",SUM('Data Input'!T396,'Data Input'!U396))","v":""},{"$f":"IF(K391=\"\",\"\",K391/COUNTIF('Data Input'!$C$8:$AK$8,\"S\"))","v":""},{"$f":"IF(ISBLANK('Data Input'!A396),\"\",SUM('Data Input'!F396,'Data Input'!R396,'Data Input'!AJ396))","v":""},{"$f":"IF(M391=\"\",\"\",M391/COUNTIF('Data Input'!$C$8:$AK$8,\"F\"))","v":""},{"$f":"IF(ISBLANK('Data Input'!A396),\"\",SUM('Data Input'!E396,'Data Input'!M396,'Data Input'!Q396,'Data Input'!V396,'Data Input'!W396,'Data Input'!AD396,'Data Input'!AH396))","v":""},{"$f":"IF(O391=\"\",\"\",O391/COUNTIF('Data Input'!$C$8:$AK$8,\"M\"))","v":""},{"$f":"IF(ISBLANK('Data Input'!A396),\"\",SUM('Data Input'!H396,'Data Input'!K396,'Data Input'!P396,'Data Input'!Y396))","v":""},{"$f":"IF(Q391=\"\",\"\",Q391/COUNTIF('Data Input'!$C$8:$AK$8,\"G\"))","v":""}]
[{"$f":"IF('Data Input'!A397=0,\"\",'Data Input'!A397)","v":""},{"$f":"IF(ISBLANK('Data Input'!A397),\"\",COUNTIF('Data Input'!C397:AK397,\"\"))","v":""},{"$f":"IF(ISBLANK('Data Input'!A397),\"\",COUNTIF('Data Input'!C397:AK397,\"0\"))","v":""},{"$f":"IF(ISBLANK('Data Input'!A397),\"\",SUM(B392,C392))","v":""},{"$f":"IF(ISBLANK('Data Input'!A397),\"\",SUM('Data Input'!C397:AK397))","v":""},{"$f":"IF(E392=\"\",\"\",E392/(COUNTA('Data Input'!$C$8:$AK$8)))","v":""},{"$f":"IF(ISBLANK('Data Input'!A397),\"\",SUM('Data Input'!C397,'Data Input'!D397,'Data Input'!J397,'Data Input'!X397))","v":""},{"$f":"IF(G392=\"\",\"\",G392/COUNTIF('Data Input'!$C$8:$AK$8,\"N\"))","v":""},{"$f":"IF(ISBLANK('Data Input'!A397),\"\",SUM('Data Input'!G397,'Data Input'!I397,'Data Input'!L397,'Data Input'!N397,'Data Input'!O397,'Data Input'!S397,'Data Input'!Z397,'Data Input'!AA397,'Data Input'!AB397,'Data Input'!AC397,'Data Input'!AE397,'Data Input'!AF397,'Data Input'!AG397,'Data Input'!AI397,'Data Input'!AK397))","v":""},{"$f":"IF(I392=\"\",\"\",I392/COUNTIF('Data Input'!$C$8:$AK$8,\"C\"))","v":""},{"$f":"IF(ISBLANK('Data Input'!A397),\"\",SUM('Data Input'!T397,'Data Input'!U397))","v":""},{"$f":"IF(K392=\"\",\"\",K392/COUNTIF('Data Input'!$C$8:$AK$8,\"S\"))","v":""},{"$f":"IF(ISBLANK('Data Input'!A397),\"\",SUM('Data Input'!F397,'Data Input'!R397,'Data Input'!AJ397))","v":""},{"$f":"IF(M392=\"\",\"\",M392/COUNTIF('Data Input'!$C$8:$AK$8,\"F\"))","v":""},{"$f":"IF(ISBLANK('Data Input'!A397),\"\",SUM('Data Input'!E397,'Data Input'!M397,'Data Input'!Q397,'Data Input'!V397,'Data Input'!W397,'Data Input'!AD397,'Data Input'!AH397))","v":""},{"$f":"IF(O392=\"\",\"\",O392/COUNTIF('Data Input'!$C$8:$AK$8,\"M\"))","v":""},{"$f":"IF(ISBLANK('Data Input'!A397),\"\",SUM('Data Input'!H397,'Data Input'!K397,'Data Input'!P397,'Data Input'!Y397))","v":""},{"$f":"IF(Q392=\"\",\"\",Q392/COUNTIF('Data Input'!$C$8:$AK$8,\"G\"))","v":""}]
[{"$f":"IF('Data Input'!A398=0,\"\",'Data Input'!A398)","v":""},{"$f":"IF(ISBLANK('Data Input'!A398),\"\",COUNTIF('Data Input'!C398:AK398,\"\"))","v":""},{"$f":"IF(ISBLANK('Data Input'!A398),\"\",COUNTIF('Data Input'!C398:AK398,\"0\"))","v":""},{"$f":"IF(ISBLANK('Data Input'!A398),\"\",SUM(B393,C393))","v":""},{"$f":"IF(ISBLANK('Data Input'!A398),\"\",SUM('Data Input'!C398:AK398))","v":""},{"$f":"IF(E393=\"\",\"\",E393/(COUNTA('Data Input'!$C$8:$AK$8)))","v":""},{"$f":"IF(ISBLANK('Data Input'!A398),\"\",SUM('Data Input'!C398,'Data Input'!D398,'Data Input'!J398,'Data Input'!X398))","v":""},{"$f":"IF(G393=\"\",\"\",G393/COUNTIF('Data Input'!$C$8:$AK$8,\"N\"))","v":""},{"$f":"IF(ISBLANK('Data Input'!A398),\"\",SUM('Data Input'!G398,'Data Input'!I398,'Data Input'!L398,'Data Input'!N398,'Data Input'!O398,'Data Input'!S398,'Data Input'!Z398,'Data Input'!AA398,'Data Input'!AB398,'Data Input'!AC398,'Data Input'!AE398,'Data Input'!AF398,'Data Input'!AG398,'Data Input'!AI398,'Data Input'!AK398))","v":""},{"$f":"IF(I393=\"\",\"\",I393/COUNTIF('Data Input'!$C$8:$AK$8,\"C\"))","v":""},{"$f":"IF(ISBLANK('Data Input'!A398),\"\",SUM('Data Input'!T398,'Data Input'!U398))","v":""},{"$f":"IF(K393=\"\",\"\",K393/COUNTIF('Data Input'!$C$8:$AK$8,\"S\"))","v":""},{"$f":"IF(ISBLANK('Data Input'!A398),\"\",SUM('Data Input'!F398,'Data Input'!R398,'Data Input'!AJ398))","v":""},{"$f":"IF(M393=\"\",\"\",M393/COUNTIF('Data Input'!$C$8:$AK$8,\"F\"))","v":""},{"$f":"IF(ISBLANK('Data Input'!A398),\"\",SUM('Data Input'!E398,'Data Input'!M398,'Data Input'!Q398,'Data Input'!V398,'Data Input'!W398,'Data Input'!AD398,'Data Input'!AH398))","v":""},{"$f":"IF(O393=\"\",\"\",O393/COUNTIF('Data Input'!$C$8:$AK$8,\"M\"))","v":""},{"$f":"IF(ISBLANK('Data Input'!A398),\"\",SUM('Data Input'!H398,'Data Input'!K398,'Data Input'!P398,'Data Input'!Y398))","v":""},{"$f":"IF(Q393=\"\",\"\",Q393/COUNTIF('Data Input'!$C$8:$AK$8,\"G\"))","v":""}]
[{"$f":"IF('Data Input'!A399=0,\"\",'Data Input'!A399)","v":""},{"$f":"IF(ISBLANK('Data Input'!A399),\"\",COUNTIF('Data Input'!C399:AK399,\"\"))","v":""},{"$f":"IF(ISBLANK('Data Input'!A399),\"\",COUNTIF('Data Input'!C399:AK399,\"0\"))","v":""},{"$f":"IF(ISBLANK('Data Input'!A399),\"\",SUM(B394,C394))","v":""},{"$f":"IF(ISBLANK('Data Input'!A399),\"\",SUM('Data Input'!C399:AK399))","v":""},{"$f":"IF(E394=\"\",\"\",E394/(COUNTA('Data Input'!$C$8:$AK$8)))","v":""},{"$f":"IF(ISBLANK('Data Input'!A399),\"\",SUM('Data Input'!C399,'Data Input'!D399,'Data Input'!J399,'Data Input'!X399))","v":""},{"$f":"IF(G394=\"\",\"\",G394/COUNTIF('Data Input'!$C$8:$AK$8,\"N\"))","v":""},{"$f":"IF(ISBLANK('Data Input'!A399),\"\",SUM('Data Input'!G399,'Data Input'!I399,'Data Input'!L399,'Data Input'!N399,'Data Input'!O399,'Data Input'!S399,'Data Input'!Z399,'Data Input'!AA399,'Data Input'!AB399,'Data Input'!AC399,'Data Input'!AE399,'Data Input'!AF399,'Data Input'!AG399,'Data Input'!AI399,'Data Input'!AK399))","v":""},{"$f":"IF(I394=\"\",\"\",I394/COUNTIF('Data Input'!$C$8:$AK$8,\"C\"))","v":""},{"$f":"IF(ISBLANK('Data Input'!A399),\"\",SUM('Data Input'!T399,'Data Input'!U399))","v":""},{"$f":"IF(K394=\"\",\"\",K394/COUNTIF('Data Input'!$C$8:$AK$8,\"S\"))","v":""},{"$f":"IF(ISBLANK('Data Input'!A399),\"\",SUM('Data Input'!F399,'Data Input'!R399,'Data Input'!AJ399))","v":""},{"$f":"IF(M394=\"\",\"\",M394/COUNTIF('Data Input'!$C$8:$AK$8,\"F\"))","v":""},{"$f":"IF(ISBLANK('Data Input'!A399),\"\",SUM('Data Input'!E399,'Data Input'!M399,'Data Input'!Q399,'Data Input'!V399,'Data Input'!W399,'Data Input'!AD399,'Data Input'!AH399))","v":""},{"$f":"IF(O394=\"\",\"\",O394/COUNTIF('Data Input'!$C$8:$AK$8,\"M\"))","v":""},{"$f":"IF(ISBLANK('Data Input'!A399),\"\",SUM('Data Input'!H399,'Data Input'!K399,'Data Input'!P399,'Data Input'!Y399))","v":""},{"$f":"IF(Q394=\"\",\"\",Q394/COUNTIF('Data Input'!$C$8:$AK$8,\"G\"))","v":""}]
[{"$f":"IF('Data Input'!A400=0,\"\",'Data Input'!A400)","v":""},{"$f":"IF(ISBLANK('Data Input'!A400),\"\",COUNTIF('Data Input'!C400:AK400,\"\"))","v":""},{"$f":"IF(ISBLANK('Data Input'!A400),\"\",COUNTIF('Data Input'!C400:AK400,\"0\"))","v":""},{"$f":"IF(ISBLANK('Data Input'!A400),\"\",SUM(B395,C395))","v":""},{"$f":"IF(ISBLANK('Data Input'!A400),\"\",SUM('Data Input'!C400:AK400))","v":""},{"$f":"IF(E395=\"\",\"\",E395/(COUNTA('Data Input'!$C$8:$AK$8)))","v":""},{"$f":"IF(ISBLANK('Data Input'!A400),\"\",SUM('Data Input'!C400,'Data Input'!D400,'Data Input'!J400,'Data Input'!X400))","v":""},{"$f":"IF(G395=\"\",\"\",G395/COUNTIF('Data Input'!$C$8:$AK$8,\"N\"))","v":""},{"$f":"IF(ISBLANK('Data Input'!A400),\"\",SUM('Data Input'!G400,'Data Input'!I400,'Data Input'!L400,'Data Input'!N400,'Data Input'!O400,'Data Input'!S400,'Data Input'!Z400,'Data Input'!AA400,'Data Input'!AB400,'Data Input'!AC400,'Data Input'!AE400,'Data Input'!AF400,'Data Input'!AG400,'Data Input'!AI400,'Data Input'!AK400))","v":""},{"$f":"IF(I395=\"\",\"\",I395/COUNTIF('Data Input'!$C$8:$AK$8,\"C\"))","v":""},{"$f":"IF(ISBLANK('Data Input'!A400),\"\",SUM('Data Input'!T400,'Data Input'!U400))","v":""},{"$f":"IF(K395=\"\",\"\",K395/COUNTIF('Data Input'!$C$8:$AK$8,\"S\"))","v":""},{"$f":"IF(ISBLANK('Data Input'!A400),\"\",SUM('Data Input'!F400,'Data Input'!R400,'Data Input'!AJ400))","v":""},{"$f":"IF(M395=\"\",\"\",M395/COUNTIF('Data Input'!$C$8:$AK$8,\"F\"))","v":""},{"$f":"IF(ISBLANK('Data Input'!A400),\"\",SUM('Data Input'!E400,'Data Input'!M400,'Data Input'!Q400,'Data Input'!V400,'Data Input'!W400,'Data Input'!AD400,'Data Input'!AH400))","v":""},{"$f":"IF(O395=\"\",\"\",O395/COUNTIF('Data Input'!$C$8:$AK$8,\"M\"))","v":""},{"$f":"IF(ISBLANK('Data Input'!A400),\"\",SUM('Data Input'!H400,'Data Input'!K400,'Data Input'!P400,'Data Input'!Y400))","v":""},{"$f":"IF(Q395=\"\",\"\",Q395/COUNTIF('Data Input'!$C$8:$AK$8,\"G\"))","v":""}]
[{"$f":"IF('Data Input'!A401=0,\"\",'Data Input'!A401)","v":""},{"$f":"IF(ISBLANK('Data Input'!A401),\"\",COUNTIF('Data Input'!C401:AK401,\"\"))","v":""},{"$f":"IF(ISBLANK('Data Input'!A401),\"\",COUNTIF('Data Input'!C401:AK401,\"0\"))","v":""},{"$f":"IF(ISBLANK('Data Input'!A401),\"\",SUM(B396,C396))","v":""},{"$f":"IF(ISBLANK('Data Input'!A401),\"\",SUM('Data Input'!C401:AK401))","v":""},{"$f":"IF(E396=\"\",\"\",E396/(COUNTA('Data Input'!$C$8:$AK$8)))","v":""},{"$f":"IF(ISBLANK('Data Input'!A401),\"\",SUM('Data Input'!C401,'Data Input'!D401,'Data Input'!J401,'Data Input'!X401))","v":""},{"$f":"IF(G396=\"\",\"\",G396/COUNTIF('Data Input'!$C$8:$AK$8,\"N\"))","v":""},{"$f":"IF(ISBLANK('Data Input'!A401),\"\",SUM('Data Input'!G401,'Data Input'!I401,'Data Input'!L401,'Data Input'!N401,'Data Input'!O401,'Data Input'!S401,'Data Input'!Z401,'Data Input'!AA401,'Data Input'!AB401,'Data Input'!AC401,'Data Input'!AE401,'Data Input'!AF401,'Data Input'!AG401,'Data Input'!AI401,'Data Input'!AK401))","v":""},{"$f":"IF(I396=\"\",\"\",I396/COUNTIF('Data Input'!$C$8:$AK$8,\"C\"))","v":""},{"$f":"IF(ISBLANK('Data Input'!A401),\"\",SUM('Data Input'!T401,'Data Input'!U401))","v":""},{"$f":"IF(K396=\"\",\"\",K396/COUNTIF('Data Input'!$C$8:$AK$8,\"S\"))","v":""},{"$f":"IF(ISBLANK('Data Input'!A401),\"\",SUM('Data Input'!F401,'Data Input'!R401,'Data Input'!AJ401))","v":""},{"$f":"IF(M396=\"\",\"\",M396/COUNTIF('Data Input'!$C$8:$AK$8,\"F\"))","v":""},{"$f":"IF(ISBLANK('Data Input'!A401),\"\",SUM('Data Input'!E401,'Data Input'!M401,'Data Input'!Q401,'Data Input'!V401,'Data Input'!W401,'Data Input'!AD401,'Data Input'!AH401))","v":""},{"$f":"IF(O396=\"\",\"\",O396/COUNTIF('Data Input'!$C$8:$AK$8,\"M\"))","v":""},{"$f":"IF(ISBLANK('Data Input'!A401),\"\",SUM('Data Input'!H401,'Data Input'!K401,'Data Input'!P401,'Data Input'!Y401))","v":""},{"$f":"IF(Q396=\"\",\"\",Q396/COUNTIF('Data Input'!$C$8:$AK$8,\"G\"))","v":""}]
[{"$f":"IF('Data Input'!A402=0,\"\",'Data Input'!A402)","v":""},{"$f":"IF(ISBLANK('Data Input'!A402),\"\",COUNTIF('Data Input'!C402:AK402,\"\"))","v":""},{"$f":"IF(ISBLANK('Data Input'!A402),\"\",COUNTIF('Data Input'!C402:AK402,\"0\"))","v":""},{"$f":"IF(ISBLANK('Data Input'!A402),\"\",SUM(B397,C397))","v":""},{"$f":"IF(ISBLANK('Data Input'!A402),\"\",SUM('Data Input'!C402:AK402))","v":""},{"$f":"IF(E397=\"\",\"\",E397/(COUNTA('Data Input'!$C$8:$AK$8)))","v":""},{"$f":"IF(ISBLANK('Data Input'!A402),\"\",SUM('Data Input'!C402,'Data Input'!D402,'Data Input'!J402,'Data Input'!X402))","v":""},{"$f":"IF(G397=\"\",\"\",G397/COUNTIF('Data Input'!$C$8:$AK$8,\"N\"))","v":""},{"$f":"IF(ISBLANK('Data Input'!A402),\"\",SUM('Data Input'!G402,'Data Input'!I402,'Data Input'!L402,'Data Input'!N402,'Data Input'!O402,'Data Input'!S402,'Data Input'!Z402,'Data Input'!AA402,'Data Input'!AB402,'Data Input'!AC402,'Data Input'!AE402,'Data Input'!AF402,'Data Input'!AG402,'Data Input'!AI402,'Data Input'!AK402))","v":""},{"$f":"IF(I397=\"\",\"\",I397/COUNTIF('Data Input'!$C$8:$AK$8,\"C\"))","v":""},{"$f":"IF(ISBLANK('Data Input'!A402),\"\",SUM('Data Input'!T402,'Data Input'!U402))","v":""},{"$f":"IF(K397=\"\",\"\",K397/COUNTIF('Data Input'!$C$8:$AK$8,\"S\"))","v":""},{"$f":"IF(ISBLANK('Data Input'!A402),\"\",SUM('Data Input'!F402,'Data Input'!R402,'Data Input'!AJ402))","v":""},{"$f":"IF(M397=\"\",\"\",M397/COUNTIF('Data Input'!$C$8:$AK$8,\"F\"))","v":""},{"$f":"IF(ISBLANK('Data Input'!A402),\"\",SUM('Data Input'!E402,'Data Input'!M402,'Data Input'!Q402,'Data Input'!V402,'Data Input'!W402,'Data Input'!AD402,'Data Input'!AH402))","v":""},{"$f":"IF(O397=\"\",\"\",O397/COUNTIF('Data Input'!$C$8:$AK$8,\"M\"))","v":""},{"$f":"IF(ISBLANK('Data Input'!A402),\"\",SUM('Data Input'!H402,'Data Input'!K402,'Data Input'!P402,'Data Input'!Y402))","v":""},{"$f":"IF(Q397=\"\",\"\",Q397/COUNTIF('Data Input'!$C$8:$AK$8,\"G\"))","v":""}]
[{"$f":"IF('Data Input'!A403=0,\"\",'Data Input'!A403)","v":""},{"$f":"IF(ISBLANK('Data Input'!A403),\"\",COUNTIF('Data Input'!C403:AK403,\"\"))","v":""},{"$f":"IF(ISBLANK('Data Input'!A403),\"\",COUNTIF('Data Input'!C403:AK403,\"0\"))","v":""},{"$f":"IF(ISBLANK('Data Input'!A403),\"\",SUM(B398,C398))","v":""},{"$f":"IF(ISBLANK('Data Input'!A403),\"\",SUM('Data Input'!C403:AK403))","v":""},{"$f":"IF(E398=\"\",\"\",E398/(COUNTA('Data Input'!$C$8:$AK$8)))","v":""},{"$f":"IF(ISBLANK('Data Input'!A403),\"\",SUM('Data Input'!C403,'Data Input'!D403,'Data Input'!J403,'Data Input'!X403))","v":""},{"$f":"IF(G398=\"\",\"\",G398/COUNTIF('Data Input'!$C$8:$AK$8,\"N\"))","v":""},{"$f":"IF(ISBLANK('Data Input'!A403),\"\",SUM('Data Input'!G403,'Data Input'!I403,'Data Input'!L403,'Data Input'!N403,'Data Input'!O403,'Data Input'!S403,'Data Input'!Z403,'Data Input'!AA403,'Data Input'!AB403,'Data Input'!AC403,'Data Input'!AE403,'Data Input'!AF403,'Data Input'!AG403,'Data Input'!AI403,'Data Input'!AK403))","v":""},{"$f":"IF(I398=\"\",\"\",I398/COUNTIF('Data Input'!$C$8:$AK$8,\"C\"))","v":""},{"$f":"IF(ISBLANK('Data Input'!A403),\"\",SUM('Data Input'!T403,'Data Input'!U403))","v":""},{"$f":"IF(K398=\"\",\"\",K398/COUNTIF('Data Input'!$C$8:$AK$8,\"S\"))","v":""},{"$f":"IF(ISBLANK('Data Input'!A403),\"\",SUM('Data Input'!F403,'Data Input'!R403,'Data Input'!AJ403))","v":""},{"$f":"IF(M398=\"\",\"\",M398/COUNTIF('Data Input'!$C$8:$AK$8,\"F\"))","v":""},{"$f":"IF(ISBLANK('Data Input'!A403),\"\",SUM('Data Input'!E403,'Data Input'!M403,'Data Input'!Q403,'Data Input'!V403,'Data Input'!W403,'Data Input'!AD403,'Data Input'!AH403))","v":""},{"$f":"IF(O398=\"\",\"\",O398/COUNTIF('Data Input'!$C$8:$AK$8,\"M\"))","v":""},{"$f":"IF(ISBLANK('Data Input'!A403),\"\",SUM('Data Input'!H403,'Data Input'!K403,'Data Input'!P403,'Data Input'!Y403))","v":""},{"$f":"IF(Q398=\"\",\"\",Q398/COUNTIF('Data Input'!$C$8:$AK$8,\"G\"))","v":""}]
[{"$f":"IF('Data Input'!A404=0,\"\",'Data Input'!A404)","v":""},{"$f":"IF(ISBLANK('Data Input'!A404),\"\",COUNTIF('Data Input'!C404:AK404,\"\"))","v":""},{"$f":"IF(ISBLANK('Data Input'!A404),\"\",COUNTIF('Data Input'!C404:AK404,\"0\"))","v":""},{"$f":"IF(ISBLANK('Data Input'!A404),\"\",SUM(B399,C399))","v":""},{"$f":"IF(ISBLANK('Data Input'!A404),\"\",SUM('Data Input'!C404:AK404))","v":""},{"$f":"IF(E399=\"\",\"\",E399/(COUNTA('Data Input'!$C$8:$AK$8)))","v":""},{"$f":"IF(ISBLANK('Data Input'!A404),\"\",SUM('Data Input'!C404,'Data Input'!D404,'Data Input'!J404,'Data Input'!X404))","v":""},{"$f":"IF(G399=\"\",\"\",G399/COUNTIF('Data Input'!$C$8:$AK$8,\"N\"))","v":""},{"$f":"IF(ISBLANK('Data Input'!A404),\"\",SUM('Data Input'!G404,'Data Input'!I404,'Data Input'!L404,'Data Input'!N404,'Data Input'!O404,'Data Input'!S404,'Data Input'!Z404,'Data Input'!AA404,'Data Input'!AB404,'Data Input'!AC404,'Data Input'!AE404,'Data Input'!AF404,'Data Input'!AG404,'Data Input'!AI404,'Data Input'!AK404))","v":""},{"$f":"IF(I399=\"\",\"\",I399/COUNTIF('Data Input'!$C$8:$AK$8,\"C\"))","v":""},{"$f":"IF(ISBLANK('Data Input'!A404),\"\",SUM('Data Input'!T404,'Data Input'!U404))","v":""},{"$f":"IF(K399=\"\",\"\",K399/COUNTIF('Data Input'!$C$8:$AK$8,\"S\"))","v":""},{"$f":"IF(ISBLANK('Data Input'!A404),\"\",SUM('Data Input'!F404,'Data Input'!R404,'Data Input'!AJ404))","v":""},{"$f":"IF(M399=\"\",\"\",M399/COUNTIF('Data Input'!$C$8:$AK$8,\"F\"))","v":""},{"$f":"IF(ISBLANK('Data Input'!A404),\"\",SUM('Data Input'!E404,'Data Input'!M404,'Data Input'!Q404,'Data Input'!V404,'Data Input'!W404,'Data Input'!AD404,'Data Input'!AH404))","v":""},{"$f":"IF(O399=\"\",\"\",O399/COUNTIF('Data Input'!$C$8:$AK$8,\"M\"))","v":""},{"$f":"IF(ISBLANK('Data Input'!A404),\"\",SUM('Data Input'!H404,'Data Input'!K404,'Data Input'!P404,'Data Input'!Y404))","v":""},{"$f":"IF(Q399=\"\",\"\",Q399/COUNTIF('Data Input'!$C$8:$AK$8,\"G\"))","v":""}]
[{"$f":"IF('Data Input'!A405=0,\"\",'Data Input'!A405)","v":""},{"$f":"IF(ISBLANK('Data Input'!A405),\"\",COUNTIF('Data Input'!C405:AK405,\"\"))","v":""},{"$f":"IF(ISBLANK('Data Input'!A405),\"\",COUNTIF('Data Input'!C405:AK405,\"0\"))","v":""},{"$f":"IF(ISBLANK('Data Input'!A405),\"\",SUM(B400,C400))","v":""},{"$f":"IF(ISBLANK('Data Input'!A405),\"\",SUM('Data Input'!C405:AK405))","v":""},{"$f":"IF(E400=\"\",\"\",E400/(COUNTA('Data Input'!$C$8:$AK$8)))","v":""},{"$f":"IF(ISBLANK('Data Input'!A405),\"\",SUM('Data Input'!C405,'Data Input'!D405,'Data Input'!J405,'Data Input'!X405))","v":""},{"$f":"IF(G400=\"\",\"\",G400/COUNTIF('Data Input'!$C$8:$AK$8,\"N\"))","v":""},{"$f":"IF(ISBLANK('Data Input'!A405),\"\",SUM('Data Input'!G405,'Data Input'!I405,'Data Input'!L405,'Data Input'!N405,'Data Input'!O405,'Data Input'!S405,'Data Input'!Z405,'Data Input'!AA405,'Data Input'!AB405,'Data Input'!AC405,'Data Input'!AE405,'Data Input'!AF405,'Data Input'!AG405,'Data Input'!AI405,'Data Input'!AK405))","v":""},{"$f":"IF(I400=\"\",\"\",I400/COUNTIF('Data Input'!$C$8:$AK$8,\"C\"))","v":""},{"$f":"IF(ISBLANK('Data Input'!A405),\"\",SUM('Data Input'!T405,'Data Input'!U405))","v":""},{"$f":"IF(K400=\"\",\"\",K400/COUNTIF('Data Input'!$C$8:$AK$8,\"S\"))","v":""},{"$f":"IF(ISBLANK('Data Input'!A405),\"\",SUM('Data Input'!F405,'Data Input'!R405,'Data Input'!AJ405))","v":""},{"$f":"IF(M400=\"\",\"\",M400/COUNTIF('Data Input'!$C$8:$AK$8,\"F\"))","v":""},{"$f":"IF(ISBLANK('Data Input'!A405),\"\",SUM('Data Input'!E405,'Data Input'!M405,'Data Input'!Q405,'Data Input'!V405,'Data Input'!W405,'Data Input'!AD405,'Data Input'!AH405))","v":""},{"$f":"IF(O400=\"\",\"\",O400/COUNTIF('Data Input'!$C$8:$AK$8,\"M\"))","v":""},{"$f":"IF(ISBLANK('Data Input'!A405),\"\",SUM('Data Input'!H405,'Data Input'!K405,'Data Input'!P405,'Data Input'!Y405))","v":""},{"$f":"IF(Q400=\"\",\"\",Q400/COUNTIF('Data Input'!$C$8:$AK$8,\"G\"))","v":""}]
[{"$f":"IF('Data Input'!A406=0,\"\",'Data Input'!A406)","v":""},{"$f":"IF(ISBLANK('Data Input'!A406),\"\",COUNTIF('Data Input'!C406:AK406,\"\"))","v":""},{"$f":"IF(ISBLANK('Data Input'!A406),\"\",COUNTIF('Data Input'!C406:AK406,\"0\"))","v":""},{"$f":"IF(ISBLANK('Data Input'!A406),\"\",SUM(B401,C401))","v":""},{"$f":"IF(ISBLANK('Data Input'!A406),\"\",SUM('Data Input'!C406:AK406))","v":""},{"$f":"IF(E401=\"\",\"\",E401/(COUNTA('Data Input'!$C$8:$AK$8)))","v":""},{"$f":"IF(ISBLANK('Data Input'!A406),\"\",SUM('Data Input'!C406,'Data Input'!D406,'Data Input'!J406,'Data Input'!X406))","v":""},{"$f":"IF(G401=\"\",\"\",G401/COUNTIF('Data Input'!$C$8:$AK$8,\"N\"))","v":""},{"$f":"IF(ISBLANK('Data Input'!A406),\"\",SUM('Data Input'!G406,'Data Input'!I406,'Data Input'!L406,'Data Input'!N406,'Data Input'!O406,'Data Input'!S406,'Data Input'!Z406,'Data Input'!AA406,'Data Input'!AB406,'Data Input'!AC406,'Data Input'!AE406,'Data Input'!AF406,'Data Input'!AG406,'Data Input'!AI406,'Data Input'!AK406))","v":""},{"$f":"IF(I401=\"\",\"\",I401/COUNTIF('Data Input'!$C$8:$AK$8,\"C\"))","v":""},{"$f":"IF(ISBLANK('Data Input'!A406),\"\",SUM('Data Input'!T406,'Data Input'!U406))","v":""},{"$f":"IF(K401=\"\",\"\",K401/COUNTIF('Data Input'!$C$8:$AK$8,\"S\"))","v":""},{"$f":"IF(ISBLANK('Data Input'!A406),\"\",SUM('Data Input'!F406,'Data Input'!R406,'Data Input'!AJ406))","v":""},{"$f":"IF(M401=\"\",\"\",M401/COUNTIF('Data Input'!$C$8:$AK$8,\"F\"))","v":""},{"$f":"IF(ISBLANK('Data Input'!A406),\"\",SUM('Data Input'!E406,'Data Input'!M406,'Data Input'!Q406,'Data Input'!V406,'Data Input'!W406,'Data Input'!AD406,'Data Input'!AH406))","v":""},{"$f":"IF(O401=\"\",\"\",O401/COUNTIF('Data Input'!$C$8:$AK$8,\"M\"))","v":""},{"$f":"IF(ISBLANK('Data Input'!A406),\"\",SUM('Data Input'!H406,'Data Input'!K406,'Data Input'!P406,'Data Input'!Y406))","v":""},{"$f":"IF(Q401=\"\",\"\",Q401/COUNTIF('Data Input'!$C$8:$AK$8,\"G\"))","v":""}]
[{"$f":"IF('Data Input'!A407=0,\"\",'Data Input'!A407)","v":""},{"$f":"IF(ISBLANK('Data Input'!A407),\"\",COUNTIF('Data Input'!C407:AK407,\"\"))","v":""},{"$f":"IF(ISBLANK('Data Input'!A407),\"\",COUNTIF('Data Input'!C407:AK407,\"0\"))","v":""},{"$f":"IF(ISBLANK('Data Input'!A407),\"\",SUM(B402,C402))","v":""},{"$f":"IF(ISBLANK('Data Input'!A407),\"\",SUM('Data Input'!C407:AK407))","v":""},{"$f":"IF(E402=\"\",\"\",E402/(COUNTA('Data Input'!$C$8:$AK$8)))","v":""},{"$f":"IF(ISBLANK('Data Input'!A407),\"\",SUM('Data Input'!C407,'Data Input'!D407,'Data Input'!J407,'Data Input'!X407))","v":""},{"$f":"IF(G402=\"\",\"\",G402/COUNTIF('Data Input'!$C$8:$AK$8,\"N\"))","v":""},{"$f":"IF(ISBLANK('Data Input'!A407),\"\",SUM('Data Input'!G407,'Data Input'!I407,'Data Input'!L407,'Data Input'!N407,'Data Input'!O407,'Data Input'!S407,'Data Input'!Z407,'Data Input'!AA407,'Data Input'!AB407,'Data Input'!AC407,'Data Input'!AE407,'Data Input'!AF407,'Data Input'!AG407,'Data Input'!AI407,'Data Input'!AK407))","v":""},{"$f":"IF(I402=\"\",\"\",I402/COUNTIF('Data Input'!$C$8:$AK$8,\"C\"))","v":""},{"$f":"IF(ISBLANK('Data Input'!A407),\"\",SUM('Data Input'!T407,'Data Input'!U407))","v":""},{"$f":"IF(K402=\"\",\"\",K402/COUNTIF('Data Input'!$C$8:$AK$8,\"S\"))","v":""},{"$f":"IF(ISBLANK('Data Input'!A407),\"\",SUM('Data Input'!F407,'Data Input'!R407,'Data Input'!AJ407))","v":""},{"$f":"IF(M402=\"\",\"\",M402/COUNTIF('Data Input'!$C$8:$AK$8,\"F\"))","v":""},{"$f":"IF(ISBLANK('Data Input'!A407),\"\",SUM('Data Input'!E407,'Data Input'!M407,'Data Input'!Q407,'Data Input'!V407,'Data Input'!W407,'Data Input'!AD407,'Data Input'!AH407))","v":""},{"$f":"IF(O402=\"\",\"\",O402/COUNTIF('Data Input'!$C$8:$AK$8,\"M\"))","v":""},{"$f":"IF(ISBLANK('Data Input'!A407),\"\",SUM('Data Input'!H407,'Data Input'!K407,'Data Input'!P407,'Data Input'!Y407))","v":""},{"$f":"IF(Q402=\"\",\"\",Q402/COUNTIF('Data Input'!$C$8:$AK$8,\"G\"))","v":""}]
[{"$f":"IF('Data Input'!A408=0,\"\",'Data Input'!A408)","v":""},{"$f":"IF(ISBLANK('Data Input'!A408),\"\",COUNTIF('Data Input'!C408:AK408,\"\"))","v":""},{"$f":"IF(ISBLANK('Data Input'!A408),\"\",COUNTIF('Data Input'!C408:AK408,\"0\"))","v":""},{"$f":"IF(ISBLANK('Data Input'!A408),\"\",SUM(B403,C403))","v":""},{"$f":"IF(ISBLANK('Data Input'!A408),\"\",SUM('Data Input'!C408:AK408))","v":""},{"$f":"IF(E403=\"\",\"\",E403/(COUNTA('Data Input'!$C$8:$AK$8)))","v":""},{"$f":"IF(ISBLANK('Data Input'!A408),\"\",SUM('Data Input'!C408,'Data Input'!D408,'Data Input'!J408,'Data Input'!X408))","v":""},{"$f":"IF(G403=\"\",\"\",G403/COUNTIF('Data Input'!$C$8:$AK$8,\"N\"))","v":""},{"$f":"IF(ISBLANK('Data Input'!A408),\"\",SUM('Data Input'!G408,'Data Input'!I408,'Data Input'!L408,'Data Input'!N408,'Data Input'!O408,'Data Input'!S408,'Data Input'!Z408,'Data Input'!AA408,'Data Input'!AB408,'Data Input'!AC408,'Data Input'!AE408,'Data Input'!AF408,'Data Input'!AG408,'Data Input'!AI408,'Data Input'!AK408))","v":""},{"$f":"IF(I403=\"\",\"\",I403/COUNTIF('Data Input'!$C$8:$AK$8,\"C\"))","v":""},{"$f":"IF(ISBLANK('Data Input'!A408),\"\",SUM('Data Input'!T408,'Data Input'!U408))","v":""},{"$f":"IF(K403=\"\",\"\",K403/COUNTIF('Data Input'!$C$8:$AK$8,\"S\"))","v":""},{"$f":"IF(ISBLANK('Data Input'!A408),\"\",SUM('Data Input'!F408,'Data Input'!R408,'Data Input'!AJ408))","v":""},{"$f":"IF(M403=\"\",\"\",M403/COUNTIF('Data Input'!$C$8:$AK$8,\"F\"))","v":""},{"$f":"IF(ISBLANK('Data Input'!A408),\"\",SUM('Data Input'!E408,'Data Input'!M408,'Data Input'!Q408,'Data Input'!V408,'Data Input'!W408,'Data Input'!AD408,'Data Input'!AH408))","v":""},{"$f":"IF(O403=\"\",\"\",O403/COUNTIF('Data Input'!$C$8:$AK$8,\"M\"))","v":""},{"$f":"IF(ISBLANK('Data Input'!A408),\"\",SUM('Data Input'!H408,'Data Input'!K408,'Data Input'!P408,'Data Input'!Y408))","v":""},{"$f":"IF(Q403=\"\",\"\",Q403/COUNTIF('Data Input'!$C$8:$AK$8,\"G\"))","v":""}]
[{"$f":"IF('Data Input'!A409=0,\"\",'Data Input'!A409)","v":""},{"$f":"IF(ISBLANK('Data Input'!A409),\"\",COUNTIF('Data Input'!C409:AK409,\"\"))","v":""},{"$f":"IF(ISBLANK('Data Input'!A409),\"\",COUNTIF('Data Input'!C409:AK409,\"0\"))","v":""},{"$f":"IF(ISBLANK('Data Input'!A409),\"\",SUM(B404,C404))","v":""},{"$f":"IF(ISBLANK('Data Input'!A409),\"\",SUM('Data Input'!C409:AK409))","v":""},{"$f":"IF(E404=\"\",\"\",E404/(COUNTA('Data Input'!$C$8:$AK$8)))","v":""},{"$f":"IF(ISBLANK('Data Input'!A409),\"\",SUM('Data Input'!C409,'Data Input'!D409,'Data Input'!J409,'Data Input'!X409))","v":""},{"$f":"IF(G404=\"\",\"\",G404/COUNTIF('Data Input'!$C$8:$AK$8,\"N\"))","v":""},{"$f":"IF(ISBLANK('Data Input'!A409),\"\",SUM('Data Input'!G409,'Data Input'!I409,'Data Input'!L409,'Data Input'!N409,'Data Input'!O409,'Data Input'!S409,'Data Input'!Z409,'Data Input'!AA409,'Data Input'!AB409,'Data Input'!AC409,'Data Input'!AE409,'Data Input'!AF409,'Data Input'!AG409,'Data Input'!AI409,'Data Input'!AK409))","v":""},{"$f":"IF(I404=\"\",\"\",I404/COUNTIF('Data Input'!$C$8:$AK$8,\"C\"))","v":""},{"$f":"IF(ISBLANK('Data Input'!A409),\"\",SUM('Data Input'!T409,'Data Input'!U409))","v":""},{"$f":"IF(K404=\"\",\"\",K404/COUNTIF('Data Input'!$C$8:$AK$8,\"S\"))","v":""},{"$f":"IF(ISBLANK('Data Input'!A409),\"\",SUM('Data Input'!F409,'Data Input'!R409,'Data Input'!AJ409))","v":""},{"$f":"IF(M404=\"\",\"\",M404/COUNTIF('Data Input'!$C$8:$AK$8,\"F\"))","v":""},{"$f":"IF(ISBLANK('Data Input'!A409),\"\",SUM('Data Input'!E409,'Data Input'!M409,'Data Input'!Q409,'Data Input'!V409,'Data Input'!W409,'Data Input'!AD409,'Data Input'!AH409))","v":""},{"$f":"IF(O404=\"\",\"\",O404/COUNTIF('Data Input'!$C$8:$AK$8,\"M\"))","v":""},{"$f":"IF(ISBLANK('Data Input'!A409),\"\",SUM('Data Input'!H409,'Data Input'!K409,'Data Input'!P409,'Data Input'!Y409))","v":""},{"$f":"IF(Q404=\"\",\"\",Q404/COUNTIF('Data Input'!$C$8:$AK$8,\"G\"))","v":""}]
[{"$f":"IF('Data Input'!A410=0,\"\",'Data Input'!A410)","v":""},{"$f":"IF(ISBLANK('Data Input'!A410),\"\",COUNTIF('Data Input'!C410:AK410,\"\"))","v":""},{"$f":"IF(ISBLANK('Data Input'!A410),\"\",COUNTIF('Data Input'!C410:AK410,\"0\"))","v":""},{"$f":"IF(ISBLANK('Data Input'!A410),\"\",SUM(B405,C405))","v":""},{"$f":"IF(ISBLANK('Data Input'!A410),\"\",SUM('Data Input'!C410:AK410))","v":""},{"$f":"IF(E405=\"\",\"\",E405/(COUNTA('Data Input'!$C$8:$AK$8)))","v":""},{"$f":"IF(ISBLANK('Data Input'!A410),\"\",SUM('Data Input'!C410,'Data Input'!D410,'Data Input'!J410,'Data Input'!X410))","v":""},{"$f":"IF(G405=\"\",\"\",G405/COUNTIF('Data Input'!$C$8:$AK$8,\"N\"))","v":""},{"$f":"IF(ISBLANK('Data Input'!A410),\"\",SUM('Data Input'!G410,'Data Input'!I410,'Data Input'!L410,'Data Input'!N410,'Data Input'!O410,'Data Input'!S410,'Data Input'!Z410,'Data Input'!AA410,'Data Input'!AB410,'Data Input'!AC410,'Data Input'!AE410,'Data Input'!AF410,'Data Input'!AG410,'Data Input'!AI410,'Data Input'!AK410))","v":""},{"$f":"IF(I405=\"\",\"\",I405/COUNTIF('Data Input'!$C$8:$AK$8,\"C\"))","v":""},{"$f":"IF(ISBLANK('Data Input'!A410),\"\",SUM('Data Input'!T410,'Data Input'!U410))","v":""},{"$f":"IF(K405=\"\",\"\",K405/COUNTIF('Data Input'!$C$8:$AK$8,\"S\"))","v":""},{"$f":"IF(ISBLANK('Data Input'!A410),\"\",SUM('Data Input'!F410,'Data Input'!R410,'Data Input'!AJ410))","v":""},{"$f":"IF(M405=\"\",\"\",M405/COUNTIF('Data Input'!$C$8:$AK$8,\"F\"))","v":""},{"$f":"IF(ISBLANK('Data Input'!A410),\"\",SUM('Data Input'!E410,'Data Input'!M410,'Data Input'!Q410,'Data Input'!V410,'Data Input'!W410,'Data Input'!AD410,'Data Input'!AH410))","v":""},{"$f":"IF(O405=\"\",\"\",O405/COUNTIF('Data Input'!$C$8:$AK$8,\"M\"))","v":""},{"$f":"IF(ISBLANK('Data Input'!A410),\"\",SUM('Data Input'!H410,'Data Input'!K410,'Data Input'!P410,'Data Input'!Y410))","v":""},{"$f":"IF(Q405=\"\",\"\",Q405/COUNTIF('Data Input'!$C$8:$AK$8,\"G\"))","v":""}]
[{"$f":"IF('Data Input'!A411=0,\"\",'Data Input'!A411)","v":""},{"$f":"IF(ISBLANK('Data Input'!A411),\"\",COUNTIF('Data Input'!C411:AK411,\"\"))","v":""},{"$f":"IF(ISBLANK('Data Input'!A411),\"\",COUNTIF('Data Input'!C411:AK411,\"0\"))","v":""},{"$f":"IF(ISBLANK('Data Input'!A411),\"\",SUM(B406,C406))","v":""},{"$f":"IF(ISBLANK('Data Input'!A411),\"\",SUM('Data Input'!C411:AK411))","v":""},{"$f":"IF(E406=\"\",\"\",E406/(COUNTA('Data Input'!$C$8:$AK$8)))","v":""},{"$f":"IF(ISBLANK('Data Input'!A411),\"\",SUM('Data Input'!C411,'Data Input'!D411,'Data Input'!J411,'Data Input'!X411))","v":""},{"$f":"IF(G406=\"\",\"\",G406/COUNTIF('Data Input'!$C$8:$AK$8,\"N\"))","v":""},{"$f":"IF(ISBLANK('Data Input'!A411),\"\",SUM('Data Input'!G411,'Data Input'!I411,'Data Input'!L411,'Data Input'!N411,'Data Input'!O411,'Data Input'!S411,'Data Input'!Z411,'Data Input'!AA411,'Data Input'!AB411,'Data Input'!AC411,'Data Input'!AE411,'Data Input'!AF411,'Data Input'!AG411,'Data Input'!AI411,'Data Input'!AK411))","v":""},{"$f":"IF(I406=\"\",\"\",I406/COUNTIF('Data Input'!$C$8:$AK$8,\"C\"))","v":""},{"$f":"IF(ISBLANK('Data Input'!A411),\"\",SUM('Data Input'!T411,'Data Input'!U411))","v":""},{"$f":"IF(K406=\"\",\"\",K406/COUNTIF('Data Input'!$C$8:$AK$8,\"S\"))","v":""},{"$f":"IF(ISBLANK('Data Input'!A411),\"\",SUM('Data Input'!F411,'Data Input'!R411,'Data Input'!AJ411))","v":""},{"$f":"IF(M406=\"\",\"\",M406/COUNTIF('Data Input'!$C$8:$AK$8,\"F\"))","v":""},{"$f":"IF(ISBLANK('Data Input'!A411),\"\",SUM('Data Input'!E411,'Data Input'!M411,'Data Input'!Q411,'Data Input'!V411,'Data Input'!W411,'Data Input'!AD411,'Data Input'!AH411))","v":""},{"$f":"IF(O406=\"\",\"\",O406/COUNTIF('Data Input'!$C$8:$AK$8,\"M\"))","v":""},{"$f":"IF(ISBLANK('Data Input'!A411),\"\",SUM('Data Input'!H411,'Data Input'!K411,'Data Input'!P411,'Data Input'!Y411))","v":""},{"$f":"IF(Q406=\"\",\"\",Q406/COUNTIF('Data Input'!$C$8:$AK$8,\"G\"))","v":""}]
[{"$f":"IF('Data Input'!A412=0,\"\",'Data Input'!A412)","v":""},{"$f":"IF(ISBLANK('Data Input'!A412),\"\",COUNTIF('Data Input'!C412:AK412,\"\"))","v":""},{"$f":"IF(ISBLANK('Data Input'!A412),\"\",COUNTIF('Data Input'!C412:AK412,\"0\"))","v":""},{"$f":"IF(ISBLANK('Data Input'!A412),\"\",SUM(B407,C407))","v":""},{"$f":"IF(ISBLANK('Data Input'!A412),\"\",SUM('Data Input'!C412:AK412))","v":""},{"$f":"IF(E407=\"\",\"\",E407/(COUNTA('Data Input'!$C$8:$AK$8)))","v":""},{"$f":"IF(ISBLANK('Data Input'!A412),\"\",SUM('Data Input'!C412,'Data Input'!D412,'Data Input'!J412,'Data Input'!X412))","v":""},{"$f":"IF(G407=\"\",\"\",G407/COUNTIF('Data Input'!$C$8:$AK$8,\"N\"))","v":""},{"$f":"IF(ISBLANK('Data Input'!A412),\"\",SUM('Data Input'!G412,'Data Input'!I412,'Data Input'!L412,'Data Input'!N412,'Data Input'!O412,'Data Input'!S412,'Data Input'!Z412,'Data Input'!AA412,'Data Input'!AB412,'Data Input'!AC412,'Data Input'!AE412,'Data Input'!AF412,'Data Input'!AG412,'Data Input'!AI412,'Data Input'!AK412))","v":""},{"$f":"IF(I407=\"\",\"\",I407/COUNTIF('Data Input'!$C$8:$AK$8,\"C\"))","v":""},{"$f":"IF(ISBLANK('Data Input'!A412),\"\",SUM('Data Input'!T412,'Data Input'!U412))","v":""},{"$f":"IF(K407=\"\",\"\",K407/COUNTIF('Data Input'!$C$8:$AK$8,\"S\"))","v":""},{"$f":"IF(ISBLANK('Data Input'!A412),\"\",SUM('Data Input'!F412,'Data Input'!R412,'Data Input'!AJ412))","v":""},{"$f":"IF(M407=\"\",\"\",M407/COUNTIF('Data Input'!$C$8:$AK$8,\"F\"))","v":""},{"$f":"IF(ISBLANK('Data Input'!A412),\"\",SUM('Data Input'!E412,'Data Input'!M412,'Data Input'!Q412,'Data Input'!V412,'Data Input'!W412,'Data Input'!AD412,'Data Input'!AH412))","v":""},{"$f":"IF(O407=\"\",\"\",O407/COUNTIF('Data Input'!$C$8:$AK$8,\"M\"))","v":""},{"$f":"IF(ISBLANK('Data Input'!A412),\"\",SUM('Data Input'!H412,'Data Input'!K412,'Data Input'!P412,'Data Input'!Y412))","v":""},{"$f":"IF(Q407=\"\",\"\",Q407/COUNTIF('Data Input'!$C$8:$AK$8,\"G\"))","v":""}]
[{"$f":"IF('Data Input'!A413=0,\"\",'Data Input'!A413)","v":""},{"$f":"IF(ISBLANK('Data Input'!A413),\"\",COUNTIF('Data Input'!C413:AK413,\"\"))","v":""},{"$f":"IF(ISBLANK('Data Input'!A413),\"\",COUNTIF('Data Input'!C413:AK413,\"0\"))","v":""},{"$f":"IF(ISBLANK('Data Input'!A413),\"\",SUM(B408,C408))","v":""},{"$f":"IF(ISBLANK('Data Input'!A413),\"\",SUM('Data Input'!C413:AK413))","v":""},{"$f":"IF(E408=\"\",\"\",E408/(COUNTA('Data Input'!$C$8:$AK$8)))","v":""},{"$f":"IF(ISBLANK('Data Input'!A413),\"\",SUM('Data Input'!C413,'Data Input'!D413,'Data Input'!J413,'Data Input'!X413))","v":""},{"$f":"IF(G408=\"\",\"\",G408/COUNTIF('Data Input'!$C$8:$AK$8,\"N\"))","v":""},{"$f":"IF(ISBLANK('Data Input'!A413),\"\",SUM('Data Input'!G413,'Data Input'!I413,'Data Input'!L413,'Data Input'!N413,'Data Input'!O413,'Data Input'!S413,'Data Input'!Z413,'Data Input'!AA413,'Data Input'!AB413,'Data Input'!AC413,'Data Input'!AE413,'Data Input'!AF413,'Data Input'!AG413,'Data Input'!AI413,'Data Input'!AK413))","v":""},{"$f":"IF(I408=\"\",\"\",I408/COUNTIF('Data Input'!$C$8:$AK$8,\"C\"))","v":""},{"$f":"IF(ISBLANK('Data Input'!A413),\"\",SUM('Data Input'!T413,'Data Input'!U413))","v":""},{"$f":"IF(K408=\"\",\"\",K408/COUNTIF('Data Input'!$C$8:$AK$8,\"S\"))","v":""},{"$f":"IF(ISBLANK('Data Input'!A413),\"\",SUM('Data Input'!F413,'Data Input'!R413,'Data Input'!AJ413))","v":""},{"$f":"IF(M408=\"\",\"\",M408/COUNTIF('Data Input'!$C$8:$AK$8,\"F\"))","v":""},{"$f":"IF(ISBLANK('Data Input'!A413),\"\",SUM('Data Input'!E413,'Data Input'!M413,'Data Input'!Q413,'Data Input'!V413,'Data Input'!W413,'Data Input'!AD413,'Data Input'!AH413))","v":""},{"$f":"IF(O408=\"\",\"\",O408/COUNTIF('Data Input'!$C$8:$AK$8,\"M\"))","v":""},{"$f":"IF(ISBLANK('Data Input'!A413),\"\",SUM('Data Input'!H413,'Data Input'!K413,'Data Input'!P413,'Data Input'!Y413))","v":""},{"$f":"IF(Q408=\"\",\"\",Q408/COUNTIF('Data Input'!$C$8:$AK$8,\"G\"))","v":""}]
[{"$f":"IF('Data Input'!A414=0,\"\",'Data Input'!A414)","v":""},{"$f":"IF(ISBLANK('Data Input'!A414),\"\",COUNTIF('Data Input'!C414:AK414,\"\"))","v":""},{"$f":"IF(ISBLANK('Data Input'!A414),\"\",COUNTIF('Data Input'!C414:AK414,\"0\"))","v":""},{"$f":"IF(ISBLANK('Data Input'!A414),\"\",SUM(B409,C409))","v":""},{"$f":"IF(ISBLANK('Data Input'!A414),\"\",SUM('Data Input'!C414:AK414))","v":""},{"$f":"IF(E409=\"\",\"\",E409/(COUNTA('Data Input'!$C$8:$AK$8)))","v":""},{"$f":"IF(ISBLANK('Data Input'!A414),\"\",SUM('Data Input'!C414,'Data Input'!D414,'Data Input'!J414,'Data Input'!X414))","v":""},{"$f":"IF(G409=\"\",\"\",G409/COUNTIF('Data Input'!$C$8:$AK$8,\"N\"))","v":""},{"$f":"IF(ISBLANK('Data Input'!A414),\"\",SUM('Data Input'!G414,'Data Input'!I414,'Data Input'!L414,'Data Input'!N414,'Data Input'!O414,'Data Input'!S414,'Data Input'!Z414,'Data Input'!AA414,'Data Input'!AB414,'Data Input'!AC414,'Data Input'!AE414,'Data Input'!AF414,'Data Input'!AG414,'Data Input'!AI414,'Data Input'!AK414))","v":""},{"$f":"IF(I409=\"\",\"\",I409/COUNTIF('Data Input'!$C$8:$AK$8,\"C\"))","v":""},{"$f":"IF(ISBLANK('Data Input'!A414),\"\",SUM('Data Input'!T414,'Data Input'!U414))","v":""},{"$f":"IF(K409=\"\",\"\",K409/COUNTIF('Data Input'!$C$8:$AK$8,\"S\"))","v":""},{"$f":"IF(ISBLANK('Data Input'!A414),\"\",SUM('Data Input'!F414,'Data Input'!R414,'Data Input'!AJ414))","v":""},{"$f":"IF(M409=\"\",\"\",M409/COUNTIF('Data Input'!$C$8:$AK$8,\"F\"))","v":""},{"$f":"IF(ISBLANK('Data Input'!A414),\"\",SUM('Data Input'!E414,'Data Input'!M414,'Data Input'!Q414,'Data Input'!V414,'Data Input'!W414,'Data Input'!AD414,'Data Input'!AH414))","v":""},{"$f":"IF(O409=\"\",\"\",O409/COUNTIF('Data Input'!$C$8:$AK$8,\"M\"))","v":""},{"$f":"IF(ISBLANK('Data Input'!A414),\"\",SUM('Data Input'!H414,'Data Input'!K414,'Data Input'!P414,'Data Input'!Y414))","v":""},{"$f":"IF(Q409=\"\",\"\",Q409/COUNTIF('Data Input'!$C$8:$AK$8,\"G\"))","v":""}]
[{"$f":"IF('Data Input'!A415=0,\"\",'Data Input'!A415)","v":""},{"$f":"IF(ISBLANK('Data Input'!A415),\"\",COUNTIF('Data Input'!C415:AK415,\"\"))","v":""},{"$f":"IF(ISBLANK('Data Input'!A415),\"\",COUNTIF('Data Input'!C415:AK415,\"0\"))","v":""},{"$f":"IF(ISBLANK('Data Input'!A415),\"\",SUM(B410,C410))","v":""},{"$f":"IF(ISBLANK('Data Input'!A415),\"\",SUM('Data Input'!C415:AK415))","v":""},{"$f":"IF(E410=\"\",\"\",E410/(COUNTA('Data Input'!$C$8:$AK$8)))","v":""},{"$f":"IF(ISBLANK('Data Input'!A415),\"\",SUM('Data Input'!C415,'Data Input'!D415,'Data Input'!J415,'Data Input'!X415))","v":""},{"$f":"IF(G410=\"\",\"\",G410/COUNTIF('Data Input'!$C$8:$AK$8,\"N\"))","v":""},{"$f":"IF(ISBLANK('Data Input'!A415),\"\",SUM('Data Input'!G415,'Data Input'!I415,'Data Input'!L415,'Data Input'!N415,'Data Input'!O415,'Data Input'!S415,'Data Input'!Z415,'Data Input'!AA415,'Data Input'!AB415,'Data Input'!AC415,'Data Input'!AE415,'Data Input'!AF415,'Data Input'!AG415,'Data Input'!AI415,'Data Input'!AK415))","v":""},{"$f":"IF(I410=\"\",\"\",I410/COUNTIF('Data Input'!$C$8:$AK$8,\"C\"))","v":""},{"$f":"IF(ISBLANK('Data Input'!A415),\"\",SUM('Data Input'!T415,'Data Input'!U415))","v":""},{"$f":"IF(K410=\"\",\"\",K410/COUNTIF('Data Input'!$C$8:$AK$8,\"S\"))","v":""},{"$f":"IF(ISBLANK('Data Input'!A415),\"\",SUM('Data Input'!F415,'Data Input'!R415,'Data Input'!AJ415))","v":""},{"$f":"IF(M410=\"\",\"\",M410/COUNTIF('Data Input'!$C$8:$AK$8,\"F\"))","v":""},{"$f":"IF(ISBLANK('Data Input'!A415),\"\",SUM('Data Input'!E415,'Data Input'!M415,'Data Input'!Q415,'Data Input'!V415,'Data Input'!W415,'Data Input'!AD415,'Data Input'!AH415))","v":""},{"$f":"IF(O410=\"\",\"\",O410/COUNTIF('Data Input'!$C$8:$AK$8,\"M\"))","v":""},{"$f":"IF(ISBLANK('Data Input'!A415),\"\",SUM('Data Input'!H415,'Data Input'!K415,'Data Input'!P415,'Data Input'!Y415))","v":""},{"$f":"IF(Q410=\"\",\"\",Q410/COUNTIF('Data Input'!$C$8:$AK$8,\"G\"))","v":""}]
[{"$f":"IF('Data Input'!A416=0,\"\",'Data Input'!A416)","v":""},{"$f":"IF(ISBLANK('Data Input'!A416),\"\",COUNTIF('Data Input'!C416:AK416,\"\"))","v":""},{"$f":"IF(ISBLANK('Data Input'!A416),\"\",COUNTIF('Data Input'!C416:AK416,\"0\"))","v":""},{"$f":"IF(ISBLANK('Data Input'!A416),\"\",SUM(B411,C411))","v":""},{"$f":"IF(ISBLANK('Data Input'!A416),\"\",SUM('Data Input'!C416:AK416))","v":""},{"$f":"IF(E411=\"\",\"\",E411/(COUNTA('Data Input'!$C$8:$AK$8)))","v":""},{"$f":"IF(ISBLANK('Data Input'!A416),\"\",SUM('Data Input'!C416,'Data Input'!D416,'Data Input'!J416,'Data Input'!X416))","v":""},{"$f":"IF(G411=\"\",\"\",G411/COUNTIF('Data Input'!$C$8:$AK$8,\"N\"))","v":""},{"$f":"IF(ISBLANK('Data Input'!A416),\"\",SUM('Data Input'!G416,'Data Input'!I416,'Data Input'!L416,'Data Input'!N416,'Data Input'!O416,'Data Input'!S416,'Data Input'!Z416,'Data Input'!AA416,'Data Input'!AB416,'Data Input'!AC416,'Data Input'!AE416,'Data Input'!AF416,'Data Input'!AG416,'Data Input'!AI416,'Data Input'!AK416))","v":""},{"$f":"IF(I411=\"\",\"\",I411/COUNTIF('Data Input'!$C$8:$AK$8,\"C\"))","v":""},{"$f":"IF(ISBLANK('Data Input'!A416),\"\",SUM('Data Input'!T416,'Data Input'!U416))","v":""},{"$f":"IF(K411=\"\",\"\",K411/COUNTIF('Data Input'!$C$8:$AK$8,\"S\"))","v":""},{"$f":"IF(ISBLANK('Data Input'!A416),\"\",SUM('Data Input'!F416,'Data Input'!R416,'Data Input'!AJ416))","v":""},{"$f":"IF(M411=\"\",\"\",M411/COUNTIF('Data Input'!$C$8:$AK$8,\"F\"))","v":""},{"$f":"IF(ISBLANK('Data Input'!A416),\"\",SUM('Data Input'!E416,'Data Input'!M416,'Data Input'!Q416,'Data Input'!V416,'Data Input'!W416,'Data Input'!AD416,'Data Input'!AH416))","v":""},{"$f":"IF(O411=\"\",\"\",O411/COUNTIF('Data Input'!$C$8:$AK$8,\"M\"))","v":""},{"$f":"IF(ISBLANK('Data Input'!A416),\"\",SUM('Data Input'!H416,'Data Input'!K416,'Data Input'!P416,'Data Input'!Y416))","v":""},{"$f":"IF(Q411=\"\",\"\",Q411/COUNTIF('Data Input'!$C$8:$AK$8,\"G\"))","v":""}]
[{"$f":"IF('Data Input'!A417=0,\"\",'Data Input'!A417)","v":""},{"$f":"IF(ISBLANK('Data Input'!A417),\"\",COUNTIF('Data Input'!C417:AK417,\"\"))","v":""},{"$f":"IF(ISBLANK('Data Input'!A417),\"\",COUNTIF('Data Input'!C417:AK417,\"0\"))","v":""},{"$f":"IF(ISBLANK('Data Input'!A417),\"\",SUM(B412,C412))","v":""},{"$f":"IF(ISBLANK('Data Input'!A417),\"\",SUM('Data Input'!C417:AK417))","v":""},{"$f":"IF(E412=\"\",\"\",E412/(COUNTA('Data Input'!$C$8:$AK$8)))","v":""},{"$f":"IF(ISBLANK('Data Input'!A417),\"\",SUM('Data Input'!C417,'Data Input'!D417,'Data Input'!J417,'Data Input'!X417))","v":""},{"$f":"IF(G412=\"\",\"\",G412/COUNTIF('Data Input'!$C$8:$AK$8,\"N\"))","v":""},{"$f":"IF(ISBLANK('Data Input'!A417),\"\",SUM('Data Input'!G417,'Data Input'!I417,'Data Input'!L417,'Data Input'!N417,'Data Input'!O417,'Data Input'!S417,'Data Input'!Z417,'Data Input'!AA417,'Data Input'!AB417,'Data Input'!AC417,'Data Input'!AE417,'Data Input'!AF417,'Data Input'!AG417,'Data Input'!AI417,'Data Input'!AK417))","v":""},{"$f":"IF(I412=\"\",\"\",I412/COUNTIF('Data Input'!$C$8:$AK$8,\"C\"))","v":""},{"$f":"IF(ISBLANK('Data Input'!A417),\"\",SUM('Data Input'!T417,'Data Input'!U417))","v":""},{"$f":"IF(K412=\"\",\"\",K412/COUNTIF('Data Input'!$C$8:$AK$8,\"S\"))","v":""},{"$f":"IF(ISBLANK('Data Input'!A417),\"\",SUM('Data Input'!F417,'Data Input'!R417,'Data Input'!AJ417))","v":""},{"$f":"IF(M412=\"\",\"\",M412/COUNTIF('Data Input'!$C$8:$AK$8,\"F\"))","v":""},{"$f":"IF(ISBLANK('Data Input'!A417),\"\",SUM('Data Input'!E417,'Data Input'!M417,'Data Input'!Q417,'Data Input'!V417,'Data Input'!W417,'Data Input'!AD417,'Data Input'!AH417))","v":""},{"$f":"IF(O412=\"\",\"\",O412/COUNTIF('Data Input'!$C$8:$AK$8,\"M\"))","v":""},{"$f":"IF(ISBLANK('Data Input'!A417),\"\",SUM('Data Input'!H417,'Data Input'!K417,'Data Input'!P417,'Data Input'!Y417))","v":""},{"$f":"IF(Q412=\"\",\"\",Q412/COUNTIF('Data Input'!$C$8:$AK$8,\"G\"))","v":""}]
[{"$f":"IF('Data Input'!A418=0,\"\",'Data Input'!A418)","v":""},{"$f":"IF(ISBLANK('Data Input'!A418),\"\",COUNTIF('Data Input'!C418:AK418,\"\"))","v":""},{"$f":"IF(ISBLANK('Data Input'!A418),\"\",COUNTIF('Data Input'!C418:AK418,\"0\"))","v":""},{"$f":"IF(ISBLANK('Data Input'!A418),\"\",SUM(B413,C413))","v":""},{"$f":"IF(ISBLANK('Data Input'!A418),\"\",SUM('Data Input'!C418:AK418))","v":""},{"$f":"IF(E413=\"\",\"\",E413/(COUNTA('Data Input'!$C$8:$AK$8)))","v":""},{"$f":"IF(ISBLANK('Data Input'!A418),\"\",SUM('Data Input'!C418,'Data Input'!D418,'Data Input'!J418,'Data Input'!X418))","v":""},{"$f":"IF(G413=\"\",\"\",G413/COUNTIF('Data Input'!$C$8:$AK$8,\"N\"))","v":""},{"$f":"IF(ISBLANK('Data Input'!A418),\"\",SUM('Data Input'!G418,'Data Input'!I418,'Data Input'!L418,'Data Input'!N418,'Data Input'!O418,'Data Input'!S418,'Data Input'!Z418,'Data Input'!AA418,'Data Input'!AB418,'Data Input'!AC418,'Data Input'!AE418,'Data Input'!AF418,'Data Input'!AG418,'Data Input'!AI418,'Data Input'!AK418))","v":""},{"$f":"IF(I413=\"\",\"\",I413/COUNTIF('Data Input'!$C$8:$AK$8,\"C\"))","v":""},{"$f":"IF(ISBLANK('Data Input'!A418),\"\",SUM('Data Input'!T418,'Data Input'!U418))","v":""},{"$f":"IF(K413=\"\",\"\",K413/COUNTIF('Data Input'!$C$8:$AK$8,\"S\"))","v":""},{"$f":"IF(ISBLANK('Data Input'!A418),\"\",SUM('Data Input'!F418,'Data Input'!R418,'Data Input'!AJ418))","v":""},{"$f":"IF(M413=\"\",\"\",M413/COUNTIF('Data Input'!$C$8:$AK$8,\"F\"))","v":""},{"$f":"IF(ISBLANK('Data Input'!A418),\"\",SUM('Data Input'!E418,'Data Input'!M418,'Data Input'!Q418,'Data Input'!V418,'Data Input'!W418,'Data Input'!AD418,'Data Input'!AH418))","v":""},{"$f":"IF(O413=\"\",\"\",O413/COUNTIF('Data Input'!$C$8:$AK$8,\"M\"))","v":""},{"$f":"IF(ISBLANK('Data Input'!A418),\"\",SUM('Data Input'!H418,'Data Input'!K418,'Data Input'!P418,'Data Input'!Y418))","v":""},{"$f":"IF(Q413=\"\",\"\",Q413/COUNTIF('Data Input'!$C$8:$AK$8,\"G\"))","v":""}]
[{"$f":"IF('Data Input'!A419=0,\"\",'Data Input'!A419)","v":""},{"$f":"IF(ISBLANK('Data Input'!A419),\"\",COUNTIF('Data Input'!C419:AK419,\"\"))","v":""},{"$f":"IF(ISBLANK('Data Input'!A419),\"\",COUNTIF('Data Input'!C419:AK419,\"0\"))","v":""},{"$f":"IF(ISBLANK('Data Input'!A419),\"\",SUM(B414,C414))","v":""},{"$f":"IF(ISBLANK('Data Input'!A419),\"\",SUM('Data Input'!C419:AK419))","v":""},{"$f":"IF(E414=\"\",\"\",E414/(COUNTA('Data Input'!$C$8:$AK$8)))","v":""},{"$f":"IF(ISBLANK('Data Input'!A419),\"\",SUM('Data Input'!C419,'Data Input'!D419,'Data Input'!J419,'Data Input'!X419))","v":""},{"$f":"IF(G414=\"\",\"\",G414/COUNTIF('Data Input'!$C$8:$AK$8,\"N\"))","v":""},{"$f":"IF(ISBLANK('Data Input'!A419),\"\",SUM('Data Input'!G419,'Data Input'!I419,'Data Input'!L419,'Data Input'!N419,'Data Input'!O419,'Data Input'!S419,'Data Input'!Z419,'Data Input'!AA419,'Data Input'!AB419,'Data Input'!AC419,'Data Input'!AE419,'Data Input'!AF419,'Data Input'!AG419,'Data Input'!AI419,'Data Input'!AK419))","v":""},{"$f":"IF(I414=\"\",\"\",I414/COUNTIF('Data Input'!$C$8:$AK$8,\"C\"))","v":""},{"$f":"IF(ISBLANK('Data Input'!A419),\"\",SUM('Data Input'!T419,'Data Input'!U419))","v":""},{"$f":"IF(K414=\"\",\"\",K414/COUNTIF('Data Input'!$C$8:$AK$8,\"S\"))","v":""},{"$f":"IF(ISBLANK('Data Input'!A419),\"\",SUM('Data Input'!F419,'Data Input'!R419,'Data Input'!AJ419))","v":""},{"$f":"IF(M414=\"\",\"\",M414/COUNTIF('Data Input'!$C$8:$AK$8,\"F\"))","v":""},{"$f":"IF(ISBLANK('Data Input'!A419),\"\",SUM('Data Input'!E419,'Data Input'!M419,'Data Input'!Q419,'Data Input'!V419,'Data Input'!W419,'Data Input'!AD419,'Data Input'!AH419))","v":""},{"$f":"IF(O414=\"\",\"\",O414/COUNTIF('Data Input'!$C$8:$AK$8,\"M\"))","v":""},{"$f":"IF(ISBLANK('Data Input'!A419),\"\",SUM('Data Input'!H419,'Data Input'!K419,'Data Input'!P419,'Data Input'!Y419))","v":""},{"$f":"IF(Q414=\"\",\"\",Q414/COUNTIF('Data Input'!$C$8:$AK$8,\"G\"))","v":""}]
[{"$f":"IF('Data Input'!A420=0,\"\",'Data Input'!A420)","v":""},{"$f":"IF(ISBLANK('Data Input'!A420),\"\",COUNTIF('Data Input'!C420:AK420,\"\"))","v":""},{"$f":"IF(ISBLANK('Data Input'!A420),\"\",COUNTIF('Data Input'!C420:AK420,\"0\"))","v":""},{"$f":"IF(ISBLANK('Data Input'!A420),\"\",SUM(B415,C415))","v":""},{"$f":"IF(ISBLANK('Data Input'!A420),\"\",SUM('Data Input'!C420:AK420))","v":""},{"$f":"IF(E415=\"\",\"\",E415/(COUNTA('Data Input'!$C$8:$AK$8)))","v":""},{"$f":"IF(ISBLANK('Data Input'!A420),\"\",SUM('Data Input'!C420,'Data Input'!D420,'Data Input'!J420,'Data Input'!X420))","v":""},{"$f":"IF(G415=\"\",\"\",G415/COUNTIF('Data Input'!$C$8:$AK$8,\"N\"))","v":""},{"$f":"IF(ISBLANK('Data Input'!A420),\"\",SUM('Data Input'!G420,'Data Input'!I420,'Data Input'!L420,'Data Input'!N420,'Data Input'!O420,'Data Input'!S420,'Data Input'!Z420,'Data Input'!AA420,'Data Input'!AB420,'Data Input'!AC420,'Data Input'!AE420,'Data Input'!AF420,'Data Input'!AG420,'Data Input'!AI420,'Data Input'!AK420))","v":""},{"$f":"IF(I415=\"\",\"\",I415/COUNTIF('Data Input'!$C$8:$AK$8,\"C\"))","v":""},{"$f":"IF(ISBLANK('Data Input'!A420),\"\",SUM('Data Input'!T420,'Data Input'!U420))","v":""},{"$f":"IF(K415=\"\",\"\",K415/COUNTIF('Data Input'!$C$8:$AK$8,\"S\"))","v":""},{"$f":"IF(ISBLANK('Data Input'!A420),\"\",SUM('Data Input'!F420,'Data Input'!R420,'Data Input'!AJ420))","v":""},{"$f":"IF(M415=\"\",\"\",M415/COUNTIF('Data Input'!$C$8:$AK$8,\"F\"))","v":""},{"$f":"IF(ISBLANK('Data Input'!A420),\"\",SUM('Data Input'!E420,'Data Input'!M420,'Data Input'!Q420,'Data Input'!V420,'Data Input'!W420,'Data Input'!AD420,'Data Input'!AH420))","v":""},{"$f":"IF(O415=\"\",\"\",O415/COUNTIF('Data Input'!$C$8:$AK$8,\"M\"))","v":""},{"$f":"IF(ISBLANK('Data Input'!A420),\"\",SUM('Data Input'!H420,'Data Input'!K420,'Data Input'!P420,'Data Input'!Y420))","v":""},{"$f":"IF(Q415=\"\",\"\",Q415/COUNTIF('Data Input'!$C$8:$AK$8,\"G\"))","v":""}]
[{"$f":"IF('Data Input'!A421=0,\"\",'Data Input'!A421)","v":""},{"$f":"IF(ISBLANK('Data Input'!A421),\"\",COUNTIF('Data Input'!C421:AK421,\"\"))","v":""},{"$f":"IF(ISBLANK('Data Input'!A421),\"\",COUNTIF('Data Input'!C421:AK421,\"0\"))","v":""},{"$f":"IF(ISBLANK('Data Input'!A421),\"\",SUM(B416,C416))","v":""},{"$f":"IF(ISBLANK('Data Input'!A421),\"\",SUM('Data Input'!C421:AK421))","v":""},{"$f":"IF(E416=\"\",\"\",E416/(COUNTA('Data Input'!$C$8:$AK$8)))","v":""},{"$f":"IF(ISBLANK('Data Input'!A421),\"\",SUM('Data Input'!C421,'Data Input'!D421,'Data Input'!J421,'Data Input'!X421))","v":""},{"$f":"IF(G416=\"\",\"\",G416/COUNTIF('Data Input'!$C$8:$AK$8,\"N\"))","v":""},{"$f":"IF(ISBLANK('Data Input'!A421),\"\",SUM('Data Input'!G421,'Data Input'!I421,'Data Input'!L421,'Data Input'!N421,'Data Input'!O421,'Data Input'!S421,'Data Input'!Z421,'Data Input'!AA421,'Data Input'!AB421,'Data Input'!AC421,'Data Input'!AE421,'Data Input'!AF421,'Data Input'!AG421,'Data Input'!AI421,'Data Input'!AK421))","v":""},{"$f":"IF(I416=\"\",\"\",I416/COUNTIF('Data Input'!$C$8:$AK$8,\"C\"))","v":""},{"$f":"IF(ISBLANK('Data Input'!A421),\"\",SUM('Data Input'!T421,'Data Input'!U421))","v":""},{"$f":"IF(K416=\"\",\"\",K416/COUNTIF('Data Input'!$C$8:$AK$8,\"S\"))","v":""},{"$f":"IF(ISBLANK('Data Input'!A421),\"\",SUM('Data Input'!F421,'Data Input'!R421,'Data Input'!AJ421))","v":""},{"$f":"IF(M416=\"\",\"\",M416/COUNTIF('Data Input'!$C$8:$AK$8,\"F\"))","v":""},{"$f":"IF(ISBLANK('Data Input'!A421),\"\",SUM('Data Input'!E421,'Data Input'!M421,'Data Input'!Q421,'Data Input'!V421,'Data Input'!W421,'Data Input'!AD421,'Data Input'!AH421))","v":""},{"$f":"IF(O416=\"\",\"\",O416/COUNTIF('Data Input'!$C$8:$AK$8,\"M\"))","v":""},{"$f":"IF(ISBLANK('Data Input'!A421),\"\",SUM('Data Input'!H421,'Data Input'!K421,'Data Input'!P421,'Data Input'!Y421))","v":""},{"$f":"IF(Q416=\"\",\"\",Q416/COUNTIF('Data Input'!$C$8:$AK$8,\"G\"))","v":""}]
[{"$f":"IF('Data Input'!A422=0,\"\",'Data Input'!A422)","v":""},{"$f":"IF(ISBLANK('Data Input'!A422),\"\",COUNTIF('Data Input'!C422:AK422,\"\"))","v":""},{"$f":"IF(ISBLANK('Data Input'!A422),\"\",COUNTIF('Data Input'!C422:AK422,\"0\"))","v":""},{"$f":"IF(ISBLANK('Data Input'!A422),\"\",SUM(B417,C417))","v":""},{"$f":"IF(ISBLANK('Data Input'!A422),\"\",SUM('Data Input'!C422:AK422))","v":""},{"$f":"IF(E417=\"\",\"\",E417/(COUNTA('Data Input'!$C$8:$AK$8)))","v":""},{"$f":"IF(ISBLANK('Data Input'!A422),\"\",SUM('Data Input'!C422,'Data Input'!D422,'Data Input'!J422,'Data Input'!X422))","v":""},{"$f":"IF(G417=\"\",\"\",G417/COUNTIF('Data Input'!$C$8:$AK$8,\"N\"))","v":""},{"$f":"IF(ISBLANK('Data Input'!A422),\"\",SUM('Data Input'!G422,'Data Input'!I422,'Data Input'!L422,'Data Input'!N422,'Data Input'!O422,'Data Input'!S422,'Data Input'!Z422,'Data Input'!AA422,'Data Input'!AB422,'Data Input'!AC422,'Data Input'!AE422,'Data Input'!AF422,'Data Input'!AG422,'Data Input'!AI422,'Data Input'!AK422))","v":""},{"$f":"IF(I417=\"\",\"\",I417/COUNTIF('Data Input'!$C$8:$AK$8,\"C\"))","v":""},{"$f":"IF(ISBLANK('Data Input'!A422),\"\",SUM('Data Input'!T422,'Data Input'!U422))","v":""},{"$f":"IF(K417=\"\",\"\",K417/COUNTIF('Data Input'!$C$8:$AK$8,\"S\"))","v":""},{"$f":"IF(ISBLANK('Data Input'!A422),\"\",SUM('Data Input'!F422,'Data Input'!R422,'Data Input'!AJ422))","v":""},{"$f":"IF(M417=\"\",\"\",M417/COUNTIF('Data Input'!$C$8:$AK$8,\"F\"))","v":""},{"$f":"IF(ISBLANK('Data Input'!A422),\"\",SUM('Data Input'!E422,'Data Input'!M422,'Data Input'!Q422,'Data Input'!V422,'Data Input'!W422,'Data Input'!AD422,'Data Input'!AH422))","v":""},{"$f":"IF(O417=\"\",\"\",O417/COUNTIF('Data Input'!$C$8:$AK$8,\"M\"))","v":""},{"$f":"IF(ISBLANK('Data Input'!A422),\"\",SUM('Data Input'!H422,'Data Input'!K422,'Data Input'!P422,'Data Input'!Y422))","v":""},{"$f":"IF(Q417=\"\",\"\",Q417/COUNTIF('Data Input'!$C$8:$AK$8,\"G\"))","v":""}]
[{"$f":"IF('Data Input'!A423=0,\"\",'Data Input'!A423)","v":""},{"$f":"IF(ISBLANK('Data Input'!A423),\"\",COUNTIF('Data Input'!C423:AK423,\"\"))","v":""},{"$f":"IF(ISBLANK('Data Input'!A423),\"\",COUNTIF('Data Input'!C423:AK423,\"0\"))","v":""},{"$f":"IF(ISBLANK('Data Input'!A423),\"\",SUM(B418,C418))","v":""},{"$f":"IF(ISBLANK('Data Input'!A423),\"\",SUM('Data Input'!C423:AK423))","v":""},{"$f":"IF(E418=\"\",\"\",E418/(COUNTA('Data Input'!$C$8:$AK$8)))","v":""},{"$f":"IF(ISBLANK('Data Input'!A423),\"\",SUM('Data Input'!C423,'Data Input'!D423,'Data Input'!J423,'Data Input'!X423))","v":""},{"$f":"IF(G418=\"\",\"\",G418/COUNTIF('Data Input'!$C$8:$AK$8,\"N\"))","v":""},{"$f":"IF(ISBLANK('Data Input'!A423),\"\",SUM('Data Input'!G423,'Data Input'!I423,'Data Input'!L423,'Data Input'!N423,'Data Input'!O423,'Data Input'!S423,'Data Input'!Z423,'Data Input'!AA423,'Data Input'!AB423,'Data Input'!AC423,'Data Input'!AE423,'Data Input'!AF423,'Data Input'!AG423,'Data Input'!AI423,'Data Input'!AK423))","v":""},{"$f":"IF(I418=\"\",\"\",I418/COUNTIF('Data Input'!$C$8:$AK$8,\"C\"))","v":""},{"$f":"IF(ISBLANK('Data Input'!A423),\"\",SUM('Data Input'!T423,'Data Input'!U423))","v":""},{"$f":"IF(K418=\"\",\"\",K418/COUNTIF('Data Input'!$C$8:$AK$8,\"S\"))","v":""},{"$f":"IF(ISBLANK('Data Input'!A423),\"\",SUM('Data Input'!F423,'Data Input'!R423,'Data Input'!AJ423))","v":""},{"$f":"IF(M418=\"\",\"\",M418/COUNTIF('Data Input'!$C$8:$AK$8,\"F\"))","v":""},{"$f":"IF(ISBLANK('Data Input'!A423),\"\",SUM('Data Input'!E423,'Data Input'!M423,'Data Input'!Q423,'Data Input'!V423,'Data Input'!W423,'Data Input'!AD423,'Data Input'!AH423))","v":""},{"$f":"IF(O418=\"\",\"\",O418/COUNTIF('Data Input'!$C$8:$AK$8,\"M\"))","v":""},{"$f":"IF(ISBLANK('Data Input'!A423),\"\",SUM('Data Input'!H423,'Data Input'!K423,'Data Input'!P423,'Data Input'!Y423))","v":""},{"$f":"IF(Q418=\"\",\"\",Q418/COUNTIF('Data Input'!$C$8:$AK$8,\"G\"))","v":""}]
[{"$f":"IF('Data Input'!A424=0,\"\",'Data Input'!A424)","v":""},{"$f":"IF(ISBLANK('Data Input'!A424),\"\",COUNTIF('Data Input'!C424:AK424,\"\"))","v":""},{"$f":"IF(ISBLANK('Data Input'!A424),\"\",COUNTIF('Data Input'!C424:AK424,\"0\"))","v":""},{"$f":"IF(ISBLANK('Data Input'!A424),\"\",SUM(B419,C419))","v":""},{"$f":"IF(ISBLANK('Data Input'!A424),\"\",SUM('Data Input'!C424:AK424))","v":""},{"$f":"IF(E419=\"\",\"\",E419/(COUNTA('Data Input'!$C$8:$AK$8)))","v":""},{"$f":"IF(ISBLANK('Data Input'!A424),\"\",SUM('Data Input'!C424,'Data Input'!D424,'Data Input'!J424,'Data Input'!X424))","v":""},{"$f":"IF(G419=\"\",\"\",G419/COUNTIF('Data Input'!$C$8:$AK$8,\"N\"))","v":""},{"$f":"IF(ISBLANK('Data Input'!A424),\"\",SUM('Data Input'!G424,'Data Input'!I424,'Data Input'!L424,'Data Input'!N424,'Data Input'!O424,'Data Input'!S424,'Data Input'!Z424,'Data Input'!AA424,'Data Input'!AB424,'Data Input'!AC424,'Data Input'!AE424,'Data Input'!AF424,'Data Input'!AG424,'Data Input'!AI424,'Data Input'!AK424))","v":""},{"$f":"IF(I419=\"\",\"\",I419/COUNTIF('Data Input'!$C$8:$AK$8,\"C\"))","v":""},{"$f":"IF(ISBLANK('Data Input'!A424),\"\",SUM('Data Input'!T424,'Data Input'!U424))","v":""},{"$f":"IF(K419=\"\",\"\",K419/COUNTIF('Data Input'!$C$8:$AK$8,\"S\"))","v":""},{"$f":"IF(ISBLANK('Data Input'!A424),\"\",SUM('Data Input'!F424,'Data Input'!R424,'Data Input'!AJ424))","v":""},{"$f":"IF(M419=\"\",\"\",M419/COUNTIF('Data Input'!$C$8:$AK$8,\"F\"))","v":""},{"$f":"IF(ISBLANK('Data Input'!A424),\"\",SUM('Data Input'!E424,'Data Input'!M424,'Data Input'!Q424,'Data Input'!V424,'Data Input'!W424,'Data Input'!AD424,'Data Input'!AH424))","v":""},{"$f":"IF(O419=\"\",\"\",O419/COUNTIF('Data Input'!$C$8:$AK$8,\"M\"))","v":""},{"$f":"IF(ISBLANK('Data Input'!A424),\"\",SUM('Data Input'!H424,'Data Input'!K424,'Data Input'!P424,'Data Input'!Y424))","v":""},{"$f":"IF(Q419=\"\",\"\",Q419/COUNTIF('Data Input'!$C$8:$AK$8,\"G\"))","v":""}]
[{"$f":"IF('Data Input'!A425=0,\"\",'Data Input'!A425)","v":""},{"$f":"IF(ISBLANK('Data Input'!A425),\"\",COUNTIF('Data Input'!C425:AK425,\"\"))","v":""},{"$f":"IF(ISBLANK('Data Input'!A425),\"\",COUNTIF('Data Input'!C425:AK425,\"0\"))","v":""},{"$f":"IF(ISBLANK('Data Input'!A425),\"\",SUM(B420,C420))","v":""},{"$f":"IF(ISBLANK('Data Input'!A425),\"\",SUM('Data Input'!C425:AK425))","v":""},{"$f":"IF(E420=\"\",\"\",E420/(COUNTA('Data Input'!$C$8:$AK$8)))","v":""},{"$f":"IF(ISBLANK('Data Input'!A425),\"\",SUM('Data Input'!C425,'Data Input'!D425,'Data Input'!J425,'Data Input'!X425))","v":""},{"$f":"IF(G420=\"\",\"\",G420/COUNTIF('Data Input'!$C$8:$AK$8,\"N\"))","v":""},{"$f":"IF(ISBLANK('Data Input'!A425),\"\",SUM('Data Input'!G425,'Data Input'!I425,'Data Input'!L425,'Data Input'!N425,'Data Input'!O425,'Data Input'!S425,'Data Input'!Z425,'Data Input'!AA425,'Data Input'!AB425,'Data Input'!AC425,'Data Input'!AE425,'Data Input'!AF425,'Data Input'!AG425,'Data Input'!AI425,'Data Input'!AK425))","v":""},{"$f":"IF(I420=\"\",\"\",I420/COUNTIF('Data Input'!$C$8:$AK$8,\"C\"))","v":""},{"$f":"IF(ISBLANK('Data Input'!A425),\"\",SUM('Data Input'!T425,'Data Input'!U425))","v":""},{"$f":"IF(K420=\"\",\"\",K420/COUNTIF('Data Input'!$C$8:$AK$8,\"S\"))","v":""},{"$f":"IF(ISBLANK('Data Input'!A425),\"\",SUM('Data Input'!F425,'Data Input'!R425,'Data Input'!AJ425))","v":""},{"$f":"IF(M420=\"\",\"\",M420/COUNTIF('Data Input'!$C$8:$AK$8,\"F\"))","v":""},{"$f":"IF(ISBLANK('Data Input'!A425),\"\",SUM('Data Input'!E425,'Data Input'!M425,'Data Input'!Q425,'Data Input'!V425,'Data Input'!W425,'Data Input'!AD425,'Data Input'!AH425))","v":""},{"$f":"IF(O420=\"\",\"\",O420/COUNTIF('Data Input'!$C$8:$AK$8,\"M\"))","v":""},{"$f":"IF(ISBLANK('Data Input'!A425),\"\",SUM('Data Input'!H425,'Data Input'!K425,'Data Input'!P425,'Data Input'!Y425))","v":""},{"$f":"IF(Q420=\"\",\"\",Q420/COUNTIF('Data Input'!$C$8:$AK$8,\"G\"))","v":""}]
[{"$f":"IF('Data Input'!A426=0,\"\",'Data Input'!A426)","v":""},{"$f":"IF(ISBLANK('Data Input'!A426),\"\",COUNTIF('Data Input'!C426:AK426,\"\"))","v":""},{"$f":"IF(ISBLANK('Data Input'!A426),\"\",COUNTIF('Data Input'!C426:AK426,\"0\"))","v":""},{"$f":"IF(ISBLANK('Data Input'!A426),\"\",SUM(B421,C421))","v":""},{"$f":"IF(ISBLANK('Data Input'!A426),\"\",SUM('Data Input'!C426:AK426))","v":""},{"$f":"IF(E421=\"\",\"\",E421/(COUNTA('Data Input'!$C$8:$AK$8)))","v":""},{"$f":"IF(ISBLANK('Data Input'!A426),\"\",SUM('Data Input'!C426,'Data Input'!D426,'Data Input'!J426,'Data Input'!X426))","v":""},{"$f":"IF(G421=\"\",\"\",G421/COUNTIF('Data Input'!$C$8:$AK$8,\"N\"))","v":""},{"$f":"IF(ISBLANK('Data Input'!A426),\"\",SUM('Data Input'!G426,'Data Input'!I426,'Data Input'!L426,'Data Input'!N426,'Data Input'!O426,'Data Input'!S426,'Data Input'!Z426,'Data Input'!AA426,'Data Input'!AB426,'Data Input'!AC426,'Data Input'!AE426,'Data Input'!AF426,'Data Input'!AG426,'Data Input'!AI426,'Data Input'!AK426))","v":""},{"$f":"IF(I421=\"\",\"\",I421/COUNTIF('Data Input'!$C$8:$AK$8,\"C\"))","v":""},{"$f":"IF(ISBLANK('Data Input'!A426),\"\",SUM('Data Input'!T426,'Data Input'!U426))","v":""},{"$f":"IF(K421=\"\",\"\",K421/COUNTIF('Data Input'!$C$8:$AK$8,\"S\"))","v":""},{"$f":"IF(ISBLANK('Data Input'!A426),\"\",SUM('Data Input'!F426,'Data Input'!R426,'Data Input'!AJ426))","v":""},{"$f":"IF(M421=\"\",\"\",M421/COUNTIF('Data Input'!$C$8:$AK$8,\"F\"))","v":""},{"$f":"IF(ISBLANK('Data Input'!A426),\"\",SUM('Data Input'!E426,'Data Input'!M426,'Data Input'!Q426,'Data Input'!V426,'Data Input'!W426,'Data Input'!AD426,'Data Input'!AH426))","v":""},{"$f":"IF(O421=\"\",\"\",O421/COUNTIF('Data Input'!$C$8:$AK$8,\"M\"))","v":""},{"$f":"IF(ISBLANK('Data Input'!A426),\"\",SUM('Data Input'!H426,'Data Input'!K426,'Data Input'!P426,'Data Input'!Y426))","v":""},{"$f":"IF(Q421=\"\",\"\",Q421/COUNTIF('Data Input'!$C$8:$AK$8,\"G\"))","v":""}]
[{"$f":"IF('Data Input'!A427=0,\"\",'Data Input'!A427)","v":""},{"$f":"IF(ISBLANK('Data Input'!A427),\"\",COUNTIF('Data Input'!C427:AK427,\"\"))","v":""},{"$f":"IF(ISBLANK('Data Input'!A427),\"\",COUNTIF('Data Input'!C427:AK427,\"0\"))","v":""},{"$f":"IF(ISBLANK('Data Input'!A427),\"\",SUM(B422,C422))","v":""},{"$f":"IF(ISBLANK('Data Input'!A427),\"\",SUM('Data Input'!C427:AK427))","v":""},{"$f":"IF(E422=\"\",\"\",E422/(COUNTA('Data Input'!$C$8:$AK$8)))","v":""},{"$f":"IF(ISBLANK('Data Input'!A427),\"\",SUM('Data Input'!C427,'Data Input'!D427,'Data Input'!J427,'Data Input'!X427))","v":""},{"$f":"IF(G422=\"\",\"\",G422/COUNTIF('Data Input'!$C$8:$AK$8,\"N\"))","v":""},{"$f":"IF(ISBLANK('Data Input'!A427),\"\",SUM('Data Input'!G427,'Data Input'!I427,'Data Input'!L427,'Data Input'!N427,'Data Input'!O427,'Data Input'!S427,'Data Input'!Z427,'Data Input'!AA427,'Data Input'!AB427,'Data Input'!AC427,'Data Input'!AE427,'Data Input'!AF427,'Data Input'!AG427,'Data Input'!AI427,'Data Input'!AK427))","v":""},{"$f":"IF(I422=\"\",\"\",I422/COUNTIF('Data Input'!$C$8:$AK$8,\"C\"))","v":""},{"$f":"IF(ISBLANK('Data Input'!A427),\"\",SUM('Data Input'!T427,'Data Input'!U427))","v":""},{"$f":"IF(K422=\"\",\"\",K422/COUNTIF('Data Input'!$C$8:$AK$8,\"S\"))","v":""},{"$f":"IF(ISBLANK('Data Input'!A427),\"\",SUM('Data Input'!F427,'Data Input'!R427,'Data Input'!AJ427))","v":""},{"$f":"IF(M422=\"\",\"\",M422/COUNTIF('Data Input'!$C$8:$AK$8,\"F\"))","v":""},{"$f":"IF(ISBLANK('Data Input'!A427),\"\",SUM('Data Input'!E427,'Data Input'!M427,'Data Input'!Q427,'Data Input'!V427,'Data Input'!W427,'Data Input'!AD427,'Data Input'!AH427))","v":""},{"$f":"IF(O422=\"\",\"\",O422/COUNTIF('Data Input'!$C$8:$AK$8,\"M\"))","v":""},{"$f":"IF(ISBLANK('Data Input'!A427),\"\",SUM('Data Input'!H427,'Data Input'!K427,'Data Input'!P427,'Data Input'!Y427))","v":""},{"$f":"IF(Q422=\"\",\"\",Q422/COUNTIF('Data Input'!$C$8:$AK$8,\"G\"))","v":""}]
[{"$f":"IF('Data Input'!A428=0,\"\",'Data Input'!A428)","v":""},{"$f":"IF(ISBLANK('Data Input'!A428),\"\",COUNTIF('Data Input'!C428:AK428,\"\"))","v":""},{"$f":"IF(ISBLANK('Data Input'!A428),\"\",COUNTIF('Data Input'!C428:AK428,\"0\"))","v":""},{"$f":"IF(ISBLANK('Data Input'!A428),\"\",SUM(B423,C423))","v":""},{"$f":"IF(ISBLANK('Data Input'!A428),\"\",SUM('Data Input'!C428:AK428))","v":""},{"$f":"IF(E423=\"\",\"\",E423/(COUNTA('Data Input'!$C$8:$AK$8)))","v":""},{"$f":"IF(ISBLANK('Data Input'!A428),\"\",SUM('Data Input'!C428,'Data Input'!D428,'Data Input'!J428,'Data Input'!X428))","v":""},{"$f":"IF(G423=\"\",\"\",G423/COUNTIF('Data Input'!$C$8:$AK$8,\"N\"))","v":""},{"$f":"IF(ISBLANK('Data Input'!A428),\"\",SUM('Data Input'!G428,'Data Input'!I428,'Data Input'!L428,'Data Input'!N428,'Data Input'!O428,'Data Input'!S428,'Data Input'!Z428,'Data Input'!AA428,'Data Input'!AB428,'Data Input'!AC428,'Data Input'!AE428,'Data Input'!AF428,'Data Input'!AG428,'Data Input'!AI428,'Data Input'!AK428))","v":""},{"$f":"IF(I423=\"\",\"\",I423/COUNTIF('Data Input'!$C$8:$AK$8,\"C\"))","v":""},{"$f":"IF(ISBLANK('Data Input'!A428),\"\",SUM('Data Input'!T428,'Data Input'!U428))","v":""},{"$f":"IF(K423=\"\",\"\",K423/COUNTIF('Data Input'!$C$8:$AK$8,\"S\"))","v":""},{"$f":"IF(ISBLANK('Data Input'!A428),\"\",SUM('Data Input'!F428,'Data Input'!R428,'Data Input'!AJ428))","v":""},{"$f":"IF(M423=\"\",\"\",M423/COUNTIF('Data Input'!$C$8:$AK$8,\"F\"))","v":""},{"$f":"IF(ISBLANK('Data Input'!A428),\"\",SUM('Data Input'!E428,'Data Input'!M428,'Data Input'!Q428,'Data Input'!V428,'Data Input'!W428,'Data Input'!AD428,'Data Input'!AH428))","v":""},{"$f":"IF(O423=\"\",\"\",O423/COUNTIF('Data Input'!$C$8:$AK$8,\"M\"))","v":""},{"$f":"IF(ISBLANK('Data Input'!A428),\"\",SUM('Data Input'!H428,'Data Input'!K428,'Data Input'!P428,'Data Input'!Y428))","v":""},{"$f":"IF(Q423=\"\",\"\",Q423/COUNTIF('Data Input'!$C$8:$AK$8,\"G\"))","v":""}]
[{"$f":"IF('Data Input'!A429=0,\"\",'Data Input'!A429)","v":""},{"$f":"IF(ISBLANK('Data Input'!A429),\"\",COUNTIF('Data Input'!C429:AK429,\"\"))","v":""},{"$f":"IF(ISBLANK('Data Input'!A429),\"\",COUNTIF('Data Input'!C429:AK429,\"0\"))","v":""},{"$f":"IF(ISBLANK('Data Input'!A429),\"\",SUM(B424,C424))","v":""},{"$f":"IF(ISBLANK('Data Input'!A429),\"\",SUM('Data Input'!C429:AK429))","v":""},{"$f":"IF(E424=\"\",\"\",E424/(COUNTA('Data Input'!$C$8:$AK$8)))","v":""},{"$f":"IF(ISBLANK('Data Input'!A429),\"\",SUM('Data Input'!C429,'Data Input'!D429,'Data Input'!J429,'Data Input'!X429))","v":""},{"$f":"IF(G424=\"\",\"\",G424/COUNTIF('Data Input'!$C$8:$AK$8,\"N\"))","v":""},{"$f":"IF(ISBLANK('Data Input'!A429),\"\",SUM('Data Input'!G429,'Data Input'!I429,'Data Input'!L429,'Data Input'!N429,'Data Input'!O429,'Data Input'!S429,'Data Input'!Z429,'Data Input'!AA429,'Data Input'!AB429,'Data Input'!AC429,'Data Input'!AE429,'Data Input'!AF429,'Data Input'!AG429,'Data Input'!AI429,'Data Input'!AK429))","v":""},{"$f":"IF(I424=\"\",\"\",I424/COUNTIF('Data Input'!$C$8:$AK$8,\"C\"))","v":""},{"$f":"IF(ISBLANK('Data Input'!A429),\"\",SUM('Data Input'!T429,'Data Input'!U429))","v":""},{"$f":"IF(K424=\"\",\"\",K424/COUNTIF('Data Input'!$C$8:$AK$8,\"S\"))","v":""},{"$f":"IF(ISBLANK('Data Input'!A429),\"\",SUM('Data Input'!F429,'Data Input'!R429,'Data Input'!AJ429))","v":""},{"$f":"IF(M424=\"\",\"\",M424/COUNTIF('Data Input'!$C$8:$AK$8,\"F\"))","v":""},{"$f":"IF(ISBLANK('Data Input'!A429),\"\",SUM('Data Input'!E429,'Data Input'!M429,'Data Input'!Q429,'Data Input'!V429,'Data Input'!W429,'Data Input'!AD429,'Data Input'!AH429))","v":""},{"$f":"IF(O424=\"\",\"\",O424/COUNTIF('Data Input'!$C$8:$AK$8,\"M\"))","v":""},{"$f":"IF(ISBLANK('Data Input'!A429),\"\",SUM('Data Input'!H429,'Data Input'!K429,'Data Input'!P429,'Data Input'!Y429))","v":""},{"$f":"IF(Q424=\"\",\"\",Q424/COUNTIF('Data Input'!$C$8:$AK$8,\"G\"))","v":""}]
[{"$f":"IF('Data Input'!A430=0,\"\",'Data Input'!A430)","v":""},{"$f":"IF(ISBLANK('Data Input'!A430),\"\",COUNTIF('Data Input'!C430:AK430,\"\"))","v":""},{"$f":"IF(ISBLANK('Data Input'!A430),\"\",COUNTIF('Data Input'!C430:AK430,\"0\"))","v":""},{"$f":"IF(ISBLANK('Data Input'!A430),\"\",SUM(B425,C425))","v":""},{"$f":"IF(ISBLANK('Data Input'!A430),\"\",SUM('Data Input'!C430:AK430))","v":""},{"$f":"IF(E425=\"\",\"\",E425/(COUNTA('Data Input'!$C$8:$AK$8)))","v":""},{"$f":"IF(ISBLANK('Data Input'!A430),\"\",SUM('Data Input'!C430,'Data Input'!D430,'Data Input'!J430,'Data Input'!X430))","v":""},{"$f":"IF(G425=\"\",\"\",G425/COUNTIF('Data Input'!$C$8:$AK$8,\"N\"))","v":""},{"$f":"IF(ISBLANK('Data Input'!A430),\"\",SUM('Data Input'!G430,'Data Input'!I430,'Data Input'!L430,'Data Input'!N430,'Data Input'!O430,'Data Input'!S430,'Data Input'!Z430,'Data Input'!AA430,'Data Input'!AB430,'Data Input'!AC430,'Data Input'!AE430,'Data Input'!AF430,'Data Input'!AG430,'Data Input'!AI430,'Data Input'!AK430))","v":""},{"$f":"IF(I425=\"\",\"\",I425/COUNTIF('Data Input'!$C$8:$AK$8,\"C\"))","v":""},{"$f":"IF(ISBLANK('Data Input'!A430),\"\",SUM('Data Input'!T430,'Data Input'!U430))","v":""},{"$f":"IF(K425=\"\",\"\",K425/COUNTIF('Data Input'!$C$8:$AK$8,\"S\"))","v":""},{"$f":"IF(ISBLANK('Data Input'!A430),\"\",SUM('Data Input'!F430,'Data Input'!R430,'Data Input'!AJ430))","v":""},{"$f":"IF(M425=\"\",\"\",M425/COUNTIF('Data Input'!$C$8:$AK$8,\"F\"))","v":""},{"$f":"IF(ISBLANK('Data Input'!A430),\"\",SUM('Data Input'!E430,'Data Input'!M430,'Data Input'!Q430,'Data Input'!V430,'Data Input'!W430,'Data Input'!AD430,'Data Input'!AH430))","v":""},{"$f":"IF(O425=\"\",\"\",O425/COUNTIF('Data Input'!$C$8:$AK$8,\"M\"))","v":""},{"$f":"IF(ISBLANK('Data Input'!A430),\"\",SUM('Data Input'!H430,'Data Input'!K430,'Data Input'!P430,'Data Input'!Y430))","v":""},{"$f":"IF(Q425=\"\",\"\",Q425/COUNTIF('Data Input'!$C$8:$AK$8,\"G\"))","v":""}]
[{"$f":"IF('Data Input'!A431=0,\"\",'Data Input'!A431)","v":""},{"$f":"IF(ISBLANK('Data Input'!A431),\"\",COUNTIF('Data Input'!C431:AK431,\"\"))","v":""},{"$f":"IF(ISBLANK('Data Input'!A431),\"\",COUNTIF('Data Input'!C431:AK431,\"0\"))","v":""},{"$f":"IF(ISBLANK('Data Input'!A431),\"\",SUM(B426,C426))","v":""},{"$f":"IF(ISBLANK('Data Input'!A431),\"\",SUM('Data Input'!C431:AK431))","v":""},{"$f":"IF(E426=\"\",\"\",E426/(COUNTA('Data Input'!$C$8:$AK$8)))","v":""},{"$f":"IF(ISBLANK('Data Input'!A431),\"\",SUM('Data Input'!C431,'Data Input'!D431,'Data Input'!J431,'Data Input'!X431))","v":""},{"$f":"IF(G426=\"\",\"\",G426/COUNTIF('Data Input'!$C$8:$AK$8,\"N\"))","v":""},{"$f":"IF(ISBLANK('Data Input'!A431),\"\",SUM('Data Input'!G431,'Data Input'!I431,'Data Input'!L431,'Data Input'!N431,'Data Input'!O431,'Data Input'!S431,'Data Input'!Z431,'Data Input'!AA431,'Data Input'!AB431,'Data Input'!AC431,'Data Input'!AE431,'Data Input'!AF431,'Data Input'!AG431,'Data Input'!AI431,'Data Input'!AK431))","v":""},{"$f":"IF(I426=\"\",\"\",I426/COUNTIF('Data Input'!$C$8:$AK$8,\"C\"))","v":""},{"$f":"IF(ISBLANK('Data Input'!A431),\"\",SUM('Data Input'!T431,'Data Input'!U431))","v":""},{"$f":"IF(K426=\"\",\"\",K426/COUNTIF('Data Input'!$C$8:$AK$8,\"S\"))","v":""},{"$f":"IF(ISBLANK('Data Input'!A431),\"\",SUM('Data Input'!F431,'Data Input'!R431,'Data Input'!AJ431))","v":""},{"$f":"IF(M426=\"\",\"\",M426/COUNTIF('Data Input'!$C$8:$AK$8,\"F\"))","v":""},{"$f":"IF(ISBLANK('Data Input'!A431),\"\",SUM('Data Input'!E431,'Data Input'!M431,'Data Input'!Q431,'Data Input'!V431,'Data Input'!W431,'Data Input'!AD431,'Data Input'!AH431))","v":""},{"$f":"IF(O426=\"\",\"\",O426/COUNTIF('Data Input'!$C$8:$AK$8,\"M\"))","v":""},{"$f":"IF(ISBLANK('Data Input'!A431),\"\",SUM('Data Input'!H431,'Data Input'!K431,'Data Input'!P431,'Data Input'!Y431))","v":""},{"$f":"IF(Q426=\"\",\"\",Q426/COUNTIF('Data Input'!$C$8:$AK$8,\"G\"))","v":""}]
[{"$f":"IF('Data Input'!A432=0,\"\",'Data Input'!A432)","v":""},{"$f":"IF(ISBLANK('Data Input'!A432),\"\",COUNTIF('Data Input'!C432:AK432,\"\"))","v":""},{"$f":"IF(ISBLANK('Data Input'!A432),\"\",COUNTIF('Data Input'!C432:AK432,\"0\"))","v":""},{"$f":"IF(ISBLANK('Data Input'!A432),\"\",SUM(B427,C427))","v":""},{"$f":"IF(ISBLANK('Data Input'!A432),\"\",SUM('Data Input'!C432:AK432))","v":""},{"$f":"IF(E427=\"\",\"\",E427/(COUNTA('Data Input'!$C$8:$AK$8)))","v":""},{"$f":"IF(ISBLANK('Data Input'!A432),\"\",SUM('Data Input'!C432,'Data Input'!D432,'Data Input'!J432,'Data Input'!X432))","v":""},{"$f":"IF(G427=\"\",\"\",G427/COUNTIF('Data Input'!$C$8:$AK$8,\"N\"))","v":""},{"$f":"IF(ISBLANK('Data Input'!A432),\"\",SUM('Data Input'!G432,'Data Input'!I432,'Data Input'!L432,'Data Input'!N432,'Data Input'!O432,'Data Input'!S432,'Data Input'!Z432,'Data Input'!AA432,'Data Input'!AB432,'Data Input'!AC432,'Data Input'!AE432,'Data Input'!AF432,'Data Input'!AG432,'Data Input'!AI432,'Data Input'!AK432))","v":""},{"$f":"IF(I427=\"\",\"\",I427/COUNTIF('Data Input'!$C$8:$AK$8,\"C\"))","v":""},{"$f":"IF(ISBLANK('Data Input'!A432),\"\",SUM('Data Input'!T432,'Data Input'!U432))","v":""},{"$f":"IF(K427=\"\",\"\",K427/COUNTIF('Data Input'!$C$8:$AK$8,\"S\"))","v":""},{"$f":"IF(ISBLANK('Data Input'!A432),\"\",SUM('Data Input'!F432,'Data Input'!R432,'Data Input'!AJ432))","v":""},{"$f":"IF(M427=\"\",\"\",M427/COUNTIF('Data Input'!$C$8:$AK$8,\"F\"))","v":""},{"$f":"IF(ISBLANK('Data Input'!A432),\"\",SUM('Data Input'!E432,'Data Input'!M432,'Data Input'!Q432,'Data Input'!V432,'Data Input'!W432,'Data Input'!AD432,'Data Input'!AH432))","v":""},{"$f":"IF(O427=\"\",\"\",O427/COUNTIF('Data Input'!$C$8:$AK$8,\"M\"))","v":""},{"$f":"IF(ISBLANK('Data Input'!A432),\"\",SUM('Data Input'!H432,'Data Input'!K432,'Data Input'!P432,'Data Input'!Y432))","v":""},{"$f":"IF(Q427=\"\",\"\",Q427/COUNTIF('Data Input'!$C$8:$AK$8,\"G\"))","v":""}]
[{"$f":"IF('Data Input'!A433=0,\"\",'Data Input'!A433)","v":""},{"$f":"IF(ISBLANK('Data Input'!A433),\"\",COUNTIF('Data Input'!C433:AK433,\"\"))","v":""},{"$f":"IF(ISBLANK('Data Input'!A433),\"\",COUNTIF('Data Input'!C433:AK433,\"0\"))","v":""},{"$f":"IF(ISBLANK('Data Input'!A433),\"\",SUM(B428,C428))","v":""},{"$f":"IF(ISBLANK('Data Input'!A433),\"\",SUM('Data Input'!C433:AK433))","v":""},{"$f":"IF(E428=\"\",\"\",E428/(COUNTA('Data Input'!$C$8:$AK$8)))","v":""},{"$f":"IF(ISBLANK('Data Input'!A433),\"\",SUM('Data Input'!C433,'Data Input'!D433,'Data Input'!J433,'Data Input'!X433))","v":""},{"$f":"IF(G428=\"\",\"\",G428/COUNTIF('Data Input'!$C$8:$AK$8,\"N\"))","v":""},{"$f":"IF(ISBLANK('Data Input'!A433),\"\",SUM('Data Input'!G433,'Data Input'!I433,'Data Input'!L433,'Data Input'!N433,'Data Input'!O433,'Data Input'!S433,'Data Input'!Z433,'Data Input'!AA433,'Data Input'!AB433,'Data Input'!AC433,'Data Input'!AE433,'Data Input'!AF433,'Data Input'!AG433,'Data Input'!AI433,'Data Input'!AK433))","v":""},{"$f":"IF(I428=\"\",\"\",I428/COUNTIF('Data Input'!$C$8:$AK$8,\"C\"))","v":""},{"$f":"IF(ISBLANK('Data Input'!A433),\"\",SUM('Data Input'!T433,'Data Input'!U433))","v":""},{"$f":"IF(K428=\"\",\"\",K428/COUNTIF('Data Input'!$C$8:$AK$8,\"S\"))","v":""},{"$f":"IF(ISBLANK('Data Input'!A433),\"\",SUM('Data Input'!F433,'Data Input'!R433,'Data Input'!AJ433))","v":""},{"$f":"IF(M428=\"\",\"\",M428/COUNTIF('Data Input'!$C$8:$AK$8,\"F\"))","v":""},{"$f":"IF(ISBLANK('Data Input'!A433),\"\",SUM('Data Input'!E433,'Data Input'!M433,'Data Input'!Q433,'Data Input'!V433,'Data Input'!W433,'Data Input'!AD433,'Data Input'!AH433))","v":""},{"$f":"IF(O428=\"\",\"\",O428/COUNTIF('Data Input'!$C$8:$AK$8,\"M\"))","v":""},{"$f":"IF(ISBLANK('Data Input'!A433),\"\",SUM('Data Input'!H433,'Data Input'!K433,'Data Input'!P433,'Data Input'!Y433))","v":""},{"$f":"IF(Q428=\"\",\"\",Q428/COUNTIF('Data Input'!$C$8:$AK$8,\"G\"))","v":""}]
[{"$f":"IF('Data Input'!A434=0,\"\",'Data Input'!A434)","v":""},{"$f":"IF(ISBLANK('Data Input'!A434),\"\",COUNTIF('Data Input'!C434:AK434,\"\"))","v":""},{"$f":"IF(ISBLANK('Data Input'!A434),\"\",COUNTIF('Data Input'!C434:AK434,\"0\"))","v":""},{"$f":"IF(ISBLANK('Data Input'!A434),\"\",SUM(B429,C429))","v":""},{"$f":"IF(ISBLANK('Data Input'!A434),\"\",SUM('Data Input'!C434:AK434))","v":""},{"$f":"IF(E429=\"\",\"\",E429/(COUNTA('Data Input'!$C$8:$AK$8)))","v":""},{"$f":"IF(ISBLANK('Data Input'!A434),\"\",SUM('Data Input'!C434,'Data Input'!D434,'Data Input'!J434,'Data Input'!X434))","v":""},{"$f":"IF(G429=\"\",\"\",G429/COUNTIF('Data Input'!$C$8:$AK$8,\"N\"))","v":""},{"$f":"IF(ISBLANK('Data Input'!A434),\"\",SUM('Data Input'!G434,'Data Input'!I434,'Data Input'!L434,'Data Input'!N434,'Data Input'!O434,'Data Input'!S434,'Data Input'!Z434,'Data Input'!AA434,'Data Input'!AB434,'Data Input'!AC434,'Data Input'!AE434,'Data Input'!AF434,'Data Input'!AG434,'Data Input'!AI434,'Data Input'!AK434))","v":""},{"$f":"IF(I429=\"\",\"\",I429/COUNTIF('Data Input'!$C$8:$AK$8,\"C\"))","v":""},{"$f":"IF(ISBLANK('Data Input'!A434),\"\",SUM('Data Input'!T434,'Data Input'!U434))","v":""},{"$f":"IF(K429=\"\",\"\",K429/COUNTIF('Data Input'!$C$8:$AK$8,\"S\"))","v":""},{"$f":"IF(ISBLANK('Data Input'!A434),\"\",SUM('Data Input'!F434,'Data Input'!R434,'Data Input'!AJ434))","v":""},{"$f":"IF(M429=\"\",\"\",M429/COUNTIF('Data Input'!$C$8:$AK$8,\"F\"))","v":""},{"$f":"IF(ISBLANK('Data Input'!A434),\"\",SUM('Data Input'!E434,'Data Input'!M434,'Data Input'!Q434,'Data Input'!V434,'Data Input'!W434,'Data Input'!AD434,'Data Input'!AH434))","v":""},{"$f":"IF(O429=\"\",\"\",O429/COUNTIF('Data Input'!$C$8:$AK$8,\"M\"))","v":""},{"$f":"IF(ISBLANK('Data Input'!A434),\"\",SUM('Data Input'!H434,'Data Input'!K434,'Data Input'!P434,'Data Input'!Y434))","v":""},{"$f":"IF(Q429=\"\",\"\",Q429/COUNTIF('Data Input'!$C$8:$AK$8,\"G\"))","v":""}]
[{"$f":"IF('Data Input'!A435=0,\"\",'Data Input'!A435)","v":""},{"$f":"IF(ISBLANK('Data Input'!A435),\"\",COUNTIF('Data Input'!C435:AK435,\"\"))","v":""},{"$f":"IF(ISBLANK('Data Input'!A435),\"\",COUNTIF('Data Input'!C435:AK435,\"0\"))","v":""},{"$f":"IF(ISBLANK('Data Input'!A435),\"\",SUM(B430,C430))","v":""},{"$f":"IF(ISBLANK('Data Input'!A435),\"\",SUM('Data Input'!C435:AK435))","v":""},{"$f":"IF(E430=\"\",\"\",E430/(COUNTA('Data Input'!$C$8:$AK$8)))","v":""},{"$f":"IF(ISBLANK('Data Input'!A435),\"\",SUM('Data Input'!C435,'Data Input'!D435,'Data Input'!J435,'Data Input'!X435))","v":""},{"$f":"IF(G430=\"\",\"\",G430/COUNTIF('Data Input'!$C$8:$AK$8,\"N\"))","v":""},{"$f":"IF(ISBLANK('Data Input'!A435),\"\",SUM('Data Input'!G435,'Data Input'!I435,'Data Input'!L435,'Data Input'!N435,'Data Input'!O435,'Data Input'!S435,'Data Input'!Z435,'Data Input'!AA435,'Data Input'!AB435,'Data Input'!AC435,'Data Input'!AE435,'Data Input'!AF435,'Data Input'!AG435,'Data Input'!AI435,'Data Input'!AK435))","v":""},{"$f":"IF(I430=\"\",\"\",I430/COUNTIF('Data Input'!$C$8:$AK$8,\"C\"))","v":""},{"$f":"IF(ISBLANK('Data Input'!A435),\"\",SUM('Data Input'!T435,'Data Input'!U435))","v":""},{"$f":"IF(K430=\"\",\"\",K430/COUNTIF('Data Input'!$C$8:$AK$8,\"S\"))","v":""},{"$f":"IF(ISBLANK('Data Input'!A435),\"\",SUM('Data Input'!F435,'Data Input'!R435,'Data Input'!AJ435))","v":""},{"$f":"IF(M430=\"\",\"\",M430/COUNTIF('Data Input'!$C$8:$AK$8,\"F\"))","v":""},{"$f":"IF(ISBLANK('Data Input'!A435),\"\",SUM('Data Input'!E435,'Data Input'!M435,'Data Input'!Q435,'Data Input'!V435,'Data Input'!W435,'Data Input'!AD435,'Data Input'!AH435))","v":""},{"$f":"IF(O430=\"\",\"\",O430/COUNTIF('Data Input'!$C$8:$AK$8,\"M\"))","v":""},{"$f":"IF(ISBLANK('Data Input'!A435),\"\",SUM('Data Input'!H435,'Data Input'!K435,'Data Input'!P435,'Data Input'!Y435))","v":""},{"$f":"IF(Q430=\"\",\"\",Q430/COUNTIF('Data Input'!$C$8:$AK$8,\"G\"))","v":""}]
[{"$f":"IF('Data Input'!A436=0,\"\",'Data Input'!A436)","v":""},{"$f":"IF(ISBLANK('Data Input'!A436),\"\",COUNTIF('Data Input'!C436:AK436,\"\"))","v":""},{"$f":"IF(ISBLANK('Data Input'!A436),\"\",COUNTIF('Data Input'!C436:AK436,\"0\"))","v":""},{"$f":"IF(ISBLANK('Data Input'!A436),\"\",SUM(B431,C431))","v":""},{"$f":"IF(ISBLANK('Data Input'!A436),\"\",SUM('Data Input'!C436:AK436))","v":""},{"$f":"IF(E431=\"\",\"\",E431/(COUNTA('Data Input'!$C$8:$AK$8)))","v":""},{"$f":"IF(ISBLANK('Data Input'!A436),\"\",SUM('Data Input'!C436,'Data Input'!D436,'Data Input'!J436,'Data Input'!X436))","v":""},{"$f":"IF(G431=\"\",\"\",G431/COUNTIF('Data Input'!$C$8:$AK$8,\"N\"))","v":""},{"$f":"IF(ISBLANK('Data Input'!A436),\"\",SUM('Data Input'!G436,'Data Input'!I436,'Data Input'!L436,'Data Input'!N436,'Data Input'!O436,'Data Input'!S436,'Data Input'!Z436,'Data Input'!AA436,'Data Input'!AB436,'Data Input'!AC436,'Data Input'!AE436,'Data Input'!AF436,'Data Input'!AG436,'Data Input'!AI436,'Data Input'!AK436))","v":""},{"$f":"IF(I431=\"\",\"\",I431/COUNTIF('Data Input'!$C$8:$AK$8,\"C\"))","v":""},{"$f":"IF(ISBLANK('Data Input'!A436),\"\",SUM('Data Input'!T436,'Data Input'!U436))","v":""},{"$f":"IF(K431=\"\",\"\",K431/COUNTIF('Data Input'!$C$8:$AK$8,\"S\"))","v":""},{"$f":"IF(ISBLANK('Data Input'!A436),\"\",SUM('Data Input'!F436,'Data Input'!R436,'Data Input'!AJ436))","v":""},{"$f":"IF(M431=\"\",\"\",M431/COUNTIF('Data Input'!$C$8:$AK$8,\"F\"))","v":""},{"$f":"IF(ISBLANK('Data Input'!A436),\"\",SUM('Data Input'!E436,'Data Input'!M436,'Data Input'!Q436,'Data Input'!V436,'Data Input'!W436,'Data Input'!AD436,'Data Input'!AH436))","v":""},{"$f":"IF(O431=\"\",\"\",O431/COUNTIF('Data Input'!$C$8:$AK$8,\"M\"))","v":""},{"$f":"IF(ISBLANK('Data Input'!A436),\"\",SUM('Data Input'!H436,'Data Input'!K436,'Data Input'!P436,'Data Input'!Y436))","v":""},{"$f":"IF(Q431=\"\",\"\",Q431/COUNTIF('Data Input'!$C$8:$AK$8,\"G\"))","v":""}]
[{"$f":"IF('Data Input'!A437=0,\"\",'Data Input'!A437)","v":""},{"$f":"IF(ISBLANK('Data Input'!A437),\"\",COUNTIF('Data Input'!C437:AK437,\"\"))","v":""},{"$f":"IF(ISBLANK('Data Input'!A437),\"\",COUNTIF('Data Input'!C437:AK437,\"0\"))","v":""},{"$f":"IF(ISBLANK('Data Input'!A437),\"\",SUM(B432,C432))","v":""},{"$f":"IF(ISBLANK('Data Input'!A437),\"\",SUM('Data Input'!C437:AK437))","v":""},{"$f":"IF(E432=\"\",\"\",E432/(COUNTA('Data Input'!$C$8:$AK$8)))","v":""},{"$f":"IF(ISBLANK('Data Input'!A437),\"\",SUM('Data Input'!C437,'Data Input'!D437,'Data Input'!J437,'Data Input'!X437))","v":""},{"$f":"IF(G432=\"\",\"\",G432/COUNTIF('Data Input'!$C$8:$AK$8,\"N\"))","v":""},{"$f":"IF(ISBLANK('Data Input'!A437),\"\",SUM('Data Input'!G437,'Data Input'!I437,'Data Input'!L437,'Data Input'!N437,'Data Input'!O437,'Data Input'!S437,'Data Input'!Z437,'Data Input'!AA437,'Data Input'!AB437,'Data Input'!AC437,'Data Input'!AE437,'Data Input'!AF437,'Data Input'!AG437,'Data Input'!AI437,'Data Input'!AK437))","v":""},{"$f":"IF(I432=\"\",\"\",I432/COUNTIF('Data Input'!$C$8:$AK$8,\"C\"))","v":""},{"$f":"IF(ISBLANK('Data Input'!A437),\"\",SUM('Data Input'!T437,'Data Input'!U437))","v":""},{"$f":"IF(K432=\"\",\"\",K432/COUNTIF('Data Input'!$C$8:$AK$8,\"S\"))","v":""},{"$f":"IF(ISBLANK('Data Input'!A437),\"\",SUM('Data Input'!F437,'Data Input'!R437,'Data Input'!AJ437))","v":""},{"$f":"IF(M432=\"\",\"\",M432/COUNTIF('Data Input'!$C$8:$AK$8,\"F\"))","v":""},{"$f":"IF(ISBLANK('Data Input'!A437),\"\",SUM('Data Input'!E437,'Data Input'!M437,'Data Input'!Q437,'Data Input'!V437,'Data Input'!W437,'Data Input'!AD437,'Data Input'!AH437))","v":""},{"$f":"IF(O432=\"\",\"\",O432/COUNTIF('Data Input'!$C$8:$AK$8,\"M\"))","v":""},{"$f":"IF(ISBLANK('Data Input'!A437),\"\",SUM('Data Input'!H437,'Data Input'!K437,'Data Input'!P437,'Data Input'!Y437))","v":""},{"$f":"IF(Q432=\"\",\"\",Q432/COUNTIF('Data Input'!$C$8:$AK$8,\"G\"))","v":""}]
[{"$f":"IF('Data Input'!A438=0,\"\",'Data Input'!A438)","v":""},{"$f":"IF(ISBLANK('Data Input'!A438),\"\",COUNTIF('Data Input'!C438:AK438,\"\"))","v":""},{"$f":"IF(ISBLANK('Data Input'!A438),\"\",COUNTIF('Data Input'!C438:AK438,\"0\"))","v":""},{"$f":"IF(ISBLANK('Data Input'!A438),\"\",SUM(B433,C433))","v":""},{"$f":"IF(ISBLANK('Data Input'!A438),\"\",SUM('Data Input'!C438:AK438))","v":""},{"$f":"IF(E433=\"\",\"\",E433/(COUNTA('Data Input'!$C$8:$AK$8)))","v":""},{"$f":"IF(ISBLANK('Data Input'!A438),\"\",SUM('Data Input'!C438,'Data Input'!D438,'Data Input'!J438,'Data Input'!X438))","v":""},{"$f":"IF(G433=\"\",\"\",G433/COUNTIF('Data Input'!$C$8:$AK$8,\"N\"))","v":""},{"$f":"IF(ISBLANK('Data Input'!A438),\"\",SUM('Data Input'!G438,'Data Input'!I438,'Data Input'!L438,'Data Input'!N438,'Data Input'!O438,'Data Input'!S438,'Data Input'!Z438,'Data Input'!AA438,'Data Input'!AB438,'Data Input'!AC438,'Data Input'!AE438,'Data Input'!AF438,'Data Input'!AG438,'Data Input'!AI438,'Data Input'!AK438))","v":""},{"$f":"IF(I433=\"\",\"\",I433/COUNTIF('Data Input'!$C$8:$AK$8,\"C\"))","v":""},{"$f":"IF(ISBLANK('Data Input'!A438),\"\",SUM('Data Input'!T438,'Data Input'!U438))","v":""},{"$f":"IF(K433=\"\",\"\",K433/COUNTIF('Data Input'!$C$8:$AK$8,\"S\"))","v":""},{"$f":"IF(ISBLANK('Data Input'!A438),\"\",SUM('Data Input'!F438,'Data Input'!R438,'Data Input'!AJ438))","v":""},{"$f":"IF(M433=\"\",\"\",M433/COUNTIF('Data Input'!$C$8:$AK$8,\"F\"))","v":""},{"$f":"IF(ISBLANK('Data Input'!A438),\"\",SUM('Data Input'!E438,'Data Input'!M438,'Data Input'!Q438,'Data Input'!V438,'Data Input'!W438,'Data Input'!AD438,'Data Input'!AH438))","v":""},{"$f":"IF(O433=\"\",\"\",O433/COUNTIF('Data Input'!$C$8:$AK$8,\"M\"))","v":""},{"$f":"IF(ISBLANK('Data Input'!A438),\"\",SUM('Data Input'!H438,'Data Input'!K438,'Data Input'!P438,'Data Input'!Y438))","v":""},{"$f":"IF(Q433=\"\",\"\",Q433/COUNTIF('Data Input'!$C$8:$AK$8,\"G\"))","v":""}]
[{"$f":"IF('Data Input'!A439=0,\"\",'Data Input'!A439)","v":""},{"$f":"IF(ISBLANK('Data Input'!A439),\"\",COUNTIF('Data Input'!C439:AK439,\"\"))","v":""},{"$f":"IF(ISBLANK('Data Input'!A439),\"\",COUNTIF('Data Input'!C439:AK439,\"0\"))","v":""},{"$f":"IF(ISBLANK('Data Input'!A439),\"\",SUM(B434,C434))","v":""},{"$f":"IF(ISBLANK('Data Input'!A439),\"\",SUM('Data Input'!C439:AK439))","v":""},{"$f":"IF(E434=\"\",\"\",E434/(COUNTA('Data Input'!$C$8:$AK$8)))","v":""},{"$f":"IF(ISBLANK('Data Input'!A439),\"\",SUM('Data Input'!C439,'Data Input'!D439,'Data Input'!J439,'Data Input'!X439))","v":""},{"$f":"IF(G434=\"\",\"\",G434/COUNTIF('Data Input'!$C$8:$AK$8,\"N\"))","v":""},{"$f":"IF(ISBLANK('Data Input'!A439),\"\",SUM('Data Input'!G439,'Data Input'!I439,'Data Input'!L439,'Data Input'!N439,'Data Input'!O439,'Data Input'!S439,'Data Input'!Z439,'Data Input'!AA439,'Data Input'!AB439,'Data Input'!AC439,'Data Input'!AE439,'Data Input'!AF439,'Data Input'!AG439,'Data Input'!AI439,'Data Input'!AK439))","v":""},{"$f":"IF(I434=\"\",\"\",I434/COUNTIF('Data Input'!$C$8:$AK$8,\"C\"))","v":""},{"$f":"IF(ISBLANK('Data Input'!A439),\"\",SUM('Data Input'!T439,'Data Input'!U439))","v":""},{"$f":"IF(K434=\"\",\"\",K434/COUNTIF('Data Input'!$C$8:$AK$8,\"S\"))","v":""},{"$f":"IF(ISBLANK('Data Input'!A439),\"\",SUM('Data Input'!F439,'Data Input'!R439,'Data Input'!AJ439))","v":""},{"$f":"IF(M434=\"\",\"\",M434/COUNTIF('Data Input'!$C$8:$AK$8,\"F\"))","v":""},{"$f":"IF(ISBLANK('Data Input'!A439),\"\",SUM('Data Input'!E439,'Data Input'!M439,'Data Input'!Q439,'Data Input'!V439,'Data Input'!W439,'Data Input'!AD439,'Data Input'!AH439))","v":""},{"$f":"IF(O434=\"\",\"\",O434/COUNTIF('Data Input'!$C$8:$AK$8,\"M\"))","v":""},{"$f":"IF(ISBLANK('Data Input'!A439),\"\",SUM('Data Input'!H439,'Data Input'!K439,'Data Input'!P439,'Data Input'!Y439))","v":""},{"$f":"IF(Q434=\"\",\"\",Q434/COUNTIF('Data Input'!$C$8:$AK$8,\"G\"))","v":""}]
[{"$f":"IF('Data Input'!A440=0,\"\",'Data Input'!A440)","v":""},{"$f":"IF(ISBLANK('Data Input'!A440),\"\",COUNTIF('Data Input'!C440:AK440,\"\"))","v":""},{"$f":"IF(ISBLANK('Data Input'!A440),\"\",COUNTIF('Data Input'!C440:AK440,\"0\"))","v":""},{"$f":"IF(ISBLANK('Data Input'!A440),\"\",SUM(B435,C435))","v":""},{"$f":"IF(ISBLANK('Data Input'!A440),\"\",SUM('Data Input'!C440:AK440))","v":""},{"$f":"IF(E435=\"\",\"\",E435/(COUNTA('Data Input'!$C$8:$AK$8)))","v":""},{"$f":"IF(ISBLANK('Data Input'!A440),\"\",SUM('Data Input'!C440,'Data Input'!D440,'Data Input'!J440,'Data Input'!X440))","v":""},{"$f":"IF(G435=\"\",\"\",G435/COUNTIF('Data Input'!$C$8:$AK$8,\"N\"))","v":""},{"$f":"IF(ISBLANK('Data Input'!A440),\"\",SUM('Data Input'!G440,'Data Input'!I440,'Data Input'!L440,'Data Input'!N440,'Data Input'!O440,'Data Input'!S440,'Data Input'!Z440,'Data Input'!AA440,'Data Input'!AB440,'Data Input'!AC440,'Data Input'!AE440,'Data Input'!AF440,'Data Input'!AG440,'Data Input'!AI440,'Data Input'!AK440))","v":""},{"$f":"IF(I435=\"\",\"\",I435/COUNTIF('Data Input'!$C$8:$AK$8,\"C\"))","v":""},{"$f":"IF(ISBLANK('Data Input'!A440),\"\",SUM('Data Input'!T440,'Data Input'!U440))","v":""},{"$f":"IF(K435=\"\",\"\",K435/COUNTIF('Data Input'!$C$8:$AK$8,\"S\"))","v":""},{"$f":"IF(ISBLANK('Data Input'!A440),\"\",SUM('Data Input'!F440,'Data Input'!R440,'Data Input'!AJ440))","v":""},{"$f":"IF(M435=\"\",\"\",M435/COUNTIF('Data Input'!$C$8:$AK$8,\"F\"))","v":""},{"$f":"IF(ISBLANK('Data Input'!A440),\"\",SUM('Data Input'!E440,'Data Input'!M440,'Data Input'!Q440,'Data Input'!V440,'Data Input'!W440,'Data Input'!AD440,'Data Input'!AH440))","v":""},{"$f":"IF(O435=\"\",\"\",O435/COUNTIF('Data Input'!$C$8:$AK$8,\"M\"))","v":""},{"$f":"IF(ISBLANK('Data Input'!A440),\"\",SUM('Data Input'!H440,'Data Input'!K440,'Data Input'!P440,'Data Input'!Y440))","v":""},{"$f":"IF(Q435=\"\",\"\",Q435/COUNTIF('Data Input'!$C$8:$AK$8,\"G\"))","v":""}]
[{"$f":"IF('Data Input'!A441=0,\"\",'Data Input'!A441)","v":""},{"$f":"IF(ISBLANK('Data Input'!A441),\"\",COUNTIF('Data Input'!C441:AK441,\"\"))","v":""},{"$f":"IF(ISBLANK('Data Input'!A441),\"\",COUNTIF('Data Input'!C441:AK441,\"0\"))","v":""},{"$f":"IF(ISBLANK('Data Input'!A441),\"\",SUM(B436,C436))","v":""},{"$f":"IF(ISBLANK('Data Input'!A441),\"\",SUM('Data Input'!C441:AK441))","v":""},{"$f":"IF(E436=\"\",\"\",E436/(COUNTA('Data Input'!$C$8:$AK$8)))","v":""},{"$f":"IF(ISBLANK('Data Input'!A441),\"\",SUM('Data Input'!C441,'Data Input'!D441,'Data Input'!J441,'Data Input'!X441))","v":""},{"$f":"IF(G436=\"\",\"\",G436/COUNTIF('Data Input'!$C$8:$AK$8,\"N\"))","v":""},{"$f":"IF(ISBLANK('Data Input'!A441),\"\",SUM('Data Input'!G441,'Data Input'!I441,'Data Input'!L441,'Data Input'!N441,'Data Input'!O441,'Data Input'!S441,'Data Input'!Z441,'Data Input'!AA441,'Data Input'!AB441,'Data Input'!AC441,'Data Input'!AE441,'Data Input'!AF441,'Data Input'!AG441,'Data Input'!AI441,'Data Input'!AK441))","v":""},{"$f":"IF(I436=\"\",\"\",I436/COUNTIF('Data Input'!$C$8:$AK$8,\"C\"))","v":""},{"$f":"IF(ISBLANK('Data Input'!A441),\"\",SUM('Data Input'!T441,'Data Input'!U441))","v":""},{"$f":"IF(K436=\"\",\"\",K436/COUNTIF('Data Input'!$C$8:$AK$8,\"S\"))","v":""},{"$f":"IF(ISBLANK('Data Input'!A441),\"\",SUM('Data Input'!F441,'Data Input'!R441,'Data Input'!AJ441))","v":""},{"$f":"IF(M436=\"\",\"\",M436/COUNTIF('Data Input'!$C$8:$AK$8,\"F\"))","v":""},{"$f":"IF(ISBLANK('Data Input'!A441),\"\",SUM('Data Input'!E441,'Data Input'!M441,'Data Input'!Q441,'Data Input'!V441,'Data Input'!W441,'Data Input'!AD441,'Data Input'!AH441))","v":""},{"$f":"IF(O436=\"\",\"\",O436/COUNTIF('Data Input'!$C$8:$AK$8,\"M\"))","v":""},{"$f":"IF(ISBLANK('Data Input'!A441),\"\",SUM('Data Input'!H441,'Data Input'!K441,'Data Input'!P441,'Data Input'!Y441))","v":""},{"$f":"IF(Q436=\"\",\"\",Q436/COUNTIF('Data Input'!$C$8:$AK$8,\"G\"))","v":""}]
[{"$f":"IF('Data Input'!A442=0,\"\",'Data Input'!A442)","v":""},{"$f":"IF(ISBLANK('Data Input'!A442),\"\",COUNTIF('Data Input'!C442:AK442,\"\"))","v":""},{"$f":"IF(ISBLANK('Data Input'!A442),\"\",COUNTIF('Data Input'!C442:AK442,\"0\"))","v":""},{"$f":"IF(ISBLANK('Data Input'!A442),\"\",SUM(B437,C437))","v":""},{"$f":"IF(ISBLANK('Data Input'!A442),\"\",SUM('Data Input'!C442:AK442))","v":""},{"$f":"IF(E437=\"\",\"\",E437/(COUNTA('Data Input'!$C$8:$AK$8)))","v":""},{"$f":"IF(ISBLANK('Data Input'!A442),\"\",SUM('Data Input'!C442,'Data Input'!D442,'Data Input'!J442,'Data Input'!X442))","v":""},{"$f":"IF(G437=\"\",\"\",G437/COUNTIF('Data Input'!$C$8:$AK$8,\"N\"))","v":""},{"$f":"IF(ISBLANK('Data Input'!A442),\"\",SUM('Data Input'!G442,'Data Input'!I442,'Data Input'!L442,'Data Input'!N442,'Data Input'!O442,'Data Input'!S442,'Data Input'!Z442,'Data Input'!AA442,'Data Input'!AB442,'Data Input'!AC442,'Data Input'!AE442,'Data Input'!AF442,'Data Input'!AG442,'Data Input'!AI442,'Data Input'!AK442))","v":""},{"$f":"IF(I437=\"\",\"\",I437/COUNTIF('Data Input'!$C$8:$AK$8,\"C\"))","v":""},{"$f":"IF(ISBLANK('Data Input'!A442),\"\",SUM('Data Input'!T442,'Data Input'!U442))","v":""},{"$f":"IF(K437=\"\",\"\",K437/COUNTIF('Data Input'!$C$8:$AK$8,\"S\"))","v":""},{"$f":"IF(ISBLANK('Data Input'!A442),\"\",SUM('Data Input'!F442,'Data Input'!R442,'Data Input'!AJ442))","v":""},{"$f":"IF(M437=\"\",\"\",M437/COUNTIF('Data Input'!$C$8:$AK$8,\"F\"))","v":""},{"$f":"IF(ISBLANK('Data Input'!A442),\"\",SUM('Data Input'!E442,'Data Input'!M442,'Data Input'!Q442,'Data Input'!V442,'Data Input'!W442,'Data Input'!AD442,'Data Input'!AH442))","v":""},{"$f":"IF(O437=\"\",\"\",O437/COUNTIF('Data Input'!$C$8:$AK$8,\"M\"))","v":""},{"$f":"IF(ISBLANK('Data Input'!A442),\"\",SUM('Data Input'!H442,'Data Input'!K442,'Data Input'!P442,'Data Input'!Y442))","v":""},{"$f":"IF(Q437=\"\",\"\",Q437/COUNTIF('Data Input'!$C$8:$AK$8,\"G\"))","v":""}]
[{"$f":"IF('Data Input'!A443=0,\"\",'Data Input'!A443)","v":""},{"$f":"IF(ISBLANK('Data Input'!A443),\"\",COUNTIF('Data Input'!C443:AK443,\"\"))","v":""},{"$f":"IF(ISBLANK('Data Input'!A443),\"\",COUNTIF('Data Input'!C443:AK443,\"0\"))","v":""},{"$f":"IF(ISBLANK('Data Input'!A443),\"\",SUM(B438,C438))","v":""},{"$f":"IF(ISBLANK('Data Input'!A443),\"\",SUM('Data Input'!C443:AK443))","v":""},{"$f":"IF(E438=\"\",\"\",E438/(COUNTA('Data Input'!$C$8:$AK$8)))","v":""},{"$f":"IF(ISBLANK('Data Input'!A443),\"\",SUM('Data Input'!C443,'Data Input'!D443,'Data Input'!J443,'Data Input'!X443))","v":""},{"$f":"IF(G438=\"\",\"\",G438/COUNTIF('Data Input'!$C$8:$AK$8,\"N\"))","v":""},{"$f":"IF(ISBLANK('Data Input'!A443),\"\",SUM('Data Input'!G443,'Data Input'!I443,'Data Input'!L443,'Data Input'!N443,'Data Input'!O443,'Data Input'!S443,'Data Input'!Z443,'Data Input'!AA443,'Data Input'!AB443,'Data Input'!AC443,'Data Input'!AE443,'Data Input'!AF443,'Data Input'!AG443,'Data Input'!AI443,'Data Input'!AK443))","v":""},{"$f":"IF(I438=\"\",\"\",I438/COUNTIF('Data Input'!$C$8:$AK$8,\"C\"))","v":""},{"$f":"IF(ISBLANK('Data Input'!A443),\"\",SUM('Data Input'!T443,'Data Input'!U443))","v":""},{"$f":"IF(K438=\"\",\"\",K438/COUNTIF('Data Input'!$C$8:$AK$8,\"S\"))","v":""},{"$f":"IF(ISBLANK('Data Input'!A443),\"\",SUM('Data Input'!F443,'Data Input'!R443,'Data Input'!AJ443))","v":""},{"$f":"IF(M438=\"\",\"\",M438/COUNTIF('Data Input'!$C$8:$AK$8,\"F\"))","v":""},{"$f":"IF(ISBLANK('Data Input'!A443),\"\",SUM('Data Input'!E443,'Data Input'!M443,'Data Input'!Q443,'Data Input'!V443,'Data Input'!W443,'Data Input'!AD443,'Data Input'!AH443))","v":""},{"$f":"IF(O438=\"\",\"\",O438/COUNTIF('Data Input'!$C$8:$AK$8,\"M\"))","v":""},{"$f":"IF(ISBLANK('Data Input'!A443),\"\",SUM('Data Input'!H443,'Data Input'!K443,'Data Input'!P443,'Data Input'!Y443))","v":""},{"$f":"IF(Q438=\"\",\"\",Q438/COUNTIF('Data Input'!$C$8:$AK$8,\"G\"))","v":""}]
[{"$f":"IF('Data Input'!A444=0,\"\",'Data Input'!A444)","v":""},{"$f":"IF(ISBLANK('Data Input'!A444),\"\",COUNTIF('Data Input'!C444:AK444,\"\"))","v":""},{"$f":"IF(ISBLANK('Data Input'!A444),\"\",COUNTIF('Data Input'!C444:AK444,\"0\"))","v":""},{"$f":"IF(ISBLANK('Data Input'!A444),\"\",SUM(B439,C439))","v":""},{"$f":"IF(ISBLANK('Data Input'!A444),\"\",SUM('Data Input'!C444:AK444))","v":""},{"$f":"IF(E439=\"\",\"\",E439/(COUNTA('Data Input'!$C$8:$AK$8)))","v":""},{"$f":"IF(ISBLANK('Data Input'!A444),\"\",SUM('Data Input'!C444,'Data Input'!D444,'Data Input'!J444,'Data Input'!X444))","v":""},{"$f":"IF(G439=\"\",\"\",G439/COUNTIF('Data Input'!$C$8:$AK$8,\"N\"))","v":""},{"$f":"IF(ISBLANK('Data Input'!A444),\"\",SUM('Data Input'!G444,'Data Input'!I444,'Data Input'!L444,'Data Input'!N444,'Data Input'!O444,'Data Input'!S444,'Data Input'!Z444,'Data Input'!AA444,'Data Input'!AB444,'Data Input'!AC444,'Data Input'!AE444,'Data Input'!AF444,'Data Input'!AG444,'Data Input'!AI444,'Data Input'!AK444))","v":""},{"$f":"IF(I439=\"\",\"\",I439/COUNTIF('Data Input'!$C$8:$AK$8,\"C\"))","v":""},{"$f":"IF(ISBLANK('Data Input'!A444),\"\",SUM('Data Input'!T444,'Data Input'!U444))","v":""},{"$f":"IF(K439=\"\",\"\",K439/COUNTIF('Data Input'!$C$8:$AK$8,\"S\"))","v":""},{"$f":"IF(ISBLANK('Data Input'!A444),\"\",SUM('Data Input'!F444,'Data Input'!R444,'Data Input'!AJ444))","v":""},{"$f":"IF(M439=\"\",\"\",M439/COUNTIF('Data Input'!$C$8:$AK$8,\"F\"))","v":""},{"$f":"IF(ISBLANK('Data Input'!A444),\"\",SUM('Data Input'!E444,'Data Input'!M444,'Data Input'!Q444,'Data Input'!V444,'Data Input'!W444,'Data Input'!AD444,'Data Input'!AH444))","v":""},{"$f":"IF(O439=\"\",\"\",O439/COUNTIF('Data Input'!$C$8:$AK$8,\"M\"))","v":""},{"$f":"IF(ISBLANK('Data Input'!A444),\"\",SUM('Data Input'!H444,'Data Input'!K444,'Data Input'!P444,'Data Input'!Y444))","v":""},{"$f":"IF(Q439=\"\",\"\",Q439/COUNTIF('Data Input'!$C$8:$AK$8,\"G\"))","v":""}]
[{"$f":"IF('Data Input'!A445=0,\"\",'Data Input'!A445)","v":""},{"$f":"IF(ISBLANK('Data Input'!A445),\"\",COUNTIF('Data Input'!C445:AK445,\"\"))","v":""},{"$f":"IF(ISBLANK('Data Input'!A445),\"\",COUNTIF('Data Input'!C445:AK445,\"0\"))","v":""},{"$f":"IF(ISBLANK('Data Input'!A445),\"\",SUM(B440,C440))","v":""},{"$f":"IF(ISBLANK('Data Input'!A445),\"\",SUM('Data Input'!C445:AK445))","v":""},{"$f":"IF(E440=\"\",\"\",E440/(COUNTA('Data Input'!$C$8:$AK$8)))","v":""},{"$f":"IF(ISBLANK('Data Input'!A445),\"\",SUM('Data Input'!C445,'Data Input'!D445,'Data Input'!J445,'Data Input'!X445))","v":""},{"$f":"IF(G440=\"\",\"\",G440/COUNTIF('Data Input'!$C$8:$AK$8,\"N\"))","v":""},{"$f":"IF(ISBLANK('Data Input'!A445),\"\",SUM('Data Input'!G445,'Data Input'!I445,'Data Input'!L445,'Data Input'!N445,'Data Input'!O445,'Data Input'!S445,'Data Input'!Z445,'Data Input'!AA445,'Data Input'!AB445,'Data Input'!AC445,'Data Input'!AE445,'Data Input'!AF445,'Data Input'!AG445,'Data Input'!AI445,'Data Input'!AK445))","v":""},{"$f":"IF(I440=\"\",\"\",I440/COUNTIF('Data Input'!$C$8:$AK$8,\"C\"))","v":""},{"$f":"IF(ISBLANK('Data Input'!A445),\"\",SUM('Data Input'!T445,'Data Input'!U445))","v":""},{"$f":"IF(K440=\"\",\"\",K440/COUNTIF('Data Input'!$C$8:$AK$8,\"S\"))","v":""},{"$f":"IF(ISBLANK('Data Input'!A445),\"\",SUM('Data Input'!F445,'Data Input'!R445,'Data Input'!AJ445))","v":""},{"$f":"IF(M440=\"\",\"\",M440/COUNTIF('Data Input'!$C$8:$AK$8,\"F\"))","v":""},{"$f":"IF(ISBLANK('Data Input'!A445),\"\",SUM('Data Input'!E445,'Data Input'!M445,'Data Input'!Q445,'Data Input'!V445,'Data Input'!W445,'Data Input'!AD445,'Data Input'!AH445))","v":""},{"$f":"IF(O440=\"\",\"\",O440/COUNTIF('Data Input'!$C$8:$AK$8,\"M\"))","v":""},{"$f":"IF(ISBLANK('Data Input'!A445),\"\",SUM('Data Input'!H445,'Data Input'!K445,'Data Input'!P445,'Data Input'!Y445))","v":""},{"$f":"IF(Q440=\"\",\"\",Q440/COUNTIF('Data Input'!$C$8:$AK$8,\"G\"))","v":""}]
[{"$f":"IF('Data Input'!A446=0,\"\",'Data Input'!A446)","v":""},{"$f":"IF(ISBLANK('Data Input'!A446),\"\",COUNTIF('Data Input'!C446:AK446,\"\"))","v":""},{"$f":"IF(ISBLANK('Data Input'!A446),\"\",COUNTIF('Data Input'!C446:AK446,\"0\"))","v":""},{"$f":"IF(ISBLANK('Data Input'!A446),\"\",SUM(B441,C441))","v":""},{"$f":"IF(ISBLANK('Data Input'!A446),\"\",SUM('Data Input'!C446:AK446))","v":""},{"$f":"IF(E441=\"\",\"\",E441/(COUNTA('Data Input'!$C$8:$AK$8)))","v":""},{"$f":"IF(ISBLANK('Data Input'!A446),\"\",SUM('Data Input'!C446,'Data Input'!D446,'Data Input'!J446,'Data Input'!X446))","v":""},{"$f":"IF(G441=\"\",\"\",G441/COUNTIF('Data Input'!$C$8:$AK$8,\"N\"))","v":""},{"$f":"IF(ISBLANK('Data Input'!A446),\"\",SUM('Data Input'!G446,'Data Input'!I446,'Data Input'!L446,'Data Input'!N446,'Data Input'!O446,'Data Input'!S446,'Data Input'!Z446,'Data Input'!AA446,'Data Input'!AB446,'Data Input'!AC446,'Data Input'!AE446,'Data Input'!AF446,'Data Input'!AG446,'Data Input'!AI446,'Data Input'!AK446))","v":""},{"$f":"IF(I441=\"\",\"\",I441/COUNTIF('Data Input'!$C$8:$AK$8,\"C\"))","v":""},{"$f":"IF(ISBLANK('Data Input'!A446),\"\",SUM('Data Input'!T446,'Data Input'!U446))","v":""},{"$f":"IF(K441=\"\",\"\",K441/COUNTIF('Data Input'!$C$8:$AK$8,\"S\"))","v":""},{"$f":"IF(ISBLANK('Data Input'!A446),\"\",SUM('Data Input'!F446,'Data Input'!R446,'Data Input'!AJ446))","v":""},{"$f":"IF(M441=\"\",\"\",M441/COUNTIF('Data Input'!$C$8:$AK$8,\"F\"))","v":""},{"$f":"IF(ISBLANK('Data Input'!A446),\"\",SUM('Data Input'!E446,'Data Input'!M446,'Data Input'!Q446,'Data Input'!V446,'Data Input'!W446,'Data Input'!AD446,'Data Input'!AH446))","v":""},{"$f":"IF(O441=\"\",\"\",O441/COUNTIF('Data Input'!$C$8:$AK$8,\"M\"))","v":""},{"$f":"IF(ISBLANK('Data Input'!A446),\"\",SUM('Data Input'!H446,'Data Input'!K446,'Data Input'!P446,'Data Input'!Y446))","v":""},{"$f":"IF(Q441=\"\",\"\",Q441/COUNTIF('Data Input'!$C$8:$AK$8,\"G\"))","v":""}]
[{"$f":"IF('Data Input'!A447=0,\"\",'Data Input'!A447)","v":""},{"$f":"IF(ISBLANK('Data Input'!A447),\"\",COUNTIF('Data Input'!C447:AK447,\"\"))","v":""},{"$f":"IF(ISBLANK('Data Input'!A447),\"\",COUNTIF('Data Input'!C447:AK447,\"0\"))","v":""},{"$f":"IF(ISBLANK('Data Input'!A447),\"\",SUM(B442,C442))","v":""},{"$f":"IF(ISBLANK('Data Input'!A447),\"\",SUM('Data Input'!C447:AK447))","v":""},{"$f":"IF(E442=\"\",\"\",E442/(COUNTA('Data Input'!$C$8:$AK$8)))","v":""},{"$f":"IF(ISBLANK('Data Input'!A447),\"\",SUM('Data Input'!C447,'Data Input'!D447,'Data Input'!J447,'Data Input'!X447))","v":""},{"$f":"IF(G442=\"\",\"\",G442/COUNTIF('Data Input'!$C$8:$AK$8,\"N\"))","v":""},{"$f":"IF(ISBLANK('Data Input'!A447),\"\",SUM('Data Input'!G447,'Data Input'!I447,'Data Input'!L447,'Data Input'!N447,'Data Input'!O447,'Data Input'!S447,'Data Input'!Z447,'Data Input'!AA447,'Data Input'!AB447,'Data Input'!AC447,'Data Input'!AE447,'Data Input'!AF447,'Data Input'!AG447,'Data Input'!AI447,'Data Input'!AK447))","v":""},{"$f":"IF(I442=\"\",\"\",I442/COUNTIF('Data Input'!$C$8:$AK$8,\"C\"))","v":""},{"$f":"IF(ISBLANK('Data Input'!A447),\"\",SUM('Data Input'!T447,'Data Input'!U447))","v":""},{"$f":"IF(K442=\"\",\"\",K442/COUNTIF('Data Input'!$C$8:$AK$8,\"S\"))","v":""},{"$f":"IF(ISBLANK('Data Input'!A447),\"\",SUM('Data Input'!F447,'Data Input'!R447,'Data Input'!AJ447))","v":""},{"$f":"IF(M442=\"\",\"\",M442/COUNTIF('Data Input'!$C$8:$AK$8,\"F\"))","v":""},{"$f":"IF(ISBLANK('Data Input'!A447),\"\",SUM('Data Input'!E447,'Data Input'!M447,'Data Input'!Q447,'Data Input'!V447,'Data Input'!W447,'Data Input'!AD447,'Data Input'!AH447))","v":""},{"$f":"IF(O442=\"\",\"\",O442/COUNTIF('Data Input'!$C$8:$AK$8,\"M\"))","v":""},{"$f":"IF(ISBLANK('Data Input'!A447),\"\",SUM('Data Input'!H447,'Data Input'!K447,'Data Input'!P447,'Data Input'!Y447))","v":""},{"$f":"IF(Q442=\"\",\"\",Q442/COUNTIF('Data Input'!$C$8:$AK$8,\"G\"))","v":""}]
[{"$f":"IF('Data Input'!A448=0,\"\",'Data Input'!A448)","v":""},{"$f":"IF(ISBLANK('Data Input'!A448),\"\",COUNTIF('Data Input'!C448:AK448,\"\"))","v":""},{"$f":"IF(ISBLANK('Data Input'!A448),\"\",COUNTIF('Data Input'!C448:AK448,\"0\"))","v":""},{"$f":"IF(ISBLANK('Data Input'!A448),\"\",SUM(B443,C443))","v":""},{"$f":"IF(ISBLANK('Data Input'!A448),\"\",SUM('Data Input'!C448:AK448))","v":""},{"$f":"IF(E443=\"\",\"\",E443/(COUNTA('Data Input'!$C$8:$AK$8)))","v":""},{"$f":"IF(ISBLANK('Data Input'!A448),\"\",SUM('Data Input'!C448,'Data Input'!D448,'Data Input'!J448,'Data Input'!X448))","v":""},{"$f":"IF(G443=\"\",\"\",G443/COUNTIF('Data Input'!$C$8:$AK$8,\"N\"))","v":""},{"$f":"IF(ISBLANK('Data Input'!A448),\"\",SUM('Data Input'!G448,'Data Input'!I448,'Data Input'!L448,'Data Input'!N448,'Data Input'!O448,'Data Input'!S448,'Data Input'!Z448,'Data Input'!AA448,'Data Input'!AB448,'Data Input'!AC448,'Data Input'!AE448,'Data Input'!AF448,'Data Input'!AG448,'Data Input'!AI448,'Data Input'!AK448))","v":""},{"$f":"IF(I443=\"\",\"\",I443/COUNTIF('Data Input'!$C$8:$AK$8,\"C\"))","v":""},{"$f":"IF(ISBLANK('Data Input'!A448),\"\",SUM('Data Input'!T448,'Data Input'!U448))","v":""},{"$f":"IF(K443=\"\",\"\",K443/COUNTIF('Data Input'!$C$8:$AK$8,\"S\"))","v":""},{"$f":"IF(ISBLANK('Data Input'!A448),\"\",SUM('Data Input'!F448,'Data Input'!R448,'Data Input'!AJ448))","v":""},{"$f":"IF(M443=\"\",\"\",M443/COUNTIF('Data Input'!$C$8:$AK$8,\"F\"))","v":""},{"$f":"IF(ISBLANK('Data Input'!A448),\"\",SUM('Data Input'!E448,'Data Input'!M448,'Data Input'!Q448,'Data Input'!V448,'Data Input'!W448,'Data Input'!AD448,'Data Input'!AH448))","v":""},{"$f":"IF(O443=\"\",\"\",O443/COUNTIF('Data Input'!$C$8:$AK$8,\"M\"))","v":""},{"$f":"IF(ISBLANK('Data Input'!A448),\"\",SUM('Data Input'!H448,'Data Input'!K448,'Data Input'!P448,'Data Input'!Y448))","v":""},{"$f":"IF(Q443=\"\",\"\",Q443/COUNTIF('Data Input'!$C$8:$AK$8,\"G\"))","v":""}]
[{"$f":"IF('Data Input'!A449=0,\"\",'Data Input'!A449)","v":""},{"$f":"IF(ISBLANK('Data Input'!A449),\"\",COUNTIF('Data Input'!C449:AK449,\"\"))","v":""},{"$f":"IF(ISBLANK('Data Input'!A449),\"\",COUNTIF('Data Input'!C449:AK449,\"0\"))","v":""},{"$f":"IF(ISBLANK('Data Input'!A449),\"\",SUM(B444,C444))","v":""},{"$f":"IF(ISBLANK('Data Input'!A449),\"\",SUM('Data Input'!C449:AK449))","v":""},{"$f":"IF(E444=\"\",\"\",E444/(COUNTA('Data Input'!$C$8:$AK$8)))","v":""},{"$f":"IF(ISBLANK('Data Input'!A449),\"\",SUM('Data Input'!C449,'Data Input'!D449,'Data Input'!J449,'Data Input'!X449))","v":""},{"$f":"IF(G444=\"\",\"\",G444/COUNTIF('Data Input'!$C$8:$AK$8,\"N\"))","v":""},{"$f":"IF(ISBLANK('Data Input'!A449),\"\",SUM('Data Input'!G449,'Data Input'!I449,'Data Input'!L449,'Data Input'!N449,'Data Input'!O449,'Data Input'!S449,'Data Input'!Z449,'Data Input'!AA449,'Data Input'!AB449,'Data Input'!AC449,'Data Input'!AE449,'Data Input'!AF449,'Data Input'!AG449,'Data Input'!AI449,'Data Input'!AK449))","v":""},{"$f":"IF(I444=\"\",\"\",I444/COUNTIF('Data Input'!$C$8:$AK$8,\"C\"))","v":""},{"$f":"IF(ISBLANK('Data Input'!A449),\"\",SUM('Data Input'!T449,'Data Input'!U449))","v":""},{"$f":"IF(K444=\"\",\"\",K444/COUNTIF('Data Input'!$C$8:$AK$8,\"S\"))","v":""},{"$f":"IF(ISBLANK('Data Input'!A449),\"\",SUM('Data Input'!F449,'Data Input'!R449,'Data Input'!AJ449))","v":""},{"$f":"IF(M444=\"\",\"\",M444/COUNTIF('Data Input'!$C$8:$AK$8,\"F\"))","v":""},{"$f":"IF(ISBLANK('Data Input'!A449),\"\",SUM('Data Input'!E449,'Data Input'!M449,'Data Input'!Q449,'Data Input'!V449,'Data Input'!W449,'Data Input'!AD449,'Data Input'!AH449))","v":""},{"$f":"IF(O444=\"\",\"\",O444/COUNTIF('Data Input'!$C$8:$AK$8,\"M\"))","v":""},{"$f":"IF(ISBLANK('Data Input'!A449),\"\",SUM('Data Input'!H449,'Data Input'!K449,'Data Input'!P449,'Data Input'!Y449))","v":""},{"$f":"IF(Q444=\"\",\"\",Q444/COUNTIF('Data Input'!$C$8:$AK$8,\"G\"))","v":""}]
[{"$f":"IF('Data Input'!A450=0,\"\",'Data Input'!A450)","v":""},{"$f":"IF(ISBLANK('Data Input'!A450),\"\",COUNTIF('Data Input'!C450:AK450,\"\"))","v":""},{"$f":"IF(ISBLANK('Data Input'!A450),\"\",COUNTIF('Data Input'!C450:AK450,\"0\"))","v":""},{"$f":"IF(ISBLANK('Data Input'!A450),\"\",SUM(B445,C445))","v":""},{"$f":"IF(ISBLANK('Data Input'!A450),\"\",SUM('Data Input'!C450:AK450))","v":""},{"$f":"IF(E445=\"\",\"\",E445/(COUNTA('Data Input'!$C$8:$AK$8)))","v":""},{"$f":"IF(ISBLANK('Data Input'!A450),\"\",SUM('Data Input'!C450,'Data Input'!D450,'Data Input'!J450,'Data Input'!X450))","v":""},{"$f":"IF(G445=\"\",\"\",G445/COUNTIF('Data Input'!$C$8:$AK$8,\"N\"))","v":""},{"$f":"IF(ISBLANK('Data Input'!A450),\"\",SUM('Data Input'!G450,'Data Input'!I450,'Data Input'!L450,'Data Input'!N450,'Data Input'!O450,'Data Input'!S450,'Data Input'!Z450,'Data Input'!AA450,'Data Input'!AB450,'Data Input'!AC450,'Data Input'!AE450,'Data Input'!AF450,'Data Input'!AG450,'Data Input'!AI450,'Data Input'!AK450))","v":""},{"$f":"IF(I445=\"\",\"\",I445/COUNTIF('Data Input'!$C$8:$AK$8,\"C\"))","v":""},{"$f":"IF(ISBLANK('Data Input'!A450),\"\",SUM('Data Input'!T450,'Data Input'!U450))","v":""},{"$f":"IF(K445=\"\",\"\",K445/COUNTIF('Data Input'!$C$8:$AK$8,\"S\"))","v":""},{"$f":"IF(ISBLANK('Data Input'!A450),\"\",SUM('Data Input'!F450,'Data Input'!R450,'Data Input'!AJ450))","v":""},{"$f":"IF(M445=\"\",\"\",M445/COUNTIF('Data Input'!$C$8:$AK$8,\"F\"))","v":""},{"$f":"IF(ISBLANK('Data Input'!A450),\"\",SUM('Data Input'!E450,'Data Input'!M450,'Data Input'!Q450,'Data Input'!V450,'Data Input'!W450,'Data Input'!AD450,'Data Input'!AH450))","v":""},{"$f":"IF(O445=\"\",\"\",O445/COUNTIF('Data Input'!$C$8:$AK$8,\"M\"))","v":""},{"$f":"IF(ISBLANK('Data Input'!A450),\"\",SUM('Data Input'!H450,'Data Input'!K450,'Data Input'!P450,'Data Input'!Y450))","v":""},{"$f":"IF(Q445=\"\",\"\",Q445/COUNTIF('Data Input'!$C$8:$AK$8,\"G\"))","v":""}]
[{"$f":"IF('Data Input'!A451=0,\"\",'Data Input'!A451)","v":""},{"$f":"IF(ISBLANK('Data Input'!A451),\"\",COUNTIF('Data Input'!C451:AK451,\"\"))","v":""},{"$f":"IF(ISBLANK('Data Input'!A451),\"\",COUNTIF('Data Input'!C451:AK451,\"0\"))","v":""},{"$f":"IF(ISBLANK('Data Input'!A451),\"\",SUM(B446,C446))","v":""},{"$f":"IF(ISBLANK('Data Input'!A451),\"\",SUM('Data Input'!C451:AK451))","v":""},{"$f":"IF(E446=\"\",\"\",E446/(COUNTA('Data Input'!$C$8:$AK$8)))","v":""},{"$f":"IF(ISBLANK('Data Input'!A451),\"\",SUM('Data Input'!C451,'Data Input'!D451,'Data Input'!J451,'Data Input'!X451))","v":""},{"$f":"IF(G446=\"\",\"\",G446/COUNTIF('Data Input'!$C$8:$AK$8,\"N\"))","v":""},{"$f":"IF(ISBLANK('Data Input'!A451),\"\",SUM('Data Input'!G451,'Data Input'!I451,'Data Input'!L451,'Data Input'!N451,'Data Input'!O451,'Data Input'!S451,'Data Input'!Z451,'Data Input'!AA451,'Data Input'!AB451,'Data Input'!AC451,'Data Input'!AE451,'Data Input'!AF451,'Data Input'!AG451,'Data Input'!AI451,'Data Input'!AK451))","v":""},{"$f":"IF(I446=\"\",\"\",I446/COUNTIF('Data Input'!$C$8:$AK$8,\"C\"))","v":""},{"$f":"IF(ISBLANK('Data Input'!A451),\"\",SUM('Data Input'!T451,'Data Input'!U451))","v":""},{"$f":"IF(K446=\"\",\"\",K446/COUNTIF('Data Input'!$C$8:$AK$8,\"S\"))","v":""},{"$f":"IF(ISBLANK('Data Input'!A451),\"\",SUM('Data Input'!F451,'Data Input'!R451,'Data Input'!AJ451))","v":""},{"$f":"IF(M446=\"\",\"\",M446/COUNTIF('Data Input'!$C$8:$AK$8,\"F\"))","v":""},{"$f":"IF(ISBLANK('Data Input'!A451),\"\",SUM('Data Input'!E451,'Data Input'!M451,'Data Input'!Q451,'Data Input'!V451,'Data Input'!W451,'Data Input'!AD451,'Data Input'!AH451))","v":""},{"$f":"IF(O446=\"\",\"\",O446/COUNTIF('Data Input'!$C$8:$AK$8,\"M\"))","v":""},{"$f":"IF(ISBLANK('Data Input'!A451),\"\",SUM('Data Input'!H451,'Data Input'!K451,'Data Input'!P451,'Data Input'!Y451))","v":""},{"$f":"IF(Q446=\"\",\"\",Q446/COUNTIF('Data Input'!$C$8:$AK$8,\"G\"))","v":""}]
[{"$f":"IF('Data Input'!A452=0,\"\",'Data Input'!A452)","v":""},{"$f":"IF(ISBLANK('Data Input'!A452),\"\",COUNTIF('Data Input'!C452:AK452,\"\"))","v":""},{"$f":"IF(ISBLANK('Data Input'!A452),\"\",COUNTIF('Data Input'!C452:AK452,\"0\"))","v":""},{"$f":"IF(ISBLANK('Data Input'!A452),\"\",SUM(B447,C447))","v":""},{"$f":"IF(ISBLANK('Data Input'!A452),\"\",SUM('Data Input'!C452:AK452))","v":""},{"$f":"IF(E447=\"\",\"\",E447/(COUNTA('Data Input'!$C$8:$AK$8)))","v":""},{"$f":"IF(ISBLANK('Data Input'!A452),\"\",SUM('Data Input'!C452,'Data Input'!D452,'Data Input'!J452,'Data Input'!X452))","v":""},{"$f":"IF(G447=\"\",\"\",G447/COUNTIF('Data Input'!$C$8:$AK$8,\"N\"))","v":""},{"$f":"IF(ISBLANK('Data Input'!A452),\"\",SUM('Data Input'!G452,'Data Input'!I452,'Data Input'!L452,'Data Input'!N452,'Data Input'!O452,'Data Input'!S452,'Data Input'!Z452,'Data Input'!AA452,'Data Input'!AB452,'Data Input'!AC452,'Data Input'!AE452,'Data Input'!AF452,'Data Input'!AG452,'Data Input'!AI452,'Data Input'!AK452))","v":""},{"$f":"IF(I447=\"\",\"\",I447/COUNTIF('Data Input'!$C$8:$AK$8,\"C\"))","v":""},{"$f":"IF(ISBLANK('Data Input'!A452),\"\",SUM('Data Input'!T452,'Data Input'!U452))","v":""},{"$f":"IF(K447=\"\",\"\",K447/COUNTIF('Data Input'!$C$8:$AK$8,\"S\"))","v":""},{"$f":"IF(ISBLANK('Data Input'!A452),\"\",SUM('Data Input'!F452,'Data Input'!R452,'Data Input'!AJ452))","v":""},{"$f":"IF(M447=\"\",\"\",M447/COUNTIF('Data Input'!$C$8:$AK$8,\"F\"))","v":""},{"$f":"IF(ISBLANK('Data Input'!A452),\"\",SUM('Data Input'!E452,'Data Input'!M452,'Data Input'!Q452,'Data Input'!V452,'Data Input'!W452,'Data Input'!AD452,'Data Input'!AH452))","v":""},{"$f":"IF(O447=\"\",\"\",O447/COUNTIF('Data Input'!$C$8:$AK$8,\"M\"))","v":""},{"$f":"IF(ISBLANK('Data Input'!A452),\"\",SUM('Data Input'!H452,'Data Input'!K452,'Data Input'!P452,'Data Input'!Y452))","v":""},{"$f":"IF(Q447=\"\",\"\",Q447/COUNTIF('Data Input'!$C$8:$AK$8,\"G\"))","v":""}]
[{"$f":"IF('Data Input'!A453=0,\"\",'Data Input'!A453)","v":""},{"$f":"IF(ISBLANK('Data Input'!A453),\"\",COUNTIF('Data Input'!C453:AK453,\"\"))","v":""},{"$f":"IF(ISBLANK('Data Input'!A453),\"\",COUNTIF('Data Input'!C453:AK453,\"0\"))","v":""},{"$f":"IF(ISBLANK('Data Input'!A453),\"\",SUM(B448,C448))","v":""},{"$f":"IF(ISBLANK('Data Input'!A453),\"\",SUM('Data Input'!C453:AK453))","v":""},{"$f":"IF(E448=\"\",\"\",E448/(COUNTA('Data Input'!$C$8:$AK$8)))","v":""},{"$f":"IF(ISBLANK('Data Input'!A453),\"\",SUM('Data Input'!C453,'Data Input'!D453,'Data Input'!J453,'Data Input'!X453))","v":""},{"$f":"IF(G448=\"\",\"\",G448/COUNTIF('Data Input'!$C$8:$AK$8,\"N\"))","v":""},{"$f":"IF(ISBLANK('Data Input'!A453),\"\",SUM('Data Input'!G453,'Data Input'!I453,'Data Input'!L453,'Data Input'!N453,'Data Input'!O453,'Data Input'!S453,'Data Input'!Z453,'Data Input'!AA453,'Data Input'!AB453,'Data Input'!AC453,'Data Input'!AE453,'Data Input'!AF453,'Data Input'!AG453,'Data Input'!AI453,'Data Input'!AK453))","v":""},{"$f":"IF(I448=\"\",\"\",I448/COUNTIF('Data Input'!$C$8:$AK$8,\"C\"))","v":""},{"$f":"IF(ISBLANK('Data Input'!A453),\"\",SUM('Data Input'!T453,'Data Input'!U453))","v":""},{"$f":"IF(K448=\"\",\"\",K448/COUNTIF('Data Input'!$C$8:$AK$8,\"S\"))","v":""},{"$f":"IF(ISBLANK('Data Input'!A453),\"\",SUM('Data Input'!F453,'Data Input'!R453,'Data Input'!AJ453))","v":""},{"$f":"IF(M448=\"\",\"\",M448/COUNTIF('Data Input'!$C$8:$AK$8,\"F\"))","v":""},{"$f":"IF(ISBLANK('Data Input'!A453),\"\",SUM('Data Input'!E453,'Data Input'!M453,'Data Input'!Q453,'Data Input'!V453,'Data Input'!W453,'Data Input'!AD453,'Data Input'!AH453))","v":""},{"$f":"IF(O448=\"\",\"\",O448/COUNTIF('Data Input'!$C$8:$AK$8,\"M\"))","v":""},{"$f":"IF(ISBLANK('Data Input'!A453),\"\",SUM('Data Input'!H453,'Data Input'!K453,'Data Input'!P453,'Data Input'!Y453))","v":""},{"$f":"IF(Q448=\"\",\"\",Q448/COUNTIF('Data Input'!$C$8:$AK$8,\"G\"))","v":""}]
[{"$f":"IF('Data Input'!A454=0,\"\",'Data Input'!A454)","v":""},{"$f":"IF(ISBLANK('Data Input'!A454),\"\",COUNTIF('Data Input'!C454:AK454,\"\"))","v":""},{"$f":"IF(ISBLANK('Data Input'!A454),\"\",COUNTIF('Data Input'!C454:AK454,\"0\"))","v":""},{"$f":"IF(ISBLANK('Data Input'!A454),\"\",SUM(B449,C449))","v":""},{"$f":"IF(ISBLANK('Data Input'!A454),\"\",SUM('Data Input'!C454:AK454))","v":""},{"$f":"IF(E449=\"\",\"\",E449/(COUNTA('Data Input'!$C$8:$AK$8)))","v":""},{"$f":"IF(ISBLANK('Data Input'!A454),\"\",SUM('Data Input'!C454,'Data Input'!D454,'Data Input'!J454,'Data Input'!X454))","v":""},{"$f":"IF(G449=\"\",\"\",G449/COUNTIF('Data Input'!$C$8:$AK$8,\"N\"))","v":""},{"$f":"IF(ISBLANK('Data Input'!A454),\"\",SUM('Data Input'!G454,'Data Input'!I454,'Data Input'!L454,'Data Input'!N454,'Data Input'!O454,'Data Input'!S454,'Data Input'!Z454,'Data Input'!AA454,'Data Input'!AB454,'Data Input'!AC454,'Data Input'!AE454,'Data Input'!AF454,'Data Input'!AG454,'Data Input'!AI454,'Data Input'!AK454))","v":""},{"$f":"IF(I449=\"\",\"\",I449/COUNTIF('Data Input'!$C$8:$AK$8,\"C\"))","v":""},{"$f":"IF(ISBLANK('Data Input'!A454),\"\",SUM('Data Input'!T454,'Data Input'!U454))","v":""},{"$f":"IF(K449=\"\",\"\",K449/COUNTIF('Data Input'!$C$8:$AK$8,\"S\"))","v":""},{"$f":"IF(ISBLANK('Data Input'!A454),\"\",SUM('Data Input'!F454,'Data Input'!R454,'Data Input'!AJ454))","v":""},{"$f":"IF(M449=\"\",\"\",M449/COUNTIF('Data Input'!$C$8:$AK$8,\"F\"))","v":""},{"$f":"IF(ISBLANK('Data Input'!A454),\"\",SUM('Data Input'!E454,'Data Input'!M454,'Data Input'!Q454,'Data Input'!V454,'Data Input'!W454,'Data Input'!AD454,'Data Input'!AH454))","v":""},{"$f":"IF(O449=\"\",\"\",O449/COUNTIF('Data Input'!$C$8:$AK$8,\"M\"))","v":""},{"$f":"IF(ISBLANK('Data Input'!A454),\"\",SUM('Data Input'!H454,'Data Input'!K454,'Data Input'!P454,'Data Input'!Y454))","v":""},{"$f":"IF(Q449=\"\",\"\",Q449/COUNTIF('Data Input'!$C$8:$AK$8,\"G\"))","v":""}]
[{"$f":"IF('Data Input'!A455=0,\"\",'Data Input'!A455)","v":""},{"$f":"IF(ISBLANK('Data Input'!A455),\"\",COUNTIF('Data Input'!C455:AK455,\"\"))","v":""},{"$f":"IF(ISBLANK('Data Input'!A455),\"\",COUNTIF('Data Input'!C455:AK455,\"0\"))","v":""},{"$f":"IF(ISBLANK('Data Input'!A455),\"\",SUM(B450,C450))","v":""},{"$f":"IF(ISBLANK('Data Input'!A455),\"\",SUM('Data Input'!C455:AK455))","v":""},{"$f":"IF(E450=\"\",\"\",E450/(COUNTA('Data Input'!$C$8:$AK$8)))","v":""},{"$f":"IF(ISBLANK('Data Input'!A455),\"\",SUM('Data Input'!C455,'Data Input'!D455,'Data Input'!J455,'Data Input'!X455))","v":""},{"$f":"IF(G450=\"\",\"\",G450/COUNTIF('Data Input'!$C$8:$AK$8,\"N\"))","v":""},{"$f":"IF(ISBLANK('Data Input'!A455),\"\",SUM('Data Input'!G455,'Data Input'!I455,'Data Input'!L455,'Data Input'!N455,'Data Input'!O455,'Data Input'!S455,'Data Input'!Z455,'Data Input'!AA455,'Data Input'!AB455,'Data Input'!AC455,'Data Input'!AE455,'Data Input'!AF455,'Data Input'!AG455,'Data Input'!AI455,'Data Input'!AK455))","v":""},{"$f":"IF(I450=\"\",\"\",I450/COUNTIF('Data Input'!$C$8:$AK$8,\"C\"))","v":""},{"$f":"IF(ISBLANK('Data Input'!A455),\"\",SUM('Data Input'!T455,'Data Input'!U455))","v":""},{"$f":"IF(K450=\"\",\"\",K450/COUNTIF('Data Input'!$C$8:$AK$8,\"S\"))","v":""},{"$f":"IF(ISBLANK('Data Input'!A455),\"\",SUM('Data Input'!F455,'Data Input'!R455,'Data Input'!AJ455))","v":""},{"$f":"IF(M450=\"\",\"\",M450/COUNTIF('Data Input'!$C$8:$AK$8,\"F\"))","v":""},{"$f":"IF(ISBLANK('Data Input'!A455),\"\",SUM('Data Input'!E455,'Data Input'!M455,'Data Input'!Q455,'Data Input'!V455,'Data Input'!W455,'Data Input'!AD455,'Data Input'!AH455))","v":""},{"$f":"IF(O450=\"\",\"\",O450/COUNTIF('Data Input'!$C$8:$AK$8,\"M\"))","v":""},{"$f":"IF(ISBLANK('Data Input'!A455),\"\",SUM('Data Input'!H455,'Data Input'!K455,'Data Input'!P455,'Data Input'!Y455))","v":""},{"$f":"IF(Q450=\"\",\"\",Q450/COUNTIF('Data Input'!$C$8:$AK$8,\"G\"))","v":""}]
[{"$f":"IF('Data Input'!A456=0,\"\",'Data Input'!A456)","v":""},{"$f":"IF(ISBLANK('Data Input'!A456),\"\",COUNTIF('Data Input'!C456:AK456,\"\"))","v":""},{"$f":"IF(ISBLANK('Data Input'!A456),\"\",COUNTIF('Data Input'!C456:AK456,\"0\"))","v":""},{"$f":"IF(ISBLANK('Data Input'!A456),\"\",SUM(B451,C451))","v":""},{"$f":"IF(ISBLANK('Data Input'!A456),\"\",SUM('Data Input'!C456:AK456))","v":""},{"$f":"IF(E451=\"\",\"\",E451/(COUNTA('Data Input'!$C$8:$AK$8)))","v":""},{"$f":"IF(ISBLANK('Data Input'!A456),\"\",SUM('Data Input'!C456,'Data Input'!D456,'Data Input'!J456,'Data Input'!X456))","v":""},{"$f":"IF(G451=\"\",\"\",G451/COUNTIF('Data Input'!$C$8:$AK$8,\"N\"))","v":""},{"$f":"IF(ISBLANK('Data Input'!A456),\"\",SUM('Data Input'!G456,'Data Input'!I456,'Data Input'!L456,'Data Input'!N456,'Data Input'!O456,'Data Input'!S456,'Data Input'!Z456,'Data Input'!AA456,'Data Input'!AB456,'Data Input'!AC456,'Data Input'!AE456,'Data Input'!AF456,'Data Input'!AG456,'Data Input'!AI456,'Data Input'!AK456))","v":""},{"$f":"IF(I451=\"\",\"\",I451/COUNTIF('Data Input'!$C$8:$AK$8,\"C\"))","v":""},{"$f":"IF(ISBLANK('Data Input'!A456),\"\",SUM('Data Input'!T456,'Data Input'!U456))","v":""},{"$f":"IF(K451=\"\",\"\",K451/COUNTIF('Data Input'!$C$8:$AK$8,\"S\"))","v":""},{"$f":"IF(ISBLANK('Data Input'!A456),\"\",SUM('Data Input'!F456,'Data Input'!R456,'Data Input'!AJ456))","v":""},{"$f":"IF(M451=\"\",\"\",M451/COUNTIF('Data Input'!$C$8:$AK$8,\"F\"))","v":""},{"$f":"IF(ISBLANK('Data Input'!A456),\"\",SUM('Data Input'!E456,'Data Input'!M456,'Data Input'!Q456,'Data Input'!V456,'Data Input'!W456,'Data Input'!AD456,'Data Input'!AH456))","v":""},{"$f":"IF(O451=\"\",\"\",O451/COUNTIF('Data Input'!$C$8:$AK$8,\"M\"))","v":""},{"$f":"IF(ISBLANK('Data Input'!A456),\"\",SUM('Data Input'!H456,'Data Input'!K456,'Data Input'!P456,'Data Input'!Y456))","v":""},{"$f":"IF(Q451=\"\",\"\",Q451/COUNTIF('Data Input'!$C$8:$AK$8,\"G\"))","v":""}]
[{"$f":"IF('Data Input'!A457=0,\"\",'Data Input'!A457)","v":""},{"$f":"IF(ISBLANK('Data Input'!A457),\"\",COUNTIF('Data Input'!C457:AK457,\"\"))","v":""},{"$f":"IF(ISBLANK('Data Input'!A457),\"\",COUNTIF('Data Input'!C457:AK457,\"0\"))","v":""},{"$f":"IF(ISBLANK('Data Input'!A457),\"\",SUM(B452,C452))","v":""},{"$f":"IF(ISBLANK('Data Input'!A457),\"\",SUM('Data Input'!C457:AK457))","v":""},{"$f":"IF(E452=\"\",\"\",E452/(COUNTA('Data Input'!$C$8:$AK$8)))","v":""},{"$f":"IF(ISBLANK('Data Input'!A457),\"\",SUM('Data Input'!C457,'Data Input'!D457,'Data Input'!J457,'Data Input'!X457))","v":""},{"$f":"IF(G452=\"\",\"\",G452/COUNTIF('Data Input'!$C$8:$AK$8,\"N\"))","v":""},{"$f":"IF(ISBLANK('Data Input'!A457),\"\",SUM('Data Input'!G457,'Data Input'!I457,'Data Input'!L457,'Data Input'!N457,'Data Input'!O457,'Data Input'!S457,'Data Input'!Z457,'Data Input'!AA457,'Data Input'!AB457,'Data Input'!AC457,'Data Input'!AE457,'Data Input'!AF457,'Data Input'!AG457,'Data Input'!AI457,'Data Input'!AK457))","v":""},{"$f":"IF(I452=\"\",\"\",I452/COUNTIF('Data Input'!$C$8:$AK$8,\"C\"))","v":""},{"$f":"IF(ISBLANK('Data Input'!A457),\"\",SUM('Data Input'!T457,'Data Input'!U457))","v":""},{"$f":"IF(K452=\"\",\"\",K452/COUNTIF('Data Input'!$C$8:$AK$8,\"S\"))","v":""},{"$f":"IF(ISBLANK('Data Input'!A457),\"\",SUM('Data Input'!F457,'Data Input'!R457,'Data Input'!AJ457))","v":""},{"$f":"IF(M452=\"\",\"\",M452/COUNTIF('Data Input'!$C$8:$AK$8,\"F\"))","v":""},{"$f":"IF(ISBLANK('Data Input'!A457),\"\",SUM('Data Input'!E457,'Data Input'!M457,'Data Input'!Q457,'Data Input'!V457,'Data Input'!W457,'Data Input'!AD457,'Data Input'!AH457))","v":""},{"$f":"IF(O452=\"\",\"\",O452/COUNTIF('Data Input'!$C$8:$AK$8,\"M\"))","v":""},{"$f":"IF(ISBLANK('Data Input'!A457),\"\",SUM('Data Input'!H457,'Data Input'!K457,'Data Input'!P457,'Data Input'!Y457))","v":""},{"$f":"IF(Q452=\"\",\"\",Q452/COUNTIF('Data Input'!$C$8:$AK$8,\"G\"))","v":""}]
[{"$f":"IF('Data Input'!A458=0,\"\",'Data Input'!A458)","v":""},{"$f":"IF(ISBLANK('Data Input'!A458),\"\",COUNTIF('Data Input'!C458:AK458,\"\"))","v":""},{"$f":"IF(ISBLANK('Data Input'!A458),\"\",COUNTIF('Data Input'!C458:AK458,\"0\"))","v":""},{"$f":"IF(ISBLANK('Data Input'!A458),\"\",SUM(B453,C453))","v":""},{"$f":"IF(ISBLANK('Data Input'!A458),\"\",SUM('Data Input'!C458:AK458))","v":""},{"$f":"IF(E453=\"\",\"\",E453/(COUNTA('Data Input'!$C$8:$AK$8)))","v":""},{"$f":"IF(ISBLANK('Data Input'!A458),\"\",SUM('Data Input'!C458,'Data Input'!D458,'Data Input'!J458,'Data Input'!X458))","v":""},{"$f":"IF(G453=\"\",\"\",G453/COUNTIF('Data Input'!$C$8:$AK$8,\"N\"))","v":""},{"$f":"IF(ISBLANK('Data Input'!A458),\"\",SUM('Data Input'!G458,'Data Input'!I458,'Data Input'!L458,'Data Input'!N458,'Data Input'!O458,'Data Input'!S458,'Data Input'!Z458,'Data Input'!AA458,'Data Input'!AB458,'Data Input'!AC458,'Data Input'!AE458,'Data Input'!AF458,'Data Input'!AG458,'Data Input'!AI458,'Data Input'!AK458))","v":""},{"$f":"IF(I453=\"\",\"\",I453/COUNTIF('Data Input'!$C$8:$AK$8,\"C\"))","v":""},{"$f":"IF(ISBLANK('Data Input'!A458),\"\",SUM('Data Input'!T458,'Data Input'!U458))","v":""},{"$f":"IF(K453=\"\",\"\",K453/COUNTIF('Data Input'!$C$8:$AK$8,\"S\"))","v":""},{"$f":"IF(ISBLANK('Data Input'!A458),\"\",SUM('Data Input'!F458,'Data Input'!R458,'Data Input'!AJ458))","v":""},{"$f":"IF(M453=\"\",\"\",M453/COUNTIF('Data Input'!$C$8:$AK$8,\"F\"))","v":""},{"$f":"IF(ISBLANK('Data Input'!A458),\"\",SUM('Data Input'!E458,'Data Input'!M458,'Data Input'!Q458,'Data Input'!V458,'Data Input'!W458,'Data Input'!AD458,'Data Input'!AH458))","v":""},{"$f":"IF(O453=\"\",\"\",O453/COUNTIF('Data Input'!$C$8:$AK$8,\"M\"))","v":""},{"$f":"IF(ISBLANK('Data Input'!A458),\"\",SUM('Data Input'!H458,'Data Input'!K458,'Data Input'!P458,'Data Input'!Y458))","v":""},{"$f":"IF(Q453=\"\",\"\",Q453/COUNTIF('Data Input'!$C$8:$AK$8,\"G\"))","v":""}]
[{"$f":"IF('Data Input'!A459=0,\"\",'Data Input'!A459)","v":""},{"$f":"IF(ISBLANK('Data Input'!A459),\"\",COUNTIF('Data Input'!C459:AK459,\"\"))","v":""},{"$f":"IF(ISBLANK('Data Input'!A459),\"\",COUNTIF('Data Input'!C459:AK459,\"0\"))","v":""},{"$f":"IF(ISBLANK('Data Input'!A459),\"\",SUM(B454,C454))","v":""},{"$f":"IF(ISBLANK('Data Input'!A459),\"\",SUM('Data Input'!C459:AK459))","v":""},{"$f":"IF(E454=\"\",\"\",E454/(COUNTA('Data Input'!$C$8:$AK$8)))","v":""},{"$f":"IF(ISBLANK('Data Input'!A459),\"\",SUM('Data Input'!C459,'Data Input'!D459,'Data Input'!J459,'Data Input'!X459))","v":""},{"$f":"IF(G454=\"\",\"\",G454/COUNTIF('Data Input'!$C$8:$AK$8,\"N\"))","v":""},{"$f":"IF(ISBLANK('Data Input'!A459),\"\",SUM('Data Input'!G459,'Data Input'!I459,'Data Input'!L459,'Data Input'!N459,'Data Input'!O459,'Data Input'!S459,'Data Input'!Z459,'Data Input'!AA459,'Data Input'!AB459,'Data Input'!AC459,'Data Input'!AE459,'Data Input'!AF459,'Data Input'!AG459,'Data Input'!AI459,'Data Input'!AK459))","v":""},{"$f":"IF(I454=\"\",\"\",I454/COUNTIF('Data Input'!$C$8:$AK$8,\"C\"))","v":""},{"$f":"IF(ISBLANK('Data Input'!A459),\"\",SUM('Data Input'!T459,'Data Input'!U459))","v":""},{"$f":"IF(K454=\"\",\"\",K454/COUNTIF('Data Input'!$C$8:$AK$8,\"S\"))","v":""},{"$f":"IF(ISBLANK('Data Input'!A459),\"\",SUM('Data Input'!F459,'Data Input'!R459,'Data Input'!AJ459))","v":""},{"$f":"IF(M454=\"\",\"\",M454/COUNTIF('Data Input'!$C$8:$AK$8,\"F\"))","v":""},{"$f":"IF(ISBLANK('Data Input'!A459),\"\",SUM('Data Input'!E459,'Data Input'!M459,'Data Input'!Q459,'Data Input'!V459,'Data Input'!W459,'Data Input'!AD459,'Data Input'!AH459))","v":""},{"$f":"IF(O454=\"\",\"\",O454/COUNTIF('Data Input'!$C$8:$AK$8,\"M\"))","v":""},{"$f":"IF(ISBLANK('Data Input'!A459),\"\",SUM('Data Input'!H459,'Data Input'!K459,'Data Input'!P459,'Data Input'!Y459))","v":""},{"$f":"IF(Q454=\"\",\"\",Q454/COUNTIF('Data Input'!$C$8:$AK$8,\"G\"))","v":""}]
[{"$f":"IF('Data Input'!A460=0,\"\",'Data Input'!A460)","v":""},{"$f":"IF(ISBLANK('Data Input'!A460),\"\",COUNTIF('Data Input'!C460:AK460,\"\"))","v":""},{"$f":"IF(ISBLANK('Data Input'!A460),\"\",COUNTIF('Data Input'!C460:AK460,\"0\"))","v":""},{"$f":"IF(ISBLANK('Data Input'!A460),\"\",SUM(B455,C455))","v":""},{"$f":"IF(ISBLANK('Data Input'!A460),\"\",SUM('Data Input'!C460:AK460))","v":""},{"$f":"IF(E455=\"\",\"\",E455/(COUNTA('Data Input'!$C$8:$AK$8)))","v":""},{"$f":"IF(ISBLANK('Data Input'!A460),\"\",SUM('Data Input'!C460,'Data Input'!D460,'Data Input'!J460,'Data Input'!X460))","v":""},{"$f":"IF(G455=\"\",\"\",G455/COUNTIF('Data Input'!$C$8:$AK$8,\"N\"))","v":""},{"$f":"IF(ISBLANK('Data Input'!A460),\"\",SUM('Data Input'!G460,'Data Input'!I460,'Data Input'!L460,'Data Input'!N460,'Data Input'!O460,'Data Input'!S460,'Data Input'!Z460,'Data Input'!AA460,'Data Input'!AB460,'Data Input'!AC460,'Data Input'!AE460,'Data Input'!AF460,'Data Input'!AG460,'Data Input'!AI460,'Data Input'!AK460))","v":""},{"$f":"IF(I455=\"\",\"\",I455/COUNTIF('Data Input'!$C$8:$AK$8,\"C\"))","v":""},{"$f":"IF(ISBLANK('Data Input'!A460),\"\",SUM('Data Input'!T460,'Data Input'!U460))","v":""},{"$f":"IF(K455=\"\",\"\",K455/COUNTIF('Data Input'!$C$8:$AK$8,\"S\"))","v":""},{"$f":"IF(ISBLANK('Data Input'!A460),\"\",SUM('Data Input'!F460,'Data Input'!R460,'Data Input'!AJ460))","v":""},{"$f":"IF(M455=\"\",\"\",M455/COUNTIF('Data Input'!$C$8:$AK$8,\"F\"))","v":""},{"$f":"IF(ISBLANK('Data Input'!A460),\"\",SUM('Data Input'!E460,'Data Input'!M460,'Data Input'!Q460,'Data Input'!V460,'Data Input'!W460,'Data Input'!AD460,'Data Input'!AH460))","v":""},{"$f":"IF(O455=\"\",\"\",O455/COUNTIF('Data Input'!$C$8:$AK$8,\"M\"))","v":""},{"$f":"IF(ISBLANK('Data Input'!A460),\"\",SUM('Data Input'!H460,'Data Input'!K460,'Data Input'!P460,'Data Input'!Y460))","v":""},{"$f":"IF(Q455=\"\",\"\",Q455/COUNTIF('Data Input'!$C$8:$AK$8,\"G\"))","v":""}]
[{"$f":"IF('Data Input'!A461=0,\"\",'Data Input'!A461)","v":""},{"$f":"IF(ISBLANK('Data Input'!A461),\"\",COUNTIF('Data Input'!C461:AK461,\"\"))","v":""},{"$f":"IF(ISBLANK('Data Input'!A461),\"\",COUNTIF('Data Input'!C461:AK461,\"0\"))","v":""},{"$f":"IF(ISBLANK('Data Input'!A461),\"\",SUM(B456,C456))","v":""},{"$f":"IF(ISBLANK('Data Input'!A461),\"\",SUM('Data Input'!C461:AK461))","v":""},{"$f":"IF(E456=\"\",\"\",E456/(COUNTA('Data Input'!$C$8:$AK$8)))","v":""},{"$f":"IF(ISBLANK('Data Input'!A461),\"\",SUM('Data Input'!C461,'Data Input'!D461,'Data Input'!J461,'Data Input'!X461))","v":""},{"$f":"IF(G456=\"\",\"\",G456/COUNTIF('Data Input'!$C$8:$AK$8,\"N\"))","v":""},{"$f":"IF(ISBLANK('Data Input'!A461),\"\",SUM('Data Input'!G461,'Data Input'!I461,'Data Input'!L461,'Data Input'!N461,'Data Input'!O461,'Data Input'!S461,'Data Input'!Z461,'Data Input'!AA461,'Data Input'!AB461,'Data Input'!AC461,'Data Input'!AE461,'Data Input'!AF461,'Data Input'!AG461,'Data Input'!AI461,'Data Input'!AK461))","v":""},{"$f":"IF(I456=\"\",\"\",I456/COUNTIF('Data Input'!$C$8:$AK$8,\"C\"))","v":""},{"$f":"IF(ISBLANK('Data Input'!A461),\"\",SUM('Data Input'!T461,'Data Input'!U461))","v":""},{"$f":"IF(K456=\"\",\"\",K456/COUNTIF('Data Input'!$C$8:$AK$8,\"S\"))","v":""},{"$f":"IF(ISBLANK('Data Input'!A461),\"\",SUM('Data Input'!F461,'Data Input'!R461,'Data Input'!AJ461))","v":""},{"$f":"IF(M456=\"\",\"\",M456/COUNTIF('Data Input'!$C$8:$AK$8,\"F\"))","v":""},{"$f":"IF(ISBLANK('Data Input'!A461),\"\",SUM('Data Input'!E461,'Data Input'!M461,'Data Input'!Q461,'Data Input'!V461,'Data Input'!W461,'Data Input'!AD461,'Data Input'!AH461))","v":""},{"$f":"IF(O456=\"\",\"\",O456/COUNTIF('Data Input'!$C$8:$AK$8,\"M\"))","v":""},{"$f":"IF(ISBLANK('Data Input'!A461),\"\",SUM('Data Input'!H461,'Data Input'!K461,'Data Input'!P461,'Data Input'!Y461))","v":""},{"$f":"IF(Q456=\"\",\"\",Q456/COUNTIF('Data Input'!$C$8:$AK$8,\"G\"))","v":""}]
[{"$f":"IF('Data Input'!A462=0,\"\",'Data Input'!A462)","v":""},{"$f":"IF(ISBLANK('Data Input'!A462),\"\",COUNTIF('Data Input'!C462:AK462,\"\"))","v":""},{"$f":"IF(ISBLANK('Data Input'!A462),\"\",COUNTIF('Data Input'!C462:AK462,\"0\"))","v":""},{"$f":"IF(ISBLANK('Data Input'!A462),\"\",SUM(B457,C457))","v":""},{"$f":"IF(ISBLANK('Data Input'!A462),\"\",SUM('Data Input'!C462:AK462))","v":""},{"$f":"IF(E457=\"\",\"\",E457/(COUNTA('Data Input'!$C$8:$AK$8)))","v":""},{"$f":"IF(ISBLANK('Data Input'!A462),\"\",SUM('Data Input'!C462,'Data Input'!D462,'Data Input'!J462,'Data Input'!X462))","v":""},{"$f":"IF(G457=\"\",\"\",G457/COUNTIF('Data Input'!$C$8:$AK$8,\"N\"))","v":""},{"$f":"IF(ISBLANK('Data Input'!A462),\"\",SUM('Data Input'!G462,'Data Input'!I462,'Data Input'!L462,'Data Input'!N462,'Data Input'!O462,'Data Input'!S462,'Data Input'!Z462,'Data Input'!AA462,'Data Input'!AB462,'Data Input'!AC462,'Data Input'!AE462,'Data Input'!AF462,'Data Input'!AG462,'Data Input'!AI462,'Data Input'!AK462))","v":""},{"$f":"IF(I457=\"\",\"\",I457/COUNTIF('Data Input'!$C$8:$AK$8,\"C\"))","v":""},{"$f":"IF(ISBLANK('Data Input'!A462),\"\",SUM('Data Input'!T462,'Data Input'!U462))","v":""},{"$f":"IF(K457=\"\",\"\",K457/COUNTIF('Data Input'!$C$8:$AK$8,\"S\"))","v":""},{"$f":"IF(ISBLANK('Data Input'!A462),\"\",SUM('Data Input'!F462,'Data Input'!R462,'Data Input'!AJ462))","v":""},{"$f":"IF(M457=\"\",\"\",M457/COUNTIF('Data Input'!$C$8:$AK$8,\"F\"))","v":""},{"$f":"IF(ISBLANK('Data Input'!A462),\"\",SUM('Data Input'!E462,'Data Input'!M462,'Data Input'!Q462,'Data Input'!V462,'Data Input'!W462,'Data Input'!AD462,'Data Input'!AH462))","v":""},{"$f":"IF(O457=\"\",\"\",O457/COUNTIF('Data Input'!$C$8:$AK$8,\"M\"))","v":""},{"$f":"IF(ISBLANK('Data Input'!A462),\"\",SUM('Data Input'!H462,'Data Input'!K462,'Data Input'!P462,'Data Input'!Y462))","v":""},{"$f":"IF(Q457=\"\",\"\",Q457/COUNTIF('Data Input'!$C$8:$AK$8,\"G\"))","v":""}]
[{"$f":"IF('Data Input'!A463=0,\"\",'Data Input'!A463)","v":""},{"$f":"IF(ISBLANK('Data Input'!A463),\"\",COUNTIF('Data Input'!C463:AK463,\"\"))","v":""},{"$f":"IF(ISBLANK('Data Input'!A463),\"\",COUNTIF('Data Input'!C463:AK463,\"0\"))","v":""},{"$f":"IF(ISBLANK('Data Input'!A463),\"\",SUM(B458,C458))","v":""},{"$f":"IF(ISBLANK('Data Input'!A463),\"\",SUM('Data Input'!C463:AK463))","v":""},{"$f":"IF(E458=\"\",\"\",E458/(COUNTA('Data Input'!$C$8:$AK$8)))","v":""},{"$f":"IF(ISBLANK('Data Input'!A463),\"\",SUM('Data Input'!C463,'Data Input'!D463,'Data Input'!J463,'Data Input'!X463))","v":""},{"$f":"IF(G458=\"\",\"\",G458/COUNTIF('Data Input'!$C$8:$AK$8,\"N\"))","v":""},{"$f":"IF(ISBLANK('Data Input'!A463),\"\",SUM('Data Input'!G463,'Data Input'!I463,'Data Input'!L463,'Data Input'!N463,'Data Input'!O463,'Data Input'!S463,'Data Input'!Z463,'Data Input'!AA463,'Data Input'!AB463,'Data Input'!AC463,'Data Input'!AE463,'Data Input'!AF463,'Data Input'!AG463,'Data Input'!AI463,'Data Input'!AK463))","v":""},{"$f":"IF(I458=\"\",\"\",I458/COUNTIF('Data Input'!$C$8:$AK$8,\"C\"))","v":""},{"$f":"IF(ISBLANK('Data Input'!A463),\"\",SUM('Data Input'!T463,'Data Input'!U463))","v":""},{"$f":"IF(K458=\"\",\"\",K458/COUNTIF('Data Input'!$C$8:$AK$8,\"S\"))","v":""},{"$f":"IF(ISBLANK('Data Input'!A463),\"\",SUM('Data Input'!F463,'Data Input'!R463,'Data Input'!AJ463))","v":""},{"$f":"IF(M458=\"\",\"\",M458/COUNTIF('Data Input'!$C$8:$AK$8,\"F\"))","v":""},{"$f":"IF(ISBLANK('Data Input'!A463),\"\",SUM('Data Input'!E463,'Data Input'!M463,'Data Input'!Q463,'Data Input'!V463,'Data Input'!W463,'Data Input'!AD463,'Data Input'!AH463))","v":""},{"$f":"IF(O458=\"\",\"\",O458/COUNTIF('Data Input'!$C$8:$AK$8,\"M\"))","v":""},{"$f":"IF(ISBLANK('Data Input'!A463),\"\",SUM('Data Input'!H463,'Data Input'!K463,'Data Input'!P463,'Data Input'!Y463))","v":""},{"$f":"IF(Q458=\"\",\"\",Q458/COUNTIF('Data Input'!$C$8:$AK$8,\"G\"))","v":""}]
[{"$f":"IF('Data Input'!A464=0,\"\",'Data Input'!A464)","v":""},{"$f":"IF(ISBLANK('Data Input'!A464),\"\",COUNTIF('Data Input'!C464:AK464,\"\"))","v":""},{"$f":"IF(ISBLANK('Data Input'!A464),\"\",COUNTIF('Data Input'!C464:AK464,\"0\"))","v":""},{"$f":"IF(ISBLANK('Data Input'!A464),\"\",SUM(B459,C459))","v":""},{"$f":"IF(ISBLANK('Data Input'!A464),\"\",SUM('Data Input'!C464:AK464))","v":""},{"$f":"IF(E459=\"\",\"\",E459/(COUNTA('Data Input'!$C$8:$AK$8)))","v":""},{"$f":"IF(ISBLANK('Data Input'!A464),\"\",SUM('Data Input'!C464,'Data Input'!D464,'Data Input'!J464,'Data Input'!X464))","v":""},{"$f":"IF(G459=\"\",\"\",G459/COUNTIF('Data Input'!$C$8:$AK$8,\"N\"))","v":""},{"$f":"IF(ISBLANK('Data Input'!A464),\"\",SUM('Data Input'!G464,'Data Input'!I464,'Data Input'!L464,'Data Input'!N464,'Data Input'!O464,'Data Input'!S464,'Data Input'!Z464,'Data Input'!AA464,'Data Input'!AB464,'Data Input'!AC464,'Data Input'!AE464,'Data Input'!AF464,'Data Input'!AG464,'Data Input'!AI464,'Data Input'!AK464))","v":""},{"$f":"IF(I459=\"\",\"\",I459/COUNTIF('Data Input'!$C$8:$AK$8,\"C\"))","v":""},{"$f":"IF(ISBLANK('Data Input'!A464),\"\",SUM('Data Input'!T464,'Data Input'!U464))","v":""},{"$f":"IF(K459=\"\",\"\",K459/COUNTIF('Data Input'!$C$8:$AK$8,\"S\"))","v":""},{"$f":"IF(ISBLANK('Data Input'!A464),\"\",SUM('Data Input'!F464,'Data Input'!R464,'Data Input'!AJ464))","v":""},{"$f":"IF(M459=\"\",\"\",M459/COUNTIF('Data Input'!$C$8:$AK$8,\"F\"))","v":""},{"$f":"IF(ISBLANK('Data Input'!A464),\"\",SUM('Data Input'!E464,'Data Input'!M464,'Data Input'!Q464,'Data Input'!V464,'Data Input'!W464,'Data Input'!AD464,'Data Input'!AH464))","v":""},{"$f":"IF(O459=\"\",\"\",O459/COUNTIF('Data Input'!$C$8:$AK$8,\"M\"))","v":""},{"$f":"IF(ISBLANK('Data Input'!A464),\"\",SUM('Data Input'!H464,'Data Input'!K464,'Data Input'!P464,'Data Input'!Y464))","v":""},{"$f":"IF(Q459=\"\",\"\",Q459/COUNTIF('Data Input'!$C$8:$AK$8,\"G\"))","v":""}]
[{"$f":"IF('Data Input'!A465=0,\"\",'Data Input'!A465)","v":""},{"$f":"IF(ISBLANK('Data Input'!A465),\"\",COUNTIF('Data Input'!C465:AK465,\"\"))","v":""},{"$f":"IF(ISBLANK('Data Input'!A465),\"\",COUNTIF('Data Input'!C465:AK465,\"0\"))","v":""},{"$f":"IF(ISBLANK('Data Input'!A465),\"\",SUM(B460,C460))","v":""},{"$f":"IF(ISBLANK('Data Input'!A465),\"\",SUM('Data Input'!C465:AK465))","v":""},{"$f":"IF(E460=\"\",\"\",E460/(COUNTA('Data Input'!$C$8:$AK$8)))","v":""},{"$f":"IF(ISBLANK('Data Input'!A465),\"\",SUM('Data Input'!C465,'Data Input'!D465,'Data Input'!J465,'Data Input'!X465))","v":""},{"$f":"IF(G460=\"\",\"\",G460/COUNTIF('Data Input'!$C$8:$AK$8,\"N\"))","v":""},{"$f":"IF(ISBLANK('Data Input'!A465),\"\",SUM('Data Input'!G465,'Data Input'!I465,'Data Input'!L465,'Data Input'!N465,'Data Input'!O465,'Data Input'!S465,'Data Input'!Z465,'Data Input'!AA465,'Data Input'!AB465,'Data Input'!AC465,'Data Input'!AE465,'Data Input'!AF465,'Data Input'!AG465,'Data Input'!AI465,'Data Input'!AK465))","v":""},{"$f":"IF(I460=\"\",\"\",I460/COUNTIF('Data Input'!$C$8:$AK$8,\"C\"))","v":""},{"$f":"IF(ISBLANK('Data Input'!A465),\"\",SUM('Data Input'!T465,'Data Input'!U465))","v":""},{"$f":"IF(K460=\"\",\"\",K460/COUNTIF('Data Input'!$C$8:$AK$8,\"S\"))","v":""},{"$f":"IF(ISBLANK('Data Input'!A465),\"\",SUM('Data Input'!F465,'Data Input'!R465,'Data Input'!AJ465))","v":""},{"$f":"IF(M460=\"\",\"\",M460/COUNTIF('Data Input'!$C$8:$AK$8,\"F\"))","v":""},{"$f":"IF(ISBLANK('Data Input'!A465),\"\",SUM('Data Input'!E465,'Data Input'!M465,'Data Input'!Q465,'Data Input'!V465,'Data Input'!W465,'Data Input'!AD465,'Data Input'!AH465))","v":""},{"$f":"IF(O460=\"\",\"\",O460/COUNTIF('Data Input'!$C$8:$AK$8,\"M\"))","v":""},{"$f":"IF(ISBLANK('Data Input'!A465),\"\",SUM('Data Input'!H465,'Data Input'!K465,'Data Input'!P465,'Data Input'!Y465))","v":""},{"$f":"IF(Q460=\"\",\"\",Q460/COUNTIF('Data Input'!$C$8:$AK$8,\"G\"))","v":""}]
[{"$f":"IF('Data Input'!A466=0,\"\",'Data Input'!A466)","v":""},{"$f":"IF(ISBLANK('Data Input'!A466),\"\",COUNTIF('Data Input'!C466:AK466,\"\"))","v":""},{"$f":"IF(ISBLANK('Data Input'!A466),\"\",COUNTIF('Data Input'!C466:AK466,\"0\"))","v":""},{"$f":"IF(ISBLANK('Data Input'!A466),\"\",SUM(B461,C461))","v":""},{"$f":"IF(ISBLANK('Data Input'!A466),\"\",SUM('Data Input'!C466:AK466))","v":""},{"$f":"IF(E461=\"\",\"\",E461/(COUNTA('Data Input'!$C$8:$AK$8)))","v":""},{"$f":"IF(ISBLANK('Data Input'!A466),\"\",SUM('Data Input'!C466,'Data Input'!D466,'Data Input'!J466,'Data Input'!X466))","v":""},{"$f":"IF(G461=\"\",\"\",G461/COUNTIF('Data Input'!$C$8:$AK$8,\"N\"))","v":""},{"$f":"IF(ISBLANK('Data Input'!A466),\"\",SUM('Data Input'!G466,'Data Input'!I466,'Data Input'!L466,'Data Input'!N466,'Data Input'!O466,'Data Input'!S466,'Data Input'!Z466,'Data Input'!AA466,'Data Input'!AB466,'Data Input'!AC466,'Data Input'!AE466,'Data Input'!AF466,'Data Input'!AG466,'Data Input'!AI466,'Data Input'!AK466))","v":""},{"$f":"IF(I461=\"\",\"\",I461/COUNTIF('Data Input'!$C$8:$AK$8,\"C\"))","v":""},{"$f":"IF(ISBLANK('Data Input'!A466),\"\",SUM('Data Input'!T466,'Data Input'!U466))","v":""},{"$f":"IF(K461=\"\",\"\",K461/COUNTIF('Data Input'!$C$8:$AK$8,\"S\"))","v":""},{"$f":"IF(ISBLANK('Data Input'!A466),\"\",SUM('Data Input'!F466,'Data Input'!R466,'Data Input'!AJ466))","v":""},{"$f":"IF(M461=\"\",\"\",M461/COUNTIF('Data Input'!$C$8:$AK$8,\"F\"))","v":""},{"$f":"IF(ISBLANK('Data Input'!A466),\"\",SUM('Data Input'!E466,'Data Input'!M466,'Data Input'!Q466,'Data Input'!V466,'Data Input'!W466,'Data Input'!AD466,'Data Input'!AH466))","v":""},{"$f":"IF(O461=\"\",\"\",O461/COUNTIF('Data Input'!$C$8:$AK$8,\"M\"))","v":""},{"$f":"IF(ISBLANK('Data Input'!A466),\"\",SUM('Data Input'!H466,'Data Input'!K466,'Data Input'!P466,'Data Input'!Y466))","v":""},{"$f":"IF(Q461=\"\",\"\",Q461/COUNTIF('Data Input'!$C$8:$AK$8,\"G\"))","v":""}]
[{"$f":"IF('Data Input'!A467=0,\"\",'Data Input'!A467)","v":""},{"$f":"IF(ISBLANK('Data Input'!A467),\"\",COUNTIF('Data Input'!C467:AK467,\"\"))","v":""},{"$f":"IF(ISBLANK('Data Input'!A467),\"\",COUNTIF('Data Input'!C467:AK467,\"0\"))","v":""},{"$f":"IF(ISBLANK('Data Input'!A467),\"\",SUM(B462,C462))","v":""},{"$f":"IF(ISBLANK('Data Input'!A467),\"\",SUM('Data Input'!C467:AK467))","v":""},{"$f":"IF(E462=\"\",\"\",E462/(COUNTA('Data Input'!$C$8:$AK$8)))","v":""},{"$f":"IF(ISBLANK('Data Input'!A467),\"\",SUM('Data Input'!C467,'Data Input'!D467,'Data Input'!J467,'Data Input'!X467))","v":""},{"$f":"IF(G462=\"\",\"\",G462/COUNTIF('Data Input'!$C$8:$AK$8,\"N\"))","v":""},{"$f":"IF(ISBLANK('Data Input'!A467),\"\",SUM('Data Input'!G467,'Data Input'!I467,'Data Input'!L467,'Data Input'!N467,'Data Input'!O467,'Data Input'!S467,'Data Input'!Z467,'Data Input'!AA467,'Data Input'!AB467,'Data Input'!AC467,'Data Input'!AE467,'Data Input'!AF467,'Data Input'!AG467,'Data Input'!AI467,'Data Input'!AK467))","v":""},{"$f":"IF(I462=\"\",\"\",I462/COUNTIF('Data Input'!$C$8:$AK$8,\"C\"))","v":""},{"$f":"IF(ISBLANK('Data Input'!A467),\"\",SUM('Data Input'!T467,'Data Input'!U467))","v":""},{"$f":"IF(K462=\"\",\"\",K462/COUNTIF('Data Input'!$C$8:$AK$8,\"S\"))","v":""},{"$f":"IF(ISBLANK('Data Input'!A467),\"\",SUM('Data Input'!F467,'Data Input'!R467,'Data Input'!AJ467))","v":""},{"$f":"IF(M462=\"\",\"\",M462/COUNTIF('Data Input'!$C$8:$AK$8,\"F\"))","v":""},{"$f":"IF(ISBLANK('Data Input'!A467),\"\",SUM('Data Input'!E467,'Data Input'!M467,'Data Input'!Q467,'Data Input'!V467,'Data Input'!W467,'Data Input'!AD467,'Data Input'!AH467))","v":""},{"$f":"IF(O462=\"\",\"\",O462/COUNTIF('Data Input'!$C$8:$AK$8,\"M\"))","v":""},{"$f":"IF(ISBLANK('Data Input'!A467),\"\",SUM('Data Input'!H467,'Data Input'!K467,'Data Input'!P467,'Data Input'!Y467))","v":""},{"$f":"IF(Q462=\"\",\"\",Q462/COUNTIF('Data Input'!$C$8:$AK$8,\"G\"))","v":""}]
[{"$f":"IF('Data Input'!A468=0,\"\",'Data Input'!A468)","v":""},{"$f":"IF(ISBLANK('Data Input'!A468),\"\",COUNTIF('Data Input'!C468:AK468,\"\"))","v":""},{"$f":"IF(ISBLANK('Data Input'!A468),\"\",COUNTIF('Data Input'!C468:AK468,\"0\"))","v":""},{"$f":"IF(ISBLANK('Data Input'!A468),\"\",SUM(B463,C463))","v":""},{"$f":"IF(ISBLANK('Data Input'!A468),\"\",SUM('Data Input'!C468:AK468))","v":""},{"$f":"IF(E463=\"\",\"\",E463/(COUNTA('Data Input'!$C$8:$AK$8)))","v":""},{"$f":"IF(ISBLANK('Data Input'!A468),\"\",SUM('Data Input'!C468,'Data Input'!D468,'Data Input'!J468,'Data Input'!X468))","v":""},{"$f":"IF(G463=\"\",\"\",G463/COUNTIF('Data Input'!$C$8:$AK$8,\"N\"))","v":""},{"$f":"IF(ISBLANK('Data Input'!A468),\"\",SUM('Data Input'!G468,'Data Input'!I468,'Data Input'!L468,'Data Input'!N468,'Data Input'!O468,'Data Input'!S468,'Data Input'!Z468,'Data Input'!AA468,'Data Input'!AB468,'Data Input'!AC468,'Data Input'!AE468,'Data Input'!AF468,'Data Input'!AG468,'Data Input'!AI468,'Data Input'!AK468))","v":""},{"$f":"IF(I463=\"\",\"\",I463/COUNTIF('Data Input'!$C$8:$AK$8,\"C\"))","v":""},{"$f":"IF(ISBLANK('Data Input'!A468),\"\",SUM('Data Input'!T468,'Data Input'!U468))","v":""},{"$f":"IF(K463=\"\",\"\",K463/COUNTIF('Data Input'!$C$8:$AK$8,\"S\"))","v":""},{"$f":"IF(ISBLANK('Data Input'!A468),\"\",SUM('Data Input'!F468,'Data Input'!R468,'Data Input'!AJ468))","v":""},{"$f":"IF(M463=\"\",\"\",M463/COUNTIF('Data Input'!$C$8:$AK$8,\"F\"))","v":""},{"$f":"IF(ISBLANK('Data Input'!A468),\"\",SUM('Data Input'!E468,'Data Input'!M468,'Data Input'!Q468,'Data Input'!V468,'Data Input'!W468,'Data Input'!AD468,'Data Input'!AH468))","v":""},{"$f":"IF(O463=\"\",\"\",O463/COUNTIF('Data Input'!$C$8:$AK$8,\"M\"))","v":""},{"$f":"IF(ISBLANK('Data Input'!A468),\"\",SUM('Data Input'!H468,'Data Input'!K468,'Data Input'!P468,'Data Input'!Y468))","v":""},{"$f":"IF(Q463=\"\",\"\",Q463/COUNTIF('Data Input'!$C$8:$AK$8,\"G\"))","v":""}]
[{"$f":"IF('Data Input'!A469=0,\"\",'Data Input'!A469)","v":""},{"$f":"IF(ISBLANK('Data Input'!A469),\"\",COUNTIF('Data Input'!C469:AK469,\"\"))","v":""},{"$f":"IF(ISBLANK('Data Input'!A469),\"\",COUNTIF('Data Input'!C469:AK469,\"0\"))","v":""},{"$f":"IF(ISBLANK('Data Input'!A469),\"\",SUM(B464,C464))","v":""},{"$f":"IF(ISBLANK('Data Input'!A469),\"\",SUM('Data Input'!C469:AK469))","v":""},{"$f":"IF(E464=\"\",\"\",E464/(COUNTA('Data Input'!$C$8:$AK$8)))","v":""},{"$f":"IF(ISBLANK('Data Input'!A469),\"\",SUM('Data Input'!C469,'Data Input'!D469,'Data Input'!J469,'Data Input'!X469))","v":""},{"$f":"IF(G464=\"\",\"\",G464/COUNTIF('Data Input'!$C$8:$AK$8,\"N\"))","v":""},{"$f":"IF(ISBLANK('Data Input'!A469),\"\",SUM('Data Input'!G469,'Data Input'!I469,'Data Input'!L469,'Data Input'!N469,'Data Input'!O469,'Data Input'!S469,'Data Input'!Z469,'Data Input'!AA469,'Data Input'!AB469,'Data Input'!AC469,'Data Input'!AE469,'Data Input'!AF469,'Data Input'!AG469,'Data Input'!AI469,'Data Input'!AK469))","v":""},{"$f":"IF(I464=\"\",\"\",I464/COUNTIF('Data Input'!$C$8:$AK$8,\"C\"))","v":""},{"$f":"IF(ISBLANK('Data Input'!A469),\"\",SUM('Data Input'!T469,'Data Input'!U469))","v":""},{"$f":"IF(K464=\"\",\"\",K464/COUNTIF('Data Input'!$C$8:$AK$8,\"S\"))","v":""},{"$f":"IF(ISBLANK('Data Input'!A469),\"\",SUM('Data Input'!F469,'Data Input'!R469,'Data Input'!AJ469))","v":""},{"$f":"IF(M464=\"\",\"\",M464/COUNTIF('Data Input'!$C$8:$AK$8,\"F\"))","v":""},{"$f":"IF(ISBLANK('Data Input'!A469),\"\",SUM('Data Input'!E469,'Data Input'!M469,'Data Input'!Q469,'Data Input'!V469,'Data Input'!W469,'Data Input'!AD469,'Data Input'!AH469))","v":""},{"$f":"IF(O464=\"\",\"\",O464/COUNTIF('Data Input'!$C$8:$AK$8,\"M\"))","v":""},{"$f":"IF(ISBLANK('Data Input'!A469),\"\",SUM('Data Input'!H469,'Data Input'!K469,'Data Input'!P469,'Data Input'!Y469))","v":""},{"$f":"IF(Q464=\"\",\"\",Q464/COUNTIF('Data Input'!$C$8:$AK$8,\"G\"))","v":""}]
[{"$f":"IF('Data Input'!A470=0,\"\",'Data Input'!A470)","v":""},{"$f":"IF(ISBLANK('Data Input'!A470),\"\",COUNTIF('Data Input'!C470:AK470,\"\"))","v":""},{"$f":"IF(ISBLANK('Data Input'!A470),\"\",COUNTIF('Data Input'!C470:AK470,\"0\"))","v":""},{"$f":"IF(ISBLANK('Data Input'!A470),\"\",SUM(B465,C465))","v":""},{"$f":"IF(ISBLANK('Data Input'!A470),\"\",SUM('Data Input'!C470:AK470))","v":""},{"$f":"IF(E465=\"\",\"\",E465/(COUNTA('Data Input'!$C$8:$AK$8)))","v":""},{"$f":"IF(ISBLANK('Data Input'!A470),\"\",SUM('Data Input'!C470,'Data Input'!D470,'Data Input'!J470,'Data Input'!X470))","v":""},{"$f":"IF(G465=\"\",\"\",G465/COUNTIF('Data Input'!$C$8:$AK$8,\"N\"))","v":""},{"$f":"IF(ISBLANK('Data Input'!A470),\"\",SUM('Data Input'!G470,'Data Input'!I470,'Data Input'!L470,'Data Input'!N470,'Data Input'!O470,'Data Input'!S470,'Data Input'!Z470,'Data Input'!AA470,'Data Input'!AB470,'Data Input'!AC470,'Data Input'!AE470,'Data Input'!AF470,'Data Input'!AG470,'Data Input'!AI470,'Data Input'!AK470))","v":""},{"$f":"IF(I465=\"\",\"\",I465/COUNTIF('Data Input'!$C$8:$AK$8,\"C\"))","v":""},{"$f":"IF(ISBLANK('Data Input'!A470),\"\",SUM('Data Input'!T470,'Data Input'!U470))","v":""},{"$f":"IF(K465=\"\",\"\",K465/COUNTIF('Data Input'!$C$8:$AK$8,\"S\"))","v":""},{"$f":"IF(ISBLANK('Data Input'!A470),\"\",SUM('Data Input'!F470,'Data Input'!R470,'Data Input'!AJ470))","v":""},{"$f":"IF(M465=\"\",\"\",M465/COUNTIF('Data Input'!$C$8:$AK$8,\"F\"))","v":""},{"$f":"IF(ISBLANK('Data Input'!A470),\"\",SUM('Data Input'!E470,'Data Input'!M470,'Data Input'!Q470,'Data Input'!V470,'Data Input'!W470,'Data Input'!AD470,'Data Input'!AH470))","v":""},{"$f":"IF(O465=\"\",\"\",O465/COUNTIF('Data Input'!$C$8:$AK$8,\"M\"))","v":""},{"$f":"IF(ISBLANK('Data Input'!A470),\"\",SUM('Data Input'!H470,'Data Input'!K470,'Data Input'!P470,'Data Input'!Y470))","v":""},{"$f":"IF(Q465=\"\",\"\",Q465/COUNTIF('Data Input'!$C$8:$AK$8,\"G\"))","v":""}]
[{"$f":"IF('Data Input'!A471=0,\"\",'Data Input'!A471)","v":""},{"$f":"IF(ISBLANK('Data Input'!A471),\"\",COUNTIF('Data Input'!C471:AK471,\"\"))","v":""},{"$f":"IF(ISBLANK('Data Input'!A471),\"\",COUNTIF('Data Input'!C471:AK471,\"0\"))","v":""},{"$f":"IF(ISBLANK('Data Input'!A471),\"\",SUM(B466,C466))","v":""},{"$f":"IF(ISBLANK('Data Input'!A471),\"\",SUM('Data Input'!C471:AK471))","v":""},{"$f":"IF(E466=\"\",\"\",E466/(COUNTA('Data Input'!$C$8:$AK$8)))","v":""},{"$f":"IF(ISBLANK('Data Input'!A471),\"\",SUM('Data Input'!C471,'Data Input'!D471,'Data Input'!J471,'Data Input'!X471))","v":""},{"$f":"IF(G466=\"\",\"\",G466/COUNTIF('Data Input'!$C$8:$AK$8,\"N\"))","v":""},{"$f":"IF(ISBLANK('Data Input'!A471),\"\",SUM('Data Input'!G471,'Data Input'!I471,'Data Input'!L471,'Data Input'!N471,'Data Input'!O471,'Data Input'!S471,'Data Input'!Z471,'Data Input'!AA471,'Data Input'!AB471,'Data Input'!AC471,'Data Input'!AE471,'Data Input'!AF471,'Data Input'!AG471,'Data Input'!AI471,'Data Input'!AK471))","v":""},{"$f":"IF(I466=\"\",\"\",I466/COUNTIF('Data Input'!$C$8:$AK$8,\"C\"))","v":""},{"$f":"IF(ISBLANK('Data Input'!A471),\"\",SUM('Data Input'!T471,'Data Input'!U471))","v":""},{"$f":"IF(K466=\"\",\"\",K466/COUNTIF('Data Input'!$C$8:$AK$8,\"S\"))","v":""},{"$f":"IF(ISBLANK('Data Input'!A471),\"\",SUM('Data Input'!F471,'Data Input'!R471,'Data Input'!AJ471))","v":""},{"$f":"IF(M466=\"\",\"\",M466/COUNTIF('Data Input'!$C$8:$AK$8,\"F\"))","v":""},{"$f":"IF(ISBLANK('Data Input'!A471),\"\",SUM('Data Input'!E471,'Data Input'!M471,'Data Input'!Q471,'Data Input'!V471,'Data Input'!W471,'Data Input'!AD471,'Data Input'!AH471))","v":""},{"$f":"IF(O466=\"\",\"\",O466/COUNTIF('Data Input'!$C$8:$AK$8,\"M\"))","v":""},{"$f":"IF(ISBLANK('Data Input'!A471),\"\",SUM('Data Input'!H471,'Data Input'!K471,'Data Input'!P471,'Data Input'!Y471))","v":""},{"$f":"IF(Q466=\"\",\"\",Q466/COUNTIF('Data Input'!$C$8:$AK$8,\"G\"))","v":""}]
[{"$f":"IF('Data Input'!A472=0,\"\",'Data Input'!A472)","v":""},{"$f":"IF(ISBLANK('Data Input'!A472),\"\",COUNTIF('Data Input'!C472:AK472,\"\"))","v":""},{"$f":"IF(ISBLANK('Data Input'!A472),\"\",COUNTIF('Data Input'!C472:AK472,\"0\"))","v":""},{"$f":"IF(ISBLANK('Data Input'!A472),\"\",SUM(B467,C467))","v":""},{"$f":"IF(ISBLANK('Data Input'!A472),\"\",SUM('Data Input'!C472:AK472))","v":""},{"$f":"IF(E467=\"\",\"\",E467/(COUNTA('Data Input'!$C$8:$AK$8)))","v":""},{"$f":"IF(ISBLANK('Data Input'!A472),\"\",SUM('Data Input'!C472,'Data Input'!D472,'Data Input'!J472,'Data Input'!X472))","v":""},{"$f":"IF(G467=\"\",\"\",G467/COUNTIF('Data Input'!$C$8:$AK$8,\"N\"))","v":""},{"$f":"IF(ISBLANK('Data Input'!A472),\"\",SUM('Data Input'!G472,'Data Input'!I472,'Data Input'!L472,'Data Input'!N472,'Data Input'!O472,'Data Input'!S472,'Data Input'!Z472,'Data Input'!AA472,'Data Input'!AB472,'Data Input'!AC472,'Data Input'!AE472,'Data Input'!AF472,'Data Input'!AG472,'Data Input'!AI472,'Data Input'!AK472))","v":""},{"$f":"IF(I467=\"\",\"\",I467/COUNTIF('Data Input'!$C$8:$AK$8,\"C\"))","v":""},{"$f":"IF(ISBLANK('Data Input'!A472),\"\",SUM('Data Input'!T472,'Data Input'!U472))","v":""},{"$f":"IF(K467=\"\",\"\",K467/COUNTIF('Data Input'!$C$8:$AK$8,\"S\"))","v":""},{"$f":"IF(ISBLANK('Data Input'!A472),\"\",SUM('Data Input'!F472,'Data Input'!R472,'Data Input'!AJ472))","v":""},{"$f":"IF(M467=\"\",\"\",M467/COUNTIF('Data Input'!$C$8:$AK$8,\"F\"))","v":""},{"$f":"IF(ISBLANK('Data Input'!A472),\"\",SUM('Data Input'!E472,'Data Input'!M472,'Data Input'!Q472,'Data Input'!V472,'Data Input'!W472,'Data Input'!AD472,'Data Input'!AH472))","v":""},{"$f":"IF(O467=\"\",\"\",O467/COUNTIF('Data Input'!$C$8:$AK$8,\"M\"))","v":""},{"$f":"IF(ISBLANK('Data Input'!A472),\"\",SUM('Data Input'!H472,'Data Input'!K472,'Data Input'!P472,'Data Input'!Y472))","v":""},{"$f":"IF(Q467=\"\",\"\",Q467/COUNTIF('Data Input'!$C$8:$AK$8,\"G\"))","v":""}]
[{"$f":"IF('Data Input'!A473=0,\"\",'Data Input'!A473)","v":""},{"$f":"IF(ISBLANK('Data Input'!A473),\"\",COUNTIF('Data Input'!C473:AK473,\"\"))","v":""},{"$f":"IF(ISBLANK('Data Input'!A473),\"\",COUNTIF('Data Input'!C473:AK473,\"0\"))","v":""},{"$f":"IF(ISBLANK('Data Input'!A473),\"\",SUM(B468,C468))","v":""},{"$f":"IF(ISBLANK('Data Input'!A473),\"\",SUM('Data Input'!C473:AK473))","v":""},{"$f":"IF(E468=\"\",\"\",E468/(COUNTA('Data Input'!$C$8:$AK$8)))","v":""},{"$f":"IF(ISBLANK('Data Input'!A473),\"\",SUM('Data Input'!C473,'Data Input'!D473,'Data Input'!J473,'Data Input'!X473))","v":""},{"$f":"IF(G468=\"\",\"\",G468/COUNTIF('Data Input'!$C$8:$AK$8,\"N\"))","v":""},{"$f":"IF(ISBLANK('Data Input'!A473),\"\",SUM('Data Input'!G473,'Data Input'!I473,'Data Input'!L473,'Data Input'!N473,'Data Input'!O473,'Data Input'!S473,'Data Input'!Z473,'Data Input'!AA473,'Data Input'!AB473,'Data Input'!AC473,'Data Input'!AE473,'Data Input'!AF473,'Data Input'!AG473,'Data Input'!AI473,'Data Input'!AK473))","v":""},{"$f":"IF(I468=\"\",\"\",I468/COUNTIF('Data Input'!$C$8:$AK$8,\"C\"))","v":""},{"$f":"IF(ISBLANK('Data Input'!A473),\"\",SUM('Data Input'!T473,'Data Input'!U473))","v":""},{"$f":"IF(K468=\"\",\"\",K468/COUNTIF('Data Input'!$C$8:$AK$8,\"S\"))","v":""},{"$f":"IF(ISBLANK('Data Input'!A473),\"\",SUM('Data Input'!F473,'Data Input'!R473,'Data Input'!AJ473))","v":""},{"$f":"IF(M468=\"\",\"\",M468/COUNTIF('Data Input'!$C$8:$AK$8,\"F\"))","v":""},{"$f":"IF(ISBLANK('Data Input'!A473),\"\",SUM('Data Input'!E473,'Data Input'!M473,'Data Input'!Q473,'Data Input'!V473,'Data Input'!W473,'Data Input'!AD473,'Data Input'!AH473))","v":""},{"$f":"IF(O468=\"\",\"\",O468/COUNTIF('Data Input'!$C$8:$AK$8,\"M\"))","v":""},{"$f":"IF(ISBLANK('Data Input'!A473),\"\",SUM('Data Input'!H473,'Data Input'!K473,'Data Input'!P473,'Data Input'!Y473))","v":""},{"$f":"IF(Q468=\"\",\"\",Q468/COUNTIF('Data Input'!$C$8:$AK$8,\"G\"))","v":""}]
[{"$f":"IF('Data Input'!A474=0,\"\",'Data Input'!A474)","v":""},{"$f":"IF(ISBLANK('Data Input'!A474),\"\",COUNTIF('Data Input'!C474:AK474,\"\"))","v":""},{"$f":"IF(ISBLANK('Data Input'!A474),\"\",COUNTIF('Data Input'!C474:AK474,\"0\"))","v":""},{"$f":"IF(ISBLANK('Data Input'!A474),\"\",SUM(B469,C469))","v":""},{"$f":"IF(ISBLANK('Data Input'!A474),\"\",SUM('Data Input'!C474:AK474))","v":""},{"$f":"IF(E469=\"\",\"\",E469/(COUNTA('Data Input'!$C$8:$AK$8)))","v":""},{"$f":"IF(ISBLANK('Data Input'!A474),\"\",SUM('Data Input'!C474,'Data Input'!D474,'Data Input'!J474,'Data Input'!X474))","v":""},{"$f":"IF(G469=\"\",\"\",G469/COUNTIF('Data Input'!$C$8:$AK$8,\"N\"))","v":""},{"$f":"IF(ISBLANK('Data Input'!A474),\"\",SUM('Data Input'!G474,'Data Input'!I474,'Data Input'!L474,'Data Input'!N474,'Data Input'!O474,'Data Input'!S474,'Data Input'!Z474,'Data Input'!AA474,'Data Input'!AB474,'Data Input'!AC474,'Data Input'!AE474,'Data Input'!AF474,'Data Input'!AG474,'Data Input'!AI474,'Data Input'!AK474))","v":""},{"$f":"IF(I469=\"\",\"\",I469/COUNTIF('Data Input'!$C$8:$AK$8,\"C\"))","v":""},{"$f":"IF(ISBLANK('Data Input'!A474),\"\",SUM('Data Input'!T474,'Data Input'!U474))","v":""},{"$f":"IF(K469=\"\",\"\",K469/COUNTIF('Data Input'!$C$8:$AK$8,\"S\"))","v":""},{"$f":"IF(ISBLANK('Data Input'!A474),\"\",SUM('Data Input'!F474,'Data Input'!R474,'Data Input'!AJ474))","v":""},{"$f":"IF(M469=\"\",\"\",M469/COUNTIF('Data Input'!$C$8:$AK$8,\"F\"))","v":""},{"$f":"IF(ISBLANK('Data Input'!A474),\"\",SUM('Data Input'!E474,'Data Input'!M474,'Data Input'!Q474,'Data Input'!V474,'Data Input'!W474,'Data Input'!AD474,'Data Input'!AH474))","v":""},{"$f":"IF(O469=\"\",\"\",O469/COUNTIF('Data Input'!$C$8:$AK$8,\"M\"))","v":""},{"$f":"IF(ISBLANK('Data Input'!A474),\"\",SUM('Data Input'!H474,'Data Input'!K474,'Data Input'!P474,'Data Input'!Y474))","v":""},{"$f":"IF(Q469=\"\",\"\",Q469/COUNTIF('Data Input'!$C$8:$AK$8,\"G\"))","v":""}]
[{"$f":"IF('Data Input'!A475=0,\"\",'Data Input'!A475)","v":""},{"$f":"IF(ISBLANK('Data Input'!A475),\"\",COUNTIF('Data Input'!C475:AK475,\"\"))","v":""},{"$f":"IF(ISBLANK('Data Input'!A475),\"\",COUNTIF('Data Input'!C475:AK475,\"0\"))","v":""},{"$f":"IF(ISBLANK('Data Input'!A475),\"\",SUM(B470,C470))","v":""},{"$f":"IF(ISBLANK('Data Input'!A475),\"\",SUM('Data Input'!C475:AK475))","v":""},{"$f":"IF(E470=\"\",\"\",E470/(COUNTA('Data Input'!$C$8:$AK$8)))","v":""},{"$f":"IF(ISBLANK('Data Input'!A475),\"\",SUM('Data Input'!C475,'Data Input'!D475,'Data Input'!J475,'Data Input'!X475))","v":""},{"$f":"IF(G470=\"\",\"\",G470/COUNTIF('Data Input'!$C$8:$AK$8,\"N\"))","v":""},{"$f":"IF(ISBLANK('Data Input'!A475),\"\",SUM('Data Input'!G475,'Data Input'!I475,'Data Input'!L475,'Data Input'!N475,'Data Input'!O475,'Data Input'!S475,'Data Input'!Z475,'Data Input'!AA475,'Data Input'!AB475,'Data Input'!AC475,'Data Input'!AE475,'Data Input'!AF475,'Data Input'!AG475,'Data Input'!AI475,'Data Input'!AK475))","v":""},{"$f":"IF(I470=\"\",\"\",I470/COUNTIF('Data Input'!$C$8:$AK$8,\"C\"))","v":""},{"$f":"IF(ISBLANK('Data Input'!A475),\"\",SUM('Data Input'!T475,'Data Input'!U475))","v":""},{"$f":"IF(K470=\"\",\"\",K470/COUNTIF('Data Input'!$C$8:$AK$8,\"S\"))","v":""},{"$f":"IF(ISBLANK('Data Input'!A475),\"\",SUM('Data Input'!F475,'Data Input'!R475,'Data Input'!AJ475))","v":""},{"$f":"IF(M470=\"\",\"\",M470/COUNTIF('Data Input'!$C$8:$AK$8,\"F\"))","v":""},{"$f":"IF(ISBLANK('Data Input'!A475),\"\",SUM('Data Input'!E475,'Data Input'!M475,'Data Input'!Q475,'Data Input'!V475,'Data Input'!W475,'Data Input'!AD475,'Data Input'!AH475))","v":""},{"$f":"IF(O470=\"\",\"\",O470/COUNTIF('Data Input'!$C$8:$AK$8,\"M\"))","v":""},{"$f":"IF(ISBLANK('Data Input'!A475),\"\",SUM('Data Input'!H475,'Data Input'!K475,'Data Input'!P475,'Data Input'!Y475))","v":""},{"$f":"IF(Q470=\"\",\"\",Q470/COUNTIF('Data Input'!$C$8:$AK$8,\"G\"))","v":""}]
[{"$f":"IF('Data Input'!A476=0,\"\",'Data Input'!A476)","v":""},{"$f":"IF(ISBLANK('Data Input'!A476),\"\",COUNTIF('Data Input'!C476:AK476,\"\"))","v":""},{"$f":"IF(ISBLANK('Data Input'!A476),\"\",COUNTIF('Data Input'!C476:AK476,\"0\"))","v":""},{"$f":"IF(ISBLANK('Data Input'!A476),\"\",SUM(B471,C471))","v":""},{"$f":"IF(ISBLANK('Data Input'!A476),\"\",SUM('Data Input'!C476:AK476))","v":""},{"$f":"IF(E471=\"\",\"\",E471/(COUNTA('Data Input'!$C$8:$AK$8)))","v":""},{"$f":"IF(ISBLANK('Data Input'!A476),\"\",SUM('Data Input'!C476,'Data Input'!D476,'Data Input'!J476,'Data Input'!X476))","v":""},{"$f":"IF(G471=\"\",\"\",G471/COUNTIF('Data Input'!$C$8:$AK$8,\"N\"))","v":""},{"$f":"IF(ISBLANK('Data Input'!A476),\"\",SUM('Data Input'!G476,'Data Input'!I476,'Data Input'!L476,'Data Input'!N476,'Data Input'!O476,'Data Input'!S476,'Data Input'!Z476,'Data Input'!AA476,'Data Input'!AB476,'Data Input'!AC476,'Data Input'!AE476,'Data Input'!AF476,'Data Input'!AG476,'Data Input'!AI476,'Data Input'!AK476))","v":""},{"$f":"IF(I471=\"\",\"\",I471/COUNTIF('Data Input'!$C$8:$AK$8,\"C\"))","v":""},{"$f":"IF(ISBLANK('Data Input'!A476),\"\",SUM('Data Input'!T476,'Data Input'!U476))","v":""},{"$f":"IF(K471=\"\",\"\",K471/COUNTIF('Data Input'!$C$8:$AK$8,\"S\"))","v":""},{"$f":"IF(ISBLANK('Data Input'!A476),\"\",SUM('Data Input'!F476,'Data Input'!R476,'Data Input'!AJ476))","v":""},{"$f":"IF(M471=\"\",\"\",M471/COUNTIF('Data Input'!$C$8:$AK$8,\"F\"))","v":""},{"$f":"IF(ISBLANK('Data Input'!A476),\"\",SUM('Data Input'!E476,'Data Input'!M476,'Data Input'!Q476,'Data Input'!V476,'Data Input'!W476,'Data Input'!AD476,'Data Input'!AH476))","v":""},{"$f":"IF(O471=\"\",\"\",O471/COUNTIF('Data Input'!$C$8:$AK$8,\"M\"))","v":""},{"$f":"IF(ISBLANK('Data Input'!A476),\"\",SUM('Data Input'!H476,'Data Input'!K476,'Data Input'!P476,'Data Input'!Y476))","v":""},{"$f":"IF(Q471=\"\",\"\",Q471/COUNTIF('Data Input'!$C$8:$AK$8,\"G\"))","v":""}]
[{"$f":"IF('Data Input'!A477=0,\"\",'Data Input'!A477)","v":""},{"$f":"IF(ISBLANK('Data Input'!A477),\"\",COUNTIF('Data Input'!C477:AK477,\"\"))","v":""},{"$f":"IF(ISBLANK('Data Input'!A477),\"\",COUNTIF('Data Input'!C477:AK477,\"0\"))","v":""},{"$f":"IF(ISBLANK('Data Input'!A477),\"\",SUM(B472,C472))","v":""},{"$f":"IF(ISBLANK('Data Input'!A477),\"\",SUM('Data Input'!C477:AK477))","v":""},{"$f":"IF(E472=\"\",\"\",E472/(COUNTA('Data Input'!$C$8:$AK$8)))","v":""},{"$f":"IF(ISBLANK('Data Input'!A477),\"\",SUM('Data Input'!C477,'Data Input'!D477,'Data Input'!J477,'Data Input'!X477))","v":""},{"$f":"IF(G472=\"\",\"\",G472/COUNTIF('Data Input'!$C$8:$AK$8,\"N\"))","v":""},{"$f":"IF(ISBLANK('Data Input'!A477),\"\",SUM('Data Input'!G477,'Data Input'!I477,'Data Input'!L477,'Data Input'!N477,'Data Input'!O477,'Data Input'!S477,'Data Input'!Z477,'Data Input'!AA477,'Data Input'!AB477,'Data Input'!AC477,'Data Input'!AE477,'Data Input'!AF477,'Data Input'!AG477,'Data Input'!AI477,'Data Input'!AK477))","v":""},{"$f":"IF(I472=\"\",\"\",I472/COUNTIF('Data Input'!$C$8:$AK$8,\"C\"))","v":""},{"$f":"IF(ISBLANK('Data Input'!A477),\"\",SUM('Data Input'!T477,'Data Input'!U477))","v":""},{"$f":"IF(K472=\"\",\"\",K472/COUNTIF('Data Input'!$C$8:$AK$8,\"S\"))","v":""},{"$f":"IF(ISBLANK('Data Input'!A477),\"\",SUM('Data Input'!F477,'Data Input'!R477,'Data Input'!AJ477))","v":""},{"$f":"IF(M472=\"\",\"\",M472/COUNTIF('Data Input'!$C$8:$AK$8,\"F\"))","v":""},{"$f":"IF(ISBLANK('Data Input'!A477),\"\",SUM('Data Input'!E477,'Data Input'!M477,'Data Input'!Q477,'Data Input'!V477,'Data Input'!W477,'Data Input'!AD477,'Data Input'!AH477))","v":""},{"$f":"IF(O472=\"\",\"\",O472/COUNTIF('Data Input'!$C$8:$AK$8,\"M\"))","v":""},{"$f":"IF(ISBLANK('Data Input'!A477),\"\",SUM('Data Input'!H477,'Data Input'!K477,'Data Input'!P477,'Data Input'!Y477))","v":""},{"$f":"IF(Q472=\"\",\"\",Q472/COUNTIF('Data Input'!$C$8:$AK$8,\"G\"))","v":""}]
[{"$f":"IF('Data Input'!A478=0,\"\",'Data Input'!A478)","v":""},{"$f":"IF(ISBLANK('Data Input'!A478),\"\",COUNTIF('Data Input'!C478:AK478,\"\"))","v":""},{"$f":"IF(ISBLANK('Data Input'!A478),\"\",COUNTIF('Data Input'!C478:AK478,\"0\"))","v":""},{"$f":"IF(ISBLANK('Data Input'!A478),\"\",SUM(B473,C473))","v":""},{"$f":"IF(ISBLANK('Data Input'!A478),\"\",SUM('Data Input'!C478:AK478))","v":""},{"$f":"IF(E473=\"\",\"\",E473/(COUNTA('Data Input'!$C$8:$AK$8)))","v":""},{"$f":"IF(ISBLANK('Data Input'!A478),\"\",SUM('Data Input'!C478,'Data Input'!D478,'Data Input'!J478,'Data Input'!X478))","v":""},{"$f":"IF(G473=\"\",\"\",G473/COUNTIF('Data Input'!$C$8:$AK$8,\"N\"))","v":""},{"$f":"IF(ISBLANK('Data Input'!A478),\"\",SUM('Data Input'!G478,'Data Input'!I478,'Data Input'!L478,'Data Input'!N478,'Data Input'!O478,'Data Input'!S478,'Data Input'!Z478,'Data Input'!AA478,'Data Input'!AB478,'Data Input'!AC478,'Data Input'!AE478,'Data Input'!AF478,'Data Input'!AG478,'Data Input'!AI478,'Data Input'!AK478))","v":""},{"$f":"IF(I473=\"\",\"\",I473/COUNTIF('Data Input'!$C$8:$AK$8,\"C\"))","v":""},{"$f":"IF(ISBLANK('Data Input'!A478),\"\",SUM('Data Input'!T478,'Data Input'!U478))","v":""},{"$f":"IF(K473=\"\",\"\",K473/COUNTIF('Data Input'!$C$8:$AK$8,\"S\"))","v":""},{"$f":"IF(ISBLANK('Data Input'!A478),\"\",SUM('Data Input'!F478,'Data Input'!R478,'Data Input'!AJ478))","v":""},{"$f":"IF(M473=\"\",\"\",M473/COUNTIF('Data Input'!$C$8:$AK$8,\"F\"))","v":""},{"$f":"IF(ISBLANK('Data Input'!A478),\"\",SUM('Data Input'!E478,'Data Input'!M478,'Data Input'!Q478,'Data Input'!V478,'Data Input'!W478,'Data Input'!AD478,'Data Input'!AH478))","v":""},{"$f":"IF(O473=\"\",\"\",O473/COUNTIF('Data Input'!$C$8:$AK$8,\"M\"))","v":""},{"$f":"IF(ISBLANK('Data Input'!A478),\"\",SUM('Data Input'!H478,'Data Input'!K478,'Data Input'!P478,'Data Input'!Y478))","v":""},{"$f":"IF(Q473=\"\",\"\",Q473/COUNTIF('Data Input'!$C$8:$AK$8,\"G\"))","v":""}]
[{"$f":"IF('Data Input'!A479=0,\"\",'Data Input'!A479)","v":""},{"$f":"IF(ISBLANK('Data Input'!A479),\"\",COUNTIF('Data Input'!C479:AK479,\"\"))","v":""},{"$f":"IF(ISBLANK('Data Input'!A479),\"\",COUNTIF('Data Input'!C479:AK479,\"0\"))","v":""},{"$f":"IF(ISBLANK('Data Input'!A479),\"\",SUM(B474,C474))","v":""},{"$f":"IF(ISBLANK('Data Input'!A479),\"\",SUM('Data Input'!C479:AK479))","v":""},{"$f":"IF(E474=\"\",\"\",E474/(COUNTA('Data Input'!$C$8:$AK$8)))","v":""},{"$f":"IF(ISBLANK('Data Input'!A479),\"\",SUM('Data Input'!C479,'Data Input'!D479,'Data Input'!J479,'Data Input'!X479))","v":""},{"$f":"IF(G474=\"\",\"\",G474/COUNTIF('Data Input'!$C$8:$AK$8,\"N\"))","v":""},{"$f":"IF(ISBLANK('Data Input'!A479),\"\",SUM('Data Input'!G479,'Data Input'!I479,'Data Input'!L479,'Data Input'!N479,'Data Input'!O479,'Data Input'!S479,'Data Input'!Z479,'Data Input'!AA479,'Data Input'!AB479,'Data Input'!AC479,'Data Input'!AE479,'Data Input'!AF479,'Data Input'!AG479,'Data Input'!AI479,'Data Input'!AK479))","v":""},{"$f":"IF(I474=\"\",\"\",I474/COUNTIF('Data Input'!$C$8:$AK$8,\"C\"))","v":""},{"$f":"IF(ISBLANK('Data Input'!A479),\"\",SUM('Data Input'!T479,'Data Input'!U479))","v":""},{"$f":"IF(K474=\"\",\"\",K474/COUNTIF('Data Input'!$C$8:$AK$8,\"S\"))","v":""},{"$f":"IF(ISBLANK('Data Input'!A479),\"\",SUM('Data Input'!F479,'Data Input'!R479,'Data Input'!AJ479))","v":""},{"$f":"IF(M474=\"\",\"\",M474/COUNTIF('Data Input'!$C$8:$AK$8,\"F\"))","v":""},{"$f":"IF(ISBLANK('Data Input'!A479),\"\",SUM('Data Input'!E479,'Data Input'!M479,'Data Input'!Q479,'Data Input'!V479,'Data Input'!W479,'Data Input'!AD479,'Data Input'!AH479))","v":""},{"$f":"IF(O474=\"\",\"\",O474/COUNTIF('Data Input'!$C$8:$AK$8,\"M\"))","v":""},{"$f":"IF(ISBLANK('Data Input'!A479),\"\",SUM('Data Input'!H479,'Data Input'!K479,'Data Input'!P479,'Data Input'!Y479))","v":""},{"$f":"IF(Q474=\"\",\"\",Q474/COUNTIF('Data Input'!$C$8:$AK$8,\"G\"))","v":""}]
[{"$f":"IF('Data Input'!A480=0,\"\",'Data Input'!A480)","v":""},{"$f":"IF(ISBLANK('Data Input'!A480),\"\",COUNTIF('Data Input'!C480:AK480,\"\"))","v":""},{"$f":"IF(ISBLANK('Data Input'!A480),\"\",COUNTIF('Data Input'!C480:AK480,\"0\"))","v":""},{"$f":"IF(ISBLANK('Data Input'!A480),\"\",SUM(B475,C475))","v":""},{"$f":"IF(ISBLANK('Data Input'!A480),\"\",SUM('Data Input'!C480:AK480))","v":""},{"$f":"IF(E475=\"\",\"\",E475/(COUNTA('Data Input'!$C$8:$AK$8)))","v":""},{"$f":"IF(ISBLANK('Data Input'!A480),\"\",SUM('Data Input'!C480,'Data Input'!D480,'Data Input'!J480,'Data Input'!X480))","v":""},{"$f":"IF(G475=\"\",\"\",G475/COUNTIF('Data Input'!$C$8:$AK$8,\"N\"))","v":""},{"$f":"IF(ISBLANK('Data Input'!A480),\"\",SUM('Data Input'!G480,'Data Input'!I480,'Data Input'!L480,'Data Input'!N480,'Data Input'!O480,'Data Input'!S480,'Data Input'!Z480,'Data Input'!AA480,'Data Input'!AB480,'Data Input'!AC480,'Data Input'!AE480,'Data Input'!AF480,'Data Input'!AG480,'Data Input'!AI480,'Data Input'!AK480))","v":""},{"$f":"IF(I475=\"\",\"\",I475/COUNTIF('Data Input'!$C$8:$AK$8,\"C\"))","v":""},{"$f":"IF(ISBLANK('Data Input'!A480),\"\",SUM('Data Input'!T480,'Data Input'!U480))","v":""},{"$f":"IF(K475=\"\",\"\",K475/COUNTIF('Data Input'!$C$8:$AK$8,\"S\"))","v":""},{"$f":"IF(ISBLANK('Data Input'!A480),\"\",SUM('Data Input'!F480,'Data Input'!R480,'Data Input'!AJ480))","v":""},{"$f":"IF(M475=\"\",\"\",M475/COUNTIF('Data Input'!$C$8:$AK$8,\"F\"))","v":""},{"$f":"IF(ISBLANK('Data Input'!A480),\"\",SUM('Data Input'!E480,'Data Input'!M480,'Data Input'!Q480,'Data Input'!V480,'Data Input'!W480,'Data Input'!AD480,'Data Input'!AH480))","v":""},{"$f":"IF(O475=\"\",\"\",O475/COUNTIF('Data Input'!$C$8:$AK$8,\"M\"))","v":""},{"$f":"IF(ISBLANK('Data Input'!A480),\"\",SUM('Data Input'!H480,'Data Input'!K480,'Data Input'!P480,'Data Input'!Y480))","v":""},{"$f":"IF(Q475=\"\",\"\",Q475/COUNTIF('Data Input'!$C$8:$AK$8,\"G\"))","v":""}]
[{"$f":"IF('Data Input'!A481=0,\"\",'Data Input'!A481)","v":""},{"$f":"IF(ISBLANK('Data Input'!A481),\"\",COUNTIF('Data Input'!C481:AK481,\"\"))","v":""},{"$f":"IF(ISBLANK('Data Input'!A481),\"\",COUNTIF('Data Input'!C481:AK481,\"0\"))","v":""},{"$f":"IF(ISBLANK('Data Input'!A481),\"\",SUM(B476,C476))","v":""},{"$f":"IF(ISBLANK('Data Input'!A481),\"\",SUM('Data Input'!C481:AK481))","v":""},{"$f":"IF(E476=\"\",\"\",E476/(COUNTA('Data Input'!$C$8:$AK$8)))","v":""},{"$f":"IF(ISBLANK('Data Input'!A481),\"\",SUM('Data Input'!C481,'Data Input'!D481,'Data Input'!J481,'Data Input'!X481))","v":""},{"$f":"IF(G476=\"\",\"\",G476/COUNTIF('Data Input'!$C$8:$AK$8,\"N\"))","v":""},{"$f":"IF(ISBLANK('Data Input'!A481),\"\",SUM('Data Input'!G481,'Data Input'!I481,'Data Input'!L481,'Data Input'!N481,'Data Input'!O481,'Data Input'!S481,'Data Input'!Z481,'Data Input'!AA481,'Data Input'!AB481,'Data Input'!AC481,'Data Input'!AE481,'Data Input'!AF481,'Data Input'!AG481,'Data Input'!AI481,'Data Input'!AK481))","v":""},{"$f":"IF(I476=\"\",\"\",I476/COUNTIF('Data Input'!$C$8:$AK$8,\"C\"))","v":""},{"$f":"IF(ISBLANK('Data Input'!A481),\"\",SUM('Data Input'!T481,'Data Input'!U481))","v":""},{"$f":"IF(K476=\"\",\"\",K476/COUNTIF('Data Input'!$C$8:$AK$8,\"S\"))","v":""},{"$f":"IF(ISBLANK('Data Input'!A481),\"\",SUM('Data Input'!F481,'Data Input'!R481,'Data Input'!AJ481))","v":""},{"$f":"IF(M476=\"\",\"\",M476/COUNTIF('Data Input'!$C$8:$AK$8,\"F\"))","v":""},{"$f":"IF(ISBLANK('Data Input'!A481),\"\",SUM('Data Input'!E481,'Data Input'!M481,'Data Input'!Q481,'Data Input'!V481,'Data Input'!W481,'Data Input'!AD481,'Data Input'!AH481))","v":""},{"$f":"IF(O476=\"\",\"\",O476/COUNTIF('Data Input'!$C$8:$AK$8,\"M\"))","v":""},{"$f":"IF(ISBLANK('Data Input'!A481),\"\",SUM('Data Input'!H481,'Data Input'!K481,'Data Input'!P481,'Data Input'!Y481))","v":""},{"$f":"IF(Q476=\"\",\"\",Q476/COUNTIF('Data Input'!$C$8:$AK$8,\"G\"))","v":""}]
[{"$f":"IF('Data Input'!A482=0,\"\",'Data Input'!A482)","v":""},{"$f":"IF(ISBLANK('Data Input'!A482),\"\",COUNTIF('Data Input'!C482:AK482,\"\"))","v":""},{"$f":"IF(ISBLANK('Data Input'!A482),\"\",COUNTIF('Data Input'!C482:AK482,\"0\"))","v":""},{"$f":"IF(ISBLANK('Data Input'!A482),\"\",SUM(B477,C477))","v":""},{"$f":"IF(ISBLANK('Data Input'!A482),\"\",SUM('Data Input'!C482:AK482))","v":""},{"$f":"IF(E477=\"\",\"\",E477/(COUNTA('Data Input'!$C$8:$AK$8)))","v":""},{"$f":"IF(ISBLANK('Data Input'!A482),\"\",SUM('Data Input'!C482,'Data Input'!D482,'Data Input'!J482,'Data Input'!X482))","v":""},{"$f":"IF(G477=\"\",\"\",G477/COUNTIF('Data Input'!$C$8:$AK$8,\"N\"))","v":""},{"$f":"IF(ISBLANK('Data Input'!A482),\"\",SUM('Data Input'!G482,'Data Input'!I482,'Data Input'!L482,'Data Input'!N482,'Data Input'!O482,'Data Input'!S482,'Data Input'!Z482,'Data Input'!AA482,'Data Input'!AB482,'Data Input'!AC482,'Data Input'!AE482,'Data Input'!AF482,'Data Input'!AG482,'Data Input'!AI482,'Data Input'!AK482))","v":""},{"$f":"IF(I477=\"\",\"\",I477/COUNTIF('Data Input'!$C$8:$AK$8,\"C\"))","v":""},{"$f":"IF(ISBLANK('Data Input'!A482),\"\",SUM('Data Input'!T482,'Data Input'!U482))","v":""},{"$f":"IF(K477=\"\",\"\",K477/COUNTIF('Data Input'!$C$8:$AK$8,\"S\"))","v":""},{"$f":"IF(ISBLANK('Data Input'!A482),\"\",SUM('Data Input'!F482,'Data Input'!R482,'Data Input'!AJ482))","v":""},{"$f":"IF(M477=\"\",\"\",M477/COUNTIF('Data Input'!$C$8:$AK$8,\"F\"))","v":""},{"$f":"IF(ISBLANK('Data Input'!A482),\"\",SUM('Data Input'!E482,'Data Input'!M482,'Data Input'!Q482,'Data Input'!V482,'Data Input'!W482,'Data Input'!AD482,'Data Input'!AH482))","v":""},{"$f":"IF(O477=\"\",\"\",O477/COUNTIF('Data Input'!$C$8:$AK$8,\"M\"))","v":""},{"$f":"IF(ISBLANK('Data Input'!A482),\"\",SUM('Data Input'!H482,'Data Input'!K482,'Data Input'!P482,'Data Input'!Y482))","v":""},{"$f":"IF(Q477=\"\",\"\",Q477/COUNTIF('Data Input'!$C$8:$AK$8,\"G\"))","v":""}]
[{"$f":"IF('Data Input'!A483=0,\"\",'Data Input'!A483)","v":""},{"$f":"IF(ISBLANK('Data Input'!A483),\"\",COUNTIF('Data Input'!C483:AK483,\"\"))","v":""},{"$f":"IF(ISBLANK('Data Input'!A483),\"\",COUNTIF('Data Input'!C483:AK483,\"0\"))","v":""},{"$f":"IF(ISBLANK('Data Input'!A483),\"\",SUM(B478,C478))","v":""},{"$f":"IF(ISBLANK('Data Input'!A483),\"\",SUM('Data Input'!C483:AK483))","v":""},{"$f":"IF(E478=\"\",\"\",E478/(COUNTA('Data Input'!$C$8:$AK$8)))","v":""},{"$f":"IF(ISBLANK('Data Input'!A483),\"\",SUM('Data Input'!C483,'Data Input'!D483,'Data Input'!J483,'Data Input'!X483))","v":""},{"$f":"IF(G478=\"\",\"\",G478/COUNTIF('Data Input'!$C$8:$AK$8,\"N\"))","v":""},{"$f":"IF(ISBLANK('Data Input'!A483),\"\",SUM('Data Input'!G483,'Data Input'!I483,'Data Input'!L483,'Data Input'!N483,'Data Input'!O483,'Data Input'!S483,'Data Input'!Z483,'Data Input'!AA483,'Data Input'!AB483,'Data Input'!AC483,'Data Input'!AE483,'Data Input'!AF483,'Data Input'!AG483,'Data Input'!AI483,'Data Input'!AK483))","v":""},{"$f":"IF(I478=\"\",\"\",I478/COUNTIF('Data Input'!$C$8:$AK$8,\"C\"))","v":""},{"$f":"IF(ISBLANK('Data Input'!A483),\"\",SUM('Data Input'!T483,'Data Input'!U483))","v":""},{"$f":"IF(K478=\"\",\"\",K478/COUNTIF('Data Input'!$C$8:$AK$8,\"S\"))","v":""},{"$f":"IF(ISBLANK('Data Input'!A483),\"\",SUM('Data Input'!F483,'Data Input'!R483,'Data Input'!AJ483))","v":""},{"$f":"IF(M478=\"\",\"\",M478/COUNTIF('Data Input'!$C$8:$AK$8,\"F\"))","v":""},{"$f":"IF(ISBLANK('Data Input'!A483),\"\",SUM('Data Input'!E483,'Data Input'!M483,'Data Input'!Q483,'Data Input'!V483,'Data Input'!W483,'Data Input'!AD483,'Data Input'!AH483))","v":""},{"$f":"IF(O478=\"\",\"\",O478/COUNTIF('Data Input'!$C$8:$AK$8,\"M\"))","v":""},{"$f":"IF(ISBLANK('Data Input'!A483),\"\",SUM('Data Input'!H483,'Data Input'!K483,'Data Input'!P483,'Data Input'!Y483))","v":""},{"$f":"IF(Q478=\"\",\"\",Q478/COUNTIF('Data Input'!$C$8:$AK$8,\"G\"))","v":""}]
[{"$f":"IF('Data Input'!A484=0,\"\",'Data Input'!A484)","v":""},{"$f":"IF(ISBLANK('Data Input'!A484),\"\",COUNTIF('Data Input'!C484:AK484,\"\"))","v":""},{"$f":"IF(ISBLANK('Data Input'!A484),\"\",COUNTIF('Data Input'!C484:AK484,\"0\"))","v":""},{"$f":"IF(ISBLANK('Data Input'!A484),\"\",SUM(B479,C479))","v":""},{"$f":"IF(ISBLANK('Data Input'!A484),\"\",SUM('Data Input'!C484:AK484))","v":""},{"$f":"IF(E479=\"\",\"\",E479/(COUNTA('Data Input'!$C$8:$AK$8)))","v":""},{"$f":"IF(ISBLANK('Data Input'!A484),\"\",SUM('Data Input'!C484,'Data Input'!D484,'Data Input'!J484,'Data Input'!X484))","v":""},{"$f":"IF(G479=\"\",\"\",G479/COUNTIF('Data Input'!$C$8:$AK$8,\"N\"))","v":""},{"$f":"IF(ISBLANK('Data Input'!A484),\"\",SUM('Data Input'!G484,'Data Input'!I484,'Data Input'!L484,'Data Input'!N484,'Data Input'!O484,'Data Input'!S484,'Data Input'!Z484,'Data Input'!AA484,'Data Input'!AB484,'Data Input'!AC484,'Data Input'!AE484,'Data Input'!AF484,'Data Input'!AG484,'Data Input'!AI484,'Data Input'!AK484))","v":""},{"$f":"IF(I479=\"\",\"\",I479/COUNTIF('Data Input'!$C$8:$AK$8,\"C\"))","v":""},{"$f":"IF(ISBLANK('Data Input'!A484),\"\",SUM('Data Input'!T484,'Data Input'!U484))","v":""},{"$f":"IF(K479=\"\",\"\",K479/COUNTIF('Data Input'!$C$8:$AK$8,\"S\"))","v":""},{"$f":"IF(ISBLANK('Data Input'!A484),\"\",SUM('Data Input'!F484,'Data Input'!R484,'Data Input'!AJ484))","v":""},{"$f":"IF(M479=\"\",\"\",M479/COUNTIF('Data Input'!$C$8:$AK$8,\"F\"))","v":""},{"$f":"IF(ISBLANK('Data Input'!A484),\"\",SUM('Data Input'!E484,'Data Input'!M484,'Data Input'!Q484,'Data Input'!V484,'Data Input'!W484,'Data Input'!AD484,'Data Input'!AH484))","v":""},{"$f":"IF(O479=\"\",\"\",O479/COUNTIF('Data Input'!$C$8:$AK$8,\"M\"))","v":""},{"$f":"IF(ISBLANK('Data Input'!A484),\"\",SUM('Data Input'!H484,'Data Input'!K484,'Data Input'!P484,'Data Input'!Y484))","v":""},{"$f":"IF(Q479=\"\",\"\",Q479/COUNTIF('Data Input'!$C$8:$AK$8,\"G\"))","v":""}]
[{"$f":"IF('Data Input'!A485=0,\"\",'Data Input'!A485)","v":""},{"$f":"IF(ISBLANK('Data Input'!A485),\"\",COUNTIF('Data Input'!C485:AK485,\"\"))","v":""},{"$f":"IF(ISBLANK('Data Input'!A485),\"\",COUNTIF('Data Input'!C485:AK485,\"0\"))","v":""},{"$f":"IF(ISBLANK('Data Input'!A485),\"\",SUM(B480,C480))","v":""},{"$f":"IF(ISBLANK('Data Input'!A485),\"\",SUM('Data Input'!C485:AK485))","v":""},{"$f":"IF(E480=\"\",\"\",E480/(COUNTA('Data Input'!$C$8:$AK$8)))","v":""},{"$f":"IF(ISBLANK('Data Input'!A485),\"\",SUM('Data Input'!C485,'Data Input'!D485,'Data Input'!J485,'Data Input'!X485))","v":""},{"$f":"IF(G480=\"\",\"\",G480/COUNTIF('Data Input'!$C$8:$AK$8,\"N\"))","v":""},{"$f":"IF(ISBLANK('Data Input'!A485),\"\",SUM('Data Input'!G485,'Data Input'!I485,'Data Input'!L485,'Data Input'!N485,'Data Input'!O485,'Data Input'!S485,'Data Input'!Z485,'Data Input'!AA485,'Data Input'!AB485,'Data Input'!AC485,'Data Input'!AE485,'Data Input'!AF485,'Data Input'!AG485,'Data Input'!AI485,'Data Input'!AK485))","v":""},{"$f":"IF(I480=\"\",\"\",I480/COUNTIF('Data Input'!$C$8:$AK$8,\"C\"))","v":""},{"$f":"IF(ISBLANK('Data Input'!A485),\"\",SUM('Data Input'!T485,'Data Input'!U485))","v":""},{"$f":"IF(K480=\"\",\"\",K480/COUNTIF('Data Input'!$C$8:$AK$8,\"S\"))","v":""},{"$f":"IF(ISBLANK('Data Input'!A485),\"\",SUM('Data Input'!F485,'Data Input'!R485,'Data Input'!AJ485))","v":""},{"$f":"IF(M480=\"\",\"\",M480/COUNTIF('Data Input'!$C$8:$AK$8,\"F\"))","v":""},{"$f":"IF(ISBLANK('Data Input'!A485),\"\",SUM('Data Input'!E485,'Data Input'!M485,'Data Input'!Q485,'Data Input'!V485,'Data Input'!W485,'Data Input'!AD485,'Data Input'!AH485))","v":""},{"$f":"IF(O480=\"\",\"\",O480/COUNTIF('Data Input'!$C$8:$AK$8,\"M\"))","v":""},{"$f":"IF(ISBLANK('Data Input'!A485),\"\",SUM('Data Input'!H485,'Data Input'!K485,'Data Input'!P485,'Data Input'!Y485))","v":""},{"$f":"IF(Q480=\"\",\"\",Q480/COUNTIF('Data Input'!$C$8:$AK$8,\"G\"))","v":""}]
[{"$f":"IF('Data Input'!A486=0,\"\",'Data Input'!A486)","v":""},{"$f":"IF(ISBLANK('Data Input'!A486),\"\",COUNTIF('Data Input'!C486:AK486,\"\"))","v":""},{"$f":"IF(ISBLANK('Data Input'!A486),\"\",COUNTIF('Data Input'!C486:AK486,\"0\"))","v":""},{"$f":"IF(ISBLANK('Data Input'!A486),\"\",SUM(B481,C481))","v":""},{"$f":"IF(ISBLANK('Data Input'!A486),\"\",SUM('Data Input'!C486:AK486))","v":""},{"$f":"IF(E481=\"\",\"\",E481/(COUNTA('Data Input'!$C$8:$AK$8)))","v":""},{"$f":"IF(ISBLANK('Data Input'!A486),\"\",SUM('Data Input'!C486,'Data Input'!D486,'Data Input'!J486,'Data Input'!X486))","v":""},{"$f":"IF(G481=\"\",\"\",G481/COUNTIF('Data Input'!$C$8:$AK$8,\"N\"))","v":""},{"$f":"IF(ISBLANK('Data Input'!A486),\"\",SUM('Data Input'!G486,'Data Input'!I486,'Data Input'!L486,'Data Input'!N486,'Data Input'!O486,'Data Input'!S486,'Data Input'!Z486,'Data Input'!AA486,'Data Input'!AB486,'Data Input'!AC486,'Data Input'!AE486,'Data Input'!AF486,'Data Input'!AG486,'Data Input'!AI486,'Data Input'!AK486))","v":""},{"$f":"IF(I481=\"\",\"\",I481/COUNTIF('Data Input'!$C$8:$AK$8,\"C\"))","v":""},{"$f":"IF(ISBLANK('Data Input'!A486),\"\",SUM('Data Input'!T486,'Data Input'!U486))","v":""},{"$f":"IF(K481=\"\",\"\",K481/COUNTIF('Data Input'!$C$8:$AK$8,\"S\"))","v":""},{"$f":"IF(ISBLANK('Data Input'!A486),\"\",SUM('Data Input'!F486,'Data Input'!R486,'Data Input'!AJ486))","v":""},{"$f":"IF(M481=\"\",\"\",M481/COUNTIF('Data Input'!$C$8:$AK$8,\"F\"))","v":""},{"$f":"IF(ISBLANK('Data Input'!A486),\"\",SUM('Data Input'!E486,'Data Input'!M486,'Data Input'!Q486,'Data Input'!V486,'Data Input'!W486,'Data Input'!AD486,'Data Input'!AH486))","v":""},{"$f":"IF(O481=\"\",\"\",O481/COUNTIF('Data Input'!$C$8:$AK$8,\"M\"))","v":""},{"$f":"IF(ISBLANK('Data Input'!A486),\"\",SUM('Data Input'!H486,'Data Input'!K486,'Data Input'!P486,'Data Input'!Y486))","v":""},{"$f":"IF(Q481=\"\",\"\",Q481/COUNTIF('Data Input'!$C$8:$AK$8,\"G\"))","v":""}]
[{"$f":"IF('Data Input'!A487=0,\"\",'Data Input'!A487)","v":""},{"$f":"IF(ISBLANK('Data Input'!A487),\"\",COUNTIF('Data Input'!C487:AK487,\"\"))","v":""},{"$f":"IF(ISBLANK('Data Input'!A487),\"\",COUNTIF('Data Input'!C487:AK487,\"0\"))","v":""},{"$f":"IF(ISBLANK('Data Input'!A487),\"\",SUM(B482,C482))","v":""},{"$f":"IF(ISBLANK('Data Input'!A487),\"\",SUM('Data Input'!C487:AK487))","v":""},{"$f":"IF(E482=\"\",\"\",E482/(COUNTA('Data Input'!$C$8:$AK$8)))","v":""},{"$f":"IF(ISBLANK('Data Input'!A487),\"\",SUM('Data Input'!C487,'Data Input'!D487,'Data Input'!J487,'Data Input'!X487))","v":""},{"$f":"IF(G482=\"\",\"\",G482/COUNTIF('Data Input'!$C$8:$AK$8,\"N\"))","v":""},{"$f":"IF(ISBLANK('Data Input'!A487),\"\",SUM('Data Input'!G487,'Data Input'!I487,'Data Input'!L487,'Data Input'!N487,'Data Input'!O487,'Data Input'!S487,'Data Input'!Z487,'Data Input'!AA487,'Data Input'!AB487,'Data Input'!AC487,'Data Input'!AE487,'Data Input'!AF487,'Data Input'!AG487,'Data Input'!AI487,'Data Input'!AK487))","v":""},{"$f":"IF(I482=\"\",\"\",I482/COUNTIF('Data Input'!$C$8:$AK$8,\"C\"))","v":""},{"$f":"IF(ISBLANK('Data Input'!A487),\"\",SUM('Data Input'!T487,'Data Input'!U487))","v":""},{"$f":"IF(K482=\"\",\"\",K482/COUNTIF('Data Input'!$C$8:$AK$8,\"S\"))","v":""},{"$f":"IF(ISBLANK('Data Input'!A487),\"\",SUM('Data Input'!F487,'Data Input'!R487,'Data Input'!AJ487))","v":""},{"$f":"IF(M482=\"\",\"\",M482/COUNTIF('Data Input'!$C$8:$AK$8,\"F\"))","v":""},{"$f":"IF(ISBLANK('Data Input'!A487),\"\",SUM('Data Input'!E487,'Data Input'!M487,'Data Input'!Q487,'Data Input'!V487,'Data Input'!W487,'Data Input'!AD487,'Data Input'!AH487))","v":""},{"$f":"IF(O482=\"\",\"\",O482/COUNTIF('Data Input'!$C$8:$AK$8,\"M\"))","v":""},{"$f":"IF(ISBLANK('Data Input'!A487),\"\",SUM('Data Input'!H487,'Data Input'!K487,'Data Input'!P487,'Data Input'!Y487))","v":""},{"$f":"IF(Q482=\"\",\"\",Q482/COUNTIF('Data Input'!$C$8:$AK$8,\"G\"))","v":""}]
[{"$f":"IF('Data Input'!A488=0,\"\",'Data Input'!A488)","v":""},{"$f":"IF(ISBLANK('Data Input'!A488),\"\",COUNTIF('Data Input'!C488:AK488,\"\"))","v":""},{"$f":"IF(ISBLANK('Data Input'!A488),\"\",COUNTIF('Data Input'!C488:AK488,\"0\"))","v":""},{"$f":"IF(ISBLANK('Data Input'!A488),\"\",SUM(B483,C483))","v":""},{"$f":"IF(ISBLANK('Data Input'!A488),\"\",SUM('Data Input'!C488:AK488))","v":""},{"$f":"IF(E483=\"\",\"\",E483/(COUNTA('Data Input'!$C$8:$AK$8)))","v":""},{"$f":"IF(ISBLANK('Data Input'!A488),\"\",SUM('Data Input'!C488,'Data Input'!D488,'Data Input'!J488,'Data Input'!X488))","v":""},{"$f":"IF(G483=\"\",\"\",G483/COUNTIF('Data Input'!$C$8:$AK$8,\"N\"))","v":""},{"$f":"IF(ISBLANK('Data Input'!A488),\"\",SUM('Data Input'!G488,'Data Input'!I488,'Data Input'!L488,'Data Input'!N488,'Data Input'!O488,'Data Input'!S488,'Data Input'!Z488,'Data Input'!AA488,'Data Input'!AB488,'Data Input'!AC488,'Data Input'!AE488,'Data Input'!AF488,'Data Input'!AG488,'Data Input'!AI488,'Data Input'!AK488))","v":""},{"$f":"IF(I483=\"\",\"\",I483/COUNTIF('Data Input'!$C$8:$AK$8,\"C\"))","v":""},{"$f":"IF(ISBLANK('Data Input'!A488),\"\",SUM('Data Input'!T488,'Data Input'!U488))","v":""},{"$f":"IF(K483=\"\",\"\",K483/COUNTIF('Data Input'!$C$8:$AK$8,\"S\"))","v":""},{"$f":"IF(ISBLANK('Data Input'!A488),\"\",SUM('Data Input'!F488,'Data Input'!R488,'Data Input'!AJ488))","v":""},{"$f":"IF(M483=\"\",\"\",M483/COUNTIF('Data Input'!$C$8:$AK$8,\"F\"))","v":""},{"$f":"IF(ISBLANK('Data Input'!A488),\"\",SUM('Data Input'!E488,'Data Input'!M488,'Data Input'!Q488,'Data Input'!V488,'Data Input'!W488,'Data Input'!AD488,'Data Input'!AH488))","v":""},{"$f":"IF(O483=\"\",\"\",O483/COUNTIF('Data Input'!$C$8:$AK$8,\"M\"))","v":""},{"$f":"IF(ISBLANK('Data Input'!A488),\"\",SUM('Data Input'!H488,'Data Input'!K488,'Data Input'!P488,'Data Input'!Y488))","v":""},{"$f":"IF(Q483=\"\",\"\",Q483/COUNTIF('Data Input'!$C$8:$AK$8,\"G\"))","v":""}]
[{"$f":"IF('Data Input'!A489=0,\"\",'Data Input'!A489)","v":""},{"$f":"IF(ISBLANK('Data Input'!A489),\"\",COUNTIF('Data Input'!C489:AK489,\"\"))","v":""},{"$f":"IF(ISBLANK('Data Input'!A489),\"\",COUNTIF('Data Input'!C489:AK489,\"0\"))","v":""},{"$f":"IF(ISBLANK('Data Input'!A489),\"\",SUM(B484,C484))","v":""},{"$f":"IF(ISBLANK('Data Input'!A489),\"\",SUM('Data Input'!C489:AK489))","v":""},{"$f":"IF(E484=\"\",\"\",E484/(COUNTA('Data Input'!$C$8:$AK$8)))","v":""},{"$f":"IF(ISBLANK('Data Input'!A489),\"\",SUM('Data Input'!C489,'Data Input'!D489,'Data Input'!J489,'Data Input'!X489))","v":""},{"$f":"IF(G484=\"\",\"\",G484/COUNTIF('Data Input'!$C$8:$AK$8,\"N\"))","v":""},{"$f":"IF(ISBLANK('Data Input'!A489),\"\",SUM('Data Input'!G489,'Data Input'!I489,'Data Input'!L489,'Data Input'!N489,'Data Input'!O489,'Data Input'!S489,'Data Input'!Z489,'Data Input'!AA489,'Data Input'!AB489,'Data Input'!AC489,'Data Input'!AE489,'Data Input'!AF489,'Data Input'!AG489,'Data Input'!AI489,'Data Input'!AK489))","v":""},{"$f":"IF(I484=\"\",\"\",I484/COUNTIF('Data Input'!$C$8:$AK$8,\"C\"))","v":""},{"$f":"IF(ISBLANK('Data Input'!A489),\"\",SUM('Data Input'!T489,'Data Input'!U489))","v":""},{"$f":"IF(K484=\"\",\"\",K484/COUNTIF('Data Input'!$C$8:$AK$8,\"S\"))","v":""},{"$f":"IF(ISBLANK('Data Input'!A489),\"\",SUM('Data Input'!F489,'Data Input'!R489,'Data Input'!AJ489))","v":""},{"$f":"IF(M484=\"\",\"\",M484/COUNTIF('Data Input'!$C$8:$AK$8,\"F\"))","v":""},{"$f":"IF(ISBLANK('Data Input'!A489),\"\",SUM('Data Input'!E489,'Data Input'!M489,'Data Input'!Q489,'Data Input'!V489,'Data Input'!W489,'Data Input'!AD489,'Data Input'!AH489))","v":""},{"$f":"IF(O484=\"\",\"\",O484/COUNTIF('Data Input'!$C$8:$AK$8,\"M\"))","v":""},{"$f":"IF(ISBLANK('Data Input'!A489),\"\",SUM('Data Input'!H489,'Data Input'!K489,'Data Input'!P489,'Data Input'!Y489))","v":""},{"$f":"IF(Q484=\"\",\"\",Q484/COUNTIF('Data Input'!$C$8:$AK$8,\"G\"))","v":""}]
[{"$f":"IF('Data Input'!A490=0,\"\",'Data Input'!A490)","v":""},{"$f":"IF(ISBLANK('Data Input'!A490),\"\",COUNTIF('Data Input'!C490:AK490,\"\"))","v":""},{"$f":"IF(ISBLANK('Data Input'!A490),\"\",COUNTIF('Data Input'!C490:AK490,\"0\"))","v":""},{"$f":"IF(ISBLANK('Data Input'!A490),\"\",SUM(B485,C485))","v":""},{"$f":"IF(ISBLANK('Data Input'!A490),\"\",SUM('Data Input'!C490:AK490))","v":""},{"$f":"IF(E485=\"\",\"\",E485/(COUNTA('Data Input'!$C$8:$AK$8)))","v":""},{"$f":"IF(ISBLANK('Data Input'!A490),\"\",SUM('Data Input'!C490,'Data Input'!D490,'Data Input'!J490,'Data Input'!X490))","v":""},{"$f":"IF(G485=\"\",\"\",G485/COUNTIF('Data Input'!$C$8:$AK$8,\"N\"))","v":""},{"$f":"IF(ISBLANK('Data Input'!A490),\"\",SUM('Data Input'!G490,'Data Input'!I490,'Data Input'!L490,'Data Input'!N490,'Data Input'!O490,'Data Input'!S490,'Data Input'!Z490,'Data Input'!AA490,'Data Input'!AB490,'Data Input'!AC490,'Data Input'!AE490,'Data Input'!AF490,'Data Input'!AG490,'Data Input'!AI490,'Data Input'!AK490))","v":""},{"$f":"IF(I485=\"\",\"\",I485/COUNTIF('Data Input'!$C$8:$AK$8,\"C\"))","v":""},{"$f":"IF(ISBLANK('Data Input'!A490),\"\",SUM('Data Input'!T490,'Data Input'!U490))","v":""},{"$f":"IF(K485=\"\",\"\",K485/COUNTIF('Data Input'!$C$8:$AK$8,\"S\"))","v":""},{"$f":"IF(ISBLANK('Data Input'!A490),\"\",SUM('Data Input'!F490,'Data Input'!R490,'Data Input'!AJ490))","v":""},{"$f":"IF(M485=\"\",\"\",M485/COUNTIF('Data Input'!$C$8:$AK$8,\"F\"))","v":""},{"$f":"IF(ISBLANK('Data Input'!A490),\"\",SUM('Data Input'!E490,'Data Input'!M490,'Data Input'!Q490,'Data Input'!V490,'Data Input'!W490,'Data Input'!AD490,'Data Input'!AH490))","v":""},{"$f":"IF(O485=\"\",\"\",O485/COUNTIF('Data Input'!$C$8:$AK$8,\"M\"))","v":""},{"$f":"IF(ISBLANK('Data Input'!A490),\"\",SUM('Data Input'!H490,'Data Input'!K490,'Data Input'!P490,'Data Input'!Y490))","v":""},{"$f":"IF(Q485=\"\",\"\",Q485/COUNTIF('Data Input'!$C$8:$AK$8,\"G\"))","v":""}]
[{"$f":"IF('Data Input'!A491=0,\"\",'Data Input'!A491)","v":""},{"$f":"IF(ISBLANK('Data Input'!A491),\"\",COUNTIF('Data Input'!C491:AK491,\"\"))","v":""},{"$f":"IF(ISBLANK('Data Input'!A491),\"\",COUNTIF('Data Input'!C491:AK491,\"0\"))","v":""},{"$f":"IF(ISBLANK('Data Input'!A491),\"\",SUM(B486,C486))","v":""},{"$f":"IF(ISBLANK('Data Input'!A491),\"\",SUM('Data Input'!C491:AK491))","v":""},{"$f":"IF(E486=\"\",\"\",E486/(COUNTA('Data Input'!$C$8:$AK$8)))","v":""},{"$f":"IF(ISBLANK('Data Input'!A491),\"\",SUM('Data Input'!C491,'Data Input'!D491,'Data Input'!J491,'Data Input'!X491))","v":""},{"$f":"IF(G486=\"\",\"\",G486/COUNTIF('Data Input'!$C$8:$AK$8,\"N\"))","v":""},{"$f":"IF(ISBLANK('Data Input'!A491),\"\",SUM('Data Input'!G491,'Data Input'!I491,'Data Input'!L491,'Data Input'!N491,'Data Input'!O491,'Data Input'!S491,'Data Input'!Z491,'Data Input'!AA491,'Data Input'!AB491,'Data Input'!AC491,'Data Input'!AE491,'Data Input'!AF491,'Data Input'!AG491,'Data Input'!AI491,'Data Input'!AK491))","v":""},{"$f":"IF(I486=\"\",\"\",I486/COUNTIF('Data Input'!$C$8:$AK$8,\"C\"))","v":""},{"$f":"IF(ISBLANK('Data Input'!A491),\"\",SUM('Data Input'!T491,'Data Input'!U491))","v":""},{"$f":"IF(K486=\"\",\"\",K486/COUNTIF('Data Input'!$C$8:$AK$8,\"S\"))","v":""},{"$f":"IF(ISBLANK('Data Input'!A491),\"\",SUM('Data Input'!F491,'Data Input'!R491,'Data Input'!AJ491))","v":""},{"$f":"IF(M486=\"\",\"\",M486/COUNTIF('Data Input'!$C$8:$AK$8,\"F\"))","v":""},{"$f":"IF(ISBLANK('Data Input'!A491),\"\",SUM('Data Input'!E491,'Data Input'!M491,'Data Input'!Q491,'Data Input'!V491,'Data Input'!W491,'Data Input'!AD491,'Data Input'!AH491))","v":""},{"$f":"IF(O486=\"\",\"\",O486/COUNTIF('Data Input'!$C$8:$AK$8,\"M\"))","v":""},{"$f":"IF(ISBLANK('Data Input'!A491),\"\",SUM('Data Input'!H491,'Data Input'!K491,'Data Input'!P491,'Data Input'!Y491))","v":""},{"$f":"IF(Q486=\"\",\"\",Q486/COUNTIF('Data Input'!$C$8:$AK$8,\"G\"))","v":""}]
[{"$f":"IF('Data Input'!A492=0,\"\",'Data Input'!A492)","v":""},{"$f":"IF(ISBLANK('Data Input'!A492),\"\",COUNTIF('Data Input'!C492:AK492,\"\"))","v":""},{"$f":"IF(ISBLANK('Data Input'!A492),\"\",COUNTIF('Data Input'!C492:AK492,\"0\"))","v":""},{"$f":"IF(ISBLANK('Data Input'!A492),\"\",SUM(B487,C487))","v":""},{"$f":"IF(ISBLANK('Data Input'!A492),\"\",SUM('Data Input'!C492:AK492))","v":""},{"$f":"IF(E487=\"\",\"\",E487/(COUNTA('Data Input'!$C$8:$AK$8)))","v":""},{"$f":"IF(ISBLANK('Data Input'!A492),\"\",SUM('Data Input'!C492,'Data Input'!D492,'Data Input'!J492,'Data Input'!X492))","v":""},{"$f":"IF(G487=\"\",\"\",G487/COUNTIF('Data Input'!$C$8:$AK$8,\"N\"))","v":""},{"$f":"IF(ISBLANK('Data Input'!A492),\"\",SUM('Data Input'!G492,'Data Input'!I492,'Data Input'!L492,'Data Input'!N492,'Data Input'!O492,'Data Input'!S492,'Data Input'!Z492,'Data Input'!AA492,'Data Input'!AB492,'Data Input'!AC492,'Data Input'!AE492,'Data Input'!AF492,'Data Input'!AG492,'Data Input'!AI492,'Data Input'!AK492))","v":""},{"$f":"IF(I487=\"\",\"\",I487/COUNTIF('Data Input'!$C$8:$AK$8,\"C\"))","v":""},{"$f":"IF(ISBLANK('Data Input'!A492),\"\",SUM('Data Input'!T492,'Data Input'!U492))","v":""},{"$f":"IF(K487=\"\",\"\",K487/COUNTIF('Data Input'!$C$8:$AK$8,\"S\"))","v":""},{"$f":"IF(ISBLANK('Data Input'!A492),\"\",SUM('Data Input'!F492,'Data Input'!R492,'Data Input'!AJ492))","v":""},{"$f":"IF(M487=\"\",\"\",M487/COUNTIF('Data Input'!$C$8:$AK$8,\"F\"))","v":""},{"$f":"IF(ISBLANK('Data Input'!A492),\"\",SUM('Data Input'!E492,'Data Input'!M492,'Data Input'!Q492,'Data Input'!V492,'Data Input'!W492,'Data Input'!AD492,'Data Input'!AH492))","v":""},{"$f":"IF(O487=\"\",\"\",O487/COUNTIF('Data Input'!$C$8:$AK$8,\"M\"))","v":""},{"$f":"IF(ISBLANK('Data Input'!A492),\"\",SUM('Data Input'!H492,'Data Input'!K492,'Data Input'!P492,'Data Input'!Y492))","v":""},{"$f":"IF(Q487=\"\",\"\",Q487/COUNTIF('Data Input'!$C$8:$AK$8,\"G\"))","v":""}]
[{"$f":"IF('Data Input'!A493=0,\"\",'Data Input'!A493)","v":""},{"$f":"IF(ISBLANK('Data Input'!A493),\"\",COUNTIF('Data Input'!C493:AK493,\"\"))","v":""},{"$f":"IF(ISBLANK('Data Input'!A493),\"\",COUNTIF('Data Input'!C493:AK493,\"0\"))","v":""},{"$f":"IF(ISBLANK('Data Input'!A493),\"\",SUM(B488,C488))","v":""},{"$f":"IF(ISBLANK('Data Input'!A493),\"\",SUM('Data Input'!C493:AK493))","v":""},{"$f":"IF(E488=\"\",\"\",E488/(COUNTA('Data Input'!$C$8:$AK$8)))","v":""},{"$f":"IF(ISBLANK('Data Input'!A493),\"\",SUM('Data Input'!C493,'Data Input'!D493,'Data Input'!J493,'Data Input'!X493))","v":""},{"$f":"IF(G488=\"\",\"\",G488/COUNTIF('Data Input'!$C$8:$AK$8,\"N\"))","v":""},{"$f":"IF(ISBLANK('Data Input'!A493),\"\",SUM('Data Input'!G493,'Data Input'!I493,'Data Input'!L493,'Data Input'!N493,'Data Input'!O493,'Data Input'!S493,'Data Input'!Z493,'Data Input'!AA493,'Data Input'!AB493,'Data Input'!AC493,'Data Input'!AE493,'Data Input'!AF493,'Data Input'!AG493,'Data Input'!AI493,'Data Input'!AK493))","v":""},{"$f":"IF(I488=\"\",\"\",I488/COUNTIF('Data Input'!$C$8:$AK$8,\"C\"))","v":""},{"$f":"IF(ISBLANK('Data Input'!A493),\"\",SUM('Data Input'!T493,'Data Input'!U493))","v":""},{"$f":"IF(K488=\"\",\"\",K488/COUNTIF('Data Input'!$C$8:$AK$8,\"S\"))","v":""},{"$f":"IF(ISBLANK('Data Input'!A493),\"\",SUM('Data Input'!F493,'Data Input'!R493,'Data Input'!AJ493))","v":""},{"$f":"IF(M488=\"\",\"\",M488/COUNTIF('Data Input'!$C$8:$AK$8,\"F\"))","v":""},{"$f":"IF(ISBLANK('Data Input'!A493),\"\",SUM('Data Input'!E493,'Data Input'!M493,'Data Input'!Q493,'Data Input'!V493,'Data Input'!W493,'Data Input'!AD493,'Data Input'!AH493))","v":""},{"$f":"IF(O488=\"\",\"\",O488/COUNTIF('Data Input'!$C$8:$AK$8,\"M\"))","v":""},{"$f":"IF(ISBLANK('Data Input'!A493),\"\",SUM('Data Input'!H493,'Data Input'!K493,'Data Input'!P493,'Data Input'!Y493))","v":""},{"$f":"IF(Q488=\"\",\"\",Q488/COUNTIF('Data Input'!$C$8:$AK$8,\"G\"))","v":""}]
[{"$f":"IF('Data Input'!A494=0,\"\",'Data Input'!A494)","v":""},{"$f":"IF(ISBLANK('Data Input'!A494),\"\",COUNTIF('Data Input'!C494:AK494,\"\"))","v":""},{"$f":"IF(ISBLANK('Data Input'!A494),\"\",COUNTIF('Data Input'!C494:AK494,\"0\"))","v":""},{"$f":"IF(ISBLANK('Data Input'!A494),\"\",SUM(B489,C489))","v":""},{"$f":"IF(ISBLANK('Data Input'!A494),\"\",SUM('Data Input'!C494:AK494))","v":""},{"$f":"IF(E489=\"\",\"\",E489/(COUNTA('Data Input'!$C$8:$AK$8)))","v":""},{"$f":"IF(ISBLANK('Data Input'!A494),\"\",SUM('Data Input'!C494,'Data Input'!D494,'Data Input'!J494,'Data Input'!X494))","v":""},{"$f":"IF(G489=\"\",\"\",G489/COUNTIF('Data Input'!$C$8:$AK$8,\"N\"))","v":""},{"$f":"IF(ISBLANK('Data Input'!A494),\"\",SUM('Data Input'!G494,'Data Input'!I494,'Data Input'!L494,'Data Input'!N494,'Data Input'!O494,'Data Input'!S494,'Data Input'!Z494,'Data Input'!AA494,'Data Input'!AB494,'Data Input'!AC494,'Data Input'!AE494,'Data Input'!AF494,'Data Input'!AG494,'Data Input'!AI494,'Data Input'!AK494))","v":""},{"$f":"IF(I489=\"\",\"\",I489/COUNTIF('Data Input'!$C$8:$AK$8,\"C\"))","v":""},{"$f":"IF(ISBLANK('Data Input'!A494),\"\",SUM('Data Input'!T494,'Data Input'!U494))","v":""},{"$f":"IF(K489=\"\",\"\",K489/COUNTIF('Data Input'!$C$8:$AK$8,\"S\"))","v":""},{"$f":"IF(ISBLANK('Data Input'!A494),\"\",SUM('Data Input'!F494,'Data Input'!R494,'Data Input'!AJ494))","v":""},{"$f":"IF(M489=\"\",\"\",M489/COUNTIF('Data Input'!$C$8:$AK$8,\"F\"))","v":""},{"$f":"IF(ISBLANK('Data Input'!A494),\"\",SUM('Data Input'!E494,'Data Input'!M494,'Data Input'!Q494,'Data Input'!V494,'Data Input'!W494,'Data Input'!AD494,'Data Input'!AH494))","v":""},{"$f":"IF(O489=\"\",\"\",O489/COUNTIF('Data Input'!$C$8:$AK$8,\"M\"))","v":""},{"$f":"IF(ISBLANK('Data Input'!A494),\"\",SUM('Data Input'!H494,'Data Input'!K494,'Data Input'!P494,'Data Input'!Y494))","v":""},{"$f":"IF(Q489=\"\",\"\",Q489/COUNTIF('Data Input'!$C$8:$AK$8,\"G\"))","v":""}]
[{"$f":"IF('Data Input'!A495=0,\"\",'Data Input'!A495)","v":""},{"$f":"IF(ISBLANK('Data Input'!A495),\"\",COUNTIF('Data Input'!C495:AK495,\"\"))","v":""},{"$f":"IF(ISBLANK('Data Input'!A495),\"\",COUNTIF('Data Input'!C495:AK495,\"0\"))","v":""},{"$f":"IF(ISBLANK('Data Input'!A495),\"\",SUM(B490,C490))","v":""},{"$f":"IF(ISBLANK('Data Input'!A495),\"\",SUM('Data Input'!C495:AK495))","v":""},{"$f":"IF(E490=\"\",\"\",E490/(COUNTA('Data Input'!$C$8:$AK$8)))","v":""},{"$f":"IF(ISBLANK('Data Input'!A495),\"\",SUM('Data Input'!C495,'Data Input'!D495,'Data Input'!J495,'Data Input'!X495))","v":""},{"$f":"IF(G490=\"\",\"\",G490/COUNTIF('Data Input'!$C$8:$AK$8,\"N\"))","v":""},{"$f":"IF(ISBLANK('Data Input'!A495),\"\",SUM('Data Input'!G495,'Data Input'!I495,'Data Input'!L495,'Data Input'!N495,'Data Input'!O495,'Data Input'!S495,'Data Input'!Z495,'Data Input'!AA495,'Data Input'!AB495,'Data Input'!AC495,'Data Input'!AE495,'Data Input'!AF495,'Data Input'!AG495,'Data Input'!AI495,'Data Input'!AK495))","v":""},{"$f":"IF(I490=\"\",\"\",I490/COUNTIF('Data Input'!$C$8:$AK$8,\"C\"))","v":""},{"$f":"IF(ISBLANK('Data Input'!A495),\"\",SUM('Data Input'!T495,'Data Input'!U495))","v":""},{"$f":"IF(K490=\"\",\"\",K490/COUNTIF('Data Input'!$C$8:$AK$8,\"S\"))","v":""},{"$f":"IF(ISBLANK('Data Input'!A495),\"\",SUM('Data Input'!F495,'Data Input'!R495,'Data Input'!AJ495))","v":""},{"$f":"IF(M490=\"\",\"\",M490/COUNTIF('Data Input'!$C$8:$AK$8,\"F\"))","v":""},{"$f":"IF(ISBLANK('Data Input'!A495),\"\",SUM('Data Input'!E495,'Data Input'!M495,'Data Input'!Q495,'Data Input'!V495,'Data Input'!W495,'Data Input'!AD495,'Data Input'!AH495))","v":""},{"$f":"IF(O490=\"\",\"\",O490/COUNTIF('Data Input'!$C$8:$AK$8,\"M\"))","v":""},{"$f":"IF(ISBLANK('Data Input'!A495),\"\",SUM('Data Input'!H495,'Data Input'!K495,'Data Input'!P495,'Data Input'!Y495))","v":""},{"$f":"IF(Q490=\"\",\"\",Q490/COUNTIF('Data Input'!$C$8:$AK$8,\"G\"))","v":""}]
[{"$f":"IF('Data Input'!A496=0,\"\",'Data Input'!A496)","v":""},{"$f":"IF(ISBLANK('Data Input'!A496),\"\",COUNTIF('Data Input'!C496:AK496,\"\"))","v":""},{"$f":"IF(ISBLANK('Data Input'!A496),\"\",COUNTIF('Data Input'!C496:AK496,\"0\"))","v":""},{"$f":"IF(ISBLANK('Data Input'!A496),\"\",SUM(B491,C491))","v":""},{"$f":"IF(ISBLANK('Data Input'!A496),\"\",SUM('Data Input'!C496:AK496))","v":""},{"$f":"IF(E491=\"\",\"\",E491/(COUNTA('Data Input'!$C$8:$AK$8)))","v":""},{"$f":"IF(ISBLANK('Data Input'!A496),\"\",SUM('Data Input'!C496,'Data Input'!D496,'Data Input'!J496,'Data Input'!X496))","v":""},{"$f":"IF(G491=\"\",\"\",G491/COUNTIF('Data Input'!$C$8:$AK$8,\"N\"))","v":""},{"$f":"IF(ISBLANK('Data Input'!A496),\"\",SUM('Data Input'!G496,'Data Input'!I496,'Data Input'!L496,'Data Input'!N496,'Data Input'!O496,'Data Input'!S496,'Data Input'!Z496,'Data Input'!AA496,'Data Input'!AB496,'Data Input'!AC496,'Data Input'!AE496,'Data Input'!AF496,'Data Input'!AG496,'Data Input'!AI496,'Data Input'!AK496))","v":""},{"$f":"IF(I491=\"\",\"\",I491/COUNTIF('Data Input'!$C$8:$AK$8,\"C\"))","v":""},{"$f":"IF(ISBLANK('Data Input'!A496),\"\",SUM('Data Input'!T496,'Data Input'!U496))","v":""},{"$f":"IF(K491=\"\",\"\",K491/COUNTIF('Data Input'!$C$8:$AK$8,\"S\"))","v":""},{"$f":"IF(ISBLANK('Data Input'!A496),\"\",SUM('Data Input'!F496,'Data Input'!R496,'Data Input'!AJ496))","v":""},{"$f":"IF(M491=\"\",\"\",M491/COUNTIF('Data Input'!$C$8:$AK$8,\"F\"))","v":""},{"$f":"IF(ISBLANK('Data Input'!A496),\"\",SUM('Data Input'!E496,'Data Input'!M496,'Data Input'!Q496,'Data Input'!V496,'Data Input'!W496,'Data Input'!AD496,'Data Input'!AH496))","v":""},{"$f":"IF(O491=\"\",\"\",O491/COUNTIF('Data Input'!$C$8:$AK$8,\"M\"))","v":""},{"$f":"IF(ISBLANK('Data Input'!A496),\"\",SUM('Data Input'!H496,'Data Input'!K496,'Data Input'!P496,'Data Input'!Y496))","v":""},{"$f":"IF(Q491=\"\",\"\",Q491/COUNTIF('Data Input'!$C$8:$AK$8,\"G\"))","v":""}]
[{"$f":"IF('Data Input'!A497=0,\"\",'Data Input'!A497)","v":""},{"$f":"IF(ISBLANK('Data Input'!A497),\"\",COUNTIF('Data Input'!C497:AK497,\"\"))","v":""},{"$f":"IF(ISBLANK('Data Input'!A497),\"\",COUNTIF('Data Input'!C497:AK497,\"0\"))","v":""},{"$f":"IF(ISBLANK('Data Input'!A497),\"\",SUM(B492,C492))","v":""},{"$f":"IF(ISBLANK('Data Input'!A497),\"\",SUM('Data Input'!C497:AK497))","v":""},{"$f":"IF(E492=\"\",\"\",E492/(COUNTA('Data Input'!$C$8:$AK$8)))","v":""},{"$f":"IF(ISBLANK('Data Input'!A497),\"\",SUM('Data Input'!C497,'Data Input'!D497,'Data Input'!J497,'Data Input'!X497))","v":""},{"$f":"IF(G492=\"\",\"\",G492/COUNTIF('Data Input'!$C$8:$AK$8,\"N\"))","v":""},{"$f":"IF(ISBLANK('Data Input'!A497),\"\",SUM('Data Input'!G497,'Data Input'!I497,'Data Input'!L497,'Data Input'!N497,'Data Input'!O497,'Data Input'!S497,'Data Input'!Z497,'Data Input'!AA497,'Data Input'!AB497,'Data Input'!AC497,'Data Input'!AE497,'Data Input'!AF497,'Data Input'!AG497,'Data Input'!AI497,'Data Input'!AK497))","v":""},{"$f":"IF(I492=\"\",\"\",I492/COUNTIF('Data Input'!$C$8:$AK$8,\"C\"))","v":""},{"$f":"IF(ISBLANK('Data Input'!A497),\"\",SUM('Data Input'!T497,'Data Input'!U497))","v":""},{"$f":"IF(K492=\"\",\"\",K492/COUNTIF('Data Input'!$C$8:$AK$8,\"S\"))","v":""},{"$f":"IF(ISBLANK('Data Input'!A497),\"\",SUM('Data Input'!F497,'Data Input'!R497,'Data Input'!AJ497))","v":""},{"$f":"IF(M492=\"\",\"\",M492/COUNTIF('Data Input'!$C$8:$AK$8,\"F\"))","v":""},{"$f":"IF(ISBLANK('Data Input'!A497),\"\",SUM('Data Input'!E497,'Data Input'!M497,'Data Input'!Q497,'Data Input'!V497,'Data Input'!W497,'Data Input'!AD497,'Data Input'!AH497))","v":""},{"$f":"IF(O492=\"\",\"\",O492/COUNTIF('Data Input'!$C$8:$AK$8,\"M\"))","v":""},{"$f":"IF(ISBLANK('Data Input'!A497),\"\",SUM('Data Input'!H497,'Data Input'!K497,'Data Input'!P497,'Data Input'!Y497))","v":""},{"$f":"IF(Q492=\"\",\"\",Q492/COUNTIF('Data Input'!$C$8:$AK$8,\"G\"))","v":""}]
[{"$f":"IF('Data Input'!A498=0,\"\",'Data Input'!A498)","v":""},{"$f":"IF(ISBLANK('Data Input'!A498),\"\",COUNTIF('Data Input'!C498:AK498,\"\"))","v":""},{"$f":"IF(ISBLANK('Data Input'!A498),\"\",COUNTIF('Data Input'!C498:AK498,\"0\"))","v":""},{"$f":"IF(ISBLANK('Data Input'!A498),\"\",SUM(B493,C493))","v":""},{"$f":"IF(ISBLANK('Data Input'!A498),\"\",SUM('Data Input'!C498:AK498))","v":""},{"$f":"IF(E493=\"\",\"\",E493/(COUNTA('Data Input'!$C$8:$AK$8)))","v":""},{"$f":"IF(ISBLANK('Data Input'!A498),\"\",SUM('Data Input'!C498,'Data Input'!D498,'Data Input'!J498,'Data Input'!X498))","v":""},{"$f":"IF(G493=\"\",\"\",G493/COUNTIF('Data Input'!$C$8:$AK$8,\"N\"))","v":""},{"$f":"IF(ISBLANK('Data Input'!A498),\"\",SUM('Data Input'!G498,'Data Input'!I498,'Data Input'!L498,'Data Input'!N498,'Data Input'!O498,'Data Input'!S498,'Data Input'!Z498,'Data Input'!AA498,'Data Input'!AB498,'Data Input'!AC498,'Data Input'!AE498,'Data Input'!AF498,'Data Input'!AG498,'Data Input'!AI498,'Data Input'!AK498))","v":""},{"$f":"IF(I493=\"\",\"\",I493/COUNTIF('Data Input'!$C$8:$AK$8,\"C\"))","v":""},{"$f":"IF(ISBLANK('Data Input'!A498),\"\",SUM('Data Input'!T498,'Data Input'!U498))","v":""},{"$f":"IF(K493=\"\",\"\",K493/COUNTIF('Data Input'!$C$8:$AK$8,\"S\"))","v":""},{"$f":"IF(ISBLANK('Data Input'!A498),\"\",SUM('Data Input'!F498,'Data Input'!R498,'Data Input'!AJ498))","v":""},{"$f":"IF(M493=\"\",\"\",M493/COUNTIF('Data Input'!$C$8:$AK$8,\"F\"))","v":""},{"$f":"IF(ISBLANK('Data Input'!A498),\"\",SUM('Data Input'!E498,'Data Input'!M498,'Data Input'!Q498,'Data Input'!V498,'Data Input'!W498,'Data Input'!AD498,'Data Input'!AH498))","v":""},{"$f":"IF(O493=\"\",\"\",O493/COUNTIF('Data Input'!$C$8:$AK$8,\"M\"))","v":""},{"$f":"IF(ISBLANK('Data Input'!A498),\"\",SUM('Data Input'!H498,'Data Input'!K498,'Data Input'!P498,'Data Input'!Y498))","v":""},{"$f":"IF(Q493=\"\",\"\",Q493/COUNTIF('Data Input'!$C$8:$AK$8,\"G\"))","v":""}]
[{"$f":"IF('Data Input'!A499=0,\"\",'Data Input'!A499)","v":""},{"$f":"IF(ISBLANK('Data Input'!A499),\"\",COUNTIF('Data Input'!C499:AK499,\"\"))","v":""},{"$f":"IF(ISBLANK('Data Input'!A499),\"\",COUNTIF('Data Input'!C499:AK499,\"0\"))","v":""},{"$f":"IF(ISBLANK('Data Input'!A499),\"\",SUM(B494,C494))","v":""},{"$f":"IF(ISBLANK('Data Input'!A499),\"\",SUM('Data Input'!C499:AK499))","v":""},{"$f":"IF(E494=\"\",\"\",E494/(COUNTA('Data Input'!$C$8:$AK$8)))","v":""},{"$f":"IF(ISBLANK('Data Input'!A499),\"\",SUM('Data Input'!C499,'Data Input'!D499,'Data Input'!J499,'Data Input'!X499))","v":""},{"$f":"IF(G494=\"\",\"\",G494/COUNTIF('Data Input'!$C$8:$AK$8,\"N\"))","v":""},{"$f":"IF(ISBLANK('Data Input'!A499),\"\",SUM('Data Input'!G499,'Data Input'!I499,'Data Input'!L499,'Data Input'!N499,'Data Input'!O499,'Data Input'!S499,'Data Input'!Z499,'Data Input'!AA499,'Data Input'!AB499,'Data Input'!AC499,'Data Input'!AE499,'Data Input'!AF499,'Data Input'!AG499,'Data Input'!AI499,'Data Input'!AK499))","v":""},{"$f":"IF(I494=\"\",\"\",I494/COUNTIF('Data Input'!$C$8:$AK$8,\"C\"))","v":""},{"$f":"IF(ISBLANK('Data Input'!A499),\"\",SUM('Data Input'!T499,'Data Input'!U499))","v":""},{"$f":"IF(K494=\"\",\"\",K494/COUNTIF('Data Input'!$C$8:$AK$8,\"S\"))","v":""},{"$f":"IF(ISBLANK('Data Input'!A499),\"\",SUM('Data Input'!F499,'Data Input'!R499,'Data Input'!AJ499))","v":""},{"$f":"IF(M494=\"\",\"\",M494/COUNTIF('Data Input'!$C$8:$AK$8,\"F\"))","v":""},{"$f":"IF(ISBLANK('Data Input'!A499),\"\",SUM('Data Input'!E499,'Data Input'!M499,'Data Input'!Q499,'Data Input'!V499,'Data Input'!W499,'Data Input'!AD499,'Data Input'!AH499))","v":""},{"$f":"IF(O494=\"\",\"\",O494/COUNTIF('Data Input'!$C$8:$AK$8,\"M\"))","v":""},{"$f":"IF(ISBLANK('Data Input'!A499),\"\",SUM('Data Input'!H499,'Data Input'!K499,'Data Input'!P499,'Data Input'!Y499))","v":""},{"$f":"IF(Q494=\"\",\"\",Q494/COUNTIF('Data Input'!$C$8:$AK$8,\"G\"))","v":""}]
[{"$f":"IF('Data Input'!A500=0,\"\",'Data Input'!A500)","v":""},{"$f":"IF(ISBLANK('Data Input'!A500),\"\",COUNTIF('Data Input'!C500:AK500,\"\"))","v":""},{"$f":"IF(ISBLANK('Data Input'!A500),\"\",COUNTIF('Data Input'!C500:AK500,\"0\"))","v":""},{"$f":"IF(ISBLANK('Data Input'!A500),\"\",SUM(B495,C495))","v":""},{"$f":"IF(ISBLANK('Data Input'!A500),\"\",SUM('Data Input'!C500:AK500))","v":""},{"$f":"IF(E495=\"\",\"\",E495/(COUNTA('Data Input'!$C$8:$AK$8)))","v":""},{"$f":"IF(ISBLANK('Data Input'!A500),\"\",SUM('Data Input'!C500,'Data Input'!D500,'Data Input'!J500,'Data Input'!X500))","v":""},{"$f":"IF(G495=\"\",\"\",G495/COUNTIF('Data Input'!$C$8:$AK$8,\"N\"))","v":""},{"$f":"IF(ISBLANK('Data Input'!A500),\"\",SUM('Data Input'!G500,'Data Input'!I500,'Data Input'!L500,'Data Input'!N500,'Data Input'!O500,'Data Input'!S500,'Data Input'!Z500,'Data Input'!AA500,'Data Input'!AB500,'Data Input'!AC500,'Data Input'!AE500,'Data Input'!AF500,'Data Input'!AG500,'Data Input'!AI500,'Data Input'!AK500))","v":""},{"$f":"IF(I495=\"\",\"\",I495/COUNTIF('Data Input'!$C$8:$AK$8,\"C\"))","v":""},{"$f":"IF(ISBLANK('Data Input'!A500),\"\",SUM('Data Input'!T500,'Data Input'!U500))","v":""},{"$f":"IF(K495=\"\",\"\",K495/COUNTIF('Data Input'!$C$8:$AK$8,\"S\"))","v":""},{"$f":"IF(ISBLANK('Data Input'!A500),\"\",SUM('Data Input'!F500,'Data Input'!R500,'Data Input'!AJ500))","v":""},{"$f":"IF(M495=\"\",\"\",M495/COUNTIF('Data Input'!$C$8:$AK$8,\"F\"))","v":""},{"$f":"IF(ISBLANK('Data Input'!A500),\"\",SUM('Data Input'!E500,'Data Input'!M500,'Data Input'!Q500,'Data Input'!V500,'Data Input'!W500,'Data Input'!AD500,'Data Input'!AH500))","v":""},{"$f":"IF(O495=\"\",\"\",O495/COUNTIF('Data Input'!$C$8:$AK$8,\"M\"))","v":""},{"$f":"IF(ISBLANK('Data Input'!A500),\"\",SUM('Data Input'!H500,'Data Input'!K500,'Data Input'!P500,'Data Input'!Y500))","v":""},{"$f":"IF(Q495=\"\",\"\",Q495/COUNTIF('Data Input'!$C$8:$AK$8,\"G\"))","v":""}]
[{"$f":"IF('Data Input'!A501=0,\"\",'Data Input'!A501)","v":""},{"$f":"IF(ISBLANK('Data Input'!A501),\"\",COUNTIF('Data Input'!C501:AK501,\"\"))","v":""},{"$f":"IF(ISBLANK('Data Input'!A501),\"\",COUNTIF('Data Input'!C501:AK501,\"0\"))","v":""},{"$f":"IF(ISBLANK('Data Input'!A501),\"\",SUM(B496,C496))","v":""},{"$f":"IF(ISBLANK('Data Input'!A501),\"\",SUM('Data Input'!C501:AK501))","v":""},{"$f":"IF(E496=\"\",\"\",E496/(COUNTA('Data Input'!$C$8:$AK$8)))","v":""},{"$f":"IF(ISBLANK('Data Input'!A501),\"\",SUM('Data Input'!C501,'Data Input'!D501,'Data Input'!J501,'Data Input'!X501))","v":""},{"$f":"IF(G496=\"\",\"\",G496/COUNTIF('Data Input'!$C$8:$AK$8,\"N\"))","v":""},{"$f":"IF(ISBLANK('Data Input'!A501),\"\",SUM('Data Input'!G501,'Data Input'!I501,'Data Input'!L501,'Data Input'!N501,'Data Input'!O501,'Data Input'!S501,'Data Input'!Z501,'Data Input'!AA501,'Data Input'!AB501,'Data Input'!AC501,'Data Input'!AE501,'Data Input'!AF501,'Data Input'!AG501,'Data Input'!AI501,'Data Input'!AK501))","v":""},{"$f":"IF(I496=\"\",\"\",I496/COUNTIF('Data Input'!$C$8:$AK$8,\"C\"))","v":""},{"$f":"IF(ISBLANK('Data Input'!A501),\"\",SUM('Data Input'!T501,'Data Input'!U501))","v":""},{"$f":"IF(K496=\"\",\"\",K496/COUNTIF('Data Input'!$C$8:$AK$8,\"S\"))","v":""},{"$f":"IF(ISBLANK('Data Input'!A501),\"\",SUM('Data Input'!F501,'Data Input'!R501,'Data Input'!AJ501))","v":""},{"$f":"IF(M496=\"\",\"\",M496/COUNTIF('Data Input'!$C$8:$AK$8,\"F\"))","v":""},{"$f":"IF(ISBLANK('Data Input'!A501),\"\",SUM('Data Input'!E501,'Data Input'!M501,'Data Input'!Q501,'Data Input'!V501,'Data Input'!W501,'Data Input'!AD501,'Data Input'!AH501))","v":""},{"$f":"IF(O496=\"\",\"\",O496/COUNTIF('Data Input'!$C$8:$AK$8,\"M\"))","v":""},{"$f":"IF(ISBLANK('Data Input'!A501),\"\",SUM('Data Input'!H501,'Data Input'!K501,'Data Input'!P501,'Data Input'!Y501))","v":""},{"$f":"IF(Q496=\"\",\"\",Q496/COUNTIF('Data Input'!$C$8:$AK$8,\"G\"))","v":""}]
[{"$f":"IF('Data Input'!A502=0,\"\",'Data Input'!A502)","v":""},{"$f":"IF(ISBLANK('Data Input'!A502),\"\",COUNTIF('Data Input'!C502:AK502,\"\"))","v":""},{"$f":"IF(ISBLANK('Data Input'!A502),\"\",COUNTIF('Data Input'!C502:AK502,\"0\"))","v":""},{"$f":"IF(ISBLANK('Data Input'!A502),\"\",SUM(B497,C497))","v":""},{"$f":"IF(ISBLANK('Data Input'!A502),\"\",SUM('Data Input'!C502:AK502))","v":""},{"$f":"IF(E497=\"\",\"\",E497/(COUNTA('Data Input'!$C$8:$AK$8)))","v":""},{"$f":"IF(ISBLANK('Data Input'!A502),\"\",SUM('Data Input'!C502,'Data Input'!D502,'Data Input'!J502,'Data Input'!X502))","v":""},{"$f":"IF(G497=\"\",\"\",G497/COUNTIF('Data Input'!$C$8:$AK$8,\"N\"))","v":""},{"$f":"IF(ISBLANK('Data Input'!A502),\"\",SUM('Data Input'!G502,'Data Input'!I502,'Data Input'!L502,'Data Input'!N502,'Data Input'!O502,'Data Input'!S502,'Data Input'!Z502,'Data Input'!AA502,'Data Input'!AB502,'Data Input'!AC502,'Data Input'!AE502,'Data Input'!AF502,'Data Input'!AG502,'Data Input'!AI502,'Data Input'!AK502))","v":""},{"$f":"IF(I497=\"\",\"\",I497/COUNTIF('Data Input'!$C$8:$AK$8,\"C\"))","v":""},{"$f":"IF(ISBLANK('Data Input'!A502),\"\",SUM('Data Input'!T502,'Data Input'!U502))","v":""},{"$f":"IF(K497=\"\",\"\",K497/COUNTIF('Data Input'!$C$8:$AK$8,\"S\"))","v":""},{"$f":"IF(ISBLANK('Data Input'!A502),\"\",SUM('Data Input'!F502,'Data Input'!R502,'Data Input'!AJ502))","v":""},{"$f":"IF(M497=\"\",\"\",M497/COUNTIF('Data Input'!$C$8:$AK$8,\"F\"))","v":""},{"$f":"IF(ISBLANK('Data Input'!A502),\"\",SUM('Data Input'!E502,'Data Input'!M502,'Data Input'!Q502,'Data Input'!V502,'Data Input'!W502,'Data Input'!AD502,'Data Input'!AH502))","v":""},{"$f":"IF(O497=\"\",\"\",O497/COUNTIF('Data Input'!$C$8:$AK$8,\"M\"))","v":""},{"$f":"IF(ISBLANK('Data Input'!A502),\"\",SUM('Data Input'!H502,'Data Input'!K502,'Data Input'!P502,'Data Input'!Y502))","v":""},{"$f":"IF(Q497=\"\",\"\",Q497/COUNTIF('Data Input'!$C$8:$AK$8,\"G\"))","v":""}]
[{"$f":"IF('Data Input'!A503=0,\"\",'Data Input'!A503)","v":""},{"$f":"IF(ISBLANK('Data Input'!A503),\"\",COUNTIF('Data Input'!C503:AK503,\"\"))","v":""},{"$f":"IF(ISBLANK('Data Input'!A503),\"\",COUNTIF('Data Input'!C503:AK503,\"0\"))","v":""},{"$f":"IF(ISBLANK('Data Input'!A503),\"\",SUM(B498,C498))","v":""},{"$f":"IF(ISBLANK('Data Input'!A503),\"\",SUM('Data Input'!C503:AK503))","v":""},{"$f":"IF(E498=\"\",\"\",E498/(COUNTA('Data Input'!$C$8:$AK$8)))","v":""},{"$f":"IF(ISBLANK('Data Input'!A503),\"\",SUM('Data Input'!C503,'Data Input'!D503,'Data Input'!J503,'Data Input'!X503))","v":""},{"$f":"IF(G498=\"\",\"\",G498/COUNTIF('Data Input'!$C$8:$AK$8,\"N\"))","v":""},{"$f":"IF(ISBLANK('Data Input'!A503),\"\",SUM('Data Input'!G503,'Data Input'!I503,'Data Input'!L503,'Data Input'!N503,'Data Input'!O503,'Data Input'!S503,'Data Input'!Z503,'Data Input'!AA503,'Data Input'!AB503,'Data Input'!AC503,'Data Input'!AE503,'Data Input'!AF503,'Data Input'!AG503,'Data Input'!AI503,'Data Input'!AK503))","v":""},{"$f":"IF(I498=\"\",\"\",I498/COUNTIF('Data Input'!$C$8:$AK$8,\"C\"))","v":""},{"$f":"IF(ISBLANK('Data Input'!A503),\"\",SUM('Data Input'!T503,'Data Input'!U503))","v":""},{"$f":"IF(K498=\"\",\"\",K498/COUNTIF('Data Input'!$C$8:$AK$8,\"S\"))","v":""},{"$f":"IF(ISBLANK('Data Input'!A503),\"\",SUM('Data Input'!F503,'Data Input'!R503,'Data Input'!AJ503))","v":""},{"$f":"IF(M498=\"\",\"\",M498/COUNTIF('Data Input'!$C$8:$AK$8,\"F\"))","v":""},{"$f":"IF(ISBLANK('Data Input'!A503),\"\",SUM('Data Input'!E503,'Data Input'!M503,'Data Input'!Q503,'Data Input'!V503,'Data Input'!W503,'Data Input'!AD503,'Data Input'!AH503))","v":""},{"$f":"IF(O498=\"\",\"\",O498/COUNTIF('Data Input'!$C$8:$AK$8,\"M\"))","v":""},{"$f":"IF(ISBLANK('Data Input'!A503),\"\",SUM('Data Input'!H503,'Data Input'!K503,'Data Input'!P503,'Data Input'!Y503))","v":""},{"$f":"IF(Q498=\"\",\"\",Q498/COUNTIF('Data Input'!$C$8:$AK$8,\"G\"))","v":""}]
[{"$f":"IF('Data Input'!A504=0,\"\",'Data Input'!A504)","v":""},{"$f":"IF(ISBLANK('Data Input'!A504),\"\",COUNTIF('Data Input'!C504:AK504,\"\"))","v":""},{"$f":"IF(ISBLANK('Data Input'!A504),\"\",COUNTIF('Data Input'!C504:AK504,\"0\"))","v":""},{"$f":"IF(ISBLANK('Data Input'!A504),\"\",SUM(B499,C499))","v":""},{"$f":"IF(ISBLANK('Data Input'!A504),\"\",SUM('Data Input'!C504:AK504))","v":""},{"$f":"IF(E499=\"\",\"\",E499/(COUNTA('Data Input'!$C$8:$AK$8)))","v":""},{"$f":"IF(ISBLANK('Data Input'!A504),\"\",SUM('Data Input'!C504,'Data Input'!D504,'Data Input'!J504,'Data Input'!X504))","v":""},{"$f":"IF(G499=\"\",\"\",G499/COUNTIF('Data Input'!$C$8:$AK$8,\"N\"))","v":""},{"$f":"IF(ISBLANK('Data Input'!A504),\"\",SUM('Data Input'!G504,'Data Input'!I504,'Data Input'!L504,'Data Input'!N504,'Data Input'!O504,'Data Input'!S504,'Data Input'!Z504,'Data Input'!AA504,'Data Input'!AB504,'Data Input'!AC504,'Data Input'!AE504,'Data Input'!AF504,'Data Input'!AG504,'Data Input'!AI504,'Data Input'!AK504))","v":""},{"$f":"IF(I499=\"\",\"\",I499/COUNTIF('Data Input'!$C$8:$AK$8,\"C\"))","v":""},{"$f":"IF(ISBLANK('Data Input'!A504),\"\",SUM('Data Input'!T504,'Data Input'!U504))","v":""},{"$f":"IF(K499=\"\",\"\",K499/COUNTIF('Data Input'!$C$8:$AK$8,\"S\"))","v":""},{"$f":"IF(ISBLANK('Data Input'!A504),\"\",SUM('Data Input'!F504,'Data Input'!R504,'Data Input'!AJ504))","v":""},{"$f":"IF(M499=\"\",\"\",M499/COUNTIF('Data Input'!$C$8:$AK$8,\"F\"))","v":""},{"$f":"IF(ISBLANK('Data Input'!A504),\"\",SUM('Data Input'!E504,'Data Input'!M504,'Data Input'!Q504,'Data Input'!V504,'Data Input'!W504,'Data Input'!AD504,'Data Input'!AH504))","v":""},{"$f":"IF(O499=\"\",\"\",O499/COUNTIF('Data Input'!$C$8:$AK$8,\"M\"))","v":""},{"$f":"IF(ISBLANK('Data Input'!A504),\"\",SUM('Data Input'!H504,'Data Input'!K504,'Data Input'!P504,'Data Input'!Y504))","v":""},{"$f":"IF(Q499=\"\",\"\",Q499/COUNTIF('Data Input'!$C$8:$AK$8,\"G\"))","v":""}]
[{"$f":"IF('Data Input'!A505=0,\"\",'Data Input'!A505)","v":""},{"$f":"IF(ISBLANK('Data Input'!A505),\"\",COUNTIF('Data Input'!C505:AK505,\"\"))","v":""},{"$f":"IF(ISBLANK('Data Input'!A505),\"\",COUNTIF('Data Input'!C505:AK505,\"0\"))","v":""},{"$f":"IF(ISBLANK('Data Input'!A505),\"\",SUM(B500,C500))","v":""},{"$f":"IF(ISBLANK('Data Input'!A505),\"\",SUM('Data Input'!C505:AK505))","v":""},{"$f":"IF(E500=\"\",\"\",E500/(COUNTA('Data Input'!$C$8:$AK$8)))","v":""},{"$f":"IF(ISBLANK('Data Input'!A505),\"\",SUM('Data Input'!C505,'Data Input'!D505,'Data Input'!J505,'Data Input'!X505))","v":""},{"$f":"IF(G500=\"\",\"\",G500/COUNTIF('Data Input'!$C$8:$AK$8,\"N\"))","v":""},{"$f":"IF(ISBLANK('Data Input'!A505),\"\",SUM('Data Input'!G505,'Data Input'!I505,'Data Input'!L505,'Data Input'!N505,'Data Input'!O505,'Data Input'!S505,'Data Input'!Z505,'Data Input'!AA505,'Data Input'!AB505,'Data Input'!AC505,'Data Input'!AE505,'Data Input'!AF505,'Data Input'!AG505,'Data Input'!AI505,'Data Input'!AK505))","v":""},{"$f":"IF(I500=\"\",\"\",I500/COUNTIF('Data Input'!$C$8:$AK$8,\"C\"))","v":""},{"$f":"IF(ISBLANK('Data Input'!A505),\"\",SUM('Data Input'!T505,'Data Input'!U505))","v":""},{"$f":"IF(K500=\"\",\"\",K500/COUNTIF('Data Input'!$C$8:$AK$8,\"S\"))","v":""},{"$f":"IF(ISBLANK('Data Input'!A505),\"\",SUM('Data Input'!F505,'Data Input'!R505,'Data Input'!AJ505))","v":""},{"$f":"IF(M500=\"\",\"\",M500/COUNTIF('Data Input'!$C$8:$AK$8,\"F\"))","v":""},{"$f":"IF(ISBLANK('Data Input'!A505),\"\",SUM('Data Input'!E505,'Data Input'!M505,'Data Input'!Q505,'Data Input'!V505,'Data Input'!W505,'Data Input'!AD505,'Data Input'!AH505))","v":""},{"$f":"IF(O500=\"\",\"\",O500/COUNTIF('Data Input'!$C$8:$AK$8,\"M\"))","v":""},{"$f":"IF(ISBLANK('Data Input'!A505),\"\",SUM('Data Input'!H505,'Data Input'!K505,'Data Input'!P505,'Data Input'!Y505))","v":""},{"$f":"IF(Q500=\"\",\"\",Q500/COUNTIF('Data Input'!$C$8:$AK$8,\"G\"))","v":""}]
[{"$f":"IF('Data Input'!A506=0,\"\",'Data Input'!A506)","v":""},{"$f":"IF(ISBLANK('Data Input'!A506),\"\",COUNTIF('Data Input'!C506:AK506,\"\"))","v":""},{"$f":"IF(ISBLANK('Data Input'!A506),\"\",COUNTIF('Data Input'!C506:AK506,\"0\"))","v":""},{"$f":"IF(ISBLANK('Data Input'!A506),\"\",SUM(B501,C501))","v":""},{"$f":"IF(ISBLANK('Data Input'!A506),\"\",SUM('Data Input'!C506:AK506))","v":""},{"$f":"IF(E501=\"\",\"\",E501/(COUNTA('Data Input'!$C$8:$AK$8)))","v":""},{"$f":"IF(ISBLANK('Data Input'!A506),\"\",SUM('Data Input'!C506,'Data Input'!D506,'Data Input'!J506,'Data Input'!X506))","v":""},{"$f":"IF(G501=\"\",\"\",G501/COUNTIF('Data Input'!$C$8:$AK$8,\"N\"))","v":""},{"$f":"IF(ISBLANK('Data Input'!A506),\"\",SUM('Data Input'!G506,'Data Input'!I506,'Data Input'!L506,'Data Input'!N506,'Data Input'!O506,'Data Input'!S506,'Data Input'!Z506,'Data Input'!AA506,'Data Input'!AB506,'Data Input'!AC506,'Data Input'!AE506,'Data Input'!AF506,'Data Input'!AG506,'Data Input'!AI506,'Data Input'!AK506))","v":""},{"$f":"IF(I501=\"\",\"\",I501/COUNTIF('Data Input'!$C$8:$AK$8,\"C\"))","v":""},{"$f":"IF(ISBLANK('Data Input'!A506),\"\",SUM('Data Input'!T506,'Data Input'!U506))","v":""},{"$f":"IF(K501=\"\",\"\",K501/COUNTIF('Data Input'!$C$8:$AK$8,\"S\"))","v":""},{"$f":"IF(ISBLANK('Data Input'!A506),\"\",SUM('Data Input'!F506,'Data Input'!R506,'Data Input'!AJ506))","v":""},{"$f":"IF(M501=\"\",\"\",M501/COUNTIF('Data Input'!$C$8:$AK$8,\"F\"))","v":""},{"$f":"IF(ISBLANK('Data Input'!A506),\"\",SUM('Data Input'!E506,'Data Input'!M506,'Data Input'!Q506,'Data Input'!V506,'Data Input'!W506,'Data Input'!AD506,'Data Input'!AH506))","v":""},{"$f":"IF(O501=\"\",\"\",O501/COUNTIF('Data Input'!$C$8:$AK$8,\"M\"))","v":""},{"$f":"IF(ISBLANK('Data Input'!A506),\"\",SUM('Data Input'!H506,'Data Input'!K506,'Data Input'!P506,'Data Input'!Y506))","v":""},{"$f":"IF(Q501=\"\",\"\",Q501/COUNTIF('Data Input'!$C$8:$AK$8,\"G\"))","v":""}]
[{"$f":"IF('Data Input'!A507=0,\"\",'Data Input'!A507)","v":""},{"$f":"IF(ISBLANK('Data Input'!A507),\"\",COUNTIF('Data Input'!C507:AK507,\"\"))","v":""},{"$f":"IF(ISBLANK('Data Input'!A507),\"\",COUNTIF('Data Input'!C507:AK507,\"0\"))","v":""},{"$f":"IF(ISBLANK('Data Input'!A507),\"\",SUM(B502,C502))","v":""},{"$f":"IF(ISBLANK('Data Input'!A507),\"\",SUM('Data Input'!C507:AK507))","v":""},{"$f":"IF(E502=\"\",\"\",E502/(COUNTA('Data Input'!$C$8:$AK$8)))","v":""},{"$f":"IF(ISBLANK('Data Input'!A507),\"\",SUM('Data Input'!C507,'Data Input'!D507,'Data Input'!J507,'Data Input'!X507))","v":""},{"$f":"IF(G502=\"\",\"\",G502/COUNTIF('Data Input'!$C$8:$AK$8,\"N\"))","v":""},{"$f":"IF(ISBLANK('Data Input'!A507),\"\",SUM('Data Input'!G507,'Data Input'!I507,'Data Input'!L507,'Data Input'!N507,'Data Input'!O507,'Data Input'!S507,'Data Input'!Z507,'Data Input'!AA507,'Data Input'!AB507,'Data Input'!AC507,'Data Input'!AE507,'Data Input'!AF507,'Data Input'!AG507,'Data Input'!AI507,'Data Input'!AK507))","v":""},{"$f":"IF(I502=\"\",\"\",I502/COUNTIF('Data Input'!$C$8:$AK$8,\"C\"))","v":""},{"$f":"IF(ISBLANK('Data Input'!A507),\"\",SUM('Data Input'!T507,'Data Input'!U507))","v":""},{"$f":"IF(K502=\"\",\"\",K502/COUNTIF('Data Input'!$C$8:$AK$8,\"S\"))","v":""},{"$f":"IF(ISBLANK('Data Input'!A507),\"\",SUM('Data Input'!F507,'Data Input'!R507,'Data Input'!AJ507))","v":""},{"$f":"IF(M502=\"\",\"\",M502/COUNTIF('Data Input'!$C$8:$AK$8,\"F\"))","v":""},{"$f":"IF(ISBLANK('Data Input'!A507),\"\",SUM('Data Input'!E507,'Data Input'!M507,'Data Input'!Q507,'Data Input'!V507,'Data Input'!W507,'Data Input'!AD507,'Data Input'!AH507))","v":""},{"$f":"IF(O502=\"\",\"\",O502/COUNTIF('Data Input'!$C$8:$AK$8,\"M\"))","v":""},{"$f":"IF(ISBLANK('Data Input'!A507),\"\",SUM('Data Input'!H507,'Data Input'!K507,'Data Input'!P507,'Data Input'!Y507))","v":""},{"$f":"IF(Q502=\"\",\"\",Q502/COUNTIF('Data Input'!$C$8:$AK$8,\"G\"))","v":""}]
[{"$f":"IF('Data Input'!A508=0,\"\",'Data Input'!A508)","v":""},{"$f":"IF(ISBLANK('Data Input'!A508),\"\",COUNTIF('Data Input'!C508:AK508,\"\"))","v":""},{"$f":"IF(ISBLANK('Data Input'!A508),\"\",COUNTIF('Data Input'!C508:AK508,\"0\"))","v":""},{"$f":"IF(ISBLANK('Data Input'!A508),\"\",SUM(B503,C503))","v":""},{"$f":"IF(ISBLANK('Data Input'!A508),\"\",SUM('Data Input'!C508:AK508))","v":""},{"$f":"IF(E503=\"\",\"\",E503/(COUNTA('Data Input'!$C$8:$AK$8)))","v":""},{"$f":"IF(ISBLANK('Data Input'!A508),\"\",SUM('Data Input'!C508,'Data Input'!D508,'Data Input'!J508,'Data Input'!X508))","v":""},{"$f":"IF(G503=\"\",\"\",G503/COUNTIF('Data Input'!$C$8:$AK$8,\"N\"))","v":""},{"$f":"IF(ISBLANK('Data Input'!A508),\"\",SUM('Data Input'!G508,'Data Input'!I508,'Data Input'!L508,'Data Input'!N508,'Data Input'!O508,'Data Input'!S508,'Data Input'!Z508,'Data Input'!AA508,'Data Input'!AB508,'Data Input'!AC508,'Data Input'!AE508,'Data Input'!AF508,'Data Input'!AG508,'Data Input'!AI508,'Data Input'!AK508))","v":""},{"$f":"IF(I503=\"\",\"\",I503/COUNTIF('Data Input'!$C$8:$AK$8,\"C\"))","v":""},{"$f":"IF(ISBLANK('Data Input'!A508),\"\",SUM('Data Input'!T508,'Data Input'!U508))","v":""},{"$f":"IF(K503=\"\",\"\",K503/COUNTIF('Data Input'!$C$8:$AK$8,\"S\"))","v":""},{"$f":"IF(ISBLANK('Data Input'!A508),\"\",SUM('Data Input'!F508,'Data Input'!R508,'Data Input'!AJ508))","v":""},{"$f":"IF(M503=\"\",\"\",M503/COUNTIF('Data Input'!$C$8:$AK$8,\"F\"))","v":""},{"$f":"IF(ISBLANK('Data Input'!A508),\"\",SUM('Data Input'!E508,'Data Input'!M508,'Data Input'!Q508,'Data Input'!V508,'Data Input'!W508,'Data Input'!AD508,'Data Input'!AH508))","v":""},{"$f":"IF(O503=\"\",\"\",O503/COUNTIF('Data Input'!$C$8:$AK$8,\"M\"))","v":""},{"$f":"IF(ISBLANK('Data Input'!A508),\"\",SUM('Data Input'!H508,'Data Input'!K508,'Data Input'!P508,'Data Input'!Y508))","v":""},{"$f":"IF(Q503=\"\",\"\",Q503/COUNTIF('Data Input'!$C$8:$AK$8,\"G\"))","v":""}]
[{"$f":"IF('Data Input'!A509=0,\"\",'Data Input'!A509)","v":""},{"$f":"IF(ISBLANK('Data Input'!A509),\"\",COUNTIF('Data Input'!C509:AK509,\"\"))","v":""},{"$f":"IF(ISBLANK('Data Input'!A509),\"\",COUNTIF('Data Input'!C509:AK509,\"0\"))","v":""},{"$f":"IF(ISBLANK('Data Input'!A509),\"\",SUM(B504,C504))","v":""},{"$f":"IF(ISBLANK('Data Input'!A509),\"\",SUM('Data Input'!C509:AK509))","v":""},{"$f":"IF(E504=\"\",\"\",E504/(COUNTA('Data Input'!$C$8:$AK$8)))","v":""},{"$f":"IF(ISBLANK('Data Input'!A509),\"\",SUM('Data Input'!C509,'Data Input'!D509,'Data Input'!J509,'Data Input'!X509))","v":""},{"$f":"IF(G504=\"\",\"\",G504/COUNTIF('Data Input'!$C$8:$AK$8,\"N\"))","v":""},{"$f":"IF(ISBLANK('Data Input'!A509),\"\",SUM('Data Input'!G509,'Data Input'!I509,'Data Input'!L509,'Data Input'!N509,'Data Input'!O509,'Data Input'!S509,'Data Input'!Z509,'Data Input'!AA509,'Data Input'!AB509,'Data Input'!AC509,'Data Input'!AE509,'Data Input'!AF509,'Data Input'!AG509,'Data Input'!AI509,'Data Input'!AK509))","v":""},{"$f":"IF(I504=\"\",\"\",I504/COUNTIF('Data Input'!$C$8:$AK$8,\"C\"))","v":""},{"$f":"IF(ISBLANK('Data Input'!A509),\"\",SUM('Data Input'!T509,'Data Input'!U509))","v":""},{"$f":"IF(K504=\"\",\"\",K504/COUNTIF('Data Input'!$C$8:$AK$8,\"S\"))","v":""},{"$f":"IF(ISBLANK('Data Input'!A509),\"\",SUM('Data Input'!F509,'Data Input'!R509,'Data Input'!AJ509))","v":""},{"$f":"IF(M504=\"\",\"\",M504/COUNTIF('Data Input'!$C$8:$AK$8,\"F\"))","v":""},{"$f":"IF(ISBLANK('Data Input'!A509),\"\",SUM('Data Input'!E509,'Data Input'!M509,'Data Input'!Q509,'Data Input'!V509,'Data Input'!W509,'Data Input'!AD509,'Data Input'!AH509))","v":""},{"$f":"IF(O504=\"\",\"\",O504/COUNTIF('Data Input'!$C$8:$AK$8,\"M\"))","v":""},{"$f":"IF(ISBLANK('Data Input'!A509),\"\",SUM('Data Input'!H509,'Data Input'!K509,'Data Input'!P509,'Data Input'!Y509))","v":""},{"$f":"IF(Q504=\"\",\"\",Q504/COUNTIF('Data Input'!$C$8:$AK$8,\"G\"))","v":""}]
[{"$f":"IF('Data Input'!A510=0,\"\",'Data Input'!A510)","v":""},{"$f":"IF(ISBLANK('Data Input'!A510),\"\",COUNTIF('Data Input'!C510:AK510,\"\"))","v":""},{"$f":"IF(ISBLANK('Data Input'!A510),\"\",COUNTIF('Data Input'!C510:AK510,\"0\"))","v":""},{"$f":"IF(ISBLANK('Data Input'!A510),\"\",SUM(B505,C505))","v":""},{"$f":"IF(ISBLANK('Data Input'!A510),\"\",SUM('Data Input'!C510:AK510))","v":""},{"$f":"IF(E505=\"\",\"\",E505/(COUNTA('Data Input'!$C$8:$AK$8)))","v":""},{"$f":"IF(ISBLANK('Data Input'!A510),\"\",SUM('Data Input'!C510,'Data Input'!D510,'Data Input'!J510,'Data Input'!X510))","v":""},{"$f":"IF(G505=\"\",\"\",G505/COUNTIF('Data Input'!$C$8:$AK$8,\"N\"))","v":""},{"$f":"IF(ISBLANK('Data Input'!A510),\"\",SUM('Data Input'!G510,'Data Input'!I510,'Data Input'!L510,'Data Input'!N510,'Data Input'!O510,'Data Input'!S510,'Data Input'!Z510,'Data Input'!AA510,'Data Input'!AB510,'Data Input'!AC510,'Data Input'!AE510,'Data Input'!AF510,'Data Input'!AG510,'Data Input'!AI510,'Data Input'!AK510))","v":""},{"$f":"IF(I505=\"\",\"\",I505/COUNTIF('Data Input'!$C$8:$AK$8,\"C\"))","v":""},{"$f":"IF(ISBLANK('Data Input'!A510),\"\",SUM('Data Input'!T510,'Data Input'!U510))","v":""},{"$f":"IF(K505=\"\",\"\",K505/COUNTIF('Data Input'!$C$8:$AK$8,\"S\"))","v":""},{"$f":"IF(ISBLANK('Data Input'!A510),\"\",SUM('Data Input'!F510,'Data Input'!R510,'Data Input'!AJ510))","v":""},{"$f":"IF(M505=\"\",\"\",M505/COUNTIF('Data Input'!$C$8:$AK$8,\"F\"))","v":""},{"$f":"IF(ISBLANK('Data Input'!A510),\"\",SUM('Data Input'!E510,'Data Input'!M510,'Data Input'!Q510,'Data Input'!V510,'Data Input'!W510,'Data Input'!AD510,'Data Input'!AH510))","v":""},{"$f":"IF(O505=\"\",\"\",O505/COUNTIF('Data Input'!$C$8:$AK$8,\"M\"))","v":""},{"$f":"IF(ISBLANK('Data Input'!A510),\"\",SUM('Data Input'!H510,'Data Input'!K510,'Data Input'!P510,'Data Input'!Y510))","v":""},{"$f":"IF(Q505=\"\",\"\",Q505/COUNTIF('Data Input'!$C$8:$AK$8,\"G\"))","v":""}]
[{"$f":"IF('Data Input'!A511=0,\"\",'Data Input'!A511)","v":""},{"$f":"IF(ISBLANK('Data Input'!A511),\"\",COUNTIF('Data Input'!C511:AK511,\"\"))","v":""},{"$f":"IF(ISBLANK('Data Input'!A511),\"\",COUNTIF('Data Input'!C511:AK511,\"0\"))","v":""},{"$f":"IF(ISBLANK('Data Input'!A511),\"\",SUM(B506,C506))","v":""},{"$f":"IF(ISBLANK('Data Input'!A511),\"\",SUM('Data Input'!C511:AK511))","v":""},{"$f":"IF(E506=\"\",\"\",E506/(COUNTA('Data Input'!$C$8:$AK$8)))","v":""},{"$f":"IF(ISBLANK('Data Input'!A511),\"\",SUM('Data Input'!C511,'Data Input'!D511,'Data Input'!J511,'Data Input'!X511))","v":""},{"$f":"IF(G506=\"\",\"\",G506/COUNTIF('Data Input'!$C$8:$AK$8,\"N\"))","v":""},{"$f":"IF(ISBLANK('Data Input'!A511),\"\",SUM('Data Input'!G511,'Data Input'!I511,'Data Input'!L511,'Data Input'!N511,'Data Input'!O511,'Data Input'!S511,'Data Input'!Z511,'Data Input'!AA511,'Data Input'!AB511,'Data Input'!AC511,'Data Input'!AE511,'Data Input'!AF511,'Data Input'!AG511,'Data Input'!AI511,'Data Input'!AK511))","v":""},{"$f":"IF(I506=\"\",\"\",I506/COUNTIF('Data Input'!$C$8:$AK$8,\"C\"))","v":""},{"$f":"IF(ISBLANK('Data Input'!A511),\"\",SUM('Data Input'!T511,'Data Input'!U511))","v":""},{"$f":"IF(K506=\"\",\"\",K506/COUNTIF('Data Input'!$C$8:$AK$8,\"S\"))","v":""},{"$f":"IF(ISBLANK('Data Input'!A511),\"\",SUM('Data Input'!F511,'Data Input'!R511,'Data Input'!AJ511))","v":""},{"$f":"IF(M506=\"\",\"\",M506/COUNTIF('Data Input'!$C$8:$AK$8,\"F\"))","v":""},{"$f":"IF(ISBLANK('Data Input'!A511),\"\",SUM('Data Input'!E511,'Data Input'!M511,'Data Input'!Q511,'Data Input'!V511,'Data Input'!W511,'Data Input'!AD511,'Data Input'!AH511))","v":""},{"$f":"IF(O506=\"\",\"\",O506/COUNTIF('Data Input'!$C$8:$AK$8,\"M\"))","v":""},{"$f":"IF(ISBLANK('Data Input'!A511),\"\",SUM('Data Input'!H511,'Data Input'!K511,'Data Input'!P511,'Data Input'!Y511))","v":""},{"$f":"IF(Q506=\"\",\"\",Q506/COUNTIF('Data Input'!$C$8:$AK$8,\"G\"))","v":""}]
[{"$f":"IF('Data Input'!A512=0,\"\",'Data Input'!A512)","v":""},{"$f":"IF(ISBLANK('Data Input'!A512),\"\",COUNTIF('Data Input'!C512:AK512,\"\"))","v":""},{"$f":"IF(ISBLANK('Data Input'!A512),\"\",COUNTIF('Data Input'!C512:AK512,\"0\"))","v":""},{"$f":"IF(ISBLANK('Data Input'!A512),\"\",SUM(B507,C507))","v":""},{"$f":"IF(ISBLANK('Data Input'!A512),\"\",SUM('Data Input'!C512:AK512))","v":""},{"$f":"IF(E507=\"\",\"\",E507/(COUNTA('Data Input'!$C$8:$AK$8)))","v":""},{"$f":"IF(ISBLANK('Data Input'!A512),\"\",SUM('Data Input'!C512,'Data Input'!D512,'Data Input'!J512,'Data Input'!X512))","v":""},{"$f":"IF(G507=\"\",\"\",G507/COUNTIF('Data Input'!$C$8:$AK$8,\"N\"))","v":""},{"$f":"IF(ISBLANK('Data Input'!A512),\"\",SUM('Data Input'!G512,'Data Input'!I512,'Data Input'!L512,'Data Input'!N512,'Data Input'!O512,'Data Input'!S512,'Data Input'!Z512,'Data Input'!AA512,'Data Input'!AB512,'Data Input'!AC512,'Data Input'!AE512,'Data Input'!AF512,'Data Input'!AG512,'Data Input'!AI512,'Data Input'!AK512))","v":""},{"$f":"IF(I507=\"\",\"\",I507/COUNTIF('Data Input'!$C$8:$AK$8,\"C\"))","v":""},{"$f":"IF(ISBLANK('Data Input'!A512),\"\",SUM('Data Input'!T512,'Data Input'!U512))","v":""},{"$f":"IF(K507=\"\",\"\",K507/COUNTIF('Data Input'!$C$8:$AK$8,\"S\"))","v":""},{"$f":"IF(ISBLANK('Data Input'!A512),\"\",SUM('Data Input'!F512,'Data Input'!R512,'Data Input'!AJ512))","v":""},{"$f":"IF(M507=\"\",\"\",M507/COUNTIF('Data Input'!$C$8:$AK$8,\"F\"))","v":""},{"$f":"IF(ISBLANK('Data Input'!A512),\"\",SUM('Data Input'!E512,'Data Input'!M512,'Data Input'!Q512,'Data Input'!V512,'Data Input'!W512,'Data Input'!AD512,'Data Input'!AH512))","v":""},{"$f":"IF(O507=\"\",\"\",O507/COUNTIF('Data Input'!$C$8:$AK$8,\"M\"))","v":""},{"$f":"IF(ISBLANK('Data Input'!A512),\"\",SUM('Data Input'!H512,'Data Input'!K512,'Data Input'!P512,'Data Input'!Y512))","v":""},{"$f":"IF(Q507=\"\",\"\",Q507/COUNTIF('Data Input'!$C$8:$AK$8,\"G\"))","v":""}]
[{"$f":"IF('Data Input'!A513=0,\"\",'Data Input'!A513)","v":""},{"$f":"IF(ISBLANK('Data Input'!A513),\"\",COUNTIF('Data Input'!C513:AK513,\"\"))","v":""},{"$f":"IF(ISBLANK('Data Input'!A513),\"\",COUNTIF('Data Input'!C513:AK513,\"0\"))","v":""},{"$f":"IF(ISBLANK('Data Input'!A513),\"\",SUM(B508,C508))","v":""},{"$f":"IF(ISBLANK('Data Input'!A513),\"\",SUM('Data Input'!C513:AK513))","v":""},{"$f":"IF(E508=\"\",\"\",E508/(COUNTA('Data Input'!$C$8:$AK$8)))","v":""},{"$f":"IF(ISBLANK('Data Input'!A513),\"\",SUM('Data Input'!C513,'Data Input'!D513,'Data Input'!J513,'Data Input'!X513))","v":""},{"$f":"IF(G508=\"\",\"\",G508/COUNTIF('Data Input'!$C$8:$AK$8,\"N\"))","v":""},{"$f":"IF(ISBLANK('Data Input'!A513),\"\",SUM('Data Input'!G513,'Data Input'!I513,'Data Input'!L513,'Data Input'!N513,'Data Input'!O513,'Data Input'!S513,'Data Input'!Z513,'Data Input'!AA513,'Data Input'!AB513,'Data Input'!AC513,'Data Input'!AE513,'Data Input'!AF513,'Data Input'!AG513,'Data Input'!AI513,'Data Input'!AK513))","v":""},{"$f":"IF(I508=\"\",\"\",I508/COUNTIF('Data Input'!$C$8:$AK$8,\"C\"))","v":""},{"$f":"IF(ISBLANK('Data Input'!A513),\"\",SUM('Data Input'!T513,'Data Input'!U513))","v":""},{"$f":"IF(K508=\"\",\"\",K508/COUNTIF('Data Input'!$C$8:$AK$8,\"S\"))","v":""},{"$f":"IF(ISBLANK('Data Input'!A513),\"\",SUM('Data Input'!F513,'Data Input'!R513,'Data Input'!AJ513))","v":""},{"$f":"IF(M508=\"\",\"\",M508/COUNTIF('Data Input'!$C$8:$AK$8,\"F\"))","v":""},{"$f":"IF(ISBLANK('Data Input'!A513),\"\",SUM('Data Input'!E513,'Data Input'!M513,'Data Input'!Q513,'Data Input'!V513,'Data Input'!W513,'Data Input'!AD513,'Data Input'!AH513))","v":""},{"$f":"IF(O508=\"\",\"\",O508/COUNTIF('Data Input'!$C$8:$AK$8,\"M\"))","v":""},{"$f":"IF(ISBLANK('Data Input'!A513),\"\",SUM('Data Input'!H513,'Data Input'!K513,'Data Input'!P513,'Data Input'!Y513))","v":""},{"$f":"IF(Q508=\"\",\"\",Q508/COUNTIF('Data Input'!$C$8:$AK$8,\"G\"))","v":""}]
[{"$f":"IF('Data Input'!A514=0,\"\",'Data Input'!A514)","v":""},{"$f":"IF(ISBLANK('Data Input'!A514),\"\",COUNTIF('Data Input'!C514:AK514,\"\"))","v":""},{"$f":"IF(ISBLANK('Data Input'!A514),\"\",COUNTIF('Data Input'!C514:AK514,\"0\"))","v":""},{"$f":"IF(ISBLANK('Data Input'!A514),\"\",SUM(B509,C509))","v":""},{"$f":"IF(ISBLANK('Data Input'!A514),\"\",SUM('Data Input'!C514:AK514))","v":""},{"$f":"IF(E509=\"\",\"\",E509/(COUNTA('Data Input'!$C$8:$AK$8)))","v":""},{"$f":"IF(ISBLANK('Data Input'!A514),\"\",SUM('Data Input'!C514,'Data Input'!D514,'Data Input'!J514,'Data Input'!X514))","v":""},{"$f":"IF(G509=\"\",\"\",G509/COUNTIF('Data Input'!$C$8:$AK$8,\"N\"))","v":""},{"$f":"IF(ISBLANK('Data Input'!A514),\"\",SUM('Data Input'!G514,'Data Input'!I514,'Data Input'!L514,'Data Input'!N514,'Data Input'!O514,'Data Input'!S514,'Data Input'!Z514,'Data Input'!AA514,'Data Input'!AB514,'Data Input'!AC514,'Data Input'!AE514,'Data Input'!AF514,'Data Input'!AG514,'Data Input'!AI514,'Data Input'!AK514))","v":""},{"$f":"IF(I509=\"\",\"\",I509/COUNTIF('Data Input'!$C$8:$AK$8,\"C\"))","v":""},{"$f":"IF(ISBLANK('Data Input'!A514),\"\",SUM('Data Input'!T514,'Data Input'!U514))","v":""},{"$f":"IF(K509=\"\",\"\",K509/COUNTIF('Data Input'!$C$8:$AK$8,\"S\"))","v":""},{"$f":"IF(ISBLANK('Data Input'!A514),\"\",SUM('Data Input'!F514,'Data Input'!R514,'Data Input'!AJ514))","v":""},{"$f":"IF(M509=\"\",\"\",M509/COUNTIF('Data Input'!$C$8:$AK$8,\"F\"))","v":""},{"$f":"IF(ISBLANK('Data Input'!A514),\"\",SUM('Data Input'!E514,'Data Input'!M514,'Data Input'!Q514,'Data Input'!V514,'Data Input'!W514,'Data Input'!AD514,'Data Input'!AH514))","v":""},{"$f":"IF(O509=\"\",\"\",O509/COUNTIF('Data Input'!$C$8:$AK$8,\"M\"))","v":""},{"$f":"IF(ISBLANK('Data Input'!A514),\"\",SUM('Data Input'!H514,'Data Input'!K514,'Data Input'!P514,'Data Input'!Y514))","v":""},{"$f":"IF(Q509=\"\",\"\",Q509/COUNTIF('Data Input'!$C$8:$AK$8,\"G\"))","v":""}]
[{"$f":"IF('Data Input'!A515=0,\"\",'Data Input'!A515)","v":""},{"$f":"IF(ISBLANK('Data Input'!A515),\"\",COUNTIF('Data Input'!C515:AK515,\"\"))","v":""},{"$f":"IF(ISBLANK('Data Input'!A515),\"\",COUNTIF('Data Input'!C515:AK515,\"0\"))","v":""},{"$f":"IF(ISBLANK('Data Input'!A515),\"\",SUM(B510,C510))","v":""},{"$f":"IF(ISBLANK('Data Input'!A515),\"\",SUM('Data Input'!C515:AK515))","v":""},{"$f":"IF(E510=\"\",\"\",E510/(COUNTA('Data Input'!$C$8:$AK$8)))","v":""},{"$f":"IF(ISBLANK('Data Input'!A515),\"\",SUM('Data Input'!C515,'Data Input'!D515,'Data Input'!J515,'Data Input'!X515))","v":""},{"$f":"IF(G510=\"\",\"\",G510/COUNTIF('Data Input'!$C$8:$AK$8,\"N\"))","v":""},{"$f":"IF(ISBLANK('Data Input'!A515),\"\",SUM('Data Input'!G515,'Data Input'!I515,'Data Input'!L515,'Data Input'!N515,'Data Input'!O515,'Data Input'!S515,'Data Input'!Z515,'Data Input'!AA515,'Data Input'!AB515,'Data Input'!AC515,'Data Input'!AE515,'Data Input'!AF515,'Data Input'!AG515,'Data Input'!AI515,'Data Input'!AK515))","v":""},{"$f":"IF(I510=\"\",\"\",I510/COUNTIF('Data Input'!$C$8:$AK$8,\"C\"))","v":""},{"$f":"IF(ISBLANK('Data Input'!A515),\"\",SUM('Data Input'!T515,'Data Input'!U515))","v":""},{"$f":"IF(K510=\"\",\"\",K510/COUNTIF('Data Input'!$C$8:$AK$8,\"S\"))","v":""},{"$f":"IF(ISBLANK('Data Input'!A515),\"\",SUM('Data Input'!F515,'Data Input'!R515,'Data Input'!AJ515))","v":""},{"$f":"IF(M510=\"\",\"\",M510/COUNTIF('Data Input'!$C$8:$AK$8,\"F\"))","v":""},{"$f":"IF(ISBLANK('Data Input'!A515),\"\",SUM('Data Input'!E515,'Data Input'!M515,'Data Input'!Q515,'Data Input'!V515,'Data Input'!W515,'Data Input'!AD515,'Data Input'!AH515))","v":""},{"$f":"IF(O510=\"\",\"\",O510/COUNTIF('Data Input'!$C$8:$AK$8,\"M\"))","v":""},{"$f":"IF(ISBLANK('Data Input'!A515),\"\",SUM('Data Input'!H515,'Data Input'!K515,'Data Input'!P515,'Data Input'!Y515))","v":""},{"$f":"IF(Q510=\"\",\"\",Q510/COUNTIF('Data Input'!$C$8:$AK$8,\"G\"))","v":""}]
[{"$f":"IF('Data Input'!A516=0,\"\",'Data Input'!A516)","v":""},{"$f":"IF(ISBLANK('Data Input'!A516),\"\",COUNTIF('Data Input'!C516:AK516,\"\"))","v":""},{"$f":"IF(ISBLANK('Data Input'!A516),\"\",COUNTIF('Data Input'!C516:AK516,\"0\"))","v":""},{"$f":"IF(ISBLANK('Data Input'!A516),\"\",SUM(B511,C511))","v":""},{"$f":"IF(ISBLANK('Data Input'!A516),\"\",SUM('Data Input'!C516:AK516))","v":""},{"$f":"IF(E511=\"\",\"\",E511/(COUNTA('Data Input'!$C$8:$AK$8)))","v":""},{"$f":"IF(ISBLANK('Data Input'!A516),\"\",SUM('Data Input'!C516,'Data Input'!D516,'Data Input'!J516,'Data Input'!X516))","v":""},{"$f":"IF(G511=\"\",\"\",G511/COUNTIF('Data Input'!$C$8:$AK$8,\"N\"))","v":""},{"$f":"IF(ISBLANK('Data Input'!A516),\"\",SUM('Data Input'!G516,'Data Input'!I516,'Data Input'!L516,'Data Input'!N516,'Data Input'!O516,'Data Input'!S516,'Data Input'!Z516,'Data Input'!AA516,'Data Input'!AB516,'Data Input'!AC516,'Data Input'!AE516,'Data Input'!AF516,'Data Input'!AG516,'Data Input'!AI516,'Data Input'!AK516))","v":""},{"$f":"IF(I511=\"\",\"\",I511/COUNTIF('Data Input'!$C$8:$AK$8,\"C\"))","v":""},{"$f":"IF(ISBLANK('Data Input'!A516),\"\",SUM('Data Input'!T516,'Data Input'!U516))","v":""},{"$f":"IF(K511=\"\",\"\",K511/COUNTIF('Data Input'!$C$8:$AK$8,\"S\"))","v":""},{"$f":"IF(ISBLANK('Data Input'!A516),\"\",SUM('Data Input'!F516,'Data Input'!R516,'Data Input'!AJ516))","v":""},{"$f":"IF(M511=\"\",\"\",M511/COUNTIF('Data Input'!$C$8:$AK$8,\"F\"))","v":""},{"$f":"IF(ISBLANK('Data Input'!A516),\"\",SUM('Data Input'!E516,'Data Input'!M516,'Data Input'!Q516,'Data Input'!V516,'Data Input'!W516,'Data Input'!AD516,'Data Input'!AH516))","v":""},{"$f":"IF(O511=\"\",\"\",O511/COUNTIF('Data Input'!$C$8:$AK$8,\"M\"))","v":""},{"$f":"IF(ISBLANK('Data Input'!A516),\"\",SUM('Data Input'!H516,'Data Input'!K516,'Data Input'!P516,'Data Input'!Y516))","v":""},{"$f":"IF(Q511=\"\",\"\",Q511/COUNTIF('Data Input'!$C$8:$AK$8,\"G\"))","v":""}]
[{"$f":"IF('Data Input'!A517=0,\"\",'Data Input'!A517)","v":""},{"$f":"IF(ISBLANK('Data Input'!A517),\"\",COUNTIF('Data Input'!C517:AK517,\"\"))","v":""},{"$f":"IF(ISBLANK('Data Input'!A517),\"\",COUNTIF('Data Input'!C517:AK517,\"0\"))","v":""},{"$f":"IF(ISBLANK('Data Input'!A517),\"\",SUM(B512,C512))","v":""},{"$f":"IF(ISBLANK('Data Input'!A517),\"\",SUM('Data Input'!C517:AK517))","v":""},{"$f":"IF(E512=\"\",\"\",E512/(COUNTA('Data Input'!$C$8:$AK$8)))","v":""},{"$f":"IF(ISBLANK('Data Input'!A517),\"\",SUM('Data Input'!C517,'Data Input'!D517,'Data Input'!J517,'Data Input'!X517))","v":""},{"$f":"IF(G512=\"\",\"\",G512/COUNTIF('Data Input'!$C$8:$AK$8,\"N\"))","v":""},{"$f":"IF(ISBLANK('Data Input'!A517),\"\",SUM('Data Input'!G517,'Data Input'!I517,'Data Input'!L517,'Data Input'!N517,'Data Input'!O517,'Data Input'!S517,'Data Input'!Z517,'Data Input'!AA517,'Data Input'!AB517,'Data Input'!AC517,'Data Input'!AE517,'Data Input'!AF517,'Data Input'!AG517,'Data Input'!AI517,'Data Input'!AK517))","v":""},{"$f":"IF(I512=\"\",\"\",I512/COUNTIF('Data Input'!$C$8:$AK$8,\"C\"))","v":""},{"$f":"IF(ISBLANK('Data Input'!A517),\"\",SUM('Data Input'!T517,'Data Input'!U517))","v":""},{"$f":"IF(K512=\"\",\"\",K512/COUNTIF('Data Input'!$C$8:$AK$8,\"S\"))","v":""},{"$f":"IF(ISBLANK('Data Input'!A517),\"\",SUM('Data Input'!F517,'Data Input'!R517,'Data Input'!AJ517))","v":""},{"$f":"IF(M512=\"\",\"\",M512/COUNTIF('Data Input'!$C$8:$AK$8,\"F\"))","v":""},{"$f":"IF(ISBLANK('Data Input'!A517),\"\",SUM('Data Input'!E517,'Data Input'!M517,'Data Input'!Q517,'Data Input'!V517,'Data Input'!W517,'Data Input'!AD517,'Data Input'!AH517))","v":""},{"$f":"IF(O512=\"\",\"\",O512/COUNTIF('Data Input'!$C$8:$AK$8,\"M\"))","v":""},{"$f":"IF(ISBLANK('Data Input'!A517),\"\",SUM('Data Input'!H517,'Data Input'!K517,'Data Input'!P517,'Data Input'!Y517))","v":""},{"$f":"IF(Q512=\"\",\"\",Q512/COUNTIF('Data Input'!$C$8:$AK$8,\"G\"))","v":""}]
[{"$f":"IF('Data Input'!A518=0,\"\",'Data Input'!A518)","v":""},{"$f":"IF(ISBLANK('Data Input'!A518),\"\",COUNTIF('Data Input'!C518:AK518,\"\"))","v":""},{"$f":"IF(ISBLANK('Data Input'!A518),\"\",COUNTIF('Data Input'!C518:AK518,\"0\"))","v":""},{"$f":"IF(ISBLANK('Data Input'!A518),\"\",SUM(B513,C513))","v":""},{"$f":"IF(ISBLANK('Data Input'!A518),\"\",SUM('Data Input'!C518:AK518))","v":""},{"$f":"IF(E513=\"\",\"\",E513/(COUNTA('Data Input'!$C$8:$AK$8)))","v":""},{"$f":"IF(ISBLANK('Data Input'!A518),\"\",SUM('Data Input'!C518,'Data Input'!D518,'Data Input'!J518,'Data Input'!X518))","v":""},{"$f":"IF(G513=\"\",\"\",G513/COUNTIF('Data Input'!$C$8:$AK$8,\"N\"))","v":""},{"$f":"IF(ISBLANK('Data Input'!A518),\"\",SUM('Data Input'!G518,'Data Input'!I518,'Data Input'!L518,'Data Input'!N518,'Data Input'!O518,'Data Input'!S518,'Data Input'!Z518,'Data Input'!AA518,'Data Input'!AB518,'Data Input'!AC518,'Data Input'!AE518,'Data Input'!AF518,'Data Input'!AG518,'Data Input'!AI518,'Data Input'!AK518))","v":""},{"$f":"IF(I513=\"\",\"\",I513/COUNTIF('Data Input'!$C$8:$AK$8,\"C\"))","v":""},{"$f":"IF(ISBLANK('Data Input'!A518),\"\",SUM('Data Input'!T518,'Data Input'!U518))","v":""},{"$f":"IF(K513=\"\",\"\",K513/COUNTIF('Data Input'!$C$8:$AK$8,\"S\"))","v":""},{"$f":"IF(ISBLANK('Data Input'!A518),\"\",SUM('Data Input'!F518,'Data Input'!R518,'Data Input'!AJ518))","v":""},{"$f":"IF(M513=\"\",\"\",M513/COUNTIF('Data Input'!$C$8:$AK$8,\"F\"))","v":""},{"$f":"IF(ISBLANK('Data Input'!A518),\"\",SUM('Data Input'!E518,'Data Input'!M518,'Data Input'!Q518,'Data Input'!V518,'Data Input'!W518,'Data Input'!AD518,'Data Input'!AH518))","v":""},{"$f":"IF(O513=\"\",\"\",O513/COUNTIF('Data Input'!$C$8:$AK$8,\"M\"))","v":""},{"$f":"IF(ISBLANK('Data Input'!A518),\"\",SUM('Data Input'!H518,'Data Input'!K518,'Data Input'!P518,'Data Input'!Y518))","v":""},{"$f":"IF(Q513=\"\",\"\",Q513/COUNTIF('Data Input'!$C$8:$AK$8,\"G\"))","v":""}]
[{"$f":"IF('Data Input'!A519=0,\"\",'Data Input'!A519)","v":""},{"$f":"IF(ISBLANK('Data Input'!A519),\"\",COUNTIF('Data Input'!C519:AK519,\"\"))","v":""},{"$f":"IF(ISBLANK('Data Input'!A519),\"\",COUNTIF('Data Input'!C519:AK519,\"0\"))","v":""},{"$f":"IF(ISBLANK('Data Input'!A519),\"\",SUM(B514,C514))","v":""},{"$f":"IF(ISBLANK('Data Input'!A519),\"\",SUM('Data Input'!C519:AK519))","v":""},{"$f":"IF(E514=\"\",\"\",E514/(COUNTA('Data Input'!$C$8:$AK$8)))","v":""},{"$f":"IF(ISBLANK('Data Input'!A519),\"\",SUM('Data Input'!C519,'Data Input'!D519,'Data Input'!J519,'Data Input'!X519))","v":""},{"$f":"IF(G514=\"\",\"\",G514/COUNTIF('Data Input'!$C$8:$AK$8,\"N\"))","v":""},{"$f":"IF(ISBLANK('Data Input'!A519),\"\",SUM('Data Input'!G519,'Data Input'!I519,'Data Input'!L519,'Data Input'!N519,'Data Input'!O519,'Data Input'!S519,'Data Input'!Z519,'Data Input'!AA519,'Data Input'!AB519,'Data Input'!AC519,'Data Input'!AE519,'Data Input'!AF519,'Data Input'!AG519,'Data Input'!AI519,'Data Input'!AK519))","v":""},{"$f":"IF(I514=\"\",\"\",I514/COUNTIF('Data Input'!$C$8:$AK$8,\"C\"))","v":""},{"$f":"IF(ISBLANK('Data Input'!A519),\"\",SUM('Data Input'!T519,'Data Input'!U519))","v":""},{"$f":"IF(K514=\"\",\"\",K514/COUNTIF('Data Input'!$C$8:$AK$8,\"S\"))","v":""},{"$f":"IF(ISBLANK('Data Input'!A519),\"\",SUM('Data Input'!F519,'Data Input'!R519,'Data Input'!AJ519))","v":""},{"$f":"IF(M514=\"\",\"\",M514/COUNTIF('Data Input'!$C$8:$AK$8,\"F\"))","v":""},{"$f":"IF(ISBLANK('Data Input'!A519),\"\",SUM('Data Input'!E519,'Data Input'!M519,'Data Input'!Q519,'Data Input'!V519,'Data Input'!W519,'Data Input'!AD519,'Data Input'!AH519))","v":""},{"$f":"IF(O514=\"\",\"\",O514/COUNTIF('Data Input'!$C$8:$AK$8,\"M\"))","v":""},{"$f":"IF(ISBLANK('Data Input'!A519),\"\",SUM('Data Input'!H519,'Data Input'!K519,'Data Input'!P519,'Data Input'!Y519))","v":""},{"$f":"IF(Q514=\"\",\"\",Q514/COUNTIF('Data Input'!$C$8:$AK$8,\"G\"))","v":""}]
[{"$f":"IF('Data Input'!A520=0,\"\",'Data Input'!A520)","v":""},{"$f":"IF(ISBLANK('Data Input'!A520),\"\",COUNTIF('Data Input'!C520:AK520,\"\"))","v":""},{"$f":"IF(ISBLANK('Data Input'!A520),\"\",COUNTIF('Data Input'!C520:AK520,\"0\"))","v":""},{"$f":"IF(ISBLANK('Data Input'!A520),\"\",SUM(B515,C515))","v":""},{"$f":"IF(ISBLANK('Data Input'!A520),\"\",SUM('Data Input'!C520:AK520))","v":""},{"$f":"IF(E515=\"\",\"\",E515/(COUNTA('Data Input'!$C$8:$AK$8)))","v":""},{"$f":"IF(ISBLANK('Data Input'!A520),\"\",SUM('Data Input'!C520,'Data Input'!D520,'Data Input'!J520,'Data Input'!X520))","v":""},{"$f":"IF(G515=\"\",\"\",G515/COUNTIF('Data Input'!$C$8:$AK$8,\"N\"))","v":""},{"$f":"IF(ISBLANK('Data Input'!A520),\"\",SUM('Data Input'!G520,'Data Input'!I520,'Data Input'!L520,'Data Input'!N520,'Data Input'!O520,'Data Input'!S520,'Data Input'!Z520,'Data Input'!AA520,'Data Input'!AB520,'Data Input'!AC520,'Data Input'!AE520,'Data Input'!AF520,'Data Input'!AG520,'Data Input'!AI520,'Data Input'!AK520))","v":""},{"$f":"IF(I515=\"\",\"\",I515/COUNTIF('Data Input'!$C$8:$AK$8,\"C\"))","v":""},{"$f":"IF(ISBLANK('Data Input'!A520),\"\",SUM('Data Input'!T520,'Data Input'!U520))","v":""},{"$f":"IF(K515=\"\",\"\",K515/COUNTIF('Data Input'!$C$8:$AK$8,\"S\"))","v":""},{"$f":"IF(ISBLANK('Data Input'!A520),\"\",SUM('Data Input'!F520,'Data Input'!R520,'Data Input'!AJ520))","v":""},{"$f":"IF(M515=\"\",\"\",M515/COUNTIF('Data Input'!$C$8:$AK$8,\"F\"))","v":""},{"$f":"IF(ISBLANK('Data Input'!A520),\"\",SUM('Data Input'!E520,'Data Input'!M520,'Data Input'!Q520,'Data Input'!V520,'Data Input'!W520,'Data Input'!AD520,'Data Input'!AH520))","v":""},{"$f":"IF(O515=\"\",\"\",O515/COUNTIF('Data Input'!$C$8:$AK$8,\"M\"))","v":""},{"$f":"IF(ISBLANK('Data Input'!A520),\"\",SUM('Data Input'!H520,'Data Input'!K520,'Data Input'!P520,'Data Input'!Y520))","v":""},{"$f":"IF(Q515=\"\",\"\",Q515/COUNTIF('Data Input'!$C$8:$AK$8,\"G\"))","v":""}]
[{"$f":"IF('Data Input'!A521=0,\"\",'Data Input'!A521)","v":""},{"$f":"IF(ISBLANK('Data Input'!A521),\"\",COUNTIF('Data Input'!C521:AK521,\"\"))","v":""},{"$f":"IF(ISBLANK('Data Input'!A521),\"\",COUNTIF('Data Input'!C521:AK521,\"0\"))","v":""},{"$f":"IF(ISBLANK('Data Input'!A521),\"\",SUM(B516,C516))","v":""},{"$f":"IF(ISBLANK('Data Input'!A521),\"\",SUM('Data Input'!C521:AK521))","v":""},{"$f":"IF(E516=\"\",\"\",E516/(COUNTA('Data Input'!$C$8:$AK$8)))","v":""},{"$f":"IF(ISBLANK('Data Input'!A521),\"\",SUM('Data Input'!C521,'Data Input'!D521,'Data Input'!J521,'Data Input'!X521))","v":""},{"$f":"IF(G516=\"\",\"\",G516/COUNTIF('Data Input'!$C$8:$AK$8,\"N\"))","v":""},{"$f":"IF(ISBLANK('Data Input'!A521),\"\",SUM('Data Input'!G521,'Data Input'!I521,'Data Input'!L521,'Data Input'!N521,'Data Input'!O521,'Data Input'!S521,'Data Input'!Z521,'Data Input'!AA521,'Data Input'!AB521,'Data Input'!AC521,'Data Input'!AE521,'Data Input'!AF521,'Data Input'!AG521,'Data Input'!AI521,'Data Input'!AK521))","v":""},{"$f":"IF(I516=\"\",\"\",I516/COUNTIF('Data Input'!$C$8:$AK$8,\"C\"))","v":""},{"$f":"IF(ISBLANK('Data Input'!A521),\"\",SUM('Data Input'!T521,'Data Input'!U521))","v":""},{"$f":"IF(K516=\"\",\"\",K516/COUNTIF('Data Input'!$C$8:$AK$8,\"S\"))","v":""},{"$f":"IF(ISBLANK('Data Input'!A521),\"\",SUM('Data Input'!F521,'Data Input'!R521,'Data Input'!AJ521))","v":""},{"$f":"IF(M516=\"\",\"\",M516/COUNTIF('Data Input'!$C$8:$AK$8,\"F\"))","v":""},{"$f":"IF(ISBLANK('Data Input'!A521),\"\",SUM('Data Input'!E521,'Data Input'!M521,'Data Input'!Q521,'Data Input'!V521,'Data Input'!W521,'Data Input'!AD521,'Data Input'!AH521))","v":""},{"$f":"IF(O516=\"\",\"\",O516/COUNTIF('Data Input'!$C$8:$AK$8,\"M\"))","v":""},{"$f":"IF(ISBLANK('Data Input'!A521),\"\",SUM('Data Input'!H521,'Data Input'!K521,'Data Input'!P521,'Data Input'!Y521))","v":""},{"$f":"IF(Q516=\"\",\"\",Q516/COUNTIF('Data Input'!$C$8:$AK$8,\"G\"))","v":""}]
[{"$f":"IF('Data Input'!A522=0,\"\",'Data Input'!A522)","v":""},{"$f":"IF(ISBLANK('Data Input'!A522),\"\",COUNTIF('Data Input'!C522:AK522,\"\"))","v":""},{"$f":"IF(ISBLANK('Data Input'!A522),\"\",COUNTIF('Data Input'!C522:AK522,\"0\"))","v":""},{"$f":"IF(ISBLANK('Data Input'!A522),\"\",SUM(B517,C517))","v":""},{"$f":"IF(ISBLANK('Data Input'!A522),\"\",SUM('Data Input'!C522:AK522))","v":""},{"$f":"IF(E517=\"\",\"\",E517/(COUNTA('Data Input'!$C$8:$AK$8)))","v":""},{"$f":"IF(ISBLANK('Data Input'!A522),\"\",SUM('Data Input'!C522,'Data Input'!D522,'Data Input'!J522,'Data Input'!X522))","v":""},{"$f":"IF(G517=\"\",\"\",G517/COUNTIF('Data Input'!$C$8:$AK$8,\"N\"))","v":""},{"$f":"IF(ISBLANK('Data Input'!A522),\"\",SUM('Data Input'!G522,'Data Input'!I522,'Data Input'!L522,'Data Input'!N522,'Data Input'!O522,'Data Input'!S522,'Data Input'!Z522,'Data Input'!AA522,'Data Input'!AB522,'Data Input'!AC522,'Data Input'!AE522,'Data Input'!AF522,'Data Input'!AG522,'Data Input'!AI522,'Data Input'!AK522))","v":""},{"$f":"IF(I517=\"\",\"\",I517/COUNTIF('Data Input'!$C$8:$AK$8,\"C\"))","v":""},{"$f":"IF(ISBLANK('Data Input'!A522),\"\",SUM('Data Input'!T522,'Data Input'!U522))","v":""},{"$f":"IF(K517=\"\",\"\",K517/COUNTIF('Data Input'!$C$8:$AK$8,\"S\"))","v":""},{"$f":"IF(ISBLANK('Data Input'!A522),\"\",SUM('Data Input'!F522,'Data Input'!R522,'Data Input'!AJ522))","v":""},{"$f":"IF(M517=\"\",\"\",M517/COUNTIF('Data Input'!$C$8:$AK$8,\"F\"))","v":""},{"$f":"IF(ISBLANK('Data Input'!A522),\"\",SUM('Data Input'!E522,'Data Input'!M522,'Data Input'!Q522,'Data Input'!V522,'Data Input'!W522,'Data Input'!AD522,'Data Input'!AH522))","v":""},{"$f":"IF(O517=\"\",\"\",O517/COUNTIF('Data Input'!$C$8:$AK$8,\"M\"))","v":""},{"$f":"IF(ISBLANK('Data Input'!A522),\"\",SUM('Data Input'!H522,'Data Input'!K522,'Data Input'!P522,'Data Input'!Y522))","v":""},{"$f":"IF(Q517=\"\",\"\",Q517/COUNTIF('Data Input'!$C$8:$AK$8,\"G\"))","v":""}]
[{"$f":"IF('Data Input'!A523=0,\"\",'Data Input'!A523)","v":""},{"$f":"IF(ISBLANK('Data Input'!A523),\"\",COUNTIF('Data Input'!C523:AK523,\"\"))","v":""},{"$f":"IF(ISBLANK('Data Input'!A523),\"\",COUNTIF('Data Input'!C523:AK523,\"0\"))","v":""},{"$f":"IF(ISBLANK('Data Input'!A523),\"\",SUM(B518,C518))","v":""},{"$f":"IF(ISBLANK('Data Input'!A523),\"\",SUM('Data Input'!C523:AK523))","v":""},{"$f":"IF(E518=\"\",\"\",E518/(COUNTA('Data Input'!$C$8:$AK$8)))","v":""},{"$f":"IF(ISBLANK('Data Input'!A523),\"\",SUM('Data Input'!C523,'Data Input'!D523,'Data Input'!J523,'Data Input'!X523))","v":""},{"$f":"IF(G518=\"\",\"\",G518/COUNTIF('Data Input'!$C$8:$AK$8,\"N\"))","v":""},{"$f":"IF(ISBLANK('Data Input'!A523),\"\",SUM('Data Input'!G523,'Data Input'!I523,'Data Input'!L523,'Data Input'!N523,'Data Input'!O523,'Data Input'!S523,'Data Input'!Z523,'Data Input'!AA523,'Data Input'!AB523,'Data Input'!AC523,'Data Input'!AE523,'Data Input'!AF523,'Data Input'!AG523,'Data Input'!AI523,'Data Input'!AK523))","v":""},{"$f":"IF(I518=\"\",\"\",I518/COUNTIF('Data Input'!$C$8:$AK$8,\"C\"))","v":""},{"$f":"IF(ISBLANK('Data Input'!A523),\"\",SUM('Data Input'!T523,'Data Input'!U523))","v":""},{"$f":"IF(K518=\"\",\"\",K518/COUNTIF('Data Input'!$C$8:$AK$8,\"S\"))","v":""},{"$f":"IF(ISBLANK('Data Input'!A523),\"\",SUM('Data Input'!F523,'Data Input'!R523,'Data Input'!AJ523))","v":""},{"$f":"IF(M518=\"\",\"\",M518/COUNTIF('Data Input'!$C$8:$AK$8,\"F\"))","v":""},{"$f":"IF(ISBLANK('Data Input'!A523),\"\",SUM('Data Input'!E523,'Data Input'!M523,'Data Input'!Q523,'Data Input'!V523,'Data Input'!W523,'Data Input'!AD523,'Data Input'!AH523))","v":""},{"$f":"IF(O518=\"\",\"\",O518/COUNTIF('Data Input'!$C$8:$AK$8,\"M\"))","v":""},{"$f":"IF(ISBLANK('Data Input'!A523),\"\",SUM('Data Input'!H523,'Data Input'!K523,'Data Input'!P523,'Data Input'!Y523))","v":""},{"$f":"IF(Q518=\"\",\"\",Q518/COUNTIF('Data Input'!$C$8:$AK$8,\"G\"))","v":""}]
[{"$f":"IF('Data Input'!A524=0,\"\",'Data Input'!A524)","v":""},{"$f":"IF(ISBLANK('Data Input'!A524),\"\",COUNTIF('Data Input'!C524:AK524,\"\"))","v":""},{"$f":"IF(ISBLANK('Data Input'!A524),\"\",COUNTIF('Data Input'!C524:AK524,\"0\"))","v":""},{"$f":"IF(ISBLANK('Data Input'!A524),\"\",SUM(B519,C519))","v":""},{"$f":"IF(ISBLANK('Data Input'!A524),\"\",SUM('Data Input'!C524:AK524))","v":""},{"$f":"IF(E519=\"\",\"\",E519/(COUNTA('Data Input'!$C$8:$AK$8)))","v":""},{"$f":"IF(ISBLANK('Data Input'!A524),\"\",SUM('Data Input'!C524,'Data Input'!D524,'Data Input'!J524,'Data Input'!X524))","v":""},{"$f":"IF(G519=\"\",\"\",G519/COUNTIF('Data Input'!$C$8:$AK$8,\"N\"))","v":""},{"$f":"IF(ISBLANK('Data Input'!A524),\"\",SUM('Data Input'!G524,'Data Input'!I524,'Data Input'!L524,'Data Input'!N524,'Data Input'!O524,'Data Input'!S524,'Data Input'!Z524,'Data Input'!AA524,'Data Input'!AB524,'Data Input'!AC524,'Data Input'!AE524,'Data Input'!AF524,'Data Input'!AG524,'Data Input'!AI524,'Data Input'!AK524))","v":""},{"$f":"IF(I519=\"\",\"\",I519/COUNTIF('Data Input'!$C$8:$AK$8,\"C\"))","v":""},{"$f":"IF(ISBLANK('Data Input'!A524),\"\",SUM('Data Input'!T524,'Data Input'!U524))","v":""},{"$f":"IF(K519=\"\",\"\",K519/COUNTIF('Data Input'!$C$8:$AK$8,\"S\"))","v":""},{"$f":"IF(ISBLANK('Data Input'!A524),\"\",SUM('Data Input'!F524,'Data Input'!R524,'Data Input'!AJ524))","v":""},{"$f":"IF(M519=\"\",\"\",M519/COUNTIF('Data Input'!$C$8:$AK$8,\"F\"))","v":""},{"$f":"IF(ISBLANK('Data Input'!A524),\"\",SUM('Data Input'!E524,'Data Input'!M524,'Data Input'!Q524,'Data Input'!V524,'Data Input'!W524,'Data Input'!AD524,'Data Input'!AH524))","v":""},{"$f":"IF(O519=\"\",\"\",O519/COUNTIF('Data Input'!$C$8:$AK$8,\"M\"))","v":""},{"$f":"IF(ISBLANK('Data Input'!A524),\"\",SUM('Data Input'!H524,'Data Input'!K524,'Data Input'!P524,'Data Input'!Y524))","v":""},{"$f":"IF(Q519=\"\",\"\",Q519/COUNTIF('Data Input'!$C$8:$AK$8,\"G\"))","v":""}]
[{"$f":"IF('Data Input'!A525=0,\"\",'Data Input'!A525)","v":""},{"$f":"IF(ISBLANK('Data Input'!A525),\"\",COUNTIF('Data Input'!C525:AK525,\"\"))","v":""},{"$f":"IF(ISBLANK('Data Input'!A525),\"\",COUNTIF('Data Input'!C525:AK525,\"0\"))","v":""},{"$f":"IF(ISBLANK('Data Input'!A525),\"\",SUM(B520,C520))","v":""},{"$f":"IF(ISBLANK('Data Input'!A525),\"\",SUM('Data Input'!C525:AK525))","v":""},{"$f":"IF(E520=\"\",\"\",E520/(COUNTA('Data Input'!$C$8:$AK$8)))","v":""},{"$f":"IF(ISBLANK('Data Input'!A525),\"\",SUM('Data Input'!C525,'Data Input'!D525,'Data Input'!J525,'Data Input'!X525))","v":""},{"$f":"IF(G520=\"\",\"\",G520/COUNTIF('Data Input'!$C$8:$AK$8,\"N\"))","v":""},{"$f":"IF(ISBLANK('Data Input'!A525),\"\",SUM('Data Input'!G525,'Data Input'!I525,'Data Input'!L525,'Data Input'!N525,'Data Input'!O525,'Data Input'!S525,'Data Input'!Z525,'Data Input'!AA525,'Data Input'!AB525,'Data Input'!AC525,'Data Input'!AE525,'Data Input'!AF525,'Data Input'!AG525,'Data Input'!AI525,'Data Input'!AK525))","v":""},{"$f":"IF(I520=\"\",\"\",I520/COUNTIF('Data Input'!$C$8:$AK$8,\"C\"))","v":""},{"$f":"IF(ISBLANK('Data Input'!A525),\"\",SUM('Data Input'!T525,'Data Input'!U525))","v":""},{"$f":"IF(K520=\"\",\"\",K520/COUNTIF('Data Input'!$C$8:$AK$8,\"S\"))","v":""},{"$f":"IF(ISBLANK('Data Input'!A525),\"\",SUM('Data Input'!F525,'Data Input'!R525,'Data Input'!AJ525))","v":""},{"$f":"IF(M520=\"\",\"\",M520/COUNTIF('Data Input'!$C$8:$AK$8,\"F\"))","v":""},{"$f":"IF(ISBLANK('Data Input'!A525),\"\",SUM('Data Input'!E525,'Data Input'!M525,'Data Input'!Q525,'Data Input'!V525,'Data Input'!W525,'Data Input'!AD525,'Data Input'!AH525))","v":""},{"$f":"IF(O520=\"\",\"\",O520/COUNTIF('Data Input'!$C$8:$AK$8,\"M\"))","v":""},{"$f":"IF(ISBLANK('Data Input'!A525),\"\",SUM('Data Input'!H525,'Data Input'!K525,'Data Input'!P525,'Data Input'!Y525))","v":""},{"$f":"IF(Q520=\"\",\"\",Q520/COUNTIF('Data Input'!$C$8:$AK$8,\"G\"))","v":""}]
[{"$f":"IF('Data Input'!A526=0,\"\",'Data Input'!A526)","v":""},{"$f":"IF(ISBLANK('Data Input'!A526),\"\",COUNTIF('Data Input'!C526:AK526,\"\"))","v":""},{"$f":"IF(ISBLANK('Data Input'!A526),\"\",COUNTIF('Data Input'!C526:AK526,\"0\"))","v":""},{"$f":"IF(ISBLANK('Data Input'!A526),\"\",SUM(B521,C521))","v":""},{"$f":"IF(ISBLANK('Data Input'!A526),\"\",SUM('Data Input'!C526:AK526))","v":""},{"$f":"IF(E521=\"\",\"\",E521/(COUNTA('Data Input'!$C$8:$AK$8)))","v":""},{"$f":"IF(ISBLANK('Data Input'!A526),\"\",SUM('Data Input'!C526,'Data Input'!D526,'Data Input'!J526,'Data Input'!X526))","v":""},{"$f":"IF(G521=\"\",\"\",G521/COUNTIF('Data Input'!$C$8:$AK$8,\"N\"))","v":""},{"$f":"IF(ISBLANK('Data Input'!A526),\"\",SUM('Data Input'!G526,'Data Input'!I526,'Data Input'!L526,'Data Input'!N526,'Data Input'!O526,'Data Input'!S526,'Data Input'!Z526,'Data Input'!AA526,'Data Input'!AB526,'Data Input'!AC526,'Data Input'!AE526,'Data Input'!AF526,'Data Input'!AG526,'Data Input'!AI526,'Data Input'!AK526))","v":""},{"$f":"IF(I521=\"\",\"\",I521/COUNTIF('Data Input'!$C$8:$AK$8,\"C\"))","v":""},{"$f":"IF(ISBLANK('Data Input'!A526),\"\",SUM('Data Input'!T526,'Data Input'!U526))","v":""},{"$f":"IF(K521=\"\",\"\",K521/COUNTIF('Data Input'!$C$8:$AK$8,\"S\"))","v":""},{"$f":"IF(ISBLANK('Data Input'!A526),\"\",SUM('Data Input'!F526,'Data Input'!R526,'Data Input'!AJ526))","v":""},{"$f":"IF(M521=\"\",\"\",M521/COUNTIF('Data Input'!$C$8:$AK$8,\"F\"))","v":""},{"$f":"IF(ISBLANK('Data Input'!A526),\"\",SUM('Data Input'!E526,'Data Input'!M526,'Data Input'!Q526,'Data Input'!V526,'Data Input'!W526,'Data Input'!AD526,'Data Input'!AH526))","v":""},{"$f":"IF(O521=\"\",\"\",O521/COUNTIF('Data Input'!$C$8:$AK$8,\"M\"))","v":""},{"$f":"IF(ISBLANK('Data Input'!A526),\"\",SUM('Data Input'!H526,'Data Input'!K526,'Data Input'!P526,'Data Input'!Y526))","v":""},{"$f":"IF(Q521=\"\",\"\",Q521/COUNTIF('Data Input'!$C$8:$AK$8,\"G\"))","v":""}]
[{"$f":"IF('Data Input'!A527=0,\"\",'Data Input'!A527)","v":""},{"$f":"IF(ISBLANK('Data Input'!A527),\"\",COUNTIF('Data Input'!C527:AK527,\"\"))","v":""},{"$f":"IF(ISBLANK('Data Input'!A527),\"\",COUNTIF('Data Input'!C527:AK527,\"0\"))","v":""},{"$f":"IF(ISBLANK('Data Input'!A527),\"\",SUM(B522,C522))","v":""},{"$f":"IF(ISBLANK('Data Input'!A527),\"\",SUM('Data Input'!C527:AK527))","v":""},{"$f":"IF(E522=\"\",\"\",E522/(COUNTA('Data Input'!$C$8:$AK$8)))","v":""},{"$f":"IF(ISBLANK('Data Input'!A527),\"\",SUM('Data Input'!C527,'Data Input'!D527,'Data Input'!J527,'Data Input'!X527))","v":""},{"$f":"IF(G522=\"\",\"\",G522/COUNTIF('Data Input'!$C$8:$AK$8,\"N\"))","v":""},{"$f":"IF(ISBLANK('Data Input'!A527),\"\",SUM('Data Input'!G527,'Data Input'!I527,'Data Input'!L527,'Data Input'!N527,'Data Input'!O527,'Data Input'!S527,'Data Input'!Z527,'Data Input'!AA527,'Data Input'!AB527,'Data Input'!AC527,'Data Input'!AE527,'Data Input'!AF527,'Data Input'!AG527,'Data Input'!AI527,'Data Input'!AK527))","v":""},{"$f":"IF(I522=\"\",\"\",I522/COUNTIF('Data Input'!$C$8:$AK$8,\"C\"))","v":""},{"$f":"IF(ISBLANK('Data Input'!A527),\"\",SUM('Data Input'!T527,'Data Input'!U527))","v":""},{"$f":"IF(K522=\"\",\"\",K522/COUNTIF('Data Input'!$C$8:$AK$8,\"S\"))","v":""},{"$f":"IF(ISBLANK('Data Input'!A527),\"\",SUM('Data Input'!F527,'Data Input'!R527,'Data Input'!AJ527))","v":""},{"$f":"IF(M522=\"\",\"\",M522/COUNTIF('Data Input'!$C$8:$AK$8,\"F\"))","v":""},{"$f":"IF(ISBLANK('Data Input'!A527),\"\",SUM('Data Input'!E527,'Data Input'!M527,'Data Input'!Q527,'Data Input'!V527,'Data Input'!W527,'Data Input'!AD527,'Data Input'!AH527))","v":""},{"$f":"IF(O522=\"\",\"\",O522/COUNTIF('Data Input'!$C$8:$AK$8,\"M\"))","v":""},{"$f":"IF(ISBLANK('Data Input'!A527),\"\",SUM('Data Input'!H527,'Data Input'!K527,'Data Input'!P527,'Data Input'!Y527))","v":""},{"$f":"IF(Q522=\"\",\"\",Q522/COUNTIF('Data Input'!$C$8:$AK$8,\"G\"))","v":""}]
[{"$f":"IF('Data Input'!A528=0,\"\",'Data Input'!A528)","v":""},{"$f":"IF(ISBLANK('Data Input'!A528),\"\",COUNTIF('Data Input'!C528:AK528,\"\"))","v":""},{"$f":"IF(ISBLANK('Data Input'!A528),\"\",COUNTIF('Data Input'!C528:AK528,\"0\"))","v":""},{"$f":"IF(ISBLANK('Data Input'!A528),\"\",SUM(B523,C523))","v":""},{"$f":"IF(ISBLANK('Data Input'!A528),\"\",SUM('Data Input'!C528:AK528))","v":""},{"$f":"IF(E523=\"\",\"\",E523/(COUNTA('Data Input'!$C$8:$AK$8)))","v":""},{"$f":"IF(ISBLANK('Data Input'!A528),\"\",SUM('Data Input'!C528,'Data Input'!D528,'Data Input'!J528,'Data Input'!X528))","v":""},{"$f":"IF(G523=\"\",\"\",G523/COUNTIF('Data Input'!$C$8:$AK$8,\"N\"))","v":""},{"$f":"IF(ISBLANK('Data Input'!A528),\"\",SUM('Data Input'!G528,'Data Input'!I528,'Data Input'!L528,'Data Input'!N528,'Data Input'!O528,'Data Input'!S528,'Data Input'!Z528,'Data Input'!AA528,'Data Input'!AB528,'Data Input'!AC528,'Data Input'!AE528,'Data Input'!AF528,'Data Input'!AG528,'Data Input'!AI528,'Data Input'!AK528))","v":""},{"$f":"IF(I523=\"\",\"\",I523/COUNTIF('Data Input'!$C$8:$AK$8,\"C\"))","v":""},{"$f":"IF(ISBLANK('Data Input'!A528),\"\",SUM('Data Input'!T528,'Data Input'!U528))","v":""},{"$f":"IF(K523=\"\",\"\",K523/COUNTIF('Data Input'!$C$8:$AK$8,\"S\"))","v":""},{"$f":"IF(ISBLANK('Data Input'!A528),\"\",SUM('Data Input'!F528,'Data Input'!R528,'Data Input'!AJ528))","v":""},{"$f":"IF(M523=\"\",\"\",M523/COUNTIF('Data Input'!$C$8:$AK$8,\"F\"))","v":""},{"$f":"IF(ISBLANK('Data Input'!A528),\"\",SUM('Data Input'!E528,'Data Input'!M528,'Data Input'!Q528,'Data Input'!V528,'Data Input'!W528,'Data Input'!AD528,'Data Input'!AH528))","v":""},{"$f":"IF(O523=\"\",\"\",O523/COUNTIF('Data Input'!$C$8:$AK$8,\"M\"))","v":""},{"$f":"IF(ISBLANK('Data Input'!A528),\"\",SUM('Data Input'!H528,'Data Input'!K528,'Data Input'!P528,'Data Input'!Y528))","v":""},{"$f":"IF(Q523=\"\",\"\",Q523/COUNTIF('Data Input'!$C$8:$AK$8,\"G\"))","v":""}]
[{"$f":"IF('Data Input'!A529=0,\"\",'Data Input'!A529)","v":""},{"$f":"IF(ISBLANK('Data Input'!A529),\"\",COUNTIF('Data Input'!C529:AK529,\"\"))","v":""},{"$f":"IF(ISBLANK('Data Input'!A529),\"\",COUNTIF('Data Input'!C529:AK529,\"0\"))","v":""},{"$f":"IF(ISBLANK('Data Input'!A529),\"\",SUM(B524,C524))","v":""},{"$f":"IF(ISBLANK('Data Input'!A529),\"\",SUM('Data Input'!C529:AK529))","v":""},{"$f":"IF(E524=\"\",\"\",E524/(COUNTA('Data Input'!$C$8:$AK$8)))","v":""},{"$f":"IF(ISBLANK('Data Input'!A529),\"\",SUM('Data Input'!C529,'Data Input'!D529,'Data Input'!J529,'Data Input'!X529))","v":""},{"$f":"IF(G524=\"\",\"\",G524/COUNTIF('Data Input'!$C$8:$AK$8,\"N\"))","v":""},{"$f":"IF(ISBLANK('Data Input'!A529),\"\",SUM('Data Input'!G529,'Data Input'!I529,'Data Input'!L529,'Data Input'!N529,'Data Input'!O529,'Data Input'!S529,'Data Input'!Z529,'Data Input'!AA529,'Data Input'!AB529,'Data Input'!AC529,'Data Input'!AE529,'Data Input'!AF529,'Data Input'!AG529,'Data Input'!AI529,'Data Input'!AK529))","v":""},{"$f":"IF(I524=\"\",\"\",I524/COUNTIF('Data Input'!$C$8:$AK$8,\"C\"))","v":""},{"$f":"IF(ISBLANK('Data Input'!A529),\"\",SUM('Data Input'!T529,'Data Input'!U529))","v":""},{"$f":"IF(K524=\"\",\"\",K524/COUNTIF('Data Input'!$C$8:$AK$8,\"S\"))","v":""},{"$f":"IF(ISBLANK('Data Input'!A529),\"\",SUM('Data Input'!F529,'Data Input'!R529,'Data Input'!AJ529))","v":""},{"$f":"IF(M524=\"\",\"\",M524/COUNTIF('Data Input'!$C$8:$AK$8,\"F\"))","v":""},{"$f":"IF(ISBLANK('Data Input'!A529),\"\",SUM('Data Input'!E529,'Data Input'!M529,'Data Input'!Q529,'Data Input'!V529,'Data Input'!W529,'Data Input'!AD529,'Data Input'!AH529))","v":""},{"$f":"IF(O524=\"\",\"\",O524/COUNTIF('Data Input'!$C$8:$AK$8,\"M\"))","v":""},{"$f":"IF(ISBLANK('Data Input'!A529),\"\",SUM('Data Input'!H529,'Data Input'!K529,'Data Input'!P529,'Data Input'!Y529))","v":""},{"$f":"IF(Q524=\"\",\"\",Q524/COUNTIF('Data Input'!$C$8:$AK$8,\"G\"))","v":""}]
[{"$f":"IF('Data Input'!A530=0,\"\",'Data Input'!A530)","v":""},{"$f":"IF(ISBLANK('Data Input'!A530),\"\",COUNTIF('Data Input'!C530:AK530,\"\"))","v":""},{"$f":"IF(ISBLANK('Data Input'!A530),\"\",COUNTIF('Data Input'!C530:AK530,\"0\"))","v":""},{"$f":"IF(ISBLANK('Data Input'!A530),\"\",SUM(B525,C525))","v":""},{"$f":"IF(ISBLANK('Data Input'!A530),\"\",SUM('Data Input'!C530:AK530))","v":""},{"$f":"IF(E525=\"\",\"\",E525/(COUNTA('Data Input'!$C$8:$AK$8)))","v":""},{"$f":"IF(ISBLANK('Data Input'!A530),\"\",SUM('Data Input'!C530,'Data Input'!D530,'Data Input'!J530,'Data Input'!X530))","v":""},{"$f":"IF(G525=\"\",\"\",G525/COUNTIF('Data Input'!$C$8:$AK$8,\"N\"))","v":""},{"$f":"IF(ISBLANK('Data Input'!A530),\"\",SUM('Data Input'!G530,'Data Input'!I530,'Data Input'!L530,'Data Input'!N530,'Data Input'!O530,'Data Input'!S530,'Data Input'!Z530,'Data Input'!AA530,'Data Input'!AB530,'Data Input'!AC530,'Data Input'!AE530,'Data Input'!AF530,'Data Input'!AG530,'Data Input'!AI530,'Data Input'!AK530))","v":""},{"$f":"IF(I525=\"\",\"\",I525/COUNTIF('Data Input'!$C$8:$AK$8,\"C\"))","v":""},{"$f":"IF(ISBLANK('Data Input'!A530),\"\",SUM('Data Input'!T530,'Data Input'!U530))","v":""},{"$f":"IF(K525=\"\",\"\",K525/COUNTIF('Data Input'!$C$8:$AK$8,\"S\"))","v":""},{"$f":"IF(ISBLANK('Data Input'!A530),\"\",SUM('Data Input'!F530,'Data Input'!R530,'Data Input'!AJ530))","v":""},{"$f":"IF(M525=\"\",\"\",M525/COUNTIF('Data Input'!$C$8:$AK$8,\"F\"))","v":""},{"$f":"IF(ISBLANK('Data Input'!A530),\"\",SUM('Data Input'!E530,'Data Input'!M530,'Data Input'!Q530,'Data Input'!V530,'Data Input'!W530,'Data Input'!AD530,'Data Input'!AH530))","v":""},{"$f":"IF(O525=\"\",\"\",O525/COUNTIF('Data Input'!$C$8:$AK$8,\"M\"))","v":""},{"$f":"IF(ISBLANK('Data Input'!A530),\"\",SUM('Data Input'!H530,'Data Input'!K530,'Data Input'!P530,'Data Input'!Y530))","v":""},{"$f":"IF(Q525=\"\",\"\",Q525/COUNTIF('Data Input'!$C$8:$AK$8,\"G\"))","v":""}]
[{"$f":"IF('Data Input'!A531=0,\"\",'Data Input'!A531)","v":""},{"$f":"IF(ISBLANK('Data Input'!A531),\"\",COUNTIF('Data Input'!C531:AK531,\"\"))","v":""},{"$f":"IF(ISBLANK('Data Input'!A531),\"\",COUNTIF('Data Input'!C531:AK531,\"0\"))","v":""},{"$f":"IF(ISBLANK('Data Input'!A531),\"\",SUM(B526,C526))","v":""},{"$f":"IF(ISBLANK('Data Input'!A531),\"\",SUM('Data Input'!C531:AK531))","v":""},{"$f":"IF(E526=\"\",\"\",E526/(COUNTA('Data Input'!$C$8:$AK$8)))","v":""},{"$f":"IF(ISBLANK('Data Input'!A531),\"\",SUM('Data Input'!C531,'Data Input'!D531,'Data Input'!J531,'Data Input'!X531))","v":""},{"$f":"IF(G526=\"\",\"\",G526/COUNTIF('Data Input'!$C$8:$AK$8,\"N\"))","v":""},{"$f":"IF(ISBLANK('Data Input'!A531),\"\",SUM('Data Input'!G531,'Data Input'!I531,'Data Input'!L531,'Data Input'!N531,'Data Input'!O531,'Data Input'!S531,'Data Input'!Z531,'Data Input'!AA531,'Data Input'!AB531,'Data Input'!AC531,'Data Input'!AE531,'Data Input'!AF531,'Data Input'!AG531,'Data Input'!AI531,'Data Input'!AK531))","v":""},{"$f":"IF(I526=\"\",\"\",I526/COUNTIF('Data Input'!$C$8:$AK$8,\"C\"))","v":""},{"$f":"IF(ISBLANK('Data Input'!A531),\"\",SUM('Data Input'!T531,'Data Input'!U531))","v":""},{"$f":"IF(K526=\"\",\"\",K526/COUNTIF('Data Input'!$C$8:$AK$8,\"S\"))","v":""},{"$f":"IF(ISBLANK('Data Input'!A531),\"\",SUM('Data Input'!F531,'Data Input'!R531,'Data Input'!AJ531))","v":""},{"$f":"IF(M526=\"\",\"\",M526/COUNTIF('Data Input'!$C$8:$AK$8,\"F\"))","v":""},{"$f":"IF(ISBLANK('Data Input'!A531),\"\",SUM('Data Input'!E531,'Data Input'!M531,'Data Input'!Q531,'Data Input'!V531,'Data Input'!W531,'Data Input'!AD531,'Data Input'!AH531))","v":""},{"$f":"IF(O526=\"\",\"\",O526/COUNTIF('Data Input'!$C$8:$AK$8,\"M\"))","v":""},{"$f":"IF(ISBLANK('Data Input'!A531),\"\",SUM('Data Input'!H531,'Data Input'!K531,'Data Input'!P531,'Data Input'!Y531))","v":""},{"$f":"IF(Q526=\"\",\"\",Q526/COUNTIF('Data Input'!$C$8:$AK$8,\"G\"))","v":""}]
[{"$f":"IF('Data Input'!A532=0,\"\",'Data Input'!A532)","v":""},{"$f":"IF(ISBLANK('Data Input'!A532),\"\",COUNTIF('Data Input'!C532:AK532,\"\"))","v":""},{"$f":"IF(ISBLANK('Data Input'!A532),\"\",COUNTIF('Data Input'!C532:AK532,\"0\"))","v":""},{"$f":"IF(ISBLANK('Data Input'!A532),\"\",SUM(B527,C527))","v":""},{"$f":"IF(ISBLANK('Data Input'!A532),\"\",SUM('Data Input'!C532:AK532))","v":""},{"$f":"IF(E527=\"\",\"\",E527/(COUNTA('Data Input'!$C$8:$AK$8)))","v":""},{"$f":"IF(ISBLANK('Data Input'!A532),\"\",SUM('Data Input'!C532,'Data Input'!D532,'Data Input'!J532,'Data Input'!X532))","v":""},{"$f":"IF(G527=\"\",\"\",G527/COUNTIF('Data Input'!$C$8:$AK$8,\"N\"))","v":""},{"$f":"IF(ISBLANK('Data Input'!A532),\"\",SUM('Data Input'!G532,'Data Input'!I532,'Data Input'!L532,'Data Input'!N532,'Data Input'!O532,'Data Input'!S532,'Data Input'!Z532,'Data Input'!AA532,'Data Input'!AB532,'Data Input'!AC532,'Data Input'!AE532,'Data Input'!AF532,'Data Input'!AG532,'Data Input'!AI532,'Data Input'!AK532))","v":""},{"$f":"IF(I527=\"\",\"\",I527/COUNTIF('Data Input'!$C$8:$AK$8,\"C\"))","v":""},{"$f":"IF(ISBLANK('Data Input'!A532),\"\",SUM('Data Input'!T532,'Data Input'!U532))","v":""},{"$f":"IF(K527=\"\",\"\",K527/COUNTIF('Data Input'!$C$8:$AK$8,\"S\"))","v":""},{"$f":"IF(ISBLANK('Data Input'!A532),\"\",SUM('Data Input'!F532,'Data Input'!R532,'Data Input'!AJ532))","v":""},{"$f":"IF(M527=\"\",\"\",M527/COUNTIF('Data Input'!$C$8:$AK$8,\"F\"))","v":""},{"$f":"IF(ISBLANK('Data Input'!A532),\"\",SUM('Data Input'!E532,'Data Input'!M532,'Data Input'!Q532,'Data Input'!V532,'Data Input'!W532,'Data Input'!AD532,'Data Input'!AH532))","v":""},{"$f":"IF(O527=\"\",\"\",O527/COUNTIF('Data Input'!$C$8:$AK$8,\"M\"))","v":""},{"$f":"IF(ISBLANK('Data Input'!A532),\"\",SUM('Data Input'!H532,'Data Input'!K532,'Data Input'!P532,'Data Input'!Y532))","v":""},{"$f":"IF(Q527=\"\",\"\",Q527/COUNTIF('Data Input'!$C$8:$AK$8,\"G\"))","v":""}]
[{"$f":"IF('Data Input'!A533=0,\"\",'Data Input'!A533)","v":""},{"$f":"IF(ISBLANK('Data Input'!A533),\"\",COUNTIF('Data Input'!C533:AK533,\"\"))","v":""},{"$f":"IF(ISBLANK('Data Input'!A533),\"\",COUNTIF('Data Input'!C533:AK533,\"0\"))","v":""},{"$f":"IF(ISBLANK('Data Input'!A533),\"\",SUM(B528,C528))","v":""},{"$f":"IF(ISBLANK('Data Input'!A533),\"\",SUM('Data Input'!C533:AK533))","v":""},{"$f":"IF(E528=\"\",\"\",E528/(COUNTA('Data Input'!$C$8:$AK$8)))","v":""},{"$f":"IF(ISBLANK('Data Input'!A533),\"\",SUM('Data Input'!C533,'Data Input'!D533,'Data Input'!J533,'Data Input'!X533))","v":""},{"$f":"IF(G528=\"\",\"\",G528/COUNTIF('Data Input'!$C$8:$AK$8,\"N\"))","v":""},{"$f":"IF(ISBLANK('Data Input'!A533),\"\",SUM('Data Input'!G533,'Data Input'!I533,'Data Input'!L533,'Data Input'!N533,'Data Input'!O533,'Data Input'!S533,'Data Input'!Z533,'Data Input'!AA533,'Data Input'!AB533,'Data Input'!AC533,'Data Input'!AE533,'Data Input'!AF533,'Data Input'!AG533,'Data Input'!AI533,'Data Input'!AK533))","v":""},{"$f":"IF(I528=\"\",\"\",I528/COUNTIF('Data Input'!$C$8:$AK$8,\"C\"))","v":""},{"$f":"IF(ISBLANK('Data Input'!A533),\"\",SUM('Data Input'!T533,'Data Input'!U533))","v":""},{"$f":"IF(K528=\"\",\"\",K528/COUNTIF('Data Input'!$C$8:$AK$8,\"S\"))","v":""},{"$f":"IF(ISBLANK('Data Input'!A533),\"\",SUM('Data Input'!F533,'Data Input'!R533,'Data Input'!AJ533))","v":""},{"$f":"IF(M528=\"\",\"\",M528/COUNTIF('Data Input'!$C$8:$AK$8,\"F\"))","v":""},{"$f":"IF(ISBLANK('Data Input'!A533),\"\",SUM('Data Input'!E533,'Data Input'!M533,'Data Input'!Q533,'Data Input'!V533,'Data Input'!W533,'Data Input'!AD533,'Data Input'!AH533))","v":""},{"$f":"IF(O528=\"\",\"\",O528/COUNTIF('Data Input'!$C$8:$AK$8,\"M\"))","v":""},{"$f":"IF(ISBLANK('Data Input'!A533),\"\",SUM('Data Input'!H533,'Data Input'!K533,'Data Input'!P533,'Data Input'!Y533))","v":""},{"$f":"IF(Q528=\"\",\"\",Q528/COUNTIF('Data Input'!$C$8:$AK$8,\"G\"))","v":""}]
[{"$f":"IF('Data Input'!A534=0,\"\",'Data Input'!A534)","v":""},{"$f":"IF(ISBLANK('Data Input'!A534),\"\",COUNTIF('Data Input'!C534:AK534,\"\"))","v":""},{"$f":"IF(ISBLANK('Data Input'!A534),\"\",COUNTIF('Data Input'!C534:AK534,\"0\"))","v":""},{"$f":"IF(ISBLANK('Data Input'!A534),\"\",SUM(B529,C529))","v":""},{"$f":"IF(ISBLANK('Data Input'!A534),\"\",SUM('Data Input'!C534:AK534))","v":""},{"$f":"IF(E529=\"\",\"\",E529/(COUNTA('Data Input'!$C$8:$AK$8)))","v":""},{"$f":"IF(ISBLANK('Data Input'!A534),\"\",SUM('Data Input'!C534,'Data Input'!D534,'Data Input'!J534,'Data Input'!X534))","v":""},{"$f":"IF(G529=\"\",\"\",G529/COUNTIF('Data Input'!$C$8:$AK$8,\"N\"))","v":""},{"$f":"IF(ISBLANK('Data Input'!A534),\"\",SUM('Data Input'!G534,'Data Input'!I534,'Data Input'!L534,'Data Input'!N534,'Data Input'!O534,'Data Input'!S534,'Data Input'!Z534,'Data Input'!AA534,'Data Input'!AB534,'Data Input'!AC534,'Data Input'!AE534,'Data Input'!AF534,'Data Input'!AG534,'Data Input'!AI534,'Data Input'!AK534))","v":""},{"$f":"IF(I529=\"\",\"\",I529/COUNTIF('Data Input'!$C$8:$AK$8,\"C\"))","v":""},{"$f":"IF(ISBLANK('Data Input'!A534),\"\",SUM('Data Input'!T534,'Data Input'!U534))","v":""},{"$f":"IF(K529=\"\",\"\",K529/COUNTIF('Data Input'!$C$8:$AK$8,\"S\"))","v":""},{"$f":"IF(ISBLANK('Data Input'!A534),\"\",SUM('Data Input'!F534,'Data Input'!R534,'Data Input'!AJ534))","v":""},{"$f":"IF(M529=\"\",\"\",M529/COUNTIF('Data Input'!$C$8:$AK$8,\"F\"))","v":""},{"$f":"IF(ISBLANK('Data Input'!A534),\"\",SUM('Data Input'!E534,'Data Input'!M534,'Data Input'!Q534,'Data Input'!V534,'Data Input'!W534,'Data Input'!AD534,'Data Input'!AH534))","v":""},{"$f":"IF(O529=\"\",\"\",O529/COUNTIF('Data Input'!$C$8:$AK$8,\"M\"))","v":""},{"$f":"IF(ISBLANK('Data Input'!A534),\"\",SUM('Data Input'!H534,'Data Input'!K534,'Data Input'!P534,'Data Input'!Y534))","v":""},{"$f":"IF(Q529=\"\",\"\",Q529/COUNTIF('Data Input'!$C$8:$AK$8,\"G\"))","v":""}]
[{"$f":"IF('Data Input'!A535=0,\"\",'Data Input'!A535)","v":""},{"$f":"IF(ISBLANK('Data Input'!A535),\"\",COUNTIF('Data Input'!C535:AK535,\"\"))","v":""},{"$f":"IF(ISBLANK('Data Input'!A535),\"\",COUNTIF('Data Input'!C535:AK535,\"0\"))","v":""},{"$f":"IF(ISBLANK('Data Input'!A535),\"\",SUM(B530,C530))","v":""},{"$f":"IF(ISBLANK('Data Input'!A535),\"\",SUM('Data Input'!C535:AK535))","v":""},{"$f":"IF(E530=\"\",\"\",E530/(COUNTA('Data Input'!$C$8:$AK$8)))","v":""},{"$f":"IF(ISBLANK('Data Input'!A535),\"\",SUM('Data Input'!C535,'Data Input'!D535,'Data Input'!J535,'Data Input'!X535))","v":""},{"$f":"IF(G530=\"\",\"\",G530/COUNTIF('Data Input'!$C$8:$AK$8,\"N\"))","v":""},{"$f":"IF(ISBLANK('Data Input'!A535),\"\",SUM('Data Input'!G535,'Data Input'!I535,'Data Input'!L535,'Data Input'!N535,'Data Input'!O535,'Data Input'!S535,'Data Input'!Z535,'Data Input'!AA535,'Data Input'!AB535,'Data Input'!AC535,'Data Input'!AE535,'Data Input'!AF535,'Data Input'!AG535,'Data Input'!AI535,'Data Input'!AK535))","v":""},{"$f":"IF(I530=\"\",\"\",I530/COUNTIF('Data Input'!$C$8:$AK$8,\"C\"))","v":""},{"$f":"IF(ISBLANK('Data Input'!A535),\"\",SUM('Data Input'!T535,'Data Input'!U535))","v":""},{"$f":"IF(K530=\"\",\"\",K530/COUNTIF('Data Input'!$C$8:$AK$8,\"S\"))","v":""},{"$f":"IF(ISBLANK('Data Input'!A535),\"\",SUM('Data Input'!F535,'Data Input'!R535,'Data Input'!AJ535))","v":""},{"$f":"IF(M530=\"\",\"\",M530/COUNTIF('Data Input'!$C$8:$AK$8,\"F\"))","v":""},{"$f":"IF(ISBLANK('Data Input'!A535),\"\",SUM('Data Input'!E535,'Data Input'!M535,'Data Input'!Q535,'Data Input'!V535,'Data Input'!W535,'Data Input'!AD535,'Data Input'!AH535))","v":""},{"$f":"IF(O530=\"\",\"\",O530/COUNTIF('Data Input'!$C$8:$AK$8,\"M\"))","v":""},{"$f":"IF(ISBLANK('Data Input'!A535),\"\",SUM('Data Input'!H535,'Data Input'!K535,'Data Input'!P535,'Data Input'!Y535))","v":""},{"$f":"IF(Q530=\"\",\"\",Q530/COUNTIF('Data Input'!$C$8:$AK$8,\"G\"))","v":""}]
[{"$f":"IF('Data Input'!A536=0,\"\",'Data Input'!A536)","v":""},{"$f":"IF(ISBLANK('Data Input'!A536),\"\",COUNTIF('Data Input'!C536:AK536,\"\"))","v":""},{"$f":"IF(ISBLANK('Data Input'!A536),\"\",COUNTIF('Data Input'!C536:AK536,\"0\"))","v":""},{"$f":"IF(ISBLANK('Data Input'!A536),\"\",SUM(B531,C531))","v":""},{"$f":"IF(ISBLANK('Data Input'!A536),\"\",SUM('Data Input'!C536:AK536))","v":""},{"$f":"IF(E531=\"\",\"\",E531/(COUNTA('Data Input'!$C$8:$AK$8)))","v":""},{"$f":"IF(ISBLANK('Data Input'!A536),\"\",SUM('Data Input'!C536,'Data Input'!D536,'Data Input'!J536,'Data Input'!X536))","v":""},{"$f":"IF(G531=\"\",\"\",G531/COUNTIF('Data Input'!$C$8:$AK$8,\"N\"))","v":""},{"$f":"IF(ISBLANK('Data Input'!A536),\"\",SUM('Data Input'!G536,'Data Input'!I536,'Data Input'!L536,'Data Input'!N536,'Data Input'!O536,'Data Input'!S536,'Data Input'!Z536,'Data Input'!AA536,'Data Input'!AB536,'Data Input'!AC536,'Data Input'!AE536,'Data Input'!AF536,'Data Input'!AG536,'Data Input'!AI536,'Data Input'!AK536))","v":""},{"$f":"IF(I531=\"\",\"\",I531/COUNTIF('Data Input'!$C$8:$AK$8,\"C\"))","v":""},{"$f":"IF(ISBLANK('Data Input'!A536),\"\",SUM('Data Input'!T536,'Data Input'!U536))","v":""},{"$f":"IF(K531=\"\",\"\",K531/COUNTIF('Data Input'!$C$8:$AK$8,\"S\"))","v":""},{"$f":"IF(ISBLANK('Data Input'!A536),\"\",SUM('Data Input'!F536,'Data Input'!R536,'Data Input'!AJ536))","v":""},{"$f":"IF(M531=\"\",\"\",M531/COUNTIF('Data Input'!$C$8:$AK$8,\"F\"))","v":""},{"$f":"IF(ISBLANK('Data Input'!A536),\"\",SUM('Data Input'!E536,'Data Input'!M536,'Data Input'!Q536,'Data Input'!V536,'Data Input'!W536,'Data Input'!AD536,'Data Input'!AH536))","v":""},{"$f":"IF(O531=\"\",\"\",O531/COUNTIF('Data Input'!$C$8:$AK$8,\"M\"))","v":""},{"$f":"IF(ISBLANK('Data Input'!A536),\"\",SUM('Data Input'!H536,'Data Input'!K536,'Data Input'!P536,'Data Input'!Y536))","v":""},{"$f":"IF(Q531=\"\",\"\",Q531/COUNTIF('Data Input'!$C$8:$AK$8,\"G\"))","v":""}]
[{"$f":"IF('Data Input'!A537=0,\"\",'Data Input'!A537)","v":""},{"$f":"IF(ISBLANK('Data Input'!A537),\"\",COUNTIF('Data Input'!C537:AK537,\"\"))","v":""},{"$f":"IF(ISBLANK('Data Input'!A537),\"\",COUNTIF('Data Input'!C537:AK537,\"0\"))","v":""},{"$f":"IF(ISBLANK('Data Input'!A537),\"\",SUM(B532,C532))","v":""},{"$f":"IF(ISBLANK('Data Input'!A537),\"\",SUM('Data Input'!C537:AK537))","v":""},{"$f":"IF(E532=\"\",\"\",E532/(COUNTA('Data Input'!$C$8:$AK$8)))","v":""},{"$f":"IF(ISBLANK('Data Input'!A537),\"\",SUM('Data Input'!C537,'Data Input'!D537,'Data Input'!J537,'Data Input'!X537))","v":""},{"$f":"IF(G532=\"\",\"\",G532/COUNTIF('Data Input'!$C$8:$AK$8,\"N\"))","v":""},{"$f":"IF(ISBLANK('Data Input'!A537),\"\",SUM('Data Input'!G537,'Data Input'!I537,'Data Input'!L537,'Data Input'!N537,'Data Input'!O537,'Data Input'!S537,'Data Input'!Z537,'Data Input'!AA537,'Data Input'!AB537,'Data Input'!AC537,'Data Input'!AE537,'Data Input'!AF537,'Data Input'!AG537,'Data Input'!AI537,'Data Input'!AK537))","v":""},{"$f":"IF(I532=\"\",\"\",I532/COUNTIF('Data Input'!$C$8:$AK$8,\"C\"))","v":""},{"$f":"IF(ISBLANK('Data Input'!A537),\"\",SUM('Data Input'!T537,'Data Input'!U537))","v":""},{"$f":"IF(K532=\"\",\"\",K532/COUNTIF('Data Input'!$C$8:$AK$8,\"S\"))","v":""},{"$f":"IF(ISBLANK('Data Input'!A537),\"\",SUM('Data Input'!F537,'Data Input'!R537,'Data Input'!AJ537))","v":""},{"$f":"IF(M532=\"\",\"\",M532/COUNTIF('Data Input'!$C$8:$AK$8,\"F\"))","v":""},{"$f":"IF(ISBLANK('Data Input'!A537),\"\",SUM('Data Input'!E537,'Data Input'!M537,'Data Input'!Q537,'Data Input'!V537,'Data Input'!W537,'Data Input'!AD537,'Data Input'!AH537))","v":""},{"$f":"IF(O532=\"\",\"\",O532/COUNTIF('Data Input'!$C$8:$AK$8,\"M\"))","v":""},{"$f":"IF(ISBLANK('Data Input'!A537),\"\",SUM('Data Input'!H537,'Data Input'!K537,'Data Input'!P537,'Data Input'!Y537))","v":""},{"$f":"IF(Q532=\"\",\"\",Q532/COUNTIF('Data Input'!$C$8:$AK$8,\"G\"))","v":""}]
[{"$f":"IF('Data Input'!A538=0,\"\",'Data Input'!A538)","v":""},{"$f":"IF(ISBLANK('Data Input'!A538),\"\",COUNTIF('Data Input'!C538:AK538,\"\"))","v":""},{"$f":"IF(ISBLANK('Data Input'!A538),\"\",COUNTIF('Data Input'!C538:AK538,\"0\"))","v":""},{"$f":"IF(ISBLANK('Data Input'!A538),\"\",SUM(B533,C533))","v":""},{"$f":"IF(ISBLANK('Data Input'!A538),\"\",SUM('Data Input'!C538:AK538))","v":""},{"$f":"IF(E533=\"\",\"\",E533/(COUNTA('Data Input'!$C$8:$AK$8)))","v":""},{"$f":"IF(ISBLANK('Data Input'!A538),\"\",SUM('Data Input'!C538,'Data Input'!D538,'Data Input'!J538,'Data Input'!X538))","v":""},{"$f":"IF(G533=\"\",\"\",G533/COUNTIF('Data Input'!$C$8:$AK$8,\"N\"))","v":""},{"$f":"IF(ISBLANK('Data Input'!A538),\"\",SUM('Data Input'!G538,'Data Input'!I538,'Data Input'!L538,'Data Input'!N538,'Data Input'!O538,'Data Input'!S538,'Data Input'!Z538,'Data Input'!AA538,'Data Input'!AB538,'Data Input'!AC538,'Data Input'!AE538,'Data Input'!AF538,'Data Input'!AG538,'Data Input'!AI538,'Data Input'!AK538))","v":""},{"$f":"IF(I533=\"\",\"\",I533/COUNTIF('Data Input'!$C$8:$AK$8,\"C\"))","v":""},{"$f":"IF(ISBLANK('Data Input'!A538),\"\",SUM('Data Input'!T538,'Data Input'!U538))","v":""},{"$f":"IF(K533=\"\",\"\",K533/COUNTIF('Data Input'!$C$8:$AK$8,\"S\"))","v":""},{"$f":"IF(ISBLANK('Data Input'!A538),\"\",SUM('Data Input'!F538,'Data Input'!R538,'Data Input'!AJ538))","v":""},{"$f":"IF(M533=\"\",\"\",M533/COUNTIF('Data Input'!$C$8:$AK$8,\"F\"))","v":""},{"$f":"IF(ISBLANK('Data Input'!A538),\"\",SUM('Data Input'!E538,'Data Input'!M538,'Data Input'!Q538,'Data Input'!V538,'Data Input'!W538,'Data Input'!AD538,'Data Input'!AH538))","v":""},{"$f":"IF(O533=\"\",\"\",O533/COUNTIF('Data Input'!$C$8:$AK$8,\"M\"))","v":""},{"$f":"IF(ISBLANK('Data Input'!A538),\"\",SUM('Data Input'!H538,'Data Input'!K538,'Data Input'!P538,'Data Input'!Y538))","v":""},{"$f":"IF(Q533=\"\",\"\",Q533/COUNTIF('Data Input'!$C$8:$AK$8,\"G\"))","v":""}]
[{"$f":"IF('Data Input'!A539=0,\"\",'Data Input'!A539)","v":""},{"$f":"IF(ISBLANK('Data Input'!A539),\"\",COUNTIF('Data Input'!C539:AK539,\"\"))","v":""},{"$f":"IF(ISBLANK('Data Input'!A539),\"\",COUNTIF('Data Input'!C539:AK539,\"0\"))","v":""},{"$f":"IF(ISBLANK('Data Input'!A539),\"\",SUM(B534,C534))","v":""},{"$f":"IF(ISBLANK('Data Input'!A539),\"\",SUM('Data Input'!C539:AK539))","v":""},{"$f":"IF(E534=\"\",\"\",E534/(COUNTA('Data Input'!$C$8:$AK$8)))","v":""},{"$f":"IF(ISBLANK('Data Input'!A539),\"\",SUM('Data Input'!C539,'Data Input'!D539,'Data Input'!J539,'Data Input'!X539))","v":""},{"$f":"IF(G534=\"\",\"\",G534/COUNTIF('Data Input'!$C$8:$AK$8,\"N\"))","v":""},{"$f":"IF(ISBLANK('Data Input'!A539),\"\",SUM('Data Input'!G539,'Data Input'!I539,'Data Input'!L539,'Data Input'!N539,'Data Input'!O539,'Data Input'!S539,'Data Input'!Z539,'Data Input'!AA539,'Data Input'!AB539,'Data Input'!AC539,'Data Input'!AE539,'Data Input'!AF539,'Data Input'!AG539,'Data Input'!AI539,'Data Input'!AK539))","v":""},{"$f":"IF(I534=\"\",\"\",I534/COUNTIF('Data Input'!$C$8:$AK$8,\"C\"))","v":""},{"$f":"IF(ISBLANK('Data Input'!A539),\"\",SUM('Data Input'!T539,'Data Input'!U539))","v":""},{"$f":"IF(K534=\"\",\"\",K534/COUNTIF('Data Input'!$C$8:$AK$8,\"S\"))","v":""},{"$f":"IF(ISBLANK('Data Input'!A539),\"\",SUM('Data Input'!F539,'Data Input'!R539,'Data Input'!AJ539))","v":""},{"$f":"IF(M534=\"\",\"\",M534/COUNTIF('Data Input'!$C$8:$AK$8,\"F\"))","v":""},{"$f":"IF(ISBLANK('Data Input'!A539),\"\",SUM('Data Input'!E539,'Data Input'!M539,'Data Input'!Q539,'Data Input'!V539,'Data Input'!W539,'Data Input'!AD539,'Data Input'!AH539))","v":""},{"$f":"IF(O534=\"\",\"\",O534/COUNTIF('Data Input'!$C$8:$AK$8,\"M\"))","v":""},{"$f":"IF(ISBLANK('Data Input'!A539),\"\",SUM('Data Input'!H539,'Data Input'!K539,'Data Input'!P539,'Data Input'!Y539))","v":""},{"$f":"IF(Q534=\"\",\"\",Q534/COUNTIF('Data Input'!$C$8:$AK$8,\"G\"))","v":""}]
[{"$f":"IF('Data Input'!A540=0,\"\",'Data Input'!A540)","v":""},{"$f":"IF(ISBLANK('Data Input'!A540),\"\",COUNTIF('Data Input'!C540:AK540,\"\"))","v":""},{"$f":"IF(ISBLANK('Data Input'!A540),\"\",COUNTIF('Data Input'!C540:AK540,\"0\"))","v":""},{"$f":"IF(ISBLANK('Data Input'!A540),\"\",SUM(B535,C535))","v":""},{"$f":"IF(ISBLANK('Data Input'!A540),\"\",SUM('Data Input'!C540:AK540))","v":""},{"$f":"IF(E535=\"\",\"\",E535/(COUNTA('Data Input'!$C$8:$AK$8)))","v":""},{"$f":"IF(ISBLANK('Data Input'!A540),\"\",SUM('Data Input'!C540,'Data Input'!D540,'Data Input'!J540,'Data Input'!X540))","v":""},{"$f":"IF(G535=\"\",\"\",G535/COUNTIF('Data Input'!$C$8:$AK$8,\"N\"))","v":""},{"$f":"IF(ISBLANK('Data Input'!A540),\"\",SUM('Data Input'!G540,'Data Input'!I540,'Data Input'!L540,'Data Input'!N540,'Data Input'!O540,'Data Input'!S540,'Data Input'!Z540,'Data Input'!AA540,'Data Input'!AB540,'Data Input'!AC540,'Data Input'!AE540,'Data Input'!AF540,'Data Input'!AG540,'Data Input'!AI540,'Data Input'!AK540))","v":""},{"$f":"IF(I535=\"\",\"\",I535/COUNTIF('Data Input'!$C$8:$AK$8,\"C\"))","v":""},{"$f":"IF(ISBLANK('Data Input'!A540),\"\",SUM('Data Input'!T540,'Data Input'!U540))","v":""},{"$f":"IF(K535=\"\",\"\",K535/COUNTIF('Data Input'!$C$8:$AK$8,\"S\"))","v":""},{"$f":"IF(ISBLANK('Data Input'!A540),\"\",SUM('Data Input'!F540,'Data Input'!R540,'Data Input'!AJ540))","v":""},{"$f":"IF(M535=\"\",\"\",M535/COUNTIF('Data Input'!$C$8:$AK$8,\"F\"))","v":""},{"$f":"IF(ISBLANK('Data Input'!A540),\"\",SUM('Data Input'!E540,'Data Input'!M540,'Data Input'!Q540,'Data Input'!V540,'Data Input'!W540,'Data Input'!AD540,'Data Input'!AH540))","v":""},{"$f":"IF(O535=\"\",\"\",O535/COUNTIF('Data Input'!$C$8:$AK$8,\"M\"))","v":""},{"$f":"IF(ISBLANK('Data Input'!A540),\"\",SUM('Data Input'!H540,'Data Input'!K540,'Data Input'!P540,'Data Input'!Y540))","v":""},{"$f":"IF(Q535=\"\",\"\",Q535/COUNTIF('Data Input'!$C$8:$AK$8,\"G\"))","v":""}]
[{"$f":"IF('Data Input'!A541=0,\"\",'Data Input'!A541)","v":""},{"$f":"IF(ISBLANK('Data Input'!A541),\"\",COUNTIF('Data Input'!C541:AK541,\"\"))","v":""},{"$f":"IF(ISBLANK('Data Input'!A541),\"\",COUNTIF('Data Input'!C541:AK541,\"0\"))","v":""},{"$f":"IF(ISBLANK('Data Input'!A541),\"\",SUM(B536,C536))","v":""},{"$f":"IF(ISBLANK('Data Input'!A541),\"\",SUM('Data Input'!C541:AK541))","v":""},{"$f":"IF(E536=\"\",\"\",E536/(COUNTA('Data Input'!$C$8:$AK$8)))","v":""},{"$f":"IF(ISBLANK('Data Input'!A541),\"\",SUM('Data Input'!C541,'Data Input'!D541,'Data Input'!J541,'Data Input'!X541))","v":""},{"$f":"IF(G536=\"\",\"\",G536/COUNTIF('Data Input'!$C$8:$AK$8,\"N\"))","v":""},{"$f":"IF(ISBLANK('Data Input'!A541),\"\",SUM('Data Input'!G541,'Data Input'!I541,'Data Input'!L541,'Data Input'!N541,'Data Input'!O541,'Data Input'!S541,'Data Input'!Z541,'Data Input'!AA541,'Data Input'!AB541,'Data Input'!AC541,'Data Input'!AE541,'Data Input'!AF541,'Data Input'!AG541,'Data Input'!AI541,'Data Input'!AK541))","v":""},{"$f":"IF(I536=\"\",\"\",I536/COUNTIF('Data Input'!$C$8:$AK$8,\"C\"))","v":""},{"$f":"IF(ISBLANK('Data Input'!A541),\"\",SUM('Data Input'!T541,'Data Input'!U541))","v":""},{"$f":"IF(K536=\"\",\"\",K536/COUNTIF('Data Input'!$C$8:$AK$8,\"S\"))","v":""},{"$f":"IF(ISBLANK('Data Input'!A541),\"\",SUM('Data Input'!F541,'Data Input'!R541,'Data Input'!AJ541))","v":""},{"$f":"IF(M536=\"\",\"\",M536/COUNTIF('Data Input'!$C$8:$AK$8,\"F\"))","v":""},{"$f":"IF(ISBLANK('Data Input'!A541),\"\",SUM('Data Input'!E541,'Data Input'!M541,'Data Input'!Q541,'Data Input'!V541,'Data Input'!W541,'Data Input'!AD541,'Data Input'!AH541))","v":""},{"$f":"IF(O536=\"\",\"\",O536/COUNTIF('Data Input'!$C$8:$AK$8,\"M\"))","v":""},{"$f":"IF(ISBLANK('Data Input'!A541),\"\",SUM('Data Input'!H541,'Data Input'!K541,'Data Input'!P541,'Data Input'!Y541))","v":""},{"$f":"IF(Q536=\"\",\"\",Q536/COUNTIF('Data Input'!$C$8:$AK$8,\"G\"))","v":""}]
[{"$f":"IF('Data Input'!A542=0,\"\",'Data Input'!A542)","v":""},{"$f":"IF(ISBLANK('Data Input'!A542),\"\",COUNTIF('Data Input'!C542:AK542,\"\"))","v":""},{"$f":"IF(ISBLANK('Data Input'!A542),\"\",COUNTIF('Data Input'!C542:AK542,\"0\"))","v":""},{"$f":"IF(ISBLANK('Data Input'!A542),\"\",SUM(B537,C537))","v":""},{"$f":"IF(ISBLANK('Data Input'!A542),\"\",SUM('Data Input'!C542:AK542))","v":""},{"$f":"IF(E537=\"\",\"\",E537/(COUNTA('Data Input'!$C$8:$AK$8)))","v":""},{"$f":"IF(ISBLANK('Data Input'!A542),\"\",SUM('Data Input'!C542,'Data Input'!D542,'Data Input'!J542,'Data Input'!X542))","v":""},{"$f":"IF(G537=\"\",\"\",G537/COUNTIF('Data Input'!$C$8:$AK$8,\"N\"))","v":""},{"$f":"IF(ISBLANK('Data Input'!A542),\"\",SUM('Data Input'!G542,'Data Input'!I542,'Data Input'!L542,'Data Input'!N542,'Data Input'!O542,'Data Input'!S542,'Data Input'!Z542,'Data Input'!AA542,'Data Input'!AB542,'Data Input'!AC542,'Data Input'!AE542,'Data Input'!AF542,'Data Input'!AG542,'Data Input'!AI542,'Data Input'!AK542))","v":""},{"$f":"IF(I537=\"\",\"\",I537/COUNTIF('Data Input'!$C$8:$AK$8,\"C\"))","v":""},{"$f":"IF(ISBLANK('Data Input'!A542),\"\",SUM('Data Input'!T542,'Data Input'!U542))","v":""},{"$f":"IF(K537=\"\",\"\",K537/COUNTIF('Data Input'!$C$8:$AK$8,\"S\"))","v":""},{"$f":"IF(ISBLANK('Data Input'!A542),\"\",SUM('Data Input'!F542,'Data Input'!R542,'Data Input'!AJ542))","v":""},{"$f":"IF(M537=\"\",\"\",M537/COUNTIF('Data Input'!$C$8:$AK$8,\"F\"))","v":""},{"$f":"IF(ISBLANK('Data Input'!A542),\"\",SUM('Data Input'!E542,'Data Input'!M542,'Data Input'!Q542,'Data Input'!V542,'Data Input'!W542,'Data Input'!AD542,'Data Input'!AH542))","v":""},{"$f":"IF(O537=\"\",\"\",O537/COUNTIF('Data Input'!$C$8:$AK$8,\"M\"))","v":""},{"$f":"IF(ISBLANK('Data Input'!A542),\"\",SUM('Data Input'!H542,'Data Input'!K542,'Data Input'!P542,'Data Input'!Y542))","v":""},{"$f":"IF(Q537=\"\",\"\",Q537/COUNTIF('Data Input'!$C$8:$AK$8,\"G\"))","v":""}]
[{"$f":"IF('Data Input'!A543=0,\"\",'Data Input'!A543)","v":""},{"$f":"IF(ISBLANK('Data Input'!A543),\"\",COUNTIF('Data Input'!C543:AK543,\"\"))","v":""},{"$f":"IF(ISBLANK('Data Input'!A543),\"\",COUNTIF('Data Input'!C543:AK543,\"0\"))","v":""},{"$f":"IF(ISBLANK('Data Input'!A543),\"\",SUM(B538,C538))","v":""},{"$f":"IF(ISBLANK('Data Input'!A543),\"\",SUM('Data Input'!C543:AK543))","v":""},{"$f":"IF(E538=\"\",\"\",E538/(COUNTA('Data Input'!$C$8:$AK$8)))","v":""},{"$f":"IF(ISBLANK('Data Input'!A543),\"\",SUM('Data Input'!C543,'Data Input'!D543,'Data Input'!J543,'Data Input'!X543))","v":""},{"$f":"IF(G538=\"\",\"\",G538/COUNTIF('Data Input'!$C$8:$AK$8,\"N\"))","v":""},{"$f":"IF(ISBLANK('Data Input'!A543),\"\",SUM('Data Input'!G543,'Data Input'!I543,'Data Input'!L543,'Data Input'!N543,'Data Input'!O543,'Data Input'!S543,'Data Input'!Z543,'Data Input'!AA543,'Data Input'!AB543,'Data Input'!AC543,'Data Input'!AE543,'Data Input'!AF543,'Data Input'!AG543,'Data Input'!AI543,'Data Input'!AK543))","v":""},{"$f":"IF(I538=\"\",\"\",I538/COUNTIF('Data Input'!$C$8:$AK$8,\"C\"))","v":""},{"$f":"IF(ISBLANK('Data Input'!A543),\"\",SUM('Data Input'!T543,'Data Input'!U543))","v":""},{"$f":"IF(K538=\"\",\"\",K538/COUNTIF('Data Input'!$C$8:$AK$8,\"S\"))","v":""},{"$f":"IF(ISBLANK('Data Input'!A543),\"\",SUM('Data Input'!F543,'Data Input'!R543,'Data Input'!AJ543))","v":""},{"$f":"IF(M538=\"\",\"\",M538/COUNTIF('Data Input'!$C$8:$AK$8,\"F\"))","v":""},{"$f":"IF(ISBLANK('Data Input'!A543),\"\",SUM('Data Input'!E543,'Data Input'!M543,'Data Input'!Q543,'Data Input'!V543,'Data Input'!W543,'Data Input'!AD543,'Data Input'!AH543))","v":""},{"$f":"IF(O538=\"\",\"\",O538/COUNTIF('Data Input'!$C$8:$AK$8,\"M\"))","v":""},{"$f":"IF(ISBLANK('Data Input'!A543),\"\",SUM('Data Input'!H543,'Data Input'!K543,'Data Input'!P543,'Data Input'!Y543))","v":""},{"$f":"IF(Q538=\"\",\"\",Q538/COUNTIF('Data Input'!$C$8:$AK$8,\"G\"))","v":""}]
[{"$f":"IF('Data Input'!A544=0,\"\",'Data Input'!A544)","v":""},{"$f":"IF(ISBLANK('Data Input'!A544),\"\",COUNTIF('Data Input'!C544:AK544,\"\"))","v":""},{"$f":"IF(ISBLANK('Data Input'!A544),\"\",COUNTIF('Data Input'!C544:AK544,\"0\"))","v":""},{"$f":"IF(ISBLANK('Data Input'!A544),\"\",SUM(B539,C539))","v":""},{"$f":"IF(ISBLANK('Data Input'!A544),\"\",SUM('Data Input'!C544:AK544))","v":""},{"$f":"IF(E539=\"\",\"\",E539/(COUNTA('Data Input'!$C$8:$AK$8)))","v":""},{"$f":"IF(ISBLANK('Data Input'!A544),\"\",SUM('Data Input'!C544,'Data Input'!D544,'Data Input'!J544,'Data Input'!X544))","v":""},{"$f":"IF(G539=\"\",\"\",G539/COUNTIF('Data Input'!$C$8:$AK$8,\"N\"))","v":""},{"$f":"IF(ISBLANK('Data Input'!A544),\"\",SUM('Data Input'!G544,'Data Input'!I544,'Data Input'!L544,'Data Input'!N544,'Data Input'!O544,'Data Input'!S544,'Data Input'!Z544,'Data Input'!AA544,'Data Input'!AB544,'Data Input'!AC544,'Data Input'!AE544,'Data Input'!AF544,'Data Input'!AG544,'Data Input'!AI544,'Data Input'!AK544))","v":""},{"$f":"IF(I539=\"\",\"\",I539/COUNTIF('Data Input'!$C$8:$AK$8,\"C\"))","v":""},{"$f":"IF(ISBLANK('Data Input'!A544),\"\",SUM('Data Input'!T544,'Data Input'!U544))","v":""},{"$f":"IF(K539=\"\",\"\",K539/COUNTIF('Data Input'!$C$8:$AK$8,\"S\"))","v":""},{"$f":"IF(ISBLANK('Data Input'!A544),\"\",SUM('Data Input'!F544,'Data Input'!R544,'Data Input'!AJ544))","v":""},{"$f":"IF(M539=\"\",\"\",M539/COUNTIF('Data Input'!$C$8:$AK$8,\"F\"))","v":""},{"$f":"IF(ISBLANK('Data Input'!A544),\"\",SUM('Data Input'!E544,'Data Input'!M544,'Data Input'!Q544,'Data Input'!V544,'Data Input'!W544,'Data Input'!AD544,'Data Input'!AH544))","v":""},{"$f":"IF(O539=\"\",\"\",O539/COUNTIF('Data Input'!$C$8:$AK$8,\"M\"))","v":""},{"$f":"IF(ISBLANK('Data Input'!A544),\"\",SUM('Data Input'!H544,'Data Input'!K544,'Data Input'!P544,'Data Input'!Y544))","v":""},{"$f":"IF(Q539=\"\",\"\",Q539/COUNTIF('Data Input'!$C$8:$AK$8,\"G\"))","v":""}]
[{"$f":"IF('Data Input'!A545=0,\"\",'Data Input'!A545)","v":""},{"$f":"IF(ISBLANK('Data Input'!A545),\"\",COUNTIF('Data Input'!C545:AK545,\"\"))","v":""},{"$f":"IF(ISBLANK('Data Input'!A545),\"\",COUNTIF('Data Input'!C545:AK545,\"0\"))","v":""},{"$f":"IF(ISBLANK('Data Input'!A545),\"\",SUM(B540,C540))","v":""},{"$f":"IF(ISBLANK('Data Input'!A545),\"\",SUM('Data Input'!C545:AK545))","v":""},{"$f":"IF(E540=\"\",\"\",E540/(COUNTA('Data Input'!$C$8:$AK$8)))","v":""},{"$f":"IF(ISBLANK('Data Input'!A545),\"\",SUM('Data Input'!C545,'Data Input'!D545,'Data Input'!J545,'Data Input'!X545))","v":""},{"$f":"IF(G540=\"\",\"\",G540/COUNTIF('Data Input'!$C$8:$AK$8,\"N\"))","v":""},{"$f":"IF(ISBLANK('Data Input'!A545),\"\",SUM('Data Input'!G545,'Data Input'!I545,'Data Input'!L545,'Data Input'!N545,'Data Input'!O545,'Data Input'!S545,'Data Input'!Z545,'Data Input'!AA545,'Data Input'!AB545,'Data Input'!AC545,'Data Input'!AE545,'Data Input'!AF545,'Data Input'!AG545,'Data Input'!AI545,'Data Input'!AK545))","v":""},{"$f":"IF(I540=\"\",\"\",I540/COUNTIF('Data Input'!$C$8:$AK$8,\"C\"))","v":""},{"$f":"IF(ISBLANK('Data Input'!A545),\"\",SUM('Data Input'!T545,'Data Input'!U545))","v":""},{"$f":"IF(K540=\"\",\"\",K540/COUNTIF('Data Input'!$C$8:$AK$8,\"S\"))","v":""},{"$f":"IF(ISBLANK('Data Input'!A545),\"\",SUM('Data Input'!F545,'Data Input'!R545,'Data Input'!AJ545))","v":""},{"$f":"IF(M540=\"\",\"\",M540/COUNTIF('Data Input'!$C$8:$AK$8,\"F\"))","v":""},{"$f":"IF(ISBLANK('Data Input'!A545),\"\",SUM('Data Input'!E545,'Data Input'!M545,'Data Input'!Q545,'Data Input'!V545,'Data Input'!W545,'Data Input'!AD545,'Data Input'!AH545))","v":""},{"$f":"IF(O540=\"\",\"\",O540/COUNTIF('Data Input'!$C$8:$AK$8,\"M\"))","v":""},{"$f":"IF(ISBLANK('Data Input'!A545),\"\",SUM('Data Input'!H545,'Data Input'!K545,'Data Input'!P545,'Data Input'!Y545))","v":""},{"$f":"IF(Q540=\"\",\"\",Q540/COUNTIF('Data Input'!$C$8:$AK$8,\"G\"))","v":""}]
[{"$f":"IF('Data Input'!A546=0,\"\",'Data Input'!A546)","v":""},{"$f":"IF(ISBLANK('Data Input'!A546),\"\",COUNTIF('Data Input'!C546:AK546,\"\"))","v":""},{"$f":"IF(ISBLANK('Data Input'!A546),\"\",COUNTIF('Data Input'!C546:AK546,\"0\"))","v":""},{"$f":"IF(ISBLANK('Data Input'!A546),\"\",SUM(B541,C541))","v":""},{"$f":"IF(ISBLANK('Data Input'!A546),\"\",SUM('Data Input'!C546:AK546))","v":""},{"$f":"IF(E541=\"\",\"\",E541/(COUNTA('Data Input'!$C$8:$AK$8)))","v":""},{"$f":"IF(ISBLANK('Data Input'!A546),\"\",SUM('Data Input'!C546,'Data Input'!D546,'Data Input'!J546,'Data Input'!X546))","v":""},{"$f":"IF(G541=\"\",\"\",G541/COUNTIF('Data Input'!$C$8:$AK$8,\"N\"))","v":""},{"$f":"IF(ISBLANK('Data Input'!A546),\"\",SUM('Data Input'!G546,'Data Input'!I546,'Data Input'!L546,'Data Input'!N546,'Data Input'!O546,'Data Input'!S546,'Data Input'!Z546,'Data Input'!AA546,'Data Input'!AB546,'Data Input'!AC546,'Data Input'!AE546,'Data Input'!AF546,'Data Input'!AG546,'Data Input'!AI546,'Data Input'!AK546))","v":""},{"$f":"IF(I541=\"\",\"\",I541/COUNTIF('Data Input'!$C$8:$AK$8,\"C\"))","v":""},{"$f":"IF(ISBLANK('Data Input'!A546),\"\",SUM('Data Input'!T546,'Data Input'!U546))","v":""},{"$f":"IF(K541=\"\",\"\",K541/COUNTIF('Data Input'!$C$8:$AK$8,\"S\"))","v":""},{"$f":"IF(ISBLANK('Data Input'!A546),\"\",SUM('Data Input'!F546,'Data Input'!R546,'Data Input'!AJ546))","v":""},{"$f":"IF(M541=\"\",\"\",M541/COUNTIF('Data Input'!$C$8:$AK$8,\"F\"))","v":""},{"$f":"IF(ISBLANK('Data Input'!A546),\"\",SUM('Data Input'!E546,'Data Input'!M546,'Data Input'!Q546,'Data Input'!V546,'Data Input'!W546,'Data Input'!AD546,'Data Input'!AH546))","v":""},{"$f":"IF(O541=\"\",\"\",O541/COUNTIF('Data Input'!$C$8:$AK$8,\"M\"))","v":""},{"$f":"IF(ISBLANK('Data Input'!A546),\"\",SUM('Data Input'!H546,'Data Input'!K546,'Data Input'!P546,'Data Input'!Y546))","v":""},{"$f":"IF(Q541=\"\",\"\",Q541/COUNTIF('Data Input'!$C$8:$AK$8,\"G\"))","v":""}]
[{"$f":"IF('Data Input'!A547=0,\"\",'Data Input'!A547)","v":""},{"$f":"IF(ISBLANK('Data Input'!A547),\"\",COUNTIF('Data Input'!C547:AK547,\"\"))","v":""},{"$f":"IF(ISBLANK('Data Input'!A547),\"\",COUNTIF('Data Input'!C547:AK547,\"0\"))","v":""},{"$f":"IF(ISBLANK('Data Input'!A547),\"\",SUM(B542,C542))","v":""},{"$f":"IF(ISBLANK('Data Input'!A547),\"\",SUM('Data Input'!C547:AK547))","v":""},{"$f":"IF(E542=\"\",\"\",E542/(COUNTA('Data Input'!$C$8:$AK$8)))","v":""},{"$f":"IF(ISBLANK('Data Input'!A547),\"\",SUM('Data Input'!C547,'Data Input'!D547,'Data Input'!J547,'Data Input'!X547))","v":""},{"$f":"IF(G542=\"\",\"\",G542/COUNTIF('Data Input'!$C$8:$AK$8,\"N\"))","v":""},{"$f":"IF(ISBLANK('Data Input'!A547),\"\",SUM('Data Input'!G547,'Data Input'!I547,'Data Input'!L547,'Data Input'!N547,'Data Input'!O547,'Data Input'!S547,'Data Input'!Z547,'Data Input'!AA547,'Data Input'!AB547,'Data Input'!AC547,'Data Input'!AE547,'Data Input'!AF547,'Data Input'!AG547,'Data Input'!AI547,'Data Input'!AK547))","v":""},{"$f":"IF(I542=\"\",\"\",I542/COUNTIF('Data Input'!$C$8:$AK$8,\"C\"))","v":""},{"$f":"IF(ISBLANK('Data Input'!A547),\"\",SUM('Data Input'!T547,'Data Input'!U547))","v":""},{"$f":"IF(K542=\"\",\"\",K542/COUNTIF('Data Input'!$C$8:$AK$8,\"S\"))","v":""},{"$f":"IF(ISBLANK('Data Input'!A547),\"\",SUM('Data Input'!F547,'Data Input'!R547,'Data Input'!AJ547))","v":""},{"$f":"IF(M542=\"\",\"\",M542/COUNTIF('Data Input'!$C$8:$AK$8,\"F\"))","v":""},{"$f":"IF(ISBLANK('Data Input'!A547),\"\",SUM('Data Input'!E547,'Data Input'!M547,'Data Input'!Q547,'Data Input'!V547,'Data Input'!W547,'Data Input'!AD547,'Data Input'!AH547))","v":""},{"$f":"IF(O542=\"\",\"\",O542/COUNTIF('Data Input'!$C$8:$AK$8,\"M\"))","v":""},{"$f":"IF(ISBLANK('Data Input'!A547),\"\",SUM('Data Input'!H547,'Data Input'!K547,'Data Input'!P547,'Data Input'!Y547))","v":""},{"$f":"IF(Q542=\"\",\"\",Q542/COUNTIF('Data Input'!$C$8:$AK$8,\"G\"))","v":""}]
[{"$f":"IF('Data Input'!A548=0,\"\",'Data Input'!A548)","v":""},{"$f":"IF(ISBLANK('Data Input'!A548),\"\",COUNTIF('Data Input'!C548:AK548,\"\"))","v":""},{"$f":"IF(ISBLANK('Data Input'!A548),\"\",COUNTIF('Data Input'!C548:AK548,\"0\"))","v":""},{"$f":"IF(ISBLANK('Data Input'!A548),\"\",SUM(B543,C543))","v":""},{"$f":"IF(ISBLANK('Data Input'!A548),\"\",SUM('Data Input'!C548:AK548))","v":""},{"$f":"IF(E543=\"\",\"\",E543/(COUNTA('Data Input'!$C$8:$AK$8)))","v":""},{"$f":"IF(ISBLANK('Data Input'!A548),\"\",SUM('Data Input'!C548,'Data Input'!D548,'Data Input'!J548,'Data Input'!X548))","v":""},{"$f":"IF(G543=\"\",\"\",G543/COUNTIF('Data Input'!$C$8:$AK$8,\"N\"))","v":""},{"$f":"IF(ISBLANK('Data Input'!A548),\"\",SUM('Data Input'!G548,'Data Input'!I548,'Data Input'!L548,'Data Input'!N548,'Data Input'!O548,'Data Input'!S548,'Data Input'!Z548,'Data Input'!AA548,'Data Input'!AB548,'Data Input'!AC548,'Data Input'!AE548,'Data Input'!AF548,'Data Input'!AG548,'Data Input'!AI548,'Data Input'!AK548))","v":""},{"$f":"IF(I543=\"\",\"\",I543/COUNTIF('Data Input'!$C$8:$AK$8,\"C\"))","v":""},{"$f":"IF(ISBLANK('Data Input'!A548),\"\",SUM('Data Input'!T548,'Data Input'!U548))","v":""},{"$f":"IF(K543=\"\",\"\",K543/COUNTIF('Data Input'!$C$8:$AK$8,\"S\"))","v":""},{"$f":"IF(ISBLANK('Data Input'!A548),\"\",SUM('Data Input'!F548,'Data Input'!R548,'Data Input'!AJ548))","v":""},{"$f":"IF(M543=\"\",\"\",M543/COUNTIF('Data Input'!$C$8:$AK$8,\"F\"))","v":""},{"$f":"IF(ISBLANK('Data Input'!A548),\"\",SUM('Data Input'!E548,'Data Input'!M548,'Data Input'!Q548,'Data Input'!V548,'Data Input'!W548,'Data Input'!AD548,'Data Input'!AH548))","v":""},{"$f":"IF(O543=\"\",\"\",O543/COUNTIF('Data Input'!$C$8:$AK$8,\"M\"))","v":""},{"$f":"IF(ISBLANK('Data Input'!A548),\"\",SUM('Data Input'!H548,'Data Input'!K548,'Data Input'!P548,'Data Input'!Y548))","v":""},{"$f":"IF(Q543=\"\",\"\",Q543/COUNTIF('Data Input'!$C$8:$AK$8,\"G\"))","v":""}]
[{"$f":"IF('Data Input'!A549=0,\"\",'Data Input'!A549)","v":""},{"$f":"IF(ISBLANK('Data Input'!A549),\"\",COUNTIF('Data Input'!C549:AK549,\"\"))","v":""},{"$f":"IF(ISBLANK('Data Input'!A549),\"\",COUNTIF('Data Input'!C549:AK549,\"0\"))","v":""},{"$f":"IF(ISBLANK('Data Input'!A549),\"\",SUM(B544,C544))","v":""},{"$f":"IF(ISBLANK('Data Input'!A549),\"\",SUM('Data Input'!C549:AK549))","v":""},{"$f":"IF(E544=\"\",\"\",E544/(COUNTA('Data Input'!$C$8:$AK$8)))","v":""},{"$f":"IF(ISBLANK('Data Input'!A549),\"\",SUM('Data Input'!C549,'Data Input'!D549,'Data Input'!J549,'Data Input'!X549))","v":""},{"$f":"IF(G544=\"\",\"\",G544/COUNTIF('Data Input'!$C$8:$AK$8,\"N\"))","v":""},{"$f":"IF(ISBLANK('Data Input'!A549),\"\",SUM('Data Input'!G549,'Data Input'!I549,'Data Input'!L549,'Data Input'!N549,'Data Input'!O549,'Data Input'!S549,'Data Input'!Z549,'Data Input'!AA549,'Data Input'!AB549,'Data Input'!AC549,'Data Input'!AE549,'Data Input'!AF549,'Data Input'!AG549,'Data Input'!AI549,'Data Input'!AK549))","v":""},{"$f":"IF(I544=\"\",\"\",I544/COUNTIF('Data Input'!$C$8:$AK$8,\"C\"))","v":""},{"$f":"IF(ISBLANK('Data Input'!A549),\"\",SUM('Data Input'!T549,'Data Input'!U549))","v":""},{"$f":"IF(K544=\"\",\"\",K544/COUNTIF('Data Input'!$C$8:$AK$8,\"S\"))","v":""},{"$f":"IF(ISBLANK('Data Input'!A549),\"\",SUM('Data Input'!F549,'Data Input'!R549,'Data Input'!AJ549))","v":""},{"$f":"IF(M544=\"\",\"\",M544/COUNTIF('Data Input'!$C$8:$AK$8,\"F\"))","v":""},{"$f":"IF(ISBLANK('Data Input'!A549),\"\",SUM('Data Input'!E549,'Data Input'!M549,'Data Input'!Q549,'Data Input'!V549,'Data Input'!W549,'Data Input'!AD549,'Data Input'!AH549))","v":""},{"$f":"IF(O544=\"\",\"\",O544/COUNTIF('Data Input'!$C$8:$AK$8,\"M\"))","v":""},{"$f":"IF(ISBLANK('Data Input'!A549),\"\",SUM('Data Input'!H549,'Data Input'!K549,'Data Input'!P549,'Data Input'!Y549))","v":""},{"$f":"IF(Q544=\"\",\"\",Q544/COUNTIF('Data Input'!$C$8:$AK$8,\"G\"))","v":""}]
[{"$f":"IF('Data Input'!A550=0,\"\",'Data Input'!A550)","v":""},{"$f":"IF(ISBLANK('Data Input'!A550),\"\",COUNTIF('Data Input'!C550:AK550,\"\"))","v":""},{"$f":"IF(ISBLANK('Data Input'!A550),\"\",COUNTIF('Data Input'!C550:AK550,\"0\"))","v":""},{"$f":"IF(ISBLANK('Data Input'!A550),\"\",SUM(B545,C545))","v":""},{"$f":"IF(ISBLANK('Data Input'!A550),\"\",SUM('Data Input'!C550:AK550))","v":""},{"$f":"IF(E545=\"\",\"\",E545/(COUNTA('Data Input'!$C$8:$AK$8)))","v":""},{"$f":"IF(ISBLANK('Data Input'!A550),\"\",SUM('Data Input'!C550,'Data Input'!D550,'Data Input'!J550,'Data Input'!X550))","v":""},{"$f":"IF(G545=\"\",\"\",G545/COUNTIF('Data Input'!$C$8:$AK$8,\"N\"))","v":""},{"$f":"IF(ISBLANK('Data Input'!A550),\"\",SUM('Data Input'!G550,'Data Input'!I550,'Data Input'!L550,'Data Input'!N550,'Data Input'!O550,'Data Input'!S550,'Data Input'!Z550,'Data Input'!AA550,'Data Input'!AB550,'Data Input'!AC550,'Data Input'!AE550,'Data Input'!AF550,'Data Input'!AG550,'Data Input'!AI550,'Data Input'!AK550))","v":""},{"$f":"IF(I545=\"\",\"\",I545/COUNTIF('Data Input'!$C$8:$AK$8,\"C\"))","v":""},{"$f":"IF(ISBLANK('Data Input'!A550),\"\",SUM('Data Input'!T550,'Data Input'!U550))","v":""},{"$f":"IF(K545=\"\",\"\",K545/COUNTIF('Data Input'!$C$8:$AK$8,\"S\"))","v":""},{"$f":"IF(ISBLANK('Data Input'!A550),\"\",SUM('Data Input'!F550,'Data Input'!R550,'Data Input'!AJ550))","v":""},{"$f":"IF(M545=\"\",\"\",M545/COUNTIF('Data Input'!$C$8:$AK$8,\"F\"))","v":""},{"$f":"IF(ISBLANK('Data Input'!A550),\"\",SUM('Data Input'!E550,'Data Input'!M550,'Data Input'!Q550,'Data Input'!V550,'Data Input'!W550,'Data Input'!AD550,'Data Input'!AH550))","v":""},{"$f":"IF(O545=\"\",\"\",O545/COUNTIF('Data Input'!$C$8:$AK$8,\"M\"))","v":""},{"$f":"IF(ISBLANK('Data Input'!A550),\"\",SUM('Data Input'!H550,'Data Input'!K550,'Data Input'!P550,'Data Input'!Y550))","v":""},{"$f":"IF(Q545=\"\",\"\",Q545/COUNTIF('Data Input'!$C$8:$AK$8,\"G\"))","v":""}]
[{"$f":"IF('Data Input'!A551=0,\"\",'Data Input'!A551)","v":""},{"$f":"IF(ISBLANK('Data Input'!A551),\"\",COUNTIF('Data Input'!C551:AK551,\"\"))","v":""},{"$f":"IF(ISBLANK('Data Input'!A551),\"\",COUNTIF('Data Input'!C551:AK551,\"0\"))","v":""},{"$f":"IF(ISBLANK('Data Input'!A551),\"\",SUM(B546,C546))","v":""},{"$f":"IF(ISBLANK('Data Input'!A551),\"\",SUM('Data Input'!C551:AK551))","v":""},{"$f":"IF(E546=\"\",\"\",E546/(COUNTA('Data Input'!$C$8:$AK$8)))","v":""},{"$f":"IF(ISBLANK('Data Input'!A551),\"\",SUM('Data Input'!C551,'Data Input'!D551,'Data Input'!J551,'Data Input'!X551))","v":""},{"$f":"IF(G546=\"\",\"\",G546/COUNTIF('Data Input'!$C$8:$AK$8,\"N\"))","v":""},{"$f":"IF(ISBLANK('Data Input'!A551),\"\",SUM('Data Input'!G551,'Data Input'!I551,'Data Input'!L551,'Data Input'!N551,'Data Input'!O551,'Data Input'!S551,'Data Input'!Z551,'Data Input'!AA551,'Data Input'!AB551,'Data Input'!AC551,'Data Input'!AE551,'Data Input'!AF551,'Data Input'!AG551,'Data Input'!AI551,'Data Input'!AK551))","v":""},{"$f":"IF(I546=\"\",\"\",I546/COUNTIF('Data Input'!$C$8:$AK$8,\"C\"))","v":""},{"$f":"IF(ISBLANK('Data Input'!A551),\"\",SUM('Data Input'!T551,'Data Input'!U551))","v":""},{"$f":"IF(K546=\"\",\"\",K546/COUNTIF('Data Input'!$C$8:$AK$8,\"S\"))","v":""},{"$f":"IF(ISBLANK('Data Input'!A551),\"\",SUM('Data Input'!F551,'Data Input'!R551,'Data Input'!AJ551))","v":""},{"$f":"IF(M546=\"\",\"\",M546/COUNTIF('Data Input'!$C$8:$AK$8,\"F\"))","v":""},{"$f":"IF(ISBLANK('Data Input'!A551),\"\",SUM('Data Input'!E551,'Data Input'!M551,'Data Input'!Q551,'Data Input'!V551,'Data Input'!W551,'Data Input'!AD551,'Data Input'!AH551))","v":""},{"$f":"IF(O546=\"\",\"\",O546/COUNTIF('Data Input'!$C$8:$AK$8,\"M\"))","v":""},{"$f":"IF(ISBLANK('Data Input'!A551),\"\",SUM('Data Input'!H551,'Data Input'!K551,'Data Input'!P551,'Data Input'!Y551))","v":""},{"$f":"IF(Q546=\"\",\"\",Q546/COUNTIF('Data Input'!$C$8:$AK$8,\"G\"))","v":""}]
[{"$f":"IF('Data Input'!A552=0,\"\",'Data Input'!A552)","v":""},{"$f":"IF(ISBLANK('Data Input'!A552),\"\",COUNTIF('Data Input'!C552:AK552,\"\"))","v":""},{"$f":"IF(ISBLANK('Data Input'!A552),\"\",COUNTIF('Data Input'!C552:AK552,\"0\"))","v":""},{"$f":"IF(ISBLANK('Data Input'!A552),\"\",SUM(B547,C547))","v":""},{"$f":"IF(ISBLANK('Data Input'!A552),\"\",SUM('Data Input'!C552:AK552))","v":""},{"$f":"IF(E547=\"\",\"\",E547/(COUNTA('Data Input'!$C$8:$AK$8)))","v":""},{"$f":"IF(ISBLANK('Data Input'!A552),\"\",SUM('Data Input'!C552,'Data Input'!D552,'Data Input'!J552,'Data Input'!X552))","v":""},{"$f":"IF(G547=\"\",\"\",G547/COUNTIF('Data Input'!$C$8:$AK$8,\"N\"))","v":""},{"$f":"IF(ISBLANK('Data Input'!A552),\"\",SUM('Data Input'!G552,'Data Input'!I552,'Data Input'!L552,'Data Input'!N552,'Data Input'!O552,'Data Input'!S552,'Data Input'!Z552,'Data Input'!AA552,'Data Input'!AB552,'Data Input'!AC552,'Data Input'!AE552,'Data Input'!AF552,'Data Input'!AG552,'Data Input'!AI552,'Data Input'!AK552))","v":""},{"$f":"IF(I547=\"\",\"\",I547/COUNTIF('Data Input'!$C$8:$AK$8,\"C\"))","v":""},{"$f":"IF(ISBLANK('Data Input'!A552),\"\",SUM('Data Input'!T552,'Data Input'!U552))","v":""},{"$f":"IF(K547=\"\",\"\",K547/COUNTIF('Data Input'!$C$8:$AK$8,\"S\"))","v":""},{"$f":"IF(ISBLANK('Data Input'!A552),\"\",SUM('Data Input'!F552,'Data Input'!R552,'Data Input'!AJ552))","v":""},{"$f":"IF(M547=\"\",\"\",M547/COUNTIF('Data Input'!$C$8:$AK$8,\"F\"))","v":""},{"$f":"IF(ISBLANK('Data Input'!A552),\"\",SUM('Data Input'!E552,'Data Input'!M552,'Data Input'!Q552,'Data Input'!V552,'Data Input'!W552,'Data Input'!AD552,'Data Input'!AH552))","v":""},{"$f":"IF(O547=\"\",\"\",O547/COUNTIF('Data Input'!$C$8:$AK$8,\"M\"))","v":""},{"$f":"IF(ISBLANK('Data Input'!A552),\"\",SUM('Data Input'!H552,'Data Input'!K552,'Data Input'!P552,'Data Input'!Y552))","v":""},{"$f":"IF(Q547=\"\",\"\",Q547/COUNTIF('Data Input'!$C$8:$AK$8,\"G\"))","v":""}]
[{"$f":"IF('Data Input'!A553=0,\"\",'Data Input'!A553)","v":""},{"$f":"IF(ISBLANK('Data Input'!A553),\"\",COUNTIF('Data Input'!C553:AK553,\"\"))","v":""},{"$f":"IF(ISBLANK('Data Input'!A553),\"\",COUNTIF('Data Input'!C553:AK553,\"0\"))","v":""},{"$f":"IF(ISBLANK('Data Input'!A553),\"\",SUM(B548,C548))","v":""},{"$f":"IF(ISBLANK('Data Input'!A553),\"\",SUM('Data Input'!C553:AK553))","v":""},{"$f":"IF(E548=\"\",\"\",E548/(COUNTA('Data Input'!$C$8:$AK$8)))","v":""},{"$f":"IF(ISBLANK('Data Input'!A553),\"\",SUM('Data Input'!C553,'Data Input'!D553,'Data Input'!J553,'Data Input'!X553))","v":""},{"$f":"IF(G548=\"\",\"\",G548/COUNTIF('Data Input'!$C$8:$AK$8,\"N\"))","v":""},{"$f":"IF(ISBLANK('Data Input'!A553),\"\",SUM('Data Input'!G553,'Data Input'!I553,'Data Input'!L553,'Data Input'!N553,'Data Input'!O553,'Data Input'!S553,'Data Input'!Z553,'Data Input'!AA553,'Data Input'!AB553,'Data Input'!AC553,'Data Input'!AE553,'Data Input'!AF553,'Data Input'!AG553,'Data Input'!AI553,'Data Input'!AK553))","v":""},{"$f":"IF(I548=\"\",\"\",I548/COUNTIF('Data Input'!$C$8:$AK$8,\"C\"))","v":""},{"$f":"IF(ISBLANK('Data Input'!A553),\"\",SUM('Data Input'!T553,'Data Input'!U553))","v":""},{"$f":"IF(K548=\"\",\"\",K548/COUNTIF('Data Input'!$C$8:$AK$8,\"S\"))","v":""},{"$f":"IF(ISBLANK('Data Input'!A553),\"\",SUM('Data Input'!F553,'Data Input'!R553,'Data Input'!AJ553))","v":""},{"$f":"IF(M548=\"\",\"\",M548/COUNTIF('Data Input'!$C$8:$AK$8,\"F\"))","v":""},{"$f":"IF(ISBLANK('Data Input'!A553),\"\",SUM('Data Input'!E553,'Data Input'!M553,'Data Input'!Q553,'Data Input'!V553,'Data Input'!W553,'Data Input'!AD553,'Data Input'!AH553))","v":""},{"$f":"IF(O548=\"\",\"\",O548/COUNTIF('Data Input'!$C$8:$AK$8,\"M\"))","v":""},{"$f":"IF(ISBLANK('Data Input'!A553),\"\",SUM('Data Input'!H553,'Data Input'!K553,'Data Input'!P553,'Data Input'!Y553))","v":""},{"$f":"IF(Q548=\"\",\"\",Q548/COUNTIF('Data Input'!$C$8:$AK$8,\"G\"))","v":""}]
[{"$f":"IF('Data Input'!A554=0,\"\",'Data Input'!A554)","v":""},{"$f":"IF(ISBLANK('Data Input'!A554),\"\",COUNTIF('Data Input'!C554:AK554,\"\"))","v":""},{"$f":"IF(ISBLANK('Data Input'!A554),\"\",COUNTIF('Data Input'!C554:AK554,\"0\"))","v":""},{"$f":"IF(ISBLANK('Data Input'!A554),\"\",SUM(B549,C549))","v":""},{"$f":"IF(ISBLANK('Data Input'!A554),\"\",SUM('Data Input'!C554:AK554))","v":""},{"$f":"IF(E549=\"\",\"\",E549/(COUNTA('Data Input'!$C$8:$AK$8)))","v":""},{"$f":"IF(ISBLANK('Data Input'!A554),\"\",SUM('Data Input'!C554,'Data Input'!D554,'Data Input'!J554,'Data Input'!X554))","v":""},{"$f":"IF(G549=\"\",\"\",G549/COUNTIF('Data Input'!$C$8:$AK$8,\"N\"))","v":""},{"$f":"IF(ISBLANK('Data Input'!A554),\"\",SUM('Data Input'!G554,'Data Input'!I554,'Data Input'!L554,'Data Input'!N554,'Data Input'!O554,'Data Input'!S554,'Data Input'!Z554,'Data Input'!AA554,'Data Input'!AB554,'Data Input'!AC554,'Data Input'!AE554,'Data Input'!AF554,'Data Input'!AG554,'Data Input'!AI554,'Data Input'!AK554))","v":""},{"$f":"IF(I549=\"\",\"\",I549/COUNTIF('Data Input'!$C$8:$AK$8,\"C\"))","v":""},{"$f":"IF(ISBLANK('Data Input'!A554),\"\",SUM('Data Input'!T554,'Data Input'!U554))","v":""},{"$f":"IF(K549=\"\",\"\",K549/COUNTIF('Data Input'!$C$8:$AK$8,\"S\"))","v":""},{"$f":"IF(ISBLANK('Data Input'!A554),\"\",SUM('Data Input'!F554,'Data Input'!R554,'Data Input'!AJ554))","v":""},{"$f":"IF(M549=\"\",\"\",M549/COUNTIF('Data Input'!$C$8:$AK$8,\"F\"))","v":""},{"$f":"IF(ISBLANK('Data Input'!A554),\"\",SUM('Data Input'!E554,'Data Input'!M554,'Data Input'!Q554,'Data Input'!V554,'Data Input'!W554,'Data Input'!AD554,'Data Input'!AH554))","v":""},{"$f":"IF(O549=\"\",\"\",O549/COUNTIF('Data Input'!$C$8:$AK$8,\"M\"))","v":""},{"$f":"IF(ISBLANK('Data Input'!A554),\"\",SUM('Data Input'!H554,'Data Input'!K554,'Data Input'!P554,'Data Input'!Y554))","v":""},{"$f":"IF(Q549=\"\",\"\",Q549/COUNTIF('Data Input'!$C$8:$AK$8,\"G\"))","v":""}]
[{"$f":"IF('Data Input'!A555=0,\"\",'Data Input'!A555)","v":""},{"$f":"IF(ISBLANK('Data Input'!A555),\"\",COUNTIF('Data Input'!C555:AK555,\"\"))","v":""},{"$f":"IF(ISBLANK('Data Input'!A555),\"\",COUNTIF('Data Input'!C555:AK555,\"0\"))","v":""},{"$f":"IF(ISBLANK('Data Input'!A555),\"\",SUM(B550,C550))","v":""},{"$f":"IF(ISBLANK('Data Input'!A555),\"\",SUM('Data Input'!C555:AK555))","v":""},{"$f":"IF(E550=\"\",\"\",E550/(COUNTA('Data Input'!$C$8:$AK$8)))","v":""},{"$f":"IF(ISBLANK('Data Input'!A555),\"\",SUM('Data Input'!C555,'Data Input'!D555,'Data Input'!J555,'Data Input'!X555))","v":""},{"$f":"IF(G550=\"\",\"\",G550/COUNTIF('Data Input'!$C$8:$AK$8,\"N\"))","v":""},{"$f":"IF(ISBLANK('Data Input'!A555),\"\",SUM('Data Input'!G555,'Data Input'!I555,'Data Input'!L555,'Data Input'!N555,'Data Input'!O555,'Data Input'!S555,'Data Input'!Z555,'Data Input'!AA555,'Data Input'!AB555,'Data Input'!AC555,'Data Input'!AE555,'Data Input'!AF555,'Data Input'!AG555,'Data Input'!AI555,'Data Input'!AK555))","v":""},{"$f":"IF(I550=\"\",\"\",I550/COUNTIF('Data Input'!$C$8:$AK$8,\"C\"))","v":""},{"$f":"IF(ISBLANK('Data Input'!A555),\"\",SUM('Data Input'!T555,'Data Input'!U555))","v":""},{"$f":"IF(K550=\"\",\"\",K550/COUNTIF('Data Input'!$C$8:$AK$8,\"S\"))","v":""},{"$f":"IF(ISBLANK('Data Input'!A555),\"\",SUM('Data Input'!F555,'Data Input'!R555,'Data Input'!AJ555))","v":""},{"$f":"IF(M550=\"\",\"\",M550/COUNTIF('Data Input'!$C$8:$AK$8,\"F\"))","v":""},{"$f":"IF(ISBLANK('Data Input'!A555),\"\",SUM('Data Input'!E555,'Data Input'!M555,'Data Input'!Q555,'Data Input'!V555,'Data Input'!W555,'Data Input'!AD555,'Data Input'!AH555))","v":""},{"$f":"IF(O550=\"\",\"\",O550/COUNTIF('Data Input'!$C$8:$AK$8,\"M\"))","v":""},{"$f":"IF(ISBLANK('Data Input'!A555),\"\",SUM('Data Input'!H555,'Data Input'!K555,'Data Input'!P555,'Data Input'!Y555))","v":""},{"$f":"IF(Q550=\"\",\"\",Q550/COUNTIF('Data Input'!$C$8:$AK$8,\"G\"))","v":""}]
[{"$f":"IF('Data Input'!A556=0,\"\",'Data Input'!A556)","v":""},{"$f":"IF(ISBLANK('Data Input'!A556),\"\",COUNTIF('Data Input'!C556:AK556,\"\"))","v":""},{"$f":"IF(ISBLANK('Data Input'!A556),\"\",COUNTIF('Data Input'!C556:AK556,\"0\"))","v":""},{"$f":"IF(ISBLANK('Data Input'!A556),\"\",SUM(B551,C551))","v":""},{"$f":"IF(ISBLANK('Data Input'!A556),\"\",SUM('Data Input'!C556:AK556))","v":""},{"$f":"IF(E551=\"\",\"\",E551/(COUNTA('Data Input'!$C$8:$AK$8)))","v":""},{"$f":"IF(ISBLANK('Data Input'!A556),\"\",SUM('Data Input'!C556,'Data Input'!D556,'Data Input'!J556,'Data Input'!X556))","v":""},{"$f":"IF(G551=\"\",\"\",G551/COUNTIF('Data Input'!$C$8:$AK$8,\"N\"))","v":""},{"$f":"IF(ISBLANK('Data Input'!A556),\"\",SUM('Data Input'!G556,'Data Input'!I556,'Data Input'!L556,'Data Input'!N556,'Data Input'!O556,'Data Input'!S556,'Data Input'!Z556,'Data Input'!AA556,'Data Input'!AB556,'Data Input'!AC556,'Data Input'!AE556,'Data Input'!AF556,'Data Input'!AG556,'Data Input'!AI556,'Data Input'!AK556))","v":""},{"$f":"IF(I551=\"\",\"\",I551/COUNTIF('Data Input'!$C$8:$AK$8,\"C\"))","v":""},{"$f":"IF(ISBLANK('Data Input'!A556),\"\",SUM('Data Input'!T556,'Data Input'!U556))","v":""},{"$f":"IF(K551=\"\",\"\",K551/COUNTIF('Data Input'!$C$8:$AK$8,\"S\"))","v":""},{"$f":"IF(ISBLANK('Data Input'!A556),\"\",SUM('Data Input'!F556,'Data Input'!R556,'Data Input'!AJ556))","v":""},{"$f":"IF(M551=\"\",\"\",M551/COUNTIF('Data Input'!$C$8:$AK$8,\"F\"))","v":""},{"$f":"IF(ISBLANK('Data Input'!A556),\"\",SUM('Data Input'!E556,'Data Input'!M556,'Data Input'!Q556,'Data Input'!V556,'Data Input'!W556,'Data Input'!AD556,'Data Input'!AH556))","v":""},{"$f":"IF(O551=\"\",\"\",O551/COUNTIF('Data Input'!$C$8:$AK$8,\"M\"))","v":""},{"$f":"IF(ISBLANK('Data Input'!A556),\"\",SUM('Data Input'!H556,'Data Input'!K556,'Data Input'!P556,'Data Input'!Y556))","v":""},{"$f":"IF(Q551=\"\",\"\",Q551/COUNTIF('Data Input'!$C$8:$AK$8,\"G\"))","v":""}]
[{"$f":"IF('Data Input'!A557=0,\"\",'Data Input'!A557)","v":""},{"$f":"IF(ISBLANK('Data Input'!A557),\"\",COUNTIF('Data Input'!C557:AK557,\"\"))","v":""},{"$f":"IF(ISBLANK('Data Input'!A557),\"\",COUNTIF('Data Input'!C557:AK557,\"0\"))","v":""},{"$f":"IF(ISBLANK('Data Input'!A557),\"\",SUM(B552,C552))","v":""},{"$f":"IF(ISBLANK('Data Input'!A557),\"\",SUM('Data Input'!C557:AK557))","v":""},{"$f":"IF(E552=\"\",\"\",E552/(COUNTA('Data Input'!$C$8:$AK$8)))","v":""},{"$f":"IF(ISBLANK('Data Input'!A557),\"\",SUM('Data Input'!C557,'Data Input'!D557,'Data Input'!J557,'Data Input'!X557))","v":""},{"$f":"IF(G552=\"\",\"\",G552/COUNTIF('Data Input'!$C$8:$AK$8,\"N\"))","v":""},{"$f":"IF(ISBLANK('Data Input'!A557),\"\",SUM('Data Input'!G557,'Data Input'!I557,'Data Input'!L557,'Data Input'!N557,'Data Input'!O557,'Data Input'!S557,'Data Input'!Z557,'Data Input'!AA557,'Data Input'!AB557,'Data Input'!AC557,'Data Input'!AE557,'Data Input'!AF557,'Data Input'!AG557,'Data Input'!AI557,'Data Input'!AK557))","v":""},{"$f":"IF(I552=\"\",\"\",I552/COUNTIF('Data Input'!$C$8:$AK$8,\"C\"))","v":""},{"$f":"IF(ISBLANK('Data Input'!A557),\"\",SUM('Data Input'!T557,'Data Input'!U557))","v":""},{"$f":"IF(K552=\"\",\"\",K552/COUNTIF('Data Input'!$C$8:$AK$8,\"S\"))","v":""},{"$f":"IF(ISBLANK('Data Input'!A557),\"\",SUM('Data Input'!F557,'Data Input'!R557,'Data Input'!AJ557))","v":""},{"$f":"IF(M552=\"\",\"\",M552/COUNTIF('Data Input'!$C$8:$AK$8,\"F\"))","v":""},{"$f":"IF(ISBLANK('Data Input'!A557),\"\",SUM('Data Input'!E557,'Data Input'!M557,'Data Input'!Q557,'Data Input'!V557,'Data Input'!W557,'Data Input'!AD557,'Data Input'!AH557))","v":""},{"$f":"IF(O552=\"\",\"\",O552/COUNTIF('Data Input'!$C$8:$AK$8,\"M\"))","v":""},{"$f":"IF(ISBLANK('Data Input'!A557),\"\",SUM('Data Input'!H557,'Data Input'!K557,'Data Input'!P557,'Data Input'!Y557))","v":""},{"$f":"IF(Q552=\"\",\"\",Q552/COUNTIF('Data Input'!$C$8:$AK$8,\"G\"))","v":""}]
[{"$f":"IF('Data Input'!A558=0,\"\",'Data Input'!A558)","v":""},{"$f":"IF(ISBLANK('Data Input'!A558),\"\",COUNTIF('Data Input'!C558:AK558,\"\"))","v":""},{"$f":"IF(ISBLANK('Data Input'!A558),\"\",COUNTIF('Data Input'!C558:AK558,\"0\"))","v":""},{"$f":"IF(ISBLANK('Data Input'!A558),\"\",SUM(B553,C553))","v":""},{"$f":"IF(ISBLANK('Data Input'!A558),\"\",SUM('Data Input'!C558:AK558))","v":""},{"$f":"IF(E553=\"\",\"\",E553/(COUNTA('Data Input'!$C$8:$AK$8)))","v":""},{"$f":"IF(ISBLANK('Data Input'!A558),\"\",SUM('Data Input'!C558,'Data Input'!D558,'Data Input'!J558,'Data Input'!X558))","v":""},{"$f":"IF(G553=\"\",\"\",G553/COUNTIF('Data Input'!$C$8:$AK$8,\"N\"))","v":""},{"$f":"IF(ISBLANK('Data Input'!A558),\"\",SUM('Data Input'!G558,'Data Input'!I558,'Data Input'!L558,'Data Input'!N558,'Data Input'!O558,'Data Input'!S558,'Data Input'!Z558,'Data Input'!AA558,'Data Input'!AB558,'Data Input'!AC558,'Data Input'!AE558,'Data Input'!AF558,'Data Input'!AG558,'Data Input'!AI558,'Data Input'!AK558))","v":""},{"$f":"IF(I553=\"\",\"\",I553/COUNTIF('Data Input'!$C$8:$AK$8,\"C\"))","v":""},{"$f":"IF(ISBLANK('Data Input'!A558),\"\",SUM('Data Input'!T558,'Data Input'!U558))","v":""},{"$f":"IF(K553=\"\",\"\",K553/COUNTIF('Data Input'!$C$8:$AK$8,\"S\"))","v":""},{"$f":"IF(ISBLANK('Data Input'!A558),\"\",SUM('Data Input'!F558,'Data Input'!R558,'Data Input'!AJ558))","v":""},{"$f":"IF(M553=\"\",\"\",M553/COUNTIF('Data Input'!$C$8:$AK$8,\"F\"))","v":""},{"$f":"IF(ISBLANK('Data Input'!A558),\"\",SUM('Data Input'!E558,'Data Input'!M558,'Data Input'!Q558,'Data Input'!V558,'Data Input'!W558,'Data Input'!AD558,'Data Input'!AH558))","v":""},{"$f":"IF(O553=\"\",\"\",O553/COUNTIF('Data Input'!$C$8:$AK$8,\"M\"))","v":""},{"$f":"IF(ISBLANK('Data Input'!A558),\"\",SUM('Data Input'!H558,'Data Input'!K558,'Data Input'!P558,'Data Input'!Y558))","v":""},{"$f":"IF(Q553=\"\",\"\",Q553/COUNTIF('Data Input'!$C$8:$AK$8,\"G\"))","v":""}]
[{"$f":"IF('Data Input'!A559=0,\"\",'Data Input'!A559)","v":""},{"$f":"IF(ISBLANK('Data Input'!A559),\"\",COUNTIF('Data Input'!C559:AK559,\"\"))","v":""},{"$f":"IF(ISBLANK('Data Input'!A559),\"\",COUNTIF('Data Input'!C559:AK559,\"0\"))","v":""},{"$f":"IF(ISBLANK('Data Input'!A559),\"\",SUM(B554,C554))","v":""},{"$f":"IF(ISBLANK('Data Input'!A559),\"\",SUM('Data Input'!C559:AK559))","v":""},{"$f":"IF(E554=\"\",\"\",E554/(COUNTA('Data Input'!$C$8:$AK$8)))","v":""},{"$f":"IF(ISBLANK('Data Input'!A559),\"\",SUM('Data Input'!C559,'Data Input'!D559,'Data Input'!J559,'Data Input'!X559))","v":""},{"$f":"IF(G554=\"\",\"\",G554/COUNTIF('Data Input'!$C$8:$AK$8,\"N\"))","v":""},{"$f":"IF(ISBLANK('Data Input'!A559),\"\",SUM('Data Input'!G559,'Data Input'!I559,'Data Input'!L559,'Data Input'!N559,'Data Input'!O559,'Data Input'!S559,'Data Input'!Z559,'Data Input'!AA559,'Data Input'!AB559,'Data Input'!AC559,'Data Input'!AE559,'Data Input'!AF559,'Data Input'!AG559,'Data Input'!AI559,'Data Input'!AK559))","v":""},{"$f":"IF(I554=\"\",\"\",I554/COUNTIF('Data Input'!$C$8:$AK$8,\"C\"))","v":""},{"$f":"IF(ISBLANK('Data Input'!A559),\"\",SUM('Data Input'!T559,'Data Input'!U559))","v":""},{"$f":"IF(K554=\"\",\"\",K554/COUNTIF('Data Input'!$C$8:$AK$8,\"S\"))","v":""},{"$f":"IF(ISBLANK('Data Input'!A559),\"\",SUM('Data Input'!F559,'Data Input'!R559,'Data Input'!AJ559))","v":""},{"$f":"IF(M554=\"\",\"\",M554/COUNTIF('Data Input'!$C$8:$AK$8,\"F\"))","v":""},{"$f":"IF(ISBLANK('Data Input'!A559),\"\",SUM('Data Input'!E559,'Data Input'!M559,'Data Input'!Q559,'Data Input'!V559,'Data Input'!W559,'Data Input'!AD559,'Data Input'!AH559))","v":""},{"$f":"IF(O554=\"\",\"\",O554/COUNTIF('Data Input'!$C$8:$AK$8,\"M\"))","v":""},{"$f":"IF(ISBLANK('Data Input'!A559),\"\",SUM('Data Input'!H559,'Data Input'!K559,'Data Input'!P559,'Data Input'!Y559))","v":""},{"$f":"IF(Q554=\"\",\"\",Q554/COUNTIF('Data Input'!$C$8:$AK$8,\"G\"))","v":""}]
[{"$f":"IF('Data Input'!A560=0,\"\",'Data Input'!A560)","v":""},{"$f":"IF(ISBLANK('Data Input'!A560),\"\",COUNTIF('Data Input'!C560:AK560,\"\"))","v":""},{"$f":"IF(ISBLANK('Data Input'!A560),\"\",COUNTIF('Data Input'!C560:AK560,\"0\"))","v":""},{"$f":"IF(ISBLANK('Data Input'!A560),\"\",SUM(B555,C555))","v":""},{"$f":"IF(ISBLANK('Data Input'!A560),\"\",SUM('Data Input'!C560:AK560))","v":""},{"$f":"IF(E555=\"\",\"\",E555/(COUNTA('Data Input'!$C$8:$AK$8)))","v":""},{"$f":"IF(ISBLANK('Data Input'!A560),\"\",SUM('Data Input'!C560,'Data Input'!D560,'Data Input'!J560,'Data Input'!X560))","v":""},{"$f":"IF(G555=\"\",\"\",G555/COUNTIF('Data Input'!$C$8:$AK$8,\"N\"))","v":""},{"$f":"IF(ISBLANK('Data Input'!A560),\"\",SUM('Data Input'!G560,'Data Input'!I560,'Data Input'!L560,'Data Input'!N560,'Data Input'!O560,'Data Input'!S560,'Data Input'!Z560,'Data Input'!AA560,'Data Input'!AB560,'Data Input'!AC560,'Data Input'!AE560,'Data Input'!AF560,'Data Input'!AG560,'Data Input'!AI560,'Data Input'!AK560))","v":""},{"$f":"IF(I555=\"\",\"\",I555/COUNTIF('Data Input'!$C$8:$AK$8,\"C\"))","v":""},{"$f":"IF(ISBLANK('Data Input'!A560),\"\",SUM('Data Input'!T560,'Data Input'!U560))","v":""},{"$f":"IF(K555=\"\",\"\",K555/COUNTIF('Data Input'!$C$8:$AK$8,\"S\"))","v":""},{"$f":"IF(ISBLANK('Data Input'!A560),\"\",SUM('Data Input'!F560,'Data Input'!R560,'Data Input'!AJ560))","v":""},{"$f":"IF(M555=\"\",\"\",M555/COUNTIF('Data Input'!$C$8:$AK$8,\"F\"))","v":""},{"$f":"IF(ISBLANK('Data Input'!A560),\"\",SUM('Data Input'!E560,'Data Input'!M560,'Data Input'!Q560,'Data Input'!V560,'Data Input'!W560,'Data Input'!AD560,'Data Input'!AH560))","v":""},{"$f":"IF(O555=\"\",\"\",O555/COUNTIF('Data Input'!$C$8:$AK$8,\"M\"))","v":""},{"$f":"IF(ISBLANK('Data Input'!A560),\"\",SUM('Data Input'!H560,'Data Input'!K560,'Data Input'!P560,'Data Input'!Y560))","v":""},{"$f":"IF(Q555=\"\",\"\",Q555/COUNTIF('Data Input'!$C$8:$AK$8,\"G\"))","v":""}]
[{"$f":"IF('Data Input'!A561=0,\"\",'Data Input'!A561)","v":""},{"$f":"IF(ISBLANK('Data Input'!A561),\"\",COUNTIF('Data Input'!C561:AK561,\"\"))","v":""},{"$f":"IF(ISBLANK('Data Input'!A561),\"\",COUNTIF('Data Input'!C561:AK561,\"0\"))","v":""},{"$f":"IF(ISBLANK('Data Input'!A561),\"\",SUM(B556,C556))","v":""},{"$f":"IF(ISBLANK('Data Input'!A561),\"\",SUM('Data Input'!C561:AK561))","v":""},{"$f":"IF(E556=\"\",\"\",E556/(COUNTA('Data Input'!$C$8:$AK$8)))","v":""},{"$f":"IF(ISBLANK('Data Input'!A561),\"\",SUM('Data Input'!C561,'Data Input'!D561,'Data Input'!J561,'Data Input'!X561))","v":""},{"$f":"IF(G556=\"\",\"\",G556/COUNTIF('Data Input'!$C$8:$AK$8,\"N\"))","v":""},{"$f":"IF(ISBLANK('Data Input'!A561),\"\",SUM('Data Input'!G561,'Data Input'!I561,'Data Input'!L561,'Data Input'!N561,'Data Input'!O561,'Data Input'!S561,'Data Input'!Z561,'Data Input'!AA561,'Data Input'!AB561,'Data Input'!AC561,'Data Input'!AE561,'Data Input'!AF561,'Data Input'!AG561,'Data Input'!AI561,'Data Input'!AK561))","v":""},{"$f":"IF(I556=\"\",\"\",I556/COUNTIF('Data Input'!$C$8:$AK$8,\"C\"))","v":""},{"$f":"IF(ISBLANK('Data Input'!A561),\"\",SUM('Data Input'!T561,'Data Input'!U561))","v":""},{"$f":"IF(K556=\"\",\"\",K556/COUNTIF('Data Input'!$C$8:$AK$8,\"S\"))","v":""},{"$f":"IF(ISBLANK('Data Input'!A561),\"\",SUM('Data Input'!F561,'Data Input'!R561,'Data Input'!AJ561))","v":""},{"$f":"IF(M556=\"\",\"\",M556/COUNTIF('Data Input'!$C$8:$AK$8,\"F\"))","v":""},{"$f":"IF(ISBLANK('Data Input'!A561),\"\",SUM('Data Input'!E561,'Data Input'!M561,'Data Input'!Q561,'Data Input'!V561,'Data Input'!W561,'Data Input'!AD561,'Data Input'!AH561))","v":""},{"$f":"IF(O556=\"\",\"\",O556/COUNTIF('Data Input'!$C$8:$AK$8,\"M\"))","v":""},{"$f":"IF(ISBLANK('Data Input'!A561),\"\",SUM('Data Input'!H561,'Data Input'!K561,'Data Input'!P561,'Data Input'!Y561))","v":""},{"$f":"IF(Q556=\"\",\"\",Q556/COUNTIF('Data Input'!$C$8:$AK$8,\"G\"))","v":""}]
[{"$f":"IF('Data Input'!A562=0,\"\",'Data Input'!A562)","v":""},{"$f":"IF(ISBLANK('Data Input'!A562),\"\",COUNTIF('Data Input'!C562:AK562,\"\"))","v":""},{"$f":"IF(ISBLANK('Data Input'!A562),\"\",COUNTIF('Data Input'!C562:AK562,\"0\"))","v":""},{"$f":"IF(ISBLANK('Data Input'!A562),\"\",SUM(B557,C557))","v":""},{"$f":"IF(ISBLANK('Data Input'!A562),\"\",SUM('Data Input'!C562:AK562))","v":""},{"$f":"IF(E557=\"\",\"\",E557/(COUNTA('Data Input'!$C$8:$AK$8)))","v":""},{"$f":"IF(ISBLANK('Data Input'!A562),\"\",SUM('Data Input'!C562,'Data Input'!D562,'Data Input'!J562,'Data Input'!X562))","v":""},{"$f":"IF(G557=\"\",\"\",G557/COUNTIF('Data Input'!$C$8:$AK$8,\"N\"))","v":""},{"$f":"IF(ISBLANK('Data Input'!A562),\"\",SUM('Data Input'!G562,'Data Input'!I562,'Data Input'!L562,'Data Input'!N562,'Data Input'!O562,'Data Input'!S562,'Data Input'!Z562,'Data Input'!AA562,'Data Input'!AB562,'Data Input'!AC562,'Data Input'!AE562,'Data Input'!AF562,'Data Input'!AG562,'Data Input'!AI562,'Data Input'!AK562))","v":""},{"$f":"IF(I557=\"\",\"\",I557/COUNTIF('Data Input'!$C$8:$AK$8,\"C\"))","v":""},{"$f":"IF(ISBLANK('Data Input'!A562),\"\",SUM('Data Input'!T562,'Data Input'!U562))","v":""},{"$f":"IF(K557=\"\",\"\",K557/COUNTIF('Data Input'!$C$8:$AK$8,\"S\"))","v":""},{"$f":"IF(ISBLANK('Data Input'!A562),\"\",SUM('Data Input'!F562,'Data Input'!R562,'Data Input'!AJ562))","v":""},{"$f":"IF(M557=\"\",\"\",M557/COUNTIF('Data Input'!$C$8:$AK$8,\"F\"))","v":""},{"$f":"IF(ISBLANK('Data Input'!A562),\"\",SUM('Data Input'!E562,'Data Input'!M562,'Data Input'!Q562,'Data Input'!V562,'Data Input'!W562,'Data Input'!AD562,'Data Input'!AH562))","v":""},{"$f":"IF(O557=\"\",\"\",O557/COUNTIF('Data Input'!$C$8:$AK$8,\"M\"))","v":""},{"$f":"IF(ISBLANK('Data Input'!A562),\"\",SUM('Data Input'!H562,'Data Input'!K562,'Data Input'!P562,'Data Input'!Y562))","v":""},{"$f":"IF(Q557=\"\",\"\",Q557/COUNTIF('Data Input'!$C$8:$AK$8,\"G\"))","v":""}]
[{"$f":"IF('Data Input'!A563=0,\"\",'Data Input'!A563)","v":""},{"$f":"IF(ISBLANK('Data Input'!A563),\"\",COUNTIF('Data Input'!C563:AK563,\"\"))","v":""},{"$f":"IF(ISBLANK('Data Input'!A563),\"\",COUNTIF('Data Input'!C563:AK563,\"0\"))","v":""},{"$f":"IF(ISBLANK('Data Input'!A563),\"\",SUM(B558,C558))","v":""},{"$f":"IF(ISBLANK('Data Input'!A563),\"\",SUM('Data Input'!C563:AK563))","v":""},{"$f":"IF(E558=\"\",\"\",E558/(COUNTA('Data Input'!$C$8:$AK$8)))","v":""},{"$f":"IF(ISBLANK('Data Input'!A563),\"\",SUM('Data Input'!C563,'Data Input'!D563,'Data Input'!J563,'Data Input'!X563))","v":""},{"$f":"IF(G558=\"\",\"\",G558/COUNTIF('Data Input'!$C$8:$AK$8,\"N\"))","v":""},{"$f":"IF(ISBLANK('Data Input'!A563),\"\",SUM('Data Input'!G563,'Data Input'!I563,'Data Input'!L563,'Data Input'!N563,'Data Input'!O563,'Data Input'!S563,'Data Input'!Z563,'Data Input'!AA563,'Data Input'!AB563,'Data Input'!AC563,'Data Input'!AE563,'Data Input'!AF563,'Data Input'!AG563,'Data Input'!AI563,'Data Input'!AK563))","v":""},{"$f":"IF(I558=\"\",\"\",I558/COUNTIF('Data Input'!$C$8:$AK$8,\"C\"))","v":""},{"$f":"IF(ISBLANK('Data Input'!A563),\"\",SUM('Data Input'!T563,'Data Input'!U563))","v":""},{"$f":"IF(K558=\"\",\"\",K558/COUNTIF('Data Input'!$C$8:$AK$8,\"S\"))","v":""},{"$f":"IF(ISBLANK('Data Input'!A563),\"\",SUM('Data Input'!F563,'Data Input'!R563,'Data Input'!AJ563))","v":""},{"$f":"IF(M558=\"\",\"\",M558/COUNTIF('Data Input'!$C$8:$AK$8,\"F\"))","v":""},{"$f":"IF(ISBLANK('Data Input'!A563),\"\",SUM('Data Input'!E563,'Data Input'!M563,'Data Input'!Q563,'Data Input'!V563,'Data Input'!W563,'Data Input'!AD563,'Data Input'!AH563))","v":""},{"$f":"IF(O558=\"\",\"\",O558/COUNTIF('Data Input'!$C$8:$AK$8,\"M\"))","v":""},{"$f":"IF(ISBLANK('Data Input'!A563),\"\",SUM('Data Input'!H563,'Data Input'!K563,'Data Input'!P563,'Data Input'!Y563))","v":""},{"$f":"IF(Q558=\"\",\"\",Q558/COUNTIF('Data Input'!$C$8:$AK$8,\"G\"))","v":""}]
[{"$f":"IF('Data Input'!A564=0,\"\",'Data Input'!A564)","v":""},{"$f":"IF(ISBLANK('Data Input'!A564),\"\",COUNTIF('Data Input'!C564:AK564,\"\"))","v":""},{"$f":"IF(ISBLANK('Data Input'!A564),\"\",COUNTIF('Data Input'!C564:AK564,\"0\"))","v":""},{"$f":"IF(ISBLANK('Data Input'!A564),\"\",SUM(B559,C559))","v":""},{"$f":"IF(ISBLANK('Data Input'!A564),\"\",SUM('Data Input'!C564:AK564))","v":""},{"$f":"IF(E559=\"\",\"\",E559/(COUNTA('Data Input'!$C$8:$AK$8)))","v":""},{"$f":"IF(ISBLANK('Data Input'!A564),\"\",SUM('Data Input'!C564,'Data Input'!D564,'Data Input'!J564,'Data Input'!X564))","v":""},{"$f":"IF(G559=\"\",\"\",G559/COUNTIF('Data Input'!$C$8:$AK$8,\"N\"))","v":""},{"$f":"IF(ISBLANK('Data Input'!A564),\"\",SUM('Data Input'!G564,'Data Input'!I564,'Data Input'!L564,'Data Input'!N564,'Data Input'!O564,'Data Input'!S564,'Data Input'!Z564,'Data Input'!AA564,'Data Input'!AB564,'Data Input'!AC564,'Data Input'!AE564,'Data Input'!AF564,'Data Input'!AG564,'Data Input'!AI564,'Data Input'!AK564))","v":""},{"$f":"IF(I559=\"\",\"\",I559/COUNTIF('Data Input'!$C$8:$AK$8,\"C\"))","v":""},{"$f":"IF(ISBLANK('Data Input'!A564),\"\",SUM('Data Input'!T564,'Data Input'!U564))","v":""},{"$f":"IF(K559=\"\",\"\",K559/COUNTIF('Data Input'!$C$8:$AK$8,\"S\"))","v":""},{"$f":"IF(ISBLANK('Data Input'!A564),\"\",SUM('Data Input'!F564,'Data Input'!R564,'Data Input'!AJ564))","v":""},{"$f":"IF(M559=\"\",\"\",M559/COUNTIF('Data Input'!$C$8:$AK$8,\"F\"))","v":""},{"$f":"IF(ISBLANK('Data Input'!A564),\"\",SUM('Data Input'!E564,'Data Input'!M564,'Data Input'!Q564,'Data Input'!V564,'Data Input'!W564,'Data Input'!AD564,'Data Input'!AH564))","v":""},{"$f":"IF(O559=\"\",\"\",O559/COUNTIF('Data Input'!$C$8:$AK$8,\"M\"))","v":""},{"$f":"IF(ISBLANK('Data Input'!A564),\"\",SUM('Data Input'!H564,'Data Input'!K564,'Data Input'!P564,'Data Input'!Y564))","v":""},{"$f":"IF(Q559=\"\",\"\",Q559/COUNTIF('Data Input'!$C$8:$AK$8,\"G\"))","v":""}]
[{"$f":"IF('Data Input'!A565=0,\"\",'Data Input'!A565)","v":""},{"$f":"IF(ISBLANK('Data Input'!A565),\"\",COUNTIF('Data Input'!C565:AK565,\"\"))","v":""},{"$f":"IF(ISBLANK('Data Input'!A565),\"\",COUNTIF('Data Input'!C565:AK565,\"0\"))","v":""},{"$f":"IF(ISBLANK('Data Input'!A565),\"\",SUM(B560,C560))","v":""},{"$f":"IF(ISBLANK('Data Input'!A565),\"\",SUM('Data Input'!C565:AK565))","v":""},{"$f":"IF(E560=\"\",\"\",E560/(COUNTA('Data Input'!$C$8:$AK$8)))","v":""},{"$f":"IF(ISBLANK('Data Input'!A565),\"\",SUM('Data Input'!C565,'Data Input'!D565,'Data Input'!J565,'Data Input'!X565))","v":""},{"$f":"IF(G560=\"\",\"\",G560/COUNTIF('Data Input'!$C$8:$AK$8,\"N\"))","v":""},{"$f":"IF(ISBLANK('Data Input'!A565),\"\",SUM('Data Input'!G565,'Data Input'!I565,'Data Input'!L565,'Data Input'!N565,'Data Input'!O565,'Data Input'!S565,'Data Input'!Z565,'Data Input'!AA565,'Data Input'!AB565,'Data Input'!AC565,'Data Input'!AE565,'Data Input'!AF565,'Data Input'!AG565,'Data Input'!AI565,'Data Input'!AK565))","v":""},{"$f":"IF(I560=\"\",\"\",I560/COUNTIF('Data Input'!$C$8:$AK$8,\"C\"))","v":""},{"$f":"IF(ISBLANK('Data Input'!A565),\"\",SUM('Data Input'!T565,'Data Input'!U565))","v":""},{"$f":"IF(K560=\"\",\"\",K560/COUNTIF('Data Input'!$C$8:$AK$8,\"S\"))","v":""},{"$f":"IF(ISBLANK('Data Input'!A565),\"\",SUM('Data Input'!F565,'Data Input'!R565,'Data Input'!AJ565))","v":""},{"$f":"IF(M560=\"\",\"\",M560/COUNTIF('Data Input'!$C$8:$AK$8,\"F\"))","v":""},{"$f":"IF(ISBLANK('Data Input'!A565),\"\",SUM('Data Input'!E565,'Data Input'!M565,'Data Input'!Q565,'Data Input'!V565,'Data Input'!W565,'Data Input'!AD565,'Data Input'!AH565))","v":""},{"$f":"IF(O560=\"\",\"\",O560/COUNTIF('Data Input'!$C$8:$AK$8,\"M\"))","v":""},{"$f":"IF(ISBLANK('Data Input'!A565),\"\",SUM('Data Input'!H565,'Data Input'!K565,'Data Input'!P565,'Data Input'!Y565))","v":""},{"$f":"IF(Q560=\"\",\"\",Q560/COUNTIF('Data Input'!$C$8:$AK$8,\"G\"))","v":""}]
[{"$f":"IF('Data Input'!A566=0,\"\",'Data Input'!A566)","v":""},{"$f":"IF(ISBLANK('Data Input'!A566),\"\",COUNTIF('Data Input'!C566:AK566,\"\"))","v":""},{"$f":"IF(ISBLANK('Data Input'!A566),\"\",COUNTIF('Data Input'!C566:AK566,\"0\"))","v":""},{"$f":"IF(ISBLANK('Data Input'!A566),\"\",SUM(B561,C561))","v":""},{"$f":"IF(ISBLANK('Data Input'!A566),\"\",SUM('Data Input'!C566:AK566))","v":""},{"$f":"IF(E561=\"\",\"\",E561/(COUNTA('Data Input'!$C$8:$AK$8)))","v":""},{"$f":"IF(ISBLANK('Data Input'!A566),\"\",SUM('Data Input'!C566,'Data Input'!D566,'Data Input'!J566,'Data Input'!X566))","v":""},{"$f":"IF(G561=\"\",\"\",G561/COUNTIF('Data Input'!$C$8:$AK$8,\"N\"))","v":""},{"$f":"IF(ISBLANK('Data Input'!A566),\"\",SUM('Data Input'!G566,'Data Input'!I566,'Data Input'!L566,'Data Input'!N566,'Data Input'!O566,'Data Input'!S566,'Data Input'!Z566,'Data Input'!AA566,'Data Input'!AB566,'Data Input'!AC566,'Data Input'!AE566,'Data Input'!AF566,'Data Input'!AG566,'Data Input'!AI566,'Data Input'!AK566))","v":""},{"$f":"IF(I561=\"\",\"\",I561/COUNTIF('Data Input'!$C$8:$AK$8,\"C\"))","v":""},{"$f":"IF(ISBLANK('Data Input'!A566),\"\",SUM('Data Input'!T566,'Data Input'!U566))","v":""},{"$f":"IF(K561=\"\",\"\",K561/COUNTIF('Data Input'!$C$8:$AK$8,\"S\"))","v":""},{"$f":"IF(ISBLANK('Data Input'!A566),\"\",SUM('Data Input'!F566,'Data Input'!R566,'Data Input'!AJ566))","v":""},{"$f":"IF(M561=\"\",\"\",M561/COUNTIF('Data Input'!$C$8:$AK$8,\"F\"))","v":""},{"$f":"IF(ISBLANK('Data Input'!A566),\"\",SUM('Data Input'!E566,'Data Input'!M566,'Data Input'!Q566,'Data Input'!V566,'Data Input'!W566,'Data Input'!AD566,'Data Input'!AH566))","v":""},{"$f":"IF(O561=\"\",\"\",O561/COUNTIF('Data Input'!$C$8:$AK$8,\"M\"))","v":""},{"$f":"IF(ISBLANK('Data Input'!A566),\"\",SUM('Data Input'!H566,'Data Input'!K566,'Data Input'!P566,'Data Input'!Y566))","v":""},{"$f":"IF(Q561=\"\",\"\",Q561/COUNTIF('Data Input'!$C$8:$AK$8,\"G\"))","v":""}]
[{"$f":"IF('Data Input'!A567=0,\"\",'Data Input'!A567)","v":""},{"$f":"IF(ISBLANK('Data Input'!A567),\"\",COUNTIF('Data Input'!C567:AK567,\"\"))","v":""},{"$f":"IF(ISBLANK('Data Input'!A567),\"\",COUNTIF('Data Input'!C567:AK567,\"0\"))","v":""},{"$f":"IF(ISBLANK('Data Input'!A567),\"\",SUM(B562,C562))","v":""},{"$f":"IF(ISBLANK('Data Input'!A567),\"\",SUM('Data Input'!C567:AK567))","v":""},{"$f":"IF(E562=\"\",\"\",E562/(COUNTA('Data Input'!$C$8:$AK$8)))","v":""},{"$f":"IF(ISBLANK('Data Input'!A567),\"\",SUM('Data Input'!C567,'Data Input'!D567,'Data Input'!J567,'Data Input'!X567))","v":""},{"$f":"IF(G562=\"\",\"\",G562/COUNTIF('Data Input'!$C$8:$AK$8,\"N\"))","v":""},{"$f":"IF(ISBLANK('Data Input'!A567),\"\",SUM('Data Input'!G567,'Data Input'!I567,'Data Input'!L567,'Data Input'!N567,'Data Input'!O567,'Data Input'!S567,'Data Input'!Z567,'Data Input'!AA567,'Data Input'!AB567,'Data Input'!AC567,'Data Input'!AE567,'Data Input'!AF567,'Data Input'!AG567,'Data Input'!AI567,'Data Input'!AK567))","v":""},{"$f":"IF(I562=\"\",\"\",I562/COUNTIF('Data Input'!$C$8:$AK$8,\"C\"))","v":""},{"$f":"IF(ISBLANK('Data Input'!A567),\"\",SUM('Data Input'!T567,'Data Input'!U567))","v":""},{"$f":"IF(K562=\"\",\"\",K562/COUNTIF('Data Input'!$C$8:$AK$8,\"S\"))","v":""},{"$f":"IF(ISBLANK('Data Input'!A567),\"\",SUM('Data Input'!F567,'Data Input'!R567,'Data Input'!AJ567))","v":""},{"$f":"IF(M562=\"\",\"\",M562/COUNTIF('Data Input'!$C$8:$AK$8,\"F\"))","v":""},{"$f":"IF(ISBLANK('Data Input'!A567),\"\",SUM('Data Input'!E567,'Data Input'!M567,'Data Input'!Q567,'Data Input'!V567,'Data Input'!W567,'Data Input'!AD567,'Data Input'!AH567))","v":""},{"$f":"IF(O562=\"\",\"\",O562/COUNTIF('Data Input'!$C$8:$AK$8,\"M\"))","v":""},{"$f":"IF(ISBLANK('Data Input'!A567),\"\",SUM('Data Input'!H567,'Data Input'!K567,'Data Input'!P567,'Data Input'!Y567))","v":""},{"$f":"IF(Q562=\"\",\"\",Q562/COUNTIF('Data Input'!$C$8:$AK$8,\"G\"))","v":""}]
[{"$f":"IF('Data Input'!A568=0,\"\",'Data Input'!A568)","v":""},{"$f":"IF(ISBLANK('Data Input'!A568),\"\",COUNTIF('Data Input'!C568:AK568,\"\"))","v":""},{"$f":"IF(ISBLANK('Data Input'!A568),\"\",COUNTIF('Data Input'!C568:AK568,\"0\"))","v":""},{"$f":"IF(ISBLANK('Data Input'!A568),\"\",SUM(B563,C563))","v":""},{"$f":"IF(ISBLANK('Data Input'!A568),\"\",SUM('Data Input'!C568:AK568))","v":""},{"$f":"IF(E563=\"\",\"\",E563/(COUNTA('Data Input'!$C$8:$AK$8)))","v":""},{"$f":"IF(ISBLANK('Data Input'!A568),\"\",SUM('Data Input'!C568,'Data Input'!D568,'Data Input'!J568,'Data Input'!X568))","v":""},{"$f":"IF(G563=\"\",\"\",G563/COUNTIF('Data Input'!$C$8:$AK$8,\"N\"))","v":""},{"$f":"IF(ISBLANK('Data Input'!A568),\"\",SUM('Data Input'!G568,'Data Input'!I568,'Data Input'!L568,'Data Input'!N568,'Data Input'!O568,'Data Input'!S568,'Data Input'!Z568,'Data Input'!AA568,'Data Input'!AB568,'Data Input'!AC568,'Data Input'!AE568,'Data Input'!AF568,'Data Input'!AG568,'Data Input'!AI568,'Data Input'!AK568))","v":""},{"$f":"IF(I563=\"\",\"\",I563/COUNTIF('Data Input'!$C$8:$AK$8,\"C\"))","v":""},{"$f":"IF(ISBLANK('Data Input'!A568),\"\",SUM('Data Input'!T568,'Data Input'!U568))","v":""},{"$f":"IF(K563=\"\",\"\",K563/COUNTIF('Data Input'!$C$8:$AK$8,\"S\"))","v":""},{"$f":"IF(ISBLANK('Data Input'!A568),\"\",SUM('Data Input'!F568,'Data Input'!R568,'Data Input'!AJ568))","v":""},{"$f":"IF(M563=\"\",\"\",M563/COUNTIF('Data Input'!$C$8:$AK$8,\"F\"))","v":""},{"$f":"IF(ISBLANK('Data Input'!A568),\"\",SUM('Data Input'!E568,'Data Input'!M568,'Data Input'!Q568,'Data Input'!V568,'Data Input'!W568,'Data Input'!AD568,'Data Input'!AH568))","v":""},{"$f":"IF(O563=\"\",\"\",O563/COUNTIF('Data Input'!$C$8:$AK$8,\"M\"))","v":""},{"$f":"IF(ISBLANK('Data Input'!A568),\"\",SUM('Data Input'!H568,'Data Input'!K568,'Data Input'!P568,'Data Input'!Y568))","v":""},{"$f":"IF(Q563=\"\",\"\",Q563/COUNTIF('Data Input'!$C$8:$AK$8,\"G\"))","v":""}]
[{"$f":"IF('Data Input'!A569=0,\"\",'Data Input'!A569)","v":""},{"$f":"IF(ISBLANK('Data Input'!A569),\"\",COUNTIF('Data Input'!C569:AK569,\"\"))","v":""},{"$f":"IF(ISBLANK('Data Input'!A569),\"\",COUNTIF('Data Input'!C569:AK569,\"0\"))","v":""},{"$f":"IF(ISBLANK('Data Input'!A569),\"\",SUM(B564,C564))","v":""},{"$f":"IF(ISBLANK('Data Input'!A569),\"\",SUM('Data Input'!C569:AK569))","v":""},{"$f":"IF(E564=\"\",\"\",E564/(COUNTA('Data Input'!$C$8:$AK$8)))","v":""},{"$f":"IF(ISBLANK('Data Input'!A569),\"\",SUM('Data Input'!C569,'Data Input'!D569,'Data Input'!J569,'Data Input'!X569))","v":""},{"$f":"IF(G564=\"\",\"\",G564/COUNTIF('Data Input'!$C$8:$AK$8,\"N\"))","v":""},{"$f":"IF(ISBLANK('Data Input'!A569),\"\",SUM('Data Input'!G569,'Data Input'!I569,'Data Input'!L569,'Data Input'!N569,'Data Input'!O569,'Data Input'!S569,'Data Input'!Z569,'Data Input'!AA569,'Data Input'!AB569,'Data Input'!AC569,'Data Input'!AE569,'Data Input'!AF569,'Data Input'!AG569,'Data Input'!AI569,'Data Input'!AK569))","v":""},{"$f":"IF(I564=\"\",\"\",I564/COUNTIF('Data Input'!$C$8:$AK$8,\"C\"))","v":""},{"$f":"IF(ISBLANK('Data Input'!A569),\"\",SUM('Data Input'!T569,'Data Input'!U569))","v":""},{"$f":"IF(K564=\"\",\"\",K564/COUNTIF('Data Input'!$C$8:$AK$8,\"S\"))","v":""},{"$f":"IF(ISBLANK('Data Input'!A569),\"\",SUM('Data Input'!F569,'Data Input'!R569,'Data Input'!AJ569))","v":""},{"$f":"IF(M564=\"\",\"\",M564/COUNTIF('Data Input'!$C$8:$AK$8,\"F\"))","v":""},{"$f":"IF(ISBLANK('Data Input'!A569),\"\",SUM('Data Input'!E569,'Data Input'!M569,'Data Input'!Q569,'Data Input'!V569,'Data Input'!W569,'Data Input'!AD569,'Data Input'!AH569))","v":""},{"$f":"IF(O564=\"\",\"\",O564/COUNTIF('Data Input'!$C$8:$AK$8,\"M\"))","v":""},{"$f":"IF(ISBLANK('Data Input'!A569),\"\",SUM('Data Input'!H569,'Data Input'!K569,'Data Input'!P569,'Data Input'!Y569))","v":""},{"$f":"IF(Q564=\"\",\"\",Q564/COUNTIF('Data Input'!$C$8:$AK$8,\"G\"))","v":""}]
[{"$f":"IF('Data Input'!A570=0,\"\",'Data Input'!A570)","v":""},{"$f":"IF(ISBLANK('Data Input'!A570),\"\",COUNTIF('Data Input'!C570:AK570,\"\"))","v":""},{"$f":"IF(ISBLANK('Data Input'!A570),\"\",COUNTIF('Data Input'!C570:AK570,\"0\"))","v":""},{"$f":"IF(ISBLANK('Data Input'!A570),\"\",SUM(B565,C565))","v":""},{"$f":"IF(ISBLANK('Data Input'!A570),\"\",SUM('Data Input'!C570:AK570))","v":""},{"$f":"IF(E565=\"\",\"\",E565/(COUNTA('Data Input'!$C$8:$AK$8)))","v":""},{"$f":"IF(ISBLANK('Data Input'!A570),\"\",SUM('Data Input'!C570,'Data Input'!D570,'Data Input'!J570,'Data Input'!X570))","v":""},{"$f":"IF(G565=\"\",\"\",G565/COUNTIF('Data Input'!$C$8:$AK$8,\"N\"))","v":""},{"$f":"IF(ISBLANK('Data Input'!A570),\"\",SUM('Data Input'!G570,'Data Input'!I570,'Data Input'!L570,'Data Input'!N570,'Data Input'!O570,'Data Input'!S570,'Data Input'!Z570,'Data Input'!AA570,'Data Input'!AB570,'Data Input'!AC570,'Data Input'!AE570,'Data Input'!AF570,'Data Input'!AG570,'Data Input'!AI570,'Data Input'!AK570))","v":""},{"$f":"IF(I565=\"\",\"\",I565/COUNTIF('Data Input'!$C$8:$AK$8,\"C\"))","v":""},{"$f":"IF(ISBLANK('Data Input'!A570),\"\",SUM('Data Input'!T570,'Data Input'!U570))","v":""},{"$f":"IF(K565=\"\",\"\",K565/COUNTIF('Data Input'!$C$8:$AK$8,\"S\"))","v":""},{"$f":"IF(ISBLANK('Data Input'!A570),\"\",SUM('Data Input'!F570,'Data Input'!R570,'Data Input'!AJ570))","v":""},{"$f":"IF(M565=\"\",\"\",M565/COUNTIF('Data Input'!$C$8:$AK$8,\"F\"))","v":""},{"$f":"IF(ISBLANK('Data Input'!A570),\"\",SUM('Data Input'!E570,'Data Input'!M570,'Data Input'!Q570,'Data Input'!V570,'Data Input'!W570,'Data Input'!AD570,'Data Input'!AH570))","v":""},{"$f":"IF(O565=\"\",\"\",O565/COUNTIF('Data Input'!$C$8:$AK$8,\"M\"))","v":""},{"$f":"IF(ISBLANK('Data Input'!A570),\"\",SUM('Data Input'!H570,'Data Input'!K570,'Data Input'!P570,'Data Input'!Y570))","v":""},{"$f":"IF(Q565=\"\",\"\",Q565/COUNTIF('Data Input'!$C$8:$AK$8,\"G\"))","v":""}]
[{"$f":"IF('Data Input'!A571=0,\"\",'Data Input'!A571)","v":""},{"$f":"IF(ISBLANK('Data Input'!A571),\"\",COUNTIF('Data Input'!C571:AK571,\"\"))","v":""},{"$f":"IF(ISBLANK('Data Input'!A571),\"\",COUNTIF('Data Input'!C571:AK571,\"0\"))","v":""},{"$f":"IF(ISBLANK('Data Input'!A571),\"\",SUM(B566,C566))","v":""},{"$f":"IF(ISBLANK('Data Input'!A571),\"\",SUM('Data Input'!C571:AK571))","v":""},{"$f":"IF(E566=\"\",\"\",E566/(COUNTA('Data Input'!$C$8:$AK$8)))","v":""},{"$f":"IF(ISBLANK('Data Input'!A571),\"\",SUM('Data Input'!C571,'Data Input'!D571,'Data Input'!J571,'Data Input'!X571))","v":""},{"$f":"IF(G566=\"\",\"\",G566/COUNTIF('Data Input'!$C$8:$AK$8,\"N\"))","v":""},{"$f":"IF(ISBLANK('Data Input'!A571),\"\",SUM('Data Input'!G571,'Data Input'!I571,'Data Input'!L571,'Data Input'!N571,'Data Input'!O571,'Data Input'!S571,'Data Input'!Z571,'Data Input'!AA571,'Data Input'!AB571,'Data Input'!AC571,'Data Input'!AE571,'Data Input'!AF571,'Data Input'!AG571,'Data Input'!AI571,'Data Input'!AK571))","v":""},{"$f":"IF(I566=\"\",\"\",I566/COUNTIF('Data Input'!$C$8:$AK$8,\"C\"))","v":""},{"$f":"IF(ISBLANK('Data Input'!A571),\"\",SUM('Data Input'!T571,'Data Input'!U571))","v":""},{"$f":"IF(K566=\"\",\"\",K566/COUNTIF('Data Input'!$C$8:$AK$8,\"S\"))","v":""},{"$f":"IF(ISBLANK('Data Input'!A571),\"\",SUM('Data Input'!F571,'Data Input'!R571,'Data Input'!AJ571))","v":""},{"$f":"IF(M566=\"\",\"\",M566/COUNTIF('Data Input'!$C$8:$AK$8,\"F\"))","v":""},{"$f":"IF(ISBLANK('Data Input'!A571),\"\",SUM('Data Input'!E571,'Data Input'!M571,'Data Input'!Q571,'Data Input'!V571,'Data Input'!W571,'Data Input'!AD571,'Data Input'!AH571))","v":""},{"$f":"IF(O566=\"\",\"\",O566/COUNTIF('Data Input'!$C$8:$AK$8,\"M\"))","v":""},{"$f":"IF(ISBLANK('Data Input'!A571),\"\",SUM('Data Input'!H571,'Data Input'!K571,'Data Input'!P571,'Data Input'!Y571))","v":""},{"$f":"IF(Q566=\"\",\"\",Q566/COUNTIF('Data Input'!$C$8:$AK$8,\"G\"))","v":""}]
[{"$f":"IF('Data Input'!A572=0,\"\",'Data Input'!A572)","v":""},{"$f":"IF(ISBLANK('Data Input'!A572),\"\",COUNTIF('Data Input'!C572:AK572,\"\"))","v":""},{"$f":"IF(ISBLANK('Data Input'!A572),\"\",COUNTIF('Data Input'!C572:AK572,\"0\"))","v":""},{"$f":"IF(ISBLANK('Data Input'!A572),\"\",SUM(B567,C567))","v":""},{"$f":"IF(ISBLANK('Data Input'!A572),\"\",SUM('Data Input'!C572:AK572))","v":""},{"$f":"IF(E567=\"\",\"\",E567/(COUNTA('Data Input'!$C$8:$AK$8)))","v":""},{"$f":"IF(ISBLANK('Data Input'!A572),\"\",SUM('Data Input'!C572,'Data Input'!D572,'Data Input'!J572,'Data Input'!X572))","v":""},{"$f":"IF(G567=\"\",\"\",G567/COUNTIF('Data Input'!$C$8:$AK$8,\"N\"))","v":""},{"$f":"IF(ISBLANK('Data Input'!A572),\"\",SUM('Data Input'!G572,'Data Input'!I572,'Data Input'!L572,'Data Input'!N572,'Data Input'!O572,'Data Input'!S572,'Data Input'!Z572,'Data Input'!AA572,'Data Input'!AB572,'Data Input'!AC572,'Data Input'!AE572,'Data Input'!AF572,'Data Input'!AG572,'Data Input'!AI572,'Data Input'!AK572))","v":""},{"$f":"IF(I567=\"\",\"\",I567/COUNTIF('Data Input'!$C$8:$AK$8,\"C\"))","v":""},{"$f":"IF(ISBLANK('Data Input'!A572),\"\",SUM('Data Input'!T572,'Data Input'!U572))","v":""},{"$f":"IF(K567=\"\",\"\",K567/COUNTIF('Data Input'!$C$8:$AK$8,\"S\"))","v":""},{"$f":"IF(ISBLANK('Data Input'!A572),\"\",SUM('Data Input'!F572,'Data Input'!R572,'Data Input'!AJ572))","v":""},{"$f":"IF(M567=\"\",\"\",M567/COUNTIF('Data Input'!$C$8:$AK$8,\"F\"))","v":""},{"$f":"IF(ISBLANK('Data Input'!A572),\"\",SUM('Data Input'!E572,'Data Input'!M572,'Data Input'!Q572,'Data Input'!V572,'Data Input'!W572,'Data Input'!AD572,'Data Input'!AH572))","v":""},{"$f":"IF(O567=\"\",\"\",O567/COUNTIF('Data Input'!$C$8:$AK$8,\"M\"))","v":""},{"$f":"IF(ISBLANK('Data Input'!A572),\"\",SUM('Data Input'!H572,'Data Input'!K572,'Data Input'!P572,'Data Input'!Y572))","v":""},{"$f":"IF(Q567=\"\",\"\",Q567/COUNTIF('Data Input'!$C$8:$AK$8,\"G\"))","v":""}]
[{"$f":"IF('Data Input'!A573=0,\"\",'Data Input'!A573)","v":""},{"$f":"IF(ISBLANK('Data Input'!A573),\"\",COUNTIF('Data Input'!C573:AK573,\"\"))","v":""},{"$f":"IF(ISBLANK('Data Input'!A573),\"\",COUNTIF('Data Input'!C573:AK573,\"0\"))","v":""},{"$f":"IF(ISBLANK('Data Input'!A573),\"\",SUM(B568,C568))","v":""},{"$f":"IF(ISBLANK('Data Input'!A573),\"\",SUM('Data Input'!C573:AK573))","v":""},{"$f":"IF(E568=\"\",\"\",E568/(COUNTA('Data Input'!$C$8:$AK$8)))","v":""},{"$f":"IF(ISBLANK('Data Input'!A573),\"\",SUM('Data Input'!C573,'Data Input'!D573,'Data Input'!J573,'Data Input'!X573))","v":""},{"$f":"IF(G568=\"\",\"\",G568/COUNTIF('Data Input'!$C$8:$AK$8,\"N\"))","v":""},{"$f":"IF(ISBLANK('Data Input'!A573),\"\",SUM('Data Input'!G573,'Data Input'!I573,'Data Input'!L573,'Data Input'!N573,'Data Input'!O573,'Data Input'!S573,'Data Input'!Z573,'Data Input'!AA573,'Data Input'!AB573,'Data Input'!AC573,'Data Input'!AE573,'Data Input'!AF573,'Data Input'!AG573,'Data Input'!AI573,'Data Input'!AK573))","v":""},{"$f":"IF(I568=\"\",\"\",I568/COUNTIF('Data Input'!$C$8:$AK$8,\"C\"))","v":""},{"$f":"IF(ISBLANK('Data Input'!A573),\"\",SUM('Data Input'!T573,'Data Input'!U573))","v":""},{"$f":"IF(K568=\"\",\"\",K568/COUNTIF('Data Input'!$C$8:$AK$8,\"S\"))","v":""},{"$f":"IF(ISBLANK('Data Input'!A573),\"\",SUM('Data Input'!F573,'Data Input'!R573,'Data Input'!AJ573))","v":""},{"$f":"IF(M568=\"\",\"\",M568/COUNTIF('Data Input'!$C$8:$AK$8,\"F\"))","v":""},{"$f":"IF(ISBLANK('Data Input'!A573),\"\",SUM('Data Input'!E573,'Data Input'!M573,'Data Input'!Q573,'Data Input'!V573,'Data Input'!W573,'Data Input'!AD573,'Data Input'!AH573))","v":""},{"$f":"IF(O568=\"\",\"\",O568/COUNTIF('Data Input'!$C$8:$AK$8,\"M\"))","v":""},{"$f":"IF(ISBLANK('Data Input'!A573),\"\",SUM('Data Input'!H573,'Data Input'!K573,'Data Input'!P573,'Data Input'!Y573))","v":""},{"$f":"IF(Q568=\"\",\"\",Q568/COUNTIF('Data Input'!$C$8:$AK$8,\"G\"))","v":""}]
[{"$f":"IF('Data Input'!A574=0,\"\",'Data Input'!A574)","v":""},{"$f":"IF(ISBLANK('Data Input'!A574),\"\",COUNTIF('Data Input'!C574:AK574,\"\"))","v":""},{"$f":"IF(ISBLANK('Data Input'!A574),\"\",COUNTIF('Data Input'!C574:AK574,\"0\"))","v":""},{"$f":"IF(ISBLANK('Data Input'!A574),\"\",SUM(B569,C569))","v":""},{"$f":"IF(ISBLANK('Data Input'!A574),\"\",SUM('Data Input'!C574:AK574))","v":""},{"$f":"IF(E569=\"\",\"\",E569/(COUNTA('Data Input'!$C$8:$AK$8)))","v":""},{"$f":"IF(ISBLANK('Data Input'!A574),\"\",SUM('Data Input'!C574,'Data Input'!D574,'Data Input'!J574,'Data Input'!X574))","v":""},{"$f":"IF(G569=\"\",\"\",G569/COUNTIF('Data Input'!$C$8:$AK$8,\"N\"))","v":""},{"$f":"IF(ISBLANK('Data Input'!A574),\"\",SUM('Data Input'!G574,'Data Input'!I574,'Data Input'!L574,'Data Input'!N574,'Data Input'!O574,'Data Input'!S574,'Data Input'!Z574,'Data Input'!AA574,'Data Input'!AB574,'Data Input'!AC574,'Data Input'!AE574,'Data Input'!AF574,'Data Input'!AG574,'Data Input'!AI574,'Data Input'!AK574))","v":""},{"$f":"IF(I569=\"\",\"\",I569/COUNTIF('Data Input'!$C$8:$AK$8,\"C\"))","v":""},{"$f":"IF(ISBLANK('Data Input'!A574),\"\",SUM('Data Input'!T574,'Data Input'!U574))","v":""},{"$f":"IF(K569=\"\",\"\",K569/COUNTIF('Data Input'!$C$8:$AK$8,\"S\"))","v":""},{"$f":"IF(ISBLANK('Data Input'!A574),\"\",SUM('Data Input'!F574,'Data Input'!R574,'Data Input'!AJ574))","v":""},{"$f":"IF(M569=\"\",\"\",M569/COUNTIF('Data Input'!$C$8:$AK$8,\"F\"))","v":""},{"$f":"IF(ISBLANK('Data Input'!A574),\"\",SUM('Data Input'!E574,'Data Input'!M574,'Data Input'!Q574,'Data Input'!V574,'Data Input'!W574,'Data Input'!AD574,'Data Input'!AH574))","v":""},{"$f":"IF(O569=\"\",\"\",O569/COUNTIF('Data Input'!$C$8:$AK$8,\"M\"))","v":""},{"$f":"IF(ISBLANK('Data Input'!A574),\"\",SUM('Data Input'!H574,'Data Input'!K574,'Data Input'!P574,'Data Input'!Y574))","v":""},{"$f":"IF(Q569=\"\",\"\",Q569/COUNTIF('Data Input'!$C$8:$AK$8,\"G\"))","v":""}]
[{"$f":"IF('Data Input'!A575=0,\"\",'Data Input'!A575)","v":""},{"$f":"IF(ISBLANK('Data Input'!A575),\"\",COUNTIF('Data Input'!C575:AK575,\"\"))","v":""},{"$f":"IF(ISBLANK('Data Input'!A575),\"\",COUNTIF('Data Input'!C575:AK575,\"0\"))","v":""},{"$f":"IF(ISBLANK('Data Input'!A575),\"\",SUM(B570,C570))","v":""},{"$f":"IF(ISBLANK('Data Input'!A575),\"\",SUM('Data Input'!C575:AK575))","v":""},{"$f":"IF(E570=\"\",\"\",E570/(COUNTA('Data Input'!$C$8:$AK$8)))","v":""},{"$f":"IF(ISBLANK('Data Input'!A575),\"\",SUM('Data Input'!C575,'Data Input'!D575,'Data Input'!J575,'Data Input'!X575))","v":""},{"$f":"IF(G570=\"\",\"\",G570/COUNTIF('Data Input'!$C$8:$AK$8,\"N\"))","v":""},{"$f":"IF(ISBLANK('Data Input'!A575),\"\",SUM('Data Input'!G575,'Data Input'!I575,'Data Input'!L575,'Data Input'!N575,'Data Input'!O575,'Data Input'!S575,'Data Input'!Z575,'Data Input'!AA575,'Data Input'!AB575,'Data Input'!AC575,'Data Input'!AE575,'Data Input'!AF575,'Data Input'!AG575,'Data Input'!AI575,'Data Input'!AK575))","v":""},{"$f":"IF(I570=\"\",\"\",I570/COUNTIF('Data Input'!$C$8:$AK$8,\"C\"))","v":""},{"$f":"IF(ISBLANK('Data Input'!A575),\"\",SUM('Data Input'!T575,'Data Input'!U575))","v":""},{"$f":"IF(K570=\"\",\"\",K570/COUNTIF('Data Input'!$C$8:$AK$8,\"S\"))","v":""},{"$f":"IF(ISBLANK('Data Input'!A575),\"\",SUM('Data Input'!F575,'Data Input'!R575,'Data Input'!AJ575))","v":""},{"$f":"IF(M570=\"\",\"\",M570/COUNTIF('Data Input'!$C$8:$AK$8,\"F\"))","v":""},{"$f":"IF(ISBLANK('Data Input'!A575),\"\",SUM('Data Input'!E575,'Data Input'!M575,'Data Input'!Q575,'Data Input'!V575,'Data Input'!W575,'Data Input'!AD575,'Data Input'!AH575))","v":""},{"$f":"IF(O570=\"\",\"\",O570/COUNTIF('Data Input'!$C$8:$AK$8,\"M\"))","v":""},{"$f":"IF(ISBLANK('Data Input'!A575),\"\",SUM('Data Input'!H575,'Data Input'!K575,'Data Input'!P575,'Data Input'!Y575))","v":""},{"$f":"IF(Q570=\"\",\"\",Q570/COUNTIF('Data Input'!$C$8:$AK$8,\"G\"))","v":""}]
[{"$f":"IF('Data Input'!A576=0,\"\",'Data Input'!A576)","v":""},{"$f":"IF(ISBLANK('Data Input'!A576),\"\",COUNTIF('Data Input'!C576:AK576,\"\"))","v":""},{"$f":"IF(ISBLANK('Data Input'!A576),\"\",COUNTIF('Data Input'!C576:AK576,\"0\"))","v":""},{"$f":"IF(ISBLANK('Data Input'!A576),\"\",SUM(B571,C571))","v":""},{"$f":"IF(ISBLANK('Data Input'!A576),\"\",SUM('Data Input'!C576:AK576))","v":""},{"$f":"IF(E571=\"\",\"\",E571/(COUNTA('Data Input'!$C$8:$AK$8)))","v":""},{"$f":"IF(ISBLANK('Data Input'!A576),\"\",SUM('Data Input'!C576,'Data Input'!D576,'Data Input'!J576,'Data Input'!X576))","v":""},{"$f":"IF(G571=\"\",\"\",G571/COUNTIF('Data Input'!$C$8:$AK$8,\"N\"))","v":""},{"$f":"IF(ISBLANK('Data Input'!A576),\"\",SUM('Data Input'!G576,'Data Input'!I576,'Data Input'!L576,'Data Input'!N576,'Data Input'!O576,'Data Input'!S576,'Data Input'!Z576,'Data Input'!AA576,'Data Input'!AB576,'Data Input'!AC576,'Data Input'!AE576,'Data Input'!AF576,'Data Input'!AG576,'Data Input'!AI576,'Data Input'!AK576))","v":""},{"$f":"IF(I571=\"\",\"\",I571/COUNTIF('Data Input'!$C$8:$AK$8,\"C\"))","v":""},{"$f":"IF(ISBLANK('Data Input'!A576),\"\",SUM('Data Input'!T576,'Data Input'!U576))","v":""},{"$f":"IF(K571=\"\",\"\",K571/COUNTIF('Data Input'!$C$8:$AK$8,\"S\"))","v":""},{"$f":"IF(ISBLANK('Data Input'!A576),\"\",SUM('Data Input'!F576,'Data Input'!R576,'Data Input'!AJ576))","v":""},{"$f":"IF(M571=\"\",\"\",M571/COUNTIF('Data Input'!$C$8:$AK$8,\"F\"))","v":""},{"$f":"IF(ISBLANK('Data Input'!A576),\"\",SUM('Data Input'!E576,'Data Input'!M576,'Data Input'!Q576,'Data Input'!V576,'Data Input'!W576,'Data Input'!AD576,'Data Input'!AH576))","v":""},{"$f":"IF(O571=\"\",\"\",O571/COUNTIF('Data Input'!$C$8:$AK$8,\"M\"))","v":""},{"$f":"IF(ISBLANK('Data Input'!A576),\"\",SUM('Data Input'!H576,'Data Input'!K576,'Data Input'!P576,'Data Input'!Y576))","v":""},{"$f":"IF(Q571=\"\",\"\",Q571/COUNTIF('Data Input'!$C$8:$AK$8,\"G\"))","v":""}]
[{"$f":"IF('Data Input'!A577=0,\"\",'Data Input'!A577)","v":""},{"$f":"IF(ISBLANK('Data Input'!A577),\"\",COUNTIF('Data Input'!C577:AK577,\"\"))","v":""},{"$f":"IF(ISBLANK('Data Input'!A577),\"\",COUNTIF('Data Input'!C577:AK577,\"0\"))","v":""},{"$f":"IF(ISBLANK('Data Input'!A577),\"\",SUM(B572,C572))","v":""},{"$f":"IF(ISBLANK('Data Input'!A577),\"\",SUM('Data Input'!C577:AK577))","v":""},{"$f":"IF(E572=\"\",\"\",E572/(COUNTA('Data Input'!$C$8:$AK$8)))","v":""},{"$f":"IF(ISBLANK('Data Input'!A577),\"\",SUM('Data Input'!C577,'Data Input'!D577,'Data Input'!J577,'Data Input'!X577))","v":""},{"$f":"IF(G572=\"\",\"\",G572/COUNTIF('Data Input'!$C$8:$AK$8,\"N\"))","v":""},{"$f":"IF(ISBLANK('Data Input'!A577),\"\",SUM('Data Input'!G577,'Data Input'!I577,'Data Input'!L577,'Data Input'!N577,'Data Input'!O577,'Data Input'!S577,'Data Input'!Z577,'Data Input'!AA577,'Data Input'!AB577,'Data Input'!AC577,'Data Input'!AE577,'Data Input'!AF577,'Data Input'!AG577,'Data Input'!AI577,'Data Input'!AK577))","v":""},{"$f":"IF(I572=\"\",\"\",I572/COUNTIF('Data Input'!$C$8:$AK$8,\"C\"))","v":""},{"$f":"IF(ISBLANK('Data Input'!A577),\"\",SUM('Data Input'!T577,'Data Input'!U577))","v":""},{"$f":"IF(K572=\"\",\"\",K572/COUNTIF('Data Input'!$C$8:$AK$8,\"S\"))","v":""},{"$f":"IF(ISBLANK('Data Input'!A577),\"\",SUM('Data Input'!F577,'Data Input'!R577,'Data Input'!AJ577))","v":""},{"$f":"IF(M572=\"\",\"\",M572/COUNTIF('Data Input'!$C$8:$AK$8,\"F\"))","v":""},{"$f":"IF(ISBLANK('Data Input'!A577),\"\",SUM('Data Input'!E577,'Data Input'!M577,'Data Input'!Q577,'Data Input'!V577,'Data Input'!W577,'Data Input'!AD577,'Data Input'!AH577))","v":""},{"$f":"IF(O572=\"\",\"\",O572/COUNTIF('Data Input'!$C$8:$AK$8,\"M\"))","v":""},{"$f":"IF(ISBLANK('Data Input'!A577),\"\",SUM('Data Input'!H577,'Data Input'!K577,'Data Input'!P577,'Data Input'!Y577))","v":""},{"$f":"IF(Q572=\"\",\"\",Q572/COUNTIF('Data Input'!$C$8:$AK$8,\"G\"))","v":""}]
[{"$f":"IF('Data Input'!A578=0,\"\",'Data Input'!A578)","v":""},{"$f":"IF(ISBLANK('Data Input'!A578),\"\",COUNTIF('Data Input'!C578:AK578,\"\"))","v":""},{"$f":"IF(ISBLANK('Data Input'!A578),\"\",COUNTIF('Data Input'!C578:AK578,\"0\"))","v":""},{"$f":"IF(ISBLANK('Data Input'!A578),\"\",SUM(B573,C573))","v":""},{"$f":"IF(ISBLANK('Data Input'!A578),\"\",SUM('Data Input'!C578:AK578))","v":""},{"$f":"IF(E573=\"\",\"\",E573/(COUNTA('Data Input'!$C$8:$AK$8)))","v":""},{"$f":"IF(ISBLANK('Data Input'!A578),\"\",SUM('Data Input'!C578,'Data Input'!D578,'Data Input'!J578,'Data Input'!X578))","v":""},{"$f":"IF(G573=\"\",\"\",G573/COUNTIF('Data Input'!$C$8:$AK$8,\"N\"))","v":""},{"$f":"IF(ISBLANK('Data Input'!A578),\"\",SUM('Data Input'!G578,'Data Input'!I578,'Data Input'!L578,'Data Input'!N578,'Data Input'!O578,'Data Input'!S578,'Data Input'!Z578,'Data Input'!AA578,'Data Input'!AB578,'Data Input'!AC578,'Data Input'!AE578,'Data Input'!AF578,'Data Input'!AG578,'Data Input'!AI578,'Data Input'!AK578))","v":""},{"$f":"IF(I573=\"\",\"\",I573/COUNTIF('Data Input'!$C$8:$AK$8,\"C\"))","v":""},{"$f":"IF(ISBLANK('Data Input'!A578),\"\",SUM('Data Input'!T578,'Data Input'!U578))","v":""},{"$f":"IF(K573=\"\",\"\",K573/COUNTIF('Data Input'!$C$8:$AK$8,\"S\"))","v":""},{"$f":"IF(ISBLANK('Data Input'!A578),\"\",SUM('Data Input'!F578,'Data Input'!R578,'Data Input'!AJ578))","v":""},{"$f":"IF(M573=\"\",\"\",M573/COUNTIF('Data Input'!$C$8:$AK$8,\"F\"))","v":""},{"$f":"IF(ISBLANK('Data Input'!A578),\"\",SUM('Data Input'!E578,'Data Input'!M578,'Data Input'!Q578,'Data Input'!V578,'Data Input'!W578,'Data Input'!AD578,'Data Input'!AH578))","v":""},{"$f":"IF(O573=\"\",\"\",O573/COUNTIF('Data Input'!$C$8:$AK$8,\"M\"))","v":""},{"$f":"IF(ISBLANK('Data Input'!A578),\"\",SUM('Data Input'!H578,'Data Input'!K578,'Data Input'!P578,'Data Input'!Y578))","v":""},{"$f":"IF(Q573=\"\",\"\",Q573/COUNTIF('Data Input'!$C$8:$AK$8,\"G\"))","v":""}]
[{"$f":"IF('Data Input'!A579=0,\"\",'Data Input'!A579)","v":""},{"$f":"IF(ISBLANK('Data Input'!A579),\"\",COUNTIF('Data Input'!C579:AK579,\"\"))","v":""},{"$f":"IF(ISBLANK('Data Input'!A579),\"\",COUNTIF('Data Input'!C579:AK579,\"0\"))","v":""},{"$f":"IF(ISBLANK('Data Input'!A579),\"\",SUM(B574,C574))","v":""},{"$f":"IF(ISBLANK('Data Input'!A579),\"\",SUM('Data Input'!C579:AK579))","v":""},{"$f":"IF(E574=\"\",\"\",E574/(COUNTA('Data Input'!$C$8:$AK$8)))","v":""},{"$f":"IF(ISBLANK('Data Input'!A579),\"\",SUM('Data Input'!C579,'Data Input'!D579,'Data Input'!J579,'Data Input'!X579))","v":""},{"$f":"IF(G574=\"\",\"\",G574/COUNTIF('Data Input'!$C$8:$AK$8,\"N\"))","v":""},{"$f":"IF(ISBLANK('Data Input'!A579),\"\",SUM('Data Input'!G579,'Data Input'!I579,'Data Input'!L579,'Data Input'!N579,'Data Input'!O579,'Data Input'!S579,'Data Input'!Z579,'Data Input'!AA579,'Data Input'!AB579,'Data Input'!AC579,'Data Input'!AE579,'Data Input'!AF579,'Data Input'!AG579,'Data Input'!AI579,'Data Input'!AK579))","v":""},{"$f":"IF(I574=\"\",\"\",I574/COUNTIF('Data Input'!$C$8:$AK$8,\"C\"))","v":""},{"$f":"IF(ISBLANK('Data Input'!A579),\"\",SUM('Data Input'!T579,'Data Input'!U579))","v":""},{"$f":"IF(K574=\"\",\"\",K574/COUNTIF('Data Input'!$C$8:$AK$8,\"S\"))","v":""},{"$f":"IF(ISBLANK('Data Input'!A579),\"\",SUM('Data Input'!F579,'Data Input'!R579,'Data Input'!AJ579))","v":""},{"$f":"IF(M574=\"\",\"\",M574/COUNTIF('Data Input'!$C$8:$AK$8,\"F\"))","v":""},{"$f":"IF(ISBLANK('Data Input'!A579),\"\",SUM('Data Input'!E579,'Data Input'!M579,'Data Input'!Q579,'Data Input'!V579,'Data Input'!W579,'Data Input'!AD579,'Data Input'!AH579))","v":""},{"$f":"IF(O574=\"\",\"\",O574/COUNTIF('Data Input'!$C$8:$AK$8,\"M\"))","v":""},{"$f":"IF(ISBLANK('Data Input'!A579),\"\",SUM('Data Input'!H579,'Data Input'!K579,'Data Input'!P579,'Data Input'!Y579))","v":""},{"$f":"IF(Q574=\"\",\"\",Q574/COUNTIF('Data Input'!$C$8:$AK$8,\"G\"))","v":""}]
[{"$f":"IF('Data Input'!A580=0,\"\",'Data Input'!A580)","v":""},{"$f":"IF(ISBLANK('Data Input'!A580),\"\",COUNTIF('Data Input'!C580:AK580,\"\"))","v":""},{"$f":"IF(ISBLANK('Data Input'!A580),\"\",COUNTIF('Data Input'!C580:AK580,\"0\"))","v":""},{"$f":"IF(ISBLANK('Data Input'!A580),\"\",SUM(B575,C575))","v":""},{"$f":"IF(ISBLANK('Data Input'!A580),\"\",SUM('Data Input'!C580:AK580))","v":""},{"$f":"IF(E575=\"\",\"\",E575/(COUNTA('Data Input'!$C$8:$AK$8)))","v":""},{"$f":"IF(ISBLANK('Data Input'!A580),\"\",SUM('Data Input'!C580,'Data Input'!D580,'Data Input'!J580,'Data Input'!X580))","v":""},{"$f":"IF(G575=\"\",\"\",G575/COUNTIF('Data Input'!$C$8:$AK$8,\"N\"))","v":""},{"$f":"IF(ISBLANK('Data Input'!A580),\"\",SUM('Data Input'!G580,'Data Input'!I580,'Data Input'!L580,'Data Input'!N580,'Data Input'!O580,'Data Input'!S580,'Data Input'!Z580,'Data Input'!AA580,'Data Input'!AB580,'Data Input'!AC580,'Data Input'!AE580,'Data Input'!AF580,'Data Input'!AG580,'Data Input'!AI580,'Data Input'!AK580))","v":""},{"$f":"IF(I575=\"\",\"\",I575/COUNTIF('Data Input'!$C$8:$AK$8,\"C\"))","v":""},{"$f":"IF(ISBLANK('Data Input'!A580),\"\",SUM('Data Input'!T580,'Data Input'!U580))","v":""},{"$f":"IF(K575=\"\",\"\",K575/COUNTIF('Data Input'!$C$8:$AK$8,\"S\"))","v":""},{"$f":"IF(ISBLANK('Data Input'!A580),\"\",SUM('Data Input'!F580,'Data Input'!R580,'Data Input'!AJ580))","v":""},{"$f":"IF(M575=\"\",\"\",M575/COUNTIF('Data Input'!$C$8:$AK$8,\"F\"))","v":""},{"$f":"IF(ISBLANK('Data Input'!A580),\"\",SUM('Data Input'!E580,'Data Input'!M580,'Data Input'!Q580,'Data Input'!V580,'Data Input'!W580,'Data Input'!AD580,'Data Input'!AH580))","v":""},{"$f":"IF(O575=\"\",\"\",O575/COUNTIF('Data Input'!$C$8:$AK$8,\"M\"))","v":""},{"$f":"IF(ISBLANK('Data Input'!A580),\"\",SUM('Data Input'!H580,'Data Input'!K580,'Data Input'!P580,'Data Input'!Y580))","v":""},{"$f":"IF(Q575=\"\",\"\",Q575/COUNTIF('Data Input'!$C$8:$AK$8,\"G\"))","v":""}]
[{"$f":"IF('Data Input'!A581=0,\"\",'Data Input'!A581)","v":""},{"$f":"IF(ISBLANK('Data Input'!A581),\"\",COUNTIF('Data Input'!C581:AK581,\"\"))","v":""},{"$f":"IF(ISBLANK('Data Input'!A581),\"\",COUNTIF('Data Input'!C581:AK581,\"0\"))","v":""},{"$f":"IF(ISBLANK('Data Input'!A581),\"\",SUM(B576,C576))","v":""},{"$f":"IF(ISBLANK('Data Input'!A581),\"\",SUM('Data Input'!C581:AK581))","v":""},{"$f":"IF(E576=\"\",\"\",E576/(COUNTA('Data Input'!$C$8:$AK$8)))","v":""},{"$f":"IF(ISBLANK('Data Input'!A581),\"\",SUM('Data Input'!C581,'Data Input'!D581,'Data Input'!J581,'Data Input'!X581))","v":""},{"$f":"IF(G576=\"\",\"\",G576/COUNTIF('Data Input'!$C$8:$AK$8,\"N\"))","v":""},{"$f":"IF(ISBLANK('Data Input'!A581),\"\",SUM('Data Input'!G581,'Data Input'!I581,'Data Input'!L581,'Data Input'!N581,'Data Input'!O581,'Data Input'!S581,'Data Input'!Z581,'Data Input'!AA581,'Data Input'!AB581,'Data Input'!AC581,'Data Input'!AE581,'Data Input'!AF581,'Data Input'!AG581,'Data Input'!AI581,'Data Input'!AK581))","v":""},{"$f":"IF(I576=\"\",\"\",I576/COUNTIF('Data Input'!$C$8:$AK$8,\"C\"))","v":""},{"$f":"IF(ISBLANK('Data Input'!A581),\"\",SUM('Data Input'!T581,'Data Input'!U581))","v":""},{"$f":"IF(K576=\"\",\"\",K576/COUNTIF('Data Input'!$C$8:$AK$8,\"S\"))","v":""},{"$f":"IF(ISBLANK('Data Input'!A581),\"\",SUM('Data Input'!F581,'Data Input'!R581,'Data Input'!AJ581))","v":""},{"$f":"IF(M576=\"\",\"\",M576/COUNTIF('Data Input'!$C$8:$AK$8,\"F\"))","v":""},{"$f":"IF(ISBLANK('Data Input'!A581),\"\",SUM('Data Input'!E581,'Data Input'!M581,'Data Input'!Q581,'Data Input'!V581,'Data Input'!W581,'Data Input'!AD581,'Data Input'!AH581))","v":""},{"$f":"IF(O576=\"\",\"\",O576/COUNTIF('Data Input'!$C$8:$AK$8,\"M\"))","v":""},{"$f":"IF(ISBLANK('Data Input'!A581),\"\",SUM('Data Input'!H581,'Data Input'!K581,'Data Input'!P581,'Data Input'!Y581))","v":""},{"$f":"IF(Q576=\"\",\"\",Q576/COUNTIF('Data Input'!$C$8:$AK$8,\"G\"))","v":""}]
[{"$f":"IF('Data Input'!A582=0,\"\",'Data Input'!A582)","v":""},{"$f":"IF(ISBLANK('Data Input'!A582),\"\",COUNTIF('Data Input'!C582:AK582,\"\"))","v":""},{"$f":"IF(ISBLANK('Data Input'!A582),\"\",COUNTIF('Data Input'!C582:AK582,\"0\"))","v":""},{"$f":"IF(ISBLANK('Data Input'!A582),\"\",SUM(B577,C577))","v":""},{"$f":"IF(ISBLANK('Data Input'!A582),\"\",SUM('Data Input'!C582:AK582))","v":""},{"$f":"IF(E577=\"\",\"\",E577/(COUNTA('Data Input'!$C$8:$AK$8)))","v":""},{"$f":"IF(ISBLANK('Data Input'!A582),\"\",SUM('Data Input'!C582,'Data Input'!D582,'Data Input'!J582,'Data Input'!X582))","v":""},{"$f":"IF(G577=\"\",\"\",G577/COUNTIF('Data Input'!$C$8:$AK$8,\"N\"))","v":""},{"$f":"IF(ISBLANK('Data Input'!A582),\"\",SUM('Data Input'!G582,'Data Input'!I582,'Data Input'!L582,'Data Input'!N582,'Data Input'!O582,'Data Input'!S582,'Data Input'!Z582,'Data Input'!AA582,'Data Input'!AB582,'Data Input'!AC582,'Data Input'!AE582,'Data Input'!AF582,'Data Input'!AG582,'Data Input'!AI582,'Data Input'!AK582))","v":""},{"$f":"IF(I577=\"\",\"\",I577/COUNTIF('Data Input'!$C$8:$AK$8,\"C\"))","v":""},{"$f":"IF(ISBLANK('Data Input'!A582),\"\",SUM('Data Input'!T582,'Data Input'!U582))","v":""},{"$f":"IF(K577=\"\",\"\",K577/COUNTIF('Data Input'!$C$8:$AK$8,\"S\"))","v":""},{"$f":"IF(ISBLANK('Data Input'!A582),\"\",SUM('Data Input'!F582,'Data Input'!R582,'Data Input'!AJ582))","v":""},{"$f":"IF(M577=\"\",\"\",M577/COUNTIF('Data Input'!$C$8:$AK$8,\"F\"))","v":""},{"$f":"IF(ISBLANK('Data Input'!A582),\"\",SUM('Data Input'!E582,'Data Input'!M582,'Data Input'!Q582,'Data Input'!V582,'Data Input'!W582,'Data Input'!AD582,'Data Input'!AH582))","v":""},{"$f":"IF(O577=\"\",\"\",O577/COUNTIF('Data Input'!$C$8:$AK$8,\"M\"))","v":""},{"$f":"IF(ISBLANK('Data Input'!A582),\"\",SUM('Data Input'!H582,'Data Input'!K582,'Data Input'!P582,'Data Input'!Y582))","v":""},{"$f":"IF(Q577=\"\",\"\",Q577/COUNTIF('Data Input'!$C$8:$AK$8,\"G\"))","v":""}]
[{"$f":"IF('Data Input'!A583=0,\"\",'Data Input'!A583)","v":""},{"$f":"IF(ISBLANK('Data Input'!A583),\"\",COUNTIF('Data Input'!C583:AK583,\"\"))","v":""},{"$f":"IF(ISBLANK('Data Input'!A583),\"\",COUNTIF('Data Input'!C583:AK583,\"0\"))","v":""},{"$f":"IF(ISBLANK('Data Input'!A583),\"\",SUM(B578,C578))","v":""},{"$f":"IF(ISBLANK('Data Input'!A583),\"\",SUM('Data Input'!C583:AK583))","v":""},{"$f":"IF(E578=\"\",\"\",E578/(COUNTA('Data Input'!$C$8:$AK$8)))","v":""},{"$f":"IF(ISBLANK('Data Input'!A583),\"\",SUM('Data Input'!C583,'Data Input'!D583,'Data Input'!J583,'Data Input'!X583))","v":""},{"$f":"IF(G578=\"\",\"\",G578/COUNTIF('Data Input'!$C$8:$AK$8,\"N\"))","v":""},{"$f":"IF(ISBLANK('Data Input'!A583),\"\",SUM('Data Input'!G583,'Data Input'!I583,'Data Input'!L583,'Data Input'!N583,'Data Input'!O583,'Data Input'!S583,'Data Input'!Z583,'Data Input'!AA583,'Data Input'!AB583,'Data Input'!AC583,'Data Input'!AE583,'Data Input'!AF583,'Data Input'!AG583,'Data Input'!AI583,'Data Input'!AK583))","v":""},{"$f":"IF(I578=\"\",\"\",I578/COUNTIF('Data Input'!$C$8:$AK$8,\"C\"))","v":""},{"$f":"IF(ISBLANK('Data Input'!A583),\"\",SUM('Data Input'!T583,'Data Input'!U583))","v":""},{"$f":"IF(K578=\"\",\"\",K578/COUNTIF('Data Input'!$C$8:$AK$8,\"S\"))","v":""},{"$f":"IF(ISBLANK('Data Input'!A583),\"\",SUM('Data Input'!F583,'Data Input'!R583,'Data Input'!AJ583))","v":""},{"$f":"IF(M578=\"\",\"\",M578/COUNTIF('Data Input'!$C$8:$AK$8,\"F\"))","v":""},{"$f":"IF(ISBLANK('Data Input'!A583),\"\",SUM('Data Input'!E583,'Data Input'!M583,'Data Input'!Q583,'Data Input'!V583,'Data Input'!W583,'Data Input'!AD583,'Data Input'!AH583))","v":""},{"$f":"IF(O578=\"\",\"\",O578/COUNTIF('Data Input'!$C$8:$AK$8,\"M\"))","v":""},{"$f":"IF(ISBLANK('Data Input'!A583),\"\",SUM('Data Input'!H583,'Data Input'!K583,'Data Input'!P583,'Data Input'!Y583))","v":""},{"$f":"IF(Q578=\"\",\"\",Q578/COUNTIF('Data Input'!$C$8:$AK$8,\"G\"))","v":""}]
[{"$f":"IF('Data Input'!A584=0,\"\",'Data Input'!A584)","v":""},{"$f":"IF(ISBLANK('Data Input'!A584),\"\",COUNTIF('Data Input'!C584:AK584,\"\"))","v":""},{"$f":"IF(ISBLANK('Data Input'!A584),\"\",COUNTIF('Data Input'!C584:AK584,\"0\"))","v":""},{"$f":"IF(ISBLANK('Data Input'!A584),\"\",SUM(B579,C579))","v":""},{"$f":"IF(ISBLANK('Data Input'!A584),\"\",SUM('Data Input'!C584:AK584))","v":""},{"$f":"IF(E579=\"\",\"\",E579/(COUNTA('Data Input'!$C$8:$AK$8)))","v":""},{"$f":"IF(ISBLANK('Data Input'!A584),\"\",SUM('Data Input'!C584,'Data Input'!D584,'Data Input'!J584,'Data Input'!X584))","v":""},{"$f":"IF(G579=\"\",\"\",G579/COUNTIF('Data Input'!$C$8:$AK$8,\"N\"))","v":""},{"$f":"IF(ISBLANK('Data Input'!A584),\"\",SUM('Data Input'!G584,'Data Input'!I584,'Data Input'!L584,'Data Input'!N584,'Data Input'!O584,'Data Input'!S584,'Data Input'!Z584,'Data Input'!AA584,'Data Input'!AB584,'Data Input'!AC584,'Data Input'!AE584,'Data Input'!AF584,'Data Input'!AG584,'Data Input'!AI584,'Data Input'!AK584))","v":""},{"$f":"IF(I579=\"\",\"\",I579/COUNTIF('Data Input'!$C$8:$AK$8,\"C\"))","v":""},{"$f":"IF(ISBLANK('Data Input'!A584),\"\",SUM('Data Input'!T584,'Data Input'!U584))","v":""},{"$f":"IF(K579=\"\",\"\",K579/COUNTIF('Data Input'!$C$8:$AK$8,\"S\"))","v":""},{"$f":"IF(ISBLANK('Data Input'!A584),\"\",SUM('Data Input'!F584,'Data Input'!R584,'Data Input'!AJ584))","v":""},{"$f":"IF(M579=\"\",\"\",M579/COUNTIF('Data Input'!$C$8:$AK$8,\"F\"))","v":""},{"$f":"IF(ISBLANK('Data Input'!A584),\"\",SUM('Data Input'!E584,'Data Input'!M584,'Data Input'!Q584,'Data Input'!V584,'Data Input'!W584,'Data Input'!AD584,'Data Input'!AH584))","v":""},{"$f":"IF(O579=\"\",\"\",O579/COUNTIF('Data Input'!$C$8:$AK$8,\"M\"))","v":""},{"$f":"IF(ISBLANK('Data Input'!A584),\"\",SUM('Data Input'!H584,'Data Input'!K584,'Data Input'!P584,'Data Input'!Y584))","v":""},{"$f":"IF(Q579=\"\",\"\",Q579/COUNTIF('Data Input'!$C$8:$AK$8,\"G\"))","v":""}]
[{"$f":"IF('Data Input'!A585=0,\"\",'Data Input'!A585)","v":""},{"$f":"IF(ISBLANK('Data Input'!A585),\"\",COUNTIF('Data Input'!C585:AK585,\"\"))","v":""},{"$f":"IF(ISBLANK('Data Input'!A585),\"\",COUNTIF('Data Input'!C585:AK585,\"0\"))","v":""},{"$f":"IF(ISBLANK('Data Input'!A585),\"\",SUM(B580,C580))","v":""},{"$f":"IF(ISBLANK('Data Input'!A585),\"\",SUM('Data Input'!C585:AK585))","v":""},{"$f":"IF(E580=\"\",\"\",E580/(COUNTA('Data Input'!$C$8:$AK$8)))","v":""},{"$f":"IF(ISBLANK('Data Input'!A585),\"\",SUM('Data Input'!C585,'Data Input'!D585,'Data Input'!J585,'Data Input'!X585))","v":""},{"$f":"IF(G580=\"\",\"\",G580/COUNTIF('Data Input'!$C$8:$AK$8,\"N\"))","v":""},{"$f":"IF(ISBLANK('Data Input'!A585),\"\",SUM('Data Input'!G585,'Data Input'!I585,'Data Input'!L585,'Data Input'!N585,'Data Input'!O585,'Data Input'!S585,'Data Input'!Z585,'Data Input'!AA585,'Data Input'!AB585,'Data Input'!AC585,'Data Input'!AE585,'Data Input'!AF585,'Data Input'!AG585,'Data Input'!AI585,'Data Input'!AK585))","v":""},{"$f":"IF(I580=\"\",\"\",I580/COUNTIF('Data Input'!$C$8:$AK$8,\"C\"))","v":""},{"$f":"IF(ISBLANK('Data Input'!A585),\"\",SUM('Data Input'!T585,'Data Input'!U585))","v":""},{"$f":"IF(K580=\"\",\"\",K580/COUNTIF('Data Input'!$C$8:$AK$8,\"S\"))","v":""},{"$f":"IF(ISBLANK('Data Input'!A585),\"\",SUM('Data Input'!F585,'Data Input'!R585,'Data Input'!AJ585))","v":""},{"$f":"IF(M580=\"\",\"\",M580/COUNTIF('Data Input'!$C$8:$AK$8,\"F\"))","v":""},{"$f":"IF(ISBLANK('Data Input'!A585),\"\",SUM('Data Input'!E585,'Data Input'!M585,'Data Input'!Q585,'Data Input'!V585,'Data Input'!W585,'Data Input'!AD585,'Data Input'!AH585))","v":""},{"$f":"IF(O580=\"\",\"\",O580/COUNTIF('Data Input'!$C$8:$AK$8,\"M\"))","v":""},{"$f":"IF(ISBLANK('Data Input'!A585),\"\",SUM('Data Input'!H585,'Data Input'!K585,'Data Input'!P585,'Data Input'!Y585))","v":""},{"$f":"IF(Q580=\"\",\"\",Q580/COUNTIF('Data Input'!$C$8:$AK$8,\"G\"))","v":""}]
[{"$f":"IF('Data Input'!A586=0,\"\",'Data Input'!A586)","v":""},{"$f":"IF(ISBLANK('Data Input'!A586),\"\",COUNTIF('Data Input'!C586:AK586,\"\"))","v":""},{"$f":"IF(ISBLANK('Data Input'!A586),\"\",COUNTIF('Data Input'!C586:AK586,\"0\"))","v":""},{"$f":"IF(ISBLANK('Data Input'!A586),\"\",SUM(B581,C581))","v":""},{"$f":"IF(ISBLANK('Data Input'!A586),\"\",SUM('Data Input'!C586:AK586))","v":""},{"$f":"IF(E581=\"\",\"\",E581/(COUNTA('Data Input'!$C$8:$AK$8)))","v":""},{"$f":"IF(ISBLANK('Data Input'!A586),\"\",SUM('Data Input'!C586,'Data Input'!D586,'Data Input'!J586,'Data Input'!X586))","v":""},{"$f":"IF(G581=\"\",\"\",G581/COUNTIF('Data Input'!$C$8:$AK$8,\"N\"))","v":""},{"$f":"IF(ISBLANK('Data Input'!A586),\"\",SUM('Data Input'!G586,'Data Input'!I586,'Data Input'!L586,'Data Input'!N586,'Data Input'!O586,'Data Input'!S586,'Data Input'!Z586,'Data Input'!AA586,'Data Input'!AB586,'Data Input'!AC586,'Data Input'!AE586,'Data Input'!AF586,'Data Input'!AG586,'Data Input'!AI586,'Data Input'!AK586))","v":""},{"$f":"IF(I581=\"\",\"\",I581/COUNTIF('Data Input'!$C$8:$AK$8,\"C\"))","v":""},{"$f":"IF(ISBLANK('Data Input'!A586),\"\",SUM('Data Input'!T586,'Data Input'!U586))","v":""},{"$f":"IF(K581=\"\",\"\",K581/COUNTIF('Data Input'!$C$8:$AK$8,\"S\"))","v":""},{"$f":"IF(ISBLANK('Data Input'!A586),\"\",SUM('Data Input'!F586,'Data Input'!R586,'Data Input'!AJ586))","v":""},{"$f":"IF(M581=\"\",\"\",M581/COUNTIF('Data Input'!$C$8:$AK$8,\"F\"))","v":""},{"$f":"IF(ISBLANK('Data Input'!A586),\"\",SUM('Data Input'!E586,'Data Input'!M586,'Data Input'!Q586,'Data Input'!V586,'Data Input'!W586,'Data Input'!AD586,'Data Input'!AH586))","v":""},{"$f":"IF(O581=\"\",\"\",O581/COUNTIF('Data Input'!$C$8:$AK$8,\"M\"))","v":""},{"$f":"IF(ISBLANK('Data Input'!A586),\"\",SUM('Data Input'!H586,'Data Input'!K586,'Data Input'!P586,'Data Input'!Y586))","v":""},{"$f":"IF(Q581=\"\",\"\",Q581/COUNTIF('Data Input'!$C$8:$AK$8,\"G\"))","v":""}]
[{"$f":"IF('Data Input'!A587=0,\"\",'Data Input'!A587)","v":""},{"$f":"IF(ISBLANK('Data Input'!A587),\"\",COUNTIF('Data Input'!C587:AK587,\"\"))","v":""},{"$f":"IF(ISBLANK('Data Input'!A587),\"\",COUNTIF('Data Input'!C587:AK587,\"0\"))","v":""},{"$f":"IF(ISBLANK('Data Input'!A587),\"\",SUM(B582,C582))","v":""},{"$f":"IF(ISBLANK('Data Input'!A587),\"\",SUM('Data Input'!C587:AK587))","v":""},{"$f":"IF(E582=\"\",\"\",E582/(COUNTA('Data Input'!$C$8:$AK$8)))","v":""},{"$f":"IF(ISBLANK('Data Input'!A587),\"\",SUM('Data Input'!C587,'Data Input'!D587,'Data Input'!J587,'Data Input'!X587))","v":""},{"$f":"IF(G582=\"\",\"\",G582/COUNTIF('Data Input'!$C$8:$AK$8,\"N\"))","v":""},{"$f":"IF(ISBLANK('Data Input'!A587),\"\",SUM('Data Input'!G587,'Data Input'!I587,'Data Input'!L587,'Data Input'!N587,'Data Input'!O587,'Data Input'!S587,'Data Input'!Z587,'Data Input'!AA587,'Data Input'!AB587,'Data Input'!AC587,'Data Input'!AE587,'Data Input'!AF587,'Data Input'!AG587,'Data Input'!AI587,'Data Input'!AK587))","v":""},{"$f":"IF(I582=\"\",\"\",I582/COUNTIF('Data Input'!$C$8:$AK$8,\"C\"))","v":""},{"$f":"IF(ISBLANK('Data Input'!A587),\"\",SUM('Data Input'!T587,'Data Input'!U587))","v":""},{"$f":"IF(K582=\"\",\"\",K582/COUNTIF('Data Input'!$C$8:$AK$8,\"S\"))","v":""},{"$f":"IF(ISBLANK('Data Input'!A587),\"\",SUM('Data Input'!F587,'Data Input'!R587,'Data Input'!AJ587))","v":""},{"$f":"IF(M582=\"\",\"\",M582/COUNTIF('Data Input'!$C$8:$AK$8,\"F\"))","v":""},{"$f":"IF(ISBLANK('Data Input'!A587),\"\",SUM('Data Input'!E587,'Data Input'!M587,'Data Input'!Q587,'Data Input'!V587,'Data Input'!W587,'Data Input'!AD587,'Data Input'!AH587))","v":""},{"$f":"IF(O582=\"\",\"\",O582/COUNTIF('Data Input'!$C$8:$AK$8,\"M\"))","v":""},{"$f":"IF(ISBLANK('Data Input'!A587),\"\",SUM('Data Input'!H587,'Data Input'!K587,'Data Input'!P587,'Data Input'!Y587))","v":""},{"$f":"IF(Q582=\"\",\"\",Q582/COUNTIF('Data Input'!$C$8:$AK$8,\"G\"))","v":""}]
[{"$f":"IF('Data Input'!A588=0,\"\",'Data Input'!A588)","v":""},{"$f":"IF(ISBLANK('Data Input'!A588),\"\",COUNTIF('Data Input'!C588:AK588,\"\"))","v":""},{"$f":"IF(ISBLANK('Data Input'!A588),\"\",COUNTIF('Data Input'!C588:AK588,\"0\"))","v":""},{"$f":"IF(ISBLANK('Data Input'!A588),\"\",SUM(B583,C583))","v":""},{"$f":"IF(ISBLANK('Data Input'!A588),\"\",SUM('Data Input'!C588:AK588))","v":""},{"$f":"IF(E583=\"\",\"\",E583/(COUNTA('Data Input'!$C$8:$AK$8)))","v":""},{"$f":"IF(ISBLANK('Data Input'!A588),\"\",SUM('Data Input'!C588,'Data Input'!D588,'Data Input'!J588,'Data Input'!X588))","v":""},{"$f":"IF(G583=\"\",\"\",G583/COUNTIF('Data Input'!$C$8:$AK$8,\"N\"))","v":""},{"$f":"IF(ISBLANK('Data Input'!A588),\"\",SUM('Data Input'!G588,'Data Input'!I588,'Data Input'!L588,'Data Input'!N588,'Data Input'!O588,'Data Input'!S588,'Data Input'!Z588,'Data Input'!AA588,'Data Input'!AB588,'Data Input'!AC588,'Data Input'!AE588,'Data Input'!AF588,'Data Input'!AG588,'Data Input'!AI588,'Data Input'!AK588))","v":""},{"$f":"IF(I583=\"\",\"\",I583/COUNTIF('Data Input'!$C$8:$AK$8,\"C\"))","v":""},{"$f":"IF(ISBLANK('Data Input'!A588),\"\",SUM('Data Input'!T588,'Data Input'!U588))","v":""},{"$f":"IF(K583=\"\",\"\",K583/COUNTIF('Data Input'!$C$8:$AK$8,\"S\"))","v":""},{"$f":"IF(ISBLANK('Data Input'!A588),\"\",SUM('Data Input'!F588,'Data Input'!R588,'Data Input'!AJ588))","v":""},{"$f":"IF(M583=\"\",\"\",M583/COUNTIF('Data Input'!$C$8:$AK$8,\"F\"))","v":""},{"$f":"IF(ISBLANK('Data Input'!A588),\"\",SUM('Data Input'!E588,'Data Input'!M588,'Data Input'!Q588,'Data Input'!V588,'Data Input'!W588,'Data Input'!AD588,'Data Input'!AH588))","v":""},{"$f":"IF(O583=\"\",\"\",O583/COUNTIF('Data Input'!$C$8:$AK$8,\"M\"))","v":""},{"$f":"IF(ISBLANK('Data Input'!A588),\"\",SUM('Data Input'!H588,'Data Input'!K588,'Data Input'!P588,'Data Input'!Y588))","v":""},{"$f":"IF(Q583=\"\",\"\",Q583/COUNTIF('Data Input'!$C$8:$AK$8,\"G\"))","v":""}]
[{"$f":"IF('Data Input'!A589=0,\"\",'Data Input'!A589)","v":""},{"$f":"IF(ISBLANK('Data Input'!A589),\"\",COUNTIF('Data Input'!C589:AK589,\"\"))","v":""},{"$f":"IF(ISBLANK('Data Input'!A589),\"\",COUNTIF('Data Input'!C589:AK589,\"0\"))","v":""},{"$f":"IF(ISBLANK('Data Input'!A589),\"\",SUM(B584,C584))","v":""},{"$f":"IF(ISBLANK('Data Input'!A589),\"\",SUM('Data Input'!C589:AK589))","v":""},{"$f":"IF(E584=\"\",\"\",E584/(COUNTA('Data Input'!$C$8:$AK$8)))","v":""},{"$f":"IF(ISBLANK('Data Input'!A589),\"\",SUM('Data Input'!C589,'Data Input'!D589,'Data Input'!J589,'Data Input'!X589))","v":""},{"$f":"IF(G584=\"\",\"\",G584/COUNTIF('Data Input'!$C$8:$AK$8,\"N\"))","v":""},{"$f":"IF(ISBLANK('Data Input'!A589),\"\",SUM('Data Input'!G589,'Data Input'!I589,'Data Input'!L589,'Data Input'!N589,'Data Input'!O589,'Data Input'!S589,'Data Input'!Z589,'Data Input'!AA589,'Data Input'!AB589,'Data Input'!AC589,'Data Input'!AE589,'Data Input'!AF589,'Data Input'!AG589,'Data Input'!AI589,'Data Input'!AK589))","v":""},{"$f":"IF(I584=\"\",\"\",I584/COUNTIF('Data Input'!$C$8:$AK$8,\"C\"))","v":""},{"$f":"IF(ISBLANK('Data Input'!A589),\"\",SUM('Data Input'!T589,'Data Input'!U589))","v":""},{"$f":"IF(K584=\"\",\"\",K584/COUNTIF('Data Input'!$C$8:$AK$8,\"S\"))","v":""},{"$f":"IF(ISBLANK('Data Input'!A589),\"\",SUM('Data Input'!F589,'Data Input'!R589,'Data Input'!AJ589))","v":""},{"$f":"IF(M584=\"\",\"\",M584/COUNTIF('Data Input'!$C$8:$AK$8,\"F\"))","v":""},{"$f":"IF(ISBLANK('Data Input'!A589),\"\",SUM('Data Input'!E589,'Data Input'!M589,'Data Input'!Q589,'Data Input'!V589,'Data Input'!W589,'Data Input'!AD589,'Data Input'!AH589))","v":""},{"$f":"IF(O584=\"\",\"\",O584/COUNTIF('Data Input'!$C$8:$AK$8,\"M\"))","v":""},{"$f":"IF(ISBLANK('Data Input'!A589),\"\",SUM('Data Input'!H589,'Data Input'!K589,'Data Input'!P589,'Data Input'!Y589))","v":""},{"$f":"IF(Q584=\"\",\"\",Q584/COUNTIF('Data Input'!$C$8:$AK$8,\"G\"))","v":""}]
[{"$f":"IF('Data Input'!A590=0,\"\",'Data Input'!A590)","v":""},{"$f":"IF(ISBLANK('Data Input'!A590),\"\",COUNTIF('Data Input'!C590:AK590,\"\"))","v":""},{"$f":"IF(ISBLANK('Data Input'!A590),\"\",COUNTIF('Data Input'!C590:AK590,\"0\"))","v":""},{"$f":"IF(ISBLANK('Data Input'!A590),\"\",SUM(B585,C585))","v":""},{"$f":"IF(ISBLANK('Data Input'!A590),\"\",SUM('Data Input'!C590:AK590))","v":""},{"$f":"IF(E585=\"\",\"\",E585/(COUNTA('Data Input'!$C$8:$AK$8)))","v":""},{"$f":"IF(ISBLANK('Data Input'!A590),\"\",SUM('Data Input'!C590,'Data Input'!D590,'Data Input'!J590,'Data Input'!X590))","v":""},{"$f":"IF(G585=\"\",\"\",G585/COUNTIF('Data Input'!$C$8:$AK$8,\"N\"))","v":""},{"$f":"IF(ISBLANK('Data Input'!A590),\"\",SUM('Data Input'!G590,'Data Input'!I590,'Data Input'!L590,'Data Input'!N590,'Data Input'!O590,'Data Input'!S590,'Data Input'!Z590,'Data Input'!AA590,'Data Input'!AB590,'Data Input'!AC590,'Data Input'!AE590,'Data Input'!AF590,'Data Input'!AG590,'Data Input'!AI590,'Data Input'!AK590))","v":""},{"$f":"IF(I585=\"\",\"\",I585/COUNTIF('Data Input'!$C$8:$AK$8,\"C\"))","v":""},{"$f":"IF(ISBLANK('Data Input'!A590),\"\",SUM('Data Input'!T590,'Data Input'!U590))","v":""},{"$f":"IF(K585=\"\",\"\",K585/COUNTIF('Data Input'!$C$8:$AK$8,\"S\"))","v":""},{"$f":"IF(ISBLANK('Data Input'!A590),\"\",SUM('Data Input'!F590,'Data Input'!R590,'Data Input'!AJ590))","v":""},{"$f":"IF(M585=\"\",\"\",M585/COUNTIF('Data Input'!$C$8:$AK$8,\"F\"))","v":""},{"$f":"IF(ISBLANK('Data Input'!A590),\"\",SUM('Data Input'!E590,'Data Input'!M590,'Data Input'!Q590,'Data Input'!V590,'Data Input'!W590,'Data Input'!AD590,'Data Input'!AH590))","v":""},{"$f":"IF(O585=\"\",\"\",O585/COUNTIF('Data Input'!$C$8:$AK$8,\"M\"))","v":""},{"$f":"IF(ISBLANK('Data Input'!A590),\"\",SUM('Data Input'!H590,'Data Input'!K590,'Data Input'!P590,'Data Input'!Y590))","v":""},{"$f":"IF(Q585=\"\",\"\",Q585/COUNTIF('Data Input'!$C$8:$AK$8,\"G\"))","v":""}]
[{"$f":"IF('Data Input'!A591=0,\"\",'Data Input'!A591)","v":""},{"$f":"IF(ISBLANK('Data Input'!A591),\"\",COUNTIF('Data Input'!C591:AK591,\"\"))","v":""},{"$f":"IF(ISBLANK('Data Input'!A591),\"\",COUNTIF('Data Input'!C591:AK591,\"0\"))","v":""},{"$f":"IF(ISBLANK('Data Input'!A591),\"\",SUM(B586,C586))","v":""},{"$f":"IF(ISBLANK('Data Input'!A591),\"\",SUM('Data Input'!C591:AK591))","v":""},{"$f":"IF(E586=\"\",\"\",E586/(COUNTA('Data Input'!$C$8:$AK$8)))","v":""},{"$f":"IF(ISBLANK('Data Input'!A591),\"\",SUM('Data Input'!C591,'Data Input'!D591,'Data Input'!J591,'Data Input'!X591))","v":""},{"$f":"IF(G586=\"\",\"\",G586/COUNTIF('Data Input'!$C$8:$AK$8,\"N\"))","v":""},{"$f":"IF(ISBLANK('Data Input'!A591),\"\",SUM('Data Input'!G591,'Data Input'!I591,'Data Input'!L591,'Data Input'!N591,'Data Input'!O591,'Data Input'!S591,'Data Input'!Z591,'Data Input'!AA591,'Data Input'!AB591,'Data Input'!AC591,'Data Input'!AE591,'Data Input'!AF591,'Data Input'!AG591,'Data Input'!AI591,'Data Input'!AK591))","v":""},{"$f":"IF(I586=\"\",\"\",I586/COUNTIF('Data Input'!$C$8:$AK$8,\"C\"))","v":""},{"$f":"IF(ISBLANK('Data Input'!A591),\"\",SUM('Data Input'!T591,'Data Input'!U591))","v":""},{"$f":"IF(K586=\"\",\"\",K586/COUNTIF('Data Input'!$C$8:$AK$8,\"S\"))","v":""},{"$f":"IF(ISBLANK('Data Input'!A591),\"\",SUM('Data Input'!F591,'Data Input'!R591,'Data Input'!AJ591))","v":""},{"$f":"IF(M586=\"\",\"\",M586/COUNTIF('Data Input'!$C$8:$AK$8,\"F\"))","v":""},{"$f":"IF(ISBLANK('Data Input'!A591),\"\",SUM('Data Input'!E591,'Data Input'!M591,'Data Input'!Q591,'Data Input'!V591,'Data Input'!W591,'Data Input'!AD591,'Data Input'!AH591))","v":""},{"$f":"IF(O586=\"\",\"\",O586/COUNTIF('Data Input'!$C$8:$AK$8,\"M\"))","v":""},{"$f":"IF(ISBLANK('Data Input'!A591),\"\",SUM('Data Input'!H591,'Data Input'!K591,'Data Input'!P591,'Data Input'!Y591))","v":""},{"$f":"IF(Q586=\"\",\"\",Q586/COUNTIF('Data Input'!$C$8:$AK$8,\"G\"))","v":""}]
[{"$f":"IF('Data Input'!A592=0,\"\",'Data Input'!A592)","v":""},{"$f":"IF(ISBLANK('Data Input'!A592),\"\",COUNTIF('Data Input'!C592:AK592,\"\"))","v":""},{"$f":"IF(ISBLANK('Data Input'!A592),\"\",COUNTIF('Data Input'!C592:AK592,\"0\"))","v":""},{"$f":"IF(ISBLANK('Data Input'!A592),\"\",SUM(B587,C587))","v":""},{"$f":"IF(ISBLANK('Data Input'!A592),\"\",SUM('Data Input'!C592:AK592))","v":""},{"$f":"IF(E587=\"\",\"\",E587/(COUNTA('Data Input'!$C$8:$AK$8)))","v":""},{"$f":"IF(ISBLANK('Data Input'!A592),\"\",SUM('Data Input'!C592,'Data Input'!D592,'Data Input'!J592,'Data Input'!X592))","v":""},{"$f":"IF(G587=\"\",\"\",G587/COUNTIF('Data Input'!$C$8:$AK$8,\"N\"))","v":""},{"$f":"IF(ISBLANK('Data Input'!A592),\"\",SUM('Data Input'!G592,'Data Input'!I592,'Data Input'!L592,'Data Input'!N592,'Data Input'!O592,'Data Input'!S592,'Data Input'!Z592,'Data Input'!AA592,'Data Input'!AB592,'Data Input'!AC592,'Data Input'!AE592,'Data Input'!AF592,'Data Input'!AG592,'Data Input'!AI592,'Data Input'!AK592))","v":""},{"$f":"IF(I587=\"\",\"\",I587/COUNTIF('Data Input'!$C$8:$AK$8,\"C\"))","v":""},{"$f":"IF(ISBLANK('Data Input'!A592),\"\",SUM('Data Input'!T592,'Data Input'!U592))","v":""},{"$f":"IF(K587=\"\",\"\",K587/COUNTIF('Data Input'!$C$8:$AK$8,\"S\"))","v":""},{"$f":"IF(ISBLANK('Data Input'!A592),\"\",SUM('Data Input'!F592,'Data Input'!R592,'Data Input'!AJ592))","v":""},{"$f":"IF(M587=\"\",\"\",M587/COUNTIF('Data Input'!$C$8:$AK$8,\"F\"))","v":""},{"$f":"IF(ISBLANK('Data Input'!A592),\"\",SUM('Data Input'!E592,'Data Input'!M592,'Data Input'!Q592,'Data Input'!V592,'Data Input'!W592,'Data Input'!AD592,'Data Input'!AH592))","v":""},{"$f":"IF(O587=\"\",\"\",O587/COUNTIF('Data Input'!$C$8:$AK$8,\"M\"))","v":""},{"$f":"IF(ISBLANK('Data Input'!A592),\"\",SUM('Data Input'!H592,'Data Input'!K592,'Data Input'!P592,'Data Input'!Y592))","v":""},{"$f":"IF(Q587=\"\",\"\",Q587/COUNTIF('Data Input'!$C$8:$AK$8,\"G\"))","v":""}]
[{"$f":"IF('Data Input'!A593=0,\"\",'Data Input'!A593)","v":""},{"$f":"IF(ISBLANK('Data Input'!A593),\"\",COUNTIF('Data Input'!C593:AK593,\"\"))","v":""},{"$f":"IF(ISBLANK('Data Input'!A593),\"\",COUNTIF('Data Input'!C593:AK593,\"0\"))","v":""},{"$f":"IF(ISBLANK('Data Input'!A593),\"\",SUM(B588,C588))","v":""},{"$f":"IF(ISBLANK('Data Input'!A593),\"\",SUM('Data Input'!C593:AK593))","v":""},{"$f":"IF(E588=\"\",\"\",E588/(COUNTA('Data Input'!$C$8:$AK$8)))","v":""},{"$f":"IF(ISBLANK('Data Input'!A593),\"\",SUM('Data Input'!C593,'Data Input'!D593,'Data Input'!J593,'Data Input'!X593))","v":""},{"$f":"IF(G588=\"\",\"\",G588/COUNTIF('Data Input'!$C$8:$AK$8,\"N\"))","v":""},{"$f":"IF(ISBLANK('Data Input'!A593),\"\",SUM('Data Input'!G593,'Data Input'!I593,'Data Input'!L593,'Data Input'!N593,'Data Input'!O593,'Data Input'!S593,'Data Input'!Z593,'Data Input'!AA593,'Data Input'!AB593,'Data Input'!AC593,'Data Input'!AE593,'Data Input'!AF593,'Data Input'!AG593,'Data Input'!AI593,'Data Input'!AK593))","v":""},{"$f":"IF(I588=\"\",\"\",I588/COUNTIF('Data Input'!$C$8:$AK$8,\"C\"))","v":""},{"$f":"IF(ISBLANK('Data Input'!A593),\"\",SUM('Data Input'!T593,'Data Input'!U593))","v":""},{"$f":"IF(K588=\"\",\"\",K588/COUNTIF('Data Input'!$C$8:$AK$8,\"S\"))","v":""},{"$f":"IF(ISBLANK('Data Input'!A593),\"\",SUM('Data Input'!F593,'Data Input'!R593,'Data Input'!AJ593))","v":""},{"$f":"IF(M588=\"\",\"\",M588/COUNTIF('Data Input'!$C$8:$AK$8,\"F\"))","v":""},{"$f":"IF(ISBLANK('Data Input'!A593),\"\",SUM('Data Input'!E593,'Data Input'!M593,'Data Input'!Q593,'Data Input'!V593,'Data Input'!W593,'Data Input'!AD593,'Data Input'!AH593))","v":""},{"$f":"IF(O588=\"\",\"\",O588/COUNTIF('Data Input'!$C$8:$AK$8,\"M\"))","v":""},{"$f":"IF(ISBLANK('Data Input'!A593),\"\",SUM('Data Input'!H593,'Data Input'!K593,'Data Input'!P593,'Data Input'!Y593))","v":""},{"$f":"IF(Q588=\"\",\"\",Q588/COUNTIF('Data Input'!$C$8:$AK$8,\"G\"))","v":""}]
[{"$f":"IF('Data Input'!A594=0,\"\",'Data Input'!A594)","v":""},{"$f":"IF(ISBLANK('Data Input'!A594),\"\",COUNTIF('Data Input'!C594:AK594,\"\"))","v":""},{"$f":"IF(ISBLANK('Data Input'!A594),\"\",COUNTIF('Data Input'!C594:AK594,\"0\"))","v":""},{"$f":"IF(ISBLANK('Data Input'!A594),\"\",SUM(B589,C589))","v":""},{"$f":"IF(ISBLANK('Data Input'!A594),\"\",SUM('Data Input'!C594:AK594))","v":""},{"$f":"IF(E589=\"\",\"\",E589/(COUNTA('Data Input'!$C$8:$AK$8)))","v":""},{"$f":"IF(ISBLANK('Data Input'!A594),\"\",SUM('Data Input'!C594,'Data Input'!D594,'Data Input'!J594,'Data Input'!X594))","v":""},{"$f":"IF(G589=\"\",\"\",G589/COUNTIF('Data Input'!$C$8:$AK$8,\"N\"))","v":""},{"$f":"IF(ISBLANK('Data Input'!A594),\"\",SUM('Data Input'!G594,'Data Input'!I594,'Data Input'!L594,'Data Input'!N594,'Data Input'!O594,'Data Input'!S594,'Data Input'!Z594,'Data Input'!AA594,'Data Input'!AB594,'Data Input'!AC594,'Data Input'!AE594,'Data Input'!AF594,'Data Input'!AG594,'Data Input'!AI594,'Data Input'!AK594))","v":""},{"$f":"IF(I589=\"\",\"\",I589/COUNTIF('Data Input'!$C$8:$AK$8,\"C\"))","v":""},{"$f":"IF(ISBLANK('Data Input'!A594),\"\",SUM('Data Input'!T594,'Data Input'!U594))","v":""},{"$f":"IF(K589=\"\",\"\",K589/COUNTIF('Data Input'!$C$8:$AK$8,\"S\"))","v":""},{"$f":"IF(ISBLANK('Data Input'!A594),\"\",SUM('Data Input'!F594,'Data Input'!R594,'Data Input'!AJ594))","v":""},{"$f":"IF(M589=\"\",\"\",M589/COUNTIF('Data Input'!$C$8:$AK$8,\"F\"))","v":""},{"$f":"IF(ISBLANK('Data Input'!A594),\"\",SUM('Data Input'!E594,'Data Input'!M594,'Data Input'!Q594,'Data Input'!V594,'Data Input'!W594,'Data Input'!AD594,'Data Input'!AH594))","v":""},{"$f":"IF(O589=\"\",\"\",O589/COUNTIF('Data Input'!$C$8:$AK$8,\"M\"))","v":""},{"$f":"IF(ISBLANK('Data Input'!A594),\"\",SUM('Data Input'!H594,'Data Input'!K594,'Data Input'!P594,'Data Input'!Y594))","v":""},{"$f":"IF(Q589=\"\",\"\",Q589/COUNTIF('Data Input'!$C$8:$AK$8,\"G\"))","v":""}]
[{"$f":"IF('Data Input'!A595=0,\"\",'Data Input'!A595)","v":""},{"$f":"IF(ISBLANK('Data Input'!A595),\"\",COUNTIF('Data Input'!C595:AK595,\"\"))","v":""},{"$f":"IF(ISBLANK('Data Input'!A595),\"\",COUNTIF('Data Input'!C595:AK595,\"0\"))","v":""},{"$f":"IF(ISBLANK('Data Input'!A595),\"\",SUM(B590,C590))","v":""},{"$f":"IF(ISBLANK('Data Input'!A595),\"\",SUM('Data Input'!C595:AK595))","v":""},{"$f":"IF(E590=\"\",\"\",E590/(COUNTA('Data Input'!$C$8:$AK$8)))","v":""},{"$f":"IF(ISBLANK('Data Input'!A595),\"\",SUM('Data Input'!C595,'Data Input'!D595,'Data Input'!J595,'Data Input'!X595))","v":""},{"$f":"IF(G590=\"\",\"\",G590/COUNTIF('Data Input'!$C$8:$AK$8,\"N\"))","v":""},{"$f":"IF(ISBLANK('Data Input'!A595),\"\",SUM('Data Input'!G595,'Data Input'!I595,'Data Input'!L595,'Data Input'!N595,'Data Input'!O595,'Data Input'!S595,'Data Input'!Z595,'Data Input'!AA595,'Data Input'!AB595,'Data Input'!AC595,'Data Input'!AE595,'Data Input'!AF595,'Data Input'!AG595,'Data Input'!AI595,'Data Input'!AK595))","v":""},{"$f":"IF(I590=\"\",\"\",I590/COUNTIF('Data Input'!$C$8:$AK$8,\"C\"))","v":""},{"$f":"IF(ISBLANK('Data Input'!A595),\"\",SUM('Data Input'!T595,'Data Input'!U595))","v":""},{"$f":"IF(K590=\"\",\"\",K590/COUNTIF('Data Input'!$C$8:$AK$8,\"S\"))","v":""},{"$f":"IF(ISBLANK('Data Input'!A595),\"\",SUM('Data Input'!F595,'Data Input'!R595,'Data Input'!AJ595))","v":""},{"$f":"IF(M590=\"\",\"\",M590/COUNTIF('Data Input'!$C$8:$AK$8,\"F\"))","v":""},{"$f":"IF(ISBLANK('Data Input'!A595),\"\",SUM('Data Input'!E595,'Data Input'!M595,'Data Input'!Q595,'Data Input'!V595,'Data Input'!W595,'Data Input'!AD595,'Data Input'!AH595))","v":""},{"$f":"IF(O590=\"\",\"\",O590/COUNTIF('Data Input'!$C$8:$AK$8,\"M\"))","v":""},{"$f":"IF(ISBLANK('Data Input'!A595),\"\",SUM('Data Input'!H595,'Data Input'!K595,'Data Input'!P595,'Data Input'!Y595))","v":""},{"$f":"IF(Q590=\"\",\"\",Q590/COUNTIF('Data Input'!$C$8:$AK$8,\"G\"))","v":""}]
[{"$f":"IF('Data Input'!A596=0,\"\",'Data Input'!A596)","v":""},{"$f":"IF(ISBLANK('Data Input'!A596),\"\",COUNTIF('Data Input'!C596:AK596,\"\"))","v":""},{"$f":"IF(ISBLANK('Data Input'!A596),\"\",COUNTIF('Data Input'!C596:AK596,\"0\"))","v":""},{"$f":"IF(ISBLANK('Data Input'!A596),\"\",SUM(B591,C591))","v":""},{"$f":"IF(ISBLANK('Data Input'!A596),\"\",SUM('Data Input'!C596:AK596))","v":""},{"$f":"IF(E591=\"\",\"\",E591/(COUNTA('Data Input'!$C$8:$AK$8)))","v":""},{"$f":"IF(ISBLANK('Data Input'!A596),\"\",SUM('Data Input'!C596,'Data Input'!D596,'Data Input'!J596,'Data Input'!X596))","v":""},{"$f":"IF(G591=\"\",\"\",G591/COUNTIF('Data Input'!$C$8:$AK$8,\"N\"))","v":""},{"$f":"IF(ISBLANK('Data Input'!A596),\"\",SUM('Data Input'!G596,'Data Input'!I596,'Data Input'!L596,'Data Input'!N596,'Data Input'!O596,'Data Input'!S596,'Data Input'!Z596,'Data Input'!AA596,'Data Input'!AB596,'Data Input'!AC596,'Data Input'!AE596,'Data Input'!AF596,'Data Input'!AG596,'Data Input'!AI596,'Data Input'!AK596))","v":""},{"$f":"IF(I591=\"\",\"\",I591/COUNTIF('Data Input'!$C$8:$AK$8,\"C\"))","v":""},{"$f":"IF(ISBLANK('Data Input'!A596),\"\",SUM('Data Input'!T596,'Data Input'!U596))","v":""},{"$f":"IF(K591=\"\",\"\",K591/COUNTIF('Data Input'!$C$8:$AK$8,\"S\"))","v":""},{"$f":"IF(ISBLANK('Data Input'!A596),\"\",SUM('Data Input'!F596,'Data Input'!R596,'Data Input'!AJ596))","v":""},{"$f":"IF(M591=\"\",\"\",M591/COUNTIF('Data Input'!$C$8:$AK$8,\"F\"))","v":""},{"$f":"IF(ISBLANK('Data Input'!A596),\"\",SUM('Data Input'!E596,'Data Input'!M596,'Data Input'!Q596,'Data Input'!V596,'Data Input'!W596,'Data Input'!AD596,'Data Input'!AH596))","v":""},{"$f":"IF(O591=\"\",\"\",O591/COUNTIF('Data Input'!$C$8:$AK$8,\"M\"))","v":""},{"$f":"IF(ISBLANK('Data Input'!A596),\"\",SUM('Data Input'!H596,'Data Input'!K596,'Data Input'!P596,'Data Input'!Y596))","v":""},{"$f":"IF(Q591=\"\",\"\",Q591/COUNTIF('Data Input'!$C$8:$AK$8,\"G\"))","v":""}]
[{"$f":"IF('Data Input'!A597=0,\"\",'Data Input'!A597)","v":""},{"$f":"IF(ISBLANK('Data Input'!A597),\"\",COUNTIF('Data Input'!C597:AK597,\"\"))","v":""},{"$f":"IF(ISBLANK('Data Input'!A597),\"\",COUNTIF('Data Input'!C597:AK597,\"0\"))","v":""},{"$f":"IF(ISBLANK('Data Input'!A597),\"\",SUM(B592,C592))","v":""},{"$f":"IF(ISBLANK('Data Input'!A597),\"\",SUM('Data Input'!C597:AK597))","v":""},{"$f":"IF(E592=\"\",\"\",E592/(COUNTA('Data Input'!$C$8:$AK$8)))","v":""},{"$f":"IF(ISBLANK('Data Input'!A597),\"\",SUM('Data Input'!C597,'Data Input'!D597,'Data Input'!J597,'Data Input'!X597))","v":""},{"$f":"IF(G592=\"\",\"\",G592/COUNTIF('Data Input'!$C$8:$AK$8,\"N\"))","v":""},{"$f":"IF(ISBLANK('Data Input'!A597),\"\",SUM('Data Input'!G597,'Data Input'!I597,'Data Input'!L597,'Data Input'!N597,'Data Input'!O597,'Data Input'!S597,'Data Input'!Z597,'Data Input'!AA597,'Data Input'!AB597,'Data Input'!AC597,'Data Input'!AE597,'Data Input'!AF597,'Data Input'!AG597,'Data Input'!AI597,'Data Input'!AK597))","v":""},{"$f":"IF(I592=\"\",\"\",I592/COUNTIF('Data Input'!$C$8:$AK$8,\"C\"))","v":""},{"$f":"IF(ISBLANK('Data Input'!A597),\"\",SUM('Data Input'!T597,'Data Input'!U597))","v":""},{"$f":"IF(K592=\"\",\"\",K592/COUNTIF('Data Input'!$C$8:$AK$8,\"S\"))","v":""},{"$f":"IF(ISBLANK('Data Input'!A597),\"\",SUM('Data Input'!F597,'Data Input'!R597,'Data Input'!AJ597))","v":""},{"$f":"IF(M592=\"\",\"\",M592/COUNTIF('Data Input'!$C$8:$AK$8,\"F\"))","v":""},{"$f":"IF(ISBLANK('Data Input'!A597),\"\",SUM('Data Input'!E597,'Data Input'!M597,'Data Input'!Q597,'Data Input'!V597,'Data Input'!W597,'Data Input'!AD597,'Data Input'!AH597))","v":""},{"$f":"IF(O592=\"\",\"\",O592/COUNTIF('Data Input'!$C$8:$AK$8,\"M\"))","v":""},{"$f":"IF(ISBLANK('Data Input'!A597),\"\",SUM('Data Input'!H597,'Data Input'!K597,'Data Input'!P597,'Data Input'!Y597))","v":""},{"$f":"IF(Q592=\"\",\"\",Q592/COUNTIF('Data Input'!$C$8:$AK$8,\"G\"))","v":""}]
[{"$f":"IF('Data Input'!A598=0,\"\",'Data Input'!A598)","v":""},{"$f":"IF(ISBLANK('Data Input'!A598),\"\",COUNTIF('Data Input'!C598:AK598,\"\"))","v":""},{"$f":"IF(ISBLANK('Data Input'!A598),\"\",COUNTIF('Data Input'!C598:AK598,\"0\"))","v":""},{"$f":"IF(ISBLANK('Data Input'!A598),\"\",SUM(B593,C593))","v":""},{"$f":"IF(ISBLANK('Data Input'!A598),\"\",SUM('Data Input'!C598:AK598))","v":""},{"$f":"IF(E593=\"\",\"\",E593/(COUNTA('Data Input'!$C$8:$AK$8)))","v":""},{"$f":"IF(ISBLANK('Data Input'!A598),\"\",SUM('Data Input'!C598,'Data Input'!D598,'Data Input'!J598,'Data Input'!X598))","v":""},{"$f":"IF(G593=\"\",\"\",G593/COUNTIF('Data Input'!$C$8:$AK$8,\"N\"))","v":""},{"$f":"IF(ISBLANK('Data Input'!A598),\"\",SUM('Data Input'!G598,'Data Input'!I598,'Data Input'!L598,'Data Input'!N598,'Data Input'!O598,'Data Input'!S598,'Data Input'!Z598,'Data Input'!AA598,'Data Input'!AB598,'Data Input'!AC598,'Data Input'!AE598,'Data Input'!AF598,'Data Input'!AG598,'Data Input'!AI598,'Data Input'!AK598))","v":""},{"$f":"IF(I593=\"\",\"\",I593/COUNTIF('Data Input'!$C$8:$AK$8,\"C\"))","v":""},{"$f":"IF(ISBLANK('Data Input'!A598),\"\",SUM('Data Input'!T598,'Data Input'!U598))","v":""},{"$f":"IF(K593=\"\",\"\",K593/COUNTIF('Data Input'!$C$8:$AK$8,\"S\"))","v":""},{"$f":"IF(ISBLANK('Data Input'!A598),\"\",SUM('Data Input'!F598,'Data Input'!R598,'Data Input'!AJ598))","v":""},{"$f":"IF(M593=\"\",\"\",M593/COUNTIF('Data Input'!$C$8:$AK$8,\"F\"))","v":""},{"$f":"IF(ISBLANK('Data Input'!A598),\"\",SUM('Data Input'!E598,'Data Input'!M598,'Data Input'!Q598,'Data Input'!V598,'Data Input'!W598,'Data Input'!AD598,'Data Input'!AH598))","v":""},{"$f":"IF(O593=\"\",\"\",O593/COUNTIF('Data Input'!$C$8:$AK$8,\"M\"))","v":""},{"$f":"IF(ISBLANK('Data Input'!A598),\"\",SUM('Data Input'!H598,'Data Input'!K598,'Data Input'!P598,'Data Input'!Y598))","v":""},{"$f":"IF(Q593=\"\",\"\",Q593/COUNTIF('Data Input'!$C$8:$AK$8,\"G\"))","v":""}]
[{"$f":"IF('Data Input'!A599=0,\"\",'Data Input'!A599)","v":""},{"$f":"IF(ISBLANK('Data Input'!A599),\"\",COUNTIF('Data Input'!C599:AK599,\"\"))","v":""},{"$f":"IF(ISBLANK('Data Input'!A599),\"\",COUNTIF('Data Input'!C599:AK599,\"0\"))","v":""},{"$f":"IF(ISBLANK('Data Input'!A599),\"\",SUM(B594,C594))","v":""},{"$f":"IF(ISBLANK('Data Input'!A599),\"\",SUM('Data Input'!C599:AK599))","v":""},{"$f":"IF(E594=\"\",\"\",E594/(COUNTA('Data Input'!$C$8:$AK$8)))","v":""},{"$f":"IF(ISBLANK('Data Input'!A599),\"\",SUM('Data Input'!C599,'Data Input'!D599,'Data Input'!J599,'Data Input'!X599))","v":""},{"$f":"IF(G594=\"\",\"\",G594/COUNTIF('Data Input'!$C$8:$AK$8,\"N\"))","v":""},{"$f":"IF(ISBLANK('Data Input'!A599),\"\",SUM('Data Input'!G599,'Data Input'!I599,'Data Input'!L599,'Data Input'!N599,'Data Input'!O599,'Data Input'!S599,'Data Input'!Z599,'Data Input'!AA599,'Data Input'!AB599,'Data Input'!AC599,'Data Input'!AE599,'Data Input'!AF599,'Data Input'!AG599,'Data Input'!AI599,'Data Input'!AK599))","v":""},{"$f":"IF(I594=\"\",\"\",I594/COUNTIF('Data Input'!$C$8:$AK$8,\"C\"))","v":""},{"$f":"IF(ISBLANK('Data Input'!A599),\"\",SUM('Data Input'!T599,'Data Input'!U599))","v":""},{"$f":"IF(K594=\"\",\"\",K594/COUNTIF('Data Input'!$C$8:$AK$8,\"S\"))","v":""},{"$f":"IF(ISBLANK('Data Input'!A599),\"\",SUM('Data Input'!F599,'Data Input'!R599,'Data Input'!AJ599))","v":""},{"$f":"IF(M594=\"\",\"\",M594/COUNTIF('Data Input'!$C$8:$AK$8,\"F\"))","v":""},{"$f":"IF(ISBLANK('Data Input'!A599),\"\",SUM('Data Input'!E599,'Data Input'!M599,'Data Input'!Q599,'Data Input'!V599,'Data Input'!W599,'Data Input'!AD599,'Data Input'!AH599))","v":""},{"$f":"IF(O594=\"\",\"\",O594/COUNTIF('Data Input'!$C$8:$AK$8,\"M\"))","v":""},{"$f":"IF(ISBLANK('Data Input'!A599),\"\",SUM('Data Input'!H599,'Data Input'!K599,'Data Input'!P599,'Data Input'!Y599))","v":""},{"$f":"IF(Q594=\"\",\"\",Q594/COUNTIF('Data Input'!$C$8:$AK$8,\"G\"))","v":""}]
[{"$f":"IF('Data Input'!A600=0,\"\",'Data Input'!A600)","v":""},{"$f":"IF(ISBLANK('Data Input'!A600),\"\",COUNTIF('Data Input'!C600:AK600,\"\"))","v":""},{"$f":"IF(ISBLANK('Data Input'!A600),\"\",COUNTIF('Data Input'!C600:AK600,\"0\"))","v":""},{"$f":"IF(ISBLANK('Data Input'!A600),\"\",SUM(B595,C595))","v":""},{"$f":"IF(ISBLANK('Data Input'!A600),\"\",SUM('Data Input'!C600:AK600))","v":""},{"$f":"IF(E595=\"\",\"\",E595/(COUNTA('Data Input'!$C$8:$AK$8)))","v":""},{"$f":"IF(ISBLANK('Data Input'!A600),\"\",SUM('Data Input'!C600,'Data Input'!D600,'Data Input'!J600,'Data Input'!X600))","v":""},{"$f":"IF(G595=\"\",\"\",G595/COUNTIF('Data Input'!$C$8:$AK$8,\"N\"))","v":""},{"$f":"IF(ISBLANK('Data Input'!A600),\"\",SUM('Data Input'!G600,'Data Input'!I600,'Data Input'!L600,'Data Input'!N600,'Data Input'!O600,'Data Input'!S600,'Data Input'!Z600,'Data Input'!AA600,'Data Input'!AB600,'Data Input'!AC600,'Data Input'!AE600,'Data Input'!AF600,'Data Input'!AG600,'Data Input'!AI600,'Data Input'!AK600))","v":""},{"$f":"IF(I595=\"\",\"\",I595/COUNTIF('Data Input'!$C$8:$AK$8,\"C\"))","v":""},{"$f":"IF(ISBLANK('Data Input'!A600),\"\",SUM('Data Input'!T600,'Data Input'!U600))","v":""},{"$f":"IF(K595=\"\",\"\",K595/COUNTIF('Data Input'!$C$8:$AK$8,\"S\"))","v":""},{"$f":"IF(ISBLANK('Data Input'!A600),\"\",SUM('Data Input'!F600,'Data Input'!R600,'Data Input'!AJ600))","v":""},{"$f":"IF(M595=\"\",\"\",M595/COUNTIF('Data Input'!$C$8:$AK$8,\"F\"))","v":""},{"$f":"IF(ISBLANK('Data Input'!A600),\"\",SUM('Data Input'!E600,'Data Input'!M600,'Data Input'!Q600,'Data Input'!V600,'Data Input'!W600,'Data Input'!AD600,'Data Input'!AH600))","v":""},{"$f":"IF(O595=\"\",\"\",O595/COUNTIF('Data Input'!$C$8:$AK$8,\"M\"))","v":""},{"$f":"IF(ISBLANK('Data Input'!A600),\"\",SUM('Data Input'!H600,'Data Input'!K600,'Data Input'!P600,'Data Input'!Y600))","v":""},{"$f":"IF(Q595=\"\",\"\",Q595/COUNTIF('Data Input'!$C$8:$AK$8,\"G\"))","v":""}]
[{"$f":"IF('Data Input'!A601=0,\"\",'Data Input'!A601)","v":""},{"$f":"IF(ISBLANK('Data Input'!A601),\"\",COUNTIF('Data Input'!C601:AK601,\"\"))","v":""},{"$f":"IF(ISBLANK('Data Input'!A601),\"\",COUNTIF('Data Input'!C601:AK601,\"0\"))","v":""},{"$f":"IF(ISBLANK('Data Input'!A601),\"\",SUM(B596,C596))","v":""},{"$f":"IF(ISBLANK('Data Input'!A601),\"\",SUM('Data Input'!C601:AK601))","v":""},{"$f":"IF(E596=\"\",\"\",E596/(COUNTA('Data Input'!$C$8:$AK$8)))","v":""},{"$f":"IF(ISBLANK('Data Input'!A601),\"\",SUM('Data Input'!C601,'Data Input'!D601,'Data Input'!J601,'Data Input'!X601))","v":""},{"$f":"IF(G596=\"\",\"\",G596/COUNTIF('Data Input'!$C$8:$AK$8,\"N\"))","v":""},{"$f":"IF(ISBLANK('Data Input'!A601),\"\",SUM('Data Input'!G601,'Data Input'!I601,'Data Input'!L601,'Data Input'!N601,'Data Input'!O601,'Data Input'!S601,'Data Input'!Z601,'Data Input'!AA601,'Data Input'!AB601,'Data Input'!AC601,'Data Input'!AE601,'Data Input'!AF601,'Data Input'!AG601,'Data Input'!AI601,'Data Input'!AK601))","v":""},{"$f":"IF(I596=\"\",\"\",I596/COUNTIF('Data Input'!$C$8:$AK$8,\"C\"))","v":""},{"$f":"IF(ISBLANK('Data Input'!A601),\"\",SUM('Data Input'!T601,'Data Input'!U601))","v":""},{"$f":"IF(K596=\"\",\"\",K596/COUNTIF('Data Input'!$C$8:$AK$8,\"S\"))","v":""},{"$f":"IF(ISBLANK('Data Input'!A601),\"\",SUM('Data Input'!F601,'Data Input'!R601,'Data Input'!AJ601))","v":""},{"$f":"IF(M596=\"\",\"\",M596/COUNTIF('Data Input'!$C$8:$AK$8,\"F\"))","v":""},{"$f":"IF(ISBLANK('Data Input'!A601),\"\",SUM('Data Input'!E601,'Data Input'!M601,'Data Input'!Q601,'Data Input'!V601,'Data Input'!W601,'Data Input'!AD601,'Data Input'!AH601))","v":""},{"$f":"IF(O596=\"\",\"\",O596/COUNTIF('Data Input'!$C$8:$AK$8,\"M\"))","v":""},{"$f":"IF(ISBLANK('Data Input'!A601),\"\",SUM('Data Input'!H601,'Data Input'!K601,'Data Input'!P601,'Data Input'!Y601))","v":""},{"$f":"IF(Q596=\"\",\"\",Q596/COUNTIF('Data Input'!$C$8:$AK$8,\"G\"))","v":""}]
[{"$f":"IF('Data Input'!A602=0,\"\",'Data Input'!A602)","v":""},{"$f":"IF(ISBLANK('Data Input'!A602),\"\",COUNTIF('Data Input'!C602:AK602,\"\"))","v":""},{"$f":"IF(ISBLANK('Data Input'!A602),\"\",COUNTIF('Data Input'!C602:AK602,\"0\"))","v":""},{"$f":"IF(ISBLANK('Data Input'!A602),\"\",SUM(B597,C597))","v":""},{"$f":"IF(ISBLANK('Data Input'!A602),\"\",SUM('Data Input'!C602:AK602))","v":""},{"$f":"IF(E597=\"\",\"\",E597/(COUNTA('Data Input'!$C$8:$AK$8)))","v":""},{"$f":"IF(ISBLANK('Data Input'!A602),\"\",SUM('Data Input'!C602,'Data Input'!D602,'Data Input'!J602,'Data Input'!X602))","v":""},{"$f":"IF(G597=\"\",\"\",G597/COUNTIF('Data Input'!$C$8:$AK$8,\"N\"))","v":""},{"$f":"IF(ISBLANK('Data Input'!A602),\"\",SUM('Data Input'!G602,'Data Input'!I602,'Data Input'!L602,'Data Input'!N602,'Data Input'!O602,'Data Input'!S602,'Data Input'!Z602,'Data Input'!AA602,'Data Input'!AB602,'Data Input'!AC602,'Data Input'!AE602,'Data Input'!AF602,'Data Input'!AG602,'Data Input'!AI602,'Data Input'!AK602))","v":""},{"$f":"IF(I597=\"\",\"\",I597/COUNTIF('Data Input'!$C$8:$AK$8,\"C\"))","v":""},{"$f":"IF(ISBLANK('Data Input'!A602),\"\",SUM('Data Input'!T602,'Data Input'!U602))","v":""},{"$f":"IF(K597=\"\",\"\",K597/COUNTIF('Data Input'!$C$8:$AK$8,\"S\"))","v":""},{"$f":"IF(ISBLANK('Data Input'!A602),\"\",SUM('Data Input'!F602,'Data Input'!R602,'Data Input'!AJ602))","v":""},{"$f":"IF(M597=\"\",\"\",M597/COUNTIF('Data Input'!$C$8:$AK$8,\"F\"))","v":""},{"$f":"IF(ISBLANK('Data Input'!A602),\"\",SUM('Data Input'!E602,'Data Input'!M602,'Data Input'!Q602,'Data Input'!V602,'Data Input'!W602,'Data Input'!AD602,'Data Input'!AH602))","v":""},{"$f":"IF(O597=\"\",\"\",O597/COUNTIF('Data Input'!$C$8:$AK$8,\"M\"))","v":""},{"$f":"IF(ISBLANK('Data Input'!A602),\"\",SUM('Data Input'!H602,'Data Input'!K602,'Data Input'!P602,'Data Input'!Y602))","v":""},{"$f":"IF(Q597=\"\",\"\",Q597/COUNTIF('Data Input'!$C$8:$AK$8,\"G\"))","v":""}]
[{"$f":"IF('Data Input'!A603=0,\"\",'Data Input'!A603)","v":""},{"$f":"IF(ISBLANK('Data Input'!A603),\"\",COUNTIF('Data Input'!C603:AK603,\"\"))","v":""},{"$f":"IF(ISBLANK('Data Input'!A603),\"\",COUNTIF('Data Input'!C603:AK603,\"0\"))","v":""},{"$f":"IF(ISBLANK('Data Input'!A603),\"\",SUM(B598,C598))","v":""},{"$f":"IF(ISBLANK('Data Input'!A603),\"\",SUM('Data Input'!C603:AK603))","v":""},{"$f":"IF(E598=\"\",\"\",E598/(COUNTA('Data Input'!$C$8:$AK$8)))","v":""},{"$f":"IF(ISBLANK('Data Input'!A603),\"\",SUM('Data Input'!C603,'Data Input'!D603,'Data Input'!J603,'Data Input'!X603))","v":""},{"$f":"IF(G598=\"\",\"\",G598/COUNTIF('Data Input'!$C$8:$AK$8,\"N\"))","v":""},{"$f":"IF(ISBLANK('Data Input'!A603),\"\",SUM('Data Input'!G603,'Data Input'!I603,'Data Input'!L603,'Data Input'!N603,'Data Input'!O603,'Data Input'!S603,'Data Input'!Z603,'Data Input'!AA603,'Data Input'!AB603,'Data Input'!AC603,'Data Input'!AE603,'Data Input'!AF603,'Data Input'!AG603,'Data Input'!AI603,'Data Input'!AK603))","v":""},{"$f":"IF(I598=\"\",\"\",I598/COUNTIF('Data Input'!$C$8:$AK$8,\"C\"))","v":""},{"$f":"IF(ISBLANK('Data Input'!A603),\"\",SUM('Data Input'!T603,'Data Input'!U603))","v":""},{"$f":"IF(K598=\"\",\"\",K598/COUNTIF('Data Input'!$C$8:$AK$8,\"S\"))","v":""},{"$f":"IF(ISBLANK('Data Input'!A603),\"\",SUM('Data Input'!F603,'Data Input'!R603,'Data Input'!AJ603))","v":""},{"$f":"IF(M598=\"\",\"\",M598/COUNTIF('Data Input'!$C$8:$AK$8,\"F\"))","v":""},{"$f":"IF(ISBLANK('Data Input'!A603),\"\",SUM('Data Input'!E603,'Data Input'!M603,'Data Input'!Q603,'Data Input'!V603,'Data Input'!W603,'Data Input'!AD603,'Data Input'!AH603))","v":""},{"$f":"IF(O598=\"\",\"\",O598/COUNTIF('Data Input'!$C$8:$AK$8,\"M\"))","v":""},{"$f":"IF(ISBLANK('Data Input'!A603),\"\",SUM('Data Input'!H603,'Data Input'!K603,'Data Input'!P603,'Data Input'!Y603))","v":""},{"$f":"IF(Q598=\"\",\"\",Q598/COUNTIF('Data Input'!$C$8:$AK$8,\"G\"))","v":""}]
[{"$f":"IF('Data Input'!A604=0,\"\",'Data Input'!A604)","v":""},{"$f":"IF(ISBLANK('Data Input'!A604),\"\",COUNTIF('Data Input'!C604:AK604,\"\"))","v":""},{"$f":"IF(ISBLANK('Data Input'!A604),\"\",COUNTIF('Data Input'!C604:AK604,\"0\"))","v":""},{"$f":"IF(ISBLANK('Data Input'!A604),\"\",SUM(B599,C599))","v":""},{"$f":"IF(ISBLANK('Data Input'!A604),\"\",SUM('Data Input'!C604:AK604))","v":""},{"$f":"IF(E599=\"\",\"\",E599/(COUNTA('Data Input'!$C$8:$AK$8)))","v":""},{"$f":"IF(ISBLANK('Data Input'!A604),\"\",SUM('Data Input'!C604,'Data Input'!D604,'Data Input'!J604,'Data Input'!X604))","v":""},{"$f":"IF(G599=\"\",\"\",G599/COUNTIF('Data Input'!$C$8:$AK$8,\"N\"))","v":""},{"$f":"IF(ISBLANK('Data Input'!A604),\"\",SUM('Data Input'!G604,'Data Input'!I604,'Data Input'!L604,'Data Input'!N604,'Data Input'!O604,'Data Input'!S604,'Data Input'!Z604,'Data Input'!AA604,'Data Input'!AB604,'Data Input'!AC604,'Data Input'!AE604,'Data Input'!AF604,'Data Input'!AG604,'Data Input'!AI604,'Data Input'!AK604))","v":""},{"$f":"IF(I599=\"\",\"\",I599/COUNTIF('Data Input'!$C$8:$AK$8,\"C\"))","v":""},{"$f":"IF(ISBLANK('Data Input'!A604),\"\",SUM('Data Input'!T604,'Data Input'!U604))","v":""},{"$f":"IF(K599=\"\",\"\",K599/COUNTIF('Data Input'!$C$8:$AK$8,\"S\"))","v":""},{"$f":"IF(ISBLANK('Data Input'!A604),\"\",SUM('Data Input'!F604,'Data Input'!R604,'Data Input'!AJ604))","v":""},{"$f":"IF(M599=\"\",\"\",M599/COUNTIF('Data Input'!$C$8:$AK$8,\"F\"))","v":""},{"$f":"IF(ISBLANK('Data Input'!A604),\"\",SUM('Data Input'!E604,'Data Input'!M604,'Data Input'!Q604,'Data Input'!V604,'Data Input'!W604,'Data Input'!AD604,'Data Input'!AH604))","v":""},{"$f":"IF(O599=\"\",\"\",O599/COUNTIF('Data Input'!$C$8:$AK$8,\"M\"))","v":""},{"$f":"IF(ISBLANK('Data Input'!A604),\"\",SUM('Data Input'!H604,'Data Input'!K604,'Data Input'!P604,'Data Input'!Y604))","v":""},{"$f":"IF(Q599=\"\",\"\",Q599/COUNTIF('Data Input'!$C$8:$AK$8,\"G\"))","v":""}]
[{"$f":"IF('Data Input'!A605=0,\"\",'Data Input'!A605)","v":""},{"$f":"IF(ISBLANK('Data Input'!A605),\"\",COUNTIF('Data Input'!C605:AK605,\"\"))","v":""},{"$f":"IF(ISBLANK('Data Input'!A605),\"\",COUNTIF('Data Input'!C605:AK605,\"0\"))","v":""},{"$f":"IF(ISBLANK('Data Input'!A605),\"\",SUM(B600,C600))","v":""},{"$f":"IF(ISBLANK('Data Input'!A605),\"\",SUM('Data Input'!C605:AK605))","v":""},{"$f":"IF(E600=\"\",\"\",E600/(COUNTA('Data Input'!$C$8:$AK$8)))","v":""},{"$f":"IF(ISBLANK('Data Input'!A605),\"\",SUM('Data Input'!C605,'Data Input'!D605,'Data Input'!J605,'Data Input'!X605))","v":""},{"$f":"IF(G600=\"\",\"\",G600/COUNTIF('Data Input'!$C$8:$AK$8,\"N\"))","v":""},{"$f":"IF(ISBLANK('Data Input'!A605),\"\",SUM('Data Input'!G605,'Data Input'!I605,'Data Input'!L605,'Data Input'!N605,'Data Input'!O605,'Data Input'!S605,'Data Input'!Z605,'Data Input'!AA605,'Data Input'!AB605,'Data Input'!AC605,'Data Input'!AE605,'Data Input'!AF605,'Data Input'!AG605,'Data Input'!AI605,'Data Input'!AK605))","v":""},{"$f":"IF(I600=\"\",\"\",I600/COUNTIF('Data Input'!$C$8:$AK$8,\"C\"))","v":""},{"$f":"IF(ISBLANK('Data Input'!A605),\"\",SUM('Data Input'!T605,'Data Input'!U605))","v":""},{"$f":"IF(K600=\"\",\"\",K600/COUNTIF('Data Input'!$C$8:$AK$8,\"S\"))","v":""},{"$f":"IF(ISBLANK('Data Input'!A605),\"\",SUM('Data Input'!F605,'Data Input'!R605,'Data Input'!AJ605))","v":""},{"$f":"IF(M600=\"\",\"\",M600/COUNTIF('Data Input'!$C$8:$AK$8,\"F\"))","v":""},{"$f":"IF(ISBLANK('Data Input'!A605),\"\",SUM('Data Input'!E605,'Data Input'!M605,'Data Input'!Q605,'Data Input'!V605,'Data Input'!W605,'Data Input'!AD605,'Data Input'!AH605))","v":""},{"$f":"IF(O600=\"\",\"\",O600/COUNTIF('Data Input'!$C$8:$AK$8,\"M\"))","v":""},{"$f":"IF(ISBLANK('Data Input'!A605),\"\",SUM('Data Input'!H605,'Data Input'!K605,'Data Input'!P605,'Data Input'!Y605))","v":""},{"$f":"IF(Q600=\"\",\"\",Q600/COUNTIF('Data Input'!$C$8:$AK$8,\"G\"))","v":""}]
[{"$f":"IF('Data Input'!A606=0,\"\",'Data Input'!A606)","v":""},{"$f":"IF(ISBLANK('Data Input'!A606),\"\",COUNTIF('Data Input'!C606:AK606,\"\"))","v":""},{"$f":"IF(ISBLANK('Data Input'!A606),\"\",COUNTIF('Data Input'!C606:AK606,\"0\"))","v":""},{"$f":"IF(ISBLANK('Data Input'!A606),\"\",SUM(B601,C601))","v":""},{"$f":"IF(ISBLANK('Data Input'!A606),\"\",SUM('Data Input'!C606:AK606))","v":""},{"$f":"IF(E601=\"\",\"\",E601/(COUNTA('Data Input'!$C$8:$AK$8)))","v":""},{"$f":"IF(ISBLANK('Data Input'!A606),\"\",SUM('Data Input'!C606,'Data Input'!D606,'Data Input'!J606,'Data Input'!X606))","v":""},{"$f":"IF(G601=\"\",\"\",G601/COUNTIF('Data Input'!$C$8:$AK$8,\"N\"))","v":""},{"$f":"IF(ISBLANK('Data Input'!A606),\"\",SUM('Data Input'!G606,'Data Input'!I606,'Data Input'!L606,'Data Input'!N606,'Data Input'!O606,'Data Input'!S606,'Data Input'!Z606,'Data Input'!AA606,'Data Input'!AB606,'Data Input'!AC606,'Data Input'!AE606,'Data Input'!AF606,'Data Input'!AG606,'Data Input'!AI606,'Data Input'!AK606))","v":""},{"$f":"IF(I601=\"\",\"\",I601/COUNTIF('Data Input'!$C$8:$AK$8,\"C\"))","v":""},{"$f":"IF(ISBLANK('Data Input'!A606),\"\",SUM('Data Input'!T606,'Data Input'!U606))","v":""},{"$f":"IF(K601=\"\",\"\",K601/COUNTIF('Data Input'!$C$8:$AK$8,\"S\"))","v":""},{"$f":"IF(ISBLANK('Data Input'!A606),\"\",SUM('Data Input'!F606,'Data Input'!R606,'Data Input'!AJ606))","v":""},{"$f":"IF(M601=\"\",\"\",M601/COUNTIF('Data Input'!$C$8:$AK$8,\"F\"))","v":""},{"$f":"IF(ISBLANK('Data Input'!A606),\"\",SUM('Data Input'!E606,'Data Input'!M606,'Data Input'!Q606,'Data Input'!V606,'Data Input'!W606,'Data Input'!AD606,'Data Input'!AH606))","v":""},{"$f":"IF(O601=\"\",\"\",O601/COUNTIF('Data Input'!$C$8:$AK$8,\"M\"))","v":""},{"$f":"IF(ISBLANK('Data Input'!A606),\"\",SUM('Data Input'!H606,'Data Input'!K606,'Data Input'!P606,'Data Input'!Y606))","v":""},{"$f":"IF(Q601=\"\",\"\",Q601/COUNTIF('Data Input'!$C$8:$AK$8,\"G\"))","v":""}]
[{"$f":"IF('Data Input'!A607=0,\"\",'Data Input'!A607)","v":""},{"$f":"IF(ISBLANK('Data Input'!A607),\"\",COUNTIF('Data Input'!C607:AK607,\"\"))","v":""},{"$f":"IF(ISBLANK('Data Input'!A607),\"\",COUNTIF('Data Input'!C607:AK607,\"0\"))","v":""},{"$f":"IF(ISBLANK('Data Input'!A607),\"\",SUM(B602,C602))","v":""},{"$f":"IF(ISBLANK('Data Input'!A607),\"\",SUM('Data Input'!C607:AK607))","v":""},{"$f":"IF(E602=\"\",\"\",E602/(COUNTA('Data Input'!$C$8:$AK$8)))","v":""},{"$f":"IF(ISBLANK('Data Input'!A607),\"\",SUM('Data Input'!C607,'Data Input'!D607,'Data Input'!J607,'Data Input'!X607))","v":""},{"$f":"IF(G602=\"\",\"\",G602/COUNTIF('Data Input'!$C$8:$AK$8,\"N\"))","v":""},{"$f":"IF(ISBLANK('Data Input'!A607),\"\",SUM('Data Input'!G607,'Data Input'!I607,'Data Input'!L607,'Data Input'!N607,'Data Input'!O607,'Data Input'!S607,'Data Input'!Z607,'Data Input'!AA607,'Data Input'!AB607,'Data Input'!AC607,'Data Input'!AE607,'Data Input'!AF607,'Data Input'!AG607,'Data Input'!AI607,'Data Input'!AK607))","v":""},{"$f":"IF(I602=\"\",\"\",I602/COUNTIF('Data Input'!$C$8:$AK$8,\"C\"))","v":""},{"$f":"IF(ISBLANK('Data Input'!A607),\"\",SUM('Data Input'!T607,'Data Input'!U607))","v":""},{"$f":"IF(K602=\"\",\"\",K602/COUNTIF('Data Input'!$C$8:$AK$8,\"S\"))","v":""},{"$f":"IF(ISBLANK('Data Input'!A607),\"\",SUM('Data Input'!F607,'Data Input'!R607,'Data Input'!AJ607))","v":""},{"$f":"IF(M602=\"\",\"\",M602/COUNTIF('Data Input'!$C$8:$AK$8,\"F\"))","v":""},{"$f":"IF(ISBLANK('Data Input'!A607),\"\",SUM('Data Input'!E607,'Data Input'!M607,'Data Input'!Q607,'Data Input'!V607,'Data Input'!W607,'Data Input'!AD607,'Data Input'!AH607))","v":""},{"$f":"IF(O602=\"\",\"\",O602/COUNTIF('Data Input'!$C$8:$AK$8,\"M\"))","v":""},{"$f":"IF(ISBLANK('Data Input'!A607),\"\",SUM('Data Input'!H607,'Data Input'!K607,'Data Input'!P607,'Data Input'!Y607))","v":""},{"$f":"IF(Q602=\"\",\"\",Q602/COUNTIF('Data Input'!$C$8:$AK$8,\"G\"))","v":""}]
[{"$f":"IF('Data Input'!A608=0,\"\",'Data Input'!A608)","v":""},{"$f":"IF(ISBLANK('Data Input'!A608),\"\",COUNTIF('Data Input'!C608:AK608,\"\"))","v":""},{"$f":"IF(ISBLANK('Data Input'!A608),\"\",COUNTIF('Data Input'!C608:AK608,\"0\"))","v":""},{"$f":"IF(ISBLANK('Data Input'!A608),\"\",SUM(B603,C603))","v":""},{"$f":"IF(ISBLANK('Data Input'!A608),\"\",SUM('Data Input'!C608:AK608))","v":""},{"$f":"IF(E603=\"\",\"\",E603/(COUNTA('Data Input'!$C$8:$AK$8)))","v":""},{"$f":"IF(ISBLANK('Data Input'!A608),\"\",SUM('Data Input'!C608,'Data Input'!D608,'Data Input'!J608,'Data Input'!X608))","v":""},{"$f":"IF(G603=\"\",\"\",G603/COUNTIF('Data Input'!$C$8:$AK$8,\"N\"))","v":""},{"$f":"IF(ISBLANK('Data Input'!A608),\"\",SUM('Data Input'!G608,'Data Input'!I608,'Data Input'!L608,'Data Input'!N608,'Data Input'!O608,'Data Input'!S608,'Data Input'!Z608,'Data Input'!AA608,'Data Input'!AB608,'Data Input'!AC608,'Data Input'!AE608,'Data Input'!AF608,'Data Input'!AG608,'Data Input'!AI608,'Data Input'!AK608))","v":""},{"$f":"IF(I603=\"\",\"\",I603/COUNTIF('Data Input'!$C$8:$AK$8,\"C\"))","v":""},{"$f":"IF(ISBLANK('Data Input'!A608),\"\",SUM('Data Input'!T608,'Data Input'!U608))","v":""},{"$f":"IF(K603=\"\",\"\",K603/COUNTIF('Data Input'!$C$8:$AK$8,\"S\"))","v":""},{"$f":"IF(ISBLANK('Data Input'!A608),\"\",SUM('Data Input'!F608,'Data Input'!R608,'Data Input'!AJ608))","v":""},{"$f":"IF(M603=\"\",\"\",M603/COUNTIF('Data Input'!$C$8:$AK$8,\"F\"))","v":""},{"$f":"IF(ISBLANK('Data Input'!A608),\"\",SUM('Data Input'!E608,'Data Input'!M608,'Data Input'!Q608,'Data Input'!V608,'Data Input'!W608,'Data Input'!AD608,'Data Input'!AH608))","v":""},{"$f":"IF(O603=\"\",\"\",O603/COUNTIF('Data Input'!$C$8:$AK$8,\"M\"))","v":""},{"$f":"IF(ISBLANK('Data Input'!A608),\"\",SUM('Data Input'!H608,'Data Input'!K608,'Data Input'!P608,'Data Input'!Y608))","v":""},{"$f":"IF(Q603=\"\",\"\",Q603/COUNTIF('Data Input'!$C$8:$AK$8,\"G\"))","v":""}]
[{"$f":"IF('Data Input'!A609=0,\"\",'Data Input'!A609)","v":""},{"$f":"IF(ISBLANK('Data Input'!A609),\"\",COUNTIF('Data Input'!C609:AK609,\"\"))","v":""},{"$f":"IF(ISBLANK('Data Input'!A609),\"\",COUNTIF('Data Input'!C609:AK609,\"0\"))","v":""},{"$f":"IF(ISBLANK('Data Input'!A609),\"\",SUM(B604,C604))","v":""},{"$f":"IF(ISBLANK('Data Input'!A609),\"\",SUM('Data Input'!C609:AK609))","v":""},{"$f":"IF(E604=\"\",\"\",E604/(COUNTA('Data Input'!$C$8:$AK$8)))","v":""},{"$f":"IF(ISBLANK('Data Input'!A609),\"\",SUM('Data Input'!C609,'Data Input'!D609,'Data Input'!J609,'Data Input'!X609))","v":""},{"$f":"IF(G604=\"\",\"\",G604/COUNTIF('Data Input'!$C$8:$AK$8,\"N\"))","v":""},{"$f":"IF(ISBLANK('Data Input'!A609),\"\",SUM('Data Input'!G609,'Data Input'!I609,'Data Input'!L609,'Data Input'!N609,'Data Input'!O609,'Data Input'!S609,'Data Input'!Z609,'Data Input'!AA609,'Data Input'!AB609,'Data Input'!AC609,'Data Input'!AE609,'Data Input'!AF609,'Data Input'!AG609,'Data Input'!AI609,'Data Input'!AK609))","v":""},{"$f":"IF(I604=\"\",\"\",I604/COUNTIF('Data Input'!$C$8:$AK$8,\"C\"))","v":""},{"$f":"IF(ISBLANK('Data Input'!A609),\"\",SUM('Data Input'!T609,'Data Input'!U609))","v":""},{"$f":"IF(K604=\"\",\"\",K604/COUNTIF('Data Input'!$C$8:$AK$8,\"S\"))","v":""},{"$f":"IF(ISBLANK('Data Input'!A609),\"\",SUM('Data Input'!F609,'Data Input'!R609,'Data Input'!AJ609))","v":""},{"$f":"IF(M604=\"\",\"\",M604/COUNTIF('Data Input'!$C$8:$AK$8,\"F\"))","v":""},{"$f":"IF(ISBLANK('Data Input'!A609),\"\",SUM('Data Input'!E609,'Data Input'!M609,'Data Input'!Q609,'Data Input'!V609,'Data Input'!W609,'Data Input'!AD609,'Data Input'!AH609))","v":""},{"$f":"IF(O604=\"\",\"\",O604/COUNTIF('Data Input'!$C$8:$AK$8,\"M\"))","v":""},{"$f":"IF(ISBLANK('Data Input'!A609),\"\",SUM('Data Input'!H609,'Data Input'!K609,'Data Input'!P609,'Data Input'!Y609))","v":""},{"$f":"IF(Q604=\"\",\"\",Q604/COUNTIF('Data Input'!$C$8:$AK$8,\"G\"))","v":""}]
[{"$f":"IF('Data Input'!A610=0,\"\",'Data Input'!A610)","v":""},{"$f":"IF(ISBLANK('Data Input'!A610),\"\",COUNTIF('Data Input'!C610:AK610,\"\"))","v":""},{"$f":"IF(ISBLANK('Data Input'!A610),\"\",COUNTIF('Data Input'!C610:AK610,\"0\"))","v":""},{"$f":"IF(ISBLANK('Data Input'!A610),\"\",SUM(B605,C605))","v":""},{"$f":"IF(ISBLANK('Data Input'!A610),\"\",SUM('Data Input'!C610:AK610))","v":""},{"$f":"IF(E605=\"\",\"\",E605/(COUNTA('Data Input'!$C$8:$AK$8)))","v":""},{"$f":"IF(ISBLANK('Data Input'!A610),\"\",SUM('Data Input'!C610,'Data Input'!D610,'Data Input'!J610,'Data Input'!X610))","v":""},{"$f":"IF(G605=\"\",\"\",G605/COUNTIF('Data Input'!$C$8:$AK$8,\"N\"))","v":""},{"$f":"IF(ISBLANK('Data Input'!A610),\"\",SUM('Data Input'!G610,'Data Input'!I610,'Data Input'!L610,'Data Input'!N610,'Data Input'!O610,'Data Input'!S610,'Data Input'!Z610,'Data Input'!AA610,'Data Input'!AB610,'Data Input'!AC610,'Data Input'!AE610,'Data Input'!AF610,'Data Input'!AG610,'Data Input'!AI610,'Data Input'!AK610))","v":""},{"$f":"IF(I605=\"\",\"\",I605/COUNTIF('Data Input'!$C$8:$AK$8,\"C\"))","v":""},{"$f":"IF(ISBLANK('Data Input'!A610),\"\",SUM('Data Input'!T610,'Data Input'!U610))","v":""},{"$f":"IF(K605=\"\",\"\",K605/COUNTIF('Data Input'!$C$8:$AK$8,\"S\"))","v":""},{"$f":"IF(ISBLANK('Data Input'!A610),\"\",SUM('Data Input'!F610,'Data Input'!R610,'Data Input'!AJ610))","v":""},{"$f":"IF(M605=\"\",\"\",M605/COUNTIF('Data Input'!$C$8:$AK$8,\"F\"))","v":""},{"$f":"IF(ISBLANK('Data Input'!A610),\"\",SUM('Data Input'!E610,'Data Input'!M610,'Data Input'!Q610,'Data Input'!V610,'Data Input'!W610,'Data Input'!AD610,'Data Input'!AH610))","v":""},{"$f":"IF(O605=\"\",\"\",O605/COUNTIF('Data Input'!$C$8:$AK$8,\"M\"))","v":""},{"$f":"IF(ISBLANK('Data Input'!A610),\"\",SUM('Data Input'!H610,'Data Input'!K610,'Data Input'!P610,'Data Input'!Y610))","v":""},{"$f":"IF(Q605=\"\",\"\",Q605/COUNTIF('Data Input'!$C$8:$AK$8,\"G\"))","v":""}]
[{"$f":"IF('Data Input'!A611=0,\"\",'Data Input'!A611)","v":""},{"$f":"IF(ISBLANK('Data Input'!A611),\"\",COUNTIF('Data Input'!C611:AK611,\"\"))","v":""},{"$f":"IF(ISBLANK('Data Input'!A611),\"\",COUNTIF('Data Input'!C611:AK611,\"0\"))","v":""},{"$f":"IF(ISBLANK('Data Input'!A611),\"\",SUM(B606,C606))","v":""},{"$f":"IF(ISBLANK('Data Input'!A611),\"\",SUM('Data Input'!C611:AK611))","v":""},{"$f":"IF(E606=\"\",\"\",E606/(COUNTA('Data Input'!$C$8:$AK$8)))","v":""},{"$f":"IF(ISBLANK('Data Input'!A611),\"\",SUM('Data Input'!C611,'Data Input'!D611,'Data Input'!J611,'Data Input'!X611))","v":""},{"$f":"IF(G606=\"\",\"\",G606/COUNTIF('Data Input'!$C$8:$AK$8,\"N\"))","v":""},{"$f":"IF(ISBLANK('Data Input'!A611),\"\",SUM('Data Input'!G611,'Data Input'!I611,'Data Input'!L611,'Data Input'!N611,'Data Input'!O611,'Data Input'!S611,'Data Input'!Z611,'Data Input'!AA611,'Data Input'!AB611,'Data Input'!AC611,'Data Input'!AE611,'Data Input'!AF611,'Data Input'!AG611,'Data Input'!AI611,'Data Input'!AK611))","v":""},{"$f":"IF(I606=\"\",\"\",I606/COUNTIF('Data Input'!$C$8:$AK$8,\"C\"))","v":""},{"$f":"IF(ISBLANK('Data Input'!A611),\"\",SUM('Data Input'!T611,'Data Input'!U611))","v":""},{"$f":"IF(K606=\"\",\"\",K606/COUNTIF('Data Input'!$C$8:$AK$8,\"S\"))","v":""},{"$f":"IF(ISBLANK('Data Input'!A611),\"\",SUM('Data Input'!F611,'Data Input'!R611,'Data Input'!AJ611))","v":""},{"$f":"IF(M606=\"\",\"\",M606/COUNTIF('Data Input'!$C$8:$AK$8,\"F\"))","v":""},{"$f":"IF(ISBLANK('Data Input'!A611),\"\",SUM('Data Input'!E611,'Data Input'!M611,'Data Input'!Q611,'Data Input'!V611,'Data Input'!W611,'Data Input'!AD611,'Data Input'!AH611))","v":""},{"$f":"IF(O606=\"\",\"\",O606/COUNTIF('Data Input'!$C$8:$AK$8,\"M\"))","v":""},{"$f":"IF(ISBLANK('Data Input'!A611),\"\",SUM('Data Input'!H611,'Data Input'!K611,'Data Input'!P611,'Data Input'!Y611))","v":""},{"$f":"IF(Q606=\"\",\"\",Q606/COUNTIF('Data Input'!$C$8:$AK$8,\"G\"))","v":""}]
[{"$f":"IF('Data Input'!A612=0,\"\",'Data Input'!A612)","v":""},{"$f":"IF(ISBLANK('Data Input'!A612),\"\",COUNTIF('Data Input'!C612:AK612,\"\"))","v":""},{"$f":"IF(ISBLANK('Data Input'!A612),\"\",COUNTIF('Data Input'!C612:AK612,\"0\"))","v":""},{"$f":"IF(ISBLANK('Data Input'!A612),\"\",SUM(B607,C607))","v":""},{"$f":"IF(ISBLANK('Data Input'!A612),\"\",SUM('Data Input'!C612:AK612))","v":""},{"$f":"IF(E607=\"\",\"\",E607/(COUNTA('Data Input'!$C$8:$AK$8)))","v":""},{"$f":"IF(ISBLANK('Data Input'!A612),\"\",SUM('Data Input'!C612,'Data Input'!D612,'Data Input'!J612,'Data Input'!X612))","v":""},{"$f":"IF(G607=\"\",\"\",G607/COUNTIF('Data Input'!$C$8:$AK$8,\"N\"))","v":""},{"$f":"IF(ISBLANK('Data Input'!A612),\"\",SUM('Data Input'!G612,'Data Input'!I612,'Data Input'!L612,'Data Input'!N612,'Data Input'!O612,'Data Input'!S612,'Data Input'!Z612,'Data Input'!AA612,'Data Input'!AB612,'Data Input'!AC612,'Data Input'!AE612,'Data Input'!AF612,'Data Input'!AG612,'Data Input'!AI612,'Data Input'!AK612))","v":""},{"$f":"IF(I607=\"\",\"\",I607/COUNTIF('Data Input'!$C$8:$AK$8,\"C\"))","v":""},{"$f":"IF(ISBLANK('Data Input'!A612),\"\",SUM('Data Input'!T612,'Data Input'!U612))","v":""},{"$f":"IF(K607=\"\",\"\",K607/COUNTIF('Data Input'!$C$8:$AK$8,\"S\"))","v":""},{"$f":"IF(ISBLANK('Data Input'!A612),\"\",SUM('Data Input'!F612,'Data Input'!R612,'Data Input'!AJ612))","v":""},{"$f":"IF(M607=\"\",\"\",M607/COUNTIF('Data Input'!$C$8:$AK$8,\"F\"))","v":""},{"$f":"IF(ISBLANK('Data Input'!A612),\"\",SUM('Data Input'!E612,'Data Input'!M612,'Data Input'!Q612,'Data Input'!V612,'Data Input'!W612,'Data Input'!AD612,'Data Input'!AH612))","v":""},{"$f":"IF(O607=\"\",\"\",O607/COUNTIF('Data Input'!$C$8:$AK$8,\"M\"))","v":""},{"$f":"IF(ISBLANK('Data Input'!A612),\"\",SUM('Data Input'!H612,'Data Input'!K612,'Data Input'!P612,'Data Input'!Y612))","v":""},{"$f":"IF(Q607=\"\",\"\",Q607/COUNTIF('Data Input'!$C$8:$AK$8,\"G\"))","v":""}]
[{"$f":"IF('Data Input'!A613=0,\"\",'Data Input'!A613)","v":""},{"$f":"IF(ISBLANK('Data Input'!A613),\"\",COUNTIF('Data Input'!C613:AK613,\"\"))","v":""},{"$f":"IF(ISBLANK('Data Input'!A613),\"\",COUNTIF('Data Input'!C613:AK613,\"0\"))","v":""},{"$f":"IF(ISBLANK('Data Input'!A613),\"\",SUM(B608,C608))","v":""},{"$f":"IF(ISBLANK('Data Input'!A613),\"\",SUM('Data Input'!C613:AK613))","v":""},{"$f":"IF(E608=\"\",\"\",E608/(COUNTA('Data Input'!$C$8:$AK$8)))","v":""},{"$f":"IF(ISBLANK('Data Input'!A613),\"\",SUM('Data Input'!C613,'Data Input'!D613,'Data Input'!J613,'Data Input'!X613))","v":""},{"$f":"IF(G608=\"\",\"\",G608/COUNTIF('Data Input'!$C$8:$AK$8,\"N\"))","v":""},{"$f":"IF(ISBLANK('Data Input'!A613),\"\",SUM('Data Input'!G613,'Data Input'!I613,'Data Input'!L613,'Data Input'!N613,'Data Input'!O613,'Data Input'!S613,'Data Input'!Z613,'Data Input'!AA613,'Data Input'!AB613,'Data Input'!AC613,'Data Input'!AE613,'Data Input'!AF613,'Data Input'!AG613,'Data Input'!AI613,'Data Input'!AK613))","v":""},{"$f":"IF(I608=\"\",\"\",I608/COUNTIF('Data Input'!$C$8:$AK$8,\"C\"))","v":""},{"$f":"IF(ISBLANK('Data Input'!A613),\"\",SUM('Data Input'!T613,'Data Input'!U613))","v":""},{"$f":"IF(K608=\"\",\"\",K608/COUNTIF('Data Input'!$C$8:$AK$8,\"S\"))","v":""},{"$f":"IF(ISBLANK('Data Input'!A613),\"\",SUM('Data Input'!F613,'Data Input'!R613,'Data Input'!AJ613))","v":""},{"$f":"IF(M608=\"\",\"\",M608/COUNTIF('Data Input'!$C$8:$AK$8,\"F\"))","v":""},{"$f":"IF(ISBLANK('Data Input'!A613),\"\",SUM('Data Input'!E613,'Data Input'!M613,'Data Input'!Q613,'Data Input'!V613,'Data Input'!W613,'Data Input'!AD613,'Data Input'!AH613))","v":""},{"$f":"IF(O608=\"\",\"\",O608/COUNTIF('Data Input'!$C$8:$AK$8,\"M\"))","v":""},{"$f":"IF(ISBLANK('Data Input'!A613),\"\",SUM('Data Input'!H613,'Data Input'!K613,'Data Input'!P613,'Data Input'!Y613))","v":""},{"$f":"IF(Q608=\"\",\"\",Q608/COUNTIF('Data Input'!$C$8:$AK$8,\"G\"))","v":""}]
[{"$f":"IF('Data Input'!A614=0,\"\",'Data Input'!A614)","v":""},{"$f":"IF(ISBLANK('Data Input'!A614),\"\",COUNTIF('Data Input'!C614:AK614,\"\"))","v":""},{"$f":"IF(ISBLANK('Data Input'!A614),\"\",COUNTIF('Data Input'!C614:AK614,\"0\"))","v":""},{"$f":"IF(ISBLANK('Data Input'!A614),\"\",SUM(B609,C609))","v":""},{"$f":"IF(ISBLANK('Data Input'!A614),\"\",SUM('Data Input'!C614:AK614))","v":""},{"$f":"IF(E609=\"\",\"\",E609/(COUNTA('Data Input'!$C$8:$AK$8)))","v":""},{"$f":"IF(ISBLANK('Data Input'!A614),\"\",SUM('Data Input'!C614,'Data Input'!D614,'Data Input'!J614,'Data Input'!X614))","v":""},{"$f":"IF(G609=\"\",\"\",G609/COUNTIF('Data Input'!$C$8:$AK$8,\"N\"))","v":""},{"$f":"IF(ISBLANK('Data Input'!A614),\"\",SUM('Data Input'!G614,'Data Input'!I614,'Data Input'!L614,'Data Input'!N614,'Data Input'!O614,'Data Input'!S614,'Data Input'!Z614,'Data Input'!AA614,'Data Input'!AB614,'Data Input'!AC614,'Data Input'!AE614,'Data Input'!AF614,'Data Input'!AG614,'Data Input'!AI614,'Data Input'!AK614))","v":""},{"$f":"IF(I609=\"\",\"\",I609/COUNTIF('Data Input'!$C$8:$AK$8,\"C\"))","v":""},{"$f":"IF(ISBLANK('Data Input'!A614),\"\",SUM('Data Input'!T614,'Data Input'!U614))","v":""},{"$f":"IF(K609=\"\",\"\",K609/COUNTIF('Data Input'!$C$8:$AK$8,\"S\"))","v":""},{"$f":"IF(ISBLANK('Data Input'!A614),\"\",SUM('Data Input'!F614,'Data Input'!R614,'Data Input'!AJ614))","v":""},{"$f":"IF(M609=\"\",\"\",M609/COUNTIF('Data Input'!$C$8:$AK$8,\"F\"))","v":""},{"$f":"IF(ISBLANK('Data Input'!A614),\"\",SUM('Data Input'!E614,'Data Input'!M614,'Data Input'!Q614,'Data Input'!V614,'Data Input'!W614,'Data Input'!AD614,'Data Input'!AH614))","v":""},{"$f":"IF(O609=\"\",\"\",O609/COUNTIF('Data Input'!$C$8:$AK$8,\"M\"))","v":""},{"$f":"IF(ISBLANK('Data Input'!A614),\"\",SUM('Data Input'!H614,'Data Input'!K614,'Data Input'!P614,'Data Input'!Y614))","v":""},{"$f":"IF(Q609=\"\",\"\",Q609/COUNTIF('Data Input'!$C$8:$AK$8,\"G\"))","v":""}]
[{"$f":"IF('Data Input'!A615=0,\"\",'Data Input'!A615)","v":""},{"$f":"IF(ISBLANK('Data Input'!A615),\"\",COUNTIF('Data Input'!C615:AK615,\"\"))","v":""},{"$f":"IF(ISBLANK('Data Input'!A615),\"\",COUNTIF('Data Input'!C615:AK615,\"0\"))","v":""},{"$f":"IF(ISBLANK('Data Input'!A615),\"\",SUM(B610,C610))","v":""},{"$f":"IF(ISBLANK('Data Input'!A615),\"\",SUM('Data Input'!C615:AK615))","v":""},{"$f":"IF(E610=\"\",\"\",E610/(COUNTA('Data Input'!$C$8:$AK$8)))","v":""},{"$f":"IF(ISBLANK('Data Input'!A615),\"\",SUM('Data Input'!C615,'Data Input'!D615,'Data Input'!J615,'Data Input'!X615))","v":""},{"$f":"IF(G610=\"\",\"\",G610/COUNTIF('Data Input'!$C$8:$AK$8,\"N\"))","v":""},{"$f":"IF(ISBLANK('Data Input'!A615),\"\",SUM('Data Input'!G615,'Data Input'!I615,'Data Input'!L615,'Data Input'!N615,'Data Input'!O615,'Data Input'!S615,'Data Input'!Z615,'Data Input'!AA615,'Data Input'!AB615,'Data Input'!AC615,'Data Input'!AE615,'Data Input'!AF615,'Data Input'!AG615,'Data Input'!AI615,'Data Input'!AK615))","v":""},{"$f":"IF(I610=\"\",\"\",I610/COUNTIF('Data Input'!$C$8:$AK$8,\"C\"))","v":""},{"$f":"IF(ISBLANK('Data Input'!A615),\"\",SUM('Data Input'!T615,'Data Input'!U615))","v":""},{"$f":"IF(K610=\"\",\"\",K610/COUNTIF('Data Input'!$C$8:$AK$8,\"S\"))","v":""},{"$f":"IF(ISBLANK('Data Input'!A615),\"\",SUM('Data Input'!F615,'Data Input'!R615,'Data Input'!AJ615))","v":""},{"$f":"IF(M610=\"\",\"\",M610/COUNTIF('Data Input'!$C$8:$AK$8,\"F\"))","v":""},{"$f":"IF(ISBLANK('Data Input'!A615),\"\",SUM('Data Input'!E615,'Data Input'!M615,'Data Input'!Q615,'Data Input'!V615,'Data Input'!W615,'Data Input'!AD615,'Data Input'!AH615))","v":""},{"$f":"IF(O610=\"\",\"\",O610/COUNTIF('Data Input'!$C$8:$AK$8,\"M\"))","v":""},{"$f":"IF(ISBLANK('Data Input'!A615),\"\",SUM('Data Input'!H615,'Data Input'!K615,'Data Input'!P615,'Data Input'!Y615))","v":""},{"$f":"IF(Q610=\"\",\"\",Q610/COUNTIF('Data Input'!$C$8:$AK$8,\"G\"))","v":""}]
[{"$f":"IF('Data Input'!A616=0,\"\",'Data Input'!A616)","v":""},{"$f":"IF(ISBLANK('Data Input'!A616),\"\",COUNTIF('Data Input'!C616:AK616,\"\"))","v":""},{"$f":"IF(ISBLANK('Data Input'!A616),\"\",COUNTIF('Data Input'!C616:AK616,\"0\"))","v":""},{"$f":"IF(ISBLANK('Data Input'!A616),\"\",SUM(B611,C611))","v":""},{"$f":"IF(ISBLANK('Data Input'!A616),\"\",SUM('Data Input'!C616:AK616))","v":""},{"$f":"IF(E611=\"\",\"\",E611/(COUNTA('Data Input'!$C$8:$AK$8)))","v":""},{"$f":"IF(ISBLANK('Data Input'!A616),\"\",SUM('Data Input'!C616,'Data Input'!D616,'Data Input'!J616,'Data Input'!X616))","v":""},{"$f":"IF(G611=\"\",\"\",G611/COUNTIF('Data Input'!$C$8:$AK$8,\"N\"))","v":""},{"$f":"IF(ISBLANK('Data Input'!A616),\"\",SUM('Data Input'!G616,'Data Input'!I616,'Data Input'!L616,'Data Input'!N616,'Data Input'!O616,'Data Input'!S616,'Data Input'!Z616,'Data Input'!AA616,'Data Input'!AB616,'Data Input'!AC616,'Data Input'!AE616,'Data Input'!AF616,'Data Input'!AG616,'Data Input'!AI616,'Data Input'!AK616))","v":""},{"$f":"IF(I611=\"\",\"\",I611/COUNTIF('Data Input'!$C$8:$AK$8,\"C\"))","v":""},{"$f":"IF(ISBLANK('Data Input'!A616),\"\",SUM('Data Input'!T616,'Data Input'!U616))","v":""},{"$f":"IF(K611=\"\",\"\",K611/COUNTIF('Data Input'!$C$8:$AK$8,\"S\"))","v":""},{"$f":"IF(ISBLANK('Data Input'!A616),\"\",SUM('Data Input'!F616,'Data Input'!R616,'Data Input'!AJ616))","v":""},{"$f":"IF(M611=\"\",\"\",M611/COUNTIF('Data Input'!$C$8:$AK$8,\"F\"))","v":""},{"$f":"IF(ISBLANK('Data Input'!A616),\"\",SUM('Data Input'!E616,'Data Input'!M616,'Data Input'!Q616,'Data Input'!V616,'Data Input'!W616,'Data Input'!AD616,'Data Input'!AH616))","v":""},{"$f":"IF(O611=\"\",\"\",O611/COUNTIF('Data Input'!$C$8:$AK$8,\"M\"))","v":""},{"$f":"IF(ISBLANK('Data Input'!A616),\"\",SUM('Data Input'!H616,'Data Input'!K616,'Data Input'!P616,'Data Input'!Y616))","v":""},{"$f":"IF(Q611=\"\",\"\",Q611/COUNTIF('Data Input'!$C$8:$AK$8,\"G\"))","v":""}]
[{"$f":"IF('Data Input'!A617=0,\"\",'Data Input'!A617)","v":""},{"$f":"IF(ISBLANK('Data Input'!A617),\"\",COUNTIF('Data Input'!C617:AK617,\"\"))","v":""},{"$f":"IF(ISBLANK('Data Input'!A617),\"\",COUNTIF('Data Input'!C617:AK617,\"0\"))","v":""},{"$f":"IF(ISBLANK('Data Input'!A617),\"\",SUM(B612,C612))","v":""},{"$f":"IF(ISBLANK('Data Input'!A617),\"\",SUM('Data Input'!C617:AK617))","v":""},{"$f":"IF(E612=\"\",\"\",E612/(COUNTA('Data Input'!$C$8:$AK$8)))","v":""},{"$f":"IF(ISBLANK('Data Input'!A617),\"\",SUM('Data Input'!C617,'Data Input'!D617,'Data Input'!J617,'Data Input'!X617))","v":""},{"$f":"IF(G612=\"\",\"\",G612/COUNTIF('Data Input'!$C$8:$AK$8,\"N\"))","v":""},{"$f":"IF(ISBLANK('Data Input'!A617),\"\",SUM('Data Input'!G617,'Data Input'!I617,'Data Input'!L617,'Data Input'!N617,'Data Input'!O617,'Data Input'!S617,'Data Input'!Z617,'Data Input'!AA617,'Data Input'!AB617,'Data Input'!AC617,'Data Input'!AE617,'Data Input'!AF617,'Data Input'!AG617,'Data Input'!AI617,'Data Input'!AK617))","v":""},{"$f":"IF(I612=\"\",\"\",I612/COUNTIF('Data Input'!$C$8:$AK$8,\"C\"))","v":""},{"$f":"IF(ISBLANK('Data Input'!A617),\"\",SUM('Data Input'!T617,'Data Input'!U617))","v":""},{"$f":"IF(K612=\"\",\"\",K612/COUNTIF('Data Input'!$C$8:$AK$8,\"S\"))","v":""},{"$f":"IF(ISBLANK('Data Input'!A617),\"\",SUM('Data Input'!F617,'Data Input'!R617,'Data Input'!AJ617))","v":""},{"$f":"IF(M612=\"\",\"\",M612/COUNTIF('Data Input'!$C$8:$AK$8,\"F\"))","v":""},{"$f":"IF(ISBLANK('Data Input'!A617),\"\",SUM('Data Input'!E617,'Data Input'!M617,'Data Input'!Q617,'Data Input'!V617,'Data Input'!W617,'Data Input'!AD617,'Data Input'!AH617))","v":""},{"$f":"IF(O612=\"\",\"\",O612/COUNTIF('Data Input'!$C$8:$AK$8,\"M\"))","v":""},{"$f":"IF(ISBLANK('Data Input'!A617),\"\",SUM('Data Input'!H617,'Data Input'!K617,'Data Input'!P617,'Data Input'!Y617))","v":""},{"$f":"IF(Q612=\"\",\"\",Q612/COUNTIF('Data Input'!$C$8:$AK$8,\"G\"))","v":""}]
[{"$f":"IF('Data Input'!A618=0,\"\",'Data Input'!A618)","v":""},{"$f":"IF(ISBLANK('Data Input'!A618),\"\",COUNTIF('Data Input'!C618:AK618,\"\"))","v":""},{"$f":"IF(ISBLANK('Data Input'!A618),\"\",COUNTIF('Data Input'!C618:AK618,\"0\"))","v":""},{"$f":"IF(ISBLANK('Data Input'!A618),\"\",SUM(B613,C613))","v":""},{"$f":"IF(ISBLANK('Data Input'!A618),\"\",SUM('Data Input'!C618:AK618))","v":""},{"$f":"IF(E613=\"\",\"\",E613/(COUNTA('Data Input'!$C$8:$AK$8)))","v":""},{"$f":"IF(ISBLANK('Data Input'!A618),\"\",SUM('Data Input'!C618,'Data Input'!D618,'Data Input'!J618,'Data Input'!X618))","v":""},{"$f":"IF(G613=\"\",\"\",G613/COUNTIF('Data Input'!$C$8:$AK$8,\"N\"))","v":""},{"$f":"IF(ISBLANK('Data Input'!A618),\"\",SUM('Data Input'!G618,'Data Input'!I618,'Data Input'!L618,'Data Input'!N618,'Data Input'!O618,'Data Input'!S618,'Data Input'!Z618,'Data Input'!AA618,'Data Input'!AB618,'Data Input'!AC618,'Data Input'!AE618,'Data Input'!AF618,'Data Input'!AG618,'Data Input'!AI618,'Data Input'!AK618))","v":""},{"$f":"IF(I613=\"\",\"\",I613/COUNTIF('Data Input'!$C$8:$AK$8,\"C\"))","v":""},{"$f":"IF(ISBLANK('Data Input'!A618),\"\",SUM('Data Input'!T618,'Data Input'!U618))","v":""},{"$f":"IF(K613=\"\",\"\",K613/COUNTIF('Data Input'!$C$8:$AK$8,\"S\"))","v":""},{"$f":"IF(ISBLANK('Data Input'!A618),\"\",SUM('Data Input'!F618,'Data Input'!R618,'Data Input'!AJ618))","v":""},{"$f":"IF(M613=\"\",\"\",M613/COUNTIF('Data Input'!$C$8:$AK$8,\"F\"))","v":""},{"$f":"IF(ISBLANK('Data Input'!A618),\"\",SUM('Data Input'!E618,'Data Input'!M618,'Data Input'!Q618,'Data Input'!V618,'Data Input'!W618,'Data Input'!AD618,'Data Input'!AH618))","v":""},{"$f":"IF(O613=\"\",\"\",O613/COUNTIF('Data Input'!$C$8:$AK$8,\"M\"))","v":""},{"$f":"IF(ISBLANK('Data Input'!A618),\"\",SUM('Data Input'!H618,'Data Input'!K618,'Data Input'!P618,'Data Input'!Y618))","v":""},{"$f":"IF(Q613=\"\",\"\",Q613/COUNTIF('Data Input'!$C$8:$AK$8,\"G\"))","v":""}]
[{"$f":"IF('Data Input'!A619=0,\"\",'Data Input'!A619)","v":""},{"$f":"IF(ISBLANK('Data Input'!A619),\"\",COUNTIF('Data Input'!C619:AK619,\"\"))","v":""},{"$f":"IF(ISBLANK('Data Input'!A619),\"\",COUNTIF('Data Input'!C619:AK619,\"0\"))","v":""},{"$f":"IF(ISBLANK('Data Input'!A619),\"\",SUM(B614,C614))","v":""},{"$f":"IF(ISBLANK('Data Input'!A619),\"\",SUM('Data Input'!C619:AK619))","v":""},{"$f":"IF(E614=\"\",\"\",E614/(COUNTA('Data Input'!$C$8:$AK$8)))","v":""},{"$f":"IF(ISBLANK('Data Input'!A619),\"\",SUM('Data Input'!C619,'Data Input'!D619,'Data Input'!J619,'Data Input'!X619))","v":""},{"$f":"IF(G614=\"\",\"\",G614/COUNTIF('Data Input'!$C$8:$AK$8,\"N\"))","v":""},{"$f":"IF(ISBLANK('Data Input'!A619),\"\",SUM('Data Input'!G619,'Data Input'!I619,'Data Input'!L619,'Data Input'!N619,'Data Input'!O619,'Data Input'!S619,'Data Input'!Z619,'Data Input'!AA619,'Data Input'!AB619,'Data Input'!AC619,'Data Input'!AE619,'Data Input'!AF619,'Data Input'!AG619,'Data Input'!AI619,'Data Input'!AK619))","v":""},{"$f":"IF(I614=\"\",\"\",I614/COUNTIF('Data Input'!$C$8:$AK$8,\"C\"))","v":""},{"$f":"IF(ISBLANK('Data Input'!A619),\"\",SUM('Data Input'!T619,'Data Input'!U619))","v":""},{"$f":"IF(K614=\"\",\"\",K614/COUNTIF('Data Input'!$C$8:$AK$8,\"S\"))","v":""},{"$f":"IF(ISBLANK('Data Input'!A619),\"\",SUM('Data Input'!F619,'Data Input'!R619,'Data Input'!AJ619))","v":""},{"$f":"IF(M614=\"\",\"\",M614/COUNTIF('Data Input'!$C$8:$AK$8,\"F\"))","v":""},{"$f":"IF(ISBLANK('Data Input'!A619),\"\",SUM('Data Input'!E619,'Data Input'!M619,'Data Input'!Q619,'Data Input'!V619,'Data Input'!W619,'Data Input'!AD619,'Data Input'!AH619))","v":""},{"$f":"IF(O614=\"\",\"\",O614/COUNTIF('Data Input'!$C$8:$AK$8,\"M\"))","v":""},{"$f":"IF(ISBLANK('Data Input'!A619),\"\",SUM('Data Input'!H619,'Data Input'!K619,'Data Input'!P619,'Data Input'!Y619))","v":""},{"$f":"IF(Q614=\"\",\"\",Q614/COUNTIF('Data Input'!$C$8:$AK$8,\"G\"))","v":""}]
[{"$f":"IF('Data Input'!A620=0,\"\",'Data Input'!A620)","v":""},{"$f":"IF(ISBLANK('Data Input'!A620),\"\",COUNTIF('Data Input'!C620:AK620,\"\"))","v":""},{"$f":"IF(ISBLANK('Data Input'!A620),\"\",COUNTIF('Data Input'!C620:AK620,\"0\"))","v":""},{"$f":"IF(ISBLANK('Data Input'!A620),\"\",SUM(B615,C615))","v":""},{"$f":"IF(ISBLANK('Data Input'!A620),\"\",SUM('Data Input'!C620:AK620))","v":""},{"$f":"IF(E615=\"\",\"\",E615/(COUNTA('Data Input'!$C$8:$AK$8)))","v":""},{"$f":"IF(ISBLANK('Data Input'!A620),\"\",SUM('Data Input'!C620,'Data Input'!D620,'Data Input'!J620,'Data Input'!X620))","v":""},{"$f":"IF(G615=\"\",\"\",G615/COUNTIF('Data Input'!$C$8:$AK$8,\"N\"))","v":""},{"$f":"IF(ISBLANK('Data Input'!A620),\"\",SUM('Data Input'!G620,'Data Input'!I620,'Data Input'!L620,'Data Input'!N620,'Data Input'!O620,'Data Input'!S620,'Data Input'!Z620,'Data Input'!AA620,'Data Input'!AB620,'Data Input'!AC620,'Data Input'!AE620,'Data Input'!AF620,'Data Input'!AG620,'Data Input'!AI620,'Data Input'!AK620))","v":""},{"$f":"IF(I615=\"\",\"\",I615/COUNTIF('Data Input'!$C$8:$AK$8,\"C\"))","v":""},{"$f":"IF(ISBLANK('Data Input'!A620),\"\",SUM('Data Input'!T620,'Data Input'!U620))","v":""},{"$f":"IF(K615=\"\",\"\",K615/COUNTIF('Data Input'!$C$8:$AK$8,\"S\"))","v":""},{"$f":"IF(ISBLANK('Data Input'!A620),\"\",SUM('Data Input'!F620,'Data Input'!R620,'Data Input'!AJ620))","v":""},{"$f":"IF(M615=\"\",\"\",M615/COUNTIF('Data Input'!$C$8:$AK$8,\"F\"))","v":""},{"$f":"IF(ISBLANK('Data Input'!A620),\"\",SUM('Data Input'!E620,'Data Input'!M620,'Data Input'!Q620,'Data Input'!V620,'Data Input'!W620,'Data Input'!AD620,'Data Input'!AH620))","v":""},{"$f":"IF(O615=\"\",\"\",O615/COUNTIF('Data Input'!$C$8:$AK$8,\"M\"))","v":""},{"$f":"IF(ISBLANK('Data Input'!A620),\"\",SUM('Data Input'!H620,'Data Input'!K620,'Data Input'!P620,'Data Input'!Y620))","v":""},{"$f":"IF(Q615=\"\",\"\",Q615/COUNTIF('Data Input'!$C$8:$AK$8,\"G\"))","v":""}]
[{"$f":"IF('Data Input'!A621=0,\"\",'Data Input'!A621)","v":""},{"$f":"IF(ISBLANK('Data Input'!A621),\"\",COUNTIF('Data Input'!C621:AK621,\"\"))","v":""},{"$f":"IF(ISBLANK('Data Input'!A621),\"\",COUNTIF('Data Input'!C621:AK621,\"0\"))","v":""},{"$f":"IF(ISBLANK('Data Input'!A621),\"\",SUM(B616,C616))","v":""},{"$f":"IF(ISBLANK('Data Input'!A621),\"\",SUM('Data Input'!C621:AK621))","v":""},{"$f":"IF(E616=\"\",\"\",E616/(COUNTA('Data Input'!$C$8:$AK$8)))","v":""},{"$f":"IF(ISBLANK('Data Input'!A621),\"\",SUM('Data Input'!C621,'Data Input'!D621,'Data Input'!J621,'Data Input'!X621))","v":""},{"$f":"IF(G616=\"\",\"\",G616/COUNTIF('Data Input'!$C$8:$AK$8,\"N\"))","v":""},{"$f":"IF(ISBLANK('Data Input'!A621),\"\",SUM('Data Input'!G621,'Data Input'!I621,'Data Input'!L621,'Data Input'!N621,'Data Input'!O621,'Data Input'!S621,'Data Input'!Z621,'Data Input'!AA621,'Data Input'!AB621,'Data Input'!AC621,'Data Input'!AE621,'Data Input'!AF621,'Data Input'!AG621,'Data Input'!AI621,'Data Input'!AK621))","v":""},{"$f":"IF(I616=\"\",\"\",I616/COUNTIF('Data Input'!$C$8:$AK$8,\"C\"))","v":""},{"$f":"IF(ISBLANK('Data Input'!A621),\"\",SUM('Data Input'!T621,'Data Input'!U621))","v":""},{"$f":"IF(K616=\"\",\"\",K616/COUNTIF('Data Input'!$C$8:$AK$8,\"S\"))","v":""},{"$f":"IF(ISBLANK('Data Input'!A621),\"\",SUM('Data Input'!F621,'Data Input'!R621,'Data Input'!AJ621))","v":""},{"$f":"IF(M616=\"\",\"\",M616/COUNTIF('Data Input'!$C$8:$AK$8,\"F\"))","v":""},{"$f":"IF(ISBLANK('Data Input'!A621),\"\",SUM('Data Input'!E621,'Data Input'!M621,'Data Input'!Q621,'Data Input'!V621,'Data Input'!W621,'Data Input'!AD621,'Data Input'!AH621))","v":""},{"$f":"IF(O616=\"\",\"\",O616/COUNTIF('Data Input'!$C$8:$AK$8,\"M\"))","v":""},{"$f":"IF(ISBLANK('Data Input'!A621),\"\",SUM('Data Input'!H621,'Data Input'!K621,'Data Input'!P621,'Data Input'!Y621))","v":""},{"$f":"IF(Q616=\"\",\"\",Q616/COUNTIF('Data Input'!$C$8:$AK$8,\"G\"))","v":""}]
[{"$f":"IF('Data Input'!A622=0,\"\",'Data Input'!A622)","v":""},{"$f":"IF(ISBLANK('Data Input'!A622),\"\",COUNTIF('Data Input'!C622:AK622,\"\"))","v":""},{"$f":"IF(ISBLANK('Data Input'!A622),\"\",COUNTIF('Data Input'!C622:AK622,\"0\"))","v":""},{"$f":"IF(ISBLANK('Data Input'!A622),\"\",SUM(B617,C617))","v":""},{"$f":"IF(ISBLANK('Data Input'!A622),\"\",SUM('Data Input'!C622:AK622))","v":""},{"$f":"IF(E617=\"\",\"\",E617/(COUNTA('Data Input'!$C$8:$AK$8)))","v":""},{"$f":"IF(ISBLANK('Data Input'!A622),\"\",SUM('Data Input'!C622,'Data Input'!D622,'Data Input'!J622,'Data Input'!X622))","v":""},{"$f":"IF(G617=\"\",\"\",G617/COUNTIF('Data Input'!$C$8:$AK$8,\"N\"))","v":""},{"$f":"IF(ISBLANK('Data Input'!A622),\"\",SUM('Data Input'!G622,'Data Input'!I622,'Data Input'!L622,'Data Input'!N622,'Data Input'!O622,'Data Input'!S622,'Data Input'!Z622,'Data Input'!AA622,'Data Input'!AB622,'Data Input'!AC622,'Data Input'!AE622,'Data Input'!AF622,'Data Input'!AG622,'Data Input'!AI622,'Data Input'!AK622))","v":""},{"$f":"IF(I617=\"\",\"\",I617/COUNTIF('Data Input'!$C$8:$AK$8,\"C\"))","v":""},{"$f":"IF(ISBLANK('Data Input'!A622),\"\",SUM('Data Input'!T622,'Data Input'!U622))","v":""},{"$f":"IF(K617=\"\",\"\",K617/COUNTIF('Data Input'!$C$8:$AK$8,\"S\"))","v":""},{"$f":"IF(ISBLANK('Data Input'!A622),\"\",SUM('Data Input'!F622,'Data Input'!R622,'Data Input'!AJ622))","v":""},{"$f":"IF(M617=\"\",\"\",M617/COUNTIF('Data Input'!$C$8:$AK$8,\"F\"))","v":""},{"$f":"IF(ISBLANK('Data Input'!A622),\"\",SUM('Data Input'!E622,'Data Input'!M622,'Data Input'!Q622,'Data Input'!V622,'Data Input'!W622,'Data Input'!AD622,'Data Input'!AH622))","v":""},{"$f":"IF(O617=\"\",\"\",O617/COUNTIF('Data Input'!$C$8:$AK$8,\"M\"))","v":""},{"$f":"IF(ISBLANK('Data Input'!A622),\"\",SUM('Data Input'!H622,'Data Input'!K622,'Data Input'!P622,'Data Input'!Y622))","v":""},{"$f":"IF(Q617=\"\",\"\",Q617/COUNTIF('Data Input'!$C$8:$AK$8,\"G\"))","v":""}]
[{"$f":"IF('Data Input'!A623=0,\"\",'Data Input'!A623)","v":""},{"$f":"IF(ISBLANK('Data Input'!A623),\"\",COUNTIF('Data Input'!C623:AK623,\"\"))","v":""},{"$f":"IF(ISBLANK('Data Input'!A623),\"\",COUNTIF('Data Input'!C623:AK623,\"0\"))","v":""},{"$f":"IF(ISBLANK('Data Input'!A623),\"\",SUM(B618,C618))","v":""},{"$f":"IF(ISBLANK('Data Input'!A623),\"\",SUM('Data Input'!C623:AK623))","v":""},{"$f":"IF(E618=\"\",\"\",E618/(COUNTA('Data Input'!$C$8:$AK$8)))","v":""},{"$f":"IF(ISBLANK('Data Input'!A623),\"\",SUM('Data Input'!C623,'Data Input'!D623,'Data Input'!J623,'Data Input'!X623))","v":""},{"$f":"IF(G618=\"\",\"\",G618/COUNTIF('Data Input'!$C$8:$AK$8,\"N\"))","v":""},{"$f":"IF(ISBLANK('Data Input'!A623),\"\",SUM('Data Input'!G623,'Data Input'!I623,'Data Input'!L623,'Data Input'!N623,'Data Input'!O623,'Data Input'!S623,'Data Input'!Z623,'Data Input'!AA623,'Data Input'!AB623,'Data Input'!AC623,'Data Input'!AE623,'Data Input'!AF623,'Data Input'!AG623,'Data Input'!AI623,'Data Input'!AK623))","v":""},{"$f":"IF(I618=\"\",\"\",I618/COUNTIF('Data Input'!$C$8:$AK$8,\"C\"))","v":""},{"$f":"IF(ISBLANK('Data Input'!A623),\"\",SUM('Data Input'!T623,'Data Input'!U623))","v":""},{"$f":"IF(K618=\"\",\"\",K618/COUNTIF('Data Input'!$C$8:$AK$8,\"S\"))","v":""},{"$f":"IF(ISBLANK('Data Input'!A623),\"\",SUM('Data Input'!F623,'Data Input'!R623,'Data Input'!AJ623))","v":""},{"$f":"IF(M618=\"\",\"\",M618/COUNTIF('Data Input'!$C$8:$AK$8,\"F\"))","v":""},{"$f":"IF(ISBLANK('Data Input'!A623),\"\",SUM('Data Input'!E623,'Data Input'!M623,'Data Input'!Q623,'Data Input'!V623,'Data Input'!W623,'Data Input'!AD623,'Data Input'!AH623))","v":""},{"$f":"IF(O618=\"\",\"\",O618/COUNTIF('Data Input'!$C$8:$AK$8,\"M\"))","v":""},{"$f":"IF(ISBLANK('Data Input'!A623),\"\",SUM('Data Input'!H623,'Data Input'!K623,'Data Input'!P623,'Data Input'!Y623))","v":""},{"$f":"IF(Q618=\"\",\"\",Q618/COUNTIF('Data Input'!$C$8:$AK$8,\"G\"))","v":""}]
[{"$f":"IF('Data Input'!A624=0,\"\",'Data Input'!A624)","v":""},{"$f":"IF(ISBLANK('Data Input'!A624),\"\",COUNTIF('Data Input'!C624:AK624,\"\"))","v":""},{"$f":"IF(ISBLANK('Data Input'!A624),\"\",COUNTIF('Data Input'!C624:AK624,\"0\"))","v":""},{"$f":"IF(ISBLANK('Data Input'!A624),\"\",SUM(B619,C619))","v":""},{"$f":"IF(ISBLANK('Data Input'!A624),\"\",SUM('Data Input'!C624:AK624))","v":""},{"$f":"IF(E619=\"\",\"\",E619/(COUNTA('Data Input'!$C$8:$AK$8)))","v":""},{"$f":"IF(ISBLANK('Data Input'!A624),\"\",SUM('Data Input'!C624,'Data Input'!D624,'Data Input'!J624,'Data Input'!X624))","v":""},{"$f":"IF(G619=\"\",\"\",G619/COUNTIF('Data Input'!$C$8:$AK$8,\"N\"))","v":""},{"$f":"IF(ISBLANK('Data Input'!A624),\"\",SUM('Data Input'!G624,'Data Input'!I624,'Data Input'!L624,'Data Input'!N624,'Data Input'!O624,'Data Input'!S624,'Data Input'!Z624,'Data Input'!AA624,'Data Input'!AB624,'Data Input'!AC624,'Data Input'!AE624,'Data Input'!AF624,'Data Input'!AG624,'Data Input'!AI624,'Data Input'!AK624))","v":""},{"$f":"IF(I619=\"\",\"\",I619/COUNTIF('Data Input'!$C$8:$AK$8,\"C\"))","v":""},{"$f":"IF(ISBLANK('Data Input'!A624),\"\",SUM('Data Input'!T624,'Data Input'!U624))","v":""},{"$f":"IF(K619=\"\",\"\",K619/COUNTIF('Data Input'!$C$8:$AK$8,\"S\"))","v":""},{"$f":"IF(ISBLANK('Data Input'!A624),\"\",SUM('Data Input'!F624,'Data Input'!R624,'Data Input'!AJ624))","v":""},{"$f":"IF(M619=\"\",\"\",M619/COUNTIF('Data Input'!$C$8:$AK$8,\"F\"))","v":""},{"$f":"IF(ISBLANK('Data Input'!A624),\"\",SUM('Data Input'!E624,'Data Input'!M624,'Data Input'!Q624,'Data Input'!V624,'Data Input'!W624,'Data Input'!AD624,'Data Input'!AH624))","v":""},{"$f":"IF(O619=\"\",\"\",O619/COUNTIF('Data Input'!$C$8:$AK$8,\"M\"))","v":""},{"$f":"IF(ISBLANK('Data Input'!A624),\"\",SUM('Data Input'!H624,'Data Input'!K624,'Data Input'!P624,'Data Input'!Y624))","v":""},{"$f":"IF(Q619=\"\",\"\",Q619/COUNTIF('Data Input'!$C$8:$AK$8,\"G\"))","v":""}]
[{"$f":"IF('Data Input'!A625=0,\"\",'Data Input'!A625)","v":""},{"$f":"IF(ISBLANK('Data Input'!A625),\"\",COUNTIF('Data Input'!C625:AK625,\"\"))","v":""},{"$f":"IF(ISBLANK('Data Input'!A625),\"\",COUNTIF('Data Input'!C625:AK625,\"0\"))","v":""},{"$f":"IF(ISBLANK('Data Input'!A625),\"\",SUM(B620,C620))","v":""},{"$f":"IF(ISBLANK('Data Input'!A625),\"\",SUM('Data Input'!C625:AK625))","v":""},{"$f":"IF(E620=\"\",\"\",E620/(COUNTA('Data Input'!$C$8:$AK$8)))","v":""},{"$f":"IF(ISBLANK('Data Input'!A625),\"\",SUM('Data Input'!C625,'Data Input'!D625,'Data Input'!J625,'Data Input'!X625))","v":""},{"$f":"IF(G620=\"\",\"\",G620/COUNTIF('Data Input'!$C$8:$AK$8,\"N\"))","v":""},{"$f":"IF(ISBLANK('Data Input'!A625),\"\",SUM('Data Input'!G625,'Data Input'!I625,'Data Input'!L625,'Data Input'!N625,'Data Input'!O625,'Data Input'!S625,'Data Input'!Z625,'Data Input'!AA625,'Data Input'!AB625,'Data Input'!AC625,'Data Input'!AE625,'Data Input'!AF625,'Data Input'!AG625,'Data Input'!AI625,'Data Input'!AK625))","v":""},{"$f":"IF(I620=\"\",\"\",I620/COUNTIF('Data Input'!$C$8:$AK$8,\"C\"))","v":""},{"$f":"IF(ISBLANK('Data Input'!A625),\"\",SUM('Data Input'!T625,'Data Input'!U625))","v":""},{"$f":"IF(K620=\"\",\"\",K620/COUNTIF('Data Input'!$C$8:$AK$8,\"S\"))","v":""},{"$f":"IF(ISBLANK('Data Input'!A625),\"\",SUM('Data Input'!F625,'Data Input'!R625,'Data Input'!AJ625))","v":""},{"$f":"IF(M620=\"\",\"\",M620/COUNTIF('Data Input'!$C$8:$AK$8,\"F\"))","v":""},{"$f":"IF(ISBLANK('Data Input'!A625),\"\",SUM('Data Input'!E625,'Data Input'!M625,'Data Input'!Q625,'Data Input'!V625,'Data Input'!W625,'Data Input'!AD625,'Data Input'!AH625))","v":""},{"$f":"IF(O620=\"\",\"\",O620/COUNTIF('Data Input'!$C$8:$AK$8,\"M\"))","v":""},{"$f":"IF(ISBLANK('Data Input'!A625),\"\",SUM('Data Input'!H625,'Data Input'!K625,'Data Input'!P625,'Data Input'!Y625))","v":""},{"$f":"IF(Q620=\"\",\"\",Q620/COUNTIF('Data Input'!$C$8:$AK$8,\"G\"))","v":""}]
[{"$f":"IF('Data Input'!A626=0,\"\",'Data Input'!A626)","v":""},{"$f":"IF(ISBLANK('Data Input'!A626),\"\",COUNTIF('Data Input'!C626:AK626,\"\"))","v":""},{"$f":"IF(ISBLANK('Data Input'!A626),\"\",COUNTIF('Data Input'!C626:AK626,\"0\"))","v":""},{"$f":"IF(ISBLANK('Data Input'!A626),\"\",SUM(B621,C621))","v":""},{"$f":"IF(ISBLANK('Data Input'!A626),\"\",SUM('Data Input'!C626:AK626))","v":""},{"$f":"IF(E621=\"\",\"\",E621/(COUNTA('Data Input'!$C$8:$AK$8)))","v":""},{"$f":"IF(ISBLANK('Data Input'!A626),\"\",SUM('Data Input'!C626,'Data Input'!D626,'Data Input'!J626,'Data Input'!X626))","v":""},{"$f":"IF(G621=\"\",\"\",G621/COUNTIF('Data Input'!$C$8:$AK$8,\"N\"))","v":""},{"$f":"IF(ISBLANK('Data Input'!A626),\"\",SUM('Data Input'!G626,'Data Input'!I626,'Data Input'!L626,'Data Input'!N626,'Data Input'!O626,'Data Input'!S626,'Data Input'!Z626,'Data Input'!AA626,'Data Input'!AB626,'Data Input'!AC626,'Data Input'!AE626,'Data Input'!AF626,'Data Input'!AG626,'Data Input'!AI626,'Data Input'!AK626))","v":""},{"$f":"IF(I621=\"\",\"\",I621/COUNTIF('Data Input'!$C$8:$AK$8,\"C\"))","v":""},{"$f":"IF(ISBLANK('Data Input'!A626),\"\",SUM('Data Input'!T626,'Data Input'!U626))","v":""},{"$f":"IF(K621=\"\",\"\",K621/COUNTIF('Data Input'!$C$8:$AK$8,\"S\"))","v":""},{"$f":"IF(ISBLANK('Data Input'!A626),\"\",SUM('Data Input'!F626,'Data Input'!R626,'Data Input'!AJ626))","v":""},{"$f":"IF(M621=\"\",\"\",M621/COUNTIF('Data Input'!$C$8:$AK$8,\"F\"))","v":""},{"$f":"IF(ISBLANK('Data Input'!A626),\"\",SUM('Data Input'!E626,'Data Input'!M626,'Data Input'!Q626,'Data Input'!V626,'Data Input'!W626,'Data Input'!AD626,'Data Input'!AH626))","v":""},{"$f":"IF(O621=\"\",\"\",O621/COUNTIF('Data Input'!$C$8:$AK$8,\"M\"))","v":""},{"$f":"IF(ISBLANK('Data Input'!A626),\"\",SUM('Data Input'!H626,'Data Input'!K626,'Data Input'!P626,'Data Input'!Y626))","v":""},{"$f":"IF(Q621=\"\",\"\",Q621/COUNTIF('Data Input'!$C$8:$AK$8,\"G\"))","v":""}]
[{"$f":"IF('Data Input'!A627=0,\"\",'Data Input'!A627)","v":""},{"$f":"IF(ISBLANK('Data Input'!A627),\"\",COUNTIF('Data Input'!C627:AK627,\"\"))","v":""},{"$f":"IF(ISBLANK('Data Input'!A627),\"\",COUNTIF('Data Input'!C627:AK627,\"0\"))","v":""},{"$f":"IF(ISBLANK('Data Input'!A627),\"\",SUM(B622,C622))","v":""},{"$f":"IF(ISBLANK('Data Input'!A627),\"\",SUM('Data Input'!C627:AK627))","v":""},{"$f":"IF(E622=\"\",\"\",E622/(COUNTA('Data Input'!$C$8:$AK$8)))","v":""},{"$f":"IF(ISBLANK('Data Input'!A627),\"\",SUM('Data Input'!C627,'Data Input'!D627,'Data Input'!J627,'Data Input'!X627))","v":""},{"$f":"IF(G622=\"\",\"\",G622/COUNTIF('Data Input'!$C$8:$AK$8,\"N\"))","v":""},{"$f":"IF(ISBLANK('Data Input'!A627),\"\",SUM('Data Input'!G627,'Data Input'!I627,'Data Input'!L627,'Data Input'!N627,'Data Input'!O627,'Data Input'!S627,'Data Input'!Z627,'Data Input'!AA627,'Data Input'!AB627,'Data Input'!AC627,'Data Input'!AE627,'Data Input'!AF627,'Data Input'!AG627,'Data Input'!AI627,'Data Input'!AK627))","v":""},{"$f":"IF(I622=\"\",\"\",I622/COUNTIF('Data Input'!$C$8:$AK$8,\"C\"))","v":""},{"$f":"IF(ISBLANK('Data Input'!A627),\"\",SUM('Data Input'!T627,'Data Input'!U627))","v":""},{"$f":"IF(K622=\"\",\"\",K622/COUNTIF('Data Input'!$C$8:$AK$8,\"S\"))","v":""},{"$f":"IF(ISBLANK('Data Input'!A627),\"\",SUM('Data Input'!F627,'Data Input'!R627,'Data Input'!AJ627))","v":""},{"$f":"IF(M622=\"\",\"\",M622/COUNTIF('Data Input'!$C$8:$AK$8,\"F\"))","v":""},{"$f":"IF(ISBLANK('Data Input'!A627),\"\",SUM('Data Input'!E627,'Data Input'!M627,'Data Input'!Q627,'Data Input'!V627,'Data Input'!W627,'Data Input'!AD627,'Data Input'!AH627))","v":""},{"$f":"IF(O622=\"\",\"\",O622/COUNTIF('Data Input'!$C$8:$AK$8,\"M\"))","v":""},{"$f":"IF(ISBLANK('Data Input'!A627),\"\",SUM('Data Input'!H627,'Data Input'!K627,'Data Input'!P627,'Data Input'!Y627))","v":""},{"$f":"IF(Q622=\"\",\"\",Q622/COUNTIF('Data Input'!$C$8:$AK$8,\"G\"))","v":""}]
[{"$f":"IF('Data Input'!A628=0,\"\",'Data Input'!A628)","v":""},{"$f":"IF(ISBLANK('Data Input'!A628),\"\",COUNTIF('Data Input'!C628:AK628,\"\"))","v":""},{"$f":"IF(ISBLANK('Data Input'!A628),\"\",COUNTIF('Data Input'!C628:AK628,\"0\"))","v":""},{"$f":"IF(ISBLANK('Data Input'!A628),\"\",SUM(B623,C623))","v":""},{"$f":"IF(ISBLANK('Data Input'!A628),\"\",SUM('Data Input'!C628:AK628))","v":""},{"$f":"IF(E623=\"\",\"\",E623/(COUNTA('Data Input'!$C$8:$AK$8)))","v":""},{"$f":"IF(ISBLANK('Data Input'!A628),\"\",SUM('Data Input'!C628,'Data Input'!D628,'Data Input'!J628,'Data Input'!X628))","v":""},{"$f":"IF(G623=\"\",\"\",G623/COUNTIF('Data Input'!$C$8:$AK$8,\"N\"))","v":""},{"$f":"IF(ISBLANK('Data Input'!A628),\"\",SUM('Data Input'!G628,'Data Input'!I628,'Data Input'!L628,'Data Input'!N628,'Data Input'!O628,'Data Input'!S628,'Data Input'!Z628,'Data Input'!AA628,'Data Input'!AB628,'Data Input'!AC628,'Data Input'!AE628,'Data Input'!AF628,'Data Input'!AG628,'Data Input'!AI628,'Data Input'!AK628))","v":""},{"$f":"IF(I623=\"\",\"\",I623/COUNTIF('Data Input'!$C$8:$AK$8,\"C\"))","v":""},{"$f":"IF(ISBLANK('Data Input'!A628),\"\",SUM('Data Input'!T628,'Data Input'!U628))","v":""},{"$f":"IF(K623=\"\",\"\",K623/COUNTIF('Data Input'!$C$8:$AK$8,\"S\"))","v":""},{"$f":"IF(ISBLANK('Data Input'!A628),\"\",SUM('Data Input'!F628,'Data Input'!R628,'Data Input'!AJ628))","v":""},{"$f":"IF(M623=\"\",\"\",M623/COUNTIF('Data Input'!$C$8:$AK$8,\"F\"))","v":""},{"$f":"IF(ISBLANK('Data Input'!A628),\"\",SUM('Data Input'!E628,'Data Input'!M628,'Data Input'!Q628,'Data Input'!V628,'Data Input'!W628,'Data Input'!AD628,'Data Input'!AH628))","v":""},{"$f":"IF(O623=\"\",\"\",O623/COUNTIF('Data Input'!$C$8:$AK$8,\"M\"))","v":""},{"$f":"IF(ISBLANK('Data Input'!A628),\"\",SUM('Data Input'!H628,'Data Input'!K628,'Data Input'!P628,'Data Input'!Y628))","v":""},{"$f":"IF(Q623=\"\",\"\",Q623/COUNTIF('Data Input'!$C$8:$AK$8,\"G\"))","v":""}]
[{"$f":"IF('Data Input'!A629=0,\"\",'Data Input'!A629)","v":""},{"$f":"IF(ISBLANK('Data Input'!A629),\"\",COUNTIF('Data Input'!C629:AK629,\"\"))","v":""},{"$f":"IF(ISBLANK('Data Input'!A629),\"\",COUNTIF('Data Input'!C629:AK629,\"0\"))","v":""},{"$f":"IF(ISBLANK('Data Input'!A629),\"\",SUM(B624,C624))","v":""},{"$f":"IF(ISBLANK('Data Input'!A629),\"\",SUM('Data Input'!C629:AK629))","v":""},{"$f":"IF(E624=\"\",\"\",E624/(COUNTA('Data Input'!$C$8:$AK$8)))","v":""},{"$f":"IF(ISBLANK('Data Input'!A629),\"\",SUM('Data Input'!C629,'Data Input'!D629,'Data Input'!J629,'Data Input'!X629))","v":""},{"$f":"IF(G624=\"\",\"\",G624/COUNTIF('Data Input'!$C$8:$AK$8,\"N\"))","v":""},{"$f":"IF(ISBLANK('Data Input'!A629),\"\",SUM('Data Input'!G629,'Data Input'!I629,'Data Input'!L629,'Data Input'!N629,'Data Input'!O629,'Data Input'!S629,'Data Input'!Z629,'Data Input'!AA629,'Data Input'!AB629,'Data Input'!AC629,'Data Input'!AE629,'Data Input'!AF629,'Data Input'!AG629,'Data Input'!AI629,'Data Input'!AK629))","v":""},{"$f":"IF(I624=\"\",\"\",I624/COUNTIF('Data Input'!$C$8:$AK$8,\"C\"))","v":""},{"$f":"IF(ISBLANK('Data Input'!A629),\"\",SUM('Data Input'!T629,'Data Input'!U629))","v":""},{"$f":"IF(K624=\"\",\"\",K624/COUNTIF('Data Input'!$C$8:$AK$8,\"S\"))","v":""},{"$f":"IF(ISBLANK('Data Input'!A629),\"\",SUM('Data Input'!F629,'Data Input'!R629,'Data Input'!AJ629))","v":""},{"$f":"IF(M624=\"\",\"\",M624/COUNTIF('Data Input'!$C$8:$AK$8,\"F\"))","v":""},{"$f":"IF(ISBLANK('Data Input'!A629),\"\",SUM('Data Input'!E629,'Data Input'!M629,'Data Input'!Q629,'Data Input'!V629,'Data Input'!W629,'Data Input'!AD629,'Data Input'!AH629))","v":""},{"$f":"IF(O624=\"\",\"\",O624/COUNTIF('Data Input'!$C$8:$AK$8,\"M\"))","v":""},{"$f":"IF(ISBLANK('Data Input'!A629),\"\",SUM('Data Input'!H629,'Data Input'!K629,'Data Input'!P629,'Data Input'!Y629))","v":""},{"$f":"IF(Q624=\"\",\"\",Q624/COUNTIF('Data Input'!$C$8:$AK$8,\"G\"))","v":""}]
[{"$f":"IF('Data Input'!A630=0,\"\",'Data Input'!A630)","v":""},{"$f":"IF(ISBLANK('Data Input'!A630),\"\",COUNTIF('Data Input'!C630:AK630,\"\"))","v":""},{"$f":"IF(ISBLANK('Data Input'!A630),\"\",COUNTIF('Data Input'!C630:AK630,\"0\"))","v":""},{"$f":"IF(ISBLANK('Data Input'!A630),\"\",SUM(B625,C625))","v":""},{"$f":"IF(ISBLANK('Data Input'!A630),\"\",SUM('Data Input'!C630:AK630))","v":""},{"$f":"IF(E625=\"\",\"\",E625/(COUNTA('Data Input'!$C$8:$AK$8)))","v":""},{"$f":"IF(ISBLANK('Data Input'!A630),\"\",SUM('Data Input'!C630,'Data Input'!D630,'Data Input'!J630,'Data Input'!X630))","v":""},{"$f":"IF(G625=\"\",\"\",G625/COUNTIF('Data Input'!$C$8:$AK$8,\"N\"))","v":""},{"$f":"IF(ISBLANK('Data Input'!A630),\"\",SUM('Data Input'!G630,'Data Input'!I630,'Data Input'!L630,'Data Input'!N630,'Data Input'!O630,'Data Input'!S630,'Data Input'!Z630,'Data Input'!AA630,'Data Input'!AB630,'Data Input'!AC630,'Data Input'!AE630,'Data Input'!AF630,'Data Input'!AG630,'Data Input'!AI630,'Data Input'!AK630))","v":""},{"$f":"IF(I625=\"\",\"\",I625/COUNTIF('Data Input'!$C$8:$AK$8,\"C\"))","v":""},{"$f":"IF(ISBLANK('Data Input'!A630),\"\",SUM('Data Input'!T630,'Data Input'!U630))","v":""},{"$f":"IF(K625=\"\",\"\",K625/COUNTIF('Data Input'!$C$8:$AK$8,\"S\"))","v":""},{"$f":"IF(ISBLANK('Data Input'!A630),\"\",SUM('Data Input'!F630,'Data Input'!R630,'Data Input'!AJ630))","v":""},{"$f":"IF(M625=\"\",\"\",M625/COUNTIF('Data Input'!$C$8:$AK$8,\"F\"))","v":""},{"$f":"IF(ISBLANK('Data Input'!A630),\"\",SUM('Data Input'!E630,'Data Input'!M630,'Data Input'!Q630,'Data Input'!V630,'Data Input'!W630,'Data Input'!AD630,'Data Input'!AH630))","v":""},{"$f":"IF(O625=\"\",\"\",O625/COUNTIF('Data Input'!$C$8:$AK$8,\"M\"))","v":""},{"$f":"IF(ISBLANK('Data Input'!A630),\"\",SUM('Data Input'!H630,'Data Input'!K630,'Data Input'!P630,'Data Input'!Y630))","v":""},{"$f":"IF(Q625=\"\",\"\",Q625/COUNTIF('Data Input'!$C$8:$AK$8,\"G\"))","v":""}]
[{"$f":"IF('Data Input'!A631=0,\"\",'Data Input'!A631)","v":""},{"$f":"IF(ISBLANK('Data Input'!A631),\"\",COUNTIF('Data Input'!C631:AK631,\"\"))","v":""},{"$f":"IF(ISBLANK('Data Input'!A631),\"\",COUNTIF('Data Input'!C631:AK631,\"0\"))","v":""},{"$f":"IF(ISBLANK('Data Input'!A631),\"\",SUM(B626,C626))","v":""},{"$f":"IF(ISBLANK('Data Input'!A631),\"\",SUM('Data Input'!C631:AK631))","v":""},{"$f":"IF(E626=\"\",\"\",E626/(COUNTA('Data Input'!$C$8:$AK$8)))","v":""},{"$f":"IF(ISBLANK('Data Input'!A631),\"\",SUM('Data Input'!C631,'Data Input'!D631,'Data Input'!J631,'Data Input'!X631))","v":""},{"$f":"IF(G626=\"\",\"\",G626/COUNTIF('Data Input'!$C$8:$AK$8,\"N\"))","v":""},{"$f":"IF(ISBLANK('Data Input'!A631),\"\",SUM('Data Input'!G631,'Data Input'!I631,'Data Input'!L631,'Data Input'!N631,'Data Input'!O631,'Data Input'!S631,'Data Input'!Z631,'Data Input'!AA631,'Data Input'!AB631,'Data Input'!AC631,'Data Input'!AE631,'Data Input'!AF631,'Data Input'!AG631,'Data Input'!AI631,'Data Input'!AK631))","v":""},{"$f":"IF(I626=\"\",\"\",I626/COUNTIF('Data Input'!$C$8:$AK$8,\"C\"))","v":""},{"$f":"IF(ISBLANK('Data Input'!A631),\"\",SUM('Data Input'!T631,'Data Input'!U631))","v":""},{"$f":"IF(K626=\"\",\"\",K626/COUNTIF('Data Input'!$C$8:$AK$8,\"S\"))","v":""},{"$f":"IF(ISBLANK('Data Input'!A631),\"\",SUM('Data Input'!F631,'Data Input'!R631,'Data Input'!AJ631))","v":""},{"$f":"IF(M626=\"\",\"\",M626/COUNTIF('Data Input'!$C$8:$AK$8,\"F\"))","v":""},{"$f":"IF(ISBLANK('Data Input'!A631),\"\",SUM('Data Input'!E631,'Data Input'!M631,'Data Input'!Q631,'Data Input'!V631,'Data Input'!W631,'Data Input'!AD631,'Data Input'!AH631))","v":""},{"$f":"IF(O626=\"\",\"\",O626/COUNTIF('Data Input'!$C$8:$AK$8,\"M\"))","v":""},{"$f":"IF(ISBLANK('Data Input'!A631),\"\",SUM('Data Input'!H631,'Data Input'!K631,'Data Input'!P631,'Data Input'!Y631))","v":""},{"$f":"IF(Q626=\"\",\"\",Q626/COUNTIF('Data Input'!$C$8:$AK$8,\"G\"))","v":""}]
[{"$f":"IF('Data Input'!A632=0,\"\",'Data Input'!A632)","v":""},{"$f":"IF(ISBLANK('Data Input'!A632),\"\",COUNTIF('Data Input'!C632:AK632,\"\"))","v":""},{"$f":"IF(ISBLANK('Data Input'!A632),\"\",COUNTIF('Data Input'!C632:AK632,\"0\"))","v":""},{"$f":"IF(ISBLANK('Data Input'!A632),\"\",SUM(B627,C627))","v":""},{"$f":"IF(ISBLANK('Data Input'!A632),\"\",SUM('Data Input'!C632:AK632))","v":""},{"$f":"IF(E627=\"\",\"\",E627/(COUNTA('Data Input'!$C$8:$AK$8)))","v":""},{"$f":"IF(ISBLANK('Data Input'!A632),\"\",SUM('Data Input'!C632,'Data Input'!D632,'Data Input'!J632,'Data Input'!X632))","v":""},{"$f":"IF(G627=\"\",\"\",G627/COUNTIF('Data Input'!$C$8:$AK$8,\"N\"))","v":""},{"$f":"IF(ISBLANK('Data Input'!A632),\"\",SUM('Data Input'!G632,'Data Input'!I632,'Data Input'!L632,'Data Input'!N632,'Data Input'!O632,'Data Input'!S632,'Data Input'!Z632,'Data Input'!AA632,'Data Input'!AB632,'Data Input'!AC632,'Data Input'!AE632,'Data Input'!AF632,'Data Input'!AG632,'Data Input'!AI632,'Data Input'!AK632))","v":""},{"$f":"IF(I627=\"\",\"\",I627/COUNTIF('Data Input'!$C$8:$AK$8,\"C\"))","v":""},{"$f":"IF(ISBLANK('Data Input'!A632),\"\",SUM('Data Input'!T632,'Data Input'!U632))","v":""},{"$f":"IF(K627=\"\",\"\",K627/COUNTIF('Data Input'!$C$8:$AK$8,\"S\"))","v":""},{"$f":"IF(ISBLANK('Data Input'!A632),\"\",SUM('Data Input'!F632,'Data Input'!R632,'Data Input'!AJ632))","v":""},{"$f":"IF(M627=\"\",\"\",M627/COUNTIF('Data Input'!$C$8:$AK$8,\"F\"))","v":""},{"$f":"IF(ISBLANK('Data Input'!A632),\"\",SUM('Data Input'!E632,'Data Input'!M632,'Data Input'!Q632,'Data Input'!V632,'Data Input'!W632,'Data Input'!AD632,'Data Input'!AH632))","v":""},{"$f":"IF(O627=\"\",\"\",O627/COUNTIF('Data Input'!$C$8:$AK$8,\"M\"))","v":""},{"$f":"IF(ISBLANK('Data Input'!A632),\"\",SUM('Data Input'!H632,'Data Input'!K632,'Data Input'!P632,'Data Input'!Y632))","v":""},{"$f":"IF(Q627=\"\",\"\",Q627/COUNTIF('Data Input'!$C$8:$AK$8,\"G\"))","v":""}]
[{"$f":"IF('Data Input'!A633=0,\"\",'Data Input'!A633)","v":""},{"$f":"IF(ISBLANK('Data Input'!A633),\"\",COUNTIF('Data Input'!C633:AK633,\"\"))","v":""},{"$f":"IF(ISBLANK('Data Input'!A633),\"\",COUNTIF('Data Input'!C633:AK633,\"0\"))","v":""},{"$f":"IF(ISBLANK('Data Input'!A633),\"\",SUM(B628,C628))","v":""},{"$f":"IF(ISBLANK('Data Input'!A633),\"\",SUM('Data Input'!C633:AK633))","v":""},{"$f":"IF(E628=\"\",\"\",E628/(COUNTA('Data Input'!$C$8:$AK$8)))","v":""},{"$f":"IF(ISBLANK('Data Input'!A633),\"\",SUM('Data Input'!C633,'Data Input'!D633,'Data Input'!J633,'Data Input'!X633))","v":""},{"$f":"IF(G628=\"\",\"\",G628/COUNTIF('Data Input'!$C$8:$AK$8,\"N\"))","v":""},{"$f":"IF(ISBLANK('Data Input'!A633),\"\",SUM('Data Input'!G633,'Data Input'!I633,'Data Input'!L633,'Data Input'!N633,'Data Input'!O633,'Data Input'!S633,'Data Input'!Z633,'Data Input'!AA633,'Data Input'!AB633,'Data Input'!AC633,'Data Input'!AE633,'Data Input'!AF633,'Data Input'!AG633,'Data Input'!AI633,'Data Input'!AK633))","v":""},{"$f":"IF(I628=\"\",\"\",I628/COUNTIF('Data Input'!$C$8:$AK$8,\"C\"))","v":""},{"$f":"IF(ISBLANK('Data Input'!A633),\"\",SUM('Data Input'!T633,'Data Input'!U633))","v":""},{"$f":"IF(K628=\"\",\"\",K628/COUNTIF('Data Input'!$C$8:$AK$8,\"S\"))","v":""},{"$f":"IF(ISBLANK('Data Input'!A633),\"\",SUM('Data Input'!F633,'Data Input'!R633,'Data Input'!AJ633))","v":""},{"$f":"IF(M628=\"\",\"\",M628/COUNTIF('Data Input'!$C$8:$AK$8,\"F\"))","v":""},{"$f":"IF(ISBLANK('Data Input'!A633),\"\",SUM('Data Input'!E633,'Data Input'!M633,'Data Input'!Q633,'Data Input'!V633,'Data Input'!W633,'Data Input'!AD633,'Data Input'!AH633))","v":""},{"$f":"IF(O628=\"\",\"\",O628/COUNTIF('Data Input'!$C$8:$AK$8,\"M\"))","v":""},{"$f":"IF(ISBLANK('Data Input'!A633),\"\",SUM('Data Input'!H633,'Data Input'!K633,'Data Input'!P633,'Data Input'!Y633))","v":""},{"$f":"IF(Q628=\"\",\"\",Q628/COUNTIF('Data Input'!$C$8:$AK$8,\"G\"))","v":""}]
[{"$f":"IF('Data Input'!A634=0,\"\",'Data Input'!A634)","v":""},{"$f":"IF(ISBLANK('Data Input'!A634),\"\",COUNTIF('Data Input'!C634:AK634,\"\"))","v":""},{"$f":"IF(ISBLANK('Data Input'!A634),\"\",COUNTIF('Data Input'!C634:AK634,\"0\"))","v":""},{"$f":"IF(ISBLANK('Data Input'!A634),\"\",SUM(B629,C629))","v":""},{"$f":"IF(ISBLANK('Data Input'!A634),\"\",SUM('Data Input'!C634:AK634))","v":""},{"$f":"IF(E629=\"\",\"\",E629/(COUNTA('Data Input'!$C$8:$AK$8)))","v":""},{"$f":"IF(ISBLANK('Data Input'!A634),\"\",SUM('Data Input'!C634,'Data Input'!D634,'Data Input'!J634,'Data Input'!X634))","v":""},{"$f":"IF(G629=\"\",\"\",G629/COUNTIF('Data Input'!$C$8:$AK$8,\"N\"))","v":""},{"$f":"IF(ISBLANK('Data Input'!A634),\"\",SUM('Data Input'!G634,'Data Input'!I634,'Data Input'!L634,'Data Input'!N634,'Data Input'!O634,'Data Input'!S634,'Data Input'!Z634,'Data Input'!AA634,'Data Input'!AB634,'Data Input'!AC634,'Data Input'!AE634,'Data Input'!AF634,'Data Input'!AG634,'Data Input'!AI634,'Data Input'!AK634))","v":""},{"$f":"IF(I629=\"\",\"\",I629/COUNTIF('Data Input'!$C$8:$AK$8,\"C\"))","v":""},{"$f":"IF(ISBLANK('Data Input'!A634),\"\",SUM('Data Input'!T634,'Data Input'!U634))","v":""},{"$f":"IF(K629=\"\",\"\",K629/COUNTIF('Data Input'!$C$8:$AK$8,\"S\"))","v":""},{"$f":"IF(ISBLANK('Data Input'!A634),\"\",SUM('Data Input'!F634,'Data Input'!R634,'Data Input'!AJ634))","v":""},{"$f":"IF(M629=\"\",\"\",M629/COUNTIF('Data Input'!$C$8:$AK$8,\"F\"))","v":""},{"$f":"IF(ISBLANK('Data Input'!A634),\"\",SUM('Data Input'!E634,'Data Input'!M634,'Data Input'!Q634,'Data Input'!V634,'Data Input'!W634,'Data Input'!AD634,'Data Input'!AH634))","v":""},{"$f":"IF(O629=\"\",\"\",O629/COUNTIF('Data Input'!$C$8:$AK$8,\"M\"))","v":""},{"$f":"IF(ISBLANK('Data Input'!A634),\"\",SUM('Data Input'!H634,'Data Input'!K634,'Data Input'!P634,'Data Input'!Y634))","v":""},{"$f":"IF(Q629=\"\",\"\",Q629/COUNTIF('Data Input'!$C$8:$AK$8,\"G\"))","v":""}]
[{"$f":"IF('Data Input'!A635=0,\"\",'Data Input'!A635)","v":""},{"$f":"IF(ISBLANK('Data Input'!A635),\"\",COUNTIF('Data Input'!C635:AK635,\"\"))","v":""},{"$f":"IF(ISBLANK('Data Input'!A635),\"\",COUNTIF('Data Input'!C635:AK635,\"0\"))","v":""},{"$f":"IF(ISBLANK('Data Input'!A635),\"\",SUM(B630,C630))","v":""},{"$f":"IF(ISBLANK('Data Input'!A635),\"\",SUM('Data Input'!C635:AK635))","v":""},{"$f":"IF(E630=\"\",\"\",E630/(COUNTA('Data Input'!$C$8:$AK$8)))","v":""},{"$f":"IF(ISBLANK('Data Input'!A635),\"\",SUM('Data Input'!C635,'Data Input'!D635,'Data Input'!J635,'Data Input'!X635))","v":""},{"$f":"IF(G630=\"\",\"\",G630/COUNTIF('Data Input'!$C$8:$AK$8,\"N\"))","v":""},{"$f":"IF(ISBLANK('Data Input'!A635),\"\",SUM('Data Input'!G635,'Data Input'!I635,'Data Input'!L635,'Data Input'!N635,'Data Input'!O635,'Data Input'!S635,'Data Input'!Z635,'Data Input'!AA635,'Data Input'!AB635,'Data Input'!AC635,'Data Input'!AE635,'Data Input'!AF635,'Data Input'!AG635,'Data Input'!AI635,'Data Input'!AK635))","v":""},{"$f":"IF(I630=\"\",\"\",I630/COUNTIF('Data Input'!$C$8:$AK$8,\"C\"))","v":""},{"$f":"IF(ISBLANK('Data Input'!A635),\"\",SUM('Data Input'!T635,'Data Input'!U635))","v":""},{"$f":"IF(K630=\"\",\"\",K630/COUNTIF('Data Input'!$C$8:$AK$8,\"S\"))","v":""},{"$f":"IF(ISBLANK('Data Input'!A635),\"\",SUM('Data Input'!F635,'Data Input'!R635,'Data Input'!AJ635))","v":""},{"$f":"IF(M630=\"\",\"\",M630/COUNTIF('Data Input'!$C$8:$AK$8,\"F\"))","v":""},{"$f":"IF(ISBLANK('Data Input'!A635),\"\",SUM('Data Input'!E635,'Data Input'!M635,'Data Input'!Q635,'Data Input'!V635,'Data Input'!W635,'Data Input'!AD635,'Data Input'!AH635))","v":""},{"$f":"IF(O630=\"\",\"\",O630/COUNTIF('Data Input'!$C$8:$AK$8,\"M\"))","v":""},{"$f":"IF(ISBLANK('Data Input'!A635),\"\",SUM('Data Input'!H635,'Data Input'!K635,'Data Input'!P635,'Data Input'!Y635))","v":""},{"$f":"IF(Q630=\"\",\"\",Q630/COUNTIF('Data Input'!$C$8:$AK$8,\"G\"))","v":""}]
[{"$f":"IF('Data Input'!A636=0,\"\",'Data Input'!A636)","v":""},{"$f":"IF(ISBLANK('Data Input'!A636),\"\",COUNTIF('Data Input'!C636:AK636,\"\"))","v":""},{"$f":"IF(ISBLANK('Data Input'!A636),\"\",COUNTIF('Data Input'!C636:AK636,\"0\"))","v":""},{"$f":"IF(ISBLANK('Data Input'!A636),\"\",SUM(B631,C631))","v":""},{"$f":"IF(ISBLANK('Data Input'!A636),\"\",SUM('Data Input'!C636:AK636))","v":""},{"$f":"IF(E631=\"\",\"\",E631/(COUNTA('Data Input'!$C$8:$AK$8)))","v":""},{"$f":"IF(ISBLANK('Data Input'!A636),\"\",SUM('Data Input'!C636,'Data Input'!D636,'Data Input'!J636,'Data Input'!X636))","v":""},{"$f":"IF(G631=\"\",\"\",G631/COUNTIF('Data Input'!$C$8:$AK$8,\"N\"))","v":""},{"$f":"IF(ISBLANK('Data Input'!A636),\"\",SUM('Data Input'!G636,'Data Input'!I636,'Data Input'!L636,'Data Input'!N636,'Data Input'!O636,'Data Input'!S636,'Data Input'!Z636,'Data Input'!AA636,'Data Input'!AB636,'Data Input'!AC636,'Data Input'!AE636,'Data Input'!AF636,'Data Input'!AG636,'Data Input'!AI636,'Data Input'!AK636))","v":""},{"$f":"IF(I631=\"\",\"\",I631/COUNTIF('Data Input'!$C$8:$AK$8,\"C\"))","v":""},{"$f":"IF(ISBLANK('Data Input'!A636),\"\",SUM('Data Input'!T636,'Data Input'!U636))","v":""},{"$f":"IF(K631=\"\",\"\",K631/COUNTIF('Data Input'!$C$8:$AK$8,\"S\"))","v":""},{"$f":"IF(ISBLANK('Data Input'!A636),\"\",SUM('Data Input'!F636,'Data Input'!R636,'Data Input'!AJ636))","v":""},{"$f":"IF(M631=\"\",\"\",M631/COUNTIF('Data Input'!$C$8:$AK$8,\"F\"))","v":""},{"$f":"IF(ISBLANK('Data Input'!A636),\"\",SUM('Data Input'!E636,'Data Input'!M636,'Data Input'!Q636,'Data Input'!V636,'Data Input'!W636,'Data Input'!AD636,'Data Input'!AH636))","v":""},{"$f":"IF(O631=\"\",\"\",O631/COUNTIF('Data Input'!$C$8:$AK$8,\"M\"))","v":""},{"$f":"IF(ISBLANK('Data Input'!A636),\"\",SUM('Data Input'!H636,'Data Input'!K636,'Data Input'!P636,'Data Input'!Y636))","v":""},{"$f":"IF(Q631=\"\",\"\",Q631/COUNTIF('Data Input'!$C$8:$AK$8,\"G\"))","v":""}]
[{"$f":"IF('Data Input'!A637=0,\"\",'Data Input'!A637)","v":""},{"$f":"IF(ISBLANK('Data Input'!A637),\"\",COUNTIF('Data Input'!C637:AK637,\"\"))","v":""},{"$f":"IF(ISBLANK('Data Input'!A637),\"\",COUNTIF('Data Input'!C637:AK637,\"0\"))","v":""},{"$f":"IF(ISBLANK('Data Input'!A637),\"\",SUM(B632,C632))","v":""},{"$f":"IF(ISBLANK('Data Input'!A637),\"\",SUM('Data Input'!C637:AK637))","v":""},{"$f":"IF(E632=\"\",\"\",E632/(COUNTA('Data Input'!$C$8:$AK$8)))","v":""},{"$f":"IF(ISBLANK('Data Input'!A637),\"\",SUM('Data Input'!C637,'Data Input'!D637,'Data Input'!J637,'Data Input'!X637))","v":""},{"$f":"IF(G632=\"\",\"\",G632/COUNTIF('Data Input'!$C$8:$AK$8,\"N\"))","v":""},{"$f":"IF(ISBLANK('Data Input'!A637),\"\",SUM('Data Input'!G637,'Data Input'!I637,'Data Input'!L637,'Data Input'!N637,'Data Input'!O637,'Data Input'!S637,'Data Input'!Z637,'Data Input'!AA637,'Data Input'!AB637,'Data Input'!AC637,'Data Input'!AE637,'Data Input'!AF637,'Data Input'!AG637,'Data Input'!AI637,'Data Input'!AK637))","v":""},{"$f":"IF(I632=\"\",\"\",I632/COUNTIF('Data Input'!$C$8:$AK$8,\"C\"))","v":""},{"$f":"IF(ISBLANK('Data Input'!A637),\"\",SUM('Data Input'!T637,'Data Input'!U637))","v":""},{"$f":"IF(K632=\"\",\"\",K632/COUNTIF('Data Input'!$C$8:$AK$8,\"S\"))","v":""},{"$f":"IF(ISBLANK('Data Input'!A637),\"\",SUM('Data Input'!F637,'Data Input'!R637,'Data Input'!AJ637))","v":""},{"$f":"IF(M632=\"\",\"\",M632/COUNTIF('Data Input'!$C$8:$AK$8,\"F\"))","v":""},{"$f":"IF(ISBLANK('Data Input'!A637),\"\",SUM('Data Input'!E637,'Data Input'!M637,'Data Input'!Q637,'Data Input'!V637,'Data Input'!W637,'Data Input'!AD637,'Data Input'!AH637))","v":""},{"$f":"IF(O632=\"\",\"\",O632/COUNTIF('Data Input'!$C$8:$AK$8,\"M\"))","v":""},{"$f":"IF(ISBLANK('Data Input'!A637),\"\",SUM('Data Input'!H637,'Data Input'!K637,'Data Input'!P637,'Data Input'!Y637))","v":""},{"$f":"IF(Q632=\"\",\"\",Q632/COUNTIF('Data Input'!$C$8:$AK$8,\"G\"))","v":""}]
[{"$f":"IF('Data Input'!A638=0,\"\",'Data Input'!A638)","v":""},{"$f":"IF(ISBLANK('Data Input'!A638),\"\",COUNTIF('Data Input'!C638:AK638,\"\"))","v":""},{"$f":"IF(ISBLANK('Data Input'!A638),\"\",COUNTIF('Data Input'!C638:AK638,\"0\"))","v":""},{"$f":"IF(ISBLANK('Data Input'!A638),\"\",SUM(B633,C633))","v":""},{"$f":"IF(ISBLANK('Data Input'!A638),\"\",SUM('Data Input'!C638:AK638))","v":""},{"$f":"IF(E633=\"\",\"\",E633/(COUNTA('Data Input'!$C$8:$AK$8)))","v":""},{"$f":"IF(ISBLANK('Data Input'!A638),\"\",SUM('Data Input'!C638,'Data Input'!D638,'Data Input'!J638,'Data Input'!X638))","v":""},{"$f":"IF(G633=\"\",\"\",G633/COUNTIF('Data Input'!$C$8:$AK$8,\"N\"))","v":""},{"$f":"IF(ISBLANK('Data Input'!A638),\"\",SUM('Data Input'!G638,'Data Input'!I638,'Data Input'!L638,'Data Input'!N638,'Data Input'!O638,'Data Input'!S638,'Data Input'!Z638,'Data Input'!AA638,'Data Input'!AB638,'Data Input'!AC638,'Data Input'!AE638,'Data Input'!AF638,'Data Input'!AG638,'Data Input'!AI638,'Data Input'!AK638))","v":""},{"$f":"IF(I633=\"\",\"\",I633/COUNTIF('Data Input'!$C$8:$AK$8,\"C\"))","v":""},{"$f":"IF(ISBLANK('Data Input'!A638),\"\",SUM('Data Input'!T638,'Data Input'!U638))","v":""},{"$f":"IF(K633=\"\",\"\",K633/COUNTIF('Data Input'!$C$8:$AK$8,\"S\"))","v":""},{"$f":"IF(ISBLANK('Data Input'!A638),\"\",SUM('Data Input'!F638,'Data Input'!R638,'Data Input'!AJ638))","v":""},{"$f":"IF(M633=\"\",\"\",M633/COUNTIF('Data Input'!$C$8:$AK$8,\"F\"))","v":""},{"$f":"IF(ISBLANK('Data Input'!A638),\"\",SUM('Data Input'!E638,'Data Input'!M638,'Data Input'!Q638,'Data Input'!V638,'Data Input'!W638,'Data Input'!AD638,'Data Input'!AH638))","v":""},{"$f":"IF(O633=\"\",\"\",O633/COUNTIF('Data Input'!$C$8:$AK$8,\"M\"))","v":""},{"$f":"IF(ISBLANK('Data Input'!A638),\"\",SUM('Data Input'!H638,'Data Input'!K638,'Data Input'!P638,'Data Input'!Y638))","v":""},{"$f":"IF(Q633=\"\",\"\",Q633/COUNTIF('Data Input'!$C$8:$AK$8,\"G\"))","v":""}]
[{"$f":"IF('Data Input'!A639=0,\"\",'Data Input'!A639)","v":""},{"$f":"IF(ISBLANK('Data Input'!A639),\"\",COUNTIF('Data Input'!C639:AK639,\"\"))","v":""},{"$f":"IF(ISBLANK('Data Input'!A639),\"\",COUNTIF('Data Input'!C639:AK639,\"0\"))","v":""},{"$f":"IF(ISBLANK('Data Input'!A639),\"\",SUM(B634,C634))","v":""},{"$f":"IF(ISBLANK('Data Input'!A639),\"\",SUM('Data Input'!C639:AK639))","v":""},{"$f":"IF(E634=\"\",\"\",E634/(COUNTA('Data Input'!$C$8:$AK$8)))","v":""},{"$f":"IF(ISBLANK('Data Input'!A639),\"\",SUM('Data Input'!C639,'Data Input'!D639,'Data Input'!J639,'Data Input'!X639))","v":""},{"$f":"IF(G634=\"\",\"\",G634/COUNTIF('Data Input'!$C$8:$AK$8,\"N\"))","v":""},{"$f":"IF(ISBLANK('Data Input'!A639),\"\",SUM('Data Input'!G639,'Data Input'!I639,'Data Input'!L639,'Data Input'!N639,'Data Input'!O639,'Data Input'!S639,'Data Input'!Z639,'Data Input'!AA639,'Data Input'!AB639,'Data Input'!AC639,'Data Input'!AE639,'Data Input'!AF639,'Data Input'!AG639,'Data Input'!AI639,'Data Input'!AK639))","v":""},{"$f":"IF(I634=\"\",\"\",I634/COUNTIF('Data Input'!$C$8:$AK$8,\"C\"))","v":""},{"$f":"IF(ISBLANK('Data Input'!A639),\"\",SUM('Data Input'!T639,'Data Input'!U639))","v":""},{"$f":"IF(K634=\"\",\"\",K634/COUNTIF('Data Input'!$C$8:$AK$8,\"S\"))","v":""},{"$f":"IF(ISBLANK('Data Input'!A639),\"\",SUM('Data Input'!F639,'Data Input'!R639,'Data Input'!AJ639))","v":""},{"$f":"IF(M634=\"\",\"\",M634/COUNTIF('Data Input'!$C$8:$AK$8,\"F\"))","v":""},{"$f":"IF(ISBLANK('Data Input'!A639),\"\",SUM('Data Input'!E639,'Data Input'!M639,'Data Input'!Q639,'Data Input'!V639,'Data Input'!W639,'Data Input'!AD639,'Data Input'!AH639))","v":""},{"$f":"IF(O634=\"\",\"\",O634/COUNTIF('Data Input'!$C$8:$AK$8,\"M\"))","v":""},{"$f":"IF(ISBLANK('Data Input'!A639),\"\",SUM('Data Input'!H639,'Data Input'!K639,'Data Input'!P639,'Data Input'!Y639))","v":""},{"$f":"IF(Q634=\"\",\"\",Q634/COUNTIF('Data Input'!$C$8:$AK$8,\"G\"))","v":""}]
[{"$f":"IF('Data Input'!A640=0,\"\",'Data Input'!A640)","v":""},{"$f":"IF(ISBLANK('Data Input'!A640),\"\",COUNTIF('Data Input'!C640:AK640,\"\"))","v":""},{"$f":"IF(ISBLANK('Data Input'!A640),\"\",COUNTIF('Data Input'!C640:AK640,\"0\"))","v":""},{"$f":"IF(ISBLANK('Data Input'!A640),\"\",SUM(B635,C635))","v":""},{"$f":"IF(ISBLANK('Data Input'!A640),\"\",SUM('Data Input'!C640:AK640))","v":""},{"$f":"IF(E635=\"\",\"\",E635/(COUNTA('Data Input'!$C$8:$AK$8)))","v":""},{"$f":"IF(ISBLANK('Data Input'!A640),\"\",SUM('Data Input'!C640,'Data Input'!D640,'Data Input'!J640,'Data Input'!X640))","v":""},{"$f":"IF(G635=\"\",\"\",G635/COUNTIF('Data Input'!$C$8:$AK$8,\"N\"))","v":""},{"$f":"IF(ISBLANK('Data Input'!A640),\"\",SUM('Data Input'!G640,'Data Input'!I640,'Data Input'!L640,'Data Input'!N640,'Data Input'!O640,'Data Input'!S640,'Data Input'!Z640,'Data Input'!AA640,'Data Input'!AB640,'Data Input'!AC640,'Data Input'!AE640,'Data Input'!AF640,'Data Input'!AG640,'Data Input'!AI640,'Data Input'!AK640))","v":""},{"$f":"IF(I635=\"\",\"\",I635/COUNTIF('Data Input'!$C$8:$AK$8,\"C\"))","v":""},{"$f":"IF(ISBLANK('Data Input'!A640),\"\",SUM('Data Input'!T640,'Data Input'!U640))","v":""},{"$f":"IF(K635=\"\",\"\",K635/COUNTIF('Data Input'!$C$8:$AK$8,\"S\"))","v":""},{"$f":"IF(ISBLANK('Data Input'!A640),\"\",SUM('Data Input'!F640,'Data Input'!R640,'Data Input'!AJ640))","v":""},{"$f":"IF(M635=\"\",\"\",M635/COUNTIF('Data Input'!$C$8:$AK$8,\"F\"))","v":""},{"$f":"IF(ISBLANK('Data Input'!A640),\"\",SUM('Data Input'!E640,'Data Input'!M640,'Data Input'!Q640,'Data Input'!V640,'Data Input'!W640,'Data Input'!AD640,'Data Input'!AH640))","v":""},{"$f":"IF(O635=\"\",\"\",O635/COUNTIF('Data Input'!$C$8:$AK$8,\"M\"))","v":""},{"$f":"IF(ISBLANK('Data Input'!A640),\"\",SUM('Data Input'!H640,'Data Input'!K640,'Data Input'!P640,'Data Input'!Y640))","v":""},{"$f":"IF(Q635=\"\",\"\",Q635/COUNTIF('Data Input'!$C$8:$AK$8,\"G\"))","v":""}]
[{"$f":"IF('Data Input'!A641=0,\"\",'Data Input'!A641)","v":""},{"$f":"IF(ISBLANK('Data Input'!A641),\"\",COUNTIF('Data Input'!C641:AK641,\"\"))","v":""},{"$f":"IF(ISBLANK('Data Input'!A641),\"\",COUNTIF('Data Input'!C641:AK641,\"0\"))","v":""},{"$f":"IF(ISBLANK('Data Input'!A641),\"\",SUM(B636,C636))","v":""},{"$f":"IF(ISBLANK('Data Input'!A641),\"\",SUM('Data Input'!C641:AK641))","v":""},{"$f":"IF(E636=\"\",\"\",E636/(COUNTA('Data Input'!$C$8:$AK$8)))","v":""},{"$f":"IF(ISBLANK('Data Input'!A641),\"\",SUM('Data Input'!C641,'Data Input'!D641,'Data Input'!J641,'Data Input'!X641))","v":""},{"$f":"IF(G636=\"\",\"\",G636/COUNTIF('Data Input'!$C$8:$AK$8,\"N\"))","v":""},{"$f":"IF(ISBLANK('Data Input'!A641),\"\",SUM('Data Input'!G641,'Data Input'!I641,'Data Input'!L641,'Data Input'!N641,'Data Input'!O641,'Data Input'!S641,'Data Input'!Z641,'Data Input'!AA641,'Data Input'!AB641,'Data Input'!AC641,'Data Input'!AE641,'Data Input'!AF641,'Data Input'!AG641,'Data Input'!AI641,'Data Input'!AK641))","v":""},{"$f":"IF(I636=\"\",\"\",I636/COUNTIF('Data Input'!$C$8:$AK$8,\"C\"))","v":""},{"$f":"IF(ISBLANK('Data Input'!A641),\"\",SUM('Data Input'!T641,'Data Input'!U641))","v":""},{"$f":"IF(K636=\"\",\"\",K636/COUNTIF('Data Input'!$C$8:$AK$8,\"S\"))","v":""},{"$f":"IF(ISBLANK('Data Input'!A641),\"\",SUM('Data Input'!F641,'Data Input'!R641,'Data Input'!AJ641))","v":""},{"$f":"IF(M636=\"\",\"\",M636/COUNTIF('Data Input'!$C$8:$AK$8,\"F\"))","v":""},{"$f":"IF(ISBLANK('Data Input'!A641),\"\",SUM('Data Input'!E641,'Data Input'!M641,'Data Input'!Q641,'Data Input'!V641,'Data Input'!W641,'Data Input'!AD641,'Data Input'!AH641))","v":""},{"$f":"IF(O636=\"\",\"\",O636/COUNTIF('Data Input'!$C$8:$AK$8,\"M\"))","v":""},{"$f":"IF(ISBLANK('Data Input'!A641),\"\",SUM('Data Input'!H641,'Data Input'!K641,'Data Input'!P641,'Data Input'!Y641))","v":""},{"$f":"IF(Q636=\"\",\"\",Q636/COUNTIF('Data Input'!$C$8:$AK$8,\"G\"))","v":""}]
[{"$f":"IF('Data Input'!A642=0,\"\",'Data Input'!A642)","v":""},{"$f":"IF(ISBLANK('Data Input'!A642),\"\",COUNTIF('Data Input'!C642:AK642,\"\"))","v":""},{"$f":"IF(ISBLANK('Data Input'!A642),\"\",COUNTIF('Data Input'!C642:AK642,\"0\"))","v":""},{"$f":"IF(ISBLANK('Data Input'!A642),\"\",SUM(B637,C637))","v":""},{"$f":"IF(ISBLANK('Data Input'!A642),\"\",SUM('Data Input'!C642:AK642))","v":""},{"$f":"IF(E637=\"\",\"\",E637/(COUNTA('Data Input'!$C$8:$AK$8)))","v":""},{"$f":"IF(ISBLANK('Data Input'!A642),\"\",SUM('Data Input'!C642,'Data Input'!D642,'Data Input'!J642,'Data Input'!X642))","v":""},{"$f":"IF(G637=\"\",\"\",G637/COUNTIF('Data Input'!$C$8:$AK$8,\"N\"))","v":""},{"$f":"IF(ISBLANK('Data Input'!A642),\"\",SUM('Data Input'!G642,'Data Input'!I642,'Data Input'!L642,'Data Input'!N642,'Data Input'!O642,'Data Input'!S642,'Data Input'!Z642,'Data Input'!AA642,'Data Input'!AB642,'Data Input'!AC642,'Data Input'!AE642,'Data Input'!AF642,'Data Input'!AG642,'Data Input'!AI642,'Data Input'!AK642))","v":""},{"$f":"IF(I637=\"\",\"\",I637/COUNTIF('Data Input'!$C$8:$AK$8,\"C\"))","v":""},{"$f":"IF(ISBLANK('Data Input'!A642),\"\",SUM('Data Input'!T642,'Data Input'!U642))","v":""},{"$f":"IF(K637=\"\",\"\",K637/COUNTIF('Data Input'!$C$8:$AK$8,\"S\"))","v":""},{"$f":"IF(ISBLANK('Data Input'!A642),\"\",SUM('Data Input'!F642,'Data Input'!R642,'Data Input'!AJ642))","v":""},{"$f":"IF(M637=\"\",\"\",M637/COUNTIF('Data Input'!$C$8:$AK$8,\"F\"))","v":""},{"$f":"IF(ISBLANK('Data Input'!A642),\"\",SUM('Data Input'!E642,'Data Input'!M642,'Data Input'!Q642,'Data Input'!V642,'Data Input'!W642,'Data Input'!AD642,'Data Input'!AH642))","v":""},{"$f":"IF(O637=\"\",\"\",O637/COUNTIF('Data Input'!$C$8:$AK$8,\"M\"))","v":""},{"$f":"IF(ISBLANK('Data Input'!A642),\"\",SUM('Data Input'!H642,'Data Input'!K642,'Data Input'!P642,'Data Input'!Y642))","v":""},{"$f":"IF(Q637=\"\",\"\",Q637/COUNTIF('Data Input'!$C$8:$AK$8,\"G\"))","v":""}]
[{"$f":"IF('Data Input'!A643=0,\"\",'Data Input'!A643)","v":""},{"$f":"IF(ISBLANK('Data Input'!A643),\"\",COUNTIF('Data Input'!C643:AK643,\"\"))","v":""},{"$f":"IF(ISBLANK('Data Input'!A643),\"\",COUNTIF('Data Input'!C643:AK643,\"0\"))","v":""},{"$f":"IF(ISBLANK('Data Input'!A643),\"\",SUM(B638,C638))","v":""},{"$f":"IF(ISBLANK('Data Input'!A643),\"\",SUM('Data Input'!C643:AK643))","v":""},{"$f":"IF(E638=\"\",\"\",E638/(COUNTA('Data Input'!$C$8:$AK$8)))","v":""},{"$f":"IF(ISBLANK('Data Input'!A643),\"\",SUM('Data Input'!C643,'Data Input'!D643,'Data Input'!J643,'Data Input'!X643))","v":""},{"$f":"IF(G638=\"\",\"\",G638/COUNTIF('Data Input'!$C$8:$AK$8,\"N\"))","v":""},{"$f":"IF(ISBLANK('Data Input'!A643),\"\",SUM('Data Input'!G643,'Data Input'!I643,'Data Input'!L643,'Data Input'!N643,'Data Input'!O643,'Data Input'!S643,'Data Input'!Z643,'Data Input'!AA643,'Data Input'!AB643,'Data Input'!AC643,'Data Input'!AE643,'Data Input'!AF643,'Data Input'!AG643,'Data Input'!AI643,'Data Input'!AK643))","v":""},{"$f":"IF(I638=\"\",\"\",I638/COUNTIF('Data Input'!$C$8:$AK$8,\"C\"))","v":""},{"$f":"IF(ISBLANK('Data Input'!A643),\"\",SUM('Data Input'!T643,'Data Input'!U643))","v":""},{"$f":"IF(K638=\"\",\"\",K638/COUNTIF('Data Input'!$C$8:$AK$8,\"S\"))","v":""},{"$f":"IF(ISBLANK('Data Input'!A643),\"\",SUM('Data Input'!F643,'Data Input'!R643,'Data Input'!AJ643))","v":""},{"$f":"IF(M638=\"\",\"\",M638/COUNTIF('Data Input'!$C$8:$AK$8,\"F\"))","v":""},{"$f":"IF(ISBLANK('Data Input'!A643),\"\",SUM('Data Input'!E643,'Data Input'!M643,'Data Input'!Q643,'Data Input'!V643,'Data Input'!W643,'Data Input'!AD643,'Data Input'!AH643))","v":""},{"$f":"IF(O638=\"\",\"\",O638/COUNTIF('Data Input'!$C$8:$AK$8,\"M\"))","v":""},{"$f":"IF(ISBLANK('Data Input'!A643),\"\",SUM('Data Input'!H643,'Data Input'!K643,'Data Input'!P643,'Data Input'!Y643))","v":""},{"$f":"IF(Q638=\"\",\"\",Q638/COUNTIF('Data Input'!$C$8:$AK$8,\"G\"))","v":""}]
[{"$f":"IF('Data Input'!A644=0,\"\",'Data Input'!A644)","v":""},{"$f":"IF(ISBLANK('Data Input'!A644),\"\",COUNTIF('Data Input'!C644:AK644,\"\"))","v":""},{"$f":"IF(ISBLANK('Data Input'!A644),\"\",COUNTIF('Data Input'!C644:AK644,\"0\"))","v":""},{"$f":"IF(ISBLANK('Data Input'!A644),\"\",SUM(B639,C639))","v":""},{"$f":"IF(ISBLANK('Data Input'!A644),\"\",SUM('Data Input'!C644:AK644))","v":""},{"$f":"IF(E639=\"\",\"\",E639/(COUNTA('Data Input'!$C$8:$AK$8)))","v":""},{"$f":"IF(ISBLANK('Data Input'!A644),\"\",SUM('Data Input'!C644,'Data Input'!D644,'Data Input'!J644,'Data Input'!X644))","v":""},{"$f":"IF(G639=\"\",\"\",G639/COUNTIF('Data Input'!$C$8:$AK$8,\"N\"))","v":""},{"$f":"IF(ISBLANK('Data Input'!A644),\"\",SUM('Data Input'!G644,'Data Input'!I644,'Data Input'!L644,'Data Input'!N644,'Data Input'!O644,'Data Input'!S644,'Data Input'!Z644,'Data Input'!AA644,'Data Input'!AB644,'Data Input'!AC644,'Data Input'!AE644,'Data Input'!AF644,'Data Input'!AG644,'Data Input'!AI644,'Data Input'!AK644))","v":""},{"$f":"IF(I639=\"\",\"\",I639/COUNTIF('Data Input'!$C$8:$AK$8,\"C\"))","v":""},{"$f":"IF(ISBLANK('Data Input'!A644),\"\",SUM('Data Input'!T644,'Data Input'!U644))","v":""},{"$f":"IF(K639=\"\",\"\",K639/COUNTIF('Data Input'!$C$8:$AK$8,\"S\"))","v":""},{"$f":"IF(ISBLANK('Data Input'!A644),\"\",SUM('Data Input'!F644,'Data Input'!R644,'Data Input'!AJ644))","v":""},{"$f":"IF(M639=\"\",\"\",M639/COUNTIF('Data Input'!$C$8:$AK$8,\"F\"))","v":""},{"$f":"IF(ISBLANK('Data Input'!A644),\"\",SUM('Data Input'!E644,'Data Input'!M644,'Data Input'!Q644,'Data Input'!V644,'Data Input'!W644,'Data Input'!AD644,'Data Input'!AH644))","v":""},{"$f":"IF(O639=\"\",\"\",O639/COUNTIF('Data Input'!$C$8:$AK$8,\"M\"))","v":""},{"$f":"IF(ISBLANK('Data Input'!A644),\"\",SUM('Data Input'!H644,'Data Input'!K644,'Data Input'!P644,'Data Input'!Y644))","v":""},{"$f":"IF(Q639=\"\",\"\",Q639/COUNTIF('Data Input'!$C$8:$AK$8,\"G\"))","v":""}]
[{"$f":"IF('Data Input'!A645=0,\"\",'Data Input'!A645)","v":""},{"$f":"IF(ISBLANK('Data Input'!A645),\"\",COUNTIF('Data Input'!C645:AK645,\"\"))","v":""},{"$f":"IF(ISBLANK('Data Input'!A645),\"\",COUNTIF('Data Input'!C645:AK645,\"0\"))","v":""},{"$f":"IF(ISBLANK('Data Input'!A645),\"\",SUM(B640,C640))","v":""},{"$f":"IF(ISBLANK('Data Input'!A645),\"\",SUM('Data Input'!C645:AK645))","v":""},{"$f":"IF(E640=\"\",\"\",E640/(COUNTA('Data Input'!$C$8:$AK$8)))","v":""},{"$f":"IF(ISBLANK('Data Input'!A645),\"\",SUM('Data Input'!C645,'Data Input'!D645,'Data Input'!J645,'Data Input'!X645))","v":""},{"$f":"IF(G640=\"\",\"\",G640/COUNTIF('Data Input'!$C$8:$AK$8,\"N\"))","v":""},{"$f":"IF(ISBLANK('Data Input'!A645),\"\",SUM('Data Input'!G645,'Data Input'!I645,'Data Input'!L645,'Data Input'!N645,'Data Input'!O645,'Data Input'!S645,'Data Input'!Z645,'Data Input'!AA645,'Data Input'!AB645,'Data Input'!AC645,'Data Input'!AE645,'Data Input'!AF645,'Data Input'!AG645,'Data Input'!AI645,'Data Input'!AK645))","v":""},{"$f":"IF(I640=\"\",\"\",I640/COUNTIF('Data Input'!$C$8:$AK$8,\"C\"))","v":""},{"$f":"IF(ISBLANK('Data Input'!A645),\"\",SUM('Data Input'!T645,'Data Input'!U645))","v":""},{"$f":"IF(K640=\"\",\"\",K640/COUNTIF('Data Input'!$C$8:$AK$8,\"S\"))","v":""},{"$f":"IF(ISBLANK('Data Input'!A645),\"\",SUM('Data Input'!F645,'Data Input'!R645,'Data Input'!AJ645))","v":""},{"$f":"IF(M640=\"\",\"\",M640/COUNTIF('Data Input'!$C$8:$AK$8,\"F\"))","v":""},{"$f":"IF(ISBLANK('Data Input'!A645),\"\",SUM('Data Input'!E645,'Data Input'!M645,'Data Input'!Q645,'Data Input'!V645,'Data Input'!W645,'Data Input'!AD645,'Data Input'!AH645))","v":""},{"$f":"IF(O640=\"\",\"\",O640/COUNTIF('Data Input'!$C$8:$AK$8,\"M\"))","v":""},{"$f":"IF(ISBLANK('Data Input'!A645),\"\",SUM('Data Input'!H645,'Data Input'!K645,'Data Input'!P645,'Data Input'!Y645))","v":""},{"$f":"IF(Q640=\"\",\"\",Q640/COUNTIF('Data Input'!$C$8:$AK$8,\"G\"))","v":""}]
[{"$f":"IF('Data Input'!A646=0,\"\",'Data Input'!A646)","v":""},{"$f":"IF(ISBLANK('Data Input'!A646),\"\",COUNTIF('Data Input'!C646:AK646,\"\"))","v":""},{"$f":"IF(ISBLANK('Data Input'!A646),\"\",COUNTIF('Data Input'!C646:AK646,\"0\"))","v":""},{"$f":"IF(ISBLANK('Data Input'!A646),\"\",SUM(B641,C641))","v":""},{"$f":"IF(ISBLANK('Data Input'!A646),\"\",SUM('Data Input'!C646:AK646))","v":""},{"$f":"IF(E641=\"\",\"\",E641/(COUNTA('Data Input'!$C$8:$AK$8)))","v":""},{"$f":"IF(ISBLANK('Data Input'!A646),\"\",SUM('Data Input'!C646,'Data Input'!D646,'Data Input'!J646,'Data Input'!X646))","v":""},{"$f":"IF(G641=\"\",\"\",G641/COUNTIF('Data Input'!$C$8:$AK$8,\"N\"))","v":""},{"$f":"IF(ISBLANK('Data Input'!A646),\"\",SUM('Data Input'!G646,'Data Input'!I646,'Data Input'!L646,'Data Input'!N646,'Data Input'!O646,'Data Input'!S646,'Data Input'!Z646,'Data Input'!AA646,'Data Input'!AB646,'Data Input'!AC646,'Data Input'!AE646,'Data Input'!AF646,'Data Input'!AG646,'Data Input'!AI646,'Data Input'!AK646))","v":""},{"$f":"IF(I641=\"\",\"\",I641/COUNTIF('Data Input'!$C$8:$AK$8,\"C\"))","v":""},{"$f":"IF(ISBLANK('Data Input'!A646),\"\",SUM('Data Input'!T646,'Data Input'!U646))","v":""},{"$f":"IF(K641=\"\",\"\",K641/COUNTIF('Data Input'!$C$8:$AK$8,\"S\"))","v":""},{"$f":"IF(ISBLANK('Data Input'!A646),\"\",SUM('Data Input'!F646,'Data Input'!R646,'Data Input'!AJ646))","v":""},{"$f":"IF(M641=\"\",\"\",M641/COUNTIF('Data Input'!$C$8:$AK$8,\"F\"))","v":""},{"$f":"IF(ISBLANK('Data Input'!A646),\"\",SUM('Data Input'!E646,'Data Input'!M646,'Data Input'!Q646,'Data Input'!V646,'Data Input'!W646,'Data Input'!AD646,'Data Input'!AH646))","v":""},{"$f":"IF(O641=\"\",\"\",O641/COUNTIF('Data Input'!$C$8:$AK$8,\"M\"))","v":""},{"$f":"IF(ISBLANK('Data Input'!A646),\"\",SUM('Data Input'!H646,'Data Input'!K646,'Data Input'!P646,'Data Input'!Y646))","v":""},{"$f":"IF(Q641=\"\",\"\",Q641/COUNTIF('Data Input'!$C$8:$AK$8,\"G\"))","v":""}]
[{"$f":"IF('Data Input'!A647=0,\"\",'Data Input'!A647)","v":""},{"$f":"IF(ISBLANK('Data Input'!A647),\"\",COUNTIF('Data Input'!C647:AK647,\"\"))","v":""},{"$f":"IF(ISBLANK('Data Input'!A647),\"\",COUNTIF('Data Input'!C647:AK647,\"0\"))","v":""},{"$f":"IF(ISBLANK('Data Input'!A647),\"\",SUM(B642,C642))","v":""},{"$f":"IF(ISBLANK('Data Input'!A647),\"\",SUM('Data Input'!C647:AK647))","v":""},{"$f":"IF(E642=\"\",\"\",E642/(COUNTA('Data Input'!$C$8:$AK$8)))","v":""},{"$f":"IF(ISBLANK('Data Input'!A647),\"\",SUM('Data Input'!C647,'Data Input'!D647,'Data Input'!J647,'Data Input'!X647))","v":""},{"$f":"IF(G642=\"\",\"\",G642/COUNTIF('Data Input'!$C$8:$AK$8,\"N\"))","v":""},{"$f":"IF(ISBLANK('Data Input'!A647),\"\",SUM('Data Input'!G647,'Data Input'!I647,'Data Input'!L647,'Data Input'!N647,'Data Input'!O647,'Data Input'!S647,'Data Input'!Z647,'Data Input'!AA647,'Data Input'!AB647,'Data Input'!AC647,'Data Input'!AE647,'Data Input'!AF647,'Data Input'!AG647,'Data Input'!AI647,'Data Input'!AK647))","v":""},{"$f":"IF(I642=\"\",\"\",I642/COUNTIF('Data Input'!$C$8:$AK$8,\"C\"))","v":""},{"$f":"IF(ISBLANK('Data Input'!A647),\"\",SUM('Data Input'!T647,'Data Input'!U647))","v":""},{"$f":"IF(K642=\"\",\"\",K642/COUNTIF('Data Input'!$C$8:$AK$8,\"S\"))","v":""},{"$f":"IF(ISBLANK('Data Input'!A647),\"\",SUM('Data Input'!F647,'Data Input'!R647,'Data Input'!AJ647))","v":""},{"$f":"IF(M642=\"\",\"\",M642/COUNTIF('Data Input'!$C$8:$AK$8,\"F\"))","v":""},{"$f":"IF(ISBLANK('Data Input'!A647),\"\",SUM('Data Input'!E647,'Data Input'!M647,'Data Input'!Q647,'Data Input'!V647,'Data Input'!W647,'Data Input'!AD647,'Data Input'!AH647))","v":""},{"$f":"IF(O642=\"\",\"\",O642/COUNTIF('Data Input'!$C$8:$AK$8,\"M\"))","v":""},{"$f":"IF(ISBLANK('Data Input'!A647),\"\",SUM('Data Input'!H647,'Data Input'!K647,'Data Input'!P647,'Data Input'!Y647))","v":""},{"$f":"IF(Q642=\"\",\"\",Q642/COUNTIF('Data Input'!$C$8:$AK$8,\"G\"))","v":""}]
[{"$f":"IF('Data Input'!A648=0,\"\",'Data Input'!A648)","v":""},{"$f":"IF(ISBLANK('Data Input'!A648),\"\",COUNTIF('Data Input'!C648:AK648,\"\"))","v":""},{"$f":"IF(ISBLANK('Data Input'!A648),\"\",COUNTIF('Data Input'!C648:AK648,\"0\"))","v":""},{"$f":"IF(ISBLANK('Data Input'!A648),\"\",SUM(B643,C643))","v":""},{"$f":"IF(ISBLANK('Data Input'!A648),\"\",SUM('Data Input'!C648:AK648))","v":""},{"$f":"IF(E643=\"\",\"\",E643/(COUNTA('Data Input'!$C$8:$AK$8)))","v":""},{"$f":"IF(ISBLANK('Data Input'!A648),\"\",SUM('Data Input'!C648,'Data Input'!D648,'Data Input'!J648,'Data Input'!X648))","v":""},{"$f":"IF(G643=\"\",\"\",G643/COUNTIF('Data Input'!$C$8:$AK$8,\"N\"))","v":""},{"$f":"IF(ISBLANK('Data Input'!A648),\"\",SUM('Data Input'!G648,'Data Input'!I648,'Data Input'!L648,'Data Input'!N648,'Data Input'!O648,'Data Input'!S648,'Data Input'!Z648,'Data Input'!AA648,'Data Input'!AB648,'Data Input'!AC648,'Data Input'!AE648,'Data Input'!AF648,'Data Input'!AG648,'Data Input'!AI648,'Data Input'!AK648))","v":""},{"$f":"IF(I643=\"\",\"\",I643/COUNTIF('Data Input'!$C$8:$AK$8,\"C\"))","v":""},{"$f":"IF(ISBLANK('Data Input'!A648),\"\",SUM('Data Input'!T648,'Data Input'!U648))","v":""},{"$f":"IF(K643=\"\",\"\",K643/COUNTIF('Data Input'!$C$8:$AK$8,\"S\"))","v":""},{"$f":"IF(ISBLANK('Data Input'!A648),\"\",SUM('Data Input'!F648,'Data Input'!R648,'Data Input'!AJ648))","v":""},{"$f":"IF(M643=\"\",\"\",M643/COUNTIF('Data Input'!$C$8:$AK$8,\"F\"))","v":""},{"$f":"IF(ISBLANK('Data Input'!A648),\"\",SUM('Data Input'!E648,'Data Input'!M648,'Data Input'!Q648,'Data Input'!V648,'Data Input'!W648,'Data Input'!AD648,'Data Input'!AH648))","v":""},{"$f":"IF(O643=\"\",\"\",O643/COUNTIF('Data Input'!$C$8:$AK$8,\"M\"))","v":""},{"$f":"IF(ISBLANK('Data Input'!A648),\"\",SUM('Data Input'!H648,'Data Input'!K648,'Data Input'!P648,'Data Input'!Y648))","v":""},{"$f":"IF(Q643=\"\",\"\",Q643/COUNTIF('Data Input'!$C$8:$AK$8,\"G\"))","v":""}]
[{"$f":"IF('Data Input'!A649=0,\"\",'Data Input'!A649)","v":""},{"$f":"IF(ISBLANK('Data Input'!A649),\"\",COUNTIF('Data Input'!C649:AK649,\"\"))","v":""},{"$f":"IF(ISBLANK('Data Input'!A649),\"\",COUNTIF('Data Input'!C649:AK649,\"0\"))","v":""},{"$f":"IF(ISBLANK('Data Input'!A649),\"\",SUM(B644,C644))","v":""},{"$f":"IF(ISBLANK('Data Input'!A649),\"\",SUM('Data Input'!C649:AK649))","v":""},{"$f":"IF(E644=\"\",\"\",E644/(COUNTA('Data Input'!$C$8:$AK$8)))","v":""},{"$f":"IF(ISBLANK('Data Input'!A649),\"\",SUM('Data Input'!C649,'Data Input'!D649,'Data Input'!J649,'Data Input'!X649))","v":""},{"$f":"IF(G644=\"\",\"\",G644/COUNTIF('Data Input'!$C$8:$AK$8,\"N\"))","v":""},{"$f":"IF(ISBLANK('Data Input'!A649),\"\",SUM('Data Input'!G649,'Data Input'!I649,'Data Input'!L649,'Data Input'!N649,'Data Input'!O649,'Data Input'!S649,'Data Input'!Z649,'Data Input'!AA649,'Data Input'!AB649,'Data Input'!AC649,'Data Input'!AE649,'Data Input'!AF649,'Data Input'!AG649,'Data Input'!AI649,'Data Input'!AK649))","v":""},{"$f":"IF(I644=\"\",\"\",I644/COUNTIF('Data Input'!$C$8:$AK$8,\"C\"))","v":""},{"$f":"IF(ISBLANK('Data Input'!A649),\"\",SUM('Data Input'!T649,'Data Input'!U649))","v":""},{"$f":"IF(K644=\"\",\"\",K644/COUNTIF('Data Input'!$C$8:$AK$8,\"S\"))","v":""},{"$f":"IF(ISBLANK('Data Input'!A649),\"\",SUM('Data Input'!F649,'Data Input'!R649,'Data Input'!AJ649))","v":""},{"$f":"IF(M644=\"\",\"\",M644/COUNTIF('Data Input'!$C$8:$AK$8,\"F\"))","v":""},{"$f":"IF(ISBLANK('Data Input'!A649),\"\",SUM('Data Input'!E649,'Data Input'!M649,'Data Input'!Q649,'Data Input'!V649,'Data Input'!W649,'Data Input'!AD649,'Data Input'!AH649))","v":""},{"$f":"IF(O644=\"\",\"\",O644/COUNTIF('Data Input'!$C$8:$AK$8,\"M\"))","v":""},{"$f":"IF(ISBLANK('Data Input'!A649),\"\",SUM('Data Input'!H649,'Data Input'!K649,'Data Input'!P649,'Data Input'!Y649))","v":""},{"$f":"IF(Q644=\"\",\"\",Q644/COUNTIF('Data Input'!$C$8:$AK$8,\"G\"))","v":""}]
[{"$f":"IF('Data Input'!A650=0,\"\",'Data Input'!A650)","v":""},{"$f":"IF(ISBLANK('Data Input'!A650),\"\",COUNTIF('Data Input'!C650:AK650,\"\"))","v":""},{"$f":"IF(ISBLANK('Data Input'!A650),\"\",COUNTIF('Data Input'!C650:AK650,\"0\"))","v":""},{"$f":"IF(ISBLANK('Data Input'!A650),\"\",SUM(B645,C645))","v":""},{"$f":"IF(ISBLANK('Data Input'!A650),\"\",SUM('Data Input'!C650:AK650))","v":""},{"$f":"IF(E645=\"\",\"\",E645/(COUNTA('Data Input'!$C$8:$AK$8)))","v":""},{"$f":"IF(ISBLANK('Data Input'!A650),\"\",SUM('Data Input'!C650,'Data Input'!D650,'Data Input'!J650,'Data Input'!X650))","v":""},{"$f":"IF(G645=\"\",\"\",G645/COUNTIF('Data Input'!$C$8:$AK$8,\"N\"))","v":""},{"$f":"IF(ISBLANK('Data Input'!A650),\"\",SUM('Data Input'!G650,'Data Input'!I650,'Data Input'!L650,'Data Input'!N650,'Data Input'!O650,'Data Input'!S650,'Data Input'!Z650,'Data Input'!AA650,'Data Input'!AB650,'Data Input'!AC650,'Data Input'!AE650,'Data Input'!AF650,'Data Input'!AG650,'Data Input'!AI650,'Data Input'!AK650))","v":""},{"$f":"IF(I645=\"\",\"\",I645/COUNTIF('Data Input'!$C$8:$AK$8,\"C\"))","v":""},{"$f":"IF(ISBLANK('Data Input'!A650),\"\",SUM('Data Input'!T650,'Data Input'!U650))","v":""},{"$f":"IF(K645=\"\",\"\",K645/COUNTIF('Data Input'!$C$8:$AK$8,\"S\"))","v":""},{"$f":"IF(ISBLANK('Data Input'!A650),\"\",SUM('Data Input'!F650,'Data Input'!R650,'Data Input'!AJ650))","v":""},{"$f":"IF(M645=\"\",\"\",M645/COUNTIF('Data Input'!$C$8:$AK$8,\"F\"))","v":""},{"$f":"IF(ISBLANK('Data Input'!A650),\"\",SUM('Data Input'!E650,'Data Input'!M650,'Data Input'!Q650,'Data Input'!V650,'Data Input'!W650,'Data Input'!AD650,'Data Input'!AH650))","v":""},{"$f":"IF(O645=\"\",\"\",O645/COUNTIF('Data Input'!$C$8:$AK$8,\"M\"))","v":""},{"$f":"IF(ISBLANK('Data Input'!A650),\"\",SUM('Data Input'!H650,'Data Input'!K650,'Data Input'!P650,'Data Input'!Y650))","v":""},{"$f":"IF(Q645=\"\",\"\",Q645/COUNTIF('Data Input'!$C$8:$AK$8,\"G\"))","v":""}]
[{"$f":"IF('Data Input'!A651=0,\"\",'Data Input'!A651)","v":""},{"$f":"IF(ISBLANK('Data Input'!A651),\"\",COUNTIF('Data Input'!C651:AK651,\"\"))","v":""},{"$f":"IF(ISBLANK('Data Input'!A651),\"\",COUNTIF('Data Input'!C651:AK651,\"0\"))","v":""},{"$f":"IF(ISBLANK('Data Input'!A651),\"\",SUM(B646,C646))","v":""},{"$f":"IF(ISBLANK('Data Input'!A651),\"\",SUM('Data Input'!C651:AK651))","v":""},{"$f":"IF(E646=\"\",\"\",E646/(COUNTA('Data Input'!$C$8:$AK$8)))","v":""},{"$f":"IF(ISBLANK('Data Input'!A651),\"\",SUM('Data Input'!C651,'Data Input'!D651,'Data Input'!J651,'Data Input'!X651))","v":""},{"$f":"IF(G646=\"\",\"\",G646/COUNTIF('Data Input'!$C$8:$AK$8,\"N\"))","v":""},{"$f":"IF(ISBLANK('Data Input'!A651),\"\",SUM('Data Input'!G651,'Data Input'!I651,'Data Input'!L651,'Data Input'!N651,'Data Input'!O651,'Data Input'!S651,'Data Input'!Z651,'Data Input'!AA651,'Data Input'!AB651,'Data Input'!AC651,'Data Input'!AE651,'Data Input'!AF651,'Data Input'!AG651,'Data Input'!AI651,'Data Input'!AK651))","v":""},{"$f":"IF(I646=\"\",\"\",I646/COUNTIF('Data Input'!$C$8:$AK$8,\"C\"))","v":""},{"$f":"IF(ISBLANK('Data Input'!A651),\"\",SUM('Data Input'!T651,'Data Input'!U651))","v":""},{"$f":"IF(K646=\"\",\"\",K646/COUNTIF('Data Input'!$C$8:$AK$8,\"S\"))","v":""},{"$f":"IF(ISBLANK('Data Input'!A651),\"\",SUM('Data Input'!F651,'Data Input'!R651,'Data Input'!AJ651))","v":""},{"$f":"IF(M646=\"\",\"\",M646/COUNTIF('Data Input'!$C$8:$AK$8,\"F\"))","v":""},{"$f":"IF(ISBLANK('Data Input'!A651),\"\",SUM('Data Input'!E651,'Data Input'!M651,'Data Input'!Q651,'Data Input'!V651,'Data Input'!W651,'Data Input'!AD651,'Data Input'!AH651))","v":""},{"$f":"IF(O646=\"\",\"\",O646/COUNTIF('Data Input'!$C$8:$AK$8,\"M\"))","v":""},{"$f":"IF(ISBLANK('Data Input'!A651),\"\",SUM('Data Input'!H651,'Data Input'!K651,'Data Input'!P651,'Data Input'!Y651))","v":""},{"$f":"IF(Q646=\"\",\"\",Q646/COUNTIF('Data Input'!$C$8:$AK$8,\"G\"))","v":""}]
[{"$f":"IF('Data Input'!A652=0,\"\",'Data Input'!A652)","v":""},{"$f":"IF(ISBLANK('Data Input'!A652),\"\",COUNTIF('Data Input'!C652:AK652,\"\"))","v":""},{"$f":"IF(ISBLANK('Data Input'!A652),\"\",COUNTIF('Data Input'!C652:AK652,\"0\"))","v":""},{"$f":"IF(ISBLANK('Data Input'!A652),\"\",SUM(B647,C647))","v":""},{"$f":"IF(ISBLANK('Data Input'!A652),\"\",SUM('Data Input'!C652:AK652))","v":""},{"$f":"IF(E647=\"\",\"\",E647/(COUNTA('Data Input'!$C$8:$AK$8)))","v":""},{"$f":"IF(ISBLANK('Data Input'!A652),\"\",SUM('Data Input'!C652,'Data Input'!D652,'Data Input'!J652,'Data Input'!X652))","v":""},{"$f":"IF(G647=\"\",\"\",G647/COUNTIF('Data Input'!$C$8:$AK$8,\"N\"))","v":""},{"$f":"IF(ISBLANK('Data Input'!A652),\"\",SUM('Data Input'!G652,'Data Input'!I652,'Data Input'!L652,'Data Input'!N652,'Data Input'!O652,'Data Input'!S652,'Data Input'!Z652,'Data Input'!AA652,'Data Input'!AB652,'Data Input'!AC652,'Data Input'!AE652,'Data Input'!AF652,'Data Input'!AG652,'Data Input'!AI652,'Data Input'!AK652))","v":""},{"$f":"IF(I647=\"\",\"\",I647/COUNTIF('Data Input'!$C$8:$AK$8,\"C\"))","v":""},{"$f":"IF(ISBLANK('Data Input'!A652),\"\",SUM('Data Input'!T652,'Data Input'!U652))","v":""},{"$f":"IF(K647=\"\",\"\",K647/COUNTIF('Data Input'!$C$8:$AK$8,\"S\"))","v":""},{"$f":"IF(ISBLANK('Data Input'!A652),\"\",SUM('Data Input'!F652,'Data Input'!R652,'Data Input'!AJ652))","v":""},{"$f":"IF(M647=\"\",\"\",M647/COUNTIF('Data Input'!$C$8:$AK$8,\"F\"))","v":""},{"$f":"IF(ISBLANK('Data Input'!A652),\"\",SUM('Data Input'!E652,'Data Input'!M652,'Data Input'!Q652,'Data Input'!V652,'Data Input'!W652,'Data Input'!AD652,'Data Input'!AH652))","v":""},{"$f":"IF(O647=\"\",\"\",O647/COUNTIF('Data Input'!$C$8:$AK$8,\"M\"))","v":""},{"$f":"IF(ISBLANK('Data Input'!A652),\"\",SUM('Data Input'!H652,'Data Input'!K652,'Data Input'!P652,'Data Input'!Y652))","v":""},{"$f":"IF(Q647=\"\",\"\",Q647/COUNTIF('Data Input'!$C$8:$AK$8,\"G\"))","v":""}]
[{"$f":"IF('Data Input'!A653=0,\"\",'Data Input'!A653)","v":""},{"$f":"IF(ISBLANK('Data Input'!A653),\"\",COUNTIF('Data Input'!C653:AK653,\"\"))","v":""},{"$f":"IF(ISBLANK('Data Input'!A653),\"\",COUNTIF('Data Input'!C653:AK653,\"0\"))","v":""},{"$f":"IF(ISBLANK('Data Input'!A653),\"\",SUM(B648,C648))","v":""},{"$f":"IF(ISBLANK('Data Input'!A653),\"\",SUM('Data Input'!C653:AK653))","v":""},{"$f":"IF(E648=\"\",\"\",E648/(COUNTA('Data Input'!$C$8:$AK$8)))","v":""},{"$f":"IF(ISBLANK('Data Input'!A653),\"\",SUM('Data Input'!C653,'Data Input'!D653,'Data Input'!J653,'Data Input'!X653))","v":""},{"$f":"IF(G648=\"\",\"\",G648/COUNTIF('Data Input'!$C$8:$AK$8,\"N\"))","v":""},{"$f":"IF(ISBLANK('Data Input'!A653),\"\",SUM('Data Input'!G653,'Data Input'!I653,'Data Input'!L653,'Data Input'!N653,'Data Input'!O653,'Data Input'!S653,'Data Input'!Z653,'Data Input'!AA653,'Data Input'!AB653,'Data Input'!AC653,'Data Input'!AE653,'Data Input'!AF653,'Data Input'!AG653,'Data Input'!AI653,'Data Input'!AK653))","v":""},{"$f":"IF(I648=\"\",\"\",I648/COUNTIF('Data Input'!$C$8:$AK$8,\"C\"))","v":""},{"$f":"IF(ISBLANK('Data Input'!A653),\"\",SUM('Data Input'!T653,'Data Input'!U653))","v":""},{"$f":"IF(K648=\"\",\"\",K648/COUNTIF('Data Input'!$C$8:$AK$8,\"S\"))","v":""},{"$f":"IF(ISBLANK('Data Input'!A653),\"\",SUM('Data Input'!F653,'Data Input'!R653,'Data Input'!AJ653))","v":""},{"$f":"IF(M648=\"\",\"\",M648/COUNTIF('Data Input'!$C$8:$AK$8,\"F\"))","v":""},{"$f":"IF(ISBLANK('Data Input'!A653),\"\",SUM('Data Input'!E653,'Data Input'!M653,'Data Input'!Q653,'Data Input'!V653,'Data Input'!W653,'Data Input'!AD653,'Data Input'!AH653))","v":""},{"$f":"IF(O648=\"\",\"\",O648/COUNTIF('Data Input'!$C$8:$AK$8,\"M\"))","v":""},{"$f":"IF(ISBLANK('Data Input'!A653),\"\",SUM('Data Input'!H653,'Data Input'!K653,'Data Input'!P653,'Data Input'!Y653))","v":""},{"$f":"IF(Q648=\"\",\"\",Q648/COUNTIF('Data Input'!$C$8:$AK$8,\"G\"))","v":""}]
[{"$f":"IF('Data Input'!A654=0,\"\",'Data Input'!A654)","v":""},{"$f":"IF(ISBLANK('Data Input'!A654),\"\",COUNTIF('Data Input'!C654:AK654,\"\"))","v":""},{"$f":"IF(ISBLANK('Data Input'!A654),\"\",COUNTIF('Data Input'!C654:AK654,\"0\"))","v":""},{"$f":"IF(ISBLANK('Data Input'!A654),\"\",SUM(B649,C649))","v":""},{"$f":"IF(ISBLANK('Data Input'!A654),\"\",SUM('Data Input'!C654:AK654))","v":""},{"$f":"IF(E649=\"\",\"\",E649/(COUNTA('Data Input'!$C$8:$AK$8)))","v":""},{"$f":"IF(ISBLANK('Data Input'!A654),\"\",SUM('Data Input'!C654,'Data Input'!D654,'Data Input'!J654,'Data Input'!X654))","v":""},{"$f":"IF(G649=\"\",\"\",G649/COUNTIF('Data Input'!$C$8:$AK$8,\"N\"))","v":""},{"$f":"IF(ISBLANK('Data Input'!A654),\"\",SUM('Data Input'!G654,'Data Input'!I654,'Data Input'!L654,'Data Input'!N654,'Data Input'!O654,'Data Input'!S654,'Data Input'!Z654,'Data Input'!AA654,'Data Input'!AB654,'Data Input'!AC654,'Data Input'!AE654,'Data Input'!AF654,'Data Input'!AG654,'Data Input'!AI654,'Data Input'!AK654))","v":""},{"$f":"IF(I649=\"\",\"\",I649/COUNTIF('Data Input'!$C$8:$AK$8,\"C\"))","v":""},{"$f":"IF(ISBLANK('Data Input'!A654),\"\",SUM('Data Input'!T654,'Data Input'!U654))","v":""},{"$f":"IF(K649=\"\",\"\",K649/COUNTIF('Data Input'!$C$8:$AK$8,\"S\"))","v":""},{"$f":"IF(ISBLANK('Data Input'!A654),\"\",SUM('Data Input'!F654,'Data Input'!R654,'Data Input'!AJ654))","v":""},{"$f":"IF(M649=\"\",\"\",M649/COUNTIF('Data Input'!$C$8:$AK$8,\"F\"))","v":""},{"$f":"IF(ISBLANK('Data Input'!A654),\"\",SUM('Data Input'!E654,'Data Input'!M654,'Data Input'!Q654,'Data Input'!V654,'Data Input'!W654,'Data Input'!AD654,'Data Input'!AH654))","v":""},{"$f":"IF(O649=\"\",\"\",O649/COUNTIF('Data Input'!$C$8:$AK$8,\"M\"))","v":""},{"$f":"IF(ISBLANK('Data Input'!A654),\"\",SUM('Data Input'!H654,'Data Input'!K654,'Data Input'!P654,'Data Input'!Y654))","v":""},{"$f":"IF(Q649=\"\",\"\",Q649/COUNTIF('Data Input'!$C$8:$AK$8,\"G\"))","v":""}]
[{"$f":"IF('Data Input'!A655=0,\"\",'Data Input'!A655)","v":""},{"$f":"IF(ISBLANK('Data Input'!A655),\"\",COUNTIF('Data Input'!C655:AK655,\"\"))","v":""},{"$f":"IF(ISBLANK('Data Input'!A655),\"\",COUNTIF('Data Input'!C655:AK655,\"0\"))","v":""},{"$f":"IF(ISBLANK('Data Input'!A655),\"\",SUM(B650,C650))","v":""},{"$f":"IF(ISBLANK('Data Input'!A655),\"\",SUM('Data Input'!C655:AK655))","v":""},{"$f":"IF(E650=\"\",\"\",E650/(COUNTA('Data Input'!$C$8:$AK$8)))","v":""},{"$f":"IF(ISBLANK('Data Input'!A655),\"\",SUM('Data Input'!C655,'Data Input'!D655,'Data Input'!J655,'Data Input'!X655))","v":""},{"$f":"IF(G650=\"\",\"\",G650/COUNTIF('Data Input'!$C$8:$AK$8,\"N\"))","v":""},{"$f":"IF(ISBLANK('Data Input'!A655),\"\",SUM('Data Input'!G655,'Data Input'!I655,'Data Input'!L655,'Data Input'!N655,'Data Input'!O655,'Data Input'!S655,'Data Input'!Z655,'Data Input'!AA655,'Data Input'!AB655,'Data Input'!AC655,'Data Input'!AE655,'Data Input'!AF655,'Data Input'!AG655,'Data Input'!AI655,'Data Input'!AK655))","v":""},{"$f":"IF(I650=\"\",\"\",I650/COUNTIF('Data Input'!$C$8:$AK$8,\"C\"))","v":""},{"$f":"IF(ISBLANK('Data Input'!A655),\"\",SUM('Data Input'!T655,'Data Input'!U655))","v":""},{"$f":"IF(K650=\"\",\"\",K650/COUNTIF('Data Input'!$C$8:$AK$8,\"S\"))","v":""},{"$f":"IF(ISBLANK('Data Input'!A655),\"\",SUM('Data Input'!F655,'Data Input'!R655,'Data Input'!AJ655))","v":""},{"$f":"IF(M650=\"\",\"\",M650/COUNTIF('Data Input'!$C$8:$AK$8,\"F\"))","v":""},{"$f":"IF(ISBLANK('Data Input'!A655),\"\",SUM('Data Input'!E655,'Data Input'!M655,'Data Input'!Q655,'Data Input'!V655,'Data Input'!W655,'Data Input'!AD655,'Data Input'!AH655))","v":""},{"$f":"IF(O650=\"\",\"\",O650/COUNTIF('Data Input'!$C$8:$AK$8,\"M\"))","v":""},{"$f":"IF(ISBLANK('Data Input'!A655),\"\",SUM('Data Input'!H655,'Data Input'!K655,'Data Input'!P655,'Data Input'!Y655))","v":""},{"$f":"IF(Q650=\"\",\"\",Q650/COUNTIF('Data Input'!$C$8:$AK$8,\"G\"))","v":""}]
[{"$f":"IF('Data Input'!A656=0,\"\",'Data Input'!A656)","v":""},{"$f":"IF(ISBLANK('Data Input'!A656),\"\",COUNTIF('Data Input'!C656:AK656,\"\"))","v":""},{"$f":"IF(ISBLANK('Data Input'!A656),\"\",COUNTIF('Data Input'!C656:AK656,\"0\"))","v":""},{"$f":"IF(ISBLANK('Data Input'!A656),\"\",SUM(B651,C651))","v":""},{"$f":"IF(ISBLANK('Data Input'!A656),\"\",SUM('Data Input'!C656:AK656))","v":""},{"$f":"IF(E651=\"\",\"\",E651/(COUNTA('Data Input'!$C$8:$AK$8)))","v":""},{"$f":"IF(ISBLANK('Data Input'!A656),\"\",SUM('Data Input'!C656,'Data Input'!D656,'Data Input'!J656,'Data Input'!X656))","v":""},{"$f":"IF(G651=\"\",\"\",G651/COUNTIF('Data Input'!$C$8:$AK$8,\"N\"))","v":""},{"$f":"IF(ISBLANK('Data Input'!A656),\"\",SUM('Data Input'!G656,'Data Input'!I656,'Data Input'!L656,'Data Input'!N656,'Data Input'!O656,'Data Input'!S656,'Data Input'!Z656,'Data Input'!AA656,'Data Input'!AB656,'Data Input'!AC656,'Data Input'!AE656,'Data Input'!AF656,'Data Input'!AG656,'Data Input'!AI656,'Data Input'!AK656))","v":""},{"$f":"IF(I651=\"\",\"\",I651/COUNTIF('Data Input'!$C$8:$AK$8,\"C\"))","v":""},{"$f":"IF(ISBLANK('Data Input'!A656),\"\",SUM('Data Input'!T656,'Data Input'!U656))","v":""},{"$f":"IF(K651=\"\",\"\",K651/COUNTIF('Data Input'!$C$8:$AK$8,\"S\"))","v":""},{"$f":"IF(ISBLANK('Data Input'!A656),\"\",SUM('Data Input'!F656,'Data Input'!R656,'Data Input'!AJ656))","v":""},{"$f":"IF(M651=\"\",\"\",M651/COUNTIF('Data Input'!$C$8:$AK$8,\"F\"))","v":""},{"$f":"IF(ISBLANK('Data Input'!A656),\"\",SUM('Data Input'!E656,'Data Input'!M656,'Data Input'!Q656,'Data Input'!V656,'Data Input'!W656,'Data Input'!AD656,'Data Input'!AH656))","v":""},{"$f":"IF(O651=\"\",\"\",O651/COUNTIF('Data Input'!$C$8:$AK$8,\"M\"))","v":""},{"$f":"IF(ISBLANK('Data Input'!A656),\"\",SUM('Data Input'!H656,'Data Input'!K656,'Data Input'!P656,'Data Input'!Y656))","v":""},{"$f":"IF(Q651=\"\",\"\",Q651/COUNTIF('Data Input'!$C$8:$AK$8,\"G\"))","v":""}]
[{"$f":"IF('Data Input'!A657=0,\"\",'Data Input'!A657)","v":""},{"$f":"IF(ISBLANK('Data Input'!A657),\"\",COUNTIF('Data Input'!C657:AK657,\"\"))","v":""},{"$f":"IF(ISBLANK('Data Input'!A657),\"\",COUNTIF('Data Input'!C657:AK657,\"0\"))","v":""},{"$f":"IF(ISBLANK('Data Input'!A657),\"\",SUM(B652,C652))","v":""},{"$f":"IF(ISBLANK('Data Input'!A657),\"\",SUM('Data Input'!C657:AK657))","v":""},{"$f":"IF(E652=\"\",\"\",E652/(COUNTA('Data Input'!$C$8:$AK$8)))","v":""},{"$f":"IF(ISBLANK('Data Input'!A657),\"\",SUM('Data Input'!C657,'Data Input'!D657,'Data Input'!J657,'Data Input'!X657))","v":""},{"$f":"IF(G652=\"\",\"\",G652/COUNTIF('Data Input'!$C$8:$AK$8,\"N\"))","v":""},{"$f":"IF(ISBLANK('Data Input'!A657),\"\",SUM('Data Input'!G657,'Data Input'!I657,'Data Input'!L657,'Data Input'!N657,'Data Input'!O657,'Data Input'!S657,'Data Input'!Z657,'Data Input'!AA657,'Data Input'!AB657,'Data Input'!AC657,'Data Input'!AE657,'Data Input'!AF657,'Data Input'!AG657,'Data Input'!AI657,'Data Input'!AK657))","v":""},{"$f":"IF(I652=\"\",\"\",I652/COUNTIF('Data Input'!$C$8:$AK$8,\"C\"))","v":""},{"$f":"IF(ISBLANK('Data Input'!A657),\"\",SUM('Data Input'!T657,'Data Input'!U657))","v":""},{"$f":"IF(K652=\"\",\"\",K652/COUNTIF('Data Input'!$C$8:$AK$8,\"S\"))","v":""},{"$f":"IF(ISBLANK('Data Input'!A657),\"\",SUM('Data Input'!F657,'Data Input'!R657,'Data Input'!AJ657))","v":""},{"$f":"IF(M652=\"\",\"\",M652/COUNTIF('Data Input'!$C$8:$AK$8,\"F\"))","v":""},{"$f":"IF(ISBLANK('Data Input'!A657),\"\",SUM('Data Input'!E657,'Data Input'!M657,'Data Input'!Q657,'Data Input'!V657,'Data Input'!W657,'Data Input'!AD657,'Data Input'!AH657))","v":""},{"$f":"IF(O652=\"\",\"\",O652/COUNTIF('Data Input'!$C$8:$AK$8,\"M\"))","v":""},{"$f":"IF(ISBLANK('Data Input'!A657),\"\",SUM('Data Input'!H657,'Data Input'!K657,'Data Input'!P657,'Data Input'!Y657))","v":""},{"$f":"IF(Q652=\"\",\"\",Q652/COUNTIF('Data Input'!$C$8:$AK$8,\"G\"))","v":""}]
[{"$f":"IF('Data Input'!A658=0,\"\",'Data Input'!A658)","v":""},{"$f":"IF(ISBLANK('Data Input'!A658),\"\",COUNTIF('Data Input'!C658:AK658,\"\"))","v":""},{"$f":"IF(ISBLANK('Data Input'!A658),\"\",COUNTIF('Data Input'!C658:AK658,\"0\"))","v":""},{"$f":"IF(ISBLANK('Data Input'!A658),\"\",SUM(B653,C653))","v":""},{"$f":"IF(ISBLANK('Data Input'!A658),\"\",SUM('Data Input'!C658:AK658))","v":""},{"$f":"IF(E653=\"\",\"\",E653/(COUNTA('Data Input'!$C$8:$AK$8)))","v":""},{"$f":"IF(ISBLANK('Data Input'!A658),\"\",SUM('Data Input'!C658,'Data Input'!D658,'Data Input'!J658,'Data Input'!X658))","v":""},{"$f":"IF(G653=\"\",\"\",G653/COUNTIF('Data Input'!$C$8:$AK$8,\"N\"))","v":""},{"$f":"IF(ISBLANK('Data Input'!A658),\"\",SUM('Data Input'!G658,'Data Input'!I658,'Data Input'!L658,'Data Input'!N658,'Data Input'!O658,'Data Input'!S658,'Data Input'!Z658,'Data Input'!AA658,'Data Input'!AB658,'Data Input'!AC658,'Data Input'!AE658,'Data Input'!AF658,'Data Input'!AG658,'Data Input'!AI658,'Data Input'!AK658))","v":""},{"$f":"IF(I653=\"\",\"\",I653/COUNTIF('Data Input'!$C$8:$AK$8,\"C\"))","v":""},{"$f":"IF(ISBLANK('Data Input'!A658),\"\",SUM('Data Input'!T658,'Data Input'!U658))","v":""},{"$f":"IF(K653=\"\",\"\",K653/COUNTIF('Data Input'!$C$8:$AK$8,\"S\"))","v":""},{"$f":"IF(ISBLANK('Data Input'!A658),\"\",SUM('Data Input'!F658,'Data Input'!R658,'Data Input'!AJ658))","v":""},{"$f":"IF(M653=\"\",\"\",M653/COUNTIF('Data Input'!$C$8:$AK$8,\"F\"))","v":""},{"$f":"IF(ISBLANK('Data Input'!A658),\"\",SUM('Data Input'!E658,'Data Input'!M658,'Data Input'!Q658,'Data Input'!V658,'Data Input'!W658,'Data Input'!AD658,'Data Input'!AH658))","v":""},{"$f":"IF(O653=\"\",\"\",O653/COUNTIF('Data Input'!$C$8:$AK$8,\"M\"))","v":""},{"$f":"IF(ISBLANK('Data Input'!A658),\"\",SUM('Data Input'!H658,'Data Input'!K658,'Data Input'!P658,'Data Input'!Y658))","v":""},{"$f":"IF(Q653=\"\",\"\",Q653/COUNTIF('Data Input'!$C$8:$AK$8,\"G\"))","v":""}]
[{"$f":"IF('Data Input'!A659=0,\"\",'Data Input'!A659)","v":""},{"$f":"IF(ISBLANK('Data Input'!A659),\"\",COUNTIF('Data Input'!C659:AK659,\"\"))","v":""},{"$f":"IF(ISBLANK('Data Input'!A659),\"\",COUNTIF('Data Input'!C659:AK659,\"0\"))","v":""},{"$f":"IF(ISBLANK('Data Input'!A659),\"\",SUM(B654,C654))","v":""},{"$f":"IF(ISBLANK('Data Input'!A659),\"\",SUM('Data Input'!C659:AK659))","v":""},{"$f":"IF(E654=\"\",\"\",E654/(COUNTA('Data Input'!$C$8:$AK$8)))","v":""},{"$f":"IF(ISBLANK('Data Input'!A659),\"\",SUM('Data Input'!C659,'Data Input'!D659,'Data Input'!J659,'Data Input'!X659))","v":""},{"$f":"IF(G654=\"\",\"\",G654/COUNTIF('Data Input'!$C$8:$AK$8,\"N\"))","v":""},{"$f":"IF(ISBLANK('Data Input'!A659),\"\",SUM('Data Input'!G659,'Data Input'!I659,'Data Input'!L659,'Data Input'!N659,'Data Input'!O659,'Data Input'!S659,'Data Input'!Z659,'Data Input'!AA659,'Data Input'!AB659,'Data Input'!AC659,'Data Input'!AE659,'Data Input'!AF659,'Data Input'!AG659,'Data Input'!AI659,'Data Input'!AK659))","v":""},{"$f":"IF(I654=\"\",\"\",I654/COUNTIF('Data Input'!$C$8:$AK$8,\"C\"))","v":""},{"$f":"IF(ISBLANK('Data Input'!A659),\"\",SUM('Data Input'!T659,'Data Input'!U659))","v":""},{"$f":"IF(K654=\"\",\"\",K654/COUNTIF('Data Input'!$C$8:$AK$8,\"S\"))","v":""},{"$f":"IF(ISBLANK('Data Input'!A659),\"\",SUM('Data Input'!F659,'Data Input'!R659,'Data Input'!AJ659))","v":""},{"$f":"IF(M654=\"\",\"\",M654/COUNTIF('Data Input'!$C$8:$AK$8,\"F\"))","v":""},{"$f":"IF(ISBLANK('Data Input'!A659),\"\",SUM('Data Input'!E659,'Data Input'!M659,'Data Input'!Q659,'Data Input'!V659,'Data Input'!W659,'Data Input'!AD659,'Data Input'!AH659))","v":""},{"$f":"IF(O654=\"\",\"\",O654/COUNTIF('Data Input'!$C$8:$AK$8,\"M\"))","v":""},{"$f":"IF(ISBLANK('Data Input'!A659),\"\",SUM('Data Input'!H659,'Data Input'!K659,'Data Input'!P659,'Data Input'!Y659))","v":""},{"$f":"IF(Q654=\"\",\"\",Q654/COUNTIF('Data Input'!$C$8:$AK$8,\"G\"))","v":""}]
[{"$f":"IF('Data Input'!A660=0,\"\",'Data Input'!A660)","v":""},{"$f":"IF(ISBLANK('Data Input'!A660),\"\",COUNTIF('Data Input'!C660:AK660,\"\"))","v":""},{"$f":"IF(ISBLANK('Data Input'!A660),\"\",COUNTIF('Data Input'!C660:AK660,\"0\"))","v":""},{"$f":"IF(ISBLANK('Data Input'!A660),\"\",SUM(B655,C655))","v":""},{"$f":"IF(ISBLANK('Data Input'!A660),\"\",SUM('Data Input'!C660:AK660))","v":""},{"$f":"IF(E655=\"\",\"\",E655/(COUNTA('Data Input'!$C$8:$AK$8)))","v":""},{"$f":"IF(ISBLANK('Data Input'!A660),\"\",SUM('Data Input'!C660,'Data Input'!D660,'Data Input'!J660,'Data Input'!X660))","v":""},{"$f":"IF(G655=\"\",\"\",G655/COUNTIF('Data Input'!$C$8:$AK$8,\"N\"))","v":""},{"$f":"IF(ISBLANK('Data Input'!A660),\"\",SUM('Data Input'!G660,'Data Input'!I660,'Data Input'!L660,'Data Input'!N660,'Data Input'!O660,'Data Input'!S660,'Data Input'!Z660,'Data Input'!AA660,'Data Input'!AB660,'Data Input'!AC660,'Data Input'!AE660,'Data Input'!AF660,'Data Input'!AG660,'Data Input'!AI660,'Data Input'!AK660))","v":""},{"$f":"IF(I655=\"\",\"\",I655/COUNTIF('Data Input'!$C$8:$AK$8,\"C\"))","v":""},{"$f":"IF(ISBLANK('Data Input'!A660),\"\",SUM('Data Input'!T660,'Data Input'!U660))","v":""},{"$f":"IF(K655=\"\",\"\",K655/COUNTIF('Data Input'!$C$8:$AK$8,\"S\"))","v":""},{"$f":"IF(ISBLANK('Data Input'!A660),\"\",SUM('Data Input'!F660,'Data Input'!R660,'Data Input'!AJ660))","v":""},{"$f":"IF(M655=\"\",\"\",M655/COUNTIF('Data Input'!$C$8:$AK$8,\"F\"))","v":""},{"$f":"IF(ISBLANK('Data Input'!A660),\"\",SUM('Data Input'!E660,'Data Input'!M660,'Data Input'!Q660,'Data Input'!V660,'Data Input'!W660,'Data Input'!AD660,'Data Input'!AH660))","v":""},{"$f":"IF(O655=\"\",\"\",O655/COUNTIF('Data Input'!$C$8:$AK$8,\"M\"))","v":""},{"$f":"IF(ISBLANK('Data Input'!A660),\"\",SUM('Data Input'!H660,'Data Input'!K660,'Data Input'!P660,'Data Input'!Y660))","v":""},{"$f":"IF(Q655=\"\",\"\",Q655/COUNTIF('Data Input'!$C$8:$AK$8,\"G\"))","v":""}]
[{"$f":"IF('Data Input'!A661=0,\"\",'Data Input'!A661)","v":""},{"$f":"IF(ISBLANK('Data Input'!A661),\"\",COUNTIF('Data Input'!C661:AK661,\"\"))","v":""},{"$f":"IF(ISBLANK('Data Input'!A661),\"\",COUNTIF('Data Input'!C661:AK661,\"0\"))","v":""},{"$f":"IF(ISBLANK('Data Input'!A661),\"\",SUM(B656,C656))","v":""},{"$f":"IF(ISBLANK('Data Input'!A661),\"\",SUM('Data Input'!C661:AK661))","v":""},{"$f":"IF(E656=\"\",\"\",E656/(COUNTA('Data Input'!$C$8:$AK$8)))","v":""},{"$f":"IF(ISBLANK('Data Input'!A661),\"\",SUM('Data Input'!C661,'Data Input'!D661,'Data Input'!J661,'Data Input'!X661))","v":""},{"$f":"IF(G656=\"\",\"\",G656/COUNTIF('Data Input'!$C$8:$AK$8,\"N\"))","v":""},{"$f":"IF(ISBLANK('Data Input'!A661),\"\",SUM('Data Input'!G661,'Data Input'!I661,'Data Input'!L661,'Data Input'!N661,'Data Input'!O661,'Data Input'!S661,'Data Input'!Z661,'Data Input'!AA661,'Data Input'!AB661,'Data Input'!AC661,'Data Input'!AE661,'Data Input'!AF661,'Data Input'!AG661,'Data Input'!AI661,'Data Input'!AK661))","v":""},{"$f":"IF(I656=\"\",\"\",I656/COUNTIF('Data Input'!$C$8:$AK$8,\"C\"))","v":""},{"$f":"IF(ISBLANK('Data Input'!A661),\"\",SUM('Data Input'!T661,'Data Input'!U661))","v":""},{"$f":"IF(K656=\"\",\"\",K656/COUNTIF('Data Input'!$C$8:$AK$8,\"S\"))","v":""},{"$f":"IF(ISBLANK('Data Input'!A661),\"\",SUM('Data Input'!F661,'Data Input'!R661,'Data Input'!AJ661))","v":""},{"$f":"IF(M656=\"\",\"\",M656/COUNTIF('Data Input'!$C$8:$AK$8,\"F\"))","v":""},{"$f":"IF(ISBLANK('Data Input'!A661),\"\",SUM('Data Input'!E661,'Data Input'!M661,'Data Input'!Q661,'Data Input'!V661,'Data Input'!W661,'Data Input'!AD661,'Data Input'!AH661))","v":""},{"$f":"IF(O656=\"\",\"\",O656/COUNTIF('Data Input'!$C$8:$AK$8,\"M\"))","v":""},{"$f":"IF(ISBLANK('Data Input'!A661),\"\",SUM('Data Input'!H661,'Data Input'!K661,'Data Input'!P661,'Data Input'!Y661))","v":""},{"$f":"IF(Q656=\"\",\"\",Q656/COUNTIF('Data Input'!$C$8:$AK$8,\"G\"))","v":""}]
[{"$f":"IF('Data Input'!A662=0,\"\",'Data Input'!A662)","v":""},{"$f":"IF(ISBLANK('Data Input'!A662),\"\",COUNTIF('Data Input'!C662:AK662,\"\"))","v":""},{"$f":"IF(ISBLANK('Data Input'!A662),\"\",COUNTIF('Data Input'!C662:AK662,\"0\"))","v":""},{"$f":"IF(ISBLANK('Data Input'!A662),\"\",SUM(B657,C657))","v":""},{"$f":"IF(ISBLANK('Data Input'!A662),\"\",SUM('Data Input'!C662:AK662))","v":""},{"$f":"IF(E657=\"\",\"\",E657/(COUNTA('Data Input'!$C$8:$AK$8)))","v":""},{"$f":"IF(ISBLANK('Data Input'!A662),\"\",SUM('Data Input'!C662,'Data Input'!D662,'Data Input'!J662,'Data Input'!X662))","v":""},{"$f":"IF(G657=\"\",\"\",G657/COUNTIF('Data Input'!$C$8:$AK$8,\"N\"))","v":""},{"$f":"IF(ISBLANK('Data Input'!A662),\"\",SUM('Data Input'!G662,'Data Input'!I662,'Data Input'!L662,'Data Input'!N662,'Data Input'!O662,'Data Input'!S662,'Data Input'!Z662,'Data Input'!AA662,'Data Input'!AB662,'Data Input'!AC662,'Data Input'!AE662,'Data Input'!AF662,'Data Input'!AG662,'Data Input'!AI662,'Data Input'!AK662))","v":""},{"$f":"IF(I657=\"\",\"\",I657/COUNTIF('Data Input'!$C$8:$AK$8,\"C\"))","v":""},{"$f":"IF(ISBLANK('Data Input'!A662),\"\",SUM('Data Input'!T662,'Data Input'!U662))","v":""},{"$f":"IF(K657=\"\",\"\",K657/COUNTIF('Data Input'!$C$8:$AK$8,\"S\"))","v":""},{"$f":"IF(ISBLANK('Data Input'!A662),\"\",SUM('Data Input'!F662,'Data Input'!R662,'Data Input'!AJ662))","v":""},{"$f":"IF(M657=\"\",\"\",M657/COUNTIF('Data Input'!$C$8:$AK$8,\"F\"))","v":""},{"$f":"IF(ISBLANK('Data Input'!A662),\"\",SUM('Data Input'!E662,'Data Input'!M662,'Data Input'!Q662,'Data Input'!V662,'Data Input'!W662,'Data Input'!AD662,'Data Input'!AH662))","v":""},{"$f":"IF(O657=\"\",\"\",O657/COUNTIF('Data Input'!$C$8:$AK$8,\"M\"))","v":""},{"$f":"IF(ISBLANK('Data Input'!A662),\"\",SUM('Data Input'!H662,'Data Input'!K662,'Data Input'!P662,'Data Input'!Y662))","v":""},{"$f":"IF(Q657=\"\",\"\",Q657/COUNTIF('Data Input'!$C$8:$AK$8,\"G\"))","v":""}]
[{"$f":"IF('Data Input'!A663=0,\"\",'Data Input'!A663)","v":""},{"$f":"IF(ISBLANK('Data Input'!A663),\"\",COUNTIF('Data Input'!C663:AK663,\"\"))","v":""},{"$f":"IF(ISBLANK('Data Input'!A663),\"\",COUNTIF('Data Input'!C663:AK663,\"0\"))","v":""},{"$f":"IF(ISBLANK('Data Input'!A663),\"\",SUM(B658,C658))","v":""},{"$f":"IF(ISBLANK('Data Input'!A663),\"\",SUM('Data Input'!C663:AK663))","v":""},{"$f":"IF(E658=\"\",\"\",E658/(COUNTA('Data Input'!$C$8:$AK$8)))","v":""},{"$f":"IF(ISBLANK('Data Input'!A663),\"\",SUM('Data Input'!C663,'Data Input'!D663,'Data Input'!J663,'Data Input'!X663))","v":""},{"$f":"IF(G658=\"\",\"\",G658/COUNTIF('Data Input'!$C$8:$AK$8,\"N\"))","v":""},{"$f":"IF(ISBLANK('Data Input'!A663),\"\",SUM('Data Input'!G663,'Data Input'!I663,'Data Input'!L663,'Data Input'!N663,'Data Input'!O663,'Data Input'!S663,'Data Input'!Z663,'Data Input'!AA663,'Data Input'!AB663,'Data Input'!AC663,'Data Input'!AE663,'Data Input'!AF663,'Data Input'!AG663,'Data Input'!AI663,'Data Input'!AK663))","v":""},{"$f":"IF(I658=\"\",\"\",I658/COUNTIF('Data Input'!$C$8:$AK$8,\"C\"))","v":""},{"$f":"IF(ISBLANK('Data Input'!A663),\"\",SUM('Data Input'!T663,'Data Input'!U663))","v":""},{"$f":"IF(K658=\"\",\"\",K658/COUNTIF('Data Input'!$C$8:$AK$8,\"S\"))","v":""},{"$f":"IF(ISBLANK('Data Input'!A663),\"\",SUM('Data Input'!F663,'Data Input'!R663,'Data Input'!AJ663))","v":""},{"$f":"IF(M658=\"\",\"\",M658/COUNTIF('Data Input'!$C$8:$AK$8,\"F\"))","v":""},{"$f":"IF(ISBLANK('Data Input'!A663),\"\",SUM('Data Input'!E663,'Data Input'!M663,'Data Input'!Q663,'Data Input'!V663,'Data Input'!W663,'Data Input'!AD663,'Data Input'!AH663))","v":""},{"$f":"IF(O658=\"\",\"\",O658/COUNTIF('Data Input'!$C$8:$AK$8,\"M\"))","v":""},{"$f":"IF(ISBLANK('Data Input'!A663),\"\",SUM('Data Input'!H663,'Data Input'!K663,'Data Input'!P663,'Data Input'!Y663))","v":""},{"$f":"IF(Q658=\"\",\"\",Q658/COUNTIF('Data Input'!$C$8:$AK$8,\"G\"))","v":""}]
[{"$f":"IF('Data Input'!A664=0,\"\",'Data Input'!A664)","v":""},{"$f":"IF(ISBLANK('Data Input'!A664),\"\",COUNTIF('Data Input'!C664:AK664,\"\"))","v":""},{"$f":"IF(ISBLANK('Data Input'!A664),\"\",COUNTIF('Data Input'!C664:AK664,\"0\"))","v":""},{"$f":"IF(ISBLANK('Data Input'!A664),\"\",SUM(B659,C659))","v":""},{"$f":"IF(ISBLANK('Data Input'!A664),\"\",SUM('Data Input'!C664:AK664))","v":""},{"$f":"IF(E659=\"\",\"\",E659/(COUNTA('Data Input'!$C$8:$AK$8)))","v":""},{"$f":"IF(ISBLANK('Data Input'!A664),\"\",SUM('Data Input'!C664,'Data Input'!D664,'Data Input'!J664,'Data Input'!X664))","v":""},{"$f":"IF(G659=\"\",\"\",G659/COUNTIF('Data Input'!$C$8:$AK$8,\"N\"))","v":""},{"$f":"IF(ISBLANK('Data Input'!A664),\"\",SUM('Data Input'!G664,'Data Input'!I664,'Data Input'!L664,'Data Input'!N664,'Data Input'!O664,'Data Input'!S664,'Data Input'!Z664,'Data Input'!AA664,'Data Input'!AB664,'Data Input'!AC664,'Data Input'!AE664,'Data Input'!AF664,'Data Input'!AG664,'Data Input'!AI664,'Data Input'!AK664))","v":""},{"$f":"IF(I659=\"\",\"\",I659/COUNTIF('Data Input'!$C$8:$AK$8,\"C\"))","v":""},{"$f":"IF(ISBLANK('Data Input'!A664),\"\",SUM('Data Input'!T664,'Data Input'!U664))","v":""},{"$f":"IF(K659=\"\",\"\",K659/COUNTIF('Data Input'!$C$8:$AK$8,\"S\"))","v":""},{"$f":"IF(ISBLANK('Data Input'!A664),\"\",SUM('Data Input'!F664,'Data Input'!R664,'Data Input'!AJ664))","v":""},{"$f":"IF(M659=\"\",\"\",M659/COUNTIF('Data Input'!$C$8:$AK$8,\"F\"))","v":""},{"$f":"IF(ISBLANK('Data Input'!A664),\"\",SUM('Data Input'!E664,'Data Input'!M664,'Data Input'!Q664,'Data Input'!V664,'Data Input'!W664,'Data Input'!AD664,'Data Input'!AH664))","v":""},{"$f":"IF(O659=\"\",\"\",O659/COUNTIF('Data Input'!$C$8:$AK$8,\"M\"))","v":""},{"$f":"IF(ISBLANK('Data Input'!A664),\"\",SUM('Data Input'!H664,'Data Input'!K664,'Data Input'!P664,'Data Input'!Y664))","v":""},{"$f":"IF(Q659=\"\",\"\",Q659/COUNTIF('Data Input'!$C$8:$AK$8,\"G\"))","v":""}]
[{"$f":"IF('Data Input'!A665=0,\"\",'Data Input'!A665)","v":""},{"$f":"IF(ISBLANK('Data Input'!A665),\"\",COUNTIF('Data Input'!C665:AK665,\"\"))","v":""},{"$f":"IF(ISBLANK('Data Input'!A665),\"\",COUNTIF('Data Input'!C665:AK665,\"0\"))","v":""},{"$f":"IF(ISBLANK('Data Input'!A665),\"\",SUM(B660,C660))","v":""},{"$f":"IF(ISBLANK('Data Input'!A665),\"\",SUM('Data Input'!C665:AK665))","v":""},{"$f":"IF(E660=\"\",\"\",E660/(COUNTA('Data Input'!$C$8:$AK$8)))","v":""},{"$f":"IF(ISBLANK('Data Input'!A665),\"\",SUM('Data Input'!C665,'Data Input'!D665,'Data Input'!J665,'Data Input'!X665))","v":""},{"$f":"IF(G660=\"\",\"\",G660/COUNTIF('Data Input'!$C$8:$AK$8,\"N\"))","v":""},{"$f":"IF(ISBLANK('Data Input'!A665),\"\",SUM('Data Input'!G665,'Data Input'!I665,'Data Input'!L665,'Data Input'!N665,'Data Input'!O665,'Data Input'!S665,'Data Input'!Z665,'Data Input'!AA665,'Data Input'!AB665,'Data Input'!AC665,'Data Input'!AE665,'Data Input'!AF665,'Data Input'!AG665,'Data Input'!AI665,'Data Input'!AK665))","v":""},{"$f":"IF(I660=\"\",\"\",I660/COUNTIF('Data Input'!$C$8:$AK$8,\"C\"))","v":""},{"$f":"IF(ISBLANK('Data Input'!A665),\"\",SUM('Data Input'!T665,'Data Input'!U665))","v":""},{"$f":"IF(K660=\"\",\"\",K660/COUNTIF('Data Input'!$C$8:$AK$8,\"S\"))","v":""},{"$f":"IF(ISBLANK('Data Input'!A665),\"\",SUM('Data Input'!F665,'Data Input'!R665,'Data Input'!AJ665))","v":""},{"$f":"IF(M660=\"\",\"\",M660/COUNTIF('Data Input'!$C$8:$AK$8,\"F\"))","v":""},{"$f":"IF(ISBLANK('Data Input'!A665),\"\",SUM('Data Input'!E665,'Data Input'!M665,'Data Input'!Q665,'Data Input'!V665,'Data Input'!W665,'Data Input'!AD665,'Data Input'!AH665))","v":""},{"$f":"IF(O660=\"\",\"\",O660/COUNTIF('Data Input'!$C$8:$AK$8,\"M\"))","v":""},{"$f":"IF(ISBLANK('Data Input'!A665),\"\",SUM('Data Input'!H665,'Data Input'!K665,'Data Input'!P665,'Data Input'!Y665))","v":""},{"$f":"IF(Q660=\"\",\"\",Q660/COUNTIF('Data Input'!$C$8:$AK$8,\"G\"))","v":""}]
[{"$f":"IF('Data Input'!A666=0,\"\",'Data Input'!A666)","v":""},{"$f":"IF(ISBLANK('Data Input'!A666),\"\",COUNTIF('Data Input'!C666:AK666,\"\"))","v":""},{"$f":"IF(ISBLANK('Data Input'!A666),\"\",COUNTIF('Data Input'!C666:AK666,\"0\"))","v":""},{"$f":"IF(ISBLANK('Data Input'!A666),\"\",SUM(B661,C661))","v":""},{"$f":"IF(ISBLANK('Data Input'!A666),\"\",SUM('Data Input'!C666:AK666))","v":""},{"$f":"IF(E661=\"\",\"\",E661/(COUNTA('Data Input'!$C$8:$AK$8)))","v":""},{"$f":"IF(ISBLANK('Data Input'!A666),\"\",SUM('Data Input'!C666,'Data Input'!D666,'Data Input'!J666,'Data Input'!X666))","v":""},{"$f":"IF(G661=\"\",\"\",G661/COUNTIF('Data Input'!$C$8:$AK$8,\"N\"))","v":""},{"$f":"IF(ISBLANK('Data Input'!A666),\"\",SUM('Data Input'!G666,'Data Input'!I666,'Data Input'!L666,'Data Input'!N666,'Data Input'!O666,'Data Input'!S666,'Data Input'!Z666,'Data Input'!AA666,'Data Input'!AB666,'Data Input'!AC666,'Data Input'!AE666,'Data Input'!AF666,'Data Input'!AG666,'Data Input'!AI666,'Data Input'!AK666))","v":""},{"$f":"IF(I661=\"\",\"\",I661/COUNTIF('Data Input'!$C$8:$AK$8,\"C\"))","v":""},{"$f":"IF(ISBLANK('Data Input'!A666),\"\",SUM('Data Input'!T666,'Data Input'!U666))","v":""},{"$f":"IF(K661=\"\",\"\",K661/COUNTIF('Data Input'!$C$8:$AK$8,\"S\"))","v":""},{"$f":"IF(ISBLANK('Data Input'!A666),\"\",SUM('Data Input'!F666,'Data Input'!R666,'Data Input'!AJ666))","v":""},{"$f":"IF(M661=\"\",\"\",M661/COUNTIF('Data Input'!$C$8:$AK$8,\"F\"))","v":""},{"$f":"IF(ISBLANK('Data Input'!A666),\"\",SUM('Data Input'!E666,'Data Input'!M666,'Data Input'!Q666,'Data Input'!V666,'Data Input'!W666,'Data Input'!AD666,'Data Input'!AH666))","v":""},{"$f":"IF(O661=\"\",\"\",O661/COUNTIF('Data Input'!$C$8:$AK$8,\"M\"))","v":""},{"$f":"IF(ISBLANK('Data Input'!A666),\"\",SUM('Data Input'!H666,'Data Input'!K666,'Data Input'!P666,'Data Input'!Y666))","v":""},{"$f":"IF(Q661=\"\",\"\",Q661/COUNTIF('Data Input'!$C$8:$AK$8,\"G\"))","v":""}]
[{"$f":"IF('Data Input'!A667=0,\"\",'Data Input'!A667)","v":""},{"$f":"IF(ISBLANK('Data Input'!A667),\"\",COUNTIF('Data Input'!C667:AK667,\"\"))","v":""},{"$f":"IF(ISBLANK('Data Input'!A667),\"\",COUNTIF('Data Input'!C667:AK667,\"0\"))","v":""},{"$f":"IF(ISBLANK('Data Input'!A667),\"\",SUM(B662,C662))","v":""},{"$f":"IF(ISBLANK('Data Input'!A667),\"\",SUM('Data Input'!C667:AK667))","v":""},{"$f":"IF(E662=\"\",\"\",E662/(COUNTA('Data Input'!$C$8:$AK$8)))","v":""},{"$f":"IF(ISBLANK('Data Input'!A667),\"\",SUM('Data Input'!C667,'Data Input'!D667,'Data Input'!J667,'Data Input'!X667))","v":""},{"$f":"IF(G662=\"\",\"\",G662/COUNTIF('Data Input'!$C$8:$AK$8,\"N\"))","v":""},{"$f":"IF(ISBLANK('Data Input'!A667),\"\",SUM('Data Input'!G667,'Data Input'!I667,'Data Input'!L667,'Data Input'!N667,'Data Input'!O667,'Data Input'!S667,'Data Input'!Z667,'Data Input'!AA667,'Data Input'!AB667,'Data Input'!AC667,'Data Input'!AE667,'Data Input'!AF667,'Data Input'!AG667,'Data Input'!AI667,'Data Input'!AK667))","v":""},{"$f":"IF(I662=\"\",\"\",I662/COUNTIF('Data Input'!$C$8:$AK$8,\"C\"))","v":""},{"$f":"IF(ISBLANK('Data Input'!A667),\"\",SUM('Data Input'!T667,'Data Input'!U667))","v":""},{"$f":"IF(K662=\"\",\"\",K662/COUNTIF('Data Input'!$C$8:$AK$8,\"S\"))","v":""},{"$f":"IF(ISBLANK('Data Input'!A667),\"\",SUM('Data Input'!F667,'Data Input'!R667,'Data Input'!AJ667))","v":""},{"$f":"IF(M662=\"\",\"\",M662/COUNTIF('Data Input'!$C$8:$AK$8,\"F\"))","v":""},{"$f":"IF(ISBLANK('Data Input'!A667),\"\",SUM('Data Input'!E667,'Data Input'!M667,'Data Input'!Q667,'Data Input'!V667,'Data Input'!W667,'Data Input'!AD667,'Data Input'!AH667))","v":""},{"$f":"IF(O662=\"\",\"\",O662/COUNTIF('Data Input'!$C$8:$AK$8,\"M\"))","v":""},{"$f":"IF(ISBLANK('Data Input'!A667),\"\",SUM('Data Input'!H667,'Data Input'!K667,'Data Input'!P667,'Data Input'!Y667))","v":""},{"$f":"IF(Q662=\"\",\"\",Q662/COUNTIF('Data Input'!$C$8:$AK$8,\"G\"))","v":""}]
[{"$f":"IF('Data Input'!A668=0,\"\",'Data Input'!A668)","v":""},{"$f":"IF(ISBLANK('Data Input'!A668),\"\",COUNTIF('Data Input'!C668:AK668,\"\"))","v":""},{"$f":"IF(ISBLANK('Data Input'!A668),\"\",COUNTIF('Data Input'!C668:AK668,\"0\"))","v":""},{"$f":"IF(ISBLANK('Data Input'!A668),\"\",SUM(B663,C663))","v":""},{"$f":"IF(ISBLANK('Data Input'!A668),\"\",SUM('Data Input'!C668:AK668))","v":""},{"$f":"IF(E663=\"\",\"\",E663/(COUNTA('Data Input'!$C$8:$AK$8)))","v":""},{"$f":"IF(ISBLANK('Data Input'!A668),\"\",SUM('Data Input'!C668,'Data Input'!D668,'Data Input'!J668,'Data Input'!X668))","v":""},{"$f":"IF(G663=\"\",\"\",G663/COUNTIF('Data Input'!$C$8:$AK$8,\"N\"))","v":""},{"$f":"IF(ISBLANK('Data Input'!A668),\"\",SUM('Data Input'!G668,'Data Input'!I668,'Data Input'!L668,'Data Input'!N668,'Data Input'!O668,'Data Input'!S668,'Data Input'!Z668,'Data Input'!AA668,'Data Input'!AB668,'Data Input'!AC668,'Data Input'!AE668,'Data Input'!AF668,'Data Input'!AG668,'Data Input'!AI668,'Data Input'!AK668))","v":""},{"$f":"IF(I663=\"\",\"\",I663/COUNTIF('Data Input'!$C$8:$AK$8,\"C\"))","v":""},{"$f":"IF(ISBLANK('Data Input'!A668),\"\",SUM('Data Input'!T668,'Data Input'!U668))","v":""},{"$f":"IF(K663=\"\",\"\",K663/COUNTIF('Data Input'!$C$8:$AK$8,\"S\"))","v":""},{"$f":"IF(ISBLANK('Data Input'!A668),\"\",SUM('Data Input'!F668,'Data Input'!R668,'Data Input'!AJ668))","v":""},{"$f":"IF(M663=\"\",\"\",M663/COUNTIF('Data Input'!$C$8:$AK$8,\"F\"))","v":""},{"$f":"IF(ISBLANK('Data Input'!A668),\"\",SUM('Data Input'!E668,'Data Input'!M668,'Data Input'!Q668,'Data Input'!V668,'Data Input'!W668,'Data Input'!AD668,'Data Input'!AH668))","v":""},{"$f":"IF(O663=\"\",\"\",O663/COUNTIF('Data Input'!$C$8:$AK$8,\"M\"))","v":""},{"$f":"IF(ISBLANK('Data Input'!A668),\"\",SUM('Data Input'!H668,'Data Input'!K668,'Data Input'!P668,'Data Input'!Y668))","v":""},{"$f":"IF(Q663=\"\",\"\",Q663/COUNTIF('Data Input'!$C$8:$AK$8,\"G\"))","v":""}]
[{"$f":"IF('Data Input'!A669=0,\"\",'Data Input'!A669)","v":""},{"$f":"IF(ISBLANK('Data Input'!A669),\"\",COUNTIF('Data Input'!C669:AK669,\"\"))","v":""},{"$f":"IF(ISBLANK('Data Input'!A669),\"\",COUNTIF('Data Input'!C669:AK669,\"0\"))","v":""},{"$f":"IF(ISBLANK('Data Input'!A669),\"\",SUM(B664,C664))","v":""},{"$f":"IF(ISBLANK('Data Input'!A669),\"\",SUM('Data Input'!C669:AK669))","v":""},{"$f":"IF(E664=\"\",\"\",E664/(COUNTA('Data Input'!$C$8:$AK$8)))","v":""},{"$f":"IF(ISBLANK('Data Input'!A669),\"\",SUM('Data Input'!C669,'Data Input'!D669,'Data Input'!J669,'Data Input'!X669))","v":""},{"$f":"IF(G664=\"\",\"\",G664/COUNTIF('Data Input'!$C$8:$AK$8,\"N\"))","v":""},{"$f":"IF(ISBLANK('Data Input'!A669),\"\",SUM('Data Input'!G669,'Data Input'!I669,'Data Input'!L669,'Data Input'!N669,'Data Input'!O669,'Data Input'!S669,'Data Input'!Z669,'Data Input'!AA669,'Data Input'!AB669,'Data Input'!AC669,'Data Input'!AE669,'Data Input'!AF669,'Data Input'!AG669,'Data Input'!AI669,'Data Input'!AK669))","v":""},{"$f":"IF(I664=\"\",\"\",I664/COUNTIF('Data Input'!$C$8:$AK$8,\"C\"))","v":""},{"$f":"IF(ISBLANK('Data Input'!A669),\"\",SUM('Data Input'!T669,'Data Input'!U669))","v":""},{"$f":"IF(K664=\"\",\"\",K664/COUNTIF('Data Input'!$C$8:$AK$8,\"S\"))","v":""},{"$f":"IF(ISBLANK('Data Input'!A669),\"\",SUM('Data Input'!F669,'Data Input'!R669,'Data Input'!AJ669))","v":""},{"$f":"IF(M664=\"\",\"\",M664/COUNTIF('Data Input'!$C$8:$AK$8,\"F\"))","v":""},{"$f":"IF(ISBLANK('Data Input'!A669),\"\",SUM('Data Input'!E669,'Data Input'!M669,'Data Input'!Q669,'Data Input'!V669,'Data Input'!W669,'Data Input'!AD669,'Data Input'!AH669))","v":""},{"$f":"IF(O664=\"\",\"\",O664/COUNTIF('Data Input'!$C$8:$AK$8,\"M\"))","v":""},{"$f":"IF(ISBLANK('Data Input'!A669),\"\",SUM('Data Input'!H669,'Data Input'!K669,'Data Input'!P669,'Data Input'!Y669))","v":""},{"$f":"IF(Q664=\"\",\"\",Q664/COUNTIF('Data Input'!$C$8:$AK$8,\"G\"))","v":""}]
[{"$f":"IF('Data Input'!A670=0,\"\",'Data Input'!A670)","v":""},{"$f":"IF(ISBLANK('Data Input'!A670),\"\",COUNTIF('Data Input'!C670:AK670,\"\"))","v":""},{"$f":"IF(ISBLANK('Data Input'!A670),\"\",COUNTIF('Data Input'!C670:AK670,\"0\"))","v":""},{"$f":"IF(ISBLANK('Data Input'!A670),\"\",SUM(B665,C665))","v":""},{"$f":"IF(ISBLANK('Data Input'!A670),\"\",SUM('Data Input'!C670:AK670))","v":""},{"$f":"IF(E665=\"\",\"\",E665/(COUNTA('Data Input'!$C$8:$AK$8)))","v":""},{"$f":"IF(ISBLANK('Data Input'!A670),\"\",SUM('Data Input'!C670,'Data Input'!D670,'Data Input'!J670,'Data Input'!X670))","v":""},{"$f":"IF(G665=\"\",\"\",G665/COUNTIF('Data Input'!$C$8:$AK$8,\"N\"))","v":""},{"$f":"IF(ISBLANK('Data Input'!A670),\"\",SUM('Data Input'!G670,'Data Input'!I670,'Data Input'!L670,'Data Input'!N670,'Data Input'!O670,'Data Input'!S670,'Data Input'!Z670,'Data Input'!AA670,'Data Input'!AB670,'Data Input'!AC670,'Data Input'!AE670,'Data Input'!AF670,'Data Input'!AG670,'Data Input'!AI670,'Data Input'!AK670))","v":""},{"$f":"IF(I665=\"\",\"\",I665/COUNTIF('Data Input'!$C$8:$AK$8,\"C\"))","v":""},{"$f":"IF(ISBLANK('Data Input'!A670),\"\",SUM('Data Input'!T670,'Data Input'!U670))","v":""},{"$f":"IF(K665=\"\",\"\",K665/COUNTIF('Data Input'!$C$8:$AK$8,\"S\"))","v":""},{"$f":"IF(ISBLANK('Data Input'!A670),\"\",SUM('Data Input'!F670,'Data Input'!R670,'Data Input'!AJ670))","v":""},{"$f":"IF(M665=\"\",\"\",M665/COUNTIF('Data Input'!$C$8:$AK$8,\"F\"))","v":""},{"$f":"IF(ISBLANK('Data Input'!A670),\"\",SUM('Data Input'!E670,'Data Input'!M670,'Data Input'!Q670,'Data Input'!V670,'Data Input'!W670,'Data Input'!AD670,'Data Input'!AH670))","v":""},{"$f":"IF(O665=\"\",\"\",O665/COUNTIF('Data Input'!$C$8:$AK$8,\"M\"))","v":""},{"$f":"IF(ISBLANK('Data Input'!A670),\"\",SUM('Data Input'!H670,'Data Input'!K670,'Data Input'!P670,'Data Input'!Y670))","v":""},{"$f":"IF(Q665=\"\",\"\",Q665/COUNTIF('Data Input'!$C$8:$AK$8,\"G\"))","v":""}]
[{"$f":"IF('Data Input'!A671=0,\"\",'Data Input'!A671)","v":""},{"$f":"IF(ISBLANK('Data Input'!A671),\"\",COUNTIF('Data Input'!C671:AK671,\"\"))","v":""},{"$f":"IF(ISBLANK('Data Input'!A671),\"\",COUNTIF('Data Input'!C671:AK671,\"0\"))","v":""},{"$f":"IF(ISBLANK('Data Input'!A671),\"\",SUM(B666,C666))","v":""},{"$f":"IF(ISBLANK('Data Input'!A671),\"\",SUM('Data Input'!C671:AK671))","v":""},{"$f":"IF(E666=\"\",\"\",E666/(COUNTA('Data Input'!$C$8:$AK$8)))","v":""},{"$f":"IF(ISBLANK('Data Input'!A671),\"\",SUM('Data Input'!C671,'Data Input'!D671,'Data Input'!J671,'Data Input'!X671))","v":""},{"$f":"IF(G666=\"\",\"\",G666/COUNTIF('Data Input'!$C$8:$AK$8,\"N\"))","v":""},{"$f":"IF(ISBLANK('Data Input'!A671),\"\",SUM('Data Input'!G671,'Data Input'!I671,'Data Input'!L671,'Data Input'!N671,'Data Input'!O671,'Data Input'!S671,'Data Input'!Z671,'Data Input'!AA671,'Data Input'!AB671,'Data Input'!AC671,'Data Input'!AE671,'Data Input'!AF671,'Data Input'!AG671,'Data Input'!AI671,'Data Input'!AK671))","v":""},{"$f":"IF(I666=\"\",\"\",I666/COUNTIF('Data Input'!$C$8:$AK$8,\"C\"))","v":""},{"$f":"IF(ISBLANK('Data Input'!A671),\"\",SUM('Data Input'!T671,'Data Input'!U671))","v":""},{"$f":"IF(K666=\"\",\"\",K666/COUNTIF('Data Input'!$C$8:$AK$8,\"S\"))","v":""},{"$f":"IF(ISBLANK('Data Input'!A671),\"\",SUM('Data Input'!F671,'Data Input'!R671,'Data Input'!AJ671))","v":""},{"$f":"IF(M666=\"\",\"\",M666/COUNTIF('Data Input'!$C$8:$AK$8,\"F\"))","v":""},{"$f":"IF(ISBLANK('Data Input'!A671),\"\",SUM('Data Input'!E671,'Data Input'!M671,'Data Input'!Q671,'Data Input'!V671,'Data Input'!W671,'Data Input'!AD671,'Data Input'!AH671))","v":""},{"$f":"IF(O666=\"\",\"\",O666/COUNTIF('Data Input'!$C$8:$AK$8,\"M\"))","v":""},{"$f":"IF(ISBLANK('Data Input'!A671),\"\",SUM('Data Input'!H671,'Data Input'!K671,'Data Input'!P671,'Data Input'!Y671))","v":""},{"$f":"IF(Q666=\"\",\"\",Q666/COUNTIF('Data Input'!$C$8:$AK$8,\"G\"))","v":""}]
[{"$f":"IF('Data Input'!A672=0,\"\",'Data Input'!A672)","v":""},{"$f":"IF(ISBLANK('Data Input'!A672),\"\",COUNTIF('Data Input'!C672:AK672,\"\"))","v":""},{"$f":"IF(ISBLANK('Data Input'!A672),\"\",COUNTIF('Data Input'!C672:AK672,\"0\"))","v":""},{"$f":"IF(ISBLANK('Data Input'!A672),\"\",SUM(B667,C667))","v":""},{"$f":"IF(ISBLANK('Data Input'!A672),\"\",SUM('Data Input'!C672:AK672))","v":""},{"$f":"IF(E667=\"\",\"\",E667/(COUNTA('Data Input'!$C$8:$AK$8)))","v":""},{"$f":"IF(ISBLANK('Data Input'!A672),\"\",SUM('Data Input'!C672,'Data Input'!D672,'Data Input'!J672,'Data Input'!X672))","v":""},{"$f":"IF(G667=\"\",\"\",G667/COUNTIF('Data Input'!$C$8:$AK$8,\"N\"))","v":""},{"$f":"IF(ISBLANK('Data Input'!A672),\"\",SUM('Data Input'!G672,'Data Input'!I672,'Data Input'!L672,'Data Input'!N672,'Data Input'!O672,'Data Input'!S672,'Data Input'!Z672,'Data Input'!AA672,'Data Input'!AB672,'Data Input'!AC672,'Data Input'!AE672,'Data Input'!AF672,'Data Input'!AG672,'Data Input'!AI672,'Data Input'!AK672))","v":""},{"$f":"IF(I667=\"\",\"\",I667/COUNTIF('Data Input'!$C$8:$AK$8,\"C\"))","v":""},{"$f":"IF(ISBLANK('Data Input'!A672),\"\",SUM('Data Input'!T672,'Data Input'!U672))","v":""},{"$f":"IF(K667=\"\",\"\",K667/COUNTIF('Data Input'!$C$8:$AK$8,\"S\"))","v":""},{"$f":"IF(ISBLANK('Data Input'!A672),\"\",SUM('Data Input'!F672,'Data Input'!R672,'Data Input'!AJ672))","v":""},{"$f":"IF(M667=\"\",\"\",M667/COUNTIF('Data Input'!$C$8:$AK$8,\"F\"))","v":""},{"$f":"IF(ISBLANK('Data Input'!A672),\"\",SUM('Data Input'!E672,'Data Input'!M672,'Data Input'!Q672,'Data Input'!V672,'Data Input'!W672,'Data Input'!AD672,'Data Input'!AH672))","v":""},{"$f":"IF(O667=\"\",\"\",O667/COUNTIF('Data Input'!$C$8:$AK$8,\"M\"))","v":""},{"$f":"IF(ISBLANK('Data Input'!A672),\"\",SUM('Data Input'!H672,'Data Input'!K672,'Data Input'!P672,'Data Input'!Y672))","v":""},{"$f":"IF(Q667=\"\",\"\",Q667/COUNTIF('Data Input'!$C$8:$AK$8,\"G\"))","v":""}]
[{"$f":"IF('Data Input'!A673=0,\"\",'Data Input'!A673)","v":""},{"$f":"IF(ISBLANK('Data Input'!A673),\"\",COUNTIF('Data Input'!C673:AK673,\"\"))","v":""},{"$f":"IF(ISBLANK('Data Input'!A673),\"\",COUNTIF('Data Input'!C673:AK673,\"0\"))","v":""},{"$f":"IF(ISBLANK('Data Input'!A673),\"\",SUM(B668,C668))","v":""},{"$f":"IF(ISBLANK('Data Input'!A673),\"\",SUM('Data Input'!C673:AK673))","v":""},{"$f":"IF(E668=\"\",\"\",E668/(COUNTA('Data Input'!$C$8:$AK$8)))","v":""},{"$f":"IF(ISBLANK('Data Input'!A673),\"\",SUM('Data Input'!C673,'Data Input'!D673,'Data Input'!J673,'Data Input'!X673))","v":""},{"$f":"IF(G668=\"\",\"\",G668/COUNTIF('Data Input'!$C$8:$AK$8,\"N\"))","v":""},{"$f":"IF(ISBLANK('Data Input'!A673),\"\",SUM('Data Input'!G673,'Data Input'!I673,'Data Input'!L673,'Data Input'!N673,'Data Input'!O673,'Data Input'!S673,'Data Input'!Z673,'Data Input'!AA673,'Data Input'!AB673,'Data Input'!AC673,'Data Input'!AE673,'Data Input'!AF673,'Data Input'!AG673,'Data Input'!AI673,'Data Input'!AK673))","v":""},{"$f":"IF(I668=\"\",\"\",I668/COUNTIF('Data Input'!$C$8:$AK$8,\"C\"))","v":""},{"$f":"IF(ISBLANK('Data Input'!A673),\"\",SUM('Data Input'!T673,'Data Input'!U673))","v":""},{"$f":"IF(K668=\"\",\"\",K668/COUNTIF('Data Input'!$C$8:$AK$8,\"S\"))","v":""},{"$f":"IF(ISBLANK('Data Input'!A673),\"\",SUM('Data Input'!F673,'Data Input'!R673,'Data Input'!AJ673))","v":""},{"$f":"IF(M668=\"\",\"\",M668/COUNTIF('Data Input'!$C$8:$AK$8,\"F\"))","v":""},{"$f":"IF(ISBLANK('Data Input'!A673),\"\",SUM('Data Input'!E673,'Data Input'!M673,'Data Input'!Q673,'Data Input'!V673,'Data Input'!W673,'Data Input'!AD673,'Data Input'!AH673))","v":""},{"$f":"IF(O668=\"\",\"\",O668/COUNTIF('Data Input'!$C$8:$AK$8,\"M\"))","v":""},{"$f":"IF(ISBLANK('Data Input'!A673),\"\",SUM('Data Input'!H673,'Data Input'!K673,'Data Input'!P673,'Data Input'!Y673))","v":""},{"$f":"IF(Q668=\"\",\"\",Q668/COUNTIF('Data Input'!$C$8:$AK$8,\"G\"))","v":""}]
[{"$f":"IF('Data Input'!A674=0,\"\",'Data Input'!A674)","v":""},{"$f":"IF(ISBLANK('Data Input'!A674),\"\",COUNTIF('Data Input'!C674:AK674,\"\"))","v":""},{"$f":"IF(ISBLANK('Data Input'!A674),\"\",COUNTIF('Data Input'!C674:AK674,\"0\"))","v":""},{"$f":"IF(ISBLANK('Data Input'!A674),\"\",SUM(B669,C669))","v":""},{"$f":"IF(ISBLANK('Data Input'!A674),\"\",SUM('Data Input'!C674:AK674))","v":""},{"$f":"IF(E669=\"\",\"\",E669/(COUNTA('Data Input'!$C$8:$AK$8)))","v":""},{"$f":"IF(ISBLANK('Data Input'!A674),\"\",SUM('Data Input'!C674,'Data Input'!D674,'Data Input'!J674,'Data Input'!X674))","v":""},{"$f":"IF(G669=\"\",\"\",G669/COUNTIF('Data Input'!$C$8:$AK$8,\"N\"))","v":""},{"$f":"IF(ISBLANK('Data Input'!A674),\"\",SUM('Data Input'!G674,'Data Input'!I674,'Data Input'!L674,'Data Input'!N674,'Data Input'!O674,'Data Input'!S674,'Data Input'!Z674,'Data Input'!AA674,'Data Input'!AB674,'Data Input'!AC674,'Data Input'!AE674,'Data Input'!AF674,'Data Input'!AG674,'Data Input'!AI674,'Data Input'!AK674))","v":""},{"$f":"IF(I669=\"\",\"\",I669/COUNTIF('Data Input'!$C$8:$AK$8,\"C\"))","v":""},{"$f":"IF(ISBLANK('Data Input'!A674),\"\",SUM('Data Input'!T674,'Data Input'!U674))","v":""},{"$f":"IF(K669=\"\",\"\",K669/COUNTIF('Data Input'!$C$8:$AK$8,\"S\"))","v":""},{"$f":"IF(ISBLANK('Data Input'!A674),\"\",SUM('Data Input'!F674,'Data Input'!R674,'Data Input'!AJ674))","v":""},{"$f":"IF(M669=\"\",\"\",M669/COUNTIF('Data Input'!$C$8:$AK$8,\"F\"))","v":""},{"$f":"IF(ISBLANK('Data Input'!A674),\"\",SUM('Data Input'!E674,'Data Input'!M674,'Data Input'!Q674,'Data Input'!V674,'Data Input'!W674,'Data Input'!AD674,'Data Input'!AH674))","v":""},{"$f":"IF(O669=\"\",\"\",O669/COUNTIF('Data Input'!$C$8:$AK$8,\"M\"))","v":""},{"$f":"IF(ISBLANK('Data Input'!A674),\"\",SUM('Data Input'!H674,'Data Input'!K674,'Data Input'!P674,'Data Input'!Y674))","v":""},{"$f":"IF(Q669=\"\",\"\",Q669/COUNTIF('Data Input'!$C$8:$AK$8,\"G\"))","v":""}]
[{"$f":"IF('Data Input'!A675=0,\"\",'Data Input'!A675)","v":""},{"$f":"IF(ISBLANK('Data Input'!A675),\"\",COUNTIF('Data Input'!C675:AK675,\"\"))","v":""},{"$f":"IF(ISBLANK('Data Input'!A675),\"\",COUNTIF('Data Input'!C675:AK675,\"0\"))","v":""},{"$f":"IF(ISBLANK('Data Input'!A675),\"\",SUM(B670,C670))","v":""},{"$f":"IF(ISBLANK('Data Input'!A675),\"\",SUM('Data Input'!C675:AK675))","v":""},{"$f":"IF(E670=\"\",\"\",E670/(COUNTA('Data Input'!$C$8:$AK$8)))","v":""},{"$f":"IF(ISBLANK('Data Input'!A675),\"\",SUM('Data Input'!C675,'Data Input'!D675,'Data Input'!J675,'Data Input'!X675))","v":""},{"$f":"IF(G670=\"\",\"\",G670/COUNTIF('Data Input'!$C$8:$AK$8,\"N\"))","v":""},{"$f":"IF(ISBLANK('Data Input'!A675),\"\",SUM('Data Input'!G675,'Data Input'!I675,'Data Input'!L675,'Data Input'!N675,'Data Input'!O675,'Data Input'!S675,'Data Input'!Z675,'Data Input'!AA675,'Data Input'!AB675,'Data Input'!AC675,'Data Input'!AE675,'Data Input'!AF675,'Data Input'!AG675,'Data Input'!AI675,'Data Input'!AK675))","v":""},{"$f":"IF(I670=\"\",\"\",I670/COUNTIF('Data Input'!$C$8:$AK$8,\"C\"))","v":""},{"$f":"IF(ISBLANK('Data Input'!A675),\"\",SUM('Data Input'!T675,'Data Input'!U675))","v":""},{"$f":"IF(K670=\"\",\"\",K670/COUNTIF('Data Input'!$C$8:$AK$8,\"S\"))","v":""},{"$f":"IF(ISBLANK('Data Input'!A675),\"\",SUM('Data Input'!F675,'Data Input'!R675,'Data Input'!AJ675))","v":""},{"$f":"IF(M670=\"\",\"\",M670/COUNTIF('Data Input'!$C$8:$AK$8,\"F\"))","v":""},{"$f":"IF(ISBLANK('Data Input'!A675),\"\",SUM('Data Input'!E675,'Data Input'!M675,'Data Input'!Q675,'Data Input'!V675,'Data Input'!W675,'Data Input'!AD675,'Data Input'!AH675))","v":""},{"$f":"IF(O670=\"\",\"\",O670/COUNTIF('Data Input'!$C$8:$AK$8,\"M\"))","v":""},{"$f":"IF(ISBLANK('Data Input'!A675),\"\",SUM('Data Input'!H675,'Data Input'!K675,'Data Input'!P675,'Data Input'!Y675))","v":""},{"$f":"IF(Q670=\"\",\"\",Q670/COUNTIF('Data Input'!$C$8:$AK$8,\"G\"))","v":""}]
[{"$f":"IF('Data Input'!A676=0,\"\",'Data Input'!A676)","v":""},{"$f":"IF(ISBLANK('Data Input'!A676),\"\",COUNTIF('Data Input'!C676:AK676,\"\"))","v":""},{"$f":"IF(ISBLANK('Data Input'!A676),\"\",COUNTIF('Data Input'!C676:AK676,\"0\"))","v":""},{"$f":"IF(ISBLANK('Data Input'!A676),\"\",SUM(B671,C671))","v":""},{"$f":"IF(ISBLANK('Data Input'!A676),\"\",SUM('Data Input'!C676:AK676))","v":""},{"$f":"IF(E671=\"\",\"\",E671/(COUNTA('Data Input'!$C$8:$AK$8)))","v":""},{"$f":"IF(ISBLANK('Data Input'!A676),\"\",SUM('Data Input'!C676,'Data Input'!D676,'Data Input'!J676,'Data Input'!X676))","v":""},{"$f":"IF(G671=\"\",\"\",G671/COUNTIF('Data Input'!$C$8:$AK$8,\"N\"))","v":""},{"$f":"IF(ISBLANK('Data Input'!A676),\"\",SUM('Data Input'!G676,'Data Input'!I676,'Data Input'!L676,'Data Input'!N676,'Data Input'!O676,'Data Input'!S676,'Data Input'!Z676,'Data Input'!AA676,'Data Input'!AB676,'Data Input'!AC676,'Data Input'!AE676,'Data Input'!AF676,'Data Input'!AG676,'Data Input'!AI676,'Data Input'!AK676))","v":""},{"$f":"IF(I671=\"\",\"\",I671/COUNTIF('Data Input'!$C$8:$AK$8,\"C\"))","v":""},{"$f":"IF(ISBLANK('Data Input'!A676),\"\",SUM('Data Input'!T676,'Data Input'!U676))","v":""},{"$f":"IF(K671=\"\",\"\",K671/COUNTIF('Data Input'!$C$8:$AK$8,\"S\"))","v":""},{"$f":"IF(ISBLANK('Data Input'!A676),\"\",SUM('Data Input'!F676,'Data Input'!R676,'Data Input'!AJ676))","v":""},{"$f":"IF(M671=\"\",\"\",M671/COUNTIF('Data Input'!$C$8:$AK$8,\"F\"))","v":""},{"$f":"IF(ISBLANK('Data Input'!A676),\"\",SUM('Data Input'!E676,'Data Input'!M676,'Data Input'!Q676,'Data Input'!V676,'Data Input'!W676,'Data Input'!AD676,'Data Input'!AH676))","v":""},{"$f":"IF(O671=\"\",\"\",O671/COUNTIF('Data Input'!$C$8:$AK$8,\"M\"))","v":""},{"$f":"IF(ISBLANK('Data Input'!A676),\"\",SUM('Data Input'!H676,'Data Input'!K676,'Data Input'!P676,'Data Input'!Y676))","v":""},{"$f":"IF(Q671=\"\",\"\",Q671/COUNTIF('Data Input'!$C$8:$AK$8,\"G\"))","v":""}]
[{"$f":"IF('Data Input'!A677=0,\"\",'Data Input'!A677)","v":""},{"$f":"IF(ISBLANK('Data Input'!A677),\"\",COUNTIF('Data Input'!C677:AK677,\"\"))","v":""},{"$f":"IF(ISBLANK('Data Input'!A677),\"\",COUNTIF('Data Input'!C677:AK677,\"0\"))","v":""},{"$f":"IF(ISBLANK('Data Input'!A677),\"\",SUM(B672,C672))","v":""},{"$f":"IF(ISBLANK('Data Input'!A677),\"\",SUM('Data Input'!C677:AK677))","v":""},{"$f":"IF(E672=\"\",\"\",E672/(COUNTA('Data Input'!$C$8:$AK$8)))","v":""},{"$f":"IF(ISBLANK('Data Input'!A677),\"\",SUM('Data Input'!C677,'Data Input'!D677,'Data Input'!J677,'Data Input'!X677))","v":""},{"$f":"IF(G672=\"\",\"\",G672/COUNTIF('Data Input'!$C$8:$AK$8,\"N\"))","v":""},{"$f":"IF(ISBLANK('Data Input'!A677),\"\",SUM('Data Input'!G677,'Data Input'!I677,'Data Input'!L677,'Data Input'!N677,'Data Input'!O677,'Data Input'!S677,'Data Input'!Z677,'Data Input'!AA677,'Data Input'!AB677,'Data Input'!AC677,'Data Input'!AE677,'Data Input'!AF677,'Data Input'!AG677,'Data Input'!AI677,'Data Input'!AK677))","v":""},{"$f":"IF(I672=\"\",\"\",I672/COUNTIF('Data Input'!$C$8:$AK$8,\"C\"))","v":""},{"$f":"IF(ISBLANK('Data Input'!A677),\"\",SUM('Data Input'!T677,'Data Input'!U677))","v":""},{"$f":"IF(K672=\"\",\"\",K672/COUNTIF('Data Input'!$C$8:$AK$8,\"S\"))","v":""},{"$f":"IF(ISBLANK('Data Input'!A677),\"\",SUM('Data Input'!F677,'Data Input'!R677,'Data Input'!AJ677))","v":""},{"$f":"IF(M672=\"\",\"\",M672/COUNTIF('Data Input'!$C$8:$AK$8,\"F\"))","v":""},{"$f":"IF(ISBLANK('Data Input'!A677),\"\",SUM('Data Input'!E677,'Data Input'!M677,'Data Input'!Q677,'Data Input'!V677,'Data Input'!W677,'Data Input'!AD677,'Data Input'!AH677))","v":""},{"$f":"IF(O672=\"\",\"\",O672/COUNTIF('Data Input'!$C$8:$AK$8,\"M\"))","v":""},{"$f":"IF(ISBLANK('Data Input'!A677),\"\",SUM('Data Input'!H677,'Data Input'!K677,'Data Input'!P677,'Data Input'!Y677))","v":""},{"$f":"IF(Q672=\"\",\"\",Q672/COUNTIF('Data Input'!$C$8:$AK$8,\"G\"))","v":""}]
[{"$f":"IF('Data Input'!A678=0,\"\",'Data Input'!A678)","v":""},{"$f":"IF(ISBLANK('Data Input'!A678),\"\",COUNTIF('Data Input'!C678:AK678,\"\"))","v":""},{"$f":"IF(ISBLANK('Data Input'!A678),\"\",COUNTIF('Data Input'!C678:AK678,\"0\"))","v":""},{"$f":"IF(ISBLANK('Data Input'!A678),\"\",SUM(B673,C673))","v":""},{"$f":"IF(ISBLANK('Data Input'!A678),\"\",SUM('Data Input'!C678:AK678))","v":""},{"$f":"IF(E673=\"\",\"\",E673/(COUNTA('Data Input'!$C$8:$AK$8)))","v":""},{"$f":"IF(ISBLANK('Data Input'!A678),\"\",SUM('Data Input'!C678,'Data Input'!D678,'Data Input'!J678,'Data Input'!X678))","v":""},{"$f":"IF(G673=\"\",\"\",G673/COUNTIF('Data Input'!$C$8:$AK$8,\"N\"))","v":""},{"$f":"IF(ISBLANK('Data Input'!A678),\"\",SUM('Data Input'!G678,'Data Input'!I678,'Data Input'!L678,'Data Input'!N678,'Data Input'!O678,'Data Input'!S678,'Data Input'!Z678,'Data Input'!AA678,'Data Input'!AB678,'Data Input'!AC678,'Data Input'!AE678,'Data Input'!AF678,'Data Input'!AG678,'Data Input'!AI678,'Data Input'!AK678))","v":""},{"$f":"IF(I673=\"\",\"\",I673/COUNTIF('Data Input'!$C$8:$AK$8,\"C\"))","v":""},{"$f":"IF(ISBLANK('Data Input'!A678),\"\",SUM('Data Input'!T678,'Data Input'!U678))","v":""},{"$f":"IF(K673=\"\",\"\",K673/COUNTIF('Data Input'!$C$8:$AK$8,\"S\"))","v":""},{"$f":"IF(ISBLANK('Data Input'!A678),\"\",SUM('Data Input'!F678,'Data Input'!R678,'Data Input'!AJ678))","v":""},{"$f":"IF(M673=\"\",\"\",M673/COUNTIF('Data Input'!$C$8:$AK$8,\"F\"))","v":""},{"$f":"IF(ISBLANK('Data Input'!A678),\"\",SUM('Data Input'!E678,'Data Input'!M678,'Data Input'!Q678,'Data Input'!V678,'Data Input'!W678,'Data Input'!AD678,'Data Input'!AH678))","v":""},{"$f":"IF(O673=\"\",\"\",O673/COUNTIF('Data Input'!$C$8:$AK$8,\"M\"))","v":""},{"$f":"IF(ISBLANK('Data Input'!A678),\"\",SUM('Data Input'!H678,'Data Input'!K678,'Data Input'!P678,'Data Input'!Y678))","v":""},{"$f":"IF(Q673=\"\",\"\",Q673/COUNTIF('Data Input'!$C$8:$AK$8,\"G\"))","v":""}]
[{"$f":"IF('Data Input'!A679=0,\"\",'Data Input'!A679)","v":""},{"$f":"IF(ISBLANK('Data Input'!A679),\"\",COUNTIF('Data Input'!C679:AK679,\"\"))","v":""},{"$f":"IF(ISBLANK('Data Input'!A679),\"\",COUNTIF('Data Input'!C679:AK679,\"0\"))","v":""},{"$f":"IF(ISBLANK('Data Input'!A679),\"\",SUM(B674,C674))","v":""},{"$f":"IF(ISBLANK('Data Input'!A679),\"\",SUM('Data Input'!C679:AK679))","v":""},{"$f":"IF(E674=\"\",\"\",E674/(COUNTA('Data Input'!$C$8:$AK$8)))","v":""},{"$f":"IF(ISBLANK('Data Input'!A679),\"\",SUM('Data Input'!C679,'Data Input'!D679,'Data Input'!J679,'Data Input'!X679))","v":""},{"$f":"IF(G674=\"\",\"\",G674/COUNTIF('Data Input'!$C$8:$AK$8,\"N\"))","v":""},{"$f":"IF(ISBLANK('Data Input'!A679),\"\",SUM('Data Input'!G679,'Data Input'!I679,'Data Input'!L679,'Data Input'!N679,'Data Input'!O679,'Data Input'!S679,'Data Input'!Z679,'Data Input'!AA679,'Data Input'!AB679,'Data Input'!AC679,'Data Input'!AE679,'Data Input'!AF679,'Data Input'!AG679,'Data Input'!AI679,'Data Input'!AK679))","v":""},{"$f":"IF(I674=\"\",\"\",I674/COUNTIF('Data Input'!$C$8:$AK$8,\"C\"))","v":""},{"$f":"IF(ISBLANK('Data Input'!A679),\"\",SUM('Data Input'!T679,'Data Input'!U679))","v":""},{"$f":"IF(K674=\"\",\"\",K674/COUNTIF('Data Input'!$C$8:$AK$8,\"S\"))","v":""},{"$f":"IF(ISBLANK('Data Input'!A679),\"\",SUM('Data Input'!F679,'Data Input'!R679,'Data Input'!AJ679))","v":""},{"$f":"IF(M674=\"\",\"\",M674/COUNTIF('Data Input'!$C$8:$AK$8,\"F\"))","v":""},{"$f":"IF(ISBLANK('Data Input'!A679),\"\",SUM('Data Input'!E679,'Data Input'!M679,'Data Input'!Q679,'Data Input'!V679,'Data Input'!W679,'Data Input'!AD679,'Data Input'!AH679))","v":""},{"$f":"IF(O674=\"\",\"\",O674/COUNTIF('Data Input'!$C$8:$AK$8,\"M\"))","v":""},{"$f":"IF(ISBLANK('Data Input'!A679),\"\",SUM('Data Input'!H679,'Data Input'!K679,'Data Input'!P679,'Data Input'!Y679))","v":""},{"$f":"IF(Q674=\"\",\"\",Q674/COUNTIF('Data Input'!$C$8:$AK$8,\"G\"))","v":""}]
[{"$f":"IF('Data Input'!A680=0,\"\",'Data Input'!A680)","v":""},{"$f":"IF(ISBLANK('Data Input'!A680),\"\",COUNTIF('Data Input'!C680:AK680,\"\"))","v":""},{"$f":"IF(ISBLANK('Data Input'!A680),\"\",COUNTIF('Data Input'!C680:AK680,\"0\"))","v":""},{"$f":"IF(ISBLANK('Data Input'!A680),\"\",SUM(B675,C675))","v":""},{"$f":"IF(ISBLANK('Data Input'!A680),\"\",SUM('Data Input'!C680:AK680))","v":""},{"$f":"IF(E675=\"\",\"\",E675/(COUNTA('Data Input'!$C$8:$AK$8)))","v":""},{"$f":"IF(ISBLANK('Data Input'!A680),\"\",SUM('Data Input'!C680,'Data Input'!D680,'Data Input'!J680,'Data Input'!X680))","v":""},{"$f":"IF(G675=\"\",\"\",G675/COUNTIF('Data Input'!$C$8:$AK$8,\"N\"))","v":""},{"$f":"IF(ISBLANK('Data Input'!A680),\"\",SUM('Data Input'!G680,'Data Input'!I680,'Data Input'!L680,'Data Input'!N680,'Data Input'!O680,'Data Input'!S680,'Data Input'!Z680,'Data Input'!AA680,'Data Input'!AB680,'Data Input'!AC680,'Data Input'!AE680,'Data Input'!AF680,'Data Input'!AG680,'Data Input'!AI680,'Data Input'!AK680))","v":""},{"$f":"IF(I675=\"\",\"\",I675/COUNTIF('Data Input'!$C$8:$AK$8,\"C\"))","v":""},{"$f":"IF(ISBLANK('Data Input'!A680),\"\",SUM('Data Input'!T680,'Data Input'!U680))","v":""},{"$f":"IF(K675=\"\",\"\",K675/COUNTIF('Data Input'!$C$8:$AK$8,\"S\"))","v":""},{"$f":"IF(ISBLANK('Data Input'!A680),\"\",SUM('Data Input'!F680,'Data Input'!R680,'Data Input'!AJ680))","v":""},{"$f":"IF(M675=\"\",\"\",M675/COUNTIF('Data Input'!$C$8:$AK$8,\"F\"))","v":""},{"$f":"IF(ISBLANK('Data Input'!A680),\"\",SUM('Data Input'!E680,'Data Input'!M680,'Data Input'!Q680,'Data Input'!V680,'Data Input'!W680,'Data Input'!AD680,'Data Input'!AH680))","v":""},{"$f":"IF(O675=\"\",\"\",O675/COUNTIF('Data Input'!$C$8:$AK$8,\"M\"))","v":""},{"$f":"IF(ISBLANK('Data Input'!A680),\"\",SUM('Data Input'!H680,'Data Input'!K680,'Data Input'!P680,'Data Input'!Y680))","v":""},{"$f":"IF(Q675=\"\",\"\",Q675/COUNTIF('Data Input'!$C$8:$AK$8,\"G\"))","v":""}]
[{"$f":"IF('Data Input'!A681=0,\"\",'Data Input'!A681)","v":""},{"$f":"IF(ISBLANK('Data Input'!A681),\"\",COUNTIF('Data Input'!C681:AK681,\"\"))","v":""},{"$f":"IF(ISBLANK('Data Input'!A681),\"\",COUNTIF('Data Input'!C681:AK681,\"0\"))","v":""},{"$f":"IF(ISBLANK('Data Input'!A681),\"\",SUM(B676,C676))","v":""},{"$f":"IF(ISBLANK('Data Input'!A681),\"\",SUM('Data Input'!C681:AK681))","v":""},{"$f":"IF(E676=\"\",\"\",E676/(COUNTA('Data Input'!$C$8:$AK$8)))","v":""},{"$f":"IF(ISBLANK('Data Input'!A681),\"\",SUM('Data Input'!C681,'Data Input'!D681,'Data Input'!J681,'Data Input'!X681))","v":""},{"$f":"IF(G676=\"\",\"\",G676/COUNTIF('Data Input'!$C$8:$AK$8,\"N\"))","v":""},{"$f":"IF(ISBLANK('Data Input'!A681),\"\",SUM('Data Input'!G681,'Data Input'!I681,'Data Input'!L681,'Data Input'!N681,'Data Input'!O681,'Data Input'!S681,'Data Input'!Z681,'Data Input'!AA681,'Data Input'!AB681,'Data Input'!AC681,'Data Input'!AE681,'Data Input'!AF681,'Data Input'!AG681,'Data Input'!AI681,'Data Input'!AK681))","v":""},{"$f":"IF(I676=\"\",\"\",I676/COUNTIF('Data Input'!$C$8:$AK$8,\"C\"))","v":""},{"$f":"IF(ISBLANK('Data Input'!A681),\"\",SUM('Data Input'!T681,'Data Input'!U681))","v":""},{"$f":"IF(K676=\"\",\"\",K676/COUNTIF('Data Input'!$C$8:$AK$8,\"S\"))","v":""},{"$f":"IF(ISBLANK('Data Input'!A681),\"\",SUM('Data Input'!F681,'Data Input'!R681,'Data Input'!AJ681))","v":""},{"$f":"IF(M676=\"\",\"\",M676/COUNTIF('Data Input'!$C$8:$AK$8,\"F\"))","v":""},{"$f":"IF(ISBLANK('Data Input'!A681),\"\",SUM('Data Input'!E681,'Data Input'!M681,'Data Input'!Q681,'Data Input'!V681,'Data Input'!W681,'Data Input'!AD681,'Data Input'!AH681))","v":""},{"$f":"IF(O676=\"\",\"\",O676/COUNTIF('Data Input'!$C$8:$AK$8,\"M\"))","v":""},{"$f":"IF(ISBLANK('Data Input'!A681),\"\",SUM('Data Input'!H681,'Data Input'!K681,'Data Input'!P681,'Data Input'!Y681))","v":""},{"$f":"IF(Q676=\"\",\"\",Q676/COUNTIF('Data Input'!$C$8:$AK$8,\"G\"))","v":""}]
[{"$f":"IF('Data Input'!A682=0,\"\",'Data Input'!A682)","v":""},{"$f":"IF(ISBLANK('Data Input'!A682),\"\",COUNTIF('Data Input'!C682:AK682,\"\"))","v":""},{"$f":"IF(ISBLANK('Data Input'!A682),\"\",COUNTIF('Data Input'!C682:AK682,\"0\"))","v":""},{"$f":"IF(ISBLANK('Data Input'!A682),\"\",SUM(B677,C677))","v":""},{"$f":"IF(ISBLANK('Data Input'!A682),\"\",SUM('Data Input'!C682:AK682))","v":""},{"$f":"IF(E677=\"\",\"\",E677/(COUNTA('Data Input'!$C$8:$AK$8)))","v":""},{"$f":"IF(ISBLANK('Data Input'!A682),\"\",SUM('Data Input'!C682,'Data Input'!D682,'Data Input'!J682,'Data Input'!X682))","v":""},{"$f":"IF(G677=\"\",\"\",G677/COUNTIF('Data Input'!$C$8:$AK$8,\"N\"))","v":""},{"$f":"IF(ISBLANK('Data Input'!A682),\"\",SUM('Data Input'!G682,'Data Input'!I682,'Data Input'!L682,'Data Input'!N682,'Data Input'!O682,'Data Input'!S682,'Data Input'!Z682,'Data Input'!AA682,'Data Input'!AB682,'Data Input'!AC682,'Data Input'!AE682,'Data Input'!AF682,'Data Input'!AG682,'Data Input'!AI682,'Data Input'!AK682))","v":""},{"$f":"IF(I677=\"\",\"\",I677/COUNTIF('Data Input'!$C$8:$AK$8,\"C\"))","v":""},{"$f":"IF(ISBLANK('Data Input'!A682),\"\",SUM('Data Input'!T682,'Data Input'!U682))","v":""},{"$f":"IF(K677=\"\",\"\",K677/COUNTIF('Data Input'!$C$8:$AK$8,\"S\"))","v":""},{"$f":"IF(ISBLANK('Data Input'!A682),\"\",SUM('Data Input'!F682,'Data Input'!R682,'Data Input'!AJ682))","v":""},{"$f":"IF(M677=\"\",\"\",M677/COUNTIF('Data Input'!$C$8:$AK$8,\"F\"))","v":""},{"$f":"IF(ISBLANK('Data Input'!A682),\"\",SUM('Data Input'!E682,'Data Input'!M682,'Data Input'!Q682,'Data Input'!V682,'Data Input'!W682,'Data Input'!AD682,'Data Input'!AH682))","v":""},{"$f":"IF(O677=\"\",\"\",O677/COUNTIF('Data Input'!$C$8:$AK$8,\"M\"))","v":""},{"$f":"IF(ISBLANK('Data Input'!A682),\"\",SUM('Data Input'!H682,'Data Input'!K682,'Data Input'!P682,'Data Input'!Y682))","v":""},{"$f":"IF(Q677=\"\",\"\",Q677/COUNTIF('Data Input'!$C$8:$AK$8,\"G\"))","v":""}]
[{"$f":"IF('Data Input'!A683=0,\"\",'Data Input'!A683)","v":""},{"$f":"IF(ISBLANK('Data Input'!A683),\"\",COUNTIF('Data Input'!C683:AK683,\"\"))","v":""},{"$f":"IF(ISBLANK('Data Input'!A683),\"\",COUNTIF('Data Input'!C683:AK683,\"0\"))","v":""},{"$f":"IF(ISBLANK('Data Input'!A683),\"\",SUM(B678,C678))","v":""},{"$f":"IF(ISBLANK('Data Input'!A683),\"\",SUM('Data Input'!C683:AK683))","v":""},{"$f":"IF(E678=\"\",\"\",E678/(COUNTA('Data Input'!$C$8:$AK$8)))","v":""},{"$f":"IF(ISBLANK('Data Input'!A683),\"\",SUM('Data Input'!C683,'Data Input'!D683,'Data Input'!J683,'Data Input'!X683))","v":""},{"$f":"IF(G678=\"\",\"\",G678/COUNTIF('Data Input'!$C$8:$AK$8,\"N\"))","v":""},{"$f":"IF(ISBLANK('Data Input'!A683),\"\",SUM('Data Input'!G683,'Data Input'!I683,'Data Input'!L683,'Data Input'!N683,'Data Input'!O683,'Data Input'!S683,'Data Input'!Z683,'Data Input'!AA683,'Data Input'!AB683,'Data Input'!AC683,'Data Input'!AE683,'Data Input'!AF683,'Data Input'!AG683,'Data Input'!AI683,'Data Input'!AK683))","v":""},{"$f":"IF(I678=\"\",\"\",I678/COUNTIF('Data Input'!$C$8:$AK$8,\"C\"))","v":""},{"$f":"IF(ISBLANK('Data Input'!A683),\"\",SUM('Data Input'!T683,'Data Input'!U683))","v":""},{"$f":"IF(K678=\"\",\"\",K678/COUNTIF('Data Input'!$C$8:$AK$8,\"S\"))","v":""},{"$f":"IF(ISBLANK('Data Input'!A683),\"\",SUM('Data Input'!F683,'Data Input'!R683,'Data Input'!AJ683))","v":""},{"$f":"IF(M678=\"\",\"\",M678/COUNTIF('Data Input'!$C$8:$AK$8,\"F\"))","v":""},{"$f":"IF(ISBLANK('Data Input'!A683),\"\",SUM('Data Input'!E683,'Data Input'!M683,'Data Input'!Q683,'Data Input'!V683,'Data Input'!W683,'Data Input'!AD683,'Data Input'!AH683))","v":""},{"$f":"IF(O678=\"\",\"\",O678/COUNTIF('Data Input'!$C$8:$AK$8,\"M\"))","v":""},{"$f":"IF(ISBLANK('Data Input'!A683),\"\",SUM('Data Input'!H683,'Data Input'!K683,'Data Input'!P683,'Data Input'!Y683))","v":""},{"$f":"IF(Q678=\"\",\"\",Q678/COUNTIF('Data Input'!$C$8:$AK$8,\"G\"))","v":""}]
[{"$f":"IF('Data Input'!A684=0,\"\",'Data Input'!A684)","v":""},{"$f":"IF(ISBLANK('Data Input'!A684),\"\",COUNTIF('Data Input'!C684:AK684,\"\"))","v":""},{"$f":"IF(ISBLANK('Data Input'!A684),\"\",COUNTIF('Data Input'!C684:AK684,\"0\"))","v":""},{"$f":"IF(ISBLANK('Data Input'!A684),\"\",SUM(B679,C679))","v":""},{"$f":"IF(ISBLANK('Data Input'!A684),\"\",SUM('Data Input'!C684:AK684))","v":""},{"$f":"IF(E679=\"\",\"\",E679/(COUNTA('Data Input'!$C$8:$AK$8)))","v":""},{"$f":"IF(ISBLANK('Data Input'!A684),\"\",SUM('Data Input'!C684,'Data Input'!D684,'Data Input'!J684,'Data Input'!X684))","v":""},{"$f":"IF(G679=\"\",\"\",G679/COUNTIF('Data Input'!$C$8:$AK$8,\"N\"))","v":""},{"$f":"IF(ISBLANK('Data Input'!A684),\"\",SUM('Data Input'!G684,'Data Input'!I684,'Data Input'!L684,'Data Input'!N684,'Data Input'!O684,'Data Input'!S684,'Data Input'!Z684,'Data Input'!AA684,'Data Input'!AB684,'Data Input'!AC684,'Data Input'!AE684,'Data Input'!AF684,'Data Input'!AG684,'Data Input'!AI684,'Data Input'!AK684))","v":""},{"$f":"IF(I679=\"\",\"\",I679/COUNTIF('Data Input'!$C$8:$AK$8,\"C\"))","v":""},{"$f":"IF(ISBLANK('Data Input'!A684),\"\",SUM('Data Input'!T684,'Data Input'!U684))","v":""},{"$f":"IF(K679=\"\",\"\",K679/COUNTIF('Data Input'!$C$8:$AK$8,\"S\"))","v":""},{"$f":"IF(ISBLANK('Data Input'!A684),\"\",SUM('Data Input'!F684,'Data Input'!R684,'Data Input'!AJ684))","v":""},{"$f":"IF(M679=\"\",\"\",M679/COUNTIF('Data Input'!$C$8:$AK$8,\"F\"))","v":""},{"$f":"IF(ISBLANK('Data Input'!A684),\"\",SUM('Data Input'!E684,'Data Input'!M684,'Data Input'!Q684,'Data Input'!V684,'Data Input'!W684,'Data Input'!AD684,'Data Input'!AH684))","v":""},{"$f":"IF(O679=\"\",\"\",O679/COUNTIF('Data Input'!$C$8:$AK$8,\"M\"))","v":""},{"$f":"IF(ISBLANK('Data Input'!A684),\"\",SUM('Data Input'!H684,'Data Input'!K684,'Data Input'!P684,'Data Input'!Y684))","v":""},{"$f":"IF(Q679=\"\",\"\",Q679/COUNTIF('Data Input'!$C$8:$AK$8,\"G\"))","v":""}]
[{"$f":"IF('Data Input'!A685=0,\"\",'Data Input'!A685)","v":""},{"$f":"IF(ISBLANK('Data Input'!A685),\"\",COUNTIF('Data Input'!C685:AK685,\"\"))","v":""},{"$f":"IF(ISBLANK('Data Input'!A685),\"\",COUNTIF('Data Input'!C685:AK685,\"0\"))","v":""},{"$f":"IF(ISBLANK('Data Input'!A685),\"\",SUM(B680,C680))","v":""},{"$f":"IF(ISBLANK('Data Input'!A685),\"\",SUM('Data Input'!C685:AK685))","v":""},{"$f":"IF(E680=\"\",\"\",E680/(COUNTA('Data Input'!$C$8:$AK$8)))","v":""},{"$f":"IF(ISBLANK('Data Input'!A685),\"\",SUM('Data Input'!C685,'Data Input'!D685,'Data Input'!J685,'Data Input'!X685))","v":""},{"$f":"IF(G680=\"\",\"\",G680/COUNTIF('Data Input'!$C$8:$AK$8,\"N\"))","v":""},{"$f":"IF(ISBLANK('Data Input'!A685),\"\",SUM('Data Input'!G685,'Data Input'!I685,'Data Input'!L685,'Data Input'!N685,'Data Input'!O685,'Data Input'!S685,'Data Input'!Z685,'Data Input'!AA685,'Data Input'!AB685,'Data Input'!AC685,'Data Input'!AE685,'Data Input'!AF685,'Data Input'!AG685,'Data Input'!AI685,'Data Input'!AK685))","v":""},{"$f":"IF(I680=\"\",\"\",I680/COUNTIF('Data Input'!$C$8:$AK$8,\"C\"))","v":""},{"$f":"IF(ISBLANK('Data Input'!A685),\"\",SUM('Data Input'!T685,'Data Input'!U685))","v":""},{"$f":"IF(K680=\"\",\"\",K680/COUNTIF('Data Input'!$C$8:$AK$8,\"S\"))","v":""},{"$f":"IF(ISBLANK('Data Input'!A685),\"\",SUM('Data Input'!F685,'Data Input'!R685,'Data Input'!AJ685))","v":""},{"$f":"IF(M680=\"\",\"\",M680/COUNTIF('Data Input'!$C$8:$AK$8,\"F\"))","v":""},{"$f":"IF(ISBLANK('Data Input'!A685),\"\",SUM('Data Input'!E685,'Data Input'!M685,'Data Input'!Q685,'Data Input'!V685,'Data Input'!W685,'Data Input'!AD685,'Data Input'!AH685))","v":""},{"$f":"IF(O680=\"\",\"\",O680/COUNTIF('Data Input'!$C$8:$AK$8,\"M\"))","v":""},{"$f":"IF(ISBLANK('Data Input'!A685),\"\",SUM('Data Input'!H685,'Data Input'!K685,'Data Input'!P685,'Data Input'!Y685))","v":""},{"$f":"IF(Q680=\"\",\"\",Q680/COUNTIF('Data Input'!$C$8:$AK$8,\"G\"))","v":""}]
[{"$f":"IF('Data Input'!A686=0,\"\",'Data Input'!A686)","v":""},{"$f":"IF(ISBLANK('Data Input'!A686),\"\",COUNTIF('Data Input'!C686:AK686,\"\"))","v":""},{"$f":"IF(ISBLANK('Data Input'!A686),\"\",COUNTIF('Data Input'!C686:AK686,\"0\"))","v":""},{"$f":"IF(ISBLANK('Data Input'!A686),\"\",SUM(B681,C681))","v":""},{"$f":"IF(ISBLANK('Data Input'!A686),\"\",SUM('Data Input'!C686:AK686))","v":""},{"$f":"IF(E681=\"\",\"\",E681/(COUNTA('Data Input'!$C$8:$AK$8)))","v":""},{"$f":"IF(ISBLANK('Data Input'!A686),\"\",SUM('Data Input'!C686,'Data Input'!D686,'Data Input'!J686,'Data Input'!X686))","v":""},{"$f":"IF(G681=\"\",\"\",G681/COUNTIF('Data Input'!$C$8:$AK$8,\"N\"))","v":""},{"$f":"IF(ISBLANK('Data Input'!A686),\"\",SUM('Data Input'!G686,'Data Input'!I686,'Data Input'!L686,'Data Input'!N686,'Data Input'!O686,'Data Input'!S686,'Data Input'!Z686,'Data Input'!AA686,'Data Input'!AB686,'Data Input'!AC686,'Data Input'!AE686,'Data Input'!AF686,'Data Input'!AG686,'Data Input'!AI686,'Data Input'!AK686))","v":""},{"$f":"IF(I681=\"\",\"\",I681/COUNTIF('Data Input'!$C$8:$AK$8,\"C\"))","v":""},{"$f":"IF(ISBLANK('Data Input'!A686),\"\",SUM('Data Input'!T686,'Data Input'!U686))","v":""},{"$f":"IF(K681=\"\",\"\",K681/COUNTIF('Data Input'!$C$8:$AK$8,\"S\"))","v":""},{"$f":"IF(ISBLANK('Data Input'!A686),\"\",SUM('Data Input'!F686,'Data Input'!R686,'Data Input'!AJ686))","v":""},{"$f":"IF(M681=\"\",\"\",M681/COUNTIF('Data Input'!$C$8:$AK$8,\"F\"))","v":""},{"$f":"IF(ISBLANK('Data Input'!A686),\"\",SUM('Data Input'!E686,'Data Input'!M686,'Data Input'!Q686,'Data Input'!V686,'Data Input'!W686,'Data Input'!AD686,'Data Input'!AH686))","v":""},{"$f":"IF(O681=\"\",\"\",O681/COUNTIF('Data Input'!$C$8:$AK$8,\"M\"))","v":""},{"$f":"IF(ISBLANK('Data Input'!A686),\"\",SUM('Data Input'!H686,'Data Input'!K686,'Data Input'!P686,'Data Input'!Y686))","v":""},{"$f":"IF(Q681=\"\",\"\",Q681/COUNTIF('Data Input'!$C$8:$AK$8,\"G\"))","v":""}]
[{"$f":"IF('Data Input'!A687=0,\"\",'Data Input'!A687)","v":""},{"$f":"IF(ISBLANK('Data Input'!A687),\"\",COUNTIF('Data Input'!C687:AK687,\"\"))","v":""},{"$f":"IF(ISBLANK('Data Input'!A687),\"\",COUNTIF('Data Input'!C687:AK687,\"0\"))","v":""},{"$f":"IF(ISBLANK('Data Input'!A687),\"\",SUM(B682,C682))","v":""},{"$f":"IF(ISBLANK('Data Input'!A687),\"\",SUM('Data Input'!C687:AK687))","v":""},{"$f":"IF(E682=\"\",\"\",E682/(COUNTA('Data Input'!$C$8:$AK$8)))","v":""},{"$f":"IF(ISBLANK('Data Input'!A687),\"\",SUM('Data Input'!C687,'Data Input'!D687,'Data Input'!J687,'Data Input'!X687))","v":""},{"$f":"IF(G682=\"\",\"\",G682/COUNTIF('Data Input'!$C$8:$AK$8,\"N\"))","v":""},{"$f":"IF(ISBLANK('Data Input'!A687),\"\",SUM('Data Input'!G687,'Data Input'!I687,'Data Input'!L687,'Data Input'!N687,'Data Input'!O687,'Data Input'!S687,'Data Input'!Z687,'Data Input'!AA687,'Data Input'!AB687,'Data Input'!AC687,'Data Input'!AE687,'Data Input'!AF687,'Data Input'!AG687,'Data Input'!AI687,'Data Input'!AK687))","v":""},{"$f":"IF(I682=\"\",\"\",I682/COUNTIF('Data Input'!$C$8:$AK$8,\"C\"))","v":""},{"$f":"IF(ISBLANK('Data Input'!A687),\"\",SUM('Data Input'!T687,'Data Input'!U687))","v":""},{"$f":"IF(K682=\"\",\"\",K682/COUNTIF('Data Input'!$C$8:$AK$8,\"S\"))","v":""},{"$f":"IF(ISBLANK('Data Input'!A687),\"\",SUM('Data Input'!F687,'Data Input'!R687,'Data Input'!AJ687))","v":""},{"$f":"IF(M682=\"\",\"\",M682/COUNTIF('Data Input'!$C$8:$AK$8,\"F\"))","v":""},{"$f":"IF(ISBLANK('Data Input'!A687),\"\",SUM('Data Input'!E687,'Data Input'!M687,'Data Input'!Q687,'Data Input'!V687,'Data Input'!W687,'Data Input'!AD687,'Data Input'!AH687))","v":""},{"$f":"IF(O682=\"\",\"\",O682/COUNTIF('Data Input'!$C$8:$AK$8,\"M\"))","v":""},{"$f":"IF(ISBLANK('Data Input'!A687),\"\",SUM('Data Input'!H687,'Data Input'!K687,'Data Input'!P687,'Data Input'!Y687))","v":""},{"$f":"IF(Q682=\"\",\"\",Q682/COUNTIF('Data Input'!$C$8:$AK$8,\"G\"))","v":""}]
[{"$f":"IF('Data Input'!A688=0,\"\",'Data Input'!A688)","v":""},{"$f":"IF(ISBLANK('Data Input'!A688),\"\",COUNTIF('Data Input'!C688:AK688,\"\"))","v":""},{"$f":"IF(ISBLANK('Data Input'!A688),\"\",COUNTIF('Data Input'!C688:AK688,\"0\"))","v":""},{"$f":"IF(ISBLANK('Data Input'!A688),\"\",SUM(B683,C683))","v":""},{"$f":"IF(ISBLANK('Data Input'!A688),\"\",SUM('Data Input'!C688:AK688))","v":""},{"$f":"IF(E683=\"\",\"\",E683/(COUNTA('Data Input'!$C$8:$AK$8)))","v":""},{"$f":"IF(ISBLANK('Data Input'!A688),\"\",SUM('Data Input'!C688,'Data Input'!D688,'Data Input'!J688,'Data Input'!X688))","v":""},{"$f":"IF(G683=\"\",\"\",G683/COUNTIF('Data Input'!$C$8:$AK$8,\"N\"))","v":""},{"$f":"IF(ISBLANK('Data Input'!A688),\"\",SUM('Data Input'!G688,'Data Input'!I688,'Data Input'!L688,'Data Input'!N688,'Data Input'!O688,'Data Input'!S688,'Data Input'!Z688,'Data Input'!AA688,'Data Input'!AB688,'Data Input'!AC688,'Data Input'!AE688,'Data Input'!AF688,'Data Input'!AG688,'Data Input'!AI688,'Data Input'!AK688))","v":""},{"$f":"IF(I683=\"\",\"\",I683/COUNTIF('Data Input'!$C$8:$AK$8,\"C\"))","v":""},{"$f":"IF(ISBLANK('Data Input'!A688),\"\",SUM('Data Input'!T688,'Data Input'!U688))","v":""},{"$f":"IF(K683=\"\",\"\",K683/COUNTIF('Data Input'!$C$8:$AK$8,\"S\"))","v":""},{"$f":"IF(ISBLANK('Data Input'!A688),\"\",SUM('Data Input'!F688,'Data Input'!R688,'Data Input'!AJ688))","v":""},{"$f":"IF(M683=\"\",\"\",M683/COUNTIF('Data Input'!$C$8:$AK$8,\"F\"))","v":""},{"$f":"IF(ISBLANK('Data Input'!A688),\"\",SUM('Data Input'!E688,'Data Input'!M688,'Data Input'!Q688,'Data Input'!V688,'Data Input'!W688,'Data Input'!AD688,'Data Input'!AH688))","v":""},{"$f":"IF(O683=\"\",\"\",O683/COUNTIF('Data Input'!$C$8:$AK$8,\"M\"))","v":""},{"$f":"IF(ISBLANK('Data Input'!A688),\"\",SUM('Data Input'!H688,'Data Input'!K688,'Data Input'!P688,'Data Input'!Y688))","v":""},{"$f":"IF(Q683=\"\",\"\",Q683/COUNTIF('Data Input'!$C$8:$AK$8,\"G\"))","v":""}]
[{"$f":"IF('Data Input'!A689=0,\"\",'Data Input'!A689)","v":""},{"$f":"IF(ISBLANK('Data Input'!A689),\"\",COUNTIF('Data Input'!C689:AK689,\"\"))","v":""},{"$f":"IF(ISBLANK('Data Input'!A689),\"\",COUNTIF('Data Input'!C689:AK689,\"0\"))","v":""},{"$f":"IF(ISBLANK('Data Input'!A689),\"\",SUM(B684,C684))","v":""},{"$f":"IF(ISBLANK('Data Input'!A689),\"\",SUM('Data Input'!C689:AK689))","v":""},{"$f":"IF(E684=\"\",\"\",E684/(COUNTA('Data Input'!$C$8:$AK$8)))","v":""},{"$f":"IF(ISBLANK('Data Input'!A689),\"\",SUM('Data Input'!C689,'Data Input'!D689,'Data Input'!J689,'Data Input'!X689))","v":""},{"$f":"IF(G684=\"\",\"\",G684/COUNTIF('Data Input'!$C$8:$AK$8,\"N\"))","v":""},{"$f":"IF(ISBLANK('Data Input'!A689),\"\",SUM('Data Input'!G689,'Data Input'!I689,'Data Input'!L689,'Data Input'!N689,'Data Input'!O689,'Data Input'!S689,'Data Input'!Z689,'Data Input'!AA689,'Data Input'!AB689,'Data Input'!AC689,'Data Input'!AE689,'Data Input'!AF689,'Data Input'!AG689,'Data Input'!AI689,'Data Input'!AK689))","v":""},{"$f":"IF(I684=\"\",\"\",I684/COUNTIF('Data Input'!$C$8:$AK$8,\"C\"))","v":""},{"$f":"IF(ISBLANK('Data Input'!A689),\"\",SUM('Data Input'!T689,'Data Input'!U689))","v":""},{"$f":"IF(K684=\"\",\"\",K684/COUNTIF('Data Input'!$C$8:$AK$8,\"S\"))","v":""},{"$f":"IF(ISBLANK('Data Input'!A689),\"\",SUM('Data Input'!F689,'Data Input'!R689,'Data Input'!AJ689))","v":""},{"$f":"IF(M684=\"\",\"\",M684/COUNTIF('Data Input'!$C$8:$AK$8,\"F\"))","v":""},{"$f":"IF(ISBLANK('Data Input'!A689),\"\",SUM('Data Input'!E689,'Data Input'!M689,'Data Input'!Q689,'Data Input'!V689,'Data Input'!W689,'Data Input'!AD689,'Data Input'!AH689))","v":""},{"$f":"IF(O684=\"\",\"\",O684/COUNTIF('Data Input'!$C$8:$AK$8,\"M\"))","v":""},{"$f":"IF(ISBLANK('Data Input'!A689),\"\",SUM('Data Input'!H689,'Data Input'!K689,'Data Input'!P689,'Data Input'!Y689))","v":""},{"$f":"IF(Q684=\"\",\"\",Q684/COUNTIF('Data Input'!$C$8:$AK$8,\"G\"))","v":""}]
[{"$f":"IF('Data Input'!A690=0,\"\",'Data Input'!A690)","v":""},{"$f":"IF(ISBLANK('Data Input'!A690),\"\",COUNTIF('Data Input'!C690:AK690,\"\"))","v":""},{"$f":"IF(ISBLANK('Data Input'!A690),\"\",COUNTIF('Data Input'!C690:AK690,\"0\"))","v":""},{"$f":"IF(ISBLANK('Data Input'!A690),\"\",SUM(B685,C685))","v":""},{"$f":"IF(ISBLANK('Data Input'!A690),\"\",SUM('Data Input'!C690:AK690))","v":""},{"$f":"IF(E685=\"\",\"\",E685/(COUNTA('Data Input'!$C$8:$AK$8)))","v":""},{"$f":"IF(ISBLANK('Data Input'!A690),\"\",SUM('Data Input'!C690,'Data Input'!D690,'Data Input'!J690,'Data Input'!X690))","v":""},{"$f":"IF(G685=\"\",\"\",G685/COUNTIF('Data Input'!$C$8:$AK$8,\"N\"))","v":""},{"$f":"IF(ISBLANK('Data Input'!A690),\"\",SUM('Data Input'!G690,'Data Input'!I690,'Data Input'!L690,'Data Input'!N690,'Data Input'!O690,'Data Input'!S690,'Data Input'!Z690,'Data Input'!AA690,'Data Input'!AB690,'Data Input'!AC690,'Data Input'!AE690,'Data Input'!AF690,'Data Input'!AG690,'Data Input'!AI690,'Data Input'!AK690))","v":""},{"$f":"IF(I685=\"\",\"\",I685/COUNTIF('Data Input'!$C$8:$AK$8,\"C\"))","v":""},{"$f":"IF(ISBLANK('Data Input'!A690),\"\",SUM('Data Input'!T690,'Data Input'!U690))","v":""},{"$f":"IF(K685=\"\",\"\",K685/COUNTIF('Data Input'!$C$8:$AK$8,\"S\"))","v":""},{"$f":"IF(ISBLANK('Data Input'!A690),\"\",SUM('Data Input'!F690,'Data Input'!R690,'Data Input'!AJ690))","v":""},{"$f":"IF(M685=\"\",\"\",M685/COUNTIF('Data Input'!$C$8:$AK$8,\"F\"))","v":""},{"$f":"IF(ISBLANK('Data Input'!A690),\"\",SUM('Data Input'!E690,'Data Input'!M690,'Data Input'!Q690,'Data Input'!V690,'Data Input'!W690,'Data Input'!AD690,'Data Input'!AH690))","v":""},{"$f":"IF(O685=\"\",\"\",O685/COUNTIF('Data Input'!$C$8:$AK$8,\"M\"))","v":""},{"$f":"IF(ISBLANK('Data Input'!A690),\"\",SUM('Data Input'!H690,'Data Input'!K690,'Data Input'!P690,'Data Input'!Y690))","v":""},{"$f":"IF(Q685=\"\",\"\",Q685/COUNTIF('Data Input'!$C$8:$AK$8,\"G\"))","v":""}]
[{"$f":"IF('Data Input'!A691=0,\"\",'Data Input'!A691)","v":""},{"$f":"IF(ISBLANK('Data Input'!A691),\"\",COUNTIF('Data Input'!C691:AK691,\"\"))","v":""},{"$f":"IF(ISBLANK('Data Input'!A691),\"\",COUNTIF('Data Input'!C691:AK691,\"0\"))","v":""},{"$f":"IF(ISBLANK('Data Input'!A691),\"\",SUM(B686,C686))","v":""},{"$f":"IF(ISBLANK('Data Input'!A691),\"\",SUM('Data Input'!C691:AK691))","v":""},{"$f":"IF(E686=\"\",\"\",E686/(COUNTA('Data Input'!$C$8:$AK$8)))","v":""},{"$f":"IF(ISBLANK('Data Input'!A691),\"\",SUM('Data Input'!C691,'Data Input'!D691,'Data Input'!J691,'Data Input'!X691))","v":""},{"$f":"IF(G686=\"\",\"\",G686/COUNTIF('Data Input'!$C$8:$AK$8,\"N\"))","v":""},{"$f":"IF(ISBLANK('Data Input'!A691),\"\",SUM('Data Input'!G691,'Data Input'!I691,'Data Input'!L691,'Data Input'!N691,'Data Input'!O691,'Data Input'!S691,'Data Input'!Z691,'Data Input'!AA691,'Data Input'!AB691,'Data Input'!AC691,'Data Input'!AE691,'Data Input'!AF691,'Data Input'!AG691,'Data Input'!AI691,'Data Input'!AK691))","v":""},{"$f":"IF(I686=\"\",\"\",I686/COUNTIF('Data Input'!$C$8:$AK$8,\"C\"))","v":""},{"$f":"IF(ISBLANK('Data Input'!A691),\"\",SUM('Data Input'!T691,'Data Input'!U691))","v":""},{"$f":"IF(K686=\"\",\"\",K686/COUNTIF('Data Input'!$C$8:$AK$8,\"S\"))","v":""},{"$f":"IF(ISBLANK('Data Input'!A691),\"\",SUM('Data Input'!F691,'Data Input'!R691,'Data Input'!AJ691))","v":""},{"$f":"IF(M686=\"\",\"\",M686/COUNTIF('Data Input'!$C$8:$AK$8,\"F\"))","v":""},{"$f":"IF(ISBLANK('Data Input'!A691),\"\",SUM('Data Input'!E691,'Data Input'!M691,'Data Input'!Q691,'Data Input'!V691,'Data Input'!W691,'Data Input'!AD691,'Data Input'!AH691))","v":""},{"$f":"IF(O686=\"\",\"\",O686/COUNTIF('Data Input'!$C$8:$AK$8,\"M\"))","v":""},{"$f":"IF(ISBLANK('Data Input'!A691),\"\",SUM('Data Input'!H691,'Data Input'!K691,'Data Input'!P691,'Data Input'!Y691))","v":""},{"$f":"IF(Q686=\"\",\"\",Q686/COUNTIF('Data Input'!$C$8:$AK$8,\"G\"))","v":""}]
[{"$f":"IF('Data Input'!A692=0,\"\",'Data Input'!A692)","v":""},{"$f":"IF(ISBLANK('Data Input'!A692),\"\",COUNTIF('Data Input'!C692:AK692,\"\"))","v":""},{"$f":"IF(ISBLANK('Data Input'!A692),\"\",COUNTIF('Data Input'!C692:AK692,\"0\"))","v":""},{"$f":"IF(ISBLANK('Data Input'!A692),\"\",SUM(B687,C687))","v":""},{"$f":"IF(ISBLANK('Data Input'!A692),\"\",SUM('Data Input'!C692:AK692))","v":""},{"$f":"IF(E687=\"\",\"\",E687/(COUNTA('Data Input'!$C$8:$AK$8)))","v":""},{"$f":"IF(ISBLANK('Data Input'!A692),\"\",SUM('Data Input'!C692,'Data Input'!D692,'Data Input'!J692,'Data Input'!X692))","v":""},{"$f":"IF(G687=\"\",\"\",G687/COUNTIF('Data Input'!$C$8:$AK$8,\"N\"))","v":""},{"$f":"IF(ISBLANK('Data Input'!A692),\"\",SUM('Data Input'!G692,'Data Input'!I692,'Data Input'!L692,'Data Input'!N692,'Data Input'!O692,'Data Input'!S692,'Data Input'!Z692,'Data Input'!AA692,'Data Input'!AB692,'Data Input'!AC692,'Data Input'!AE692,'Data Input'!AF692,'Data Input'!AG692,'Data Input'!AI692,'Data Input'!AK692))","v":""},{"$f":"IF(I687=\"\",\"\",I687/COUNTIF('Data Input'!$C$8:$AK$8,\"C\"))","v":""},{"$f":"IF(ISBLANK('Data Input'!A692),\"\",SUM('Data Input'!T692,'Data Input'!U692))","v":""},{"$f":"IF(K687=\"\",\"\",K687/COUNTIF('Data Input'!$C$8:$AK$8,\"S\"))","v":""},{"$f":"IF(ISBLANK('Data Input'!A692),\"\",SUM('Data Input'!F692,'Data Input'!R692,'Data Input'!AJ692))","v":""},{"$f":"IF(M687=\"\",\"\",M687/COUNTIF('Data Input'!$C$8:$AK$8,\"F\"))","v":""},{"$f":"IF(ISBLANK('Data Input'!A692),\"\",SUM('Data Input'!E692,'Data Input'!M692,'Data Input'!Q692,'Data Input'!V692,'Data Input'!W692,'Data Input'!AD692,'Data Input'!AH692))","v":""},{"$f":"IF(O687=\"\",\"\",O687/COUNTIF('Data Input'!$C$8:$AK$8,\"M\"))","v":""},{"$f":"IF(ISBLANK('Data Input'!A692),\"\",SUM('Data Input'!H692,'Data Input'!K692,'Data Input'!P692,'Data Input'!Y692))","v":""},{"$f":"IF(Q687=\"\",\"\",Q687/COUNTIF('Data Input'!$C$8:$AK$8,\"G\"))","v":""}]
[{"$f":"IF('Data Input'!A693=0,\"\",'Data Input'!A693)","v":""},{"$f":"IF(ISBLANK('Data Input'!A693),\"\",COUNTIF('Data Input'!C693:AK693,\"\"))","v":""},{"$f":"IF(ISBLANK('Data Input'!A693),\"\",COUNTIF('Data Input'!C693:AK693,\"0\"))","v":""},{"$f":"IF(ISBLANK('Data Input'!A693),\"\",SUM(B688,C688))","v":""},{"$f":"IF(ISBLANK('Data Input'!A693),\"\",SUM('Data Input'!C693:AK693))","v":""},{"$f":"IF(E688=\"\",\"\",E688/(COUNTA('Data Input'!$C$8:$AK$8)))","v":""},{"$f":"IF(ISBLANK('Data Input'!A693),\"\",SUM('Data Input'!C693,'Data Input'!D693,'Data Input'!J693,'Data Input'!X693))","v":""},{"$f":"IF(G688=\"\",\"\",G688/COUNTIF('Data Input'!$C$8:$AK$8,\"N\"))","v":""},{"$f":"IF(ISBLANK('Data Input'!A693),\"\",SUM('Data Input'!G693,'Data Input'!I693,'Data Input'!L693,'Data Input'!N693,'Data Input'!O693,'Data Input'!S693,'Data Input'!Z693,'Data Input'!AA693,'Data Input'!AB693,'Data Input'!AC693,'Data Input'!AE693,'Data Input'!AF693,'Data Input'!AG693,'Data Input'!AI693,'Data Input'!AK693))","v":""},{"$f":"IF(I688=\"\",\"\",I688/COUNTIF('Data Input'!$C$8:$AK$8,\"C\"))","v":""},{"$f":"IF(ISBLANK('Data Input'!A693),\"\",SUM('Data Input'!T693,'Data Input'!U693))","v":""},{"$f":"IF(K688=\"\",\"\",K688/COUNTIF('Data Input'!$C$8:$AK$8,\"S\"))","v":""},{"$f":"IF(ISBLANK('Data Input'!A693),\"\",SUM('Data Input'!F693,'Data Input'!R693,'Data Input'!AJ693))","v":""},{"$f":"IF(M688=\"\",\"\",M688/COUNTIF('Data Input'!$C$8:$AK$8,\"F\"))","v":""},{"$f":"IF(ISBLANK('Data Input'!A693),\"\",SUM('Data Input'!E693,'Data Input'!M693,'Data Input'!Q693,'Data Input'!V693,'Data Input'!W693,'Data Input'!AD693,'Data Input'!AH693))","v":""},{"$f":"IF(O688=\"\",\"\",O688/COUNTIF('Data Input'!$C$8:$AK$8,\"M\"))","v":""},{"$f":"IF(ISBLANK('Data Input'!A693),\"\",SUM('Data Input'!H693,'Data Input'!K693,'Data Input'!P693,'Data Input'!Y693))","v":""},{"$f":"IF(Q688=\"\",\"\",Q688/COUNTIF('Data Input'!$C$8:$AK$8,\"G\"))","v":""}]
[{"$f":"IF('Data Input'!A694=0,\"\",'Data Input'!A694)","v":""},{"$f":"IF(ISBLANK('Data Input'!A694),\"\",COUNTIF('Data Input'!C694:AK694,\"\"))","v":""},{"$f":"IF(ISBLANK('Data Input'!A694),\"\",COUNTIF('Data Input'!C694:AK694,\"0\"))","v":""},{"$f":"IF(ISBLANK('Data Input'!A694),\"\",SUM(B689,C689))","v":""},{"$f":"IF(ISBLANK('Data Input'!A694),\"\",SUM('Data Input'!C694:AK694))","v":""},{"$f":"IF(E689=\"\",\"\",E689/(COUNTA('Data Input'!$C$8:$AK$8)))","v":""},{"$f":"IF(ISBLANK('Data Input'!A694),\"\",SUM('Data Input'!C694,'Data Input'!D694,'Data Input'!J694,'Data Input'!X694))","v":""},{"$f":"IF(G689=\"\",\"\",G689/COUNTIF('Data Input'!$C$8:$AK$8,\"N\"))","v":""},{"$f":"IF(ISBLANK('Data Input'!A694),\"\",SUM('Data Input'!G694,'Data Input'!I694,'Data Input'!L694,'Data Input'!N694,'Data Input'!O694,'Data Input'!S694,'Data Input'!Z694,'Data Input'!AA694,'Data Input'!AB694,'Data Input'!AC694,'Data Input'!AE694,'Data Input'!AF694,'Data Input'!AG694,'Data Input'!AI694,'Data Input'!AK694))","v":""},{"$f":"IF(I689=\"\",\"\",I689/COUNTIF('Data Input'!$C$8:$AK$8,\"C\"))","v":""},{"$f":"IF(ISBLANK('Data Input'!A694),\"\",SUM('Data Input'!T694,'Data Input'!U694))","v":""},{"$f":"IF(K689=\"\",\"\",K689/COUNTIF('Data Input'!$C$8:$AK$8,\"S\"))","v":""},{"$f":"IF(ISBLANK('Data Input'!A694),\"\",SUM('Data Input'!F694,'Data Input'!R694,'Data Input'!AJ694))","v":""},{"$f":"IF(M689=\"\",\"\",M689/COUNTIF('Data Input'!$C$8:$AK$8,\"F\"))","v":""},{"$f":"IF(ISBLANK('Data Input'!A694),\"\",SUM('Data Input'!E694,'Data Input'!M694,'Data Input'!Q694,'Data Input'!V694,'Data Input'!W694,'Data Input'!AD694,'Data Input'!AH694))","v":""},{"$f":"IF(O689=\"\",\"\",O689/COUNTIF('Data Input'!$C$8:$AK$8,\"M\"))","v":""},{"$f":"IF(ISBLANK('Data Input'!A694),\"\",SUM('Data Input'!H694,'Data Input'!K694,'Data Input'!P694,'Data Input'!Y694))","v":""},{"$f":"IF(Q689=\"\",\"\",Q689/COUNTIF('Data Input'!$C$8:$AK$8,\"G\"))","v":""}]
[{"$f":"IF('Data Input'!A695=0,\"\",'Data Input'!A695)","v":""},{"$f":"IF(ISBLANK('Data Input'!A695),\"\",COUNTIF('Data Input'!C695:AK695,\"\"))","v":""},{"$f":"IF(ISBLANK('Data Input'!A695),\"\",COUNTIF('Data Input'!C695:AK695,\"0\"))","v":""},{"$f":"IF(ISBLANK('Data Input'!A695),\"\",SUM(B690,C690))","v":""},{"$f":"IF(ISBLANK('Data Input'!A695),\"\",SUM('Data Input'!C695:AK695))","v":""},{"$f":"IF(E690=\"\",\"\",E690/(COUNTA('Data Input'!$C$8:$AK$8)))","v":""},{"$f":"IF(ISBLANK('Data Input'!A695),\"\",SUM('Data Input'!C695,'Data Input'!D695,'Data Input'!J695,'Data Input'!X695))","v":""},{"$f":"IF(G690=\"\",\"\",G690/COUNTIF('Data Input'!$C$8:$AK$8,\"N\"))","v":""},{"$f":"IF(ISBLANK('Data Input'!A695),\"\",SUM('Data Input'!G695,'Data Input'!I695,'Data Input'!L695,'Data Input'!N695,'Data Input'!O695,'Data Input'!S695,'Data Input'!Z695,'Data Input'!AA695,'Data Input'!AB695,'Data Input'!AC695,'Data Input'!AE695,'Data Input'!AF695,'Data Input'!AG695,'Data Input'!AI695,'Data Input'!AK695))","v":""},{"$f":"IF(I690=\"\",\"\",I690/COUNTIF('Data Input'!$C$8:$AK$8,\"C\"))","v":""},{"$f":"IF(ISBLANK('Data Input'!A695),\"\",SUM('Data Input'!T695,'Data Input'!U695))","v":""},{"$f":"IF(K690=\"\",\"\",K690/COUNTIF('Data Input'!$C$8:$AK$8,\"S\"))","v":""},{"$f":"IF(ISBLANK('Data Input'!A695),\"\",SUM('Data Input'!F695,'Data Input'!R695,'Data Input'!AJ695))","v":""},{"$f":"IF(M690=\"\",\"\",M690/COUNTIF('Data Input'!$C$8:$AK$8,\"F\"))","v":""},{"$f":"IF(ISBLANK('Data Input'!A695),\"\",SUM('Data Input'!E695,'Data Input'!M695,'Data Input'!Q695,'Data Input'!V695,'Data Input'!W695,'Data Input'!AD695,'Data Input'!AH695))","v":""},{"$f":"IF(O690=\"\",\"\",O690/COUNTIF('Data Input'!$C$8:$AK$8,\"M\"))","v":""},{"$f":"IF(ISBLANK('Data Input'!A695),\"\",SUM('Data Input'!H695,'Data Input'!K695,'Data Input'!P695,'Data Input'!Y695))","v":""},{"$f":"IF(Q690=\"\",\"\",Q690/COUNTIF('Data Input'!$C$8:$AK$8,\"G\"))","v":""}]
[{"$f":"IF('Data Input'!A696=0,\"\",'Data Input'!A696)","v":""},{"$f":"IF(ISBLANK('Data Input'!A696),\"\",COUNTIF('Data Input'!C696:AK696,\"\"))","v":""},{"$f":"IF(ISBLANK('Data Input'!A696),\"\",COUNTIF('Data Input'!C696:AK696,\"0\"))","v":""},{"$f":"IF(ISBLANK('Data Input'!A696),\"\",SUM(B691,C691))","v":""},{"$f":"IF(ISBLANK('Data Input'!A696),\"\",SUM('Data Input'!C696:AK696))","v":""},{"$f":"IF(E691=\"\",\"\",E691/(COUNTA('Data Input'!$C$8:$AK$8)))","v":""},{"$f":"IF(ISBLANK('Data Input'!A696),\"\",SUM('Data Input'!C696,'Data Input'!D696,'Data Input'!J696,'Data Input'!X696))","v":""},{"$f":"IF(G691=\"\",\"\",G691/COUNTIF('Data Input'!$C$8:$AK$8,\"N\"))","v":""},{"$f":"IF(ISBLANK('Data Input'!A696),\"\",SUM('Data Input'!G696,'Data Input'!I696,'Data Input'!L696,'Data Input'!N696,'Data Input'!O696,'Data Input'!S696,'Data Input'!Z696,'Data Input'!AA696,'Data Input'!AB696,'Data Input'!AC696,'Data Input'!AE696,'Data Input'!AF696,'Data Input'!AG696,'Data Input'!AI696,'Data Input'!AK696))","v":""},{"$f":"IF(I691=\"\",\"\",I691/COUNTIF('Data Input'!$C$8:$AK$8,\"C\"))","v":""},{"$f":"IF(ISBLANK('Data Input'!A696),\"\",SUM('Data Input'!T696,'Data Input'!U696))","v":""},{"$f":"IF(K691=\"\",\"\",K691/COUNTIF('Data Input'!$C$8:$AK$8,\"S\"))","v":""},{"$f":"IF(ISBLANK('Data Input'!A696),\"\",SUM('Data Input'!F696,'Data Input'!R696,'Data Input'!AJ696))","v":""},{"$f":"IF(M691=\"\",\"\",M691/COUNTIF('Data Input'!$C$8:$AK$8,\"F\"))","v":""},{"$f":"IF(ISBLANK('Data Input'!A696),\"\",SUM('Data Input'!E696,'Data Input'!M696,'Data Input'!Q696,'Data Input'!V696,'Data Input'!W696,'Data Input'!AD696,'Data Input'!AH696))","v":""},{"$f":"IF(O691=\"\",\"\",O691/COUNTIF('Data Input'!$C$8:$AK$8,\"M\"))","v":""},{"$f":"IF(ISBLANK('Data Input'!A696),\"\",SUM('Data Input'!H696,'Data Input'!K696,'Data Input'!P696,'Data Input'!Y696))","v":""},{"$f":"IF(Q691=\"\",\"\",Q691/COUNTIF('Data Input'!$C$8:$AK$8,\"G\"))","v":""}]
[{"$f":"IF('Data Input'!A697=0,\"\",'Data Input'!A697)","v":""},{"$f":"IF(ISBLANK('Data Input'!A697),\"\",COUNTIF('Data Input'!C697:AK697,\"\"))","v":""},{"$f":"IF(ISBLANK('Data Input'!A697),\"\",COUNTIF('Data Input'!C697:AK697,\"0\"))","v":""},{"$f":"IF(ISBLANK('Data Input'!A697),\"\",SUM(B692,C692))","v":""},{"$f":"IF(ISBLANK('Data Input'!A697),\"\",SUM('Data Input'!C697:AK697))","v":""},{"$f":"IF(E692=\"\",\"\",E692/(COUNTA('Data Input'!$C$8:$AK$8)))","v":""},{"$f":"IF(ISBLANK('Data Input'!A697),\"\",SUM('Data Input'!C697,'Data Input'!D697,'Data Input'!J697,'Data Input'!X697))","v":""},{"$f":"IF(G692=\"\",\"\",G692/COUNTIF('Data Input'!$C$8:$AK$8,\"N\"))","v":""},{"$f":"IF(ISBLANK('Data Input'!A697),\"\",SUM('Data Input'!G697,'Data Input'!I697,'Data Input'!L697,'Data Input'!N697,'Data Input'!O697,'Data Input'!S697,'Data Input'!Z697,'Data Input'!AA697,'Data Input'!AB697,'Data Input'!AC697,'Data Input'!AE697,'Data Input'!AF697,'Data Input'!AG697,'Data Input'!AI697,'Data Input'!AK697))","v":""},{"$f":"IF(I692=\"\",\"\",I692/COUNTIF('Data Input'!$C$8:$AK$8,\"C\"))","v":""},{"$f":"IF(ISBLANK('Data Input'!A697),\"\",SUM('Data Input'!T697,'Data Input'!U697))","v":""},{"$f":"IF(K692=\"\",\"\",K692/COUNTIF('Data Input'!$C$8:$AK$8,\"S\"))","v":""},{"$f":"IF(ISBLANK('Data Input'!A697),\"\",SUM('Data Input'!F697,'Data Input'!R697,'Data Input'!AJ697))","v":""},{"$f":"IF(M692=\"\",\"\",M692/COUNTIF('Data Input'!$C$8:$AK$8,\"F\"))","v":""},{"$f":"IF(ISBLANK('Data Input'!A697),\"\",SUM('Data Input'!E697,'Data Input'!M697,'Data Input'!Q697,'Data Input'!V697,'Data Input'!W697,'Data Input'!AD697,'Data Input'!AH697))","v":""},{"$f":"IF(O692=\"\",\"\",O692/COUNTIF('Data Input'!$C$8:$AK$8,\"M\"))","v":""},{"$f":"IF(ISBLANK('Data Input'!A697),\"\",SUM('Data Input'!H697,'Data Input'!K697,'Data Input'!P697,'Data Input'!Y697))","v":""},{"$f":"IF(Q692=\"\",\"\",Q692/COUNTIF('Data Input'!$C$8:$AK$8,\"G\"))","v":""}]
[{"$f":"IF('Data Input'!A698=0,\"\",'Data Input'!A698)","v":""},{"$f":"IF(ISBLANK('Data Input'!A698),\"\",COUNTIF('Data Input'!C698:AK698,\"\"))","v":""},{"$f":"IF(ISBLANK('Data Input'!A698),\"\",COUNTIF('Data Input'!C698:AK698,\"0\"))","v":""},{"$f":"IF(ISBLANK('Data Input'!A698),\"\",SUM(B693,C693))","v":""},{"$f":"IF(ISBLANK('Data Input'!A698),\"\",SUM('Data Input'!C698:AK698))","v":""},{"$f":"IF(E693=\"\",\"\",E693/(COUNTA('Data Input'!$C$8:$AK$8)))","v":""},{"$f":"IF(ISBLANK('Data Input'!A698),\"\",SUM('Data Input'!C698,'Data Input'!D698,'Data Input'!J698,'Data Input'!X698))","v":""},{"$f":"IF(G693=\"\",\"\",G693/COUNTIF('Data Input'!$C$8:$AK$8,\"N\"))","v":""},{"$f":"IF(ISBLANK('Data Input'!A698),\"\",SUM('Data Input'!G698,'Data Input'!I698,'Data Input'!L698,'Data Input'!N698,'Data Input'!O698,'Data Input'!S698,'Data Input'!Z698,'Data Input'!AA698,'Data Input'!AB698,'Data Input'!AC698,'Data Input'!AE698,'Data Input'!AF698,'Data Input'!AG698,'Data Input'!AI698,'Data Input'!AK698))","v":""},{"$f":"IF(I693=\"\",\"\",I693/COUNTIF('Data Input'!$C$8:$AK$8,\"C\"))","v":""},{"$f":"IF(ISBLANK('Data Input'!A698),\"\",SUM('Data Input'!T698,'Data Input'!U698))","v":""},{"$f":"IF(K693=\"\",\"\",K693/COUNTIF('Data Input'!$C$8:$AK$8,\"S\"))","v":""},{"$f":"IF(ISBLANK('Data Input'!A698),\"\",SUM('Data Input'!F698,'Data Input'!R698,'Data Input'!AJ698))","v":""},{"$f":"IF(M693=\"\",\"\",M693/COUNTIF('Data Input'!$C$8:$AK$8,\"F\"))","v":""},{"$f":"IF(ISBLANK('Data Input'!A698),\"\",SUM('Data Input'!E698,'Data Input'!M698,'Data Input'!Q698,'Data Input'!V698,'Data Input'!W698,'Data Input'!AD698,'Data Input'!AH698))","v":""},{"$f":"IF(O693=\"\",\"\",O693/COUNTIF('Data Input'!$C$8:$AK$8,\"M\"))","v":""},{"$f":"IF(ISBLANK('Data Input'!A698),\"\",SUM('Data Input'!H698,'Data Input'!K698,'Data Input'!P698,'Data Input'!Y698))","v":""},{"$f":"IF(Q693=\"\",\"\",Q693/COUNTIF('Data Input'!$C$8:$AK$8,\"G\"))","v":""}]
[{"$f":"IF('Data Input'!A699=0,\"\",'Data Input'!A699)","v":""},{"$f":"IF(ISBLANK('Data Input'!A699),\"\",COUNTIF('Data Input'!C699:AK699,\"\"))","v":""},{"$f":"IF(ISBLANK('Data Input'!A699),\"\",COUNTIF('Data Input'!C699:AK699,\"0\"))","v":""},{"$f":"IF(ISBLANK('Data Input'!A699),\"\",SUM(B694,C694))","v":""},{"$f":"IF(ISBLANK('Data Input'!A699),\"\",SUM('Data Input'!C699:AK699))","v":""},{"$f":"IF(E694=\"\",\"\",E694/(COUNTA('Data Input'!$C$8:$AK$8)))","v":""},{"$f":"IF(ISBLANK('Data Input'!A699),\"\",SUM('Data Input'!C699,'Data Input'!D699,'Data Input'!J699,'Data Input'!X699))","v":""},{"$f":"IF(G694=\"\",\"\",G694/COUNTIF('Data Input'!$C$8:$AK$8,\"N\"))","v":""},{"$f":"IF(ISBLANK('Data Input'!A699),\"\",SUM('Data Input'!G699,'Data Input'!I699,'Data Input'!L699,'Data Input'!N699,'Data Input'!O699,'Data Input'!S699,'Data Input'!Z699,'Data Input'!AA699,'Data Input'!AB699,'Data Input'!AC699,'Data Input'!AE699,'Data Input'!AF699,'Data Input'!AG699,'Data Input'!AI699,'Data Input'!AK699))","v":""},{"$f":"IF(I694=\"\",\"\",I694/COUNTIF('Data Input'!$C$8:$AK$8,\"C\"))","v":""},{"$f":"IF(ISBLANK('Data Input'!A699),\"\",SUM('Data Input'!T699,'Data Input'!U699))","v":""},{"$f":"IF(K694=\"\",\"\",K694/COUNTIF('Data Input'!$C$8:$AK$8,\"S\"))","v":""},{"$f":"IF(ISBLANK('Data Input'!A699),\"\",SUM('Data Input'!F699,'Data Input'!R699,'Data Input'!AJ699))","v":""},{"$f":"IF(M694=\"\",\"\",M694/COUNTIF('Data Input'!$C$8:$AK$8,\"F\"))","v":""},{"$f":"IF(ISBLANK('Data Input'!A699),\"\",SUM('Data Input'!E699,'Data Input'!M699,'Data Input'!Q699,'Data Input'!V699,'Data Input'!W699,'Data Input'!AD699,'Data Input'!AH699))","v":""},{"$f":"IF(O694=\"\",\"\",O694/COUNTIF('Data Input'!$C$8:$AK$8,\"M\"))","v":""},{"$f":"IF(ISBLANK('Data Input'!A699),\"\",SUM('Data Input'!H699,'Data Input'!K699,'Data Input'!P699,'Data Input'!Y699))","v":""},{"$f":"IF(Q694=\"\",\"\",Q694/COUNTIF('Data Input'!$C$8:$AK$8,\"G\"))","v":""}]
[{"$f":"IF('Data Input'!A700=0,\"\",'Data Input'!A700)","v":""},{"$f":"IF(ISBLANK('Data Input'!A700),\"\",COUNTIF('Data Input'!C700:AK700,\"\"))","v":""},{"$f":"IF(ISBLANK('Data Input'!A700),\"\",COUNTIF('Data Input'!C700:AK700,\"0\"))","v":""},{"$f":"IF(ISBLANK('Data Input'!A700),\"\",SUM(B695,C695))","v":""},{"$f":"IF(ISBLANK('Data Input'!A700),\"\",SUM('Data Input'!C700:AK700))","v":""},{"$f":"IF(E695=\"\",\"\",E695/(COUNTA('Data Input'!$C$8:$AK$8)))","v":""},{"$f":"IF(ISBLANK('Data Input'!A700),\"\",SUM('Data Input'!C700,'Data Input'!D700,'Data Input'!J700,'Data Input'!X700))","v":""},{"$f":"IF(G695=\"\",\"\",G695/COUNTIF('Data Input'!$C$8:$AK$8,\"N\"))","v":""},{"$f":"IF(ISBLANK('Data Input'!A700),\"\",SUM('Data Input'!G700,'Data Input'!I700,'Data Input'!L700,'Data Input'!N700,'Data Input'!O700,'Data Input'!S700,'Data Input'!Z700,'Data Input'!AA700,'Data Input'!AB700,'Data Input'!AC700,'Data Input'!AE700,'Data Input'!AF700,'Data Input'!AG700,'Data Input'!AI700,'Data Input'!AK700))","v":""},{"$f":"IF(I695=\"\",\"\",I695/COUNTIF('Data Input'!$C$8:$AK$8,\"C\"))","v":""},{"$f":"IF(ISBLANK('Data Input'!A700),\"\",SUM('Data Input'!T700,'Data Input'!U700))","v":""},{"$f":"IF(K695=\"\",\"\",K695/COUNTIF('Data Input'!$C$8:$AK$8,\"S\"))","v":""},{"$f":"IF(ISBLANK('Data Input'!A700),\"\",SUM('Data Input'!F700,'Data Input'!R700,'Data Input'!AJ700))","v":""},{"$f":"IF(M695=\"\",\"\",M695/COUNTIF('Data Input'!$C$8:$AK$8,\"F\"))","v":""},{"$f":"IF(ISBLANK('Data Input'!A700),\"\",SUM('Data Input'!E700,'Data Input'!M700,'Data Input'!Q700,'Data Input'!V700,'Data Input'!W700,'Data Input'!AD700,'Data Input'!AH700))","v":""},{"$f":"IF(O695=\"\",\"\",O695/COUNTIF('Data Input'!$C$8:$AK$8,\"M\"))","v":""},{"$f":"IF(ISBLANK('Data Input'!A700),\"\",SUM('Data Input'!H700,'Data Input'!K700,'Data Input'!P700,'Data Input'!Y700))","v":""},{"$f":"IF(Q695=\"\",\"\",Q695/COUNTIF('Data Input'!$C$8:$AK$8,\"G\"))","v":""}]
[{"$f":"IF('Data Input'!A701=0,\"\",'Data Input'!A701)","v":""},{"$f":"IF(ISBLANK('Data Input'!A701),\"\",COUNTIF('Data Input'!C701:AK701,\"\"))","v":""},{"$f":"IF(ISBLANK('Data Input'!A701),\"\",COUNTIF('Data Input'!C701:AK701,\"0\"))","v":""},{"$f":"IF(ISBLANK('Data Input'!A701),\"\",SUM(B696,C696))","v":""},{"$f":"IF(ISBLANK('Data Input'!A701),\"\",SUM('Data Input'!C701:AK701))","v":""},{"$f":"IF(E696=\"\",\"\",E696/(COUNTA('Data Input'!$C$8:$AK$8)))","v":""},{"$f":"IF(ISBLANK('Data Input'!A701),\"\",SUM('Data Input'!C701,'Data Input'!D701,'Data Input'!J701,'Data Input'!X701))","v":""},{"$f":"IF(G696=\"\",\"\",G696/COUNTIF('Data Input'!$C$8:$AK$8,\"N\"))","v":""},{"$f":"IF(ISBLANK('Data Input'!A701),\"\",SUM('Data Input'!G701,'Data Input'!I701,'Data Input'!L701,'Data Input'!N701,'Data Input'!O701,'Data Input'!S701,'Data Input'!Z701,'Data Input'!AA701,'Data Input'!AB701,'Data Input'!AC701,'Data Input'!AE701,'Data Input'!AF701,'Data Input'!AG701,'Data Input'!AI701,'Data Input'!AK701))","v":""},{"$f":"IF(I696=\"\",\"\",I696/COUNTIF('Data Input'!$C$8:$AK$8,\"C\"))","v":""},{"$f":"IF(ISBLANK('Data Input'!A701),\"\",SUM('Data Input'!T701,'Data Input'!U701))","v":""},{"$f":"IF(K696=\"\",\"\",K696/COUNTIF('Data Input'!$C$8:$AK$8,\"S\"))","v":""},{"$f":"IF(ISBLANK('Data Input'!A701),\"\",SUM('Data Input'!F701,'Data Input'!R701,'Data Input'!AJ701))","v":""},{"$f":"IF(M696=\"\",\"\",M696/COUNTIF('Data Input'!$C$8:$AK$8,\"F\"))","v":""},{"$f":"IF(ISBLANK('Data Input'!A701),\"\",SUM('Data Input'!E701,'Data Input'!M701,'Data Input'!Q701,'Data Input'!V701,'Data Input'!W701,'Data Input'!AD701,'Data Input'!AH701))","v":""},{"$f":"IF(O696=\"\",\"\",O696/COUNTIF('Data Input'!$C$8:$AK$8,\"M\"))","v":""},{"$f":"IF(ISBLANK('Data Input'!A701),\"\",SUM('Data Input'!H701,'Data Input'!K701,'Data Input'!P701,'Data Input'!Y701))","v":""},{"$f":"IF(Q696=\"\",\"\",Q696/COUNTIF('Data Input'!$C$8:$AK$8,\"G\"))","v":""}]
[{"$f":"IF('Data Input'!A702=0,\"\",'Data Input'!A702)","v":""},{"$f":"IF(ISBLANK('Data Input'!A702),\"\",COUNTIF('Data Input'!C702:AK702,\"\"))","v":""},{"$f":"IF(ISBLANK('Data Input'!A702),\"\",COUNTIF('Data Input'!C702:AK702,\"0\"))","v":""},{"$f":"IF(ISBLANK('Data Input'!A702),\"\",SUM(B697,C697))","v":""},{"$f":"IF(ISBLANK('Data Input'!A702),\"\",SUM('Data Input'!C702:AK702))","v":""},{"$f":"IF(E697=\"\",\"\",E697/(COUNTA('Data Input'!$C$8:$AK$8)))","v":""},{"$f":"IF(ISBLANK('Data Input'!A702),\"\",SUM('Data Input'!C702,'Data Input'!D702,'Data Input'!J702,'Data Input'!X702))","v":""},{"$f":"IF(G697=\"\",\"\",G697/COUNTIF('Data Input'!$C$8:$AK$8,\"N\"))","v":""},{"$f":"IF(ISBLANK('Data Input'!A702),\"\",SUM('Data Input'!G702,'Data Input'!I702,'Data Input'!L702,'Data Input'!N702,'Data Input'!O702,'Data Input'!S702,'Data Input'!Z702,'Data Input'!AA702,'Data Input'!AB702,'Data Input'!AC702,'Data Input'!AE702,'Data Input'!AF702,'Data Input'!AG702,'Data Input'!AI702,'Data Input'!AK702))","v":""},{"$f":"IF(I697=\"\",\"\",I697/COUNTIF('Data Input'!$C$8:$AK$8,\"C\"))","v":""},{"$f":"IF(ISBLANK('Data Input'!A702),\"\",SUM('Data Input'!T702,'Data Input'!U702))","v":""},{"$f":"IF(K697=\"\",\"\",K697/COUNTIF('Data Input'!$C$8:$AK$8,\"S\"))","v":""},{"$f":"IF(ISBLANK('Data Input'!A702),\"\",SUM('Data Input'!F702,'Data Input'!R702,'Data Input'!AJ702))","v":""},{"$f":"IF(M697=\"\",\"\",M697/COUNTIF('Data Input'!$C$8:$AK$8,\"F\"))","v":""},{"$f":"IF(ISBLANK('Data Input'!A702),\"\",SUM('Data Input'!E702,'Data Input'!M702,'Data Input'!Q702,'Data Input'!V702,'Data Input'!W702,'Data Input'!AD702,'Data Input'!AH702))","v":""},{"$f":"IF(O697=\"\",\"\",O697/COUNTIF('Data Input'!$C$8:$AK$8,\"M\"))","v":""},{"$f":"IF(ISBLANK('Data Input'!A702),\"\",SUM('Data Input'!H702,'Data Input'!K702,'Data Input'!P702,'Data Input'!Y702))","v":""},{"$f":"IF(Q697=\"\",\"\",Q697/COUNTIF('Data Input'!$C$8:$AK$8,\"G\"))","v":""}]
[{"$f":"IF('Data Input'!A703=0,\"\",'Data Input'!A703)","v":""},{"$f":"IF(ISBLANK('Data Input'!A703),\"\",COUNTIF('Data Input'!C703:AK703,\"\"))","v":""},{"$f":"IF(ISBLANK('Data Input'!A703),\"\",COUNTIF('Data Input'!C703:AK703,\"0\"))","v":""},{"$f":"IF(ISBLANK('Data Input'!A703),\"\",SUM(B698,C698))","v":""},{"$f":"IF(ISBLANK('Data Input'!A703),\"\",SUM('Data Input'!C703:AK703))","v":""},{"$f":"IF(E698=\"\",\"\",E698/(COUNTA('Data Input'!$C$8:$AK$8)))","v":""},{"$f":"IF(ISBLANK('Data Input'!A703),\"\",SUM('Data Input'!C703,'Data Input'!D703,'Data Input'!J703,'Data Input'!X703))","v":""},{"$f":"IF(G698=\"\",\"\",G698/COUNTIF('Data Input'!$C$8:$AK$8,\"N\"))","v":""},{"$f":"IF(ISBLANK('Data Input'!A703),\"\",SUM('Data Input'!G703,'Data Input'!I703,'Data Input'!L703,'Data Input'!N703,'Data Input'!O703,'Data Input'!S703,'Data Input'!Z703,'Data Input'!AA703,'Data Input'!AB703,'Data Input'!AC703,'Data Input'!AE703,'Data Input'!AF703,'Data Input'!AG703,'Data Input'!AI703,'Data Input'!AK703))","v":""},{"$f":"IF(I698=\"\",\"\",I698/COUNTIF('Data Input'!$C$8:$AK$8,\"C\"))","v":""},{"$f":"IF(ISBLANK('Data Input'!A703),\"\",SUM('Data Input'!T703,'Data Input'!U703))","v":""},{"$f":"IF(K698=\"\",\"\",K698/COUNTIF('Data Input'!$C$8:$AK$8,\"S\"))","v":""},{"$f":"IF(ISBLANK('Data Input'!A703),\"\",SUM('Data Input'!F703,'Data Input'!R703,'Data Input'!AJ703))","v":""},{"$f":"IF(M698=\"\",\"\",M698/COUNTIF('Data Input'!$C$8:$AK$8,\"F\"))","v":""},{"$f":"IF(ISBLANK('Data Input'!A703),\"\",SUM('Data Input'!E703,'Data Input'!M703,'Data Input'!Q703,'Data Input'!V703,'Data Input'!W703,'Data Input'!AD703,'Data Input'!AH703))","v":""},{"$f":"IF(O698=\"\",\"\",O698/COUNTIF('Data Input'!$C$8:$AK$8,\"M\"))","v":""},{"$f":"IF(ISBLANK('Data Input'!A703),\"\",SUM('Data Input'!H703,'Data Input'!K703,'Data Input'!P703,'Data Input'!Y703))","v":""},{"$f":"IF(Q698=\"\",\"\",Q698/COUNTIF('Data Input'!$C$8:$AK$8,\"G\"))","v":""}]
[{"$f":"IF('Data Input'!A704=0,\"\",'Data Input'!A704)","v":""},{"$f":"IF(ISBLANK('Data Input'!A704),\"\",COUNTIF('Data Input'!C704:AK704,\"\"))","v":""},{"$f":"IF(ISBLANK('Data Input'!A704),\"\",COUNTIF('Data Input'!C704:AK704,\"0\"))","v":""},{"$f":"IF(ISBLANK('Data Input'!A704),\"\",SUM(B699,C699))","v":""},{"$f":"IF(ISBLANK('Data Input'!A704),\"\",SUM('Data Input'!C704:AK704))","v":""},{"$f":"IF(E699=\"\",\"\",E699/(COUNTA('Data Input'!$C$8:$AK$8)))","v":""},{"$f":"IF(ISBLANK('Data Input'!A704),\"\",SUM('Data Input'!C704,'Data Input'!D704,'Data Input'!J704,'Data Input'!X704))","v":""},{"$f":"IF(G699=\"\",\"\",G699/COUNTIF('Data Input'!$C$8:$AK$8,\"N\"))","v":""},{"$f":"IF(ISBLANK('Data Input'!A704),\"\",SUM('Data Input'!G704,'Data Input'!I704,'Data Input'!L704,'Data Input'!N704,'Data Input'!O704,'Data Input'!S704,'Data Input'!Z704,'Data Input'!AA704,'Data Input'!AB704,'Data Input'!AC704,'Data Input'!AE704,'Data Input'!AF704,'Data Input'!AG704,'Data Input'!AI704,'Data Input'!AK704))","v":""},{"$f":"IF(I699=\"\",\"\",I699/COUNTIF('Data Input'!$C$8:$AK$8,\"C\"))","v":""},{"$f":"IF(ISBLANK('Data Input'!A704),\"\",SUM('Data Input'!T704,'Data Input'!U704))","v":""},{"$f":"IF(K699=\"\",\"\",K699/COUNTIF('Data Input'!$C$8:$AK$8,\"S\"))","v":""},{"$f":"IF(ISBLANK('Data Input'!A704),\"\",SUM('Data Input'!F704,'Data Input'!R704,'Data Input'!AJ704))","v":""},{"$f":"IF(M699=\"\",\"\",M699/COUNTIF('Data Input'!$C$8:$AK$8,\"F\"))","v":""},{"$f":"IF(ISBLANK('Data Input'!A704),\"\",SUM('Data Input'!E704,'Data Input'!M704,'Data Input'!Q704,'Data Input'!V704,'Data Input'!W704,'Data Input'!AD704,'Data Input'!AH704))","v":""},{"$f":"IF(O699=\"\",\"\",O699/COUNTIF('Data Input'!$C$8:$AK$8,\"M\"))","v":""},{"$f":"IF(ISBLANK('Data Input'!A704),\"\",SUM('Data Input'!H704,'Data Input'!K704,'Data Input'!P704,'Data Input'!Y704))","v":""},{"$f":"IF(Q699=\"\",\"\",Q699/COUNTIF('Data Input'!$C$8:$AK$8,\"G\"))","v":""}]
[{"$f":"IF('Data Input'!A705=0,\"\",'Data Input'!A705)","v":""},{"$f":"IF(ISBLANK('Data Input'!A705),\"\",COUNTIF('Data Input'!C705:AK705,\"\"))","v":""},{"$f":"IF(ISBLANK('Data Input'!A705),\"\",COUNTIF('Data Input'!C705:AK705,\"0\"))","v":""},{"$f":"IF(ISBLANK('Data Input'!A705),\"\",SUM(B700,C700))","v":""},{"$f":"IF(ISBLANK('Data Input'!A705),\"\",SUM('Data Input'!C705:AK705))","v":""},{"$f":"IF(E700=\"\",\"\",E700/(COUNTA('Data Input'!$C$8:$AK$8)))","v":""},{"$f":"IF(ISBLANK('Data Input'!A705),\"\",SUM('Data Input'!C705,'Data Input'!D705,'Data Input'!J705,'Data Input'!X705))","v":""},{"$f":"IF(G700=\"\",\"\",G700/COUNTIF('Data Input'!$C$8:$AK$8,\"N\"))","v":""},{"$f":"IF(ISBLANK('Data Input'!A705),\"\",SUM('Data Input'!G705,'Data Input'!I705,'Data Input'!L705,'Data Input'!N705,'Data Input'!O705,'Data Input'!S705,'Data Input'!Z705,'Data Input'!AA705,'Data Input'!AB705,'Data Input'!AC705,'Data Input'!AE705,'Data Input'!AF705,'Data Input'!AG705,'Data Input'!AI705,'Data Input'!AK705))","v":""},{"$f":"IF(I700=\"\",\"\",I700/COUNTIF('Data Input'!$C$8:$AK$8,\"C\"))","v":""},{"$f":"IF(ISBLANK('Data Input'!A705),\"\",SUM('Data Input'!T705,'Data Input'!U705))","v":""},{"$f":"IF(K700=\"\",\"\",K700/COUNTIF('Data Input'!$C$8:$AK$8,\"S\"))","v":""},{"$f":"IF(ISBLANK('Data Input'!A705),\"\",SUM('Data Input'!F705,'Data Input'!R705,'Data Input'!AJ705))","v":""},{"$f":"IF(M700=\"\",\"\",M700/COUNTIF('Data Input'!$C$8:$AK$8,\"F\"))","v":""},{"$f":"IF(ISBLANK('Data Input'!A705),\"\",SUM('Data Input'!E705,'Data Input'!M705,'Data Input'!Q705,'Data Input'!V705,'Data Input'!W705,'Data Input'!AD705,'Data Input'!AH705))","v":""},{"$f":"IF(O700=\"\",\"\",O700/COUNTIF('Data Input'!$C$8:$AK$8,\"M\"))","v":""},{"$f":"IF(ISBLANK('Data Input'!A705),\"\",SUM('Data Input'!H705,'Data Input'!K705,'Data Input'!P705,'Data Input'!Y705))","v":""},{"$f":"IF(Q700=\"\",\"\",Q700/COUNTIF('Data Input'!$C$8:$AK$8,\"G\"))","v":""}]
[{"$f":"IF('Data Input'!A706=0,\"\",'Data Input'!A706)","v":""},{"$f":"IF(ISBLANK('Data Input'!A706),\"\",COUNTIF('Data Input'!C706:AK706,\"\"))","v":""},{"$f":"IF(ISBLANK('Data Input'!A706),\"\",COUNTIF('Data Input'!C706:AK706,\"0\"))","v":""},{"$f":"IF(ISBLANK('Data Input'!A706),\"\",SUM(B701,C701))","v":""},{"$f":"IF(ISBLANK('Data Input'!A706),\"\",SUM('Data Input'!C706:AK706))","v":""},{"$f":"IF(E701=\"\",\"\",E701/(COUNTA('Data Input'!$C$8:$AK$8)))","v":""},{"$f":"IF(ISBLANK('Data Input'!A706),\"\",SUM('Data Input'!C706,'Data Input'!D706,'Data Input'!J706,'Data Input'!X706))","v":""},{"$f":"IF(G701=\"\",\"\",G701/COUNTIF('Data Input'!$C$8:$AK$8,\"N\"))","v":""},{"$f":"IF(ISBLANK('Data Input'!A706),\"\",SUM('Data Input'!G706,'Data Input'!I706,'Data Input'!L706,'Data Input'!N706,'Data Input'!O706,'Data Input'!S706,'Data Input'!Z706,'Data Input'!AA706,'Data Input'!AB706,'Data Input'!AC706,'Data Input'!AE706,'Data Input'!AF706,'Data Input'!AG706,'Data Input'!AI706,'Data Input'!AK706))","v":""},{"$f":"IF(I701=\"\",\"\",I701/COUNTIF('Data Input'!$C$8:$AK$8,\"C\"))","v":""},{"$f":"IF(ISBLANK('Data Input'!A706),\"\",SUM('Data Input'!T706,'Data Input'!U706))","v":""},{"$f":"IF(K701=\"\",\"\",K701/COUNTIF('Data Input'!$C$8:$AK$8,\"S\"))","v":""},{"$f":"IF(ISBLANK('Data Input'!A706),\"\",SUM('Data Input'!F706,'Data Input'!R706,'Data Input'!AJ706))","v":""},{"$f":"IF(M701=\"\",\"\",M701/COUNTIF('Data Input'!$C$8:$AK$8,\"F\"))","v":""},{"$f":"IF(ISBLANK('Data Input'!A706),\"\",SUM('Data Input'!E706,'Data Input'!M706,'Data Input'!Q706,'Data Input'!V706,'Data Input'!W706,'Data Input'!AD706,'Data Input'!AH706))","v":""},{"$f":"IF(O701=\"\",\"\",O701/COUNTIF('Data Input'!$C$8:$AK$8,\"M\"))","v":""},{"$f":"IF(ISBLANK('Data Input'!A706),\"\",SUM('Data Input'!H706,'Data Input'!K706,'Data Input'!P706,'Data Input'!Y706))","v":""},{"$f":"IF(Q701=\"\",\"\",Q701/COUNTIF('Data Input'!$C$8:$AK$8,\"G\"))","v":""}]
[{"$f":"IF('Data Input'!A707=0,\"\",'Data Input'!A707)","v":""},{"$f":"IF(ISBLANK('Data Input'!A707),\"\",COUNTIF('Data Input'!C707:AK707,\"\"))","v":""},{"$f":"IF(ISBLANK('Data Input'!A707),\"\",COUNTIF('Data Input'!C707:AK707,\"0\"))","v":""},{"$f":"IF(ISBLANK('Data Input'!A707),\"\",SUM(B702,C702))","v":""},{"$f":"IF(ISBLANK('Data Input'!A707),\"\",SUM('Data Input'!C707:AK707))","v":""},{"$f":"IF(E702=\"\",\"\",E702/(COUNTA('Data Input'!$C$8:$AK$8)))","v":""},{"$f":"IF(ISBLANK('Data Input'!A707),\"\",SUM('Data Input'!C707,'Data Input'!D707,'Data Input'!J707,'Data Input'!X707))","v":""},{"$f":"IF(G702=\"\",\"\",G702/COUNTIF('Data Input'!$C$8:$AK$8,\"N\"))","v":""},{"$f":"IF(ISBLANK('Data Input'!A707),\"\",SUM('Data Input'!G707,'Data Input'!I707,'Data Input'!L707,'Data Input'!N707,'Data Input'!O707,'Data Input'!S707,'Data Input'!Z707,'Data Input'!AA707,'Data Input'!AB707,'Data Input'!AC707,'Data Input'!AE707,'Data Input'!AF707,'Data Input'!AG707,'Data Input'!AI707,'Data Input'!AK707))","v":""},{"$f":"IF(I702=\"\",\"\",I702/COUNTIF('Data Input'!$C$8:$AK$8,\"C\"))","v":""},{"$f":"IF(ISBLANK('Data Input'!A707),\"\",SUM('Data Input'!T707,'Data Input'!U707))","v":""},{"$f":"IF(K702=\"\",\"\",K702/COUNTIF('Data Input'!$C$8:$AK$8,\"S\"))","v":""},{"$f":"IF(ISBLANK('Data Input'!A707),\"\",SUM('Data Input'!F707,'Data Input'!R707,'Data Input'!AJ707))","v":""},{"$f":"IF(M702=\"\",\"\",M702/COUNTIF('Data Input'!$C$8:$AK$8,\"F\"))","v":""},{"$f":"IF(ISBLANK('Data Input'!A707),\"\",SUM('Data Input'!E707,'Data Input'!M707,'Data Input'!Q707,'Data Input'!V707,'Data Input'!W707,'Data Input'!AD707,'Data Input'!AH707))","v":""},{"$f":"IF(O702=\"\",\"\",O702/COUNTIF('Data Input'!$C$8:$AK$8,\"M\"))","v":""},{"$f":"IF(ISBLANK('Data Input'!A707),\"\",SUM('Data Input'!H707,'Data Input'!K707,'Data Input'!P707,'Data Input'!Y707))","v":""},{"$f":"IF(Q702=\"\",\"\",Q702/COUNTIF('Data Input'!$C$8:$AK$8,\"G\"))","v":""}]
[{"$f":"IF('Data Input'!A708=0,\"\",'Data Input'!A708)","v":""},{"$f":"IF(ISBLANK('Data Input'!A708),\"\",COUNTIF('Data Input'!C708:AK708,\"\"))","v":""},{"$f":"IF(ISBLANK('Data Input'!A708),\"\",COUNTIF('Data Input'!C708:AK708,\"0\"))","v":""},{"$f":"IF(ISBLANK('Data Input'!A708),\"\",SUM(B703,C703))","v":""},{"$f":"IF(ISBLANK('Data Input'!A708),\"\",SUM('Data Input'!C708:AK708))","v":""},{"$f":"IF(E703=\"\",\"\",E703/(COUNTA('Data Input'!$C$8:$AK$8)))","v":""},{"$f":"IF(ISBLANK('Data Input'!A708),\"\",SUM('Data Input'!C708,'Data Input'!D708,'Data Input'!J708,'Data Input'!X708))","v":""},{"$f":"IF(G703=\"\",\"\",G703/COUNTIF('Data Input'!$C$8:$AK$8,\"N\"))","v":""},{"$f":"IF(ISBLANK('Data Input'!A708),\"\",SUM('Data Input'!G708,'Data Input'!I708,'Data Input'!L708,'Data Input'!N708,'Data Input'!O708,'Data Input'!S708,'Data Input'!Z708,'Data Input'!AA708,'Data Input'!AB708,'Data Input'!AC708,'Data Input'!AE708,'Data Input'!AF708,'Data Input'!AG708,'Data Input'!AI708,'Data Input'!AK708))","v":""},{"$f":"IF(I703=\"\",\"\",I703/COUNTIF('Data Input'!$C$8:$AK$8,\"C\"))","v":""},{"$f":"IF(ISBLANK('Data Input'!A708),\"\",SUM('Data Input'!T708,'Data Input'!U708))","v":""},{"$f":"IF(K703=\"\",\"\",K703/COUNTIF('Data Input'!$C$8:$AK$8,\"S\"))","v":""},{"$f":"IF(ISBLANK('Data Input'!A708),\"\",SUM('Data Input'!F708,'Data Input'!R708,'Data Input'!AJ708))","v":""},{"$f":"IF(M703=\"\",\"\",M703/COUNTIF('Data Input'!$C$8:$AK$8,\"F\"))","v":""},{"$f":"IF(ISBLANK('Data Input'!A708),\"\",SUM('Data Input'!E708,'Data Input'!M708,'Data Input'!Q708,'Data Input'!V708,'Data Input'!W708,'Data Input'!AD708,'Data Input'!AH708))","v":""},{"$f":"IF(O703=\"\",\"\",O703/COUNTIF('Data Input'!$C$8:$AK$8,\"M\"))","v":""},{"$f":"IF(ISBLANK('Data Input'!A708),\"\",SUM('Data Input'!H708,'Data Input'!K708,'Data Input'!P708,'Data Input'!Y708))","v":""},{"$f":"IF(Q703=\"\",\"\",Q703/COUNTIF('Data Input'!$C$8:$AK$8,\"G\"))","v":""}]
[{"$f":"IF('Data Input'!A709=0,\"\",'Data Input'!A709)","v":""},{"$f":"IF(ISBLANK('Data Input'!A709),\"\",COUNTIF('Data Input'!C709:AK709,\"\"))","v":""},{"$f":"IF(ISBLANK('Data Input'!A709),\"\",COUNTIF('Data Input'!C709:AK709,\"0\"))","v":""},{"$f":"IF(ISBLANK('Data Input'!A709),\"\",SUM(B704,C704))","v":""},{"$f":"IF(ISBLANK('Data Input'!A709),\"\",SUM('Data Input'!C709:AK709))","v":""},{"$f":"IF(E704=\"\",\"\",E704/(COUNTA('Data Input'!$C$8:$AK$8)))","v":""},{"$f":"IF(ISBLANK('Data Input'!A709),\"\",SUM('Data Input'!C709,'Data Input'!D709,'Data Input'!J709,'Data Input'!X709))","v":""},{"$f":"IF(G704=\"\",\"\",G704/COUNTIF('Data Input'!$C$8:$AK$8,\"N\"))","v":""},{"$f":"IF(ISBLANK('Data Input'!A709),\"\",SUM('Data Input'!G709,'Data Input'!I709,'Data Input'!L709,'Data Input'!N709,'Data Input'!O709,'Data Input'!S709,'Data Input'!Z709,'Data Input'!AA709,'Data Input'!AB709,'Data Input'!AC709,'Data Input'!AE709,'Data Input'!AF709,'Data Input'!AG709,'Data Input'!AI709,'Data Input'!AK709))","v":""},{"$f":"IF(I704=\"\",\"\",I704/COUNTIF('Data Input'!$C$8:$AK$8,\"C\"))","v":""},{"$f":"IF(ISBLANK('Data Input'!A709),\"\",SUM('Data Input'!T709,'Data Input'!U709))","v":""},{"$f":"IF(K704=\"\",\"\",K704/COUNTIF('Data Input'!$C$8:$AK$8,\"S\"))","v":""},{"$f":"IF(ISBLANK('Data Input'!A709),\"\",SUM('Data Input'!F709,'Data Input'!R709,'Data Input'!AJ709))","v":""},{"$f":"IF(M704=\"\",\"\",M704/COUNTIF('Data Input'!$C$8:$AK$8,\"F\"))","v":""},{"$f":"IF(ISBLANK('Data Input'!A709),\"\",SUM('Data Input'!E709,'Data Input'!M709,'Data Input'!Q709,'Data Input'!V709,'Data Input'!W709,'Data Input'!AD709,'Data Input'!AH709))","v":""},{"$f":"IF(O704=\"\",\"\",O704/COUNTIF('Data Input'!$C$8:$AK$8,\"M\"))","v":""},{"$f":"IF(ISBLANK('Data Input'!A709),\"\",SUM('Data Input'!H709,'Data Input'!K709,'Data Input'!P709,'Data Input'!Y709))","v":""},{"$f":"IF(Q704=\"\",\"\",Q704/COUNTIF('Data Input'!$C$8:$AK$8,\"G\"))","v":""}]
[{"$f":"IF('Data Input'!A710=0,\"\",'Data Input'!A710)","v":""},{"$f":"IF(ISBLANK('Data Input'!A710),\"\",COUNTIF('Data Input'!C710:AK710,\"\"))","v":""},{"$f":"IF(ISBLANK('Data Input'!A710),\"\",COUNTIF('Data Input'!C710:AK710,\"0\"))","v":""},{"$f":"IF(ISBLANK('Data Input'!A710),\"\",SUM(B705,C705))","v":""},{"$f":"IF(ISBLANK('Data Input'!A710),\"\",SUM('Data Input'!C710:AK710))","v":""},{"$f":"IF(E705=\"\",\"\",E705/(COUNTA('Data Input'!$C$8:$AK$8)))","v":""},{"$f":"IF(ISBLANK('Data Input'!A710),\"\",SUM('Data Input'!C710,'Data Input'!D710,'Data Input'!J710,'Data Input'!X710))","v":""},{"$f":"IF(G705=\"\",\"\",G705/COUNTIF('Data Input'!$C$8:$AK$8,\"N\"))","v":""},{"$f":"IF(ISBLANK('Data Input'!A710),\"\",SUM('Data Input'!G710,'Data Input'!I710,'Data Input'!L710,'Data Input'!N710,'Data Input'!O710,'Data Input'!S710,'Data Input'!Z710,'Data Input'!AA710,'Data Input'!AB710,'Data Input'!AC710,'Data Input'!AE710,'Data Input'!AF710,'Data Input'!AG710,'Data Input'!AI710,'Data Input'!AK710))","v":""},{"$f":"IF(I705=\"\",\"\",I705/COUNTIF('Data Input'!$C$8:$AK$8,\"C\"))","v":""},{"$f":"IF(ISBLANK('Data Input'!A710),\"\",SUM('Data Input'!T710,'Data Input'!U710))","v":""},{"$f":"IF(K705=\"\",\"\",K705/COUNTIF('Data Input'!$C$8:$AK$8,\"S\"))","v":""},{"$f":"IF(ISBLANK('Data Input'!A710),\"\",SUM('Data Input'!F710,'Data Input'!R710,'Data Input'!AJ710))","v":""},{"$f":"IF(M705=\"\",\"\",M705/COUNTIF('Data Input'!$C$8:$AK$8,\"F\"))","v":""},{"$f":"IF(ISBLANK('Data Input'!A710),\"\",SUM('Data Input'!E710,'Data Input'!M710,'Data Input'!Q710,'Data Input'!V710,'Data Input'!W710,'Data Input'!AD710,'Data Input'!AH710))","v":""},{"$f":"IF(O705=\"\",\"\",O705/COUNTIF('Data Input'!$C$8:$AK$8,\"M\"))","v":""},{"$f":"IF(ISBLANK('Data Input'!A710),\"\",SUM('Data Input'!H710,'Data Input'!K710,'Data Input'!P710,'Data Input'!Y710))","v":""},{"$f":"IF(Q705=\"\",\"\",Q705/COUNTIF('Data Input'!$C$8:$AK$8,\"G\"))","v":""}]
[{"$f":"IF('Data Input'!A711=0,\"\",'Data Input'!A711)","v":""},{"$f":"IF(ISBLANK('Data Input'!A711),\"\",COUNTIF('Data Input'!C711:AK711,\"\"))","v":""},{"$f":"IF(ISBLANK('Data Input'!A711),\"\",COUNTIF('Data Input'!C711:AK711,\"0\"))","v":""},{"$f":"IF(ISBLANK('Data Input'!A711),\"\",SUM(B706,C706))","v":""},{"$f":"IF(ISBLANK('Data Input'!A711),\"\",SUM('Data Input'!C711:AK711))","v":""},{"$f":"IF(E706=\"\",\"\",E706/(COUNTA('Data Input'!$C$8:$AK$8)))","v":""},{"$f":"IF(ISBLANK('Data Input'!A711),\"\",SUM('Data Input'!C711,'Data Input'!D711,'Data Input'!J711,'Data Input'!X711))","v":""},{"$f":"IF(G706=\"\",\"\",G706/COUNTIF('Data Input'!$C$8:$AK$8,\"N\"))","v":""},{"$f":"IF(ISBLANK('Data Input'!A711),\"\",SUM('Data Input'!G711,'Data Input'!I711,'Data Input'!L711,'Data Input'!N711,'Data Input'!O711,'Data Input'!S711,'Data Input'!Z711,'Data Input'!AA711,'Data Input'!AB711,'Data Input'!AC711,'Data Input'!AE711,'Data Input'!AF711,'Data Input'!AG711,'Data Input'!AI711,'Data Input'!AK711))","v":""},{"$f":"IF(I706=\"\",\"\",I706/COUNTIF('Data Input'!$C$8:$AK$8,\"C\"))","v":""},{"$f":"IF(ISBLANK('Data Input'!A711),\"\",SUM('Data Input'!T711,'Data Input'!U711))","v":""},{"$f":"IF(K706=\"\",\"\",K706/COUNTIF('Data Input'!$C$8:$AK$8,\"S\"))","v":""},{"$f":"IF(ISBLANK('Data Input'!A711),\"\",SUM('Data Input'!F711,'Data Input'!R711,'Data Input'!AJ711))","v":""},{"$f":"IF(M706=\"\",\"\",M706/COUNTIF('Data Input'!$C$8:$AK$8,\"F\"))","v":""},{"$f":"IF(ISBLANK('Data Input'!A711),\"\",SUM('Data Input'!E711,'Data Input'!M711,'Data Input'!Q711,'Data Input'!V711,'Data Input'!W711,'Data Input'!AD711,'Data Input'!AH711))","v":""},{"$f":"IF(O706=\"\",\"\",O706/COUNTIF('Data Input'!$C$8:$AK$8,\"M\"))","v":""},{"$f":"IF(ISBLANK('Data Input'!A711),\"\",SUM('Data Input'!H711,'Data Input'!K711,'Data Input'!P711,'Data Input'!Y711))","v":""},{"$f":"IF(Q706=\"\",\"\",Q706/COUNTIF('Data Input'!$C$8:$AK$8,\"G\"))","v":""}]
[{"$f":"IF('Data Input'!A712=0,\"\",'Data Input'!A712)","v":""},{"$f":"IF(ISBLANK('Data Input'!A712),\"\",COUNTIF('Data Input'!C712:AK712,\"\"))","v":""},{"$f":"IF(ISBLANK('Data Input'!A712),\"\",COUNTIF('Data Input'!C712:AK712,\"0\"))","v":""},{"$f":"IF(ISBLANK('Data Input'!A712),\"\",SUM(B707,C707))","v":""},{"$f":"IF(ISBLANK('Data Input'!A712),\"\",SUM('Data Input'!C712:AK712))","v":""},{"$f":"IF(E707=\"\",\"\",E707/(COUNTA('Data Input'!$C$8:$AK$8)))","v":""},{"$f":"IF(ISBLANK('Data Input'!A712),\"\",SUM('Data Input'!C712,'Data Input'!D712,'Data Input'!J712,'Data Input'!X712))","v":""},{"$f":"IF(G707=\"\",\"\",G707/COUNTIF('Data Input'!$C$8:$AK$8,\"N\"))","v":""},{"$f":"IF(ISBLANK('Data Input'!A712),\"\",SUM('Data Input'!G712,'Data Input'!I712,'Data Input'!L712,'Data Input'!N712,'Data Input'!O712,'Data Input'!S712,'Data Input'!Z712,'Data Input'!AA712,'Data Input'!AB712,'Data Input'!AC712,'Data Input'!AE712,'Data Input'!AF712,'Data Input'!AG712,'Data Input'!AI712,'Data Input'!AK712))","v":""},{"$f":"IF(I707=\"\",\"\",I707/COUNTIF('Data Input'!$C$8:$AK$8,\"C\"))","v":""},{"$f":"IF(ISBLANK('Data Input'!A712),\"\",SUM('Data Input'!T712,'Data Input'!U712))","v":""},{"$f":"IF(K707=\"\",\"\",K707/COUNTIF('Data Input'!$C$8:$AK$8,\"S\"))","v":""},{"$f":"IF(ISBLANK('Data Input'!A712),\"\",SUM('Data Input'!F712,'Data Input'!R712,'Data Input'!AJ712))","v":""},{"$f":"IF(M707=\"\",\"\",M707/COUNTIF('Data Input'!$C$8:$AK$8,\"F\"))","v":""},{"$f":"IF(ISBLANK('Data Input'!A712),\"\",SUM('Data Input'!E712,'Data Input'!M712,'Data Input'!Q712,'Data Input'!V712,'Data Input'!W712,'Data Input'!AD712,'Data Input'!AH712))","v":""},{"$f":"IF(O707=\"\",\"\",O707/COUNTIF('Data Input'!$C$8:$AK$8,\"M\"))","v":""},{"$f":"IF(ISBLANK('Data Input'!A712),\"\",SUM('Data Input'!H712,'Data Input'!K712,'Data Input'!P712,'Data Input'!Y712))","v":""},{"$f":"IF(Q707=\"\",\"\",Q707/COUNTIF('Data Input'!$C$8:$AK$8,\"G\"))","v":""}]
[{"$f":"IF('Data Input'!A713=0,\"\",'Data Input'!A713)","v":""},{"$f":"IF(ISBLANK('Data Input'!A713),\"\",COUNTIF('Data Input'!C713:AK713,\"\"))","v":""},{"$f":"IF(ISBLANK('Data Input'!A713),\"\",COUNTIF('Data Input'!C713:AK713,\"0\"))","v":""},{"$f":"IF(ISBLANK('Data Input'!A713),\"\",SUM(B708,C708))","v":""},{"$f":"IF(ISBLANK('Data Input'!A713),\"\",SUM('Data Input'!C713:AK713))","v":""},{"$f":"IF(E708=\"\",\"\",E708/(COUNTA('Data Input'!$C$8:$AK$8)))","v":""},{"$f":"IF(ISBLANK('Data Input'!A713),\"\",SUM('Data Input'!C713,'Data Input'!D713,'Data Input'!J713,'Data Input'!X713))","v":""},{"$f":"IF(G708=\"\",\"\",G708/COUNTIF('Data Input'!$C$8:$AK$8,\"N\"))","v":""},{"$f":"IF(ISBLANK('Data Input'!A713),\"\",SUM('Data Input'!G713,'Data Input'!I713,'Data Input'!L713,'Data Input'!N713,'Data Input'!O713,'Data Input'!S713,'Data Input'!Z713,'Data Input'!AA713,'Data Input'!AB713,'Data Input'!AC713,'Data Input'!AE713,'Data Input'!AF713,'Data Input'!AG713,'Data Input'!AI713,'Data Input'!AK713))","v":""},{"$f":"IF(I708=\"\",\"\",I708/COUNTIF('Data Input'!$C$8:$AK$8,\"C\"))","v":""},{"$f":"IF(ISBLANK('Data Input'!A713),\"\",SUM('Data Input'!T713,'Data Input'!U713))","v":""},{"$f":"IF(K708=\"\",\"\",K708/COUNTIF('Data Input'!$C$8:$AK$8,\"S\"))","v":""},{"$f":"IF(ISBLANK('Data Input'!A713),\"\",SUM('Data Input'!F713,'Data Input'!R713,'Data Input'!AJ713))","v":""},{"$f":"IF(M708=\"\",\"\",M708/COUNTIF('Data Input'!$C$8:$AK$8,\"F\"))","v":""},{"$f":"IF(ISBLANK('Data Input'!A713),\"\",SUM('Data Input'!E713,'Data Input'!M713,'Data Input'!Q713,'Data Input'!V713,'Data Input'!W713,'Data Input'!AD713,'Data Input'!AH713))","v":""},{"$f":"IF(O708=\"\",\"\",O708/COUNTIF('Data Input'!$C$8:$AK$8,\"M\"))","v":""},{"$f":"IF(ISBLANK('Data Input'!A713),\"\",SUM('Data Input'!H713,'Data Input'!K713,'Data Input'!P713,'Data Input'!Y713))","v":""},{"$f":"IF(Q708=\"\",\"\",Q708/COUNTIF('Data Input'!$C$8:$AK$8,\"G\"))","v":""}]
[{"$f":"IF('Data Input'!A714=0,\"\",'Data Input'!A714)","v":""},{"$f":"IF(ISBLANK('Data Input'!A714),\"\",COUNTIF('Data Input'!C714:AK714,\"\"))","v":""},{"$f":"IF(ISBLANK('Data Input'!A714),\"\",COUNTIF('Data Input'!C714:AK714,\"0\"))","v":""},{"$f":"IF(ISBLANK('Data Input'!A714),\"\",SUM(B709,C709))","v":""},{"$f":"IF(ISBLANK('Data Input'!A714),\"\",SUM('Data Input'!C714:AK714))","v":""},{"$f":"IF(E709=\"\",\"\",E709/(COUNTA('Data Input'!$C$8:$AK$8)))","v":""},{"$f":"IF(ISBLANK('Data Input'!A714),\"\",SUM('Data Input'!C714,'Data Input'!D714,'Data Input'!J714,'Data Input'!X714))","v":""},{"$f":"IF(G709=\"\",\"\",G709/COUNTIF('Data Input'!$C$8:$AK$8,\"N\"))","v":""},{"$f":"IF(ISBLANK('Data Input'!A714),\"\",SUM('Data Input'!G714,'Data Input'!I714,'Data Input'!L714,'Data Input'!N714,'Data Input'!O714,'Data Input'!S714,'Data Input'!Z714,'Data Input'!AA714,'Data Input'!AB714,'Data Input'!AC714,'Data Input'!AE714,'Data Input'!AF714,'Data Input'!AG714,'Data Input'!AI714,'Data Input'!AK714))","v":""},{"$f":"IF(I709=\"\",\"\",I709/COUNTIF('Data Input'!$C$8:$AK$8,\"C\"))","v":""},{"$f":"IF(ISBLANK('Data Input'!A714),\"\",SUM('Data Input'!T714,'Data Input'!U714))","v":""},{"$f":"IF(K709=\"\",\"\",K709/COUNTIF('Data Input'!$C$8:$AK$8,\"S\"))","v":""},{"$f":"IF(ISBLANK('Data Input'!A714),\"\",SUM('Data Input'!F714,'Data Input'!R714,'Data Input'!AJ714))","v":""},{"$f":"IF(M709=\"\",\"\",M709/COUNTIF('Data Input'!$C$8:$AK$8,\"F\"))","v":""},{"$f":"IF(ISBLANK('Data Input'!A714),\"\",SUM('Data Input'!E714,'Data Input'!M714,'Data Input'!Q714,'Data Input'!V714,'Data Input'!W714,'Data Input'!AD714,'Data Input'!AH714))","v":""},{"$f":"IF(O709=\"\",\"\",O709/COUNTIF('Data Input'!$C$8:$AK$8,\"M\"))","v":""},{"$f":"IF(ISBLANK('Data Input'!A714),\"\",SUM('Data Input'!H714,'Data Input'!K714,'Data Input'!P714,'Data Input'!Y714))","v":""},{"$f":"IF(Q709=\"\",\"\",Q709/COUNTIF('Data Input'!$C$8:$AK$8,\"G\"))","v":""}]
[{"$f":"IF('Data Input'!A715=0,\"\",'Data Input'!A715)","v":""},{"$f":"IF(ISBLANK('Data Input'!A715),\"\",COUNTIF('Data Input'!C715:AK715,\"\"))","v":""},{"$f":"IF(ISBLANK('Data Input'!A715),\"\",COUNTIF('Data Input'!C715:AK715,\"0\"))","v":""},{"$f":"IF(ISBLANK('Data Input'!A715),\"\",SUM(B710,C710))","v":""},{"$f":"IF(ISBLANK('Data Input'!A715),\"\",SUM('Data Input'!C715:AK715))","v":""},{"$f":"IF(E710=\"\",\"\",E710/(COUNTA('Data Input'!$C$8:$AK$8)))","v":""},{"$f":"IF(ISBLANK('Data Input'!A715),\"\",SUM('Data Input'!C715,'Data Input'!D715,'Data Input'!J715,'Data Input'!X715))","v":""},{"$f":"IF(G710=\"\",\"\",G710/COUNTIF('Data Input'!$C$8:$AK$8,\"N\"))","v":""},{"$f":"IF(ISBLANK('Data Input'!A715),\"\",SUM('Data Input'!G715,'Data Input'!I715,'Data Input'!L715,'Data Input'!N715,'Data Input'!O715,'Data Input'!S715,'Data Input'!Z715,'Data Input'!AA715,'Data Input'!AB715,'Data Input'!AC715,'Data Input'!AE715,'Data Input'!AF715,'Data Input'!AG715,'Data Input'!AI715,'Data Input'!AK715))","v":""},{"$f":"IF(I710=\"\",\"\",I710/COUNTIF('Data Input'!$C$8:$AK$8,\"C\"))","v":""},{"$f":"IF(ISBLANK('Data Input'!A715),\"\",SUM('Data Input'!T715,'Data Input'!U715))","v":""},{"$f":"IF(K710=\"\",\"\",K710/COUNTIF('Data Input'!$C$8:$AK$8,\"S\"))","v":""},{"$f":"IF(ISBLANK('Data Input'!A715),\"\",SUM('Data Input'!F715,'Data Input'!R715,'Data Input'!AJ715))","v":""},{"$f":"IF(M710=\"\",\"\",M710/COUNTIF('Data Input'!$C$8:$AK$8,\"F\"))","v":""},{"$f":"IF(ISBLANK('Data Input'!A715),\"\",SUM('Data Input'!E715,'Data Input'!M715,'Data Input'!Q715,'Data Input'!V715,'Data Input'!W715,'Data Input'!AD715,'Data Input'!AH715))","v":""},{"$f":"IF(O710=\"\",\"\",O710/COUNTIF('Data Input'!$C$8:$AK$8,\"M\"))","v":""},{"$f":"IF(ISBLANK('Data Input'!A715),\"\",SUM('Data Input'!H715,'Data Input'!K715,'Data Input'!P715,'Data Input'!Y715))","v":""},{"$f":"IF(Q710=\"\",\"\",Q710/COUNTIF('Data Input'!$C$8:$AK$8,\"G\"))","v":""}]
[{"$f":"IF('Data Input'!A716=0,\"\",'Data Input'!A716)","v":""},{"$f":"IF(ISBLANK('Data Input'!A716),\"\",COUNTIF('Data Input'!C716:AK716,\"\"))","v":""},{"$f":"IF(ISBLANK('Data Input'!A716),\"\",COUNTIF('Data Input'!C716:AK716,\"0\"))","v":""},{"$f":"IF(ISBLANK('Data Input'!A716),\"\",SUM(B711,C711))","v":""},{"$f":"IF(ISBLANK('Data Input'!A716),\"\",SUM('Data Input'!C716:AK716))","v":""},{"$f":"IF(E711=\"\",\"\",E711/(COUNTA('Data Input'!$C$8:$AK$8)))","v":""},{"$f":"IF(ISBLANK('Data Input'!A716),\"\",SUM('Data Input'!C716,'Data Input'!D716,'Data Input'!J716,'Data Input'!X716))","v":""},{"$f":"IF(G711=\"\",\"\",G711/COUNTIF('Data Input'!$C$8:$AK$8,\"N\"))","v":""},{"$f":"IF(ISBLANK('Data Input'!A716),\"\",SUM('Data Input'!G716,'Data Input'!I716,'Data Input'!L716,'Data Input'!N716,'Data Input'!O716,'Data Input'!S716,'Data Input'!Z716,'Data Input'!AA716,'Data Input'!AB716,'Data Input'!AC716,'Data Input'!AE716,'Data Input'!AF716,'Data Input'!AG716,'Data Input'!AI716,'Data Input'!AK716))","v":""},{"$f":"IF(I711=\"\",\"\",I711/COUNTIF('Data Input'!$C$8:$AK$8,\"C\"))","v":""},{"$f":"IF(ISBLANK('Data Input'!A716),\"\",SUM('Data Input'!T716,'Data Input'!U716))","v":""},{"$f":"IF(K711=\"\",\"\",K711/COUNTIF('Data Input'!$C$8:$AK$8,\"S\"))","v":""},{"$f":"IF(ISBLANK('Data Input'!A716),\"\",SUM('Data Input'!F716,'Data Input'!R716,'Data Input'!AJ716))","v":""},{"$f":"IF(M711=\"\",\"\",M711/COUNTIF('Data Input'!$C$8:$AK$8,\"F\"))","v":""},{"$f":"IF(ISBLANK('Data Input'!A716),\"\",SUM('Data Input'!E716,'Data Input'!M716,'Data Input'!Q716,'Data Input'!V716,'Data Input'!W716,'Data Input'!AD716,'Data Input'!AH716))","v":""},{"$f":"IF(O711=\"\",\"\",O711/COUNTIF('Data Input'!$C$8:$AK$8,\"M\"))","v":""},{"$f":"IF(ISBLANK('Data Input'!A716),\"\",SUM('Data Input'!H716,'Data Input'!K716,'Data Input'!P716,'Data Input'!Y716))","v":""},{"$f":"IF(Q711=\"\",\"\",Q711/COUNTIF('Data Input'!$C$8:$AK$8,\"G\"))","v":""}]
[{"$f":"IF('Data Input'!A717=0,\"\",'Data Input'!A717)","v":""},{"$f":"IF(ISBLANK('Data Input'!A717),\"\",COUNTIF('Data Input'!C717:AK717,\"\"))","v":""},{"$f":"IF(ISBLANK('Data Input'!A717),\"\",COUNTIF('Data Input'!C717:AK717,\"0\"))","v":""},{"$f":"IF(ISBLANK('Data Input'!A717),\"\",SUM(B712,C712))","v":""},{"$f":"IF(ISBLANK('Data Input'!A717),\"\",SUM('Data Input'!C717:AK717))","v":""},{"$f":"IF(E712=\"\",\"\",E712/(COUNTA('Data Input'!$C$8:$AK$8)))","v":""},{"$f":"IF(ISBLANK('Data Input'!A717),\"\",SUM('Data Input'!C717,'Data Input'!D717,'Data Input'!J717,'Data Input'!X717))","v":""},{"$f":"IF(G712=\"\",\"\",G712/COUNTIF('Data Input'!$C$8:$AK$8,\"N\"))","v":""},{"$f":"IF(ISBLANK('Data Input'!A717),\"\",SUM('Data Input'!G717,'Data Input'!I717,'Data Input'!L717,'Data Input'!N717,'Data Input'!O717,'Data Input'!S717,'Data Input'!Z717,'Data Input'!AA717,'Data Input'!AB717,'Data Input'!AC717,'Data Input'!AE717,'Data Input'!AF717,'Data Input'!AG717,'Data Input'!AI717,'Data Input'!AK717))","v":""},{"$f":"IF(I712=\"\",\"\",I712/COUNTIF('Data Input'!$C$8:$AK$8,\"C\"))","v":""},{"$f":"IF(ISBLANK('Data Input'!A717),\"\",SUM('Data Input'!T717,'Data Input'!U717))","v":""},{"$f":"IF(K712=\"\",\"\",K712/COUNTIF('Data Input'!$C$8:$AK$8,\"S\"))","v":""},{"$f":"IF(ISBLANK('Data Input'!A717),\"\",SUM('Data Input'!F717,'Data Input'!R717,'Data Input'!AJ717))","v":""},{"$f":"IF(M712=\"\",\"\",M712/COUNTIF('Data Input'!$C$8:$AK$8,\"F\"))","v":""},{"$f":"IF(ISBLANK('Data Input'!A717),\"\",SUM('Data Input'!E717,'Data Input'!M717,'Data Input'!Q717,'Data Input'!V717,'Data Input'!W717,'Data Input'!AD717,'Data Input'!AH717))","v":""},{"$f":"IF(O712=\"\",\"\",O712/COUNTIF('Data Input'!$C$8:$AK$8,\"M\"))","v":""},{"$f":"IF(ISBLANK('Data Input'!A717),\"\",SUM('Data Input'!H717,'Data Input'!K717,'Data Input'!P717,'Data Input'!Y717))","v":""},{"$f":"IF(Q712=\"\",\"\",Q712/COUNTIF('Data Input'!$C$8:$AK$8,\"G\"))","v":""}]
[{"$f":"IF('Data Input'!A718=0,\"\",'Data Input'!A718)","v":""},{"$f":"IF(ISBLANK('Data Input'!A718),\"\",COUNTIF('Data Input'!C718:AK718,\"\"))","v":""},{"$f":"IF(ISBLANK('Data Input'!A718),\"\",COUNTIF('Data Input'!C718:AK718,\"0\"))","v":""},{"$f":"IF(ISBLANK('Data Input'!A718),\"\",SUM(B713,C713))","v":""},{"$f":"IF(ISBLANK('Data Input'!A718),\"\",SUM('Data Input'!C718:AK718))","v":""},{"$f":"IF(E713=\"\",\"\",E713/(COUNTA('Data Input'!$C$8:$AK$8)))","v":""},{"$f":"IF(ISBLANK('Data Input'!A718),\"\",SUM('Data Input'!C718,'Data Input'!D718,'Data Input'!J718,'Data Input'!X718))","v":""},{"$f":"IF(G713=\"\",\"\",G713/COUNTIF('Data Input'!$C$8:$AK$8,\"N\"))","v":""},{"$f":"IF(ISBLANK('Data Input'!A718),\"\",SUM('Data Input'!G718,'Data Input'!I718,'Data Input'!L718,'Data Input'!N718,'Data Input'!O718,'Data Input'!S718,'Data Input'!Z718,'Data Input'!AA718,'Data Input'!AB718,'Data Input'!AC718,'Data Input'!AE718,'Data Input'!AF718,'Data Input'!AG718,'Data Input'!AI718,'Data Input'!AK718))","v":""},{"$f":"IF(I713=\"\",\"\",I713/COUNTIF('Data Input'!$C$8:$AK$8,\"C\"))","v":""},{"$f":"IF(ISBLANK('Data Input'!A718),\"\",SUM('Data Input'!T718,'Data Input'!U718))","v":""},{"$f":"IF(K713=\"\",\"\",K713/COUNTIF('Data Input'!$C$8:$AK$8,\"S\"))","v":""},{"$f":"IF(ISBLANK('Data Input'!A718),\"\",SUM('Data Input'!F718,'Data Input'!R718,'Data Input'!AJ718))","v":""},{"$f":"IF(M713=\"\",\"\",M713/COUNTIF('Data Input'!$C$8:$AK$8,\"F\"))","v":""},{"$f":"IF(ISBLANK('Data Input'!A718),\"\",SUM('Data Input'!E718,'Data Input'!M718,'Data Input'!Q718,'Data Input'!V718,'Data Input'!W718,'Data Input'!AD718,'Data Input'!AH718))","v":""},{"$f":"IF(O713=\"\",\"\",O713/COUNTIF('Data Input'!$C$8:$AK$8,\"M\"))","v":""},{"$f":"IF(ISBLANK('Data Input'!A718),\"\",SUM('Data Input'!H718,'Data Input'!K718,'Data Input'!P718,'Data Input'!Y718))","v":""},{"$f":"IF(Q713=\"\",\"\",Q713/COUNTIF('Data Input'!$C$8:$AK$8,\"G\"))","v":""}]
[{"$f":"IF('Data Input'!A719=0,\"\",'Data Input'!A719)","v":""},{"$f":"IF(ISBLANK('Data Input'!A719),\"\",COUNTIF('Data Input'!C719:AK719,\"\"))","v":""},{"$f":"IF(ISBLANK('Data Input'!A719),\"\",COUNTIF('Data Input'!C719:AK719,\"0\"))","v":""},{"$f":"IF(ISBLANK('Data Input'!A719),\"\",SUM(B714,C714))","v":""},{"$f":"IF(ISBLANK('Data Input'!A719),\"\",SUM('Data Input'!C719:AK719))","v":""},{"$f":"IF(E714=\"\",\"\",E714/(COUNTA('Data Input'!$C$8:$AK$8)))","v":""},{"$f":"IF(ISBLANK('Data Input'!A719),\"\",SUM('Data Input'!C719,'Data Input'!D719,'Data Input'!J719,'Data Input'!X719))","v":""},{"$f":"IF(G714=\"\",\"\",G714/COUNTIF('Data Input'!$C$8:$AK$8,\"N\"))","v":""},{"$f":"IF(ISBLANK('Data Input'!A719),\"\",SUM('Data Input'!G719,'Data Input'!I719,'Data Input'!L719,'Data Input'!N719,'Data Input'!O719,'Data Input'!S719,'Data Input'!Z719,'Data Input'!AA719,'Data Input'!AB719,'Data Input'!AC719,'Data Input'!AE719,'Data Input'!AF719,'Data Input'!AG719,'Data Input'!AI719,'Data Input'!AK719))","v":""},{"$f":"IF(I714=\"\",\"\",I714/COUNTIF('Data Input'!$C$8:$AK$8,\"C\"))","v":""},{"$f":"IF(ISBLANK('Data Input'!A719),\"\",SUM('Data Input'!T719,'Data Input'!U719))","v":""},{"$f":"IF(K714=\"\",\"\",K714/COUNTIF('Data Input'!$C$8:$AK$8,\"S\"))","v":""},{"$f":"IF(ISBLANK('Data Input'!A719),\"\",SUM('Data Input'!F719,'Data Input'!R719,'Data Input'!AJ719))","v":""},{"$f":"IF(M714=\"\",\"\",M714/COUNTIF('Data Input'!$C$8:$AK$8,\"F\"))","v":""},{"$f":"IF(ISBLANK('Data Input'!A719),\"\",SUM('Data Input'!E719,'Data Input'!M719,'Data Input'!Q719,'Data Input'!V719,'Data Input'!W719,'Data Input'!AD719,'Data Input'!AH719))","v":""},{"$f":"IF(O714=\"\",\"\",O714/COUNTIF('Data Input'!$C$8:$AK$8,\"M\"))","v":""},{"$f":"IF(ISBLANK('Data Input'!A719),\"\",SUM('Data Input'!H719,'Data Input'!K719,'Data Input'!P719,'Data Input'!Y719))","v":""},{"$f":"IF(Q714=\"\",\"\",Q714/COUNTIF('Data Input'!$C$8:$AK$8,\"G\"))","v":""}]
[{"$f":"IF('Data Input'!A720=0,\"\",'Data Input'!A720)","v":""},{"$f":"IF(ISBLANK('Data Input'!A720),\"\",COUNTIF('Data Input'!C720:AK720,\"\"))","v":""},{"$f":"IF(ISBLANK('Data Input'!A720),\"\",COUNTIF('Data Input'!C720:AK720,\"0\"))","v":""},{"$f":"IF(ISBLANK('Data Input'!A720),\"\",SUM(B715,C715))","v":""},{"$f":"IF(ISBLANK('Data Input'!A720),\"\",SUM('Data Input'!C720:AK720))","v":""},{"$f":"IF(E715=\"\",\"\",E715/(COUNTA('Data Input'!$C$8:$AK$8)))","v":""},{"$f":"IF(ISBLANK('Data Input'!A720),\"\",SUM('Data Input'!C720,'Data Input'!D720,'Data Input'!J720,'Data Input'!X720))","v":""},{"$f":"IF(G715=\"\",\"\",G715/COUNTIF('Data Input'!$C$8:$AK$8,\"N\"))","v":""},{"$f":"IF(ISBLANK('Data Input'!A720),\"\",SUM('Data Input'!G720,'Data Input'!I720,'Data Input'!L720,'Data Input'!N720,'Data Input'!O720,'Data Input'!S720,'Data Input'!Z720,'Data Input'!AA720,'Data Input'!AB720,'Data Input'!AC720,'Data Input'!AE720,'Data Input'!AF720,'Data Input'!AG720,'Data Input'!AI720,'Data Input'!AK720))","v":""},{"$f":"IF(I715=\"\",\"\",I715/COUNTIF('Data Input'!$C$8:$AK$8,\"C\"))","v":""},{"$f":"IF(ISBLANK('Data Input'!A720),\"\",SUM('Data Input'!T720,'Data Input'!U720))","v":""},{"$f":"IF(K715=\"\",\"\",K715/COUNTIF('Data Input'!$C$8:$AK$8,\"S\"))","v":""},{"$f":"IF(ISBLANK('Data Input'!A720),\"\",SUM('Data Input'!F720,'Data Input'!R720,'Data Input'!AJ720))","v":""},{"$f":"IF(M715=\"\",\"\",M715/COUNTIF('Data Input'!$C$8:$AK$8,\"F\"))","v":""},{"$f":"IF(ISBLANK('Data Input'!A720),\"\",SUM('Data Input'!E720,'Data Input'!M720,'Data Input'!Q720,'Data Input'!V720,'Data Input'!W720,'Data Input'!AD720,'Data Input'!AH720))","v":""},{"$f":"IF(O715=\"\",\"\",O715/COUNTIF('Data Input'!$C$8:$AK$8,\"M\"))","v":""},{"$f":"IF(ISBLANK('Data Input'!A720),\"\",SUM('Data Input'!H720,'Data Input'!K720,'Data Input'!P720,'Data Input'!Y720))","v":""},{"$f":"IF(Q715=\"\",\"\",Q715/COUNTIF('Data Input'!$C$8:$AK$8,\"G\"))","v":""}]
[{"$f":"IF('Data Input'!A721=0,\"\",'Data Input'!A721)","v":""},{"$f":"IF(ISBLANK('Data Input'!A721),\"\",COUNTIF('Data Input'!C721:AK721,\"\"))","v":""},{"$f":"IF(ISBLANK('Data Input'!A721),\"\",COUNTIF('Data Input'!C721:AK721,\"0\"))","v":""},{"$f":"IF(ISBLANK('Data Input'!A721),\"\",SUM(B716,C716))","v":""},{"$f":"IF(ISBLANK('Data Input'!A721),\"\",SUM('Data Input'!C721:AK721))","v":""},{"$f":"IF(E716=\"\",\"\",E716/(COUNTA('Data Input'!$C$8:$AK$8)))","v":""},{"$f":"IF(ISBLANK('Data Input'!A721),\"\",SUM('Data Input'!C721,'Data Input'!D721,'Data Input'!J721,'Data Input'!X721))","v":""},{"$f":"IF(G716=\"\",\"\",G716/COUNTIF('Data Input'!$C$8:$AK$8,\"N\"))","v":""},{"$f":"IF(ISBLANK('Data Input'!A721),\"\",SUM('Data Input'!G721,'Data Input'!I721,'Data Input'!L721,'Data Input'!N721,'Data Input'!O721,'Data Input'!S721,'Data Input'!Z721,'Data Input'!AA721,'Data Input'!AB721,'Data Input'!AC721,'Data Input'!AE721,'Data Input'!AF721,'Data Input'!AG721,'Data Input'!AI721,'Data Input'!AK721))","v":""},{"$f":"IF(I716=\"\",\"\",I716/COUNTIF('Data Input'!$C$8:$AK$8,\"C\"))","v":""},{"$f":"IF(ISBLANK('Data Input'!A721),\"\",SUM('Data Input'!T721,'Data Input'!U721))","v":""},{"$f":"IF(K716=\"\",\"\",K716/COUNTIF('Data Input'!$C$8:$AK$8,\"S\"))","v":""},{"$f":"IF(ISBLANK('Data Input'!A721),\"\",SUM('Data Input'!F721,'Data Input'!R721,'Data Input'!AJ721))","v":""},{"$f":"IF(M716=\"\",\"\",M716/COUNTIF('Data Input'!$C$8:$AK$8,\"F\"))","v":""},{"$f":"IF(ISBLANK('Data Input'!A721),\"\",SUM('Data Input'!E721,'Data Input'!M721,'Data Input'!Q721,'Data Input'!V721,'Data Input'!W721,'Data Input'!AD721,'Data Input'!AH721))","v":""},{"$f":"IF(O716=\"\",\"\",O716/COUNTIF('Data Input'!$C$8:$AK$8,\"M\"))","v":""},{"$f":"IF(ISBLANK('Data Input'!A721),\"\",SUM('Data Input'!H721,'Data Input'!K721,'Data Input'!P721,'Data Input'!Y721))","v":""},{"$f":"IF(Q716=\"\",\"\",Q716/COUNTIF('Data Input'!$C$8:$AK$8,\"G\"))","v":""}]
[{"$f":"IF('Data Input'!A722=0,\"\",'Data Input'!A722)","v":""},{"$f":"IF(ISBLANK('Data Input'!A722),\"\",COUNTIF('Data Input'!C722:AK722,\"\"))","v":""},{"$f":"IF(ISBLANK('Data Input'!A722),\"\",COUNTIF('Data Input'!C722:AK722,\"0\"))","v":""},{"$f":"IF(ISBLANK('Data Input'!A722),\"\",SUM(B717,C717))","v":""},{"$f":"IF(ISBLANK('Data Input'!A722),\"\",SUM('Data Input'!C722:AK722))","v":""},{"$f":"IF(E717=\"\",\"\",E717/(COUNTA('Data Input'!$C$8:$AK$8)))","v":""},{"$f":"IF(ISBLANK('Data Input'!A722),\"\",SUM('Data Input'!C722,'Data Input'!D722,'Data Input'!J722,'Data Input'!X722))","v":""},{"$f":"IF(G717=\"\",\"\",G717/COUNTIF('Data Input'!$C$8:$AK$8,\"N\"))","v":""},{"$f":"IF(ISBLANK('Data Input'!A722),\"\",SUM('Data Input'!G722,'Data Input'!I722,'Data Input'!L722,'Data Input'!N722,'Data Input'!O722,'Data Input'!S722,'Data Input'!Z722,'Data Input'!AA722,'Data Input'!AB722,'Data Input'!AC722,'Data Input'!AE722,'Data Input'!AF722,'Data Input'!AG722,'Data Input'!AI722,'Data Input'!AK722))","v":""},{"$f":"IF(I717=\"\",\"\",I717/COUNTIF('Data Input'!$C$8:$AK$8,\"C\"))","v":""},{"$f":"IF(ISBLANK('Data Input'!A722),\"\",SUM('Data Input'!T722,'Data Input'!U722))","v":""},{"$f":"IF(K717=\"\",\"\",K717/COUNTIF('Data Input'!$C$8:$AK$8,\"S\"))","v":""},{"$f":"IF(ISBLANK('Data Input'!A722),\"\",SUM('Data Input'!F722,'Data Input'!R722,'Data Input'!AJ722))","v":""},{"$f":"IF(M717=\"\",\"\",M717/COUNTIF('Data Input'!$C$8:$AK$8,\"F\"))","v":""},{"$f":"IF(ISBLANK('Data Input'!A722),\"\",SUM('Data Input'!E722,'Data Input'!M722,'Data Input'!Q722,'Data Input'!V722,'Data Input'!W722,'Data Input'!AD722,'Data Input'!AH722))","v":""},{"$f":"IF(O717=\"\",\"\",O717/COUNTIF('Data Input'!$C$8:$AK$8,\"M\"))","v":""},{"$f":"IF(ISBLANK('Data Input'!A722),\"\",SUM('Data Input'!H722,'Data Input'!K722,'Data Input'!P722,'Data Input'!Y722))","v":""},{"$f":"IF(Q717=\"\",\"\",Q717/COUNTIF('Data Input'!$C$8:$AK$8,\"G\"))","v":""}]
[{"$f":"IF('Data Input'!A723=0,\"\",'Data Input'!A723)","v":""},{"$f":"IF(ISBLANK('Data Input'!A723),\"\",COUNTIF('Data Input'!C723:AK723,\"\"))","v":""},{"$f":"IF(ISBLANK('Data Input'!A723),\"\",COUNTIF('Data Input'!C723:AK723,\"0\"))","v":""},{"$f":"IF(ISBLANK('Data Input'!A723),\"\",SUM(B718,C718))","v":""},{"$f":"IF(ISBLANK('Data Input'!A723),\"\",SUM('Data Input'!C723:AK723))","v":""},{"$f":"IF(E718=\"\",\"\",E718/(COUNTA('Data Input'!$C$8:$AK$8)))","v":""},{"$f":"IF(ISBLANK('Data Input'!A723),\"\",SUM('Data Input'!C723,'Data Input'!D723,'Data Input'!J723,'Data Input'!X723))","v":""},{"$f":"IF(G718=\"\",\"\",G718/COUNTIF('Data Input'!$C$8:$AK$8,\"N\"))","v":""},{"$f":"IF(ISBLANK('Data Input'!A723),\"\",SUM('Data Input'!G723,'Data Input'!I723,'Data Input'!L723,'Data Input'!N723,'Data Input'!O723,'Data Input'!S723,'Data Input'!Z723,'Data Input'!AA723,'Data Input'!AB723,'Data Input'!AC723,'Data Input'!AE723,'Data Input'!AF723,'Data Input'!AG723,'Data Input'!AI723,'Data Input'!AK723))","v":""},{"$f":"IF(I718=\"\",\"\",I718/COUNTIF('Data Input'!$C$8:$AK$8,\"C\"))","v":""},{"$f":"IF(ISBLANK('Data Input'!A723),\"\",SUM('Data Input'!T723,'Data Input'!U723))","v":""},{"$f":"IF(K718=\"\",\"\",K718/COUNTIF('Data Input'!$C$8:$AK$8,\"S\"))","v":""},{"$f":"IF(ISBLANK('Data Input'!A723),\"\",SUM('Data Input'!F723,'Data Input'!R723,'Data Input'!AJ723))","v":""},{"$f":"IF(M718=\"\",\"\",M718/COUNTIF('Data Input'!$C$8:$AK$8,\"F\"))","v":""},{"$f":"IF(ISBLANK('Data Input'!A723),\"\",SUM('Data Input'!E723,'Data Input'!M723,'Data Input'!Q723,'Data Input'!V723,'Data Input'!W723,'Data Input'!AD723,'Data Input'!AH723))","v":""},{"$f":"IF(O718=\"\",\"\",O718/COUNTIF('Data Input'!$C$8:$AK$8,\"M\"))","v":""},{"$f":"IF(ISBLANK('Data Input'!A723),\"\",SUM('Data Input'!H723,'Data Input'!K723,'Data Input'!P723,'Data Input'!Y723))","v":""},{"$f":"IF(Q718=\"\",\"\",Q718/COUNTIF('Data Input'!$C$8:$AK$8,\"G\"))","v":""}]
[{"$f":"IF('Data Input'!A724=0,\"\",'Data Input'!A724)","v":""},{"$f":"IF(ISBLANK('Data Input'!A724),\"\",COUNTIF('Data Input'!C724:AK724,\"\"))","v":""},{"$f":"IF(ISBLANK('Data Input'!A724),\"\",COUNTIF('Data Input'!C724:AK724,\"0\"))","v":""},{"$f":"IF(ISBLANK('Data Input'!A724),\"\",SUM(B719,C719))","v":""},{"$f":"IF(ISBLANK('Data Input'!A724),\"\",SUM('Data Input'!C724:AK724))","v":""},{"$f":"IF(E719=\"\",\"\",E719/(COUNTA('Data Input'!$C$8:$AK$8)))","v":""},{"$f":"IF(ISBLANK('Data Input'!A724),\"\",SUM('Data Input'!C724,'Data Input'!D724,'Data Input'!J724,'Data Input'!X724))","v":""},{"$f":"IF(G719=\"\",\"\",G719/COUNTIF('Data Input'!$C$8:$AK$8,\"N\"))","v":""},{"$f":"IF(ISBLANK('Data Input'!A724),\"\",SUM('Data Input'!G724,'Data Input'!I724,'Data Input'!L724,'Data Input'!N724,'Data Input'!O724,'Data Input'!S724,'Data Input'!Z724,'Data Input'!AA724,'Data Input'!AB724,'Data Input'!AC724,'Data Input'!AE724,'Data Input'!AF724,'Data Input'!AG724,'Data Input'!AI724,'Data Input'!AK724))","v":""},{"$f":"IF(I719=\"\",\"\",I719/COUNTIF('Data Input'!$C$8:$AK$8,\"C\"))","v":""},{"$f":"IF(ISBLANK('Data Input'!A724),\"\",SUM('Data Input'!T724,'Data Input'!U724))","v":""},{"$f":"IF(K719=\"\",\"\",K719/COUNTIF('Data Input'!$C$8:$AK$8,\"S\"))","v":""},{"$f":"IF(ISBLANK('Data Input'!A724),\"\",SUM('Data Input'!F724,'Data Input'!R724,'Data Input'!AJ724))","v":""},{"$f":"IF(M719=\"\",\"\",M719/COUNTIF('Data Input'!$C$8:$AK$8,\"F\"))","v":""},{"$f":"IF(ISBLANK('Data Input'!A724),\"\",SUM('Data Input'!E724,'Data Input'!M724,'Data Input'!Q724,'Data Input'!V724,'Data Input'!W724,'Data Input'!AD724,'Data Input'!AH724))","v":""},{"$f":"IF(O719=\"\",\"\",O719/COUNTIF('Data Input'!$C$8:$AK$8,\"M\"))","v":""},{"$f":"IF(ISBLANK('Data Input'!A724),\"\",SUM('Data Input'!H724,'Data Input'!K724,'Data Input'!P724,'Data Input'!Y724))","v":""},{"$f":"IF(Q719=\"\",\"\",Q719/COUNTIF('Data Input'!$C$8:$AK$8,\"G\"))","v":""}]
[{"$f":"IF('Data Input'!A725=0,\"\",'Data Input'!A725)","v":""},{"$f":"IF(ISBLANK('Data Input'!A725),\"\",COUNTIF('Data Input'!C725:AK725,\"\"))","v":""},{"$f":"IF(ISBLANK('Data Input'!A725),\"\",COUNTIF('Data Input'!C725:AK725,\"0\"))","v":""},{"$f":"IF(ISBLANK('Data Input'!A725),\"\",SUM(B720,C720))","v":""},{"$f":"IF(ISBLANK('Data Input'!A725),\"\",SUM('Data Input'!C725:AK725))","v":""},{"$f":"IF(E720=\"\",\"\",E720/(COUNTA('Data Input'!$C$8:$AK$8)))","v":""},{"$f":"IF(ISBLANK('Data Input'!A725),\"\",SUM('Data Input'!C725,'Data Input'!D725,'Data Input'!J725,'Data Input'!X725))","v":""},{"$f":"IF(G720=\"\",\"\",G720/COUNTIF('Data Input'!$C$8:$AK$8,\"N\"))","v":""},{"$f":"IF(ISBLANK('Data Input'!A725),\"\",SUM('Data Input'!G725,'Data Input'!I725,'Data Input'!L725,'Data Input'!N725,'Data Input'!O725,'Data Input'!S725,'Data Input'!Z725,'Data Input'!AA725,'Data Input'!AB725,'Data Input'!AC725,'Data Input'!AE725,'Data Input'!AF725,'Data Input'!AG725,'Data Input'!AI725,'Data Input'!AK725))","v":""},{"$f":"IF(I720=\"\",\"\",I720/COUNTIF('Data Input'!$C$8:$AK$8,\"C\"))","v":""},{"$f":"IF(ISBLANK('Data Input'!A725),\"\",SUM('Data Input'!T725,'Data Input'!U725))","v":""},{"$f":"IF(K720=\"\",\"\",K720/COUNTIF('Data Input'!$C$8:$AK$8,\"S\"))","v":""},{"$f":"IF(ISBLANK('Data Input'!A725),\"\",SUM('Data Input'!F725,'Data Input'!R725,'Data Input'!AJ725))","v":""},{"$f":"IF(M720=\"\",\"\",M720/COUNTIF('Data Input'!$C$8:$AK$8,\"F\"))","v":""},{"$f":"IF(ISBLANK('Data Input'!A725),\"\",SUM('Data Input'!E725,'Data Input'!M725,'Data Input'!Q725,'Data Input'!V725,'Data Input'!W725,'Data Input'!AD725,'Data Input'!AH725))","v":""},{"$f":"IF(O720=\"\",\"\",O720/COUNTIF('Data Input'!$C$8:$AK$8,\"M\"))","v":""},{"$f":"IF(ISBLANK('Data Input'!A725),\"\",SUM('Data Input'!H725,'Data Input'!K725,'Data Input'!P725,'Data Input'!Y725))","v":""},{"$f":"IF(Q720=\"\",\"\",Q720/COUNTIF('Data Input'!$C$8:$AK$8,\"G\"))","v":""}]
[{"$f":"IF('Data Input'!A726=0,\"\",'Data Input'!A726)","v":""},{"$f":"IF(ISBLANK('Data Input'!A726),\"\",COUNTIF('Data Input'!C726:AK726,\"\"))","v":""},{"$f":"IF(ISBLANK('Data Input'!A726),\"\",COUNTIF('Data Input'!C726:AK726,\"0\"))","v":""},{"$f":"IF(ISBLANK('Data Input'!A726),\"\",SUM(B721,C721))","v":""},{"$f":"IF(ISBLANK('Data Input'!A726),\"\",SUM('Data Input'!C726:AK726))","v":""},{"$f":"IF(E721=\"\",\"\",E721/(COUNTA('Data Input'!$C$8:$AK$8)))","v":""},{"$f":"IF(ISBLANK('Data Input'!A726),\"\",SUM('Data Input'!C726,'Data Input'!D726,'Data Input'!J726,'Data Input'!X726))","v":""},{"$f":"IF(G721=\"\",\"\",G721/COUNTIF('Data Input'!$C$8:$AK$8,\"N\"))","v":""},{"$f":"IF(ISBLANK('Data Input'!A726),\"\",SUM('Data Input'!G726,'Data Input'!I726,'Data Input'!L726,'Data Input'!N726,'Data Input'!O726,'Data Input'!S726,'Data Input'!Z726,'Data Input'!AA726,'Data Input'!AB726,'Data Input'!AC726,'Data Input'!AE726,'Data Input'!AF726,'Data Input'!AG726,'Data Input'!AI726,'Data Input'!AK726))","v":""},{"$f":"IF(I721=\"\",\"\",I721/COUNTIF('Data Input'!$C$8:$AK$8,\"C\"))","v":""},{"$f":"IF(ISBLANK('Data Input'!A726),\"\",SUM('Data Input'!T726,'Data Input'!U726))","v":""},{"$f":"IF(K721=\"\",\"\",K721/COUNTIF('Data Input'!$C$8:$AK$8,\"S\"))","v":""},{"$f":"IF(ISBLANK('Data Input'!A726),\"\",SUM('Data Input'!F726,'Data Input'!R726,'Data Input'!AJ726))","v":""},{"$f":"IF(M721=\"\",\"\",M721/COUNTIF('Data Input'!$C$8:$AK$8,\"F\"))","v":""},{"$f":"IF(ISBLANK('Data Input'!A726),\"\",SUM('Data Input'!E726,'Data Input'!M726,'Data Input'!Q726,'Data Input'!V726,'Data Input'!W726,'Data Input'!AD726,'Data Input'!AH726))","v":""},{"$f":"IF(O721=\"\",\"\",O721/COUNTIF('Data Input'!$C$8:$AK$8,\"M\"))","v":""},{"$f":"IF(ISBLANK('Data Input'!A726),\"\",SUM('Data Input'!H726,'Data Input'!K726,'Data Input'!P726,'Data Input'!Y726))","v":""},{"$f":"IF(Q721=\"\",\"\",Q721/COUNTIF('Data Input'!$C$8:$AK$8,\"G\"))","v":""}]
[{"$f":"IF('Data Input'!A727=0,\"\",'Data Input'!A727)","v":""},{"$f":"IF(ISBLANK('Data Input'!A727),\"\",COUNTIF('Data Input'!C727:AK727,\"\"))","v":""},{"$f":"IF(ISBLANK('Data Input'!A727),\"\",COUNTIF('Data Input'!C727:AK727,\"0\"))","v":""},{"$f":"IF(ISBLANK('Data Input'!A727),\"\",SUM(B722,C722))","v":""},{"$f":"IF(ISBLANK('Data Input'!A727),\"\",SUM('Data Input'!C727:AK727))","v":""},{"$f":"IF(E722=\"\",\"\",E722/(COUNTA('Data Input'!$C$8:$AK$8)))","v":""},{"$f":"IF(ISBLANK('Data Input'!A727),\"\",SUM('Data Input'!C727,'Data Input'!D727,'Data Input'!J727,'Data Input'!X727))","v":""},{"$f":"IF(G722=\"\",\"\",G722/COUNTIF('Data Input'!$C$8:$AK$8,\"N\"))","v":""},{"$f":"IF(ISBLANK('Data Input'!A727),\"\",SUM('Data Input'!G727,'Data Input'!I727,'Data Input'!L727,'Data Input'!N727,'Data Input'!O727,'Data Input'!S727,'Data Input'!Z727,'Data Input'!AA727,'Data Input'!AB727,'Data Input'!AC727,'Data Input'!AE727,'Data Input'!AF727,'Data Input'!AG727,'Data Input'!AI727,'Data Input'!AK727))","v":""},{"$f":"IF(I722=\"\",\"\",I722/COUNTIF('Data Input'!$C$8:$AK$8,\"C\"))","v":""},{"$f":"IF(ISBLANK('Data Input'!A727),\"\",SUM('Data Input'!T727,'Data Input'!U727))","v":""},{"$f":"IF(K722=\"\",\"\",K722/COUNTIF('Data Input'!$C$8:$AK$8,\"S\"))","v":""},{"$f":"IF(ISBLANK('Data Input'!A727),\"\",SUM('Data Input'!F727,'Data Input'!R727,'Data Input'!AJ727))","v":""},{"$f":"IF(M722=\"\",\"\",M722/COUNTIF('Data Input'!$C$8:$AK$8,\"F\"))","v":""},{"$f":"IF(ISBLANK('Data Input'!A727),\"\",SUM('Data Input'!E727,'Data Input'!M727,'Data Input'!Q727,'Data Input'!V727,'Data Input'!W727,'Data Input'!AD727,'Data Input'!AH727))","v":""},{"$f":"IF(O722=\"\",\"\",O722/COUNTIF('Data Input'!$C$8:$AK$8,\"M\"))","v":""},{"$f":"IF(ISBLANK('Data Input'!A727),\"\",SUM('Data Input'!H727,'Data Input'!K727,'Data Input'!P727,'Data Input'!Y727))","v":""},{"$f":"IF(Q722=\"\",\"\",Q722/COUNTIF('Data Input'!$C$8:$AK$8,\"G\"))","v":""}]
[{"$f":"IF('Data Input'!A728=0,\"\",'Data Input'!A728)","v":""},{"$f":"IF(ISBLANK('Data Input'!A728),\"\",COUNTIF('Data Input'!C728:AK728,\"\"))","v":""},{"$f":"IF(ISBLANK('Data Input'!A728),\"\",COUNTIF('Data Input'!C728:AK728,\"0\"))","v":""},{"$f":"IF(ISBLANK('Data Input'!A728),\"\",SUM(B723,C723))","v":""},{"$f":"IF(ISBLANK('Data Input'!A728),\"\",SUM('Data Input'!C728:AK728))","v":""},{"$f":"IF(E723=\"\",\"\",E723/(COUNTA('Data Input'!$C$8:$AK$8)))","v":""},{"$f":"IF(ISBLANK('Data Input'!A728),\"\",SUM('Data Input'!C728,'Data Input'!D728,'Data Input'!J728,'Data Input'!X728))","v":""},{"$f":"IF(G723=\"\",\"\",G723/COUNTIF('Data Input'!$C$8:$AK$8,\"N\"))","v":""},{"$f":"IF(ISBLANK('Data Input'!A728),\"\",SUM('Data Input'!G728,'Data Input'!I728,'Data Input'!L728,'Data Input'!N728,'Data Input'!O728,'Data Input'!S728,'Data Input'!Z728,'Data Input'!AA728,'Data Input'!AB728,'Data Input'!AC728,'Data Input'!AE728,'Data Input'!AF728,'Data Input'!AG728,'Data Input'!AI728,'Data Input'!AK728))","v":""},{"$f":"IF(I723=\"\",\"\",I723/COUNTIF('Data Input'!$C$8:$AK$8,\"C\"))","v":""},{"$f":"IF(ISBLANK('Data Input'!A728),\"\",SUM('Data Input'!T728,'Data Input'!U728))","v":""},{"$f":"IF(K723=\"\",\"\",K723/COUNTIF('Data Input'!$C$8:$AK$8,\"S\"))","v":""},{"$f":"IF(ISBLANK('Data Input'!A728),\"\",SUM('Data Input'!F728,'Data Input'!R728,'Data Input'!AJ728))","v":""},{"$f":"IF(M723=\"\",\"\",M723/COUNTIF('Data Input'!$C$8:$AK$8,\"F\"))","v":""},{"$f":"IF(ISBLANK('Data Input'!A728),\"\",SUM('Data Input'!E728,'Data Input'!M728,'Data Input'!Q728,'Data Input'!V728,'Data Input'!W728,'Data Input'!AD728,'Data Input'!AH728))","v":""},{"$f":"IF(O723=\"\",\"\",O723/COUNTIF('Data Input'!$C$8:$AK$8,\"M\"))","v":""},{"$f":"IF(ISBLANK('Data Input'!A728),\"\",SUM('Data Input'!H728,'Data Input'!K728,'Data Input'!P728,'Data Input'!Y728))","v":""},{"$f":"IF(Q723=\"\",\"\",Q723/COUNTIF('Data Input'!$C$8:$AK$8,\"G\"))","v":""}]
[{"$f":"IF('Data Input'!A729=0,\"\",'Data Input'!A729)","v":""},{"$f":"IF(ISBLANK('Data Input'!A729),\"\",COUNTIF('Data Input'!C729:AK729,\"\"))","v":""},{"$f":"IF(ISBLANK('Data Input'!A729),\"\",COUNTIF('Data Input'!C729:AK729,\"0\"))","v":""},{"$f":"IF(ISBLANK('Data Input'!A729),\"\",SUM(B724,C724))","v":""},{"$f":"IF(ISBLANK('Data Input'!A729),\"\",SUM('Data Input'!C729:AK729))","v":""},{"$f":"IF(E724=\"\",\"\",E724/(COUNTA('Data Input'!$C$8:$AK$8)))","v":""},{"$f":"IF(ISBLANK('Data Input'!A729),\"\",SUM('Data Input'!C729,'Data Input'!D729,'Data Input'!J729,'Data Input'!X729))","v":""},{"$f":"IF(G724=\"\",\"\",G724/COUNTIF('Data Input'!$C$8:$AK$8,\"N\"))","v":""},{"$f":"IF(ISBLANK('Data Input'!A729),\"\",SUM('Data Input'!G729,'Data Input'!I729,'Data Input'!L729,'Data Input'!N729,'Data Input'!O729,'Data Input'!S729,'Data Input'!Z729,'Data Input'!AA729,'Data Input'!AB729,'Data Input'!AC729,'Data Input'!AE729,'Data Input'!AF729,'Data Input'!AG729,'Data Input'!AI729,'Data Input'!AK729))","v":""},{"$f":"IF(I724=\"\",\"\",I724/COUNTIF('Data Input'!$C$8:$AK$8,\"C\"))","v":""},{"$f":"IF(ISBLANK('Data Input'!A729),\"\",SUM('Data Input'!T729,'Data Input'!U729))","v":""},{"$f":"IF(K724=\"\",\"\",K724/COUNTIF('Data Input'!$C$8:$AK$8,\"S\"))","v":""},{"$f":"IF(ISBLANK('Data Input'!A729),\"\",SUM('Data Input'!F729,'Data Input'!R729,'Data Input'!AJ729))","v":""},{"$f":"IF(M724=\"\",\"\",M724/COUNTIF('Data Input'!$C$8:$AK$8,\"F\"))","v":""},{"$f":"IF(ISBLANK('Data Input'!A729),\"\",SUM('Data Input'!E729,'Data Input'!M729,'Data Input'!Q729,'Data Input'!V729,'Data Input'!W729,'Data Input'!AD729,'Data Input'!AH729))","v":""},{"$f":"IF(O724=\"\",\"\",O724/COUNTIF('Data Input'!$C$8:$AK$8,\"M\"))","v":""},{"$f":"IF(ISBLANK('Data Input'!A729),\"\",SUM('Data Input'!H729,'Data Input'!K729,'Data Input'!P729,'Data Input'!Y729))","v":""},{"$f":"IF(Q724=\"\",\"\",Q724/COUNTIF('Data Input'!$C$8:$AK$8,\"G\"))","v":""}]
[{"$f":"IF('Data Input'!A730=0,\"\",'Data Input'!A730)","v":""},{"$f":"IF(ISBLANK('Data Input'!A730),\"\",COUNTIF('Data Input'!C730:AK730,\"\"))","v":""},{"$f":"IF(ISBLANK('Data Input'!A730),\"\",COUNTIF('Data Input'!C730:AK730,\"0\"))","v":""},{"$f":"IF(ISBLANK('Data Input'!A730),\"\",SUM(B725,C725))","v":""},{"$f":"IF(ISBLANK('Data Input'!A730),\"\",SUM('Data Input'!C730:AK730))","v":""},{"$f":"IF(E725=\"\",\"\",E725/(COUNTA('Data Input'!$C$8:$AK$8)))","v":""},{"$f":"IF(ISBLANK('Data Input'!A730),\"\",SUM('Data Input'!C730,'Data Input'!D730,'Data Input'!J730,'Data Input'!X730))","v":""},{"$f":"IF(G725=\"\",\"\",G725/COUNTIF('Data Input'!$C$8:$AK$8,\"N\"))","v":""},{"$f":"IF(ISBLANK('Data Input'!A730),\"\",SUM('Data Input'!G730,'Data Input'!I730,'Data Input'!L730,'Data Input'!N730,'Data Input'!O730,'Data Input'!S730,'Data Input'!Z730,'Data Input'!AA730,'Data Input'!AB730,'Data Input'!AC730,'Data Input'!AE730,'Data Input'!AF730,'Data Input'!AG730,'Data Input'!AI730,'Data Input'!AK730))","v":""},{"$f":"IF(I725=\"\",\"\",I725/COUNTIF('Data Input'!$C$8:$AK$8,\"C\"))","v":""},{"$f":"IF(ISBLANK('Data Input'!A730),\"\",SUM('Data Input'!T730,'Data Input'!U730))","v":""},{"$f":"IF(K725=\"\",\"\",K725/COUNTIF('Data Input'!$C$8:$AK$8,\"S\"))","v":""},{"$f":"IF(ISBLANK('Data Input'!A730),\"\",SUM('Data Input'!F730,'Data Input'!R730,'Data Input'!AJ730))","v":""},{"$f":"IF(M725=\"\",\"\",M725/COUNTIF('Data Input'!$C$8:$AK$8,\"F\"))","v":""},{"$f":"IF(ISBLANK('Data Input'!A730),\"\",SUM('Data Input'!E730,'Data Input'!M730,'Data Input'!Q730,'Data Input'!V730,'Data Input'!W730,'Data Input'!AD730,'Data Input'!AH730))","v":""},{"$f":"IF(O725=\"\",\"\",O725/COUNTIF('Data Input'!$C$8:$AK$8,\"M\"))","v":""},{"$f":"IF(ISBLANK('Data Input'!A730),\"\",SUM('Data Input'!H730,'Data Input'!K730,'Data Input'!P730,'Data Input'!Y730))","v":""},{"$f":"IF(Q725=\"\",\"\",Q725/COUNTIF('Data Input'!$C$8:$AK$8,\"G\"))","v":""}]
[{"$f":"IF('Data Input'!A731=0,\"\",'Data Input'!A731)","v":""},{"$f":"IF(ISBLANK('Data Input'!A731),\"\",COUNTIF('Data Input'!C731:AK731,\"\"))","v":""},{"$f":"IF(ISBLANK('Data Input'!A731),\"\",COUNTIF('Data Input'!C731:AK731,\"0\"))","v":""},{"$f":"IF(ISBLANK('Data Input'!A731),\"\",SUM(B726,C726))","v":""},{"$f":"IF(ISBLANK('Data Input'!A731),\"\",SUM('Data Input'!C731:AK731))","v":""},{"$f":"IF(E726=\"\",\"\",E726/(COUNTA('Data Input'!$C$8:$AK$8)))","v":""},{"$f":"IF(ISBLANK('Data Input'!A731),\"\",SUM('Data Input'!C731,'Data Input'!D731,'Data Input'!J731,'Data Input'!X731))","v":""},{"$f":"IF(G726=\"\",\"\",G726/COUNTIF('Data Input'!$C$8:$AK$8,\"N\"))","v":""},{"$f":"IF(ISBLANK('Data Input'!A731),\"\",SUM('Data Input'!G731,'Data Input'!I731,'Data Input'!L731,'Data Input'!N731,'Data Input'!O731,'Data Input'!S731,'Data Input'!Z731,'Data Input'!AA731,'Data Input'!AB731,'Data Input'!AC731,'Data Input'!AE731,'Data Input'!AF731,'Data Input'!AG731,'Data Input'!AI731,'Data Input'!AK731))","v":""},{"$f":"IF(I726=\"\",\"\",I726/COUNTIF('Data Input'!$C$8:$AK$8,\"C\"))","v":""},{"$f":"IF(ISBLANK('Data Input'!A731),\"\",SUM('Data Input'!T731,'Data Input'!U731))","v":""},{"$f":"IF(K726=\"\",\"\",K726/COUNTIF('Data Input'!$C$8:$AK$8,\"S\"))","v":""},{"$f":"IF(ISBLANK('Data Input'!A731),\"\",SUM('Data Input'!F731,'Data Input'!R731,'Data Input'!AJ731))","v":""},{"$f":"IF(M726=\"\",\"\",M726/COUNTIF('Data Input'!$C$8:$AK$8,\"F\"))","v":""},{"$f":"IF(ISBLANK('Data Input'!A731),\"\",SUM('Data Input'!E731,'Data Input'!M731,'Data Input'!Q731,'Data Input'!V731,'Data Input'!W731,'Data Input'!AD731,'Data Input'!AH731))","v":""},{"$f":"IF(O726=\"\",\"\",O726/COUNTIF('Data Input'!$C$8:$AK$8,\"M\"))","v":""},{"$f":"IF(ISBLANK('Data Input'!A731),\"\",SUM('Data Input'!H731,'Data Input'!K731,'Data Input'!P731,'Data Input'!Y731))","v":""},{"$f":"IF(Q726=\"\",\"\",Q726/COUNTIF('Data Input'!$C$8:$AK$8,\"G\"))","v":""}]
[{"$f":"IF('Data Input'!A732=0,\"\",'Data Input'!A732)","v":""},{"$f":"IF(ISBLANK('Data Input'!A732),\"\",COUNTIF('Data Input'!C732:AK732,\"\"))","v":""},{"$f":"IF(ISBLANK('Data Input'!A732),\"\",COUNTIF('Data Input'!C732:AK732,\"0\"))","v":""},{"$f":"IF(ISBLANK('Data Input'!A732),\"\",SUM(B727,C727))","v":""},{"$f":"IF(ISBLANK('Data Input'!A732),\"\",SUM('Data Input'!C732:AK732))","v":""},{"$f":"IF(E727=\"\",\"\",E727/(COUNTA('Data Input'!$C$8:$AK$8)))","v":""},{"$f":"IF(ISBLANK('Data Input'!A732),\"\",SUM('Data Input'!C732,'Data Input'!D732,'Data Input'!J732,'Data Input'!X732))","v":""},{"$f":"IF(G727=\"\",\"\",G727/COUNTIF('Data Input'!$C$8:$AK$8,\"N\"))","v":""},{"$f":"IF(ISBLANK('Data Input'!A732),\"\",SUM('Data Input'!G732,'Data Input'!I732,'Data Input'!L732,'Data Input'!N732,'Data Input'!O732,'Data Input'!S732,'Data Input'!Z732,'Data Input'!AA732,'Data Input'!AB732,'Data Input'!AC732,'Data Input'!AE732,'Data Input'!AF732,'Data Input'!AG732,'Data Input'!AI732,'Data Input'!AK732))","v":""},{"$f":"IF(I727=\"\",\"\",I727/COUNTIF('Data Input'!$C$8:$AK$8,\"C\"))","v":""},{"$f":"IF(ISBLANK('Data Input'!A732),\"\",SUM('Data Input'!T732,'Data Input'!U732))","v":""},{"$f":"IF(K727=\"\",\"\",K727/COUNTIF('Data Input'!$C$8:$AK$8,\"S\"))","v":""},{"$f":"IF(ISBLANK('Data Input'!A732),\"\",SUM('Data Input'!F732,'Data Input'!R732,'Data Input'!AJ732))","v":""},{"$f":"IF(M727=\"\",\"\",M727/COUNTIF('Data Input'!$C$8:$AK$8,\"F\"))","v":""},{"$f":"IF(ISBLANK('Data Input'!A732),\"\",SUM('Data Input'!E732,'Data Input'!M732,'Data Input'!Q732,'Data Input'!V732,'Data Input'!W732,'Data Input'!AD732,'Data Input'!AH732))","v":""},{"$f":"IF(O727=\"\",\"\",O727/COUNTIF('Data Input'!$C$8:$AK$8,\"M\"))","v":""},{"$f":"IF(ISBLANK('Data Input'!A732),\"\",SUM('Data Input'!H732,'Data Input'!K732,'Data Input'!P732,'Data Input'!Y732))","v":""},{"$f":"IF(Q727=\"\",\"\",Q727/COUNTIF('Data Input'!$C$8:$AK$8,\"G\"))","v":""}]
[{"$f":"IF('Data Input'!A733=0,\"\",'Data Input'!A733)","v":""},{"$f":"IF(ISBLANK('Data Input'!A733),\"\",COUNTIF('Data Input'!C733:AK733,\"\"))","v":""},{"$f":"IF(ISBLANK('Data Input'!A733),\"\",COUNTIF('Data Input'!C733:AK733,\"0\"))","v":""},{"$f":"IF(ISBLANK('Data Input'!A733),\"\",SUM(B728,C728))","v":""},{"$f":"IF(ISBLANK('Data Input'!A733),\"\",SUM('Data Input'!C733:AK733))","v":""},{"$f":"IF(E728=\"\",\"\",E728/(COUNTA('Data Input'!$C$8:$AK$8)))","v":""},{"$f":"IF(ISBLANK('Data Input'!A733),\"\",SUM('Data Input'!C733,'Data Input'!D733,'Data Input'!J733,'Data Input'!X733))","v":""},{"$f":"IF(G728=\"\",\"\",G728/COUNTIF('Data Input'!$C$8:$AK$8,\"N\"))","v":""},{"$f":"IF(ISBLANK('Data Input'!A733),\"\",SUM('Data Input'!G733,'Data Input'!I733,'Data Input'!L733,'Data Input'!N733,'Data Input'!O733,'Data Input'!S733,'Data Input'!Z733,'Data Input'!AA733,'Data Input'!AB733,'Data Input'!AC733,'Data Input'!AE733,'Data Input'!AF733,'Data Input'!AG733,'Data Input'!AI733,'Data Input'!AK733))","v":""},{"$f":"IF(I728=\"\",\"\",I728/COUNTIF('Data Input'!$C$8:$AK$8,\"C\"))","v":""},{"$f":"IF(ISBLANK('Data Input'!A733),\"\",SUM('Data Input'!T733,'Data Input'!U733))","v":""},{"$f":"IF(K728=\"\",\"\",K728/COUNTIF('Data Input'!$C$8:$AK$8,\"S\"))","v":""},{"$f":"IF(ISBLANK('Data Input'!A733),\"\",SUM('Data Input'!F733,'Data Input'!R733,'Data Input'!AJ733))","v":""},{"$f":"IF(M728=\"\",\"\",M728/COUNTIF('Data Input'!$C$8:$AK$8,\"F\"))","v":""},{"$f":"IF(ISBLANK('Data Input'!A733),\"\",SUM('Data Input'!E733,'Data Input'!M733,'Data Input'!Q733,'Data Input'!V733,'Data Input'!W733,'Data Input'!AD733,'Data Input'!AH733))","v":""},{"$f":"IF(O728=\"\",\"\",O728/COUNTIF('Data Input'!$C$8:$AK$8,\"M\"))","v":""},{"$f":"IF(ISBLANK('Data Input'!A733),\"\",SUM('Data Input'!H733,'Data Input'!K733,'Data Input'!P733,'Data Input'!Y733))","v":""},{"$f":"IF(Q728=\"\",\"\",Q728/COUNTIF('Data Input'!$C$8:$AK$8,\"G\"))","v":""}]
[{"$f":"IF('Data Input'!A734=0,\"\",'Data Input'!A734)","v":""},{"$f":"IF(ISBLANK('Data Input'!A734),\"\",COUNTIF('Data Input'!C734:AK734,\"\"))","v":""},{"$f":"IF(ISBLANK('Data Input'!A734),\"\",COUNTIF('Data Input'!C734:AK734,\"0\"))","v":""},{"$f":"IF(ISBLANK('Data Input'!A734),\"\",SUM(B729,C729))","v":""},{"$f":"IF(ISBLANK('Data Input'!A734),\"\",SUM('Data Input'!C734:AK734))","v":""},{"$f":"IF(E729=\"\",\"\",E729/(COUNTA('Data Input'!$C$8:$AK$8)))","v":""},{"$f":"IF(ISBLANK('Data Input'!A734),\"\",SUM('Data Input'!C734,'Data Input'!D734,'Data Input'!J734,'Data Input'!X734))","v":""},{"$f":"IF(G729=\"\",\"\",G729/COUNTIF('Data Input'!$C$8:$AK$8,\"N\"))","v":""},{"$f":"IF(ISBLANK('Data Input'!A734),\"\",SUM('Data Input'!G734,'Data Input'!I734,'Data Input'!L734,'Data Input'!N734,'Data Input'!O734,'Data Input'!S734,'Data Input'!Z734,'Data Input'!AA734,'Data Input'!AB734,'Data Input'!AC734,'Data Input'!AE734,'Data Input'!AF734,'Data Input'!AG734,'Data Input'!AI734,'Data Input'!AK734))","v":""},{"$f":"IF(I729=\"\",\"\",I729/COUNTIF('Data Input'!$C$8:$AK$8,\"C\"))","v":""},{"$f":"IF(ISBLANK('Data Input'!A734),\"\",SUM('Data Input'!T734,'Data Input'!U734))","v":""},{"$f":"IF(K729=\"\",\"\",K729/COUNTIF('Data Input'!$C$8:$AK$8,\"S\"))","v":""},{"$f":"IF(ISBLANK('Data Input'!A734),\"\",SUM('Data Input'!F734,'Data Input'!R734,'Data Input'!AJ734))","v":""},{"$f":"IF(M729=\"\",\"\",M729/COUNTIF('Data Input'!$C$8:$AK$8,\"F\"))","v":""},{"$f":"IF(ISBLANK('Data Input'!A734),\"\",SUM('Data Input'!E734,'Data Input'!M734,'Data Input'!Q734,'Data Input'!V734,'Data Input'!W734,'Data Input'!AD734,'Data Input'!AH734))","v":""},{"$f":"IF(O729=\"\",\"\",O729/COUNTIF('Data Input'!$C$8:$AK$8,\"M\"))","v":""},{"$f":"IF(ISBLANK('Data Input'!A734),\"\",SUM('Data Input'!H734,'Data Input'!K734,'Data Input'!P734,'Data Input'!Y734))","v":""},{"$f":"IF(Q729=\"\",\"\",Q729/COUNTIF('Data Input'!$C$8:$AK$8,\"G\"))","v":""}]
[{"$f":"IF('Data Input'!A735=0,\"\",'Data Input'!A735)","v":""},{"$f":"IF(ISBLANK('Data Input'!A735),\"\",COUNTIF('Data Input'!C735:AK735,\"\"))","v":""},{"$f":"IF(ISBLANK('Data Input'!A735),\"\",COUNTIF('Data Input'!C735:AK735,\"0\"))","v":""},{"$f":"IF(ISBLANK('Data Input'!A735),\"\",SUM(B730,C730))","v":""},{"$f":"IF(ISBLANK('Data Input'!A735),\"\",SUM('Data Input'!C735:AK735))","v":""},{"$f":"IF(E730=\"\",\"\",E730/(COUNTA('Data Input'!$C$8:$AK$8)))","v":""},{"$f":"IF(ISBLANK('Data Input'!A735),\"\",SUM('Data Input'!C735,'Data Input'!D735,'Data Input'!J735,'Data Input'!X735))","v":""},{"$f":"IF(G730=\"\",\"\",G730/COUNTIF('Data Input'!$C$8:$AK$8,\"N\"))","v":""},{"$f":"IF(ISBLANK('Data Input'!A735),\"\",SUM('Data Input'!G735,'Data Input'!I735,'Data Input'!L735,'Data Input'!N735,'Data Input'!O735,'Data Input'!S735,'Data Input'!Z735,'Data Input'!AA735,'Data Input'!AB735,'Data Input'!AC735,'Data Input'!AE735,'Data Input'!AF735,'Data Input'!AG735,'Data Input'!AI735,'Data Input'!AK735))","v":""},{"$f":"IF(I730=\"\",\"\",I730/COUNTIF('Data Input'!$C$8:$AK$8,\"C\"))","v":""},{"$f":"IF(ISBLANK('Data Input'!A735),\"\",SUM('Data Input'!T735,'Data Input'!U735))","v":""},{"$f":"IF(K730=\"\",\"\",K730/COUNTIF('Data Input'!$C$8:$AK$8,\"S\"))","v":""},{"$f":"IF(ISBLANK('Data Input'!A735),\"\",SUM('Data Input'!F735,'Data Input'!R735,'Data Input'!AJ735))","v":""},{"$f":"IF(M730=\"\",\"\",M730/COUNTIF('Data Input'!$C$8:$AK$8,\"F\"))","v":""},{"$f":"IF(ISBLANK('Data Input'!A735),\"\",SUM('Data Input'!E735,'Data Input'!M735,'Data Input'!Q735,'Data Input'!V735,'Data Input'!W735,'Data Input'!AD735,'Data Input'!AH735))","v":""},{"$f":"IF(O730=\"\",\"\",O730/COUNTIF('Data Input'!$C$8:$AK$8,\"M\"))","v":""},{"$f":"IF(ISBLANK('Data Input'!A735),\"\",SUM('Data Input'!H735,'Data Input'!K735,'Data Input'!P735,'Data Input'!Y735))","v":""},{"$f":"IF(Q730=\"\",\"\",Q730/COUNTIF('Data Input'!$C$8:$AK$8,\"G\"))","v":""}]
[{"$f":"IF('Data Input'!A736=0,\"\",'Data Input'!A736)","v":""},{"$f":"IF(ISBLANK('Data Input'!A736),\"\",COUNTIF('Data Input'!C736:AK736,\"\"))","v":""},{"$f":"IF(ISBLANK('Data Input'!A736),\"\",COUNTIF('Data Input'!C736:AK736,\"0\"))","v":""},{"$f":"IF(ISBLANK('Data Input'!A736),\"\",SUM(B731,C731))","v":""},{"$f":"IF(ISBLANK('Data Input'!A736),\"\",SUM('Data Input'!C736:AK736))","v":""},{"$f":"IF(E731=\"\",\"\",E731/(COUNTA('Data Input'!$C$8:$AK$8)))","v":""},{"$f":"IF(ISBLANK('Data Input'!A736),\"\",SUM('Data Input'!C736,'Data Input'!D736,'Data Input'!J736,'Data Input'!X736))","v":""},{"$f":"IF(G731=\"\",\"\",G731/COUNTIF('Data Input'!$C$8:$AK$8,\"N\"))","v":""},{"$f":"IF(ISBLANK('Data Input'!A736),\"\",SUM('Data Input'!G736,'Data Input'!I736,'Data Input'!L736,'Data Input'!N736,'Data Input'!O736,'Data Input'!S736,'Data Input'!Z736,'Data Input'!AA736,'Data Input'!AB736,'Data Input'!AC736,'Data Input'!AE736,'Data Input'!AF736,'Data Input'!AG736,'Data Input'!AI736,'Data Input'!AK736))","v":""},{"$f":"IF(I731=\"\",\"\",I731/COUNTIF('Data Input'!$C$8:$AK$8,\"C\"))","v":""},{"$f":"IF(ISBLANK('Data Input'!A736),\"\",SUM('Data Input'!T736,'Data Input'!U736))","v":""},{"$f":"IF(K731=\"\",\"\",K731/COUNTIF('Data Input'!$C$8:$AK$8,\"S\"))","v":""},{"$f":"IF(ISBLANK('Data Input'!A736),\"\",SUM('Data Input'!F736,'Data Input'!R736,'Data Input'!AJ736))","v":""},{"$f":"IF(M731=\"\",\"\",M731/COUNTIF('Data Input'!$C$8:$AK$8,\"F\"))","v":""},{"$f":"IF(ISBLANK('Data Input'!A736),\"\",SUM('Data Input'!E736,'Data Input'!M736,'Data Input'!Q736,'Data Input'!V736,'Data Input'!W736,'Data Input'!AD736,'Data Input'!AH736))","v":""},{"$f":"IF(O731=\"\",\"\",O731/COUNTIF('Data Input'!$C$8:$AK$8,\"M\"))","v":""},{"$f":"IF(ISBLANK('Data Input'!A736),\"\",SUM('Data Input'!H736,'Data Input'!K736,'Data Input'!P736,'Data Input'!Y736))","v":""},{"$f":"IF(Q731=\"\",\"\",Q731/COUNTIF('Data Input'!$C$8:$AK$8,\"G\"))","v":""}]
[{"$f":"IF('Data Input'!A737=0,\"\",'Data Input'!A737)","v":""},{"$f":"IF(ISBLANK('Data Input'!A737),\"\",COUNTIF('Data Input'!C737:AK737,\"\"))","v":""},{"$f":"IF(ISBLANK('Data Input'!A737),\"\",COUNTIF('Data Input'!C737:AK737,\"0\"))","v":""},{"$f":"IF(ISBLANK('Data Input'!A737),\"\",SUM(B732,C732))","v":""},{"$f":"IF(ISBLANK('Data Input'!A737),\"\",SUM('Data Input'!C737:AK737))","v":""},{"$f":"IF(E732=\"\",\"\",E732/(COUNTA('Data Input'!$C$8:$AK$8)))","v":""},{"$f":"IF(ISBLANK('Data Input'!A737),\"\",SUM('Data Input'!C737,'Data Input'!D737,'Data Input'!J737,'Data Input'!X737))","v":""},{"$f":"IF(G732=\"\",\"\",G732/COUNTIF('Data Input'!$C$8:$AK$8,\"N\"))","v":""},{"$f":"IF(ISBLANK('Data Input'!A737),\"\",SUM('Data Input'!G737,'Data Input'!I737,'Data Input'!L737,'Data Input'!N737,'Data Input'!O737,'Data Input'!S737,'Data Input'!Z737,'Data Input'!AA737,'Data Input'!AB737,'Data Input'!AC737,'Data Input'!AE737,'Data Input'!AF737,'Data Input'!AG737,'Data Input'!AI737,'Data Input'!AK737))","v":""},{"$f":"IF(I732=\"\",\"\",I732/COUNTIF('Data Input'!$C$8:$AK$8,\"C\"))","v":""},{"$f":"IF(ISBLANK('Data Input'!A737),\"\",SUM('Data Input'!T737,'Data Input'!U737))","v":""},{"$f":"IF(K732=\"\",\"\",K732/COUNTIF('Data Input'!$C$8:$AK$8,\"S\"))","v":""},{"$f":"IF(ISBLANK('Data Input'!A737),\"\",SUM('Data Input'!F737,'Data Input'!R737,'Data Input'!AJ737))","v":""},{"$f":"IF(M732=\"\",\"\",M732/COUNTIF('Data Input'!$C$8:$AK$8,\"F\"))","v":""},{"$f":"IF(ISBLANK('Data Input'!A737),\"\",SUM('Data Input'!E737,'Data Input'!M737,'Data Input'!Q737,'Data Input'!V737,'Data Input'!W737,'Data Input'!AD737,'Data Input'!AH737))","v":""},{"$f":"IF(O732=\"\",\"\",O732/COUNTIF('Data Input'!$C$8:$AK$8,\"M\"))","v":""},{"$f":"IF(ISBLANK('Data Input'!A737),\"\",SUM('Data Input'!H737,'Data Input'!K737,'Data Input'!P737,'Data Input'!Y737))","v":""},{"$f":"IF(Q732=\"\",\"\",Q732/COUNTIF('Data Input'!$C$8:$AK$8,\"G\"))","v":""}]
[{"$f":"IF('Data Input'!A738=0,\"\",'Data Input'!A738)","v":""},{"$f":"IF(ISBLANK('Data Input'!A738),\"\",COUNTIF('Data Input'!C738:AK738,\"\"))","v":""},{"$f":"IF(ISBLANK('Data Input'!A738),\"\",COUNTIF('Data Input'!C738:AK738,\"0\"))","v":""},{"$f":"IF(ISBLANK('Data Input'!A738),\"\",SUM(B733,C733))","v":""},{"$f":"IF(ISBLANK('Data Input'!A738),\"\",SUM('Data Input'!C738:AK738))","v":""},{"$f":"IF(E733=\"\",\"\",E733/(COUNTA('Data Input'!$C$8:$AK$8)))","v":""},{"$f":"IF(ISBLANK('Data Input'!A738),\"\",SUM('Data Input'!C738,'Data Input'!D738,'Data Input'!J738,'Data Input'!X738))","v":""},{"$f":"IF(G733=\"\",\"\",G733/COUNTIF('Data Input'!$C$8:$AK$8,\"N\"))","v":""},{"$f":"IF(ISBLANK('Data Input'!A738),\"\",SUM('Data Input'!G738,'Data Input'!I738,'Data Input'!L738,'Data Input'!N738,'Data Input'!O738,'Data Input'!S738,'Data Input'!Z738,'Data Input'!AA738,'Data Input'!AB738,'Data Input'!AC738,'Data Input'!AE738,'Data Input'!AF738,'Data Input'!AG738,'Data Input'!AI738,'Data Input'!AK738))","v":""},{"$f":"IF(I733=\"\",\"\",I733/COUNTIF('Data Input'!$C$8:$AK$8,\"C\"))","v":""},{"$f":"IF(ISBLANK('Data Input'!A738),\"\",SUM('Data Input'!T738,'Data Input'!U738))","v":""},{"$f":"IF(K733=\"\",\"\",K733/COUNTIF('Data Input'!$C$8:$AK$8,\"S\"))","v":""},{"$f":"IF(ISBLANK('Data Input'!A738),\"\",SUM('Data Input'!F738,'Data Input'!R738,'Data Input'!AJ738))","v":""},{"$f":"IF(M733=\"\",\"\",M733/COUNTIF('Data Input'!$C$8:$AK$8,\"F\"))","v":""},{"$f":"IF(ISBLANK('Data Input'!A738),\"\",SUM('Data Input'!E738,'Data Input'!M738,'Data Input'!Q738,'Data Input'!V738,'Data Input'!W738,'Data Input'!AD738,'Data Input'!AH738))","v":""},{"$f":"IF(O733=\"\",\"\",O733/COUNTIF('Data Input'!$C$8:$AK$8,\"M\"))","v":""},{"$f":"IF(ISBLANK('Data Input'!A738),\"\",SUM('Data Input'!H738,'Data Input'!K738,'Data Input'!P738,'Data Input'!Y738))","v":""},{"$f":"IF(Q733=\"\",\"\",Q733/COUNTIF('Data Input'!$C$8:$AK$8,\"G\"))","v":""}]
[{"$f":"IF('Data Input'!A739=0,\"\",'Data Input'!A739)","v":""},{"$f":"IF(ISBLANK('Data Input'!A739),\"\",COUNTIF('Data Input'!C739:AK739,\"\"))","v":""},{"$f":"IF(ISBLANK('Data Input'!A739),\"\",COUNTIF('Data Input'!C739:AK739,\"0\"))","v":""},{"$f":"IF(ISBLANK('Data Input'!A739),\"\",SUM(B734,C734))","v":""},{"$f":"IF(ISBLANK('Data Input'!A739),\"\",SUM('Data Input'!C739:AK739))","v":""},{"$f":"IF(E734=\"\",\"\",E734/(COUNTA('Data Input'!$C$8:$AK$8)))","v":""},{"$f":"IF(ISBLANK('Data Input'!A739),\"\",SUM('Data Input'!C739,'Data Input'!D739,'Data Input'!J739,'Data Input'!X739))","v":""},{"$f":"IF(G734=\"\",\"\",G734/COUNTIF('Data Input'!$C$8:$AK$8,\"N\"))","v":""},{"$f":"IF(ISBLANK('Data Input'!A739),\"\",SUM('Data Input'!G739,'Data Input'!I739,'Data Input'!L739,'Data Input'!N739,'Data Input'!O739,'Data Input'!S739,'Data Input'!Z739,'Data Input'!AA739,'Data Input'!AB739,'Data Input'!AC739,'Data Input'!AE739,'Data Input'!AF739,'Data Input'!AG739,'Data Input'!AI739,'Data Input'!AK739))","v":""},{"$f":"IF(I734=\"\",\"\",I734/COUNTIF('Data Input'!$C$8:$AK$8,\"C\"))","v":""},{"$f":"IF(ISBLANK('Data Input'!A739),\"\",SUM('Data Input'!T739,'Data Input'!U739))","v":""},{"$f":"IF(K734=\"\",\"\",K734/COUNTIF('Data Input'!$C$8:$AK$8,\"S\"))","v":""},{"$f":"IF(ISBLANK('Data Input'!A739),\"\",SUM('Data Input'!F739,'Data Input'!R739,'Data Input'!AJ739))","v":""},{"$f":"IF(M734=\"\",\"\",M734/COUNTIF('Data Input'!$C$8:$AK$8,\"F\"))","v":""},{"$f":"IF(ISBLANK('Data Input'!A739),\"\",SUM('Data Input'!E739,'Data Input'!M739,'Data Input'!Q739,'Data Input'!V739,'Data Input'!W739,'Data Input'!AD739,'Data Input'!AH739))","v":""},{"$f":"IF(O734=\"\",\"\",O734/COUNTIF('Data Input'!$C$8:$AK$8,\"M\"))","v":""},{"$f":"IF(ISBLANK('Data Input'!A739),\"\",SUM('Data Input'!H739,'Data Input'!K739,'Data Input'!P739,'Data Input'!Y739))","v":""},{"$f":"IF(Q734=\"\",\"\",Q734/COUNTIF('Data Input'!$C$8:$AK$8,\"G\"))","v":""}]
[{"$f":"IF('Data Input'!A740=0,\"\",'Data Input'!A740)","v":""},{"$f":"IF(ISBLANK('Data Input'!A740),\"\",COUNTIF('Data Input'!C740:AK740,\"\"))","v":""},{"$f":"IF(ISBLANK('Data Input'!A740),\"\",COUNTIF('Data Input'!C740:AK740,\"0\"))","v":""},{"$f":"IF(ISBLANK('Data Input'!A740),\"\",SUM(B735,C735))","v":""},{"$f":"IF(ISBLANK('Data Input'!A740),\"\",SUM('Data Input'!C740:AK740))","v":""},{"$f":"IF(E735=\"\",\"\",E735/(COUNTA('Data Input'!$C$8:$AK$8)))","v":""},{"$f":"IF(ISBLANK('Data Input'!A740),\"\",SUM('Data Input'!C740,'Data Input'!D740,'Data Input'!J740,'Data Input'!X740))","v":""},{"$f":"IF(G735=\"\",\"\",G735/COUNTIF('Data Input'!$C$8:$AK$8,\"N\"))","v":""},{"$f":"IF(ISBLANK('Data Input'!A740),\"\",SUM('Data Input'!G740,'Data Input'!I740,'Data Input'!L740,'Data Input'!N740,'Data Input'!O740,'Data Input'!S740,'Data Input'!Z740,'Data Input'!AA740,'Data Input'!AB740,'Data Input'!AC740,'Data Input'!AE740,'Data Input'!AF740,'Data Input'!AG740,'Data Input'!AI740,'Data Input'!AK740))","v":""},{"$f":"IF(I735=\"\",\"\",I735/COUNTIF('Data Input'!$C$8:$AK$8,\"C\"))","v":""},{"$f":"IF(ISBLANK('Data Input'!A740),\"\",SUM('Data Input'!T740,'Data Input'!U740))","v":""},{"$f":"IF(K735=\"\",\"\",K735/COUNTIF('Data Input'!$C$8:$AK$8,\"S\"))","v":""},{"$f":"IF(ISBLANK('Data Input'!A740),\"\",SUM('Data Input'!F740,'Data Input'!R740,'Data Input'!AJ740))","v":""},{"$f":"IF(M735=\"\",\"\",M735/COUNTIF('Data Input'!$C$8:$AK$8,\"F\"))","v":""},{"$f":"IF(ISBLANK('Data Input'!A740),\"\",SUM('Data Input'!E740,'Data Input'!M740,'Data Input'!Q740,'Data Input'!V740,'Data Input'!W740,'Data Input'!AD740,'Data Input'!AH740))","v":""},{"$f":"IF(O735=\"\",\"\",O735/COUNTIF('Data Input'!$C$8:$AK$8,\"M\"))","v":""},{"$f":"IF(ISBLANK('Data Input'!A740),\"\",SUM('Data Input'!H740,'Data Input'!K740,'Data Input'!P740,'Data Input'!Y740))","v":""},{"$f":"IF(Q735=\"\",\"\",Q735/COUNTIF('Data Input'!$C$8:$AK$8,\"G\"))","v":""}]
[{"$f":"IF('Data Input'!A741=0,\"\",'Data Input'!A741)","v":""},{"$f":"IF(ISBLANK('Data Input'!A741),\"\",COUNTIF('Data Input'!C741:AK741,\"\"))","v":""},{"$f":"IF(ISBLANK('Data Input'!A741),\"\",COUNTIF('Data Input'!C741:AK741,\"0\"))","v":""},{"$f":"IF(ISBLANK('Data Input'!A741),\"\",SUM(B736,C736))","v":""},{"$f":"IF(ISBLANK('Data Input'!A741),\"\",SUM('Data Input'!C741:AK741))","v":""},{"$f":"IF(E736=\"\",\"\",E736/(COUNTA('Data Input'!$C$8:$AK$8)))","v":""},{"$f":"IF(ISBLANK('Data Input'!A741),\"\",SUM('Data Input'!C741,'Data Input'!D741,'Data Input'!J741,'Data Input'!X741))","v":""},{"$f":"IF(G736=\"\",\"\",G736/COUNTIF('Data Input'!$C$8:$AK$8,\"N\"))","v":""},{"$f":"IF(ISBLANK('Data Input'!A741),\"\",SUM('Data Input'!G741,'Data Input'!I741,'Data Input'!L741,'Data Input'!N741,'Data Input'!O741,'Data Input'!S741,'Data Input'!Z741,'Data Input'!AA741,'Data Input'!AB741,'Data Input'!AC741,'Data Input'!AE741,'Data Input'!AF741,'Data Input'!AG741,'Data Input'!AI741,'Data Input'!AK741))","v":""},{"$f":"IF(I736=\"\",\"\",I736/COUNTIF('Data Input'!$C$8:$AK$8,\"C\"))","v":""},{"$f":"IF(ISBLANK('Data Input'!A741),\"\",SUM('Data Input'!T741,'Data Input'!U741))","v":""},{"$f":"IF(K736=\"\",\"\",K736/COUNTIF('Data Input'!$C$8:$AK$8,\"S\"))","v":""},{"$f":"IF(ISBLANK('Data Input'!A741),\"\",SUM('Data Input'!F741,'Data Input'!R741,'Data Input'!AJ741))","v":""},{"$f":"IF(M736=\"\",\"\",M736/COUNTIF('Data Input'!$C$8:$AK$8,\"F\"))","v":""},{"$f":"IF(ISBLANK('Data Input'!A741),\"\",SUM('Data Input'!E741,'Data Input'!M741,'Data Input'!Q741,'Data Input'!V741,'Data Input'!W741,'Data Input'!AD741,'Data Input'!AH741))","v":""},{"$f":"IF(O736=\"\",\"\",O736/COUNTIF('Data Input'!$C$8:$AK$8,\"M\"))","v":""},{"$f":"IF(ISBLANK('Data Input'!A741),\"\",SUM('Data Input'!H741,'Data Input'!K741,'Data Input'!P741,'Data Input'!Y741))","v":""},{"$f":"IF(Q736=\"\",\"\",Q736/COUNTIF('Data Input'!$C$8:$AK$8,\"G\"))","v":""}]
[{"$f":"IF('Data Input'!A742=0,\"\",'Data Input'!A742)","v":""},{"$f":"IF(ISBLANK('Data Input'!A742),\"\",COUNTIF('Data Input'!C742:AK742,\"\"))","v":""},{"$f":"IF(ISBLANK('Data Input'!A742),\"\",COUNTIF('Data Input'!C742:AK742,\"0\"))","v":""},{"$f":"IF(ISBLANK('Data Input'!A742),\"\",SUM(B737,C737))","v":""},{"$f":"IF(ISBLANK('Data Input'!A742),\"\",SUM('Data Input'!C742:AK742))","v":""},{"$f":"IF(E737=\"\",\"\",E737/(COUNTA('Data Input'!$C$8:$AK$8)))","v":""},{"$f":"IF(ISBLANK('Data Input'!A742),\"\",SUM('Data Input'!C742,'Data Input'!D742,'Data Input'!J742,'Data Input'!X742))","v":""},{"$f":"IF(G737=\"\",\"\",G737/COUNTIF('Data Input'!$C$8:$AK$8,\"N\"))","v":""},{"$f":"IF(ISBLANK('Data Input'!A742),\"\",SUM('Data Input'!G742,'Data Input'!I742,'Data Input'!L742,'Data Input'!N742,'Data Input'!O742,'Data Input'!S742,'Data Input'!Z742,'Data Input'!AA742,'Data Input'!AB742,'Data Input'!AC742,'Data Input'!AE742,'Data Input'!AF742,'Data Input'!AG742,'Data Input'!AI742,'Data Input'!AK742))","v":""},{"$f":"IF(I737=\"\",\"\",I737/COUNTIF('Data Input'!$C$8:$AK$8,\"C\"))","v":""},{"$f":"IF(ISBLANK('Data Input'!A742),\"\",SUM('Data Input'!T742,'Data Input'!U742))","v":""},{"$f":"IF(K737=\"\",\"\",K737/COUNTIF('Data Input'!$C$8:$AK$8,\"S\"))","v":""},{"$f":"IF(ISBLANK('Data Input'!A742),\"\",SUM('Data Input'!F742,'Data Input'!R742,'Data Input'!AJ742))","v":""},{"$f":"IF(M737=\"\",\"\",M737/COUNTIF('Data Input'!$C$8:$AK$8,\"F\"))","v":""},{"$f":"IF(ISBLANK('Data Input'!A742),\"\",SUM('Data Input'!E742,'Data Input'!M742,'Data Input'!Q742,'Data Input'!V742,'Data Input'!W742,'Data Input'!AD742,'Data Input'!AH742))","v":""},{"$f":"IF(O737=\"\",\"\",O737/COUNTIF('Data Input'!$C$8:$AK$8,\"M\"))","v":""},{"$f":"IF(ISBLANK('Data Input'!A742),\"\",SUM('Data Input'!H742,'Data Input'!K742,'Data Input'!P742,'Data Input'!Y742))","v":""},{"$f":"IF(Q737=\"\",\"\",Q737/COUNTIF('Data Input'!$C$8:$AK$8,\"G\"))","v":""}]
[{"$f":"IF('Data Input'!A743=0,\"\",'Data Input'!A743)","v":""},{"$f":"IF(ISBLANK('Data Input'!A743),\"\",COUNTIF('Data Input'!C743:AK743,\"\"))","v":""},{"$f":"IF(ISBLANK('Data Input'!A743),\"\",COUNTIF('Data Input'!C743:AK743,\"0\"))","v":""},{"$f":"IF(ISBLANK('Data Input'!A743),\"\",SUM(B738,C738))","v":""},{"$f":"IF(ISBLANK('Data Input'!A743),\"\",SUM('Data Input'!C743:AK743))","v":""},{"$f":"IF(E738=\"\",\"\",E738/(COUNTA('Data Input'!$C$8:$AK$8)))","v":""},{"$f":"IF(ISBLANK('Data Input'!A743),\"\",SUM('Data Input'!C743,'Data Input'!D743,'Data Input'!J743,'Data Input'!X743))","v":""},{"$f":"IF(G738=\"\",\"\",G738/COUNTIF('Data Input'!$C$8:$AK$8,\"N\"))","v":""},{"$f":"IF(ISBLANK('Data Input'!A743),\"\",SUM('Data Input'!G743,'Data Input'!I743,'Data Input'!L743,'Data Input'!N743,'Data Input'!O743,'Data Input'!S743,'Data Input'!Z743,'Data Input'!AA743,'Data Input'!AB743,'Data Input'!AC743,'Data Input'!AE743,'Data Input'!AF743,'Data Input'!AG743,'Data Input'!AI743,'Data Input'!AK743))","v":""},{"$f":"IF(I738=\"\",\"\",I738/COUNTIF('Data Input'!$C$8:$AK$8,\"C\"))","v":""},{"$f":"IF(ISBLANK('Data Input'!A743),\"\",SUM('Data Input'!T743,'Data Input'!U743))","v":""},{"$f":"IF(K738=\"\",\"\",K738/COUNTIF('Data Input'!$C$8:$AK$8,\"S\"))","v":""},{"$f":"IF(ISBLANK('Data Input'!A743),\"\",SUM('Data Input'!F743,'Data Input'!R743,'Data Input'!AJ743))","v":""},{"$f":"IF(M738=\"\",\"\",M738/COUNTIF('Data Input'!$C$8:$AK$8,\"F\"))","v":""},{"$f":"IF(ISBLANK('Data Input'!A743),\"\",SUM('Data Input'!E743,'Data Input'!M743,'Data Input'!Q743,'Data Input'!V743,'Data Input'!W743,'Data Input'!AD743,'Data Input'!AH743))","v":""},{"$f":"IF(O738=\"\",\"\",O738/COUNTIF('Data Input'!$C$8:$AK$8,\"M\"))","v":""},{"$f":"IF(ISBLANK('Data Input'!A743),\"\",SUM('Data Input'!H743,'Data Input'!K743,'Data Input'!P743,'Data Input'!Y743))","v":""},{"$f":"IF(Q738=\"\",\"\",Q738/COUNTIF('Data Input'!$C$8:$AK$8,\"G\"))","v":""}]
[{"$f":"IF('Data Input'!A744=0,\"\",'Data Input'!A744)","v":""},{"$f":"IF(ISBLANK('Data Input'!A744),\"\",COUNTIF('Data Input'!C744:AK744,\"\"))","v":""},{"$f":"IF(ISBLANK('Data Input'!A744),\"\",COUNTIF('Data Input'!C744:AK744,\"0\"))","v":""},{"$f":"IF(ISBLANK('Data Input'!A744),\"\",SUM(B739,C739))","v":""},{"$f":"IF(ISBLANK('Data Input'!A744),\"\",SUM('Data Input'!C744:AK744))","v":""},{"$f":"IF(E739=\"\",\"\",E739/(COUNTA('Data Input'!$C$8:$AK$8)))","v":""},{"$f":"IF(ISBLANK('Data Input'!A744),\"\",SUM('Data Input'!C744,'Data Input'!D744,'Data Input'!J744,'Data Input'!X744))","v":""},{"$f":"IF(G739=\"\",\"\",G739/COUNTIF('Data Input'!$C$8:$AK$8,\"N\"))","v":""},{"$f":"IF(ISBLANK('Data Input'!A744),\"\",SUM('Data Input'!G744,'Data Input'!I744,'Data Input'!L744,'Data Input'!N744,'Data Input'!O744,'Data Input'!S744,'Data Input'!Z744,'Data Input'!AA744,'Data Input'!AB744,'Data Input'!AC744,'Data Input'!AE744,'Data Input'!AF744,'Data Input'!AG744,'Data Input'!AI744,'Data Input'!AK744))","v":""},{"$f":"IF(I739=\"\",\"\",I739/COUNTIF('Data Input'!$C$8:$AK$8,\"C\"))","v":""},{"$f":"IF(ISBLANK('Data Input'!A744),\"\",SUM('Data Input'!T744,'Data Input'!U744))","v":""},{"$f":"IF(K739=\"\",\"\",K739/COUNTIF('Data Input'!$C$8:$AK$8,\"S\"))","v":""},{"$f":"IF(ISBLANK('Data Input'!A744),\"\",SUM('Data Input'!F744,'Data Input'!R744,'Data Input'!AJ744))","v":""},{"$f":"IF(M739=\"\",\"\",M739/COUNTIF('Data Input'!$C$8:$AK$8,\"F\"))","v":""},{"$f":"IF(ISBLANK('Data Input'!A744),\"\",SUM('Data Input'!E744,'Data Input'!M744,'Data Input'!Q744,'Data Input'!V744,'Data Input'!W744,'Data Input'!AD744,'Data Input'!AH744))","v":""},{"$f":"IF(O739=\"\",\"\",O739/COUNTIF('Data Input'!$C$8:$AK$8,\"M\"))","v":""},{"$f":"IF(ISBLANK('Data Input'!A744),\"\",SUM('Data Input'!H744,'Data Input'!K744,'Data Input'!P744,'Data Input'!Y744))","v":""},{"$f":"IF(Q739=\"\",\"\",Q739/COUNTIF('Data Input'!$C$8:$AK$8,\"G\"))","v":""}]
[{"$f":"IF('Data Input'!A745=0,\"\",'Data Input'!A745)","v":""},{"$f":"IF(ISBLANK('Data Input'!A745),\"\",COUNTIF('Data Input'!C745:AK745,\"\"))","v":""},{"$f":"IF(ISBLANK('Data Input'!A745),\"\",COUNTIF('Data Input'!C745:AK745,\"0\"))","v":""},{"$f":"IF(ISBLANK('Data Input'!A745),\"\",SUM(B740,C740))","v":""},{"$f":"IF(ISBLANK('Data Input'!A745),\"\",SUM('Data Input'!C745:AK745))","v":""},{"$f":"IF(E740=\"\",\"\",E740/(COUNTA('Data Input'!$C$8:$AK$8)))","v":""},{"$f":"IF(ISBLANK('Data Input'!A745),\"\",SUM('Data Input'!C745,'Data Input'!D745,'Data Input'!J745,'Data Input'!X745))","v":""},{"$f":"IF(G740=\"\",\"\",G740/COUNTIF('Data Input'!$C$8:$AK$8,\"N\"))","v":""},{"$f":"IF(ISBLANK('Data Input'!A745),\"\",SUM('Data Input'!G745,'Data Input'!I745,'Data Input'!L745,'Data Input'!N745,'Data Input'!O745,'Data Input'!S745,'Data Input'!Z745,'Data Input'!AA745,'Data Input'!AB745,'Data Input'!AC745,'Data Input'!AE745,'Data Input'!AF745,'Data Input'!AG745,'Data Input'!AI745,'Data Input'!AK745))","v":""},{"$f":"IF(I740=\"\",\"\",I740/COUNTIF('Data Input'!$C$8:$AK$8,\"C\"))","v":""},{"$f":"IF(ISBLANK('Data Input'!A745),\"\",SUM('Data Input'!T745,'Data Input'!U745))","v":""},{"$f":"IF(K740=\"\",\"\",K740/COUNTIF('Data Input'!$C$8:$AK$8,\"S\"))","v":""},{"$f":"IF(ISBLANK('Data Input'!A745),\"\",SUM('Data Input'!F745,'Data Input'!R745,'Data Input'!AJ745))","v":""},{"$f":"IF(M740=\"\",\"\",M740/COUNTIF('Data Input'!$C$8:$AK$8,\"F\"))","v":""},{"$f":"IF(ISBLANK('Data Input'!A745),\"\",SUM('Data Input'!E745,'Data Input'!M745,'Data Input'!Q745,'Data Input'!V745,'Data Input'!W745,'Data Input'!AD745,'Data Input'!AH745))","v":""},{"$f":"IF(O740=\"\",\"\",O740/COUNTIF('Data Input'!$C$8:$AK$8,\"M\"))","v":""},{"$f":"IF(ISBLANK('Data Input'!A745),\"\",SUM('Data Input'!H745,'Data Input'!K745,'Data Input'!P745,'Data Input'!Y745))","v":""},{"$f":"IF(Q740=\"\",\"\",Q740/COUNTIF('Data Input'!$C$8:$AK$8,\"G\"))","v":""}]
[{"$f":"IF('Data Input'!A746=0,\"\",'Data Input'!A746)","v":""},{"$f":"IF(ISBLANK('Data Input'!A746),\"\",COUNTIF('Data Input'!C746:AK746,\"\"))","v":""},{"$f":"IF(ISBLANK('Data Input'!A746),\"\",COUNTIF('Data Input'!C746:AK746,\"0\"))","v":""},{"$f":"IF(ISBLANK('Data Input'!A746),\"\",SUM(B741,C741))","v":""},{"$f":"IF(ISBLANK('Data Input'!A746),\"\",SUM('Data Input'!C746:AK746))","v":""},{"$f":"IF(E741=\"\",\"\",E741/(COUNTA('Data Input'!$C$8:$AK$8)))","v":""},{"$f":"IF(ISBLANK('Data Input'!A746),\"\",SUM('Data Input'!C746,'Data Input'!D746,'Data Input'!J746,'Data Input'!X746))","v":""},{"$f":"IF(G741=\"\",\"\",G741/COUNTIF('Data Input'!$C$8:$AK$8,\"N\"))","v":""},{"$f":"IF(ISBLANK('Data Input'!A746),\"\",SUM('Data Input'!G746,'Data Input'!I746,'Data Input'!L746,'Data Input'!N746,'Data Input'!O746,'Data Input'!S746,'Data Input'!Z746,'Data Input'!AA746,'Data Input'!AB746,'Data Input'!AC746,'Data Input'!AE746,'Data Input'!AF746,'Data Input'!AG746,'Data Input'!AI746,'Data Input'!AK746))","v":""},{"$f":"IF(I741=\"\",\"\",I741/COUNTIF('Data Input'!$C$8:$AK$8,\"C\"))","v":""},{"$f":"IF(ISBLANK('Data Input'!A746),\"\",SUM('Data Input'!T746,'Data Input'!U746))","v":""},{"$f":"IF(K741=\"\",\"\",K741/COUNTIF('Data Input'!$C$8:$AK$8,\"S\"))","v":""},{"$f":"IF(ISBLANK('Data Input'!A746),\"\",SUM('Data Input'!F746,'Data Input'!R746,'Data Input'!AJ746))","v":""},{"$f":"IF(M741=\"\",\"\",M741/COUNTIF('Data Input'!$C$8:$AK$8,\"F\"))","v":""},{"$f":"IF(ISBLANK('Data Input'!A746),\"\",SUM('Data Input'!E746,'Data Input'!M746,'Data Input'!Q746,'Data Input'!V746,'Data Input'!W746,'Data Input'!AD746,'Data Input'!AH746))","v":""},{"$f":"IF(O741=\"\",\"\",O741/COUNTIF('Data Input'!$C$8:$AK$8,\"M\"))","v":""},{"$f":"IF(ISBLANK('Data Input'!A746),\"\",SUM('Data Input'!H746,'Data Input'!K746,'Data Input'!P746,'Data Input'!Y746))","v":""},{"$f":"IF(Q741=\"\",\"\",Q741/COUNTIF('Data Input'!$C$8:$AK$8,\"G\"))","v":""}]
[{"$f":"IF('Data Input'!A747=0,\"\",'Data Input'!A747)","v":""},{"$f":"IF(ISBLANK('Data Input'!A747),\"\",COUNTIF('Data Input'!C747:AK747,\"\"))","v":""},{"$f":"IF(ISBLANK('Data Input'!A747),\"\",COUNTIF('Data Input'!C747:AK747,\"0\"))","v":""},{"$f":"IF(ISBLANK('Data Input'!A747),\"\",SUM(B742,C742))","v":""},{"$f":"IF(ISBLANK('Data Input'!A747),\"\",SUM('Data Input'!C747:AK747))","v":""},{"$f":"IF(E742=\"\",\"\",E742/(COUNTA('Data Input'!$C$8:$AK$8)))","v":""},{"$f":"IF(ISBLANK('Data Input'!A747),\"\",SUM('Data Input'!C747,'Data Input'!D747,'Data Input'!J747,'Data Input'!X747))","v":""},{"$f":"IF(G742=\"\",\"\",G742/COUNTIF('Data Input'!$C$8:$AK$8,\"N\"))","v":""},{"$f":"IF(ISBLANK('Data Input'!A747),\"\",SUM('Data Input'!G747,'Data Input'!I747,'Data Input'!L747,'Data Input'!N747,'Data Input'!O747,'Data Input'!S747,'Data Input'!Z747,'Data Input'!AA747,'Data Input'!AB747,'Data Input'!AC747,'Data Input'!AE747,'Data Input'!AF747,'Data Input'!AG747,'Data Input'!AI747,'Data Input'!AK747))","v":""},{"$f":"IF(I742=\"\",\"\",I742/COUNTIF('Data Input'!$C$8:$AK$8,\"C\"))","v":""},{"$f":"IF(ISBLANK('Data Input'!A747),\"\",SUM('Data Input'!T747,'Data Input'!U747))","v":""},{"$f":"IF(K742=\"\",\"\",K742/COUNTIF('Data Input'!$C$8:$AK$8,\"S\"))","v":""},{"$f":"IF(ISBLANK('Data Input'!A747),\"\",SUM('Data Input'!F747,'Data Input'!R747,'Data Input'!AJ747))","v":""},{"$f":"IF(M742=\"\",\"\",M742/COUNTIF('Data Input'!$C$8:$AK$8,\"F\"))","v":""},{"$f":"IF(ISBLANK('Data Input'!A747),\"\",SUM('Data Input'!E747,'Data Input'!M747,'Data Input'!Q747,'Data Input'!V747,'Data Input'!W747,'Data Input'!AD747,'Data Input'!AH747))","v":""},{"$f":"IF(O742=\"\",\"\",O742/COUNTIF('Data Input'!$C$8:$AK$8,\"M\"))","v":""},{"$f":"IF(ISBLANK('Data Input'!A747),\"\",SUM('Data Input'!H747,'Data Input'!K747,'Data Input'!P747,'Data Input'!Y747))","v":""},{"$f":"IF(Q742=\"\",\"\",Q742/COUNTIF('Data Input'!$C$8:$AK$8,\"G\"))","v":""}]
[{"$f":"IF('Data Input'!A748=0,\"\",'Data Input'!A748)","v":""},{"$f":"IF(ISBLANK('Data Input'!A748),\"\",COUNTIF('Data Input'!C748:AK748,\"\"))","v":""},{"$f":"IF(ISBLANK('Data Input'!A748),\"\",COUNTIF('Data Input'!C748:AK748,\"0\"))","v":""},{"$f":"IF(ISBLANK('Data Input'!A748),\"\",SUM(B743,C743))","v":""},{"$f":"IF(ISBLANK('Data Input'!A748),\"\",SUM('Data Input'!C748:AK748))","v":""},{"$f":"IF(E743=\"\",\"\",E743/(COUNTA('Data Input'!$C$8:$AK$8)))","v":""},{"$f":"IF(ISBLANK('Data Input'!A748),\"\",SUM('Data Input'!C748,'Data Input'!D748,'Data Input'!J748,'Data Input'!X748))","v":""},{"$f":"IF(G743=\"\",\"\",G743/COUNTIF('Data Input'!$C$8:$AK$8,\"N\"))","v":""},{"$f":"IF(ISBLANK('Data Input'!A748),\"\",SUM('Data Input'!G748,'Data Input'!I748,'Data Input'!L748,'Data Input'!N748,'Data Input'!O748,'Data Input'!S748,'Data Input'!Z748,'Data Input'!AA748,'Data Input'!AB748,'Data Input'!AC748,'Data Input'!AE748,'Data Input'!AF748,'Data Input'!AG748,'Data Input'!AI748,'Data Input'!AK748))","v":""},{"$f":"IF(I743=\"\",\"\",I743/COUNTIF('Data Input'!$C$8:$AK$8,\"C\"))","v":""},{"$f":"IF(ISBLANK('Data Input'!A748),\"\",SUM('Data Input'!T748,'Data Input'!U748))","v":""},{"$f":"IF(K743=\"\",\"\",K743/COUNTIF('Data Input'!$C$8:$AK$8,\"S\"))","v":""},{"$f":"IF(ISBLANK('Data Input'!A748),\"\",SUM('Data Input'!F748,'Data Input'!R748,'Data Input'!AJ748))","v":""},{"$f":"IF(M743=\"\",\"\",M743/COUNTIF('Data Input'!$C$8:$AK$8,\"F\"))","v":""},{"$f":"IF(ISBLANK('Data Input'!A748),\"\",SUM('Data Input'!E748,'Data Input'!M748,'Data Input'!Q748,'Data Input'!V748,'Data Input'!W748,'Data Input'!AD748,'Data Input'!AH748))","v":""},{"$f":"IF(O743=\"\",\"\",O743/COUNTIF('Data Input'!$C$8:$AK$8,\"M\"))","v":""},{"$f":"IF(ISBLANK('Data Input'!A748),\"\",SUM('Data Input'!H748,'Data Input'!K748,'Data Input'!P748,'Data Input'!Y748))","v":""},{"$f":"IF(Q743=\"\",\"\",Q743/COUNTIF('Data Input'!$C$8:$AK$8,\"G\"))","v":""}]
[{"$f":"IF('Data Input'!A749=0,\"\",'Data Input'!A749)","v":""},{"$f":"IF(ISBLANK('Data Input'!A749),\"\",COUNTIF('Data Input'!C749:AK749,\"\"))","v":""},{"$f":"IF(ISBLANK('Data Input'!A749),\"\",COUNTIF('Data Input'!C749:AK749,\"0\"))","v":""},{"$f":"IF(ISBLANK('Data Input'!A749),\"\",SUM(B744,C744))","v":""},{"$f":"IF(ISBLANK('Data Input'!A749),\"\",SUM('Data Input'!C749:AK749))","v":""},{"$f":"IF(E744=\"\",\"\",E744/(COUNTA('Data Input'!$C$8:$AK$8)))","v":""},{"$f":"IF(ISBLANK('Data Input'!A749),\"\",SUM('Data Input'!C749,'Data Input'!D749,'Data Input'!J749,'Data Input'!X749))","v":""},{"$f":"IF(G744=\"\",\"\",G744/COUNTIF('Data Input'!$C$8:$AK$8,\"N\"))","v":""},{"$f":"IF(ISBLANK('Data Input'!A749),\"\",SUM('Data Input'!G749,'Data Input'!I749,'Data Input'!L749,'Data Input'!N749,'Data Input'!O749,'Data Input'!S749,'Data Input'!Z749,'Data Input'!AA749,'Data Input'!AB749,'Data Input'!AC749,'Data Input'!AE749,'Data Input'!AF749,'Data Input'!AG749,'Data Input'!AI749,'Data Input'!AK749))","v":""},{"$f":"IF(I744=\"\",\"\",I744/COUNTIF('Data Input'!$C$8:$AK$8,\"C\"))","v":""},{"$f":"IF(ISBLANK('Data Input'!A749),\"\",SUM('Data Input'!T749,'Data Input'!U749))","v":""},{"$f":"IF(K744=\"\",\"\",K744/COUNTIF('Data Input'!$C$8:$AK$8,\"S\"))","v":""},{"$f":"IF(ISBLANK('Data Input'!A749),\"\",SUM('Data Input'!F749,'Data Input'!R749,'Data Input'!AJ749))","v":""},{"$f":"IF(M744=\"\",\"\",M744/COUNTIF('Data Input'!$C$8:$AK$8,\"F\"))","v":""},{"$f":"IF(ISBLANK('Data Input'!A749),\"\",SUM('Data Input'!E749,'Data Input'!M749,'Data Input'!Q749,'Data Input'!V749,'Data Input'!W749,'Data Input'!AD749,'Data Input'!AH749))","v":""},{"$f":"IF(O744=\"\",\"\",O744/COUNTIF('Data Input'!$C$8:$AK$8,\"M\"))","v":""},{"$f":"IF(ISBLANK('Data Input'!A749),\"\",SUM('Data Input'!H749,'Data Input'!K749,'Data Input'!P749,'Data Input'!Y749))","v":""},{"$f":"IF(Q744=\"\",\"\",Q744/COUNTIF('Data Input'!$C$8:$AK$8,\"G\"))","v":""}]
[{"$f":"IF('Data Input'!A750=0,\"\",'Data Input'!A750)","v":""},{"$f":"IF(ISBLANK('Data Input'!A750),\"\",COUNTIF('Data Input'!C750:AK750,\"\"))","v":""},{"$f":"IF(ISBLANK('Data Input'!A750),\"\",COUNTIF('Data Input'!C750:AK750,\"0\"))","v":""},{"$f":"IF(ISBLANK('Data Input'!A750),\"\",SUM(B745,C745))","v":""},{"$f":"IF(ISBLANK('Data Input'!A750),\"\",SUM('Data Input'!C750:AK750))","v":""},{"$f":"IF(E745=\"\",\"\",E745/(COUNTA('Data Input'!$C$8:$AK$8)))","v":""},{"$f":"IF(ISBLANK('Data Input'!A750),\"\",SUM('Data Input'!C750,'Data Input'!D750,'Data Input'!J750,'Data Input'!X750))","v":""},{"$f":"IF(G745=\"\",\"\",G745/COUNTIF('Data Input'!$C$8:$AK$8,\"N\"))","v":""},{"$f":"IF(ISBLANK('Data Input'!A750),\"\",SUM('Data Input'!G750,'Data Input'!I750,'Data Input'!L750,'Data Input'!N750,'Data Input'!O750,'Data Input'!S750,'Data Input'!Z750,'Data Input'!AA750,'Data Input'!AB750,'Data Input'!AC750,'Data Input'!AE750,'Data Input'!AF750,'Data Input'!AG750,'Data Input'!AI750,'Data Input'!AK750))","v":""},{"$f":"IF(I745=\"\",\"\",I745/COUNTIF('Data Input'!$C$8:$AK$8,\"C\"))","v":""},{"$f":"IF(ISBLANK('Data Input'!A750),\"\",SUM('Data Input'!T750,'Data Input'!U750))","v":""},{"$f":"IF(K745=\"\",\"\",K745/COUNTIF('Data Input'!$C$8:$AK$8,\"S\"))","v":""},{"$f":"IF(ISBLANK('Data Input'!A750),\"\",SUM('Data Input'!F750,'Data Input'!R750,'Data Input'!AJ750))","v":""},{"$f":"IF(M745=\"\",\"\",M745/COUNTIF('Data Input'!$C$8:$AK$8,\"F\"))","v":""},{"$f":"IF(ISBLANK('Data Input'!A750),\"\",SUM('Data Input'!E750,'Data Input'!M750,'Data Input'!Q750,'Data Input'!V750,'Data Input'!W750,'Data Input'!AD750,'Data Input'!AH750))","v":""},{"$f":"IF(O745=\"\",\"\",O745/COUNTIF('Data Input'!$C$8:$AK$8,\"M\"))","v":""},{"$f":"IF(ISBLANK('Data Input'!A750),\"\",SUM('Data Input'!H750,'Data Input'!K750,'Data Input'!P750,'Data Input'!Y750))","v":""},{"$f":"IF(Q745=\"\",\"\",Q745/COUNTIF('Data Input'!$C$8:$AK$8,\"G\"))","v":""}]
[{"$f":"IF('Data Input'!A751=0,\"\",'Data Input'!A751)","v":""},{"$f":"IF(ISBLANK('Data Input'!A751),\"\",COUNTIF('Data Input'!C751:AK751,\"\"))","v":""},{"$f":"IF(ISBLANK('Data Input'!A751),\"\",COUNTIF('Data Input'!C751:AK751,\"0\"))","v":""},{"$f":"IF(ISBLANK('Data Input'!A751),\"\",SUM(B746,C746))","v":""},{"$f":"IF(ISBLANK('Data Input'!A751),\"\",SUM('Data Input'!C751:AK751))","v":""},{"$f":"IF(E746=\"\",\"\",E746/(COUNTA('Data Input'!$C$8:$AK$8)))","v":""},{"$f":"IF(ISBLANK('Data Input'!A751),\"\",SUM('Data Input'!C751,'Data Input'!D751,'Data Input'!J751,'Data Input'!X751))","v":""},{"$f":"IF(G746=\"\",\"\",G746/COUNTIF('Data Input'!$C$8:$AK$8,\"N\"))","v":""},{"$f":"IF(ISBLANK('Data Input'!A751),\"\",SUM('Data Input'!G751,'Data Input'!I751,'Data Input'!L751,'Data Input'!N751,'Data Input'!O751,'Data Input'!S751,'Data Input'!Z751,'Data Input'!AA751,'Data Input'!AB751,'Data Input'!AC751,'Data Input'!AE751,'Data Input'!AF751,'Data Input'!AG751,'Data Input'!AI751,'Data Input'!AK751))","v":""},{"$f":"IF(I746=\"\",\"\",I746/COUNTIF('Data Input'!$C$8:$AK$8,\"C\"))","v":""},{"$f":"IF(ISBLANK('Data Input'!A751),\"\",SUM('Data Input'!T751,'Data Input'!U751))","v":""},{"$f":"IF(K746=\"\",\"\",K746/COUNTIF('Data Input'!$C$8:$AK$8,\"S\"))","v":""},{"$f":"IF(ISBLANK('Data Input'!A751),\"\",SUM('Data Input'!F751,'Data Input'!R751,'Data Input'!AJ751))","v":""},{"$f":"IF(M746=\"\",\"\",M746/COUNTIF('Data Input'!$C$8:$AK$8,\"F\"))","v":""},{"$f":"IF(ISBLANK('Data Input'!A751),\"\",SUM('Data Input'!E751,'Data Input'!M751,'Data Input'!Q751,'Data Input'!V751,'Data Input'!W751,'Data Input'!AD751,'Data Input'!AH751))","v":""},{"$f":"IF(O746=\"\",\"\",O746/COUNTIF('Data Input'!$C$8:$AK$8,\"M\"))","v":""},{"$f":"IF(ISBLANK('Data Input'!A751),\"\",SUM('Data Input'!H751,'Data Input'!K751,'Data Input'!P751,'Data Input'!Y751))","v":""},{"$f":"IF(Q746=\"\",\"\",Q746/COUNTIF('Data Input'!$C$8:$AK$8,\"G\"))","v":""}]
[{"$f":"IF('Data Input'!A752=0,\"\",'Data Input'!A752)","v":""},{"$f":"IF(ISBLANK('Data Input'!A752),\"\",COUNTIF('Data Input'!C752:AK752,\"\"))","v":""},{"$f":"IF(ISBLANK('Data Input'!A752),\"\",COUNTIF('Data Input'!C752:AK752,\"0\"))","v":""},{"$f":"IF(ISBLANK('Data Input'!A752),\"\",SUM(B747,C747))","v":""},{"$f":"IF(ISBLANK('Data Input'!A752),\"\",SUM('Data Input'!C752:AK752))","v":""},{"$f":"IF(E747=\"\",\"\",E747/(COUNTA('Data Input'!$C$8:$AK$8)))","v":""},{"$f":"IF(ISBLANK('Data Input'!A752),\"\",SUM('Data Input'!C752,'Data Input'!D752,'Data Input'!J752,'Data Input'!X752))","v":""},{"$f":"IF(G747=\"\",\"\",G747/COUNTIF('Data Input'!$C$8:$AK$8,\"N\"))","v":""},{"$f":"IF(ISBLANK('Data Input'!A752),\"\",SUM('Data Input'!G752,'Data Input'!I752,'Data Input'!L752,'Data Input'!N752,'Data Input'!O752,'Data Input'!S752,'Data Input'!Z752,'Data Input'!AA752,'Data Input'!AB752,'Data Input'!AC752,'Data Input'!AE752,'Data Input'!AF752,'Data Input'!AG752,'Data Input'!AI752,'Data Input'!AK752))","v":""},{"$f":"IF(I747=\"\",\"\",I747/COUNTIF('Data Input'!$C$8:$AK$8,\"C\"))","v":""},{"$f":"IF(ISBLANK('Data Input'!A752),\"\",SUM('Data Input'!T752,'Data Input'!U752))","v":""},{"$f":"IF(K747=\"\",\"\",K747/COUNTIF('Data Input'!$C$8:$AK$8,\"S\"))","v":""},{"$f":"IF(ISBLANK('Data Input'!A752),\"\",SUM('Data Input'!F752,'Data Input'!R752,'Data Input'!AJ752))","v":""},{"$f":"IF(M747=\"\",\"\",M747/COUNTIF('Data Input'!$C$8:$AK$8,\"F\"))","v":""},{"$f":"IF(ISBLANK('Data Input'!A752),\"\",SUM('Data Input'!E752,'Data Input'!M752,'Data Input'!Q752,'Data Input'!V752,'Data Input'!W752,'Data Input'!AD752,'Data Input'!AH752))","v":""},{"$f":"IF(O747=\"\",\"\",O747/COUNTIF('Data Input'!$C$8:$AK$8,\"M\"))","v":""},{"$f":"IF(ISBLANK('Data Input'!A752),\"\",SUM('Data Input'!H752,'Data Input'!K752,'Data Input'!P752,'Data Input'!Y752))","v":""},{"$f":"IF(Q747=\"\",\"\",Q747/COUNTIF('Data Input'!$C$8:$AK$8,\"G\"))","v":""}]
[{"$f":"IF('Data Input'!A753=0,\"\",'Data Input'!A753)","v":""},{"$f":"IF(ISBLANK('Data Input'!A753),\"\",COUNTIF('Data Input'!C753:AK753,\"\"))","v":""},{"$f":"IF(ISBLANK('Data Input'!A753),\"\",COUNTIF('Data Input'!C753:AK753,\"0\"))","v":""},{"$f":"IF(ISBLANK('Data Input'!A753),\"\",SUM(B748,C748))","v":""},{"$f":"IF(ISBLANK('Data Input'!A753),\"\",SUM('Data Input'!C753:AK753))","v":""},{"$f":"IF(E748=\"\",\"\",E748/(COUNTA('Data Input'!$C$8:$AK$8)))","v":""},{"$f":"IF(ISBLANK('Data Input'!A753),\"\",SUM('Data Input'!C753,'Data Input'!D753,'Data Input'!J753,'Data Input'!X753))","v":""},{"$f":"IF(G748=\"\",\"\",G748/COUNTIF('Data Input'!$C$8:$AK$8,\"N\"))","v":""},{"$f":"IF(ISBLANK('Data Input'!A753),\"\",SUM('Data Input'!G753,'Data Input'!I753,'Data Input'!L753,'Data Input'!N753,'Data Input'!O753,'Data Input'!S753,'Data Input'!Z753,'Data Input'!AA753,'Data Input'!AB753,'Data Input'!AC753,'Data Input'!AE753,'Data Input'!AF753,'Data Input'!AG753,'Data Input'!AI753,'Data Input'!AK753))","v":""},{"$f":"IF(I748=\"\",\"\",I748/COUNTIF('Data Input'!$C$8:$AK$8,\"C\"))","v":""},{"$f":"IF(ISBLANK('Data Input'!A753),\"\",SUM('Data Input'!T753,'Data Input'!U753))","v":""},{"$f":"IF(K748=\"\",\"\",K748/COUNTIF('Data Input'!$C$8:$AK$8,\"S\"))","v":""},{"$f":"IF(ISBLANK('Data Input'!A753),\"\",SUM('Data Input'!F753,'Data Input'!R753,'Data Input'!AJ753))","v":""},{"$f":"IF(M748=\"\",\"\",M748/COUNTIF('Data Input'!$C$8:$AK$8,\"F\"))","v":""},{"$f":"IF(ISBLANK('Data Input'!A753),\"\",SUM('Data Input'!E753,'Data Input'!M753,'Data Input'!Q753,'Data Input'!V753,'Data Input'!W753,'Data Input'!AD753,'Data Input'!AH753))","v":""},{"$f":"IF(O748=\"\",\"\",O748/COUNTIF('Data Input'!$C$8:$AK$8,\"M\"))","v":""},{"$f":"IF(ISBLANK('Data Input'!A753),\"\",SUM('Data Input'!H753,'Data Input'!K753,'Data Input'!P753,'Data Input'!Y753))","v":""},{"$f":"IF(Q748=\"\",\"\",Q748/COUNTIF('Data Input'!$C$8:$AK$8,\"G\"))","v":""}]
[{"$f":"IF('Data Input'!A754=0,\"\",'Data Input'!A754)","v":""},{"$f":"IF(ISBLANK('Data Input'!A754),\"\",COUNTIF('Data Input'!C754:AK754,\"\"))","v":""},{"$f":"IF(ISBLANK('Data Input'!A754),\"\",COUNTIF('Data Input'!C754:AK754,\"0\"))","v":""},{"$f":"IF(ISBLANK('Data Input'!A754),\"\",SUM(B749,C749))","v":""},{"$f":"IF(ISBLANK('Data Input'!A754),\"\",SUM('Data Input'!C754:AK754))","v":""},{"$f":"IF(E749=\"\",\"\",E749/(COUNTA('Data Input'!$C$8:$AK$8)))","v":""},{"$f":"IF(ISBLANK('Data Input'!A754),\"\",SUM('Data Input'!C754,'Data Input'!D754,'Data Input'!J754,'Data Input'!X754))","v":""},{"$f":"IF(G749=\"\",\"\",G749/COUNTIF('Data Input'!$C$8:$AK$8,\"N\"))","v":""},{"$f":"IF(ISBLANK('Data Input'!A754),\"\",SUM('Data Input'!G754,'Data Input'!I754,'Data Input'!L754,'Data Input'!N754,'Data Input'!O754,'Data Input'!S754,'Data Input'!Z754,'Data Input'!AA754,'Data Input'!AB754,'Data Input'!AC754,'Data Input'!AE754,'Data Input'!AF754,'Data Input'!AG754,'Data Input'!AI754,'Data Input'!AK754))","v":""},{"$f":"IF(I749=\"\",\"\",I749/COUNTIF('Data Input'!$C$8:$AK$8,\"C\"))","v":""},{"$f":"IF(ISBLANK('Data Input'!A754),\"\",SUM('Data Input'!T754,'Data Input'!U754))","v":""},{"$f":"IF(K749=\"\",\"\",K749/COUNTIF('Data Input'!$C$8:$AK$8,\"S\"))","v":""},{"$f":"IF(ISBLANK('Data Input'!A754),\"\",SUM('Data Input'!F754,'Data Input'!R754,'Data Input'!AJ754))","v":""},{"$f":"IF(M749=\"\",\"\",M749/COUNTIF('Data Input'!$C$8:$AK$8,\"F\"))","v":""},{"$f":"IF(ISBLANK('Data Input'!A754),\"\",SUM('Data Input'!E754,'Data Input'!M754,'Data Input'!Q754,'Data Input'!V754,'Data Input'!W754,'Data Input'!AD754,'Data Input'!AH754))","v":""},{"$f":"IF(O749=\"\",\"\",O749/COUNTIF('Data Input'!$C$8:$AK$8,\"M\"))","v":""},{"$f":"IF(ISBLANK('Data Input'!A754),\"\",SUM('Data Input'!H754,'Data Input'!K754,'Data Input'!P754,'Data Input'!Y754))","v":""},{"$f":"IF(Q749=\"\",\"\",Q749/COUNTIF('Data Input'!$C$8:$AK$8,\"G\"))","v":""}]
[{"$f":"IF('Data Input'!A755=0,\"\",'Data Input'!A755)","v":""},{"$f":"IF(ISBLANK('Data Input'!A755),\"\",COUNTIF('Data Input'!C755:AK755,\"\"))","v":""},{"$f":"IF(ISBLANK('Data Input'!A755),\"\",COUNTIF('Data Input'!C755:AK755,\"0\"))","v":""},{"$f":"IF(ISBLANK('Data Input'!A755),\"\",SUM(B750,C750))","v":""},{"$f":"IF(ISBLANK('Data Input'!A755),\"\",SUM('Data Input'!C755:AK755))","v":""},{"$f":"IF(E750=\"\",\"\",E750/(COUNTA('Data Input'!$C$8:$AK$8)))","v":""},{"$f":"IF(ISBLANK('Data Input'!A755),\"\",SUM('Data Input'!C755,'Data Input'!D755,'Data Input'!J755,'Data Input'!X755))","v":""},{"$f":"IF(G750=\"\",\"\",G750/COUNTIF('Data Input'!$C$8:$AK$8,\"N\"))","v":""},{"$f":"IF(ISBLANK('Data Input'!A755),\"\",SUM('Data Input'!G755,'Data Input'!I755,'Data Input'!L755,'Data Input'!N755,'Data Input'!O755,'Data Input'!S755,'Data Input'!Z755,'Data Input'!AA755,'Data Input'!AB755,'Data Input'!AC755,'Data Input'!AE755,'Data Input'!AF755,'Data Input'!AG755,'Data Input'!AI755,'Data Input'!AK755))","v":""},{"$f":"IF(I750=\"\",\"\",I750/COUNTIF('Data Input'!$C$8:$AK$8,\"C\"))","v":""},{"$f":"IF(ISBLANK('Data Input'!A755),\"\",SUM('Data Input'!T755,'Data Input'!U755))","v":""},{"$f":"IF(K750=\"\",\"\",K750/COUNTIF('Data Input'!$C$8:$AK$8,\"S\"))","v":""},{"$f":"IF(ISBLANK('Data Input'!A755),\"\",SUM('Data Input'!F755,'Data Input'!R755,'Data Input'!AJ755))","v":""},{"$f":"IF(M750=\"\",\"\",M750/COUNTIF('Data Input'!$C$8:$AK$8,\"F\"))","v":""},{"$f":"IF(ISBLANK('Data Input'!A755),\"\",SUM('Data Input'!E755,'Data Input'!M755,'Data Input'!Q755,'Data Input'!V755,'Data Input'!W755,'Data Input'!AD755,'Data Input'!AH755))","v":""},{"$f":"IF(O750=\"\",\"\",O750/COUNTIF('Data Input'!$C$8:$AK$8,\"M\"))","v":""},{"$f":"IF(ISBLANK('Data Input'!A755),\"\",SUM('Data Input'!H755,'Data Input'!K755,'Data Input'!P755,'Data Input'!Y755))","v":""},{"$f":"IF(Q750=\"\",\"\",Q750/COUNTIF('Data Input'!$C$8:$AK$8,\"G\"))","v":""}]
[{"$f":"IF('Data Input'!A756=0,\"\",'Data Input'!A756)","v":""},{"$f":"IF(ISBLANK('Data Input'!A756),\"\",COUNTIF('Data Input'!C756:AK756,\"\"))","v":""},{"$f":"IF(ISBLANK('Data Input'!A756),\"\",COUNTIF('Data Input'!C756:AK756,\"0\"))","v":""},{"$f":"IF(ISBLANK('Data Input'!A756),\"\",SUM(B751,C751))","v":""},{"$f":"IF(ISBLANK('Data Input'!A756),\"\",SUM('Data Input'!C756:AK756))","v":""},{"$f":"IF(E751=\"\",\"\",E751/(COUNTA('Data Input'!$C$8:$AK$8)))","v":""},{"$f":"IF(ISBLANK('Data Input'!A756),\"\",SUM('Data Input'!C756,'Data Input'!D756,'Data Input'!J756,'Data Input'!X756))","v":""},{"$f":"IF(G751=\"\",\"\",G751/COUNTIF('Data Input'!$C$8:$AK$8,\"N\"))","v":""},{"$f":"IF(ISBLANK('Data Input'!A756),\"\",SUM('Data Input'!G756,'Data Input'!I756,'Data Input'!L756,'Data Input'!N756,'Data Input'!O756,'Data Input'!S756,'Data Input'!Z756,'Data Input'!AA756,'Data Input'!AB756,'Data Input'!AC756,'Data Input'!AE756,'Data Input'!AF756,'Data Input'!AG756,'Data Input'!AI756,'Data Input'!AK756))","v":""},{"$f":"IF(I751=\"\",\"\",I751/COUNTIF('Data Input'!$C$8:$AK$8,\"C\"))","v":""},{"$f":"IF(ISBLANK('Data Input'!A756),\"\",SUM('Data Input'!T756,'Data Input'!U756))","v":""},{"$f":"IF(K751=\"\",\"\",K751/COUNTIF('Data Input'!$C$8:$AK$8,\"S\"))","v":""},{"$f":"IF(ISBLANK('Data Input'!A756),\"\",SUM('Data Input'!F756,'Data Input'!R756,'Data Input'!AJ756))","v":""},{"$f":"IF(M751=\"\",\"\",M751/COUNTIF('Data Input'!$C$8:$AK$8,\"F\"))","v":""},{"$f":"IF(ISBLANK('Data Input'!A756),\"\",SUM('Data Input'!E756,'Data Input'!M756,'Data Input'!Q756,'Data Input'!V756,'Data Input'!W756,'Data Input'!AD756,'Data Input'!AH756))","v":""},{"$f":"IF(O751=\"\",\"\",O751/COUNTIF('Data Input'!$C$8:$AK$8,\"M\"))","v":""},{"$f":"IF(ISBLANK('Data Input'!A756),\"\",SUM('Data Input'!H756,'Data Input'!K756,'Data Input'!P756,'Data Input'!Y756))","v":""},{"$f":"IF(Q751=\"\",\"\",Q751/COUNTIF('Data Input'!$C$8:$AK$8,\"G\"))","v":""}]
[{"$f":"IF('Data Input'!A757=0,\"\",'Data Input'!A757)","v":""},{"$f":"IF(ISBLANK('Data Input'!A757),\"\",COUNTIF('Data Input'!C757:AK757,\"\"))","v":""},{"$f":"IF(ISBLANK('Data Input'!A757),\"\",COUNTIF('Data Input'!C757:AK757,\"0\"))","v":""},{"$f":"IF(ISBLANK('Data Input'!A757),\"\",SUM(B752,C752))","v":""},{"$f":"IF(ISBLANK('Data Input'!A757),\"\",SUM('Data Input'!C757:AK757))","v":""},{"$f":"IF(E752=\"\",\"\",E752/(COUNTA('Data Input'!$C$8:$AK$8)))","v":""},{"$f":"IF(ISBLANK('Data Input'!A757),\"\",SUM('Data Input'!C757,'Data Input'!D757,'Data Input'!J757,'Data Input'!X757))","v":""},{"$f":"IF(G752=\"\",\"\",G752/COUNTIF('Data Input'!$C$8:$AK$8,\"N\"))","v":""},{"$f":"IF(ISBLANK('Data Input'!A757),\"\",SUM('Data Input'!G757,'Data Input'!I757,'Data Input'!L757,'Data Input'!N757,'Data Input'!O757,'Data Input'!S757,'Data Input'!Z757,'Data Input'!AA757,'Data Input'!AB757,'Data Input'!AC757,'Data Input'!AE757,'Data Input'!AF757,'Data Input'!AG757,'Data Input'!AI757,'Data Input'!AK757))","v":""},{"$f":"IF(I752=\"\",\"\",I752/COUNTIF('Data Input'!$C$8:$AK$8,\"C\"))","v":""},{"$f":"IF(ISBLANK('Data Input'!A757),\"\",SUM('Data Input'!T757,'Data Input'!U757))","v":""},{"$f":"IF(K752=\"\",\"\",K752/COUNTIF('Data Input'!$C$8:$AK$8,\"S\"))","v":""},{"$f":"IF(ISBLANK('Data Input'!A757),\"\",SUM('Data Input'!F757,'Data Input'!R757,'Data Input'!AJ757))","v":""},{"$f":"IF(M752=\"\",\"\",M752/COUNTIF('Data Input'!$C$8:$AK$8,\"F\"))","v":""},{"$f":"IF(ISBLANK('Data Input'!A757),\"\",SUM('Data Input'!E757,'Data Input'!M757,'Data Input'!Q757,'Data Input'!V757,'Data Input'!W757,'Data Input'!AD757,'Data Input'!AH757))","v":""},{"$f":"IF(O752=\"\",\"\",O752/COUNTIF('Data Input'!$C$8:$AK$8,\"M\"))","v":""},{"$f":"IF(ISBLANK('Data Input'!A757),\"\",SUM('Data Input'!H757,'Data Input'!K757,'Data Input'!P757,'Data Input'!Y757))","v":""},{"$f":"IF(Q752=\"\",\"\",Q752/COUNTIF('Data Input'!$C$8:$AK$8,\"G\"))","v":""}]
[{"$f":"IF('Data Input'!A758=0,\"\",'Data Input'!A758)","v":""},{"$f":"IF(ISBLANK('Data Input'!A758),\"\",COUNTIF('Data Input'!C758:AK758,\"\"))","v":""},{"$f":"IF(ISBLANK('Data Input'!A758),\"\",COUNTIF('Data Input'!C758:AK758,\"0\"))","v":""},{"$f":"IF(ISBLANK('Data Input'!A758),\"\",SUM(B753,C753))","v":""},{"$f":"IF(ISBLANK('Data Input'!A758),\"\",SUM('Data Input'!C758:AK758))","v":""},{"$f":"IF(E753=\"\",\"\",E753/(COUNTA('Data Input'!$C$8:$AK$8)))","v":""},{"$f":"IF(ISBLANK('Data Input'!A758),\"\",SUM('Data Input'!C758,'Data Input'!D758,'Data Input'!J758,'Data Input'!X758))","v":""},{"$f":"IF(G753=\"\",\"\",G753/COUNTIF('Data Input'!$C$8:$AK$8,\"N\"))","v":""},{"$f":"IF(ISBLANK('Data Input'!A758),\"\",SUM('Data Input'!G758,'Data Input'!I758,'Data Input'!L758,'Data Input'!N758,'Data Input'!O758,'Data Input'!S758,'Data Input'!Z758,'Data Input'!AA758,'Data Input'!AB758,'Data Input'!AC758,'Data Input'!AE758,'Data Input'!AF758,'Data Input'!AG758,'Data Input'!AI758,'Data Input'!AK758))","v":""},{"$f":"IF(I753=\"\",\"\",I753/COUNTIF('Data Input'!$C$8:$AK$8,\"C\"))","v":""},{"$f":"IF(ISBLANK('Data Input'!A758),\"\",SUM('Data Input'!T758,'Data Input'!U758))","v":""},{"$f":"IF(K753=\"\",\"\",K753/COUNTIF('Data Input'!$C$8:$AK$8,\"S\"))","v":""},{"$f":"IF(ISBLANK('Data Input'!A758),\"\",SUM('Data Input'!F758,'Data Input'!R758,'Data Input'!AJ758))","v":""},{"$f":"IF(M753=\"\",\"\",M753/COUNTIF('Data Input'!$C$8:$AK$8,\"F\"))","v":""},{"$f":"IF(ISBLANK('Data Input'!A758),\"\",SUM('Data Input'!E758,'Data Input'!M758,'Data Input'!Q758,'Data Input'!V758,'Data Input'!W758,'Data Input'!AD758,'Data Input'!AH758))","v":""},{"$f":"IF(O753=\"\",\"\",O753/COUNTIF('Data Input'!$C$8:$AK$8,\"M\"))","v":""},{"$f":"IF(ISBLANK('Data Input'!A758),\"\",SUM('Data Input'!H758,'Data Input'!K758,'Data Input'!P758,'Data Input'!Y758))","v":""},{"$f":"IF(Q753=\"\",\"\",Q753/COUNTIF('Data Input'!$C$8:$AK$8,\"G\"))","v":""}]
[{"$f":"IF('Data Input'!A759=0,\"\",'Data Input'!A759)","v":""},{"$f":"IF(ISBLANK('Data Input'!A759),\"\",COUNTIF('Data Input'!C759:AK759,\"\"))","v":""},{"$f":"IF(ISBLANK('Data Input'!A759),\"\",COUNTIF('Data Input'!C759:AK759,\"0\"))","v":""},{"$f":"IF(ISBLANK('Data Input'!A759),\"\",SUM(B754,C754))","v":""},{"$f":"IF(ISBLANK('Data Input'!A759),\"\",SUM('Data Input'!C759:AK759))","v":""},{"$f":"IF(E754=\"\",\"\",E754/(COUNTA('Data Input'!$C$8:$AK$8)))","v":""},{"$f":"IF(ISBLANK('Data Input'!A759),\"\",SUM('Data Input'!C759,'Data Input'!D759,'Data Input'!J759,'Data Input'!X759))","v":""},{"$f":"IF(G754=\"\",\"\",G754/COUNTIF('Data Input'!$C$8:$AK$8,\"N\"))","v":""},{"$f":"IF(ISBLANK('Data Input'!A759),\"\",SUM('Data Input'!G759,'Data Input'!I759,'Data Input'!L759,'Data Input'!N759,'Data Input'!O759,'Data Input'!S759,'Data Input'!Z759,'Data Input'!AA759,'Data Input'!AB759,'Data Input'!AC759,'Data Input'!AE759,'Data Input'!AF759,'Data Input'!AG759,'Data Input'!AI759,'Data Input'!AK759))","v":""},{"$f":"IF(I754=\"\",\"\",I754/COUNTIF('Data Input'!$C$8:$AK$8,\"C\"))","v":""},{"$f":"IF(ISBLANK('Data Input'!A759),\"\",SUM('Data Input'!T759,'Data Input'!U759))","v":""},{"$f":"IF(K754=\"\",\"\",K754/COUNTIF('Data Input'!$C$8:$AK$8,\"S\"))","v":""},{"$f":"IF(ISBLANK('Data Input'!A759),\"\",SUM('Data Input'!F759,'Data Input'!R759,'Data Input'!AJ759))","v":""},{"$f":"IF(M754=\"\",\"\",M754/COUNTIF('Data Input'!$C$8:$AK$8,\"F\"))","v":""},{"$f":"IF(ISBLANK('Data Input'!A759),\"\",SUM('Data Input'!E759,'Data Input'!M759,'Data Input'!Q759,'Data Input'!V759,'Data Input'!W759,'Data Input'!AD759,'Data Input'!AH759))","v":""},{"$f":"IF(O754=\"\",\"\",O754/COUNTIF('Data Input'!$C$8:$AK$8,\"M\"))","v":""},{"$f":"IF(ISBLANK('Data Input'!A759),\"\",SUM('Data Input'!H759,'Data Input'!K759,'Data Input'!P759,'Data Input'!Y759))","v":""},{"$f":"IF(Q754=\"\",\"\",Q754/COUNTIF('Data Input'!$C$8:$AK$8,\"G\"))","v":""}]
[{"$f":"IF('Data Input'!A760=0,\"\",'Data Input'!A760)","v":""},{"$f":"IF(ISBLANK('Data Input'!A760),\"\",COUNTIF('Data Input'!C760:AK760,\"\"))","v":""},{"$f":"IF(ISBLANK('Data Input'!A760),\"\",COUNTIF('Data Input'!C760:AK760,\"0\"))","v":""},{"$f":"IF(ISBLANK('Data Input'!A760),\"\",SUM(B755,C755))","v":""},{"$f":"IF(ISBLANK('Data Input'!A760),\"\",SUM('Data Input'!C760:AK760))","v":""},{"$f":"IF(E755=\"\",\"\",E755/(COUNTA('Data Input'!$C$8:$AK$8)))","v":""},{"$f":"IF(ISBLANK('Data Input'!A760),\"\",SUM('Data Input'!C760,'Data Input'!D760,'Data Input'!J760,'Data Input'!X760))","v":""},{"$f":"IF(G755=\"\",\"\",G755/COUNTIF('Data Input'!$C$8:$AK$8,\"N\"))","v":""},{"$f":"IF(ISBLANK('Data Input'!A760),\"\",SUM('Data Input'!G760,'Data Input'!I760,'Data Input'!L760,'Data Input'!N760,'Data Input'!O760,'Data Input'!S760,'Data Input'!Z760,'Data Input'!AA760,'Data Input'!AB760,'Data Input'!AC760,'Data Input'!AE760,'Data Input'!AF760,'Data Input'!AG760,'Data Input'!AI760,'Data Input'!AK760))","v":""},{"$f":"IF(I755=\"\",\"\",I755/COUNTIF('Data Input'!$C$8:$AK$8,\"C\"))","v":""},{"$f":"IF(ISBLANK('Data Input'!A760),\"\",SUM('Data Input'!T760,'Data Input'!U760))","v":""},{"$f":"IF(K755=\"\",\"\",K755/COUNTIF('Data Input'!$C$8:$AK$8,\"S\"))","v":""},{"$f":"IF(ISBLANK('Data Input'!A760),\"\",SUM('Data Input'!F760,'Data Input'!R760,'Data Input'!AJ760))","v":""},{"$f":"IF(M755=\"\",\"\",M755/COUNTIF('Data Input'!$C$8:$AK$8,\"F\"))","v":""},{"$f":"IF(ISBLANK('Data Input'!A760),\"\",SUM('Data Input'!E760,'Data Input'!M760,'Data Input'!Q760,'Data Input'!V760,'Data Input'!W760,'Data Input'!AD760,'Data Input'!AH760))","v":""},{"$f":"IF(O755=\"\",\"\",O755/COUNTIF('Data Input'!$C$8:$AK$8,\"M\"))","v":""},{"$f":"IF(ISBLANK('Data Input'!A760),\"\",SUM('Data Input'!H760,'Data Input'!K760,'Data Input'!P760,'Data Input'!Y760))","v":""},{"$f":"IF(Q755=\"\",\"\",Q755/COUNTIF('Data Input'!$C$8:$AK$8,\"G\"))","v":""}]
[{"$f":"IF('Data Input'!A761=0,\"\",'Data Input'!A761)","v":""},{"$f":"IF(ISBLANK('Data Input'!A761),\"\",COUNTIF('Data Input'!C761:AK761,\"\"))","v":""},{"$f":"IF(ISBLANK('Data Input'!A761),\"\",COUNTIF('Data Input'!C761:AK761,\"0\"))","v":""},{"$f":"IF(ISBLANK('Data Input'!A761),\"\",SUM(B756,C756))","v":""},{"$f":"IF(ISBLANK('Data Input'!A761),\"\",SUM('Data Input'!C761:AK761))","v":""},{"$f":"IF(E756=\"\",\"\",E756/(COUNTA('Data Input'!$C$8:$AK$8)))","v":""},{"$f":"IF(ISBLANK('Data Input'!A761),\"\",SUM('Data Input'!C761,'Data Input'!D761,'Data Input'!J761,'Data Input'!X761))","v":""},{"$f":"IF(G756=\"\",\"\",G756/COUNTIF('Data Input'!$C$8:$AK$8,\"N\"))","v":""},{"$f":"IF(ISBLANK('Data Input'!A761),\"\",SUM('Data Input'!G761,'Data Input'!I761,'Data Input'!L761,'Data Input'!N761,'Data Input'!O761,'Data Input'!S761,'Data Input'!Z761,'Data Input'!AA761,'Data Input'!AB761,'Data Input'!AC761,'Data Input'!AE761,'Data Input'!AF761,'Data Input'!AG761,'Data Input'!AI761,'Data Input'!AK761))","v":""},{"$f":"IF(I756=\"\",\"\",I756/COUNTIF('Data Input'!$C$8:$AK$8,\"C\"))","v":""},{"$f":"IF(ISBLANK('Data Input'!A761),\"\",SUM('Data Input'!T761,'Data Input'!U761))","v":""},{"$f":"IF(K756=\"\",\"\",K756/COUNTIF('Data Input'!$C$8:$AK$8,\"S\"))","v":""},{"$f":"IF(ISBLANK('Data Input'!A761),\"\",SUM('Data Input'!F761,'Data Input'!R761,'Data Input'!AJ761))","v":""},{"$f":"IF(M756=\"\",\"\",M756/COUNTIF('Data Input'!$C$8:$AK$8,\"F\"))","v":""},{"$f":"IF(ISBLANK('Data Input'!A761),\"\",SUM('Data Input'!E761,'Data Input'!M761,'Data Input'!Q761,'Data Input'!V761,'Data Input'!W761,'Data Input'!AD761,'Data Input'!AH761))","v":""},{"$f":"IF(O756=\"\",\"\",O756/COUNTIF('Data Input'!$C$8:$AK$8,\"M\"))","v":""},{"$f":"IF(ISBLANK('Data Input'!A761),\"\",SUM('Data Input'!H761,'Data Input'!K761,'Data Input'!P761,'Data Input'!Y761))","v":""},{"$f":"IF(Q756=\"\",\"\",Q756/COUNTIF('Data Input'!$C$8:$AK$8,\"G\"))","v":""}]
[{"$f":"IF('Data Input'!A762=0,\"\",'Data Input'!A762)","v":""},{"$f":"IF(ISBLANK('Data Input'!A762),\"\",COUNTIF('Data Input'!C762:AK762,\"\"))","v":""},{"$f":"IF(ISBLANK('Data Input'!A762),\"\",COUNTIF('Data Input'!C762:AK762,\"0\"))","v":""},{"$f":"IF(ISBLANK('Data Input'!A762),\"\",SUM(B757,C757))","v":""},{"$f":"IF(ISBLANK('Data Input'!A762),\"\",SUM('Data Input'!C762:AK762))","v":""},{"$f":"IF(E757=\"\",\"\",E757/(COUNTA('Data Input'!$C$8:$AK$8)))","v":""},{"$f":"IF(ISBLANK('Data Input'!A762),\"\",SUM('Data Input'!C762,'Data Input'!D762,'Data Input'!J762,'Data Input'!X762))","v":""},{"$f":"IF(G757=\"\",\"\",G757/COUNTIF('Data Input'!$C$8:$AK$8,\"N\"))","v":""},{"$f":"IF(ISBLANK('Data Input'!A762),\"\",SUM('Data Input'!G762,'Data Input'!I762,'Data Input'!L762,'Data Input'!N762,'Data Input'!O762,'Data Input'!S762,'Data Input'!Z762,'Data Input'!AA762,'Data Input'!AB762,'Data Input'!AC762,'Data Input'!AE762,'Data Input'!AF762,'Data Input'!AG762,'Data Input'!AI762,'Data Input'!AK762))","v":""},{"$f":"IF(I757=\"\",\"\",I757/COUNTIF('Data Input'!$C$8:$AK$8,\"C\"))","v":""},{"$f":"IF(ISBLANK('Data Input'!A762),\"\",SUM('Data Input'!T762,'Data Input'!U762))","v":""},{"$f":"IF(K757=\"\",\"\",K757/COUNTIF('Data Input'!$C$8:$AK$8,\"S\"))","v":""},{"$f":"IF(ISBLANK('Data Input'!A762),\"\",SUM('Data Input'!F762,'Data Input'!R762,'Data Input'!AJ762))","v":""},{"$f":"IF(M757=\"\",\"\",M757/COUNTIF('Data Input'!$C$8:$AK$8,\"F\"))","v":""},{"$f":"IF(ISBLANK('Data Input'!A762),\"\",SUM('Data Input'!E762,'Data Input'!M762,'Data Input'!Q762,'Data Input'!V762,'Data Input'!W762,'Data Input'!AD762,'Data Input'!AH762))","v":""},{"$f":"IF(O757=\"\",\"\",O757/COUNTIF('Data Input'!$C$8:$AK$8,\"M\"))","v":""},{"$f":"IF(ISBLANK('Data Input'!A762),\"\",SUM('Data Input'!H762,'Data Input'!K762,'Data Input'!P762,'Data Input'!Y762))","v":""},{"$f":"IF(Q757=\"\",\"\",Q757/COUNTIF('Data Input'!$C$8:$AK$8,\"G\"))","v":""}]
[{"$f":"IF('Data Input'!A763=0,\"\",'Data Input'!A763)","v":""},{"$f":"IF(ISBLANK('Data Input'!A763),\"\",COUNTIF('Data Input'!C763:AK763,\"\"))","v":""},{"$f":"IF(ISBLANK('Data Input'!A763),\"\",COUNTIF('Data Input'!C763:AK763,\"0\"))","v":""},{"$f":"IF(ISBLANK('Data Input'!A763),\"\",SUM(B758,C758))","v":""},{"$f":"IF(ISBLANK('Data Input'!A763),\"\",SUM('Data Input'!C763:AK763))","v":""},{"$f":"IF(E758=\"\",\"\",E758/(COUNTA('Data Input'!$C$8:$AK$8)))","v":""},{"$f":"IF(ISBLANK('Data Input'!A763),\"\",SUM('Data Input'!C763,'Data Input'!D763,'Data Input'!J763,'Data Input'!X763))","v":""},{"$f":"IF(G758=\"\",\"\",G758/COUNTIF('Data Input'!$C$8:$AK$8,\"N\"))","v":""},{"$f":"IF(ISBLANK('Data Input'!A763),\"\",SUM('Data Input'!G763,'Data Input'!I763,'Data Input'!L763,'Data Input'!N763,'Data Input'!O763,'Data Input'!S763,'Data Input'!Z763,'Data Input'!AA763,'Data Input'!AB763,'Data Input'!AC763,'Data Input'!AE763,'Data Input'!AF763,'Data Input'!AG763,'Data Input'!AI763,'Data Input'!AK763))","v":""},{"$f":"IF(I758=\"\",\"\",I758/COUNTIF('Data Input'!$C$8:$AK$8,\"C\"))","v":""},{"$f":"IF(ISBLANK('Data Input'!A763),\"\",SUM('Data Input'!T763,'Data Input'!U763))","v":""},{"$f":"IF(K758=\"\",\"\",K758/COUNTIF('Data Input'!$C$8:$AK$8,\"S\"))","v":""},{"$f":"IF(ISBLANK('Data Input'!A763),\"\",SUM('Data Input'!F763,'Data Input'!R763,'Data Input'!AJ763))","v":""},{"$f":"IF(M758=\"\",\"\",M758/COUNTIF('Data Input'!$C$8:$AK$8,\"F\"))","v":""},{"$f":"IF(ISBLANK('Data Input'!A763),\"\",SUM('Data Input'!E763,'Data Input'!M763,'Data Input'!Q763,'Data Input'!V763,'Data Input'!W763,'Data Input'!AD763,'Data Input'!AH763))","v":""},{"$f":"IF(O758=\"\",\"\",O758/COUNTIF('Data Input'!$C$8:$AK$8,\"M\"))","v":""},{"$f":"IF(ISBLANK('Data Input'!A763),\"\",SUM('Data Input'!H763,'Data Input'!K763,'Data Input'!P763,'Data Input'!Y763))","v":""},{"$f":"IF(Q758=\"\",\"\",Q758/COUNTIF('Data Input'!$C$8:$AK$8,\"G\"))","v":""}]
[{"$f":"IF('Data Input'!A764=0,\"\",'Data Input'!A764)","v":""},{"$f":"IF(ISBLANK('Data Input'!A764),\"\",COUNTIF('Data Input'!C764:AK764,\"\"))","v":""},{"$f":"IF(ISBLANK('Data Input'!A764),\"\",COUNTIF('Data Input'!C764:AK764,\"0\"))","v":""},{"$f":"IF(ISBLANK('Data Input'!A764),\"\",SUM(B759,C759))","v":""},{"$f":"IF(ISBLANK('Data Input'!A764),\"\",SUM('Data Input'!C764:AK764))","v":""},{"$f":"IF(E759=\"\",\"\",E759/(COUNTA('Data Input'!$C$8:$AK$8)))","v":""},{"$f":"IF(ISBLANK('Data Input'!A764),\"\",SUM('Data Input'!C764,'Data Input'!D764,'Data Input'!J764,'Data Input'!X764))","v":""},{"$f":"IF(G759=\"\",\"\",G759/COUNTIF('Data Input'!$C$8:$AK$8,\"N\"))","v":""},{"$f":"IF(ISBLANK('Data Input'!A764),\"\",SUM('Data Input'!G764,'Data Input'!I764,'Data Input'!L764,'Data Input'!N764,'Data Input'!O764,'Data Input'!S764,'Data Input'!Z764,'Data Input'!AA764,'Data Input'!AB764,'Data Input'!AC764,'Data Input'!AE764,'Data Input'!AF764,'Data Input'!AG764,'Data Input'!AI764,'Data Input'!AK764))","v":""},{"$f":"IF(I759=\"\",\"\",I759/COUNTIF('Data Input'!$C$8:$AK$8,\"C\"))","v":""},{"$f":"IF(ISBLANK('Data Input'!A764),\"\",SUM('Data Input'!T764,'Data Input'!U764))","v":""},{"$f":"IF(K759=\"\",\"\",K759/COUNTIF('Data Input'!$C$8:$AK$8,\"S\"))","v":""},{"$f":"IF(ISBLANK('Data Input'!A764),\"\",SUM('Data Input'!F764,'Data Input'!R764,'Data Input'!AJ764))","v":""},{"$f":"IF(M759=\"\",\"\",M759/COUNTIF('Data Input'!$C$8:$AK$8,\"F\"))","v":""},{"$f":"IF(ISBLANK('Data Input'!A764),\"\",SUM('Data Input'!E764,'Data Input'!M764,'Data Input'!Q764,'Data Input'!V764,'Data Input'!W764,'Data Input'!AD764,'Data Input'!AH764))","v":""},{"$f":"IF(O759=\"\",\"\",O759/COUNTIF('Data Input'!$C$8:$AK$8,\"M\"))","v":""},{"$f":"IF(ISBLANK('Data Input'!A764),\"\",SUM('Data Input'!H764,'Data Input'!K764,'Data Input'!P764,'Data Input'!Y764))","v":""},{"$f":"IF(Q759=\"\",\"\",Q759/COUNTIF('Data Input'!$C$8:$AK$8,\"G\"))","v":""}]
[{"$f":"IF('Data Input'!A765=0,\"\",'Data Input'!A765)","v":""},{"$f":"IF(ISBLANK('Data Input'!A765),\"\",COUNTIF('Data Input'!C765:AK765,\"\"))","v":""},{"$f":"IF(ISBLANK('Data Input'!A765),\"\",COUNTIF('Data Input'!C765:AK765,\"0\"))","v":""},{"$f":"IF(ISBLANK('Data Input'!A765),\"\",SUM(B760,C760))","v":""},{"$f":"IF(ISBLANK('Data Input'!A765),\"\",SUM('Data Input'!C765:AK765))","v":""},{"$f":"IF(E760=\"\",\"\",E760/(COUNTA('Data Input'!$C$8:$AK$8)))","v":""},{"$f":"IF(ISBLANK('Data Input'!A765),\"\",SUM('Data Input'!C765,'Data Input'!D765,'Data Input'!J765,'Data Input'!X765))","v":""},{"$f":"IF(G760=\"\",\"\",G760/COUNTIF('Data Input'!$C$8:$AK$8,\"N\"))","v":""},{"$f":"IF(ISBLANK('Data Input'!A765),\"\",SUM('Data Input'!G765,'Data Input'!I765,'Data Input'!L765,'Data Input'!N765,'Data Input'!O765,'Data Input'!S765,'Data Input'!Z765,'Data Input'!AA765,'Data Input'!AB765,'Data Input'!AC765,'Data Input'!AE765,'Data Input'!AF765,'Data Input'!AG765,'Data Input'!AI765,'Data Input'!AK765))","v":""},{"$f":"IF(I760=\"\",\"\",I760/COUNTIF('Data Input'!$C$8:$AK$8,\"C\"))","v":""},{"$f":"IF(ISBLANK('Data Input'!A765),\"\",SUM('Data Input'!T765,'Data Input'!U765))","v":""},{"$f":"IF(K760=\"\",\"\",K760/COUNTIF('Data Input'!$C$8:$AK$8,\"S\"))","v":""},{"$f":"IF(ISBLANK('Data Input'!A765),\"\",SUM('Data Input'!F765,'Data Input'!R765,'Data Input'!AJ765))","v":""},{"$f":"IF(M760=\"\",\"\",M760/COUNTIF('Data Input'!$C$8:$AK$8,\"F\"))","v":""},{"$f":"IF(ISBLANK('Data Input'!A765),\"\",SUM('Data Input'!E765,'Data Input'!M765,'Data Input'!Q765,'Data Input'!V765,'Data Input'!W765,'Data Input'!AD765,'Data Input'!AH765))","v":""},{"$f":"IF(O760=\"\",\"\",O760/COUNTIF('Data Input'!$C$8:$AK$8,\"M\"))","v":""},{"$f":"IF(ISBLANK('Data Input'!A765),\"\",SUM('Data Input'!H765,'Data Input'!K765,'Data Input'!P765,'Data Input'!Y765))","v":""},{"$f":"IF(Q760=\"\",\"\",Q760/COUNTIF('Data Input'!$C$8:$AK$8,\"G\"))","v":""}]
[{"$f":"IF('Data Input'!A766=0,\"\",'Data Input'!A766)","v":""},{"$f":"IF(ISBLANK('Data Input'!A766),\"\",COUNTIF('Data Input'!C766:AK766,\"\"))","v":""},{"$f":"IF(ISBLANK('Data Input'!A766),\"\",COUNTIF('Data Input'!C766:AK766,\"0\"))","v":""},{"$f":"IF(ISBLANK('Data Input'!A766),\"\",SUM(B761,C761))","v":""},{"$f":"IF(ISBLANK('Data Input'!A766),\"\",SUM('Data Input'!C766:AK766))","v":""},{"$f":"IF(E761=\"\",\"\",E761/(COUNTA('Data Input'!$C$8:$AK$8)))","v":""},{"$f":"IF(ISBLANK('Data Input'!A766),\"\",SUM('Data Input'!C766,'Data Input'!D766,'Data Input'!J766,'Data Input'!X766))","v":""},{"$f":"IF(G761=\"\",\"\",G761/COUNTIF('Data Input'!$C$8:$AK$8,\"N\"))","v":""},{"$f":"IF(ISBLANK('Data Input'!A766),\"\",SUM('Data Input'!G766,'Data Input'!I766,'Data Input'!L766,'Data Input'!N766,'Data Input'!O766,'Data Input'!S766,'Data Input'!Z766,'Data Input'!AA766,'Data Input'!AB766,'Data Input'!AC766,'Data Input'!AE766,'Data Input'!AF766,'Data Input'!AG766,'Data Input'!AI766,'Data Input'!AK766))","v":""},{"$f":"IF(I761=\"\",\"\",I761/COUNTIF('Data Input'!$C$8:$AK$8,\"C\"))","v":""},{"$f":"IF(ISBLANK('Data Input'!A766),\"\",SUM('Data Input'!T766,'Data Input'!U766))","v":""},{"$f":"IF(K761=\"\",\"\",K761/COUNTIF('Data Input'!$C$8:$AK$8,\"S\"))","v":""},{"$f":"IF(ISBLANK('Data Input'!A766),\"\",SUM('Data Input'!F766,'Data Input'!R766,'Data Input'!AJ766))","v":""},{"$f":"IF(M761=\"\",\"\",M761/COUNTIF('Data Input'!$C$8:$AK$8,\"F\"))","v":""},{"$f":"IF(ISBLANK('Data Input'!A766),\"\",SUM('Data Input'!E766,'Data Input'!M766,'Data Input'!Q766,'Data Input'!V766,'Data Input'!W766,'Data Input'!AD766,'Data Input'!AH766))","v":""},{"$f":"IF(O761=\"\",\"\",O761/COUNTIF('Data Input'!$C$8:$AK$8,\"M\"))","v":""},{"$f":"IF(ISBLANK('Data Input'!A766),\"\",SUM('Data Input'!H766,'Data Input'!K766,'Data Input'!P766,'Data Input'!Y766))","v":""},{"$f":"IF(Q761=\"\",\"\",Q761/COUNTIF('Data Input'!$C$8:$AK$8,\"G\"))","v":""}]
[{"$f":"IF('Data Input'!A767=0,\"\",'Data Input'!A767)","v":""},{"$f":"IF(ISBLANK('Data Input'!A767),\"\",COUNTIF('Data Input'!C767:AK767,\"\"))","v":""},{"$f":"IF(ISBLANK('Data Input'!A767),\"\",COUNTIF('Data Input'!C767:AK767,\"0\"))","v":""},{"$f":"IF(ISBLANK('Data Input'!A767),\"\",SUM(B762,C762))","v":""},{"$f":"IF(ISBLANK('Data Input'!A767),\"\",SUM('Data Input'!C767:AK767))","v":""},{"$f":"IF(E762=\"\",\"\",E762/(COUNTA('Data Input'!$C$8:$AK$8)))","v":""},{"$f":"IF(ISBLANK('Data Input'!A767),\"\",SUM('Data Input'!C767,'Data Input'!D767,'Data Input'!J767,'Data Input'!X767))","v":""},{"$f":"IF(G762=\"\",\"\",G762/COUNTIF('Data Input'!$C$8:$AK$8,\"N\"))","v":""},{"$f":"IF(ISBLANK('Data Input'!A767),\"\",SUM('Data Input'!G767,'Data Input'!I767,'Data Input'!L767,'Data Input'!N767,'Data Input'!O767,'Data Input'!S767,'Data Input'!Z767,'Data Input'!AA767,'Data Input'!AB767,'Data Input'!AC767,'Data Input'!AE767,'Data Input'!AF767,'Data Input'!AG767,'Data Input'!AI767,'Data Input'!AK767))","v":""},{"$f":"IF(I762=\"\",\"\",I762/COUNTIF('Data Input'!$C$8:$AK$8,\"C\"))","v":""},{"$f":"IF(ISBLANK('Data Input'!A767),\"\",SUM('Data Input'!T767,'Data Input'!U767))","v":""},{"$f":"IF(K762=\"\",\"\",K762/COUNTIF('Data Input'!$C$8:$AK$8,\"S\"))","v":""},{"$f":"IF(ISBLANK('Data Input'!A767),\"\",SUM('Data Input'!F767,'Data Input'!R767,'Data Input'!AJ767))","v":""},{"$f":"IF(M762=\"\",\"\",M762/COUNTIF('Data Input'!$C$8:$AK$8,\"F\"))","v":""},{"$f":"IF(ISBLANK('Data Input'!A767),\"\",SUM('Data Input'!E767,'Data Input'!M767,'Data Input'!Q767,'Data Input'!V767,'Data Input'!W767,'Data Input'!AD767,'Data Input'!AH767))","v":""},{"$f":"IF(O762=\"\",\"\",O762/COUNTIF('Data Input'!$C$8:$AK$8,\"M\"))","v":""},{"$f":"IF(ISBLANK('Data Input'!A767),\"\",SUM('Data Input'!H767,'Data Input'!K767,'Data Input'!P767,'Data Input'!Y767))","v":""},{"$f":"IF(Q762=\"\",\"\",Q762/COUNTIF('Data Input'!$C$8:$AK$8,\"G\"))","v":""}]
[{"$f":"IF('Data Input'!A768=0,\"\",'Data Input'!A768)","v":""},{"$f":"IF(ISBLANK('Data Input'!A768),\"\",COUNTIF('Data Input'!C768:AK768,\"\"))","v":""},{"$f":"IF(ISBLANK('Data Input'!A768),\"\",COUNTIF('Data Input'!C768:AK768,\"0\"))","v":""},{"$f":"IF(ISBLANK('Data Input'!A768),\"\",SUM(B763,C763))","v":""},{"$f":"IF(ISBLANK('Data Input'!A768),\"\",SUM('Data Input'!C768:AK768))","v":""},{"$f":"IF(E763=\"\",\"\",E763/(COUNTA('Data Input'!$C$8:$AK$8)))","v":""},{"$f":"IF(ISBLANK('Data Input'!A768),\"\",SUM('Data Input'!C768,'Data Input'!D768,'Data Input'!J768,'Data Input'!X768))","v":""},{"$f":"IF(G763=\"\",\"\",G763/COUNTIF('Data Input'!$C$8:$AK$8,\"N\"))","v":""},{"$f":"IF(ISBLANK('Data Input'!A768),\"\",SUM('Data Input'!G768,'Data Input'!I768,'Data Input'!L768,'Data Input'!N768,'Data Input'!O768,'Data Input'!S768,'Data Input'!Z768,'Data Input'!AA768,'Data Input'!AB768,'Data Input'!AC768,'Data Input'!AE768,'Data Input'!AF768,'Data Input'!AG768,'Data Input'!AI768,'Data Input'!AK768))","v":""},{"$f":"IF(I763=\"\",\"\",I763/COUNTIF('Data Input'!$C$8:$AK$8,\"C\"))","v":""},{"$f":"IF(ISBLANK('Data Input'!A768),\"\",SUM('Data Input'!T768,'Data Input'!U768))","v":""},{"$f":"IF(K763=\"\",\"\",K763/COUNTIF('Data Input'!$C$8:$AK$8,\"S\"))","v":""},{"$f":"IF(ISBLANK('Data Input'!A768),\"\",SUM('Data Input'!F768,'Data Input'!R768,'Data Input'!AJ768))","v":""},{"$f":"IF(M763=\"\",\"\",M763/COUNTIF('Data Input'!$C$8:$AK$8,\"F\"))","v":""},{"$f":"IF(ISBLANK('Data Input'!A768),\"\",SUM('Data Input'!E768,'Data Input'!M768,'Data Input'!Q768,'Data Input'!V768,'Data Input'!W768,'Data Input'!AD768,'Data Input'!AH768))","v":""},{"$f":"IF(O763=\"\",\"\",O763/COUNTIF('Data Input'!$C$8:$AK$8,\"M\"))","v":""},{"$f":"IF(ISBLANK('Data Input'!A768),\"\",SUM('Data Input'!H768,'Data Input'!K768,'Data Input'!P768,'Data Input'!Y768))","v":""},{"$f":"IF(Q763=\"\",\"\",Q763/COUNTIF('Data Input'!$C$8:$AK$8,\"G\"))","v":""}]
[{"$f":"IF('Data Input'!A769=0,\"\",'Data Input'!A769)","v":""},{"$f":"IF(ISBLANK('Data Input'!A769),\"\",COUNTIF('Data Input'!C769:AK769,\"\"))","v":""},{"$f":"IF(ISBLANK('Data Input'!A769),\"\",COUNTIF('Data Input'!C769:AK769,\"0\"))","v":""},{"$f":"IF(ISBLANK('Data Input'!A769),\"\",SUM(B764,C764))","v":""},{"$f":"IF(ISBLANK('Data Input'!A769),\"\",SUM('Data Input'!C769:AK769))","v":""},{"$f":"IF(E764=\"\",\"\",E764/(COUNTA('Data Input'!$C$8:$AK$8)))","v":""},{"$f":"IF(ISBLANK('Data Input'!A769),\"\",SUM('Data Input'!C769,'Data Input'!D769,'Data Input'!J769,'Data Input'!X769))","v":""},{"$f":"IF(G764=\"\",\"\",G764/COUNTIF('Data Input'!$C$8:$AK$8,\"N\"))","v":""},{"$f":"IF(ISBLANK('Data Input'!A769),\"\",SUM('Data Input'!G769,'Data Input'!I769,'Data Input'!L769,'Data Input'!N769,'Data Input'!O769,'Data Input'!S769,'Data Input'!Z769,'Data Input'!AA769,'Data Input'!AB769,'Data Input'!AC769,'Data Input'!AE769,'Data Input'!AF769,'Data Input'!AG769,'Data Input'!AI769,'Data Input'!AK769))","v":""},{"$f":"IF(I764=\"\",\"\",I764/COUNTIF('Data Input'!$C$8:$AK$8,\"C\"))","v":""},{"$f":"IF(ISBLANK('Data Input'!A769),\"\",SUM('Data Input'!T769,'Data Input'!U769))","v":""},{"$f":"IF(K764=\"\",\"\",K764/COUNTIF('Data Input'!$C$8:$AK$8,\"S\"))","v":""},{"$f":"IF(ISBLANK('Data Input'!A769),\"\",SUM('Data Input'!F769,'Data Input'!R769,'Data Input'!AJ769))","v":""},{"$f":"IF(M764=\"\",\"\",M764/COUNTIF('Data Input'!$C$8:$AK$8,\"F\"))","v":""},{"$f":"IF(ISBLANK('Data Input'!A769),\"\",SUM('Data Input'!E769,'Data Input'!M769,'Data Input'!Q769,'Data Input'!V769,'Data Input'!W769,'Data Input'!AD769,'Data Input'!AH769))","v":""},{"$f":"IF(O764=\"\",\"\",O764/COUNTIF('Data Input'!$C$8:$AK$8,\"M\"))","v":""},{"$f":"IF(ISBLANK('Data Input'!A769),\"\",SUM('Data Input'!H769,'Data Input'!K769,'Data Input'!P769,'Data Input'!Y769))","v":""},{"$f":"IF(Q764=\"\",\"\",Q764/COUNTIF('Data Input'!$C$8:$AK$8,\"G\"))","v":""}]
[{"$f":"IF('Data Input'!A770=0,\"\",'Data Input'!A770)","v":""},{"$f":"IF(ISBLANK('Data Input'!A770),\"\",COUNTIF('Data Input'!C770:AK770,\"\"))","v":""},{"$f":"IF(ISBLANK('Data Input'!A770),\"\",COUNTIF('Data Input'!C770:AK770,\"0\"))","v":""},{"$f":"IF(ISBLANK('Data Input'!A770),\"\",SUM(B765,C765))","v":""},{"$f":"IF(ISBLANK('Data Input'!A770),\"\",SUM('Data Input'!C770:AK770))","v":""},{"$f":"IF(E765=\"\",\"\",E765/(COUNTA('Data Input'!$C$8:$AK$8)))","v":""},{"$f":"IF(ISBLANK('Data Input'!A770),\"\",SUM('Data Input'!C770,'Data Input'!D770,'Data Input'!J770,'Data Input'!X770))","v":""},{"$f":"IF(G765=\"\",\"\",G765/COUNTIF('Data Input'!$C$8:$AK$8,\"N\"))","v":""},{"$f":"IF(ISBLANK('Data Input'!A770),\"\",SUM('Data Input'!G770,'Data Input'!I770,'Data Input'!L770,'Data Input'!N770,'Data Input'!O770,'Data Input'!S770,'Data Input'!Z770,'Data Input'!AA770,'Data Input'!AB770,'Data Input'!AC770,'Data Input'!AE770,'Data Input'!AF770,'Data Input'!AG770,'Data Input'!AI770,'Data Input'!AK770))","v":""},{"$f":"IF(I765=\"\",\"\",I765/COUNTIF('Data Input'!$C$8:$AK$8,\"C\"))","v":""},{"$f":"IF(ISBLANK('Data Input'!A770),\"\",SUM('Data Input'!T770,'Data Input'!U770))","v":""},{"$f":"IF(K765=\"\",\"\",K765/COUNTIF('Data Input'!$C$8:$AK$8,\"S\"))","v":""},{"$f":"IF(ISBLANK('Data Input'!A770),\"\",SUM('Data Input'!F770,'Data Input'!R770,'Data Input'!AJ770))","v":""},{"$f":"IF(M765=\"\",\"\",M765/COUNTIF('Data Input'!$C$8:$AK$8,\"F\"))","v":""},{"$f":"IF(ISBLANK('Data Input'!A770),\"\",SUM('Data Input'!E770,'Data Input'!M770,'Data Input'!Q770,'Data Input'!V770,'Data Input'!W770,'Data Input'!AD770,'Data Input'!AH770))","v":""},{"$f":"IF(O765=\"\",\"\",O765/COUNTIF('Data Input'!$C$8:$AK$8,\"M\"))","v":""},{"$f":"IF(ISBLANK('Data Input'!A770),\"\",SUM('Data Input'!H770,'Data Input'!K770,'Data Input'!P770,'Data Input'!Y770))","v":""},{"$f":"IF(Q765=\"\",\"\",Q765/COUNTIF('Data Input'!$C$8:$AK$8,\"G\"))","v":""}]
[{"$f":"IF('Data Input'!A771=0,\"\",'Data Input'!A771)","v":""},{"$f":"IF(ISBLANK('Data Input'!A771),\"\",COUNTIF('Data Input'!C771:AK771,\"\"))","v":""},{"$f":"IF(ISBLANK('Data Input'!A771),\"\",COUNTIF('Data Input'!C771:AK771,\"0\"))","v":""},{"$f":"IF(ISBLANK('Data Input'!A771),\"\",SUM(B766,C766))","v":""},{"$f":"IF(ISBLANK('Data Input'!A771),\"\",SUM('Data Input'!C771:AK771))","v":""},{"$f":"IF(E766=\"\",\"\",E766/(COUNTA('Data Input'!$C$8:$AK$8)))","v":""},{"$f":"IF(ISBLANK('Data Input'!A771),\"\",SUM('Data Input'!C771,'Data Input'!D771,'Data Input'!J771,'Data Input'!X771))","v":""},{"$f":"IF(G766=\"\",\"\",G766/COUNTIF('Data Input'!$C$8:$AK$8,\"N\"))","v":""},{"$f":"IF(ISBLANK('Data Input'!A771),\"\",SUM('Data Input'!G771,'Data Input'!I771,'Data Input'!L771,'Data Input'!N771,'Data Input'!O771,'Data Input'!S771,'Data Input'!Z771,'Data Input'!AA771,'Data Input'!AB771,'Data Input'!AC771,'Data Input'!AE771,'Data Input'!AF771,'Data Input'!AG771,'Data Input'!AI771,'Data Input'!AK771))","v":""},{"$f":"IF(I766=\"\",\"\",I766/COUNTIF('Data Input'!$C$8:$AK$8,\"C\"))","v":""},{"$f":"IF(ISBLANK('Data Input'!A771),\"\",SUM('Data Input'!T771,'Data Input'!U771))","v":""},{"$f":"IF(K766=\"\",\"\",K766/COUNTIF('Data Input'!$C$8:$AK$8,\"S\"))","v":""},{"$f":"IF(ISBLANK('Data Input'!A771),\"\",SUM('Data Input'!F771,'Data Input'!R771,'Data Input'!AJ771))","v":""},{"$f":"IF(M766=\"\",\"\",M766/COUNTIF('Data Input'!$C$8:$AK$8,\"F\"))","v":""},{"$f":"IF(ISBLANK('Data Input'!A771),\"\",SUM('Data Input'!E771,'Data Input'!M771,'Data Input'!Q771,'Data Input'!V771,'Data Input'!W771,'Data Input'!AD771,'Data Input'!AH771))","v":""},{"$f":"IF(O766=\"\",\"\",O766/COUNTIF('Data Input'!$C$8:$AK$8,\"M\"))","v":""},{"$f":"IF(ISBLANK('Data Input'!A771),\"\",SUM('Data Input'!H771,'Data Input'!K771,'Data Input'!P771,'Data Input'!Y771))","v":""},{"$f":"IF(Q766=\"\",\"\",Q766/COUNTIF('Data Input'!$C$8:$AK$8,\"G\"))","v":""}]
[{"$f":"IF('Data Input'!A772=0,\"\",'Data Input'!A772)","v":""},{"$f":"IF(ISBLANK('Data Input'!A772),\"\",COUNTIF('Data Input'!C772:AK772,\"\"))","v":""},{"$f":"IF(ISBLANK('Data Input'!A772),\"\",COUNTIF('Data Input'!C772:AK772,\"0\"))","v":""},{"$f":"IF(ISBLANK('Data Input'!A772),\"\",SUM(B767,C767))","v":""},{"$f":"IF(ISBLANK('Data Input'!A772),\"\",SUM('Data Input'!C772:AK772))","v":""},{"$f":"IF(E767=\"\",\"\",E767/(COUNTA('Data Input'!$C$8:$AK$8)))","v":""},{"$f":"IF(ISBLANK('Data Input'!A772),\"\",SUM('Data Input'!C772,'Data Input'!D772,'Data Input'!J772,'Data Input'!X772))","v":""},{"$f":"IF(G767=\"\",\"\",G767/COUNTIF('Data Input'!$C$8:$AK$8,\"N\"))","v":""},{"$f":"IF(ISBLANK('Data Input'!A772),\"\",SUM('Data Input'!G772,'Data Input'!I772,'Data Input'!L772,'Data Input'!N772,'Data Input'!O772,'Data Input'!S772,'Data Input'!Z772,'Data Input'!AA772,'Data Input'!AB772,'Data Input'!AC772,'Data Input'!AE772,'Data Input'!AF772,'Data Input'!AG772,'Data Input'!AI772,'Data Input'!AK772))","v":""},{"$f":"IF(I767=\"\",\"\",I767/COUNTIF('Data Input'!$C$8:$AK$8,\"C\"))","v":""},{"$f":"IF(ISBLANK('Data Input'!A772),\"\",SUM('Data Input'!T772,'Data Input'!U772))","v":""},{"$f":"IF(K767=\"\",\"\",K767/COUNTIF('Data Input'!$C$8:$AK$8,\"S\"))","v":""},{"$f":"IF(ISBLANK('Data Input'!A772),\"\",SUM('Data Input'!F772,'Data Input'!R772,'Data Input'!AJ772))","v":""},{"$f":"IF(M767=\"\",\"\",M767/COUNTIF('Data Input'!$C$8:$AK$8,\"F\"))","v":""},{"$f":"IF(ISBLANK('Data Input'!A772),\"\",SUM('Data Input'!E772,'Data Input'!M772,'Data Input'!Q772,'Data Input'!V772,'Data Input'!W772,'Data Input'!AD772,'Data Input'!AH772))","v":""},{"$f":"IF(O767=\"\",\"\",O767/COUNTIF('Data Input'!$C$8:$AK$8,\"M\"))","v":""},{"$f":"IF(ISBLANK('Data Input'!A772),\"\",SUM('Data Input'!H772,'Data Input'!K772,'Data Input'!P772,'Data Input'!Y772))","v":""},{"$f":"IF(Q767=\"\",\"\",Q767/COUNTIF('Data Input'!$C$8:$AK$8,\"G\"))","v":""}]
[{"$f":"IF('Data Input'!A773=0,\"\",'Data Input'!A773)","v":""},{"$f":"IF(ISBLANK('Data Input'!A773),\"\",COUNTIF('Data Input'!C773:AK773,\"\"))","v":""},{"$f":"IF(ISBLANK('Data Input'!A773),\"\",COUNTIF('Data Input'!C773:AK773,\"0\"))","v":""},{"$f":"IF(ISBLANK('Data Input'!A773),\"\",SUM(B768,C768))","v":""},{"$f":"IF(ISBLANK('Data Input'!A773),\"\",SUM('Data Input'!C773:AK773))","v":""},{"$f":"IF(E768=\"\",\"\",E768/(COUNTA('Data Input'!$C$8:$AK$8)))","v":""},{"$f":"IF(ISBLANK('Data Input'!A773),\"\",SUM('Data Input'!C773,'Data Input'!D773,'Data Input'!J773,'Data Input'!X773))","v":""},{"$f":"IF(G768=\"\",\"\",G768/COUNTIF('Data Input'!$C$8:$AK$8,\"N\"))","v":""},{"$f":"IF(ISBLANK('Data Input'!A773),\"\",SUM('Data Input'!G773,'Data Input'!I773,'Data Input'!L773,'Data Input'!N773,'Data Input'!O773,'Data Input'!S773,'Data Input'!Z773,'Data Input'!AA773,'Data Input'!AB773,'Data Input'!AC773,'Data Input'!AE773,'Data Input'!AF773,'Data Input'!AG773,'Data Input'!AI773,'Data Input'!AK773))","v":""},{"$f":"IF(I768=\"\",\"\",I768/COUNTIF('Data Input'!$C$8:$AK$8,\"C\"))","v":""},{"$f":"IF(ISBLANK('Data Input'!A773),\"\",SUM('Data Input'!T773,'Data Input'!U773))","v":""},{"$f":"IF(K768=\"\",\"\",K768/COUNTIF('Data Input'!$C$8:$AK$8,\"S\"))","v":""},{"$f":"IF(ISBLANK('Data Input'!A773),\"\",SUM('Data Input'!F773,'Data Input'!R773,'Data Input'!AJ773))","v":""},{"$f":"IF(M768=\"\",\"\",M768/COUNTIF('Data Input'!$C$8:$AK$8,\"F\"))","v":""},{"$f":"IF(ISBLANK('Data Input'!A773),\"\",SUM('Data Input'!E773,'Data Input'!M773,'Data Input'!Q773,'Data Input'!V773,'Data Input'!W773,'Data Input'!AD773,'Data Input'!AH773))","v":""},{"$f":"IF(O768=\"\",\"\",O768/COUNTIF('Data Input'!$C$8:$AK$8,\"M\"))","v":""},{"$f":"IF(ISBLANK('Data Input'!A773),\"\",SUM('Data Input'!H773,'Data Input'!K773,'Data Input'!P773,'Data Input'!Y773))","v":""},{"$f":"IF(Q768=\"\",\"\",Q768/COUNTIF('Data Input'!$C$8:$AK$8,\"G\"))","v":""}]
[{"$f":"IF('Data Input'!A774=0,\"\",'Data Input'!A774)","v":""},{"$f":"IF(ISBLANK('Data Input'!A774),\"\",COUNTIF('Data Input'!C774:AK774,\"\"))","v":""},{"$f":"IF(ISBLANK('Data Input'!A774),\"\",COUNTIF('Data Input'!C774:AK774,\"0\"))","v":""},{"$f":"IF(ISBLANK('Data Input'!A774),\"\",SUM(B769,C769))","v":""},{"$f":"IF(ISBLANK('Data Input'!A774),\"\",SUM('Data Input'!C774:AK774))","v":""},{"$f":"IF(E769=\"\",\"\",E769/(COUNTA('Data Input'!$C$8:$AK$8)))","v":""},{"$f":"IF(ISBLANK('Data Input'!A774),\"\",SUM('Data Input'!C774,'Data Input'!D774,'Data Input'!J774,'Data Input'!X774))","v":""},{"$f":"IF(G769=\"\",\"\",G769/COUNTIF('Data Input'!$C$8:$AK$8,\"N\"))","v":""},{"$f":"IF(ISBLANK('Data Input'!A774),\"\",SUM('Data Input'!G774,'Data Input'!I774,'Data Input'!L774,'Data Input'!N774,'Data Input'!O774,'Data Input'!S774,'Data Input'!Z774,'Data Input'!AA774,'Data Input'!AB774,'Data Input'!AC774,'Data Input'!AE774,'Data Input'!AF774,'Data Input'!AG774,'Data Input'!AI774,'Data Input'!AK774))","v":""},{"$f":"IF(I769=\"\",\"\",I769/COUNTIF('Data Input'!$C$8:$AK$8,\"C\"))","v":""},{"$f":"IF(ISBLANK('Data Input'!A774),\"\",SUM('Data Input'!T774,'Data Input'!U774))","v":""},{"$f":"IF(K769=\"\",\"\",K769/COUNTIF('Data Input'!$C$8:$AK$8,\"S\"))","v":""},{"$f":"IF(ISBLANK('Data Input'!A774),\"\",SUM('Data Input'!F774,'Data Input'!R774,'Data Input'!AJ774))","v":""},{"$f":"IF(M769=\"\",\"\",M769/COUNTIF('Data Input'!$C$8:$AK$8,\"F\"))","v":""},{"$f":"IF(ISBLANK('Data Input'!A774),\"\",SUM('Data Input'!E774,'Data Input'!M774,'Data Input'!Q774,'Data Input'!V774,'Data Input'!W774,'Data Input'!AD774,'Data Input'!AH774))","v":""},{"$f":"IF(O769=\"\",\"\",O769/COUNTIF('Data Input'!$C$8:$AK$8,\"M\"))","v":""},{"$f":"IF(ISBLANK('Data Input'!A774),\"\",SUM('Data Input'!H774,'Data Input'!K774,'Data Input'!P774,'Data Input'!Y774))","v":""},{"$f":"IF(Q769=\"\",\"\",Q769/COUNTIF('Data Input'!$C$8:$AK$8,\"G\"))","v":""}]
[{"$f":"IF('Data Input'!A775=0,\"\",'Data Input'!A775)","v":""},{"$f":"IF(ISBLANK('Data Input'!A775),\"\",COUNTIF('Data Input'!C775:AK775,\"\"))","v":""},{"$f":"IF(ISBLANK('Data Input'!A775),\"\",COUNTIF('Data Input'!C775:AK775,\"0\"))","v":""},{"$f":"IF(ISBLANK('Data Input'!A775),\"\",SUM(B770,C770))","v":""},{"$f":"IF(ISBLANK('Data Input'!A775),\"\",SUM('Data Input'!C775:AK775))","v":""},{"$f":"IF(E770=\"\",\"\",E770/(COUNTA('Data Input'!$C$8:$AK$8)))","v":""},{"$f":"IF(ISBLANK('Data Input'!A775),\"\",SUM('Data Input'!C775,'Data Input'!D775,'Data Input'!J775,'Data Input'!X775))","v":""},{"$f":"IF(G770=\"\",\"\",G770/COUNTIF('Data Input'!$C$8:$AK$8,\"N\"))","v":""},{"$f":"IF(ISBLANK('Data Input'!A775),\"\",SUM('Data Input'!G775,'Data Input'!I775,'Data Input'!L775,'Data Input'!N775,'Data Input'!O775,'Data Input'!S775,'Data Input'!Z775,'Data Input'!AA775,'Data Input'!AB775,'Data Input'!AC775,'Data Input'!AE775,'Data Input'!AF775,'Data Input'!AG775,'Data Input'!AI775,'Data Input'!AK775))","v":""},{"$f":"IF(I770=\"\",\"\",I770/COUNTIF('Data Input'!$C$8:$AK$8,\"C\"))","v":""},{"$f":"IF(ISBLANK('Data Input'!A775),\"\",SUM('Data Input'!T775,'Data Input'!U775))","v":""},{"$f":"IF(K770=\"\",\"\",K770/COUNTIF('Data Input'!$C$8:$AK$8,\"S\"))","v":""},{"$f":"IF(ISBLANK('Data Input'!A775),\"\",SUM('Data Input'!F775,'Data Input'!R775,'Data Input'!AJ775))","v":""},{"$f":"IF(M770=\"\",\"\",M770/COUNTIF('Data Input'!$C$8:$AK$8,\"F\"))","v":""},{"$f":"IF(ISBLANK('Data Input'!A775),\"\",SUM('Data Input'!E775,'Data Input'!M775,'Data Input'!Q775,'Data Input'!V775,'Data Input'!W775,'Data Input'!AD775,'Data Input'!AH775))","v":""},{"$f":"IF(O770=\"\",\"\",O770/COUNTIF('Data Input'!$C$8:$AK$8,\"M\"))","v":""},{"$f":"IF(ISBLANK('Data Input'!A775),\"\",SUM('Data Input'!H775,'Data Input'!K775,'Data Input'!P775,'Data Input'!Y775))","v":""},{"$f":"IF(Q770=\"\",\"\",Q770/COUNTIF('Data Input'!$C$8:$AK$8,\"G\"))","v":""}]
[{"$f":"IF('Data Input'!A776=0,\"\",'Data Input'!A776)","v":""},{"$f":"IF(ISBLANK('Data Input'!A776),\"\",COUNTIF('Data Input'!C776:AK776,\"\"))","v":""},{"$f":"IF(ISBLANK('Data Input'!A776),\"\",COUNTIF('Data Input'!C776:AK776,\"0\"))","v":""},{"$f":"IF(ISBLANK('Data Input'!A776),\"\",SUM(B771,C771))","v":""},{"$f":"IF(ISBLANK('Data Input'!A776),\"\",SUM('Data Input'!C776:AK776))","v":""},{"$f":"IF(E771=\"\",\"\",E771/(COUNTA('Data Input'!$C$8:$AK$8)))","v":""},{"$f":"IF(ISBLANK('Data Input'!A776),\"\",SUM('Data Input'!C776,'Data Input'!D776,'Data Input'!J776,'Data Input'!X776))","v":""},{"$f":"IF(G771=\"\",\"\",G771/COUNTIF('Data Input'!$C$8:$AK$8,\"N\"))","v":""},{"$f":"IF(ISBLANK('Data Input'!A776),\"\",SUM('Data Input'!G776,'Data Input'!I776,'Data Input'!L776,'Data Input'!N776,'Data Input'!O776,'Data Input'!S776,'Data Input'!Z776,'Data Input'!AA776,'Data Input'!AB776,'Data Input'!AC776,'Data Input'!AE776,'Data Input'!AF776,'Data Input'!AG776,'Data Input'!AI776,'Data Input'!AK776))","v":""},{"$f":"IF(I771=\"\",\"\",I771/COUNTIF('Data Input'!$C$8:$AK$8,\"C\"))","v":""},{"$f":"IF(ISBLANK('Data Input'!A776),\"\",SUM('Data Input'!T776,'Data Input'!U776))","v":""},{"$f":"IF(K771=\"\",\"\",K771/COUNTIF('Data Input'!$C$8:$AK$8,\"S\"))","v":""},{"$f":"IF(ISBLANK('Data Input'!A776),\"\",SUM('Data Input'!F776,'Data Input'!R776,'Data Input'!AJ776))","v":""},{"$f":"IF(M771=\"\",\"\",M771/COUNTIF('Data Input'!$C$8:$AK$8,\"F\"))","v":""},{"$f":"IF(ISBLANK('Data Input'!A776),\"\",SUM('Data Input'!E776,'Data Input'!M776,'Data Input'!Q776,'Data Input'!V776,'Data Input'!W776,'Data Input'!AD776,'Data Input'!AH776))","v":""},{"$f":"IF(O771=\"\",\"\",O771/COUNTIF('Data Input'!$C$8:$AK$8,\"M\"))","v":""},{"$f":"IF(ISBLANK('Data Input'!A776),\"\",SUM('Data Input'!H776,'Data Input'!K776,'Data Input'!P776,'Data Input'!Y776))","v":""},{"$f":"IF(Q771=\"\",\"\",Q771/COUNTIF('Data Input'!$C$8:$AK$8,\"G\"))","v":""}]
[{"$f":"IF('Data Input'!A777=0,\"\",'Data Input'!A777)","v":""},{"$f":"IF(ISBLANK('Data Input'!A777),\"\",COUNTIF('Data Input'!C777:AK777,\"\"))","v":""},{"$f":"IF(ISBLANK('Data Input'!A777),\"\",COUNTIF('Data Input'!C777:AK777,\"0\"))","v":""},{"$f":"IF(ISBLANK('Data Input'!A777),\"\",SUM(B772,C772))","v":""},{"$f":"IF(ISBLANK('Data Input'!A777),\"\",SUM('Data Input'!C777:AK777))","v":""},{"$f":"IF(E772=\"\",\"\",E772/(COUNTA('Data Input'!$C$8:$AK$8)))","v":""},{"$f":"IF(ISBLANK('Data Input'!A777),\"\",SUM('Data Input'!C777,'Data Input'!D777,'Data Input'!J777,'Data Input'!X777))","v":""},{"$f":"IF(G772=\"\",\"\",G772/COUNTIF('Data Input'!$C$8:$AK$8,\"N\"))","v":""},{"$f":"IF(ISBLANK('Data Input'!A777),\"\",SUM('Data Input'!G777,'Data Input'!I777,'Data Input'!L777,'Data Input'!N777,'Data Input'!O777,'Data Input'!S777,'Data Input'!Z777,'Data Input'!AA777,'Data Input'!AB777,'Data Input'!AC777,'Data Input'!AE777,'Data Input'!AF777,'Data Input'!AG777,'Data Input'!AI777,'Data Input'!AK777))","v":""},{"$f":"IF(I772=\"\",\"\",I772/COUNTIF('Data Input'!$C$8:$AK$8,\"C\"))","v":""},{"$f":"IF(ISBLANK('Data Input'!A777),\"\",SUM('Data Input'!T777,'Data Input'!U777))","v":""},{"$f":"IF(K772=\"\",\"\",K772/COUNTIF('Data Input'!$C$8:$AK$8,\"S\"))","v":""},{"$f":"IF(ISBLANK('Data Input'!A777),\"\",SUM('Data Input'!F777,'Data Input'!R777,'Data Input'!AJ777))","v":""},{"$f":"IF(M772=\"\",\"\",M772/COUNTIF('Data Input'!$C$8:$AK$8,\"F\"))","v":""},{"$f":"IF(ISBLANK('Data Input'!A777),\"\",SUM('Data Input'!E777,'Data Input'!M777,'Data Input'!Q777,'Data Input'!V777,'Data Input'!W777,'Data Input'!AD777,'Data Input'!AH777))","v":""},{"$f":"IF(O772=\"\",\"\",O772/COUNTIF('Data Input'!$C$8:$AK$8,\"M\"))","v":""},{"$f":"IF(ISBLANK('Data Input'!A777),\"\",SUM('Data Input'!H777,'Data Input'!K777,'Data Input'!P777,'Data Input'!Y777))","v":""},{"$f":"IF(Q772=\"\",\"\",Q772/COUNTIF('Data Input'!$C$8:$AK$8,\"G\"))","v":""}]
[{"$f":"IF('Data Input'!A778=0,\"\",'Data Input'!A778)","v":""},{"$f":"IF(ISBLANK('Data Input'!A778),\"\",COUNTIF('Data Input'!C778:AK778,\"\"))","v":""},{"$f":"IF(ISBLANK('Data Input'!A778),\"\",COUNTIF('Data Input'!C778:AK778,\"0\"))","v":""},{"$f":"IF(ISBLANK('Data Input'!A778),\"\",SUM(B773,C773))","v":""},{"$f":"IF(ISBLANK('Data Input'!A778),\"\",SUM('Data Input'!C778:AK778))","v":""},{"$f":"IF(E773=\"\",\"\",E773/(COUNTA('Data Input'!$C$8:$AK$8)))","v":""},{"$f":"IF(ISBLANK('Data Input'!A778),\"\",SUM('Data Input'!C778,'Data Input'!D778,'Data Input'!J778,'Data Input'!X778))","v":""},{"$f":"IF(G773=\"\",\"\",G773/COUNTIF('Data Input'!$C$8:$AK$8,\"N\"))","v":""},{"$f":"IF(ISBLANK('Data Input'!A778),\"\",SUM('Data Input'!G778,'Data Input'!I778,'Data Input'!L778,'Data Input'!N778,'Data Input'!O778,'Data Input'!S778,'Data Input'!Z778,'Data Input'!AA778,'Data Input'!AB778,'Data Input'!AC778,'Data Input'!AE778,'Data Input'!AF778,'Data Input'!AG778,'Data Input'!AI778,'Data Input'!AK778))","v":""},{"$f":"IF(I773=\"\",\"\",I773/COUNTIF('Data Input'!$C$8:$AK$8,\"C\"))","v":""},{"$f":"IF(ISBLANK('Data Input'!A778),\"\",SUM('Data Input'!T778,'Data Input'!U778))","v":""},{"$f":"IF(K773=\"\",\"\",K773/COUNTIF('Data Input'!$C$8:$AK$8,\"S\"))","v":""},{"$f":"IF(ISBLANK('Data Input'!A778),\"\",SUM('Data Input'!F778,'Data Input'!R778,'Data Input'!AJ778))","v":""},{"$f":"IF(M773=\"\",\"\",M773/COUNTIF('Data Input'!$C$8:$AK$8,\"F\"))","v":""},{"$f":"IF(ISBLANK('Data Input'!A778),\"\",SUM('Data Input'!E778,'Data Input'!M778,'Data Input'!Q778,'Data Input'!V778,'Data Input'!W778,'Data Input'!AD778,'Data Input'!AH778))","v":""},{"$f":"IF(O773=\"\",\"\",O773/COUNTIF('Data Input'!$C$8:$AK$8,\"M\"))","v":""},{"$f":"IF(ISBLANK('Data Input'!A778),\"\",SUM('Data Input'!H778,'Data Input'!K778,'Data Input'!P778,'Data Input'!Y778))","v":""},{"$f":"IF(Q773=\"\",\"\",Q773/COUNTIF('Data Input'!$C$8:$AK$8,\"G\"))","v":""}]
[{"$f":"IF('Data Input'!A779=0,\"\",'Data Input'!A779)","v":""},{"$f":"IF(ISBLANK('Data Input'!A779),\"\",COUNTIF('Data Input'!C779:AK779,\"\"))","v":""},{"$f":"IF(ISBLANK('Data Input'!A779),\"\",COUNTIF('Data Input'!C779:AK779,\"0\"))","v":""},{"$f":"IF(ISBLANK('Data Input'!A779),\"\",SUM(B774,C774))","v":""},{"$f":"IF(ISBLANK('Data Input'!A779),\"\",SUM('Data Input'!C779:AK779))","v":""},{"$f":"IF(E774=\"\",\"\",E774/(COUNTA('Data Input'!$C$8:$AK$8)))","v":""},{"$f":"IF(ISBLANK('Data Input'!A779),\"\",SUM('Data Input'!C779,'Data Input'!D779,'Data Input'!J779,'Data Input'!X779))","v":""},{"$f":"IF(G774=\"\",\"\",G774/COUNTIF('Data Input'!$C$8:$AK$8,\"N\"))","v":""},{"$f":"IF(ISBLANK('Data Input'!A779),\"\",SUM('Data Input'!G779,'Data Input'!I779,'Data Input'!L779,'Data Input'!N779,'Data Input'!O779,'Data Input'!S779,'Data Input'!Z779,'Data Input'!AA779,'Data Input'!AB779,'Data Input'!AC779,'Data Input'!AE779,'Data Input'!AF779,'Data Input'!AG779,'Data Input'!AI779,'Data Input'!AK779))","v":""},{"$f":"IF(I774=\"\",\"\",I774/COUNTIF('Data Input'!$C$8:$AK$8,\"C\"))","v":""},{"$f":"IF(ISBLANK('Data Input'!A779),\"\",SUM('Data Input'!T779,'Data Input'!U779))","v":""},{"$f":"IF(K774=\"\",\"\",K774/COUNTIF('Data Input'!$C$8:$AK$8,\"S\"))","v":""},{"$f":"IF(ISBLANK('Data Input'!A779),\"\",SUM('Data Input'!F779,'Data Input'!R779,'Data Input'!AJ779))","v":""},{"$f":"IF(M774=\"\",\"\",M774/COUNTIF('Data Input'!$C$8:$AK$8,\"F\"))","v":""},{"$f":"IF(ISBLANK('Data Input'!A779),\"\",SUM('Data Input'!E779,'Data Input'!M779,'Data Input'!Q779,'Data Input'!V779,'Data Input'!W779,'Data Input'!AD779,'Data Input'!AH779))","v":""},{"$f":"IF(O774=\"\",\"\",O774/COUNTIF('Data Input'!$C$8:$AK$8,\"M\"))","v":""},{"$f":"IF(ISBLANK('Data Input'!A779),\"\",SUM('Data Input'!H779,'Data Input'!K779,'Data Input'!P779,'Data Input'!Y779))","v":""},{"$f":"IF(Q774=\"\",\"\",Q774/COUNTIF('Data Input'!$C$8:$AK$8,\"G\"))","v":""}]
[{"$f":"IF('Data Input'!A780=0,\"\",'Data Input'!A780)","v":""},{"$f":"IF(ISBLANK('Data Input'!A780),\"\",COUNTIF('Data Input'!C780:AK780,\"\"))","v":""},{"$f":"IF(ISBLANK('Data Input'!A780),\"\",COUNTIF('Data Input'!C780:AK780,\"0\"))","v":""},{"$f":"IF(ISBLANK('Data Input'!A780),\"\",SUM(B775,C775))","v":""},{"$f":"IF(ISBLANK('Data Input'!A780),\"\",SUM('Data Input'!C780:AK780))","v":""},{"$f":"IF(E775=\"\",\"\",E775/(COUNTA('Data Input'!$C$8:$AK$8)))","v":""},{"$f":"IF(ISBLANK('Data Input'!A780),\"\",SUM('Data Input'!C780,'Data Input'!D780,'Data Input'!J780,'Data Input'!X780))","v":""},{"$f":"IF(G775=\"\",\"\",G775/COUNTIF('Data Input'!$C$8:$AK$8,\"N\"))","v":""},{"$f":"IF(ISBLANK('Data Input'!A780),\"\",SUM('Data Input'!G780,'Data Input'!I780,'Data Input'!L780,'Data Input'!N780,'Data Input'!O780,'Data Input'!S780,'Data Input'!Z780,'Data Input'!AA780,'Data Input'!AB780,'Data Input'!AC780,'Data Input'!AE780,'Data Input'!AF780,'Data Input'!AG780,'Data Input'!AI780,'Data Input'!AK780))","v":""},{"$f":"IF(I775=\"\",\"\",I775/COUNTIF('Data Input'!$C$8:$AK$8,\"C\"))","v":""},{"$f":"IF(ISBLANK('Data Input'!A780),\"\",SUM('Data Input'!T780,'Data Input'!U780))","v":""},{"$f":"IF(K775=\"\",\"\",K775/COUNTIF('Data Input'!$C$8:$AK$8,\"S\"))","v":""},{"$f":"IF(ISBLANK('Data Input'!A780),\"\",SUM('Data Input'!F780,'Data Input'!R780,'Data Input'!AJ780))","v":""},{"$f":"IF(M775=\"\",\"\",M775/COUNTIF('Data Input'!$C$8:$AK$8,\"F\"))","v":""},{"$f":"IF(ISBLANK('Data Input'!A780),\"\",SUM('Data Input'!E780,'Data Input'!M780,'Data Input'!Q780,'Data Input'!V780,'Data Input'!W780,'Data Input'!AD780,'Data Input'!AH780))","v":""},{"$f":"IF(O775=\"\",\"\",O775/COUNTIF('Data Input'!$C$8:$AK$8,\"M\"))","v":""},{"$f":"IF(ISBLANK('Data Input'!A780),\"\",SUM('Data Input'!H780,'Data Input'!K780,'Data Input'!P780,'Data Input'!Y780))","v":""},{"$f":"IF(Q775=\"\",\"\",Q775/COUNTIF('Data Input'!$C$8:$AK$8,\"G\"))","v":""}]
[{"$f":"IF('Data Input'!A781=0,\"\",'Data Input'!A781)","v":""},{"$f":"IF(ISBLANK('Data Input'!A781),\"\",COUNTIF('Data Input'!C781:AK781,\"\"))","v":""},{"$f":"IF(ISBLANK('Data Input'!A781),\"\",COUNTIF('Data Input'!C781:AK781,\"0\"))","v":""},{"$f":"IF(ISBLANK('Data Input'!A781),\"\",SUM(B776,C776))","v":""},{"$f":"IF(ISBLANK('Data Input'!A781),\"\",SUM('Data Input'!C781:AK781))","v":""},{"$f":"IF(E776=\"\",\"\",E776/(COUNTA('Data Input'!$C$8:$AK$8)))","v":""},{"$f":"IF(ISBLANK('Data Input'!A781),\"\",SUM('Data Input'!C781,'Data Input'!D781,'Data Input'!J781,'Data Input'!X781))","v":""},{"$f":"IF(G776=\"\",\"\",G776/COUNTIF('Data Input'!$C$8:$AK$8,\"N\"))","v":""},{"$f":"IF(ISBLANK('Data Input'!A781),\"\",SUM('Data Input'!G781,'Data Input'!I781,'Data Input'!L781,'Data Input'!N781,'Data Input'!O781,'Data Input'!S781,'Data Input'!Z781,'Data Input'!AA781,'Data Input'!AB781,'Data Input'!AC781,'Data Input'!AE781,'Data Input'!AF781,'Data Input'!AG781,'Data Input'!AI781,'Data Input'!AK781))","v":""},{"$f":"IF(I776=\"\",\"\",I776/COUNTIF('Data Input'!$C$8:$AK$8,\"C\"))","v":""},{"$f":"IF(ISBLANK('Data Input'!A781),\"\",SUM('Data Input'!T781,'Data Input'!U781))","v":""},{"$f":"IF(K776=\"\",\"\",K776/COUNTIF('Data Input'!$C$8:$AK$8,\"S\"))","v":""},{"$f":"IF(ISBLANK('Data Input'!A781),\"\",SUM('Data Input'!F781,'Data Input'!R781,'Data Input'!AJ781))","v":""},{"$f":"IF(M776=\"\",\"\",M776/COUNTIF('Data Input'!$C$8:$AK$8,\"F\"))","v":""},{"$f":"IF(ISBLANK('Data Input'!A781),\"\",SUM('Data Input'!E781,'Data Input'!M781,'Data Input'!Q781,'Data Input'!V781,'Data Input'!W781,'Data Input'!AD781,'Data Input'!AH781))","v":""},{"$f":"IF(O776=\"\",\"\",O776/COUNTIF('Data Input'!$C$8:$AK$8,\"M\"))","v":""},{"$f":"IF(ISBLANK('Data Input'!A781),\"\",SUM('Data Input'!H781,'Data Input'!K781,'Data Input'!P781,'Data Input'!Y781))","v":""},{"$f":"IF(Q776=\"\",\"\",Q776/COUNTIF('Data Input'!$C$8:$AK$8,\"G\"))","v":""}]
[{"$f":"IF('Data Input'!A782=0,\"\",'Data Input'!A782)","v":""},{"$f":"IF(ISBLANK('Data Input'!A782),\"\",COUNTIF('Data Input'!C782:AK782,\"\"))","v":""},{"$f":"IF(ISBLANK('Data Input'!A782),\"\",COUNTIF('Data Input'!C782:AK782,\"0\"))","v":""},{"$f":"IF(ISBLANK('Data Input'!A782),\"\",SUM(B777,C777))","v":""},{"$f":"IF(ISBLANK('Data Input'!A782),\"\",SUM('Data Input'!C782:AK782))","v":""},{"$f":"IF(E777=\"\",\"\",E777/(COUNTA('Data Input'!$C$8:$AK$8)))","v":""},{"$f":"IF(ISBLANK('Data Input'!A782),\"\",SUM('Data Input'!C782,'Data Input'!D782,'Data Input'!J782,'Data Input'!X782))","v":""},{"$f":"IF(G777=\"\",\"\",G777/COUNTIF('Data Input'!$C$8:$AK$8,\"N\"))","v":""},{"$f":"IF(ISBLANK('Data Input'!A782),\"\",SUM('Data Input'!G782,'Data Input'!I782,'Data Input'!L782,'Data Input'!N782,'Data Input'!O782,'Data Input'!S782,'Data Input'!Z782,'Data Input'!AA782,'Data Input'!AB782,'Data Input'!AC782,'Data Input'!AE782,'Data Input'!AF782,'Data Input'!AG782,'Data Input'!AI782,'Data Input'!AK782))","v":""},{"$f":"IF(I777=\"\",\"\",I777/COUNTIF('Data Input'!$C$8:$AK$8,\"C\"))","v":""},{"$f":"IF(ISBLANK('Data Input'!A782),\"\",SUM('Data Input'!T782,'Data Input'!U782))","v":""},{"$f":"IF(K777=\"\",\"\",K777/COUNTIF('Data Input'!$C$8:$AK$8,\"S\"))","v":""},{"$f":"IF(ISBLANK('Data Input'!A782),\"\",SUM('Data Input'!F782,'Data Input'!R782,'Data Input'!AJ782))","v":""},{"$f":"IF(M777=\"\",\"\",M777/COUNTIF('Data Input'!$C$8:$AK$8,\"F\"))","v":""},{"$f":"IF(ISBLANK('Data Input'!A782),\"\",SUM('Data Input'!E782,'Data Input'!M782,'Data Input'!Q782,'Data Input'!V782,'Data Input'!W782,'Data Input'!AD782,'Data Input'!AH782))","v":""},{"$f":"IF(O777=\"\",\"\",O777/COUNTIF('Data Input'!$C$8:$AK$8,\"M\"))","v":""},{"$f":"IF(ISBLANK('Data Input'!A782),\"\",SUM('Data Input'!H782,'Data Input'!K782,'Data Input'!P782,'Data Input'!Y782))","v":""},{"$f":"IF(Q777=\"\",\"\",Q777/COUNTIF('Data Input'!$C$8:$AK$8,\"G\"))","v":""}]
[{"$f":"IF('Data Input'!A783=0,\"\",'Data Input'!A783)","v":""},{"$f":"IF(ISBLANK('Data Input'!A783),\"\",COUNTIF('Data Input'!C783:AK783,\"\"))","v":""},{"$f":"IF(ISBLANK('Data Input'!A783),\"\",COUNTIF('Data Input'!C783:AK783,\"0\"))","v":""},{"$f":"IF(ISBLANK('Data Input'!A783),\"\",SUM(B778,C778))","v":""},{"$f":"IF(ISBLANK('Data Input'!A783),\"\",SUM('Data Input'!C783:AK783))","v":""},{"$f":"IF(E778=\"\",\"\",E778/(COUNTA('Data Input'!$C$8:$AK$8)))","v":""},{"$f":"IF(ISBLANK('Data Input'!A783),\"\",SUM('Data Input'!C783,'Data Input'!D783,'Data Input'!J783,'Data Input'!X783))","v":""},{"$f":"IF(G778=\"\",\"\",G778/COUNTIF('Data Input'!$C$8:$AK$8,\"N\"))","v":""},{"$f":"IF(ISBLANK('Data Input'!A783),\"\",SUM('Data Input'!G783,'Data Input'!I783,'Data Input'!L783,'Data Input'!N783,'Data Input'!O783,'Data Input'!S783,'Data Input'!Z783,'Data Input'!AA783,'Data Input'!AB783,'Data Input'!AC783,'Data Input'!AE783,'Data Input'!AF783,'Data Input'!AG783,'Data Input'!AI783,'Data Input'!AK783))","v":""},{"$f":"IF(I778=\"\",\"\",I778/COUNTIF('Data Input'!$C$8:$AK$8,\"C\"))","v":""},{"$f":"IF(ISBLANK('Data Input'!A783),\"\",SUM('Data Input'!T783,'Data Input'!U783))","v":""},{"$f":"IF(K778=\"\",\"\",K778/COUNTIF('Data Input'!$C$8:$AK$8,\"S\"))","v":""},{"$f":"IF(ISBLANK('Data Input'!A783),\"\",SUM('Data Input'!F783,'Data Input'!R783,'Data Input'!AJ783))","v":""},{"$f":"IF(M778=\"\",\"\",M778/COUNTIF('Data Input'!$C$8:$AK$8,\"F\"))","v":""},{"$f":"IF(ISBLANK('Data Input'!A783),\"\",SUM('Data Input'!E783,'Data Input'!M783,'Data Input'!Q783,'Data Input'!V783,'Data Input'!W783,'Data Input'!AD783,'Data Input'!AH783))","v":""},{"$f":"IF(O778=\"\",\"\",O778/COUNTIF('Data Input'!$C$8:$AK$8,\"M\"))","v":""},{"$f":"IF(ISBLANK('Data Input'!A783),\"\",SUM('Data Input'!H783,'Data Input'!K783,'Data Input'!P783,'Data Input'!Y783))","v":""},{"$f":"IF(Q778=\"\",\"\",Q778/COUNTIF('Data Input'!$C$8:$AK$8,\"G\"))","v":""}]
[{"$f":"IF('Data Input'!A784=0,\"\",'Data Input'!A784)","v":""},{"$f":"IF(ISBLANK('Data Input'!A784),\"\",COUNTIF('Data Input'!C784:AK784,\"\"))","v":""},{"$f":"IF(ISBLANK('Data Input'!A784),\"\",COUNTIF('Data Input'!C784:AK784,\"0\"))","v":""},{"$f":"IF(ISBLANK('Data Input'!A784),\"\",SUM(B779,C779))","v":""},{"$f":"IF(ISBLANK('Data Input'!A784),\"\",SUM('Data Input'!C784:AK784))","v":""},{"$f":"IF(E779=\"\",\"\",E779/(COUNTA('Data Input'!$C$8:$AK$8)))","v":""},{"$f":"IF(ISBLANK('Data Input'!A784),\"\",SUM('Data Input'!C784,'Data Input'!D784,'Data Input'!J784,'Data Input'!X784))","v":""},{"$f":"IF(G779=\"\",\"\",G779/COUNTIF('Data Input'!$C$8:$AK$8,\"N\"))","v":""},{"$f":"IF(ISBLANK('Data Input'!A784),\"\",SUM('Data Input'!G784,'Data Input'!I784,'Data Input'!L784,'Data Input'!N784,'Data Input'!O784,'Data Input'!S784,'Data Input'!Z784,'Data Input'!AA784,'Data Input'!AB784,'Data Input'!AC784,'Data Input'!AE784,'Data Input'!AF784,'Data Input'!AG784,'Data Input'!AI784,'Data Input'!AK784))","v":""},{"$f":"IF(I779=\"\",\"\",I779/COUNTIF('Data Input'!$C$8:$AK$8,\"C\"))","v":""},{"$f":"IF(ISBLANK('Data Input'!A784),\"\",SUM('Data Input'!T784,'Data Input'!U784))","v":""},{"$f":"IF(K779=\"\",\"\",K779/COUNTIF('Data Input'!$C$8:$AK$8,\"S\"))","v":""},{"$f":"IF(ISBLANK('Data Input'!A784),\"\",SUM('Data Input'!F784,'Data Input'!R784,'Data Input'!AJ784))","v":""},{"$f":"IF(M779=\"\",\"\",M779/COUNTIF('Data Input'!$C$8:$AK$8,\"F\"))","v":""},{"$f":"IF(ISBLANK('Data Input'!A784),\"\",SUM('Data Input'!E784,'Data Input'!M784,'Data Input'!Q784,'Data Input'!V784,'Data Input'!W784,'Data Input'!AD784,'Data Input'!AH784))","v":""},{"$f":"IF(O779=\"\",\"\",O779/COUNTIF('Data Input'!$C$8:$AK$8,\"M\"))","v":""},{"$f":"IF(ISBLANK('Data Input'!A784),\"\",SUM('Data Input'!H784,'Data Input'!K784,'Data Input'!P784,'Data Input'!Y784))","v":""},{"$f":"IF(Q779=\"\",\"\",Q779/COUNTIF('Data Input'!$C$8:$AK$8,\"G\"))","v":""}]
[{"$f":"IF('Data Input'!A785=0,\"\",'Data Input'!A785)","v":""},{"$f":"IF(ISBLANK('Data Input'!A785),\"\",COUNTIF('Data Input'!C785:AK785,\"\"))","v":""},{"$f":"IF(ISBLANK('Data Input'!A785),\"\",COUNTIF('Data Input'!C785:AK785,\"0\"))","v":""},{"$f":"IF(ISBLANK('Data Input'!A785),\"\",SUM(B780,C780))","v":""},{"$f":"IF(ISBLANK('Data Input'!A785),\"\",SUM('Data Input'!C785:AK785))","v":""},{"$f":"IF(E780=\"\",\"\",E780/(COUNTA('Data Input'!$C$8:$AK$8)))","v":""},{"$f":"IF(ISBLANK('Data Input'!A785),\"\",SUM('Data Input'!C785,'Data Input'!D785,'Data Input'!J785,'Data Input'!X785))","v":""},{"$f":"IF(G780=\"\",\"\",G780/COUNTIF('Data Input'!$C$8:$AK$8,\"N\"))","v":""},{"$f":"IF(ISBLANK('Data Input'!A785),\"\",SUM('Data Input'!G785,'Data Input'!I785,'Data Input'!L785,'Data Input'!N785,'Data Input'!O785,'Data Input'!S785,'Data Input'!Z785,'Data Input'!AA785,'Data Input'!AB785,'Data Input'!AC785,'Data Input'!AE785,'Data Input'!AF785,'Data Input'!AG785,'Data Input'!AI785,'Data Input'!AK785))","v":""},{"$f":"IF(I780=\"\",\"\",I780/COUNTIF('Data Input'!$C$8:$AK$8,\"C\"))","v":""},{"$f":"IF(ISBLANK('Data Input'!A785),\"\",SUM('Data Input'!T785,'Data Input'!U785))","v":""},{"$f":"IF(K780=\"\",\"\",K780/COUNTIF('Data Input'!$C$8:$AK$8,\"S\"))","v":""},{"$f":"IF(ISBLANK('Data Input'!A785),\"\",SUM('Data Input'!F785,'Data Input'!R785,'Data Input'!AJ785))","v":""},{"$f":"IF(M780=\"\",\"\",M780/COUNTIF('Data Input'!$C$8:$AK$8,\"F\"))","v":""},{"$f":"IF(ISBLANK('Data Input'!A785),\"\",SUM('Data Input'!E785,'Data Input'!M785,'Data Input'!Q785,'Data Input'!V785,'Data Input'!W785,'Data Input'!AD785,'Data Input'!AH785))","v":""},{"$f":"IF(O780=\"\",\"\",O780/COUNTIF('Data Input'!$C$8:$AK$8,\"M\"))","v":""},{"$f":"IF(ISBLANK('Data Input'!A785),\"\",SUM('Data Input'!H785,'Data Input'!K785,'Data Input'!P785,'Data Input'!Y785))","v":""},{"$f":"IF(Q780=\"\",\"\",Q780/COUNTIF('Data Input'!$C$8:$AK$8,\"G\"))","v":""}]
[{"$f":"IF('Data Input'!A786=0,\"\",'Data Input'!A786)","v":""},{"$f":"IF(ISBLANK('Data Input'!A786),\"\",COUNTIF('Data Input'!C786:AK786,\"\"))","v":""},{"$f":"IF(ISBLANK('Data Input'!A786),\"\",COUNTIF('Data Input'!C786:AK786,\"0\"))","v":""},{"$f":"IF(ISBLANK('Data Input'!A786),\"\",SUM(B781,C781))","v":""},{"$f":"IF(ISBLANK('Data Input'!A786),\"\",SUM('Data Input'!C786:AK786))","v":""},{"$f":"IF(E781=\"\",\"\",E781/(COUNTA('Data Input'!$C$8:$AK$8)))","v":""},{"$f":"IF(ISBLANK('Data Input'!A786),\"\",SUM('Data Input'!C786,'Data Input'!D786,'Data Input'!J786,'Data Input'!X786))","v":""},{"$f":"IF(G781=\"\",\"\",G781/COUNTIF('Data Input'!$C$8:$AK$8,\"N\"))","v":""},{"$f":"IF(ISBLANK('Data Input'!A786),\"\",SUM('Data Input'!G786,'Data Input'!I786,'Data Input'!L786,'Data Input'!N786,'Data Input'!O786,'Data Input'!S786,'Data Input'!Z786,'Data Input'!AA786,'Data Input'!AB786,'Data Input'!AC786,'Data Input'!AE786,'Data Input'!AF786,'Data Input'!AG786,'Data Input'!AI786,'Data Input'!AK786))","v":""},{"$f":"IF(I781=\"\",\"\",I781/COUNTIF('Data Input'!$C$8:$AK$8,\"C\"))","v":""},{"$f":"IF(ISBLANK('Data Input'!A786),\"\",SUM('Data Input'!T786,'Data Input'!U786))","v":""},{"$f":"IF(K781=\"\",\"\",K781/COUNTIF('Data Input'!$C$8:$AK$8,\"S\"))","v":""},{"$f":"IF(ISBLANK('Data Input'!A786),\"\",SUM('Data Input'!F786,'Data Input'!R786,'Data Input'!AJ786))","v":""},{"$f":"IF(M781=\"\",\"\",M781/COUNTIF('Data Input'!$C$8:$AK$8,\"F\"))","v":""},{"$f":"IF(ISBLANK('Data Input'!A786),\"\",SUM('Data Input'!E786,'Data Input'!M786,'Data Input'!Q786,'Data Input'!V786,'Data Input'!W786,'Data Input'!AD786,'Data Input'!AH786))","v":""},{"$f":"IF(O781=\"\",\"\",O781/COUNTIF('Data Input'!$C$8:$AK$8,\"M\"))","v":""},{"$f":"IF(ISBLANK('Data Input'!A786),\"\",SUM('Data Input'!H786,'Data Input'!K786,'Data Input'!P786,'Data Input'!Y786))","v":""},{"$f":"IF(Q781=\"\",\"\",Q781/COUNTIF('Data Input'!$C$8:$AK$8,\"G\"))","v":""}]
[{"$f":"IF('Data Input'!A787=0,\"\",'Data Input'!A787)","v":""},{"$f":"IF(ISBLANK('Data Input'!A787),\"\",COUNTIF('Data Input'!C787:AK787,\"\"))","v":""},{"$f":"IF(ISBLANK('Data Input'!A787),\"\",COUNTIF('Data Input'!C787:AK787,\"0\"))","v":""},{"$f":"IF(ISBLANK('Data Input'!A787),\"\",SUM(B782,C782))","v":""},{"$f":"IF(ISBLANK('Data Input'!A787),\"\",SUM('Data Input'!C787:AK787))","v":""},{"$f":"IF(E782=\"\",\"\",E782/(COUNTA('Data Input'!$C$8:$AK$8)))","v":""},{"$f":"IF(ISBLANK('Data Input'!A787),\"\",SUM('Data Input'!C787,'Data Input'!D787,'Data Input'!J787,'Data Input'!X787))","v":""},{"$f":"IF(G782=\"\",\"\",G782/COUNTIF('Data Input'!$C$8:$AK$8,\"N\"))","v":""},{"$f":"IF(ISBLANK('Data Input'!A787),\"\",SUM('Data Input'!G787,'Data Input'!I787,'Data Input'!L787,'Data Input'!N787,'Data Input'!O787,'Data Input'!S787,'Data Input'!Z787,'Data Input'!AA787,'Data Input'!AB787,'Data Input'!AC787,'Data Input'!AE787,'Data Input'!AF787,'Data Input'!AG787,'Data Input'!AI787,'Data Input'!AK787))","v":""},{"$f":"IF(I782=\"\",\"\",I782/COUNTIF('Data Input'!$C$8:$AK$8,\"C\"))","v":""},{"$f":"IF(ISBLANK('Data Input'!A787),\"\",SUM('Data Input'!T787,'Data Input'!U787))","v":""},{"$f":"IF(K782=\"\",\"\",K782/COUNTIF('Data Input'!$C$8:$AK$8,\"S\"))","v":""},{"$f":"IF(ISBLANK('Data Input'!A787),\"\",SUM('Data Input'!F787,'Data Input'!R787,'Data Input'!AJ787))","v":""},{"$f":"IF(M782=\"\",\"\",M782/COUNTIF('Data Input'!$C$8:$AK$8,\"F\"))","v":""},{"$f":"IF(ISBLANK('Data Input'!A787),\"\",SUM('Data Input'!E787,'Data Input'!M787,'Data Input'!Q787,'Data Input'!V787,'Data Input'!W787,'Data Input'!AD787,'Data Input'!AH787))","v":""},{"$f":"IF(O782=\"\",\"\",O782/COUNTIF('Data Input'!$C$8:$AK$8,\"M\"))","v":""},{"$f":"IF(ISBLANK('Data Input'!A787),\"\",SUM('Data Input'!H787,'Data Input'!K787,'Data Input'!P787,'Data Input'!Y787))","v":""},{"$f":"IF(Q782=\"\",\"\",Q782/COUNTIF('Data Input'!$C$8:$AK$8,\"G\"))","v":""}]
[{"$f":"IF('Data Input'!A788=0,\"\",'Data Input'!A788)","v":""},{"$f":"IF(ISBLANK('Data Input'!A788),\"\",COUNTIF('Data Input'!C788:AK788,\"\"))","v":""},{"$f":"IF(ISBLANK('Data Input'!A788),\"\",COUNTIF('Data Input'!C788:AK788,\"0\"))","v":""},{"$f":"IF(ISBLANK('Data Input'!A788),\"\",SUM(B783,C783))","v":""},{"$f":"IF(ISBLANK('Data Input'!A788),\"\",SUM('Data Input'!C788:AK788))","v":""},{"$f":"IF(E783=\"\",\"\",E783/(COUNTA('Data Input'!$C$8:$AK$8)))","v":""},{"$f":"IF(ISBLANK('Data Input'!A788),\"\",SUM('Data Input'!C788,'Data Input'!D788,'Data Input'!J788,'Data Input'!X788))","v":""},{"$f":"IF(G783=\"\",\"\",G783/COUNTIF('Data Input'!$C$8:$AK$8,\"N\"))","v":""},{"$f":"IF(ISBLANK('Data Input'!A788),\"\",SUM('Data Input'!G788,'Data Input'!I788,'Data Input'!L788,'Data Input'!N788,'Data Input'!O788,'Data Input'!S788,'Data Input'!Z788,'Data Input'!AA788,'Data Input'!AB788,'Data Input'!AC788,'Data Input'!AE788,'Data Input'!AF788,'Data Input'!AG788,'Data Input'!AI788,'Data Input'!AK788))","v":""},{"$f":"IF(I783=\"\",\"\",I783/COUNTIF('Data Input'!$C$8:$AK$8,\"C\"))","v":""},{"$f":"IF(ISBLANK('Data Input'!A788),\"\",SUM('Data Input'!T788,'Data Input'!U788))","v":""},{"$f":"IF(K783=\"\",\"\",K783/COUNTIF('Data Input'!$C$8:$AK$8,\"S\"))","v":""},{"$f":"IF(ISBLANK('Data Input'!A788),\"\",SUM('Data Input'!F788,'Data Input'!R788,'Data Input'!AJ788))","v":""},{"$f":"IF(M783=\"\",\"\",M783/COUNTIF('Data Input'!$C$8:$AK$8,\"F\"))","v":""},{"$f":"IF(ISBLANK('Data Input'!A788),\"\",SUM('Data Input'!E788,'Data Input'!M788,'Data Input'!Q788,'Data Input'!V788,'Data Input'!W788,'Data Input'!AD788,'Data Input'!AH788))","v":""},{"$f":"IF(O783=\"\",\"\",O783/COUNTIF('Data Input'!$C$8:$AK$8,\"M\"))","v":""},{"$f":"IF(ISBLANK('Data Input'!A788),\"\",SUM('Data Input'!H788,'Data Input'!K788,'Data Input'!P788,'Data Input'!Y788))","v":""},{"$f":"IF(Q783=\"\",\"\",Q783/COUNTIF('Data Input'!$C$8:$AK$8,\"G\"))","v":""}]
[{"$f":"IF('Data Input'!A789=0,\"\",'Data Input'!A789)","v":""},{"$f":"IF(ISBLANK('Data Input'!A789),\"\",COUNTIF('Data Input'!C789:AK789,\"\"))","v":""},{"$f":"IF(ISBLANK('Data Input'!A789),\"\",COUNTIF('Data Input'!C789:AK789,\"0\"))","v":""},{"$f":"IF(ISBLANK('Data Input'!A789),\"\",SUM(B784,C784))","v":""},{"$f":"IF(ISBLANK('Data Input'!A789),\"\",SUM('Data Input'!C789:AK789))","v":""},{"$f":"IF(E784=\"\",\"\",E784/(COUNTA('Data Input'!$C$8:$AK$8)))","v":""},{"$f":"IF(ISBLANK('Data Input'!A789),\"\",SUM('Data Input'!C789,'Data Input'!D789,'Data Input'!J789,'Data Input'!X789))","v":""},{"$f":"IF(G784=\"\",\"\",G784/COUNTIF('Data Input'!$C$8:$AK$8,\"N\"))","v":""},{"$f":"IF(ISBLANK('Data Input'!A789),\"\",SUM('Data Input'!G789,'Data Input'!I789,'Data Input'!L789,'Data Input'!N789,'Data Input'!O789,'Data Input'!S789,'Data Input'!Z789,'Data Input'!AA789,'Data Input'!AB789,'Data Input'!AC789,'Data Input'!AE789,'Data Input'!AF789,'Data Input'!AG789,'Data Input'!AI789,'Data Input'!AK789))","v":""},{"$f":"IF(I784=\"\",\"\",I784/COUNTIF('Data Input'!$C$8:$AK$8,\"C\"))","v":""},{"$f":"IF(ISBLANK('Data Input'!A789),\"\",SUM('Data Input'!T789,'Data Input'!U789))","v":""},{"$f":"IF(K784=\"\",\"\",K784/COUNTIF('Data Input'!$C$8:$AK$8,\"S\"))","v":""},{"$f":"IF(ISBLANK('Data Input'!A789),\"\",SUM('Data Input'!F789,'Data Input'!R789,'Data Input'!AJ789))","v":""},{"$f":"IF(M784=\"\",\"\",M784/COUNTIF('Data Input'!$C$8:$AK$8,\"F\"))","v":""},{"$f":"IF(ISBLANK('Data Input'!A789),\"\",SUM('Data Input'!E789,'Data Input'!M789,'Data Input'!Q789,'Data Input'!V789,'Data Input'!W789,'Data Input'!AD789,'Data Input'!AH789))","v":""},{"$f":"IF(O784=\"\",\"\",O784/COUNTIF('Data Input'!$C$8:$AK$8,\"M\"))","v":""},{"$f":"IF(ISBLANK('Data Input'!A789),\"\",SUM('Data Input'!H789,'Data Input'!K789,'Data Input'!P789,'Data Input'!Y789))","v":""},{"$f":"IF(Q784=\"\",\"\",Q784/COUNTIF('Data Input'!$C$8:$AK$8,\"G\"))","v":""}]
[{"$f":"IF('Data Input'!A790=0,\"\",'Data Input'!A790)","v":""},{"$f":"IF(ISBLANK('Data Input'!A790),\"\",COUNTIF('Data Input'!C790:AK790,\"\"))","v":""},{"$f":"IF(ISBLANK('Data Input'!A790),\"\",COUNTIF('Data Input'!C790:AK790,\"0\"))","v":""},{"$f":"IF(ISBLANK('Data Input'!A790),\"\",SUM(B785,C785))","v":""},{"$f":"IF(ISBLANK('Data Input'!A790),\"\",SUM('Data Input'!C790:AK790))","v":""},{"$f":"IF(E785=\"\",\"\",E785/(COUNTA('Data Input'!$C$8:$AK$8)))","v":""},{"$f":"IF(ISBLANK('Data Input'!A790),\"\",SUM('Data Input'!C790,'Data Input'!D790,'Data Input'!J790,'Data Input'!X790))","v":""},{"$f":"IF(G785=\"\",\"\",G785/COUNTIF('Data Input'!$C$8:$AK$8,\"N\"))","v":""},{"$f":"IF(ISBLANK('Data Input'!A790),\"\",SUM('Data Input'!G790,'Data Input'!I790,'Data Input'!L790,'Data Input'!N790,'Data Input'!O790,'Data Input'!S790,'Data Input'!Z790,'Data Input'!AA790,'Data Input'!AB790,'Data Input'!AC790,'Data Input'!AE790,'Data Input'!AF790,'Data Input'!AG790,'Data Input'!AI790,'Data Input'!AK790))","v":""},{"$f":"IF(I785=\"\",\"\",I785/COUNTIF('Data Input'!$C$8:$AK$8,\"C\"))","v":""},{"$f":"IF(ISBLANK('Data Input'!A790),\"\",SUM('Data Input'!T790,'Data Input'!U790))","v":""},{"$f":"IF(K785=\"\",\"\",K785/COUNTIF('Data Input'!$C$8:$AK$8,\"S\"))","v":""},{"$f":"IF(ISBLANK('Data Input'!A790),\"\",SUM('Data Input'!F790,'Data Input'!R790,'Data Input'!AJ790))","v":""},{"$f":"IF(M785=\"\",\"\",M785/COUNTIF('Data Input'!$C$8:$AK$8,\"F\"))","v":""},{"$f":"IF(ISBLANK('Data Input'!A790),\"\",SUM('Data Input'!E790,'Data Input'!M790,'Data Input'!Q790,'Data Input'!V790,'Data Input'!W790,'Data Input'!AD790,'Data Input'!AH790))","v":""},{"$f":"IF(O785=\"\",\"\",O785/COUNTIF('Data Input'!$C$8:$AK$8,\"M\"))","v":""},{"$f":"IF(ISBLANK('Data Input'!A790),\"\",SUM('Data Input'!H790,'Data Input'!K790,'Data Input'!P790,'Data Input'!Y790))","v":""},{"$f":"IF(Q785=\"\",\"\",Q785/COUNTIF('Data Input'!$C$8:$AK$8,\"G\"))","v":""}]
[{"$f":"IF('Data Input'!A791=0,\"\",'Data Input'!A791)","v":""},{"$f":"IF(ISBLANK('Data Input'!A791),\"\",COUNTIF('Data Input'!C791:AK791,\"\"))","v":""},{"$f":"IF(ISBLANK('Data Input'!A791),\"\",COUNTIF('Data Input'!C791:AK791,\"0\"))","v":""},{"$f":"IF(ISBLANK('Data Input'!A791),\"\",SUM(B786,C786))","v":""},{"$f":"IF(ISBLANK('Data Input'!A791),\"\",SUM('Data Input'!C791:AK791))","v":""},{"$f":"IF(E786=\"\",\"\",E786/(COUNTA('Data Input'!$C$8:$AK$8)))","v":""},{"$f":"IF(ISBLANK('Data Input'!A791),\"\",SUM('Data Input'!C791,'Data Input'!D791,'Data Input'!J791,'Data Input'!X791))","v":""},{"$f":"IF(G786=\"\",\"\",G786/COUNTIF('Data Input'!$C$8:$AK$8,\"N\"))","v":""},{"$f":"IF(ISBLANK('Data Input'!A791),\"\",SUM('Data Input'!G791,'Data Input'!I791,'Data Input'!L791,'Data Input'!N791,'Data Input'!O791,'Data Input'!S791,'Data Input'!Z791,'Data Input'!AA791,'Data Input'!AB791,'Data Input'!AC791,'Data Input'!AE791,'Data Input'!AF791,'Data Input'!AG791,'Data Input'!AI791,'Data Input'!AK791))","v":""},{"$f":"IF(I786=\"\",\"\",I786/COUNTIF('Data Input'!$C$8:$AK$8,\"C\"))","v":""},{"$f":"IF(ISBLANK('Data Input'!A791),\"\",SUM('Data Input'!T791,'Data Input'!U791))","v":""},{"$f":"IF(K786=\"\",\"\",K786/COUNTIF('Data Input'!$C$8:$AK$8,\"S\"))","v":""},{"$f":"IF(ISBLANK('Data Input'!A791),\"\",SUM('Data Input'!F791,'Data Input'!R791,'Data Input'!AJ791))","v":""},{"$f":"IF(M786=\"\",\"\",M786/COUNTIF('Data Input'!$C$8:$AK$8,\"F\"))","v":""},{"$f":"IF(ISBLANK('Data Input'!A791),\"\",SUM('Data Input'!E791,'Data Input'!M791,'Data Input'!Q791,'Data Input'!V791,'Data Input'!W791,'Data Input'!AD791,'Data Input'!AH791))","v":""},{"$f":"IF(O786=\"\",\"\",O786/COUNTIF('Data Input'!$C$8:$AK$8,\"M\"))","v":""},{"$f":"IF(ISBLANK('Data Input'!A791),\"\",SUM('Data Input'!H791,'Data Input'!K791,'Data Input'!P791,'Data Input'!Y791))","v":""},{"$f":"IF(Q786=\"\",\"\",Q786/COUNTIF('Data Input'!$C$8:$AK$8,\"G\"))","v":""}]
[{"$f":"IF('Data Input'!A792=0,\"\",'Data Input'!A792)","v":""},{"$f":"IF(ISBLANK('Data Input'!A792),\"\",COUNTIF('Data Input'!C792:AK792,\"\"))","v":""},{"$f":"IF(ISBLANK('Data Input'!A792),\"\",COUNTIF('Data Input'!C792:AK792,\"0\"))","v":""},{"$f":"IF(ISBLANK('Data Input'!A792),\"\",SUM(B787,C787))","v":""},{"$f":"IF(ISBLANK('Data Input'!A792),\"\",SUM('Data Input'!C792:AK792))","v":""},{"$f":"IF(E787=\"\",\"\",E787/(COUNTA('Data Input'!$C$8:$AK$8)))","v":""},{"$f":"IF(ISBLANK('Data Input'!A792),\"\",SUM('Data Input'!C792,'Data Input'!D792,'Data Input'!J792,'Data Input'!X792))","v":""},{"$f":"IF(G787=\"\",\"\",G787/COUNTIF('Data Input'!$C$8:$AK$8,\"N\"))","v":""},{"$f":"IF(ISBLANK('Data Input'!A792),\"\",SUM('Data Input'!G792,'Data Input'!I792,'Data Input'!L792,'Data Input'!N792,'Data Input'!O792,'Data Input'!S792,'Data Input'!Z792,'Data Input'!AA792,'Data Input'!AB792,'Data Input'!AC792,'Data Input'!AE792,'Data Input'!AF792,'Data Input'!AG792,'Data Input'!AI792,'Data Input'!AK792))","v":""},{"$f":"IF(I787=\"\",\"\",I787/COUNTIF('Data Input'!$C$8:$AK$8,\"C\"))","v":""},{"$f":"IF(ISBLANK('Data Input'!A792),\"\",SUM('Data Input'!T792,'Data Input'!U792))","v":""},{"$f":"IF(K787=\"\",\"\",K787/COUNTIF('Data Input'!$C$8:$AK$8,\"S\"))","v":""},{"$f":"IF(ISBLANK('Data Input'!A792),\"\",SUM('Data Input'!F792,'Data Input'!R792,'Data Input'!AJ792))","v":""},{"$f":"IF(M787=\"\",\"\",M787/COUNTIF('Data Input'!$C$8:$AK$8,\"F\"))","v":""},{"$f":"IF(ISBLANK('Data Input'!A792),\"\",SUM('Data Input'!E792,'Data Input'!M792,'Data Input'!Q792,'Data Input'!V792,'Data Input'!W792,'Data Input'!AD792,'Data Input'!AH792))","v":""},{"$f":"IF(O787=\"\",\"\",O787/COUNTIF('Data Input'!$C$8:$AK$8,\"M\"))","v":""},{"$f":"IF(ISBLANK('Data Input'!A792),\"\",SUM('Data Input'!H792,'Data Input'!K792,'Data Input'!P792,'Data Input'!Y792))","v":""},{"$f":"IF(Q787=\"\",\"\",Q787/COUNTIF('Data Input'!$C$8:$AK$8,\"G\"))","v":""}]
[{"$f":"IF('Data Input'!A793=0,\"\",'Data Input'!A793)","v":""},{"$f":"IF(ISBLANK('Data Input'!A793),\"\",COUNTIF('Data Input'!C793:AK793,\"\"))","v":""},{"$f":"IF(ISBLANK('Data Input'!A793),\"\",COUNTIF('Data Input'!C793:AK793,\"0\"))","v":""},{"$f":"IF(ISBLANK('Data Input'!A793),\"\",SUM(B788,C788))","v":""},{"$f":"IF(ISBLANK('Data Input'!A793),\"\",SUM('Data Input'!C793:AK793))","v":""},{"$f":"IF(E788=\"\",\"\",E788/(COUNTA('Data Input'!$C$8:$AK$8)))","v":""},{"$f":"IF(ISBLANK('Data Input'!A793),\"\",SUM('Data Input'!C793,'Data Input'!D793,'Data Input'!J793,'Data Input'!X793))","v":""},{"$f":"IF(G788=\"\",\"\",G788/COUNTIF('Data Input'!$C$8:$AK$8,\"N\"))","v":""},{"$f":"IF(ISBLANK('Data Input'!A793),\"\",SUM('Data Input'!G793,'Data Input'!I793,'Data Input'!L793,'Data Input'!N793,'Data Input'!O793,'Data Input'!S793,'Data Input'!Z793,'Data Input'!AA793,'Data Input'!AB793,'Data Input'!AC793,'Data Input'!AE793,'Data Input'!AF793,'Data Input'!AG793,'Data Input'!AI793,'Data Input'!AK793))","v":""},{"$f":"IF(I788=\"\",\"\",I788/COUNTIF('Data Input'!$C$8:$AK$8,\"C\"))","v":""},{"$f":"IF(ISBLANK('Data Input'!A793),\"\",SUM('Data Input'!T793,'Data Input'!U793))","v":""},{"$f":"IF(K788=\"\",\"\",K788/COUNTIF('Data Input'!$C$8:$AK$8,\"S\"))","v":""},{"$f":"IF(ISBLANK('Data Input'!A793),\"\",SUM('Data Input'!F793,'Data Input'!R793,'Data Input'!AJ793))","v":""},{"$f":"IF(M788=\"\",\"\",M788/COUNTIF('Data Input'!$C$8:$AK$8,\"F\"))","v":""},{"$f":"IF(ISBLANK('Data Input'!A793),\"\",SUM('Data Input'!E793,'Data Input'!M793,'Data Input'!Q793,'Data Input'!V793,'Data Input'!W793,'Data Input'!AD793,'Data Input'!AH793))","v":""},{"$f":"IF(O788=\"\",\"\",O788/COUNTIF('Data Input'!$C$8:$AK$8,\"M\"))","v":""},{"$f":"IF(ISBLANK('Data Input'!A793),\"\",SUM('Data Input'!H793,'Data Input'!K793,'Data Input'!P793,'Data Input'!Y793))","v":""},{"$f":"IF(Q788=\"\",\"\",Q788/COUNTIF('Data Input'!$C$8:$AK$8,\"G\"))","v":""}]
[{"$f":"IF('Data Input'!A794=0,\"\",'Data Input'!A794)","v":""},{"$f":"IF(ISBLANK('Data Input'!A794),\"\",COUNTIF('Data Input'!C794:AK794,\"\"))","v":""},{"$f":"IF(ISBLANK('Data Input'!A794),\"\",COUNTIF('Data Input'!C794:AK794,\"0\"))","v":""},{"$f":"IF(ISBLANK('Data Input'!A794),\"\",SUM(B789,C789))","v":""},{"$f":"IF(ISBLANK('Data Input'!A794),\"\",SUM('Data Input'!C794:AK794))","v":""},{"$f":"IF(E789=\"\",\"\",E789/(COUNTA('Data Input'!$C$8:$AK$8)))","v":""},{"$f":"IF(ISBLANK('Data Input'!A794),\"\",SUM('Data Input'!C794,'Data Input'!D794,'Data Input'!J794,'Data Input'!X794))","v":""},{"$f":"IF(G789=\"\",\"\",G789/COUNTIF('Data Input'!$C$8:$AK$8,\"N\"))","v":""},{"$f":"IF(ISBLANK('Data Input'!A794),\"\",SUM('Data Input'!G794,'Data Input'!I794,'Data Input'!L794,'Data Input'!N794,'Data Input'!O794,'Data Input'!S794,'Data Input'!Z794,'Data Input'!AA794,'Data Input'!AB794,'Data Input'!AC794,'Data Input'!AE794,'Data Input'!AF794,'Data Input'!AG794,'Data Input'!AI794,'Data Input'!AK794))","v":""},{"$f":"IF(I789=\"\",\"\",I789/COUNTIF('Data Input'!$C$8:$AK$8,\"C\"))","v":""},{"$f":"IF(ISBLANK('Data Input'!A794),\"\",SUM('Data Input'!T794,'Data Input'!U794))","v":""},{"$f":"IF(K789=\"\",\"\",K789/COUNTIF('Data Input'!$C$8:$AK$8,\"S\"))","v":""},{"$f":"IF(ISBLANK('Data Input'!A794),\"\",SUM('Data Input'!F794,'Data Input'!R794,'Data Input'!AJ794))","v":""},{"$f":"IF(M789=\"\",\"\",M789/COUNTIF('Data Input'!$C$8:$AK$8,\"F\"))","v":""},{"$f":"IF(ISBLANK('Data Input'!A794),\"\",SUM('Data Input'!E794,'Data Input'!M794,'Data Input'!Q794,'Data Input'!V794,'Data Input'!W794,'Data Input'!AD794,'Data Input'!AH794))","v":""},{"$f":"IF(O789=\"\",\"\",O789/COUNTIF('Data Input'!$C$8:$AK$8,\"M\"))","v":""},{"$f":"IF(ISBLANK('Data Input'!A794),\"\",SUM('Data Input'!H794,'Data Input'!K794,'Data Input'!P794,'Data Input'!Y794))","v":""},{"$f":"IF(Q789=\"\",\"\",Q789/COUNTIF('Data Input'!$C$8:$AK$8,\"G\"))","v":""}]
[{"$f":"IF('Data Input'!A795=0,\"\",'Data Input'!A795)","v":""},{"$f":"IF(ISBLANK('Data Input'!A795),\"\",COUNTIF('Data Input'!C795:AK795,\"\"))","v":""},{"$f":"IF(ISBLANK('Data Input'!A795),\"\",COUNTIF('Data Input'!C795:AK795,\"0\"))","v":""},{"$f":"IF(ISBLANK('Data Input'!A795),\"\",SUM(B790,C790))","v":""},{"$f":"IF(ISBLANK('Data Input'!A795),\"\",SUM('Data Input'!C795:AK795))","v":""},{"$f":"IF(E790=\"\",\"\",E790/(COUNTA('Data Input'!$C$8:$AK$8)))","v":""},{"$f":"IF(ISBLANK('Data Input'!A795),\"\",SUM('Data Input'!C795,'Data Input'!D795,'Data Input'!J795,'Data Input'!X795))","v":""},{"$f":"IF(G790=\"\",\"\",G790/COUNTIF('Data Input'!$C$8:$AK$8,\"N\"))","v":""},{"$f":"IF(ISBLANK('Data Input'!A795),\"\",SUM('Data Input'!G795,'Data Input'!I795,'Data Input'!L795,'Data Input'!N795,'Data Input'!O795,'Data Input'!S795,'Data Input'!Z795,'Data Input'!AA795,'Data Input'!AB795,'Data Input'!AC795,'Data Input'!AE795,'Data Input'!AF795,'Data Input'!AG795,'Data Input'!AI795,'Data Input'!AK795))","v":""},{"$f":"IF(I790=\"\",\"\",I790/COUNTIF('Data Input'!$C$8:$AK$8,\"C\"))","v":""},{"$f":"IF(ISBLANK('Data Input'!A795),\"\",SUM('Data Input'!T795,'Data Input'!U795))","v":""},{"$f":"IF(K790=\"\",\"\",K790/COUNTIF('Data Input'!$C$8:$AK$8,\"S\"))","v":""},{"$f":"IF(ISBLANK('Data Input'!A795),\"\",SUM('Data Input'!F795,'Data Input'!R795,'Data Input'!AJ795))","v":""},{"$f":"IF(M790=\"\",\"\",M790/COUNTIF('Data Input'!$C$8:$AK$8,\"F\"))","v":""},{"$f":"IF(ISBLANK('Data Input'!A795),\"\",SUM('Data Input'!E795,'Data Input'!M795,'Data Input'!Q795,'Data Input'!V795,'Data Input'!W795,'Data Input'!AD795,'Data Input'!AH795))","v":""},{"$f":"IF(O790=\"\",\"\",O790/COUNTIF('Data Input'!$C$8:$AK$8,\"M\"))","v":""},{"$f":"IF(ISBLANK('Data Input'!A795),\"\",SUM('Data Input'!H795,'Data Input'!K795,'Data Input'!P795,'Data Input'!Y795))","v":""},{"$f":"IF(Q790=\"\",\"\",Q790/COUNTIF('Data Input'!$C$8:$AK$8,\"G\"))","v":""}]
[{"$f":"IF('Data Input'!A796=0,\"\",'Data Input'!A796)","v":""},{"$f":"IF(ISBLANK('Data Input'!A796),\"\",COUNTIF('Data Input'!C796:AK796,\"\"))","v":""},{"$f":"IF(ISBLANK('Data Input'!A796),\"\",COUNTIF('Data Input'!C796:AK796,\"0\"))","v":""},{"$f":"IF(ISBLANK('Data Input'!A796),\"\",SUM(B791,C791))","v":""},{"$f":"IF(ISBLANK('Data Input'!A796),\"\",SUM('Data Input'!C796:AK796))","v":""},{"$f":"IF(E791=\"\",\"\",E791/(COUNTA('Data Input'!$C$8:$AK$8)))","v":""},{"$f":"IF(ISBLANK('Data Input'!A796),\"\",SUM('Data Input'!C796,'Data Input'!D796,'Data Input'!J796,'Data Input'!X796))","v":""},{"$f":"IF(G791=\"\",\"\",G791/COUNTIF('Data Input'!$C$8:$AK$8,\"N\"))","v":""},{"$f":"IF(ISBLANK('Data Input'!A796),\"\",SUM('Data Input'!G796,'Data Input'!I796,'Data Input'!L796,'Data Input'!N796,'Data Input'!O796,'Data Input'!S796,'Data Input'!Z796,'Data Input'!AA796,'Data Input'!AB796,'Data Input'!AC796,'Data Input'!AE796,'Data Input'!AF796,'Data Input'!AG796,'Data Input'!AI796,'Data Input'!AK796))","v":""},{"$f":"IF(I791=\"\",\"\",I791/COUNTIF('Data Input'!$C$8:$AK$8,\"C\"))","v":""},{"$f":"IF(ISBLANK('Data Input'!A796),\"\",SUM('Data Input'!T796,'Data Input'!U796))","v":""},{"$f":"IF(K791=\"\",\"\",K791/COUNTIF('Data Input'!$C$8:$AK$8,\"S\"))","v":""},{"$f":"IF(ISBLANK('Data Input'!A796),\"\",SUM('Data Input'!F796,'Data Input'!R796,'Data Input'!AJ796))","v":""},{"$f":"IF(M791=\"\",\"\",M791/COUNTIF('Data Input'!$C$8:$AK$8,\"F\"))","v":""},{"$f":"IF(ISBLANK('Data Input'!A796),\"\",SUM('Data Input'!E796,'Data Input'!M796,'Data Input'!Q796,'Data Input'!V796,'Data Input'!W796,'Data Input'!AD796,'Data Input'!AH796))","v":""},{"$f":"IF(O791=\"\",\"\",O791/COUNTIF('Data Input'!$C$8:$AK$8,\"M\"))","v":""},{"$f":"IF(ISBLANK('Data Input'!A796),\"\",SUM('Data Input'!H796,'Data Input'!K796,'Data Input'!P796,'Data Input'!Y796))","v":""},{"$f":"IF(Q791=\"\",\"\",Q791/COUNTIF('Data Input'!$C$8:$AK$8,\"G\"))","v":""}]
[{"$f":"IF('Data Input'!A797=0,\"\",'Data Input'!A797)","v":""},{"$f":"IF(ISBLANK('Data Input'!A797),\"\",COUNTIF('Data Input'!C797:AK797,\"\"))","v":""},{"$f":"IF(ISBLANK('Data Input'!A797),\"\",COUNTIF('Data Input'!C797:AK797,\"0\"))","v":""},{"$f":"IF(ISBLANK('Data Input'!A797),\"\",SUM(B792,C792))","v":""},{"$f":"IF(ISBLANK('Data Input'!A797),\"\",SUM('Data Input'!C797:AK797))","v":""},{"$f":"IF(E792=\"\",\"\",E792/(COUNTA('Data Input'!$C$8:$AK$8)))","v":""},{"$f":"IF(ISBLANK('Data Input'!A797),\"\",SUM('Data Input'!C797,'Data Input'!D797,'Data Input'!J797,'Data Input'!X797))","v":""},{"$f":"IF(G792=\"\",\"\",G792/COUNTIF('Data Input'!$C$8:$AK$8,\"N\"))","v":""},{"$f":"IF(ISBLANK('Data Input'!A797),\"\",SUM('Data Input'!G797,'Data Input'!I797,'Data Input'!L797,'Data Input'!N797,'Data Input'!O797,'Data Input'!S797,'Data Input'!Z797,'Data Input'!AA797,'Data Input'!AB797,'Data Input'!AC797,'Data Input'!AE797,'Data Input'!AF797,'Data Input'!AG797,'Data Input'!AI797,'Data Input'!AK797))","v":""},{"$f":"IF(I792=\"\",\"\",I792/COUNTIF('Data Input'!$C$8:$AK$8,\"C\"))","v":""},{"$f":"IF(ISBLANK('Data Input'!A797),\"\",SUM('Data Input'!T797,'Data Input'!U797))","v":""},{"$f":"IF(K792=\"\",\"\",K792/COUNTIF('Data Input'!$C$8:$AK$8,\"S\"))","v":""},{"$f":"IF(ISBLANK('Data Input'!A797),\"\",SUM('Data Input'!F797,'Data Input'!R797,'Data Input'!AJ797))","v":""},{"$f":"IF(M792=\"\",\"\",M792/COUNTIF('Data Input'!$C$8:$AK$8,\"F\"))","v":""},{"$f":"IF(ISBLANK('Data Input'!A797),\"\",SUM('Data Input'!E797,'Data Input'!M797,'Data Input'!Q797,'Data Input'!V797,'Data Input'!W797,'Data Input'!AD797,'Data Input'!AH797))","v":""},{"$f":"IF(O792=\"\",\"\",O792/COUNTIF('Data Input'!$C$8:$AK$8,\"M\"))","v":""},{"$f":"IF(ISBLANK('Data Input'!A797),\"\",SUM('Data Input'!H797,'Data Input'!K797,'Data Input'!P797,'Data Input'!Y797))","v":""},{"$f":"IF(Q792=\"\",\"\",Q792/COUNTIF('Data Input'!$C$8:$AK$8,\"G\"))","v":""}]
[{"$f":"IF('Data Input'!A798=0,\"\",'Data Input'!A798)","v":""},{"$f":"IF(ISBLANK('Data Input'!A798),\"\",COUNTIF('Data Input'!C798:AK798,\"\"))","v":""},{"$f":"IF(ISBLANK('Data Input'!A798),\"\",COUNTIF('Data Input'!C798:AK798,\"0\"))","v":""},{"$f":"IF(ISBLANK('Data Input'!A798),\"\",SUM(B793,C793))","v":""},{"$f":"IF(ISBLANK('Data Input'!A798),\"\",SUM('Data Input'!C798:AK798))","v":""},{"$f":"IF(E793=\"\",\"\",E793/(COUNTA('Data Input'!$C$8:$AK$8)))","v":""},{"$f":"IF(ISBLANK('Data Input'!A798),\"\",SUM('Data Input'!C798,'Data Input'!D798,'Data Input'!J798,'Data Input'!X798))","v":""},{"$f":"IF(G793=\"\",\"\",G793/COUNTIF('Data Input'!$C$8:$AK$8,\"N\"))","v":""},{"$f":"IF(ISBLANK('Data Input'!A798),\"\",SUM('Data Input'!G798,'Data Input'!I798,'Data Input'!L798,'Data Input'!N798,'Data Input'!O798,'Data Input'!S798,'Data Input'!Z798,'Data Input'!AA798,'Data Input'!AB798,'Data Input'!AC798,'Data Input'!AE798,'Data Input'!AF798,'Data Input'!AG798,'Data Input'!AI798,'Data Input'!AK798))","v":""},{"$f":"IF(I793=\"\",\"\",I793/COUNTIF('Data Input'!$C$8:$AK$8,\"C\"))","v":""},{"$f":"IF(ISBLANK('Data Input'!A798),\"\",SUM('Data Input'!T798,'Data Input'!U798))","v":""},{"$f":"IF(K793=\"\",\"\",K793/COUNTIF('Data Input'!$C$8:$AK$8,\"S\"))","v":""},{"$f":"IF(ISBLANK('Data Input'!A798),\"\",SUM('Data Input'!F798,'Data Input'!R798,'Data Input'!AJ798))","v":""},{"$f":"IF(M793=\"\",\"\",M793/COUNTIF('Data Input'!$C$8:$AK$8,\"F\"))","v":""},{"$f":"IF(ISBLANK('Data Input'!A798),\"\",SUM('Data Input'!E798,'Data Input'!M798,'Data Input'!Q798,'Data Input'!V798,'Data Input'!W798,'Data Input'!AD798,'Data Input'!AH798))","v":""},{"$f":"IF(O793=\"\",\"\",O793/COUNTIF('Data Input'!$C$8:$AK$8,\"M\"))","v":""},{"$f":"IF(ISBLANK('Data Input'!A798),\"\",SUM('Data Input'!H798,'Data Input'!K798,'Data Input'!P798,'Data Input'!Y798))","v":""},{"$f":"IF(Q793=\"\",\"\",Q793/COUNTIF('Data Input'!$C$8:$AK$8,\"G\"))","v":""}]
[{"$f":"IF('Data Input'!A799=0,\"\",'Data Input'!A799)","v":""},{"$f":"IF(ISBLANK('Data Input'!A799),\"\",COUNTIF('Data Input'!C799:AK799,\"\"))","v":""},{"$f":"IF(ISBLANK('Data Input'!A799),\"\",COUNTIF('Data Input'!C799:AK799,\"0\"))","v":""},{"$f":"IF(ISBLANK('Data Input'!A799),\"\",SUM(B794,C794))","v":""},{"$f":"IF(ISBLANK('Data Input'!A799),\"\",SUM('Data Input'!C799:AK799))","v":""},{"$f":"IF(E794=\"\",\"\",E794/(COUNTA('Data Input'!$C$8:$AK$8)))","v":""},{"$f":"IF(ISBLANK('Data Input'!A799),\"\",SUM('Data Input'!C799,'Data Input'!D799,'Data Input'!J799,'Data Input'!X799))","v":""},{"$f":"IF(G794=\"\",\"\",G794/COUNTIF('Data Input'!$C$8:$AK$8,\"N\"))","v":""},{"$f":"IF(ISBLANK('Data Input'!A799),\"\",SUM('Data Input'!G799,'Data Input'!I799,'Data Input'!L799,'Data Input'!N799,'Data Input'!O799,'Data Input'!S799,'Data Input'!Z799,'Data Input'!AA799,'Data Input'!AB799,'Data Input'!AC799,'Data Input'!AE799,'Data Input'!AF799,'Data Input'!AG799,'Data Input'!AI799,'Data Input'!AK799))","v":""},{"$f":"IF(I794=\"\",\"\",I794/COUNTIF('Data Input'!$C$8:$AK$8,\"C\"))","v":""},{"$f":"IF(ISBLANK('Data Input'!A799),\"\",SUM('Data Input'!T799,'Data Input'!U799))","v":""},{"$f":"IF(K794=\"\",\"\",K794/COUNTIF('Data Input'!$C$8:$AK$8,\"S\"))","v":""},{"$f":"IF(ISBLANK('Data Input'!A799),\"\",SUM('Data Input'!F799,'Data Input'!R799,'Data Input'!AJ799))","v":""},{"$f":"IF(M794=\"\",\"\",M794/COUNTIF('Data Input'!$C$8:$AK$8,\"F\"))","v":""},{"$f":"IF(ISBLANK('Data Input'!A799),\"\",SUM('Data Input'!E799,'Data Input'!M799,'Data Input'!Q799,'Data Input'!V799,'Data Input'!W799,'Data Input'!AD799,'Data Input'!AH799))","v":""},{"$f":"IF(O794=\"\",\"\",O794/COUNTIF('Data Input'!$C$8:$AK$8,\"M\"))","v":""},{"$f":"IF(ISBLANK('Data Input'!A799),\"\",SUM('Data Input'!H799,'Data Input'!K799,'Data Input'!P799,'Data Input'!Y799))","v":""},{"$f":"IF(Q794=\"\",\"\",Q794/COUNTIF('Data Input'!$C$8:$AK$8,\"G\"))","v":""}]
[{"$f":"IF('Data Input'!A800=0,\"\",'Data Input'!A800)","v":""},{"$f":"IF(ISBLANK('Data Input'!A800),\"\",COUNTIF('Data Input'!C800:AK800,\"\"))","v":""},{"$f":"IF(ISBLANK('Data Input'!A800),\"\",COUNTIF('Data Input'!C800:AK800,\"0\"))","v":""},{"$f":"IF(ISBLANK('Data Input'!A800),\"\",SUM(B795,C795))","v":""},{"$f":"IF(ISBLANK('Data Input'!A800),\"\",SUM('Data Input'!C800:AK800))","v":""},{"$f":"IF(E795=\"\",\"\",E795/(COUNTA('Data Input'!$C$8:$AK$8)))","v":""},{"$f":"IF(ISBLANK('Data Input'!A800),\"\",SUM('Data Input'!C800,'Data Input'!D800,'Data Input'!J800,'Data Input'!X800))","v":""},{"$f":"IF(G795=\"\",\"\",G795/COUNTIF('Data Input'!$C$8:$AK$8,\"N\"))","v":""},{"$f":"IF(ISBLANK('Data Input'!A800),\"\",SUM('Data Input'!G800,'Data Input'!I800,'Data Input'!L800,'Data Input'!N800,'Data Input'!O800,'Data Input'!S800,'Data Input'!Z800,'Data Input'!AA800,'Data Input'!AB800,'Data Input'!AC800,'Data Input'!AE800,'Data Input'!AF800,'Data Input'!AG800,'Data Input'!AI800,'Data Input'!AK800))","v":""},{"$f":"IF(I795=\"\",\"\",I795/COUNTIF('Data Input'!$C$8:$AK$8,\"C\"))","v":""},{"$f":"IF(ISBLANK('Data Input'!A800),\"\",SUM('Data Input'!T800,'Data Input'!U800))","v":""},{"$f":"IF(K795=\"\",\"\",K795/COUNTIF('Data Input'!$C$8:$AK$8,\"S\"))","v":""},{"$f":"IF(ISBLANK('Data Input'!A800),\"\",SUM('Data Input'!F800,'Data Input'!R800,'Data Input'!AJ800))","v":""},{"$f":"IF(M795=\"\",\"\",M795/COUNTIF('Data Input'!$C$8:$AK$8,\"F\"))","v":""},{"$f":"IF(ISBLANK('Data Input'!A800),\"\",SUM('Data Input'!E800,'Data Input'!M800,'Data Input'!Q800,'Data Input'!V800,'Data Input'!W800,'Data Input'!AD800,'Data Input'!AH800))","v":""},{"$f":"IF(O795=\"\",\"\",O795/COUNTIF('Data Input'!$C$8:$AK$8,\"M\"))","v":""},{"$f":"IF(ISBLANK('Data Input'!A800),\"\",SUM('Data Input'!H800,'Data Input'!K800,'Data Input'!P800,'Data Input'!Y800))","v":""},{"$f":"IF(Q795=\"\",\"\",Q795/COUNTIF('Data Input'!$C$8:$AK$8,\"G\"))","v":""}]
[{"$f":"IF('Data Input'!A801=0,\"\",'Data Input'!A801)","v":""},{"$f":"IF(ISBLANK('Data Input'!A801),\"\",COUNTIF('Data Input'!C801:AK801,\"\"))","v":""},{"$f":"IF(ISBLANK('Data Input'!A801),\"\",COUNTIF('Data Input'!C801:AK801,\"0\"))","v":""},{"$f":"IF(ISBLANK('Data Input'!A801),\"\",SUM(B796,C796))","v":""},{"$f":"IF(ISBLANK('Data Input'!A801),\"\",SUM('Data Input'!C801:AK801))","v":""},{"$f":"IF(E796=\"\",\"\",E796/(COUNTA('Data Input'!$C$8:$AK$8)))","v":""},{"$f":"IF(ISBLANK('Data Input'!A801),\"\",SUM('Data Input'!C801,'Data Input'!D801,'Data Input'!J801,'Data Input'!X801))","v":""},{"$f":"IF(G796=\"\",\"\",G796/COUNTIF('Data Input'!$C$8:$AK$8,\"N\"))","v":""},{"$f":"IF(ISBLANK('Data Input'!A801),\"\",SUM('Data Input'!G801,'Data Input'!I801,'Data Input'!L801,'Data Input'!N801,'Data Input'!O801,'Data Input'!S801,'Data Input'!Z801,'Data Input'!AA801,'Data Input'!AB801,'Data Input'!AC801,'Data Input'!AE801,'Data Input'!AF801,'Data Input'!AG801,'Data Input'!AI801,'Data Input'!AK801))","v":""},{"$f":"IF(I796=\"\",\"\",I796/COUNTIF('Data Input'!$C$8:$AK$8,\"C\"))","v":""},{"$f":"IF(ISBLANK('Data Input'!A801),\"\",SUM('Data Input'!T801,'Data Input'!U801))","v":""},{"$f":"IF(K796=\"\",\"\",K796/COUNTIF('Data Input'!$C$8:$AK$8,\"S\"))","v":""},{"$f":"IF(ISBLANK('Data Input'!A801),\"\",SUM('Data Input'!F801,'Data Input'!R801,'Data Input'!AJ801))","v":""},{"$f":"IF(M796=\"\",\"\",M796/COUNTIF('Data Input'!$C$8:$AK$8,\"F\"))","v":""},{"$f":"IF(ISBLANK('Data Input'!A801),\"\",SUM('Data Input'!E801,'Data Input'!M801,'Data Input'!Q801,'Data Input'!V801,'Data Input'!W801,'Data Input'!AD801,'Data Input'!AH801))","v":""},{"$f":"IF(O796=\"\",\"\",O796/COUNTIF('Data Input'!$C$8:$AK$8,\"M\"))","v":""},{"$f":"IF(ISBLANK('Data Input'!A801),\"\",SUM('Data Input'!H801,'Data Input'!K801,'Data Input'!P801,'Data Input'!Y801))","v":""},{"$f":"IF(Q796=\"\",\"\",Q796/COUNTIF('Data Input'!$C$8:$AK$8,\"G\"))","v":""}]
[{"$f":"IF('Data Input'!A802=0,\"\",'Data Input'!A802)","v":""},{"$f":"IF(ISBLANK('Data Input'!A802),\"\",COUNTIF('Data Input'!C802:AK802,\"\"))","v":""},{"$f":"IF(ISBLANK('Data Input'!A802),\"\",COUNTIF('Data Input'!C802:AK802,\"0\"))","v":""},{"$f":"IF(ISBLANK('Data Input'!A802),\"\",SUM(B797,C797))","v":""},{"$f":"IF(ISBLANK('Data Input'!A802),\"\",SUM('Data Input'!C802:AK802))","v":""},{"$f":"IF(E797=\"\",\"\",E797/(COUNTA('Data Input'!$C$8:$AK$8)))","v":""},{"$f":"IF(ISBLANK('Data Input'!A802),\"\",SUM('Data Input'!C802,'Data Input'!D802,'Data Input'!J802,'Data Input'!X802))","v":""},{"$f":"IF(G797=\"\",\"\",G797/COUNTIF('Data Input'!$C$8:$AK$8,\"N\"))","v":""},{"$f":"IF(ISBLANK('Data Input'!A802),\"\",SUM('Data Input'!G802,'Data Input'!I802,'Data Input'!L802,'Data Input'!N802,'Data Input'!O802,'Data Input'!S802,'Data Input'!Z802,'Data Input'!AA802,'Data Input'!AB802,'Data Input'!AC802,'Data Input'!AE802,'Data Input'!AF802,'Data Input'!AG802,'Data Input'!AI802,'Data Input'!AK802))","v":""},{"$f":"IF(I797=\"\",\"\",I797/COUNTIF('Data Input'!$C$8:$AK$8,\"C\"))","v":""},{"$f":"IF(ISBLANK('Data Input'!A802),\"\",SUM('Data Input'!T802,'Data Input'!U802))","v":""},{"$f":"IF(K797=\"\",\"\",K797/COUNTIF('Data Input'!$C$8:$AK$8,\"S\"))","v":""},{"$f":"IF(ISBLANK('Data Input'!A802),\"\",SUM('Data Input'!F802,'Data Input'!R802,'Data Input'!AJ802))","v":""},{"$f":"IF(M797=\"\",\"\",M797/COUNTIF('Data Input'!$C$8:$AK$8,\"F\"))","v":""},{"$f":"IF(ISBLANK('Data Input'!A802),\"\",SUM('Data Input'!E802,'Data Input'!M802,'Data Input'!Q802,'Data Input'!V802,'Data Input'!W802,'Data Input'!AD802,'Data Input'!AH802))","v":""},{"$f":"IF(O797=\"\",\"\",O797/COUNTIF('Data Input'!$C$8:$AK$8,\"M\"))","v":""},{"$f":"IF(ISBLANK('Data Input'!A802),\"\",SUM('Data Input'!H802,'Data Input'!K802,'Data Input'!P802,'Data Input'!Y802))","v":""},{"$f":"IF(Q797=\"\",\"\",Q797/COUNTIF('Data Input'!$C$8:$AK$8,\"G\"))","v":""}]
[{"$f":"IF('Data Input'!A803=0,\"\",'Data Input'!A803)","v":""},{"$f":"IF(ISBLANK('Data Input'!A803),\"\",COUNTIF('Data Input'!C803:AK803,\"\"))","v":""},{"$f":"IF(ISBLANK('Data Input'!A803),\"\",COUNTIF('Data Input'!C803:AK803,\"0\"))","v":""},{"$f":"IF(ISBLANK('Data Input'!A803),\"\",SUM(B798,C798))","v":""},{"$f":"IF(ISBLANK('Data Input'!A803),\"\",SUM('Data Input'!C803:AK803))","v":""},{"$f":"IF(E798=\"\",\"\",E798/(COUNTA('Data Input'!$C$8:$AK$8)))","v":""},{"$f":"IF(ISBLANK('Data Input'!A803),\"\",SUM('Data Input'!C803,'Data Input'!D803,'Data Input'!J803,'Data Input'!X803))","v":""},{"$f":"IF(G798=\"\",\"\",G798/COUNTIF('Data Input'!$C$8:$AK$8,\"N\"))","v":""},{"$f":"IF(ISBLANK('Data Input'!A803),\"\",SUM('Data Input'!G803,'Data Input'!I803,'Data Input'!L803,'Data Input'!N803,'Data Input'!O803,'Data Input'!S803,'Data Input'!Z803,'Data Input'!AA803,'Data Input'!AB803,'Data Input'!AC803,'Data Input'!AE803,'Data Input'!AF803,'Data Input'!AG803,'Data Input'!AI803,'Data Input'!AK803))","v":""},{"$f":"IF(I798=\"\",\"\",I798/COUNTIF('Data Input'!$C$8:$AK$8,\"C\"))","v":""},{"$f":"IF(ISBLANK('Data Input'!A803),\"\",SUM('Data Input'!T803,'Data Input'!U803))","v":""},{"$f":"IF(K798=\"\",\"\",K798/COUNTIF('Data Input'!$C$8:$AK$8,\"S\"))","v":""},{"$f":"IF(ISBLANK('Data Input'!A803),\"\",SUM('Data Input'!F803,'Data Input'!R803,'Data Input'!AJ803))","v":""},{"$f":"IF(M798=\"\",\"\",M798/COUNTIF('Data Input'!$C$8:$AK$8,\"F\"))","v":""},{"$f":"IF(ISBLANK('Data Input'!A803),\"\",SUM('Data Input'!E803,'Data Input'!M803,'Data Input'!Q803,'Data Input'!V803,'Data Input'!W803,'Data Input'!AD803,'Data Input'!AH803))","v":""},{"$f":"IF(O798=\"\",\"\",O798/COUNTIF('Data Input'!$C$8:$AK$8,\"M\"))","v":""},{"$f":"IF(ISBLANK('Data Input'!A803),\"\",SUM('Data Input'!H803,'Data Input'!K803,'Data Input'!P803,'Data Input'!Y803))","v":""},{"$f":"IF(Q798=\"\",\"\",Q798/COUNTIF('Data Input'!$C$8:$AK$8,\"G\"))","v":""}]
[{"$f":"IF('Data Input'!A804=0,\"\",'Data Input'!A804)","v":""},{"$f":"IF(ISBLANK('Data Input'!A804),\"\",COUNTIF('Data Input'!C804:AK804,\"\"))","v":""},{"$f":"IF(ISBLANK('Data Input'!A804),\"\",COUNTIF('Data Input'!C804:AK804,\"0\"))","v":""},{"$f":"IF(ISBLANK('Data Input'!A804),\"\",SUM(B799,C799))","v":""},{"$f":"IF(ISBLANK('Data Input'!A804),\"\",SUM('Data Input'!C804:AK804))","v":""},{"$f":"IF(E799=\"\",\"\",E799/(COUNTA('Data Input'!$C$8:$AK$8)))","v":""},{"$f":"IF(ISBLANK('Data Input'!A804),\"\",SUM('Data Input'!C804,'Data Input'!D804,'Data Input'!J804,'Data Input'!X804))","v":""},{"$f":"IF(G799=\"\",\"\",G799/COUNTIF('Data Input'!$C$8:$AK$8,\"N\"))","v":""},{"$f":"IF(ISBLANK('Data Input'!A804),\"\",SUM('Data Input'!G804,'Data Input'!I804,'Data Input'!L804,'Data Input'!N804,'Data Input'!O804,'Data Input'!S804,'Data Input'!Z804,'Data Input'!AA804,'Data Input'!AB804,'Data Input'!AC804,'Data Input'!AE804,'Data Input'!AF804,'Data Input'!AG804,'Data Input'!AI804,'Data Input'!AK804))","v":""},{"$f":"IF(I799=\"\",\"\",I799/COUNTIF('Data Input'!$C$8:$AK$8,\"C\"))","v":""},{"$f":"IF(ISBLANK('Data Input'!A804),\"\",SUM('Data Input'!T804,'Data Input'!U804))","v":""},{"$f":"IF(K799=\"\",\"\",K799/COUNTIF('Data Input'!$C$8:$AK$8,\"S\"))","v":""},{"$f":"IF(ISBLANK('Data Input'!A804),\"\",SUM('Data Input'!F804,'Data Input'!R804,'Data Input'!AJ804))","v":""},{"$f":"IF(M799=\"\",\"\",M799/COUNTIF('Data Input'!$C$8:$AK$8,\"F\"))","v":""},{"$f":"IF(ISBLANK('Data Input'!A804),\"\",SUM('Data Input'!E804,'Data Input'!M804,'Data Input'!Q804,'Data Input'!V804,'Data Input'!W804,'Data Input'!AD804,'Data Input'!AH804))","v":""},{"$f":"IF(O799=\"\",\"\",O799/COUNTIF('Data Input'!$C$8:$AK$8,\"M\"))","v":""},{"$f":"IF(ISBLANK('Data Input'!A804),\"\",SUM('Data Input'!H804,'Data Input'!K804,'Data Input'!P804,'Data Input'!Y804))","v":""},{"$f":"IF(Q799=\"\",\"\",Q799/COUNTIF('Data Input'!$C$8:$AK$8,\"G\"))","v":""}]
[{"$f":"IF('Data Input'!A805=0,\"\",'Data Input'!A805)","v":""},{"$f":"IF(ISBLANK('Data Input'!A805),\"\",COUNTIF('Data Input'!C805:AK805,\"\"))","v":""},{"$f":"IF(ISBLANK('Data Input'!A805),\"\",COUNTIF('Data Input'!C805:AK805,\"0\"))","v":""},{"$f":"IF(ISBLANK('Data Input'!A805),\"\",SUM(B800,C800))","v":""},{"$f":"IF(ISBLANK('Data Input'!A805),\"\",SUM('Data Input'!C805:AK805))","v":""},{"$f":"IF(E800=\"\",\"\",E800/(COUNTA('Data Input'!$C$8:$AK$8)))","v":""},{"$f":"IF(ISBLANK('Data Input'!A805),\"\",SUM('Data Input'!C805,'Data Input'!D805,'Data Input'!J805,'Data Input'!X805))","v":""},{"$f":"IF(G800=\"\",\"\",G800/COUNTIF('Data Input'!$C$8:$AK$8,\"N\"))","v":""},{"$f":"IF(ISBLANK('Data Input'!A805),\"\",SUM('Data Input'!G805,'Data Input'!I805,'Data Input'!L805,'Data Input'!N805,'Data Input'!O805,'Data Input'!S805,'Data Input'!Z805,'Data Input'!AA805,'Data Input'!AB805,'Data Input'!AC805,'Data Input'!AE805,'Data Input'!AF805,'Data Input'!AG805,'Data Input'!AI805,'Data Input'!AK805))","v":""},{"$f":"IF(I800=\"\",\"\",I800/COUNTIF('Data Input'!$C$8:$AK$8,\"C\"))","v":""},{"$f":"IF(ISBLANK('Data Input'!A805),\"\",SUM('Data Input'!T805,'Data Input'!U805))","v":""},{"$f":"IF(K800=\"\",\"\",K800/COUNTIF('Data Input'!$C$8:$AK$8,\"S\"))","v":""},{"$f":"IF(ISBLANK('Data Input'!A805),\"\",SUM('Data Input'!F805,'Data Input'!R805,'Data Input'!AJ805))","v":""},{"$f":"IF(M800=\"\",\"\",M800/COUNTIF('Data Input'!$C$8:$AK$8,\"F\"))","v":""},{"$f":"IF(ISBLANK('Data Input'!A805),\"\",SUM('Data Input'!E805,'Data Input'!M805,'Data Input'!Q805,'Data Input'!V805,'Data Input'!W805,'Data Input'!AD805,'Data Input'!AH805))","v":""},{"$f":"IF(O800=\"\",\"\",O800/COUNTIF('Data Input'!$C$8:$AK$8,\"M\"))","v":""},{"$f":"IF(ISBLANK('Data Input'!A805),\"\",SUM('Data Input'!H805,'Data Input'!K805,'Data Input'!P805,'Data Input'!Y805))","v":""},{"$f":"IF(Q800=\"\",\"\",Q800/COUNTIF('Data Input'!$C$8:$AK$8,\"G\"))","v":""}]
[{"$f":"IF('Data Input'!A806=0,\"\",'Data Input'!A806)","v":""},{"$f":"IF(ISBLANK('Data Input'!A806),\"\",COUNTIF('Data Input'!C806:AK806,\"\"))","v":""},{"$f":"IF(ISBLANK('Data Input'!A806),\"\",COUNTIF('Data Input'!C806:AK806,\"0\"))","v":""},{"$f":"IF(ISBLANK('Data Input'!A806),\"\",SUM(B801,C801))","v":""},{"$f":"IF(ISBLANK('Data Input'!A806),\"\",SUM('Data Input'!C806:AK806))","v":""},{"$f":"IF(E801=\"\",\"\",E801/(COUNTA('Data Input'!$C$8:$AK$8)))","v":""},{"$f":"IF(ISBLANK('Data Input'!A806),\"\",SUM('Data Input'!C806,'Data Input'!D806,'Data Input'!J806,'Data Input'!X806))","v":""},{"$f":"IF(G801=\"\",\"\",G801/COUNTIF('Data Input'!$C$8:$AK$8,\"N\"))","v":""},{"$f":"IF(ISBLANK('Data Input'!A806),\"\",SUM('Data Input'!G806,'Data Input'!I806,'Data Input'!L806,'Data Input'!N806,'Data Input'!O806,'Data Input'!S806,'Data Input'!Z806,'Data Input'!AA806,'Data Input'!AB806,'Data Input'!AC806,'Data Input'!AE806,'Data Input'!AF806,'Data Input'!AG806,'Data Input'!AI806,'Data Input'!AK806))","v":""},{"$f":"IF(I801=\"\",\"\",I801/COUNTIF('Data Input'!$C$8:$AK$8,\"C\"))","v":""},{"$f":"IF(ISBLANK('Data Input'!A806),\"\",SUM('Data Input'!T806,'Data Input'!U806))","v":""},{"$f":"IF(K801=\"\",\"\",K801/COUNTIF('Data Input'!$C$8:$AK$8,\"S\"))","v":""},{"$f":"IF(ISBLANK('Data Input'!A806),\"\",SUM('Data Input'!F806,'Data Input'!R806,'Data Input'!AJ806))","v":""},{"$f":"IF(M801=\"\",\"\",M801/COUNTIF('Data Input'!$C$8:$AK$8,\"F\"))","v":""},{"$f":"IF(ISBLANK('Data Input'!A806),\"\",SUM('Data Input'!E806,'Data Input'!M806,'Data Input'!Q806,'Data Input'!V806,'Data Input'!W806,'Data Input'!AD806,'Data Input'!AH806))","v":""},{"$f":"IF(O801=\"\",\"\",O801/COUNTIF('Data Input'!$C$8:$AK$8,\"M\"))","v":""},{"$f":"IF(ISBLANK('Data Input'!A806),\"\",SUM('Data Input'!H806,'Data Input'!K806,'Data Input'!P806,'Data Input'!Y806))","v":""},{"$f":"IF(Q801=\"\",\"\",Q801/COUNTIF('Data Input'!$C$8:$AK$8,\"G\"))","v":""}]
[{"$f":"IF('Data Input'!A807=0,\"\",'Data Input'!A807)","v":""},{"$f":"IF(ISBLANK('Data Input'!A807),\"\",COUNTIF('Data Input'!C807:AK807,\"\"))","v":""},{"$f":"IF(ISBLANK('Data Input'!A807),\"\",COUNTIF('Data Input'!C807:AK807,\"0\"))","v":""},{"$f":"IF(ISBLANK('Data Input'!A807),\"\",SUM(B802,C802))","v":""},{"$f":"IF(ISBLANK('Data Input'!A807),\"\",SUM('Data Input'!C807:AK807))","v":""},{"$f":"IF(E802=\"\",\"\",E802/(COUNTA('Data Input'!$C$8:$AK$8)))","v":""},{"$f":"IF(ISBLANK('Data Input'!A807),\"\",SUM('Data Input'!C807,'Data Input'!D807,'Data Input'!J807,'Data Input'!X807))","v":""},{"$f":"IF(G802=\"\",\"\",G802/COUNTIF('Data Input'!$C$8:$AK$8,\"N\"))","v":""},{"$f":"IF(ISBLANK('Data Input'!A807),\"\",SUM('Data Input'!G807,'Data Input'!I807,'Data Input'!L807,'Data Input'!N807,'Data Input'!O807,'Data Input'!S807,'Data Input'!Z807,'Data Input'!AA807,'Data Input'!AB807,'Data Input'!AC807,'Data Input'!AE807,'Data Input'!AF807,'Data Input'!AG807,'Data Input'!AI807,'Data Input'!AK807))","v":""},{"$f":"IF(I802=\"\",\"\",I802/COUNTIF('Data Input'!$C$8:$AK$8,\"C\"))","v":""},{"$f":"IF(ISBLANK('Data Input'!A807),\"\",SUM('Data Input'!T807,'Data Input'!U807))","v":""},{"$f":"IF(K802=\"\",\"\",K802/COUNTIF('Data Input'!$C$8:$AK$8,\"S\"))","v":""},{"$f":"IF(ISBLANK('Data Input'!A807),\"\",SUM('Data Input'!F807,'Data Input'!R807,'Data Input'!AJ807))","v":""},{"$f":"IF(M802=\"\",\"\",M802/COUNTIF('Data Input'!$C$8:$AK$8,\"F\"))","v":""},{"$f":"IF(ISBLANK('Data Input'!A807),\"\",SUM('Data Input'!E807,'Data Input'!M807,'Data Input'!Q807,'Data Input'!V807,'Data Input'!W807,'Data Input'!AD807,'Data Input'!AH807))","v":""},{"$f":"IF(O802=\"\",\"\",O802/COUNTIF('Data Input'!$C$8:$AK$8,\"M\"))","v":""},{"$f":"IF(ISBLANK('Data Input'!A807),\"\",SUM('Data Input'!H807,'Data Input'!K807,'Data Input'!P807,'Data Input'!Y807))","v":""},{"$f":"IF(Q802=\"\",\"\",Q802/COUNTIF('Data Input'!$C$8:$AK$8,\"G\"))","v":""}]
[{"$f":"IF('Data Input'!A808=0,\"\",'Data Input'!A808)","v":""},{"$f":"IF(ISBLANK('Data Input'!A808),\"\",COUNTIF('Data Input'!C808:AK808,\"\"))","v":""},{"$f":"IF(ISBLANK('Data Input'!A808),\"\",COUNTIF('Data Input'!C808:AK808,\"0\"))","v":""},{"$f":"IF(ISBLANK('Data Input'!A808),\"\",SUM(B803,C803))","v":""},{"$f":"IF(ISBLANK('Data Input'!A808),\"\",SUM('Data Input'!C808:AK808))","v":""},{"$f":"IF(E803=\"\",\"\",E803/(COUNTA('Data Input'!$C$8:$AK$8)))","v":""},{"$f":"IF(ISBLANK('Data Input'!A808),\"\",SUM('Data Input'!C808,'Data Input'!D808,'Data Input'!J808,'Data Input'!X808))","v":""},{"$f":"IF(G803=\"\",\"\",G803/COUNTIF('Data Input'!$C$8:$AK$8,\"N\"))","v":""},{"$f":"IF(ISBLANK('Data Input'!A808),\"\",SUM('Data Input'!G808,'Data Input'!I808,'Data Input'!L808,'Data Input'!N808,'Data Input'!O808,'Data Input'!S808,'Data Input'!Z808,'Data Input'!AA808,'Data Input'!AB808,'Data Input'!AC808,'Data Input'!AE808,'Data Input'!AF808,'Data Input'!AG808,'Data Input'!AI808,'Data Input'!AK808))","v":""},{"$f":"IF(I803=\"\",\"\",I803/COUNTIF('Data Input'!$C$8:$AK$8,\"C\"))","v":""},{"$f":"IF(ISBLANK('Data Input'!A808),\"\",SUM('Data Input'!T808,'Data Input'!U808))","v":""},{"$f":"IF(K803=\"\",\"\",K803/COUNTIF('Data Input'!$C$8:$AK$8,\"S\"))","v":""},{"$f":"IF(ISBLANK('Data Input'!A808),\"\",SUM('Data Input'!F808,'Data Input'!R808,'Data Input'!AJ808))","v":""},{"$f":"IF(M803=\"\",\"\",M803/COUNTIF('Data Input'!$C$8:$AK$8,\"F\"))","v":""},{"$f":"IF(ISBLANK('Data Input'!A808),\"\",SUM('Data Input'!E808,'Data Input'!M808,'Data Input'!Q808,'Data Input'!V808,'Data Input'!W808,'Data Input'!AD808,'Data Input'!AH808))","v":""},{"$f":"IF(O803=\"\",\"\",O803/COUNTIF('Data Input'!$C$8:$AK$8,\"M\"))","v":""},{"$f":"IF(ISBLANK('Data Input'!A808),\"\",SUM('Data Input'!H808,'Data Input'!K808,'Data Input'!P808,'Data Input'!Y808))","v":""},{"$f":"IF(Q803=\"\",\"\",Q803/COUNTIF('Data Input'!$C$8:$AK$8,\"G\"))","v":""}]
[{"$f":"IF('Data Input'!A809=0,\"\",'Data Input'!A809)","v":""},{"$f":"IF(ISBLANK('Data Input'!A809),\"\",COUNTIF('Data Input'!C809:AK809,\"\"))","v":""},{"$f":"IF(ISBLANK('Data Input'!A809),\"\",COUNTIF('Data Input'!C809:AK809,\"0\"))","v":""},{"$f":"IF(ISBLANK('Data Input'!A809),\"\",SUM(B804,C804))","v":""},{"$f":"IF(ISBLANK('Data Input'!A809),\"\",SUM('Data Input'!C809:AK809))","v":""},{"$f":"IF(E804=\"\",\"\",E804/(COUNTA('Data Input'!$C$8:$AK$8)))","v":""},{"$f":"IF(ISBLANK('Data Input'!A809),\"\",SUM('Data Input'!C809,'Data Input'!D809,'Data Input'!J809,'Data Input'!X809))","v":""},{"$f":"IF(G804=\"\",\"\",G804/COUNTIF('Data Input'!$C$8:$AK$8,\"N\"))","v":""},{"$f":"IF(ISBLANK('Data Input'!A809),\"\",SUM('Data Input'!G809,'Data Input'!I809,'Data Input'!L809,'Data Input'!N809,'Data Input'!O809,'Data Input'!S809,'Data Input'!Z809,'Data Input'!AA809,'Data Input'!AB809,'Data Input'!AC809,'Data Input'!AE809,'Data Input'!AF809,'Data Input'!AG809,'Data Input'!AI809,'Data Input'!AK809))","v":""},{"$f":"IF(I804=\"\",\"\",I804/COUNTIF('Data Input'!$C$8:$AK$8,\"C\"))","v":""},{"$f":"IF(ISBLANK('Data Input'!A809),\"\",SUM('Data Input'!T809,'Data Input'!U809))","v":""},{"$f":"IF(K804=\"\",\"\",K804/COUNTIF('Data Input'!$C$8:$AK$8,\"S\"))","v":""},{"$f":"IF(ISBLANK('Data Input'!A809),\"\",SUM('Data Input'!F809,'Data Input'!R809,'Data Input'!AJ809))","v":""},{"$f":"IF(M804=\"\",\"\",M804/COUNTIF('Data Input'!$C$8:$AK$8,\"F\"))","v":""},{"$f":"IF(ISBLANK('Data Input'!A809),\"\",SUM('Data Input'!E809,'Data Input'!M809,'Data Input'!Q809,'Data Input'!V809,'Data Input'!W809,'Data Input'!AD809,'Data Input'!AH809))","v":""},{"$f":"IF(O804=\"\",\"\",O804/COUNTIF('Data Input'!$C$8:$AK$8,\"M\"))","v":""},{"$f":"IF(ISBLANK('Data Input'!A809),\"\",SUM('Data Input'!H809,'Data Input'!K809,'Data Input'!P809,'Data Input'!Y809))","v":""},{"$f":"IF(Q804=\"\",\"\",Q804/COUNTIF('Data Input'!$C$8:$AK$8,\"G\"))","v":""}]
[{"$f":"IF('Data Input'!A810=0,\"\",'Data Input'!A810)","v":""},{"$f":"IF(ISBLANK('Data Input'!A810),\"\",COUNTIF('Data Input'!C810:AK810,\"\"))","v":""},{"$f":"IF(ISBLANK('Data Input'!A810),\"\",COUNTIF('Data Input'!C810:AK810,\"0\"))","v":""},{"$f":"IF(ISBLANK('Data Input'!A810),\"\",SUM(B805,C805))","v":""},{"$f":"IF(ISBLANK('Data Input'!A810),\"\",SUM('Data Input'!C810:AK810))","v":""},{"$f":"IF(E805=\"\",\"\",E805/(COUNTA('Data Input'!$C$8:$AK$8)))","v":""},{"$f":"IF(ISBLANK('Data Input'!A810),\"\",SUM('Data Input'!C810,'Data Input'!D810,'Data Input'!J810,'Data Input'!X810))","v":""},{"$f":"IF(G805=\"\",\"\",G805/COUNTIF('Data Input'!$C$8:$AK$8,\"N\"))","v":""},{"$f":"IF(ISBLANK('Data Input'!A810),\"\",SUM('Data Input'!G810,'Data Input'!I810,'Data Input'!L810,'Data Input'!N810,'Data Input'!O810,'Data Input'!S810,'Data Input'!Z810,'Data Input'!AA810,'Data Input'!AB810,'Data Input'!AC810,'Data Input'!AE810,'Data Input'!AF810,'Data Input'!AG810,'Data Input'!AI810,'Data Input'!AK810))","v":""},{"$f":"IF(I805=\"\",\"\",I805/COUNTIF('Data Input'!$C$8:$AK$8,\"C\"))","v":""},{"$f":"IF(ISBLANK('Data Input'!A810),\"\",SUM('Data Input'!T810,'Data Input'!U810))","v":""},{"$f":"IF(K805=\"\",\"\",K805/COUNTIF('Data Input'!$C$8:$AK$8,\"S\"))","v":""},{"$f":"IF(ISBLANK('Data Input'!A810),\"\",SUM('Data Input'!F810,'Data Input'!R810,'Data Input'!AJ810))","v":""},{"$f":"IF(M805=\"\",\"\",M805/COUNTIF('Data Input'!$C$8:$AK$8,\"F\"))","v":""},{"$f":"IF(ISBLANK('Data Input'!A810),\"\",SUM('Data Input'!E810,'Data Input'!M810,'Data Input'!Q810,'Data Input'!V810,'Data Input'!W810,'Data Input'!AD810,'Data Input'!AH810))","v":""},{"$f":"IF(O805=\"\",\"\",O805/COUNTIF('Data Input'!$C$8:$AK$8,\"M\"))","v":""},{"$f":"IF(ISBLANK('Data Input'!A810),\"\",SUM('Data Input'!H810,'Data Input'!K810,'Data Input'!P810,'Data Input'!Y810))","v":""},{"$f":"IF(Q805=\"\",\"\",Q805/COUNTIF('Data Input'!$C$8:$AK$8,\"G\"))","v":""}]
[{"$f":"IF('Data Input'!A811=0,\"\",'Data Input'!A811)","v":""},{"$f":"IF(ISBLANK('Data Input'!A811),\"\",COUNTIF('Data Input'!C811:AK811,\"\"))","v":""},{"$f":"IF(ISBLANK('Data Input'!A811),\"\",COUNTIF('Data Input'!C811:AK811,\"0\"))","v":""},{"$f":"IF(ISBLANK('Data Input'!A811),\"\",SUM(B806,C806))","v":""},{"$f":"IF(ISBLANK('Data Input'!A811),\"\",SUM('Data Input'!C811:AK811))","v":""},{"$f":"IF(E806=\"\",\"\",E806/(COUNTA('Data Input'!$C$8:$AK$8)))","v":""},{"$f":"IF(ISBLANK('Data Input'!A811),\"\",SUM('Data Input'!C811,'Data Input'!D811,'Data Input'!J811,'Data Input'!X811))","v":""},{"$f":"IF(G806=\"\",\"\",G806/COUNTIF('Data Input'!$C$8:$AK$8,\"N\"))","v":""},{"$f":"IF(ISBLANK('Data Input'!A811),\"\",SUM('Data Input'!G811,'Data Input'!I811,'Data Input'!L811,'Data Input'!N811,'Data Input'!O811,'Data Input'!S811,'Data Input'!Z811,'Data Input'!AA811,'Data Input'!AB811,'Data Input'!AC811,'Data Input'!AE811,'Data Input'!AF811,'Data Input'!AG811,'Data Input'!AI811,'Data Input'!AK811))","v":""},{"$f":"IF(I806=\"\",\"\",I806/COUNTIF('Data Input'!$C$8:$AK$8,\"C\"))","v":""},{"$f":"IF(ISBLANK('Data Input'!A811),\"\",SUM('Data Input'!T811,'Data Input'!U811))","v":""},{"$f":"IF(K806=\"\",\"\",K806/COUNTIF('Data Input'!$C$8:$AK$8,\"S\"))","v":""},{"$f":"IF(ISBLANK('Data Input'!A811),\"\",SUM('Data Input'!F811,'Data Input'!R811,'Data Input'!AJ811))","v":""},{"$f":"IF(M806=\"\",\"\",M806/COUNTIF('Data Input'!$C$8:$AK$8,\"F\"))","v":""},{"$f":"IF(ISBLANK('Data Input'!A811),\"\",SUM('Data Input'!E811,'Data Input'!M811,'Data Input'!Q811,'Data Input'!V811,'Data Input'!W811,'Data Input'!AD811,'Data Input'!AH811))","v":""},{"$f":"IF(O806=\"\",\"\",O806/COUNTIF('Data Input'!$C$8:$AK$8,\"M\"))","v":""},{"$f":"IF(ISBLANK('Data Input'!A811),\"\",SUM('Data Input'!H811,'Data Input'!K811,'Data Input'!P811,'Data Input'!Y811))","v":""},{"$f":"IF(Q806=\"\",\"\",Q806/COUNTIF('Data Input'!$C$8:$AK$8,\"G\"))","v":""}]
[{"$f":"IF('Data Input'!A812=0,\"\",'Data Input'!A812)","v":""},{"$f":"IF(ISBLANK('Data Input'!A812),\"\",COUNTIF('Data Input'!C812:AK812,\"\"))","v":""},{"$f":"IF(ISBLANK('Data Input'!A812),\"\",COUNTIF('Data Input'!C812:AK812,\"0\"))","v":""},{"$f":"IF(ISBLANK('Data Input'!A812),\"\",SUM(B807,C807))","v":""},{"$f":"IF(ISBLANK('Data Input'!A812),\"\",SUM('Data Input'!C812:AK812))","v":""},{"$f":"IF(E807=\"\",\"\",E807/(COUNTA('Data Input'!$C$8:$AK$8)))","v":""},{"$f":"IF(ISBLANK('Data Input'!A812),\"\",SUM('Data Input'!C812,'Data Input'!D812,'Data Input'!J812,'Data Input'!X812))","v":""},{"$f":"IF(G807=\"\",\"\",G807/COUNTIF('Data Input'!$C$8:$AK$8,\"N\"))","v":""},{"$f":"IF(ISBLANK('Data Input'!A812),\"\",SUM('Data Input'!G812,'Data Input'!I812,'Data Input'!L812,'Data Input'!N812,'Data Input'!O812,'Data Input'!S812,'Data Input'!Z812,'Data Input'!AA812,'Data Input'!AB812,'Data Input'!AC812,'Data Input'!AE812,'Data Input'!AF812,'Data Input'!AG812,'Data Input'!AI812,'Data Input'!AK812))","v":""},{"$f":"IF(I807=\"\",\"\",I807/COUNTIF('Data Input'!$C$8:$AK$8,\"C\"))","v":""},{"$f":"IF(ISBLANK('Data Input'!A812),\"\",SUM('Data Input'!T812,'Data Input'!U812))","v":""},{"$f":"IF(K807=\"\",\"\",K807/COUNTIF('Data Input'!$C$8:$AK$8,\"S\"))","v":""},{"$f":"IF(ISBLANK('Data Input'!A812),\"\",SUM('Data Input'!F812,'Data Input'!R812,'Data Input'!AJ812))","v":""},{"$f":"IF(M807=\"\",\"\",M807/COUNTIF('Data Input'!$C$8:$AK$8,\"F\"))","v":""},{"$f":"IF(ISBLANK('Data Input'!A812),\"\",SUM('Data Input'!E812,'Data Input'!M812,'Data Input'!Q812,'Data Input'!V812,'Data Input'!W812,'Data Input'!AD812,'Data Input'!AH812))","v":""},{"$f":"IF(O807=\"\",\"\",O807/COUNTIF('Data Input'!$C$8:$AK$8,\"M\"))","v":""},{"$f":"IF(ISBLANK('Data Input'!A812),\"\",SUM('Data Input'!H812,'Data Input'!K812,'Data Input'!P812,'Data Input'!Y812))","v":""},{"$f":"IF(Q807=\"\",\"\",Q807/COUNTIF('Data Input'!$C$8:$AK$8,\"G\"))","v":""}]
[{"$f":"IF('Data Input'!A813=0,\"\",'Data Input'!A813)","v":""},{"$f":"IF(ISBLANK('Data Input'!A813),\"\",COUNTIF('Data Input'!C813:AK813,\"\"))","v":""},{"$f":"IF(ISBLANK('Data Input'!A813),\"\",COUNTIF('Data Input'!C813:AK813,\"0\"))","v":""},{"$f":"IF(ISBLANK('Data Input'!A813),\"\",SUM(B808,C808))","v":""},{"$f":"IF(ISBLANK('Data Input'!A813),\"\",SUM('Data Input'!C813:AK813))","v":""},{"$f":"IF(E808=\"\",\"\",E808/(COUNTA('Data Input'!$C$8:$AK$8)))","v":""},{"$f":"IF(ISBLANK('Data Input'!A813),\"\",SUM('Data Input'!C813,'Data Input'!D813,'Data Input'!J813,'Data Input'!X813))","v":""},{"$f":"IF(G808=\"\",\"\",G808/COUNTIF('Data Input'!$C$8:$AK$8,\"N\"))","v":""},{"$f":"IF(ISBLANK('Data Input'!A813),\"\",SUM('Data Input'!G813,'Data Input'!I813,'Data Input'!L813,'Data Input'!N813,'Data Input'!O813,'Data Input'!S813,'Data Input'!Z813,'Data Input'!AA813,'Data Input'!AB813,'Data Input'!AC813,'Data Input'!AE813,'Data Input'!AF813,'Data Input'!AG813,'Data Input'!AI813,'Data Input'!AK813))","v":""},{"$f":"IF(I808=\"\",\"\",I808/COUNTIF('Data Input'!$C$8:$AK$8,\"C\"))","v":""},{"$f":"IF(ISBLANK('Data Input'!A813),\"\",SUM('Data Input'!T813,'Data Input'!U813))","v":""},{"$f":"IF(K808=\"\",\"\",K808/COUNTIF('Data Input'!$C$8:$AK$8,\"S\"))","v":""},{"$f":"IF(ISBLANK('Data Input'!A813),\"\",SUM('Data Input'!F813,'Data Input'!R813,'Data Input'!AJ813))","v":""},{"$f":"IF(M808=\"\",\"\",M808/COUNTIF('Data Input'!$C$8:$AK$8,\"F\"))","v":""},{"$f":"IF(ISBLANK('Data Input'!A813),\"\",SUM('Data Input'!E813,'Data Input'!M813,'Data Input'!Q813,'Data Input'!V813,'Data Input'!W813,'Data Input'!AD813,'Data Input'!AH813))","v":""},{"$f":"IF(O808=\"\",\"\",O808/COUNTIF('Data Input'!$C$8:$AK$8,\"M\"))","v":""},{"$f":"IF(ISBLANK('Data Input'!A813),\"\",SUM('Data Input'!H813,'Data Input'!K813,'Data Input'!P813,'Data Input'!Y813))","v":""},{"$f":"IF(Q808=\"\",\"\",Q808/COUNTIF('Data Input'!$C$8:$AK$8,\"G\"))","v":""}]
[{"$f":"IF('Data Input'!A814=0,\"\",'Data Input'!A814)","v":""},{"$f":"IF(ISBLANK('Data Input'!A814),\"\",COUNTIF('Data Input'!C814:AK814,\"\"))","v":""},{"$f":"IF(ISBLANK('Data Input'!A814),\"\",COUNTIF('Data Input'!C814:AK814,\"0\"))","v":""},{"$f":"IF(ISBLANK('Data Input'!A814),\"\",SUM(B809,C809))","v":""},{"$f":"IF(ISBLANK('Data Input'!A814),\"\",SUM('Data Input'!C814:AK814))","v":""},{"$f":"IF(E809=\"\",\"\",E809/(COUNTA('Data Input'!$C$8:$AK$8)))","v":""},{"$f":"IF(ISBLANK('Data Input'!A814),\"\",SUM('Data Input'!C814,'Data Input'!D814,'Data Input'!J814,'Data Input'!X814))","v":""},{"$f":"IF(G809=\"\",\"\",G809/COUNTIF('Data Input'!$C$8:$AK$8,\"N\"))","v":""},{"$f":"IF(ISBLANK('Data Input'!A814),\"\",SUM('Data Input'!G814,'Data Input'!I814,'Data Input'!L814,'Data Input'!N814,'Data Input'!O814,'Data Input'!S814,'Data Input'!Z814,'Data Input'!AA814,'Data Input'!AB814,'Data Input'!AC814,'Data Input'!AE814,'Data Input'!AF814,'Data Input'!AG814,'Data Input'!AI814,'Data Input'!AK814))","v":""},{"$f":"IF(I809=\"\",\"\",I809/COUNTIF('Data Input'!$C$8:$AK$8,\"C\"))","v":""},{"$f":"IF(ISBLANK('Data Input'!A814),\"\",SUM('Data Input'!T814,'Data Input'!U814))","v":""},{"$f":"IF(K809=\"\",\"\",K809/COUNTIF('Data Input'!$C$8:$AK$8,\"S\"))","v":""},{"$f":"IF(ISBLANK('Data Input'!A814),\"\",SUM('Data Input'!F814,'Data Input'!R814,'Data Input'!AJ814))","v":""},{"$f":"IF(M809=\"\",\"\",M809/COUNTIF('Data Input'!$C$8:$AK$8,\"F\"))","v":""},{"$f":"IF(ISBLANK('Data Input'!A814),\"\",SUM('Data Input'!E814,'Data Input'!M814,'Data Input'!Q814,'Data Input'!V814,'Data Input'!W814,'Data Input'!AD814,'Data Input'!AH814))","v":""},{"$f":"IF(O809=\"\",\"\",O809/COUNTIF('Data Input'!$C$8:$AK$8,\"M\"))","v":""},{"$f":"IF(ISBLANK('Data Input'!A814),\"\",SUM('Data Input'!H814,'Data Input'!K814,'Data Input'!P814,'Data Input'!Y814))","v":""},{"$f":"IF(Q809=\"\",\"\",Q809/COUNTIF('Data Input'!$C$8:$AK$8,\"G\"))","v":""}]
[{"$f":"IF('Data Input'!A815=0,\"\",'Data Input'!A815)","v":""},{"$f":"IF(ISBLANK('Data Input'!A815),\"\",COUNTIF('Data Input'!C815:AK815,\"\"))","v":""},{"$f":"IF(ISBLANK('Data Input'!A815),\"\",COUNTIF('Data Input'!C815:AK815,\"0\"))","v":""},{"$f":"IF(ISBLANK('Data Input'!A815),\"\",SUM(B810,C810))","v":""},{"$f":"IF(ISBLANK('Data Input'!A815),\"\",SUM('Data Input'!C815:AK815))","v":""},{"$f":"IF(E810=\"\",\"\",E810/(COUNTA('Data Input'!$C$8:$AK$8)))","v":""},{"$f":"IF(ISBLANK('Data Input'!A815),\"\",SUM('Data Input'!C815,'Data Input'!D815,'Data Input'!J815,'Data Input'!X815))","v":""},{"$f":"IF(G810=\"\",\"\",G810/COUNTIF('Data Input'!$C$8:$AK$8,\"N\"))","v":""},{"$f":"IF(ISBLANK('Data Input'!A815),\"\",SUM('Data Input'!G815,'Data Input'!I815,'Data Input'!L815,'Data Input'!N815,'Data Input'!O815,'Data Input'!S815,'Data Input'!Z815,'Data Input'!AA815,'Data Input'!AB815,'Data Input'!AC815,'Data Input'!AE815,'Data Input'!AF815,'Data Input'!AG815,'Data Input'!AI815,'Data Input'!AK815))","v":""},{"$f":"IF(I810=\"\",\"\",I810/COUNTIF('Data Input'!$C$8:$AK$8,\"C\"))","v":""},{"$f":"IF(ISBLANK('Data Input'!A815),\"\",SUM('Data Input'!T815,'Data Input'!U815))","v":""},{"$f":"IF(K810=\"\",\"\",K810/COUNTIF('Data Input'!$C$8:$AK$8,\"S\"))","v":""},{"$f":"IF(ISBLANK('Data Input'!A815),\"\",SUM('Data Input'!F815,'Data Input'!R815,'Data Input'!AJ815))","v":""},{"$f":"IF(M810=\"\",\"\",M810/COUNTIF('Data Input'!$C$8:$AK$8,\"F\"))","v":""},{"$f":"IF(ISBLANK('Data Input'!A815),\"\",SUM('Data Input'!E815,'Data Input'!M815,'Data Input'!Q815,'Data Input'!V815,'Data Input'!W815,'Data Input'!AD815,'Data Input'!AH815))","v":""},{"$f":"IF(O810=\"\",\"\",O810/COUNTIF('Data Input'!$C$8:$AK$8,\"M\"))","v":""},{"$f":"IF(ISBLANK('Data Input'!A815),\"\",SUM('Data Input'!H815,'Data Input'!K815,'Data Input'!P815,'Data Input'!Y815))","v":""},{"$f":"IF(Q810=\"\",\"\",Q810/COUNTIF('Data Input'!$C$8:$AK$8,\"G\"))","v":""}]
[{"$f":"IF('Data Input'!A816=0,\"\",'Data Input'!A816)","v":""},{"$f":"IF(ISBLANK('Data Input'!A816),\"\",COUNTIF('Data Input'!C816:AK816,\"\"))","v":""},{"$f":"IF(ISBLANK('Data Input'!A816),\"\",COUNTIF('Data Input'!C816:AK816,\"0\"))","v":""},{"$f":"IF(ISBLANK('Data Input'!A816),\"\",SUM(B811,C811))","v":""},{"$f":"IF(ISBLANK('Data Input'!A816),\"\",SUM('Data Input'!C816:AK816))","v":""},{"$f":"IF(E811=\"\",\"\",E811/(COUNTA('Data Input'!$C$8:$AK$8)))","v":""},{"$f":"IF(ISBLANK('Data Input'!A816),\"\",SUM('Data Input'!C816,'Data Input'!D816,'Data Input'!J816,'Data Input'!X816))","v":""},{"$f":"IF(G811=\"\",\"\",G811/COUNTIF('Data Input'!$C$8:$AK$8,\"N\"))","v":""},{"$f":"IF(ISBLANK('Data Input'!A816),\"\",SUM('Data Input'!G816,'Data Input'!I816,'Data Input'!L816,'Data Input'!N816,'Data Input'!O816,'Data Input'!S816,'Data Input'!Z816,'Data Input'!AA816,'Data Input'!AB816,'Data Input'!AC816,'Data Input'!AE816,'Data Input'!AF816,'Data Input'!AG816,'Data Input'!AI816,'Data Input'!AK816))","v":""},{"$f":"IF(I811=\"\",\"\",I811/COUNTIF('Data Input'!$C$8:$AK$8,\"C\"))","v":""},{"$f":"IF(ISBLANK('Data Input'!A816),\"\",SUM('Data Input'!T816,'Data Input'!U816))","v":""},{"$f":"IF(K811=\"\",\"\",K811/COUNTIF('Data Input'!$C$8:$AK$8,\"S\"))","v":""},{"$f":"IF(ISBLANK('Data Input'!A816),\"\",SUM('Data Input'!F816,'Data Input'!R816,'Data Input'!AJ816))","v":""},{"$f":"IF(M811=\"\",\"\",M811/COUNTIF('Data Input'!$C$8:$AK$8,\"F\"))","v":""},{"$f":"IF(ISBLANK('Data Input'!A816),\"\",SUM('Data Input'!E816,'Data Input'!M816,'Data Input'!Q816,'Data Input'!V816,'Data Input'!W816,'Data Input'!AD816,'Data Input'!AH816))","v":""},{"$f":"IF(O811=\"\",\"\",O811/COUNTIF('Data Input'!$C$8:$AK$8,\"M\"))","v":""},{"$f":"IF(ISBLANK('Data Input'!A816),\"\",SUM('Data Input'!H816,'Data Input'!K816,'Data Input'!P816,'Data Input'!Y816))","v":""},{"$f":"IF(Q811=\"\",\"\",Q811/COUNTIF('Data Input'!$C$8:$AK$8,\"G\"))","v":""}]
[{"$f":"IF('Data Input'!A817=0,\"\",'Data Input'!A817)","v":""},{"$f":"IF(ISBLANK('Data Input'!A817),\"\",COUNTIF('Data Input'!C817:AK817,\"\"))","v":""},{"$f":"IF(ISBLANK('Data Input'!A817),\"\",COUNTIF('Data Input'!C817:AK817,\"0\"))","v":""},{"$f":"IF(ISBLANK('Data Input'!A817),\"\",SUM(B812,C812))","v":""},{"$f":"IF(ISBLANK('Data Input'!A817),\"\",SUM('Data Input'!C817:AK817))","v":""},{"$f":"IF(E812=\"\",\"\",E812/(COUNTA('Data Input'!$C$8:$AK$8)))","v":""},{"$f":"IF(ISBLANK('Data Input'!A817),\"\",SUM('Data Input'!C817,'Data Input'!D817,'Data Input'!J817,'Data Input'!X817))","v":""},{"$f":"IF(G812=\"\",\"\",G812/COUNTIF('Data Input'!$C$8:$AK$8,\"N\"))","v":""},{"$f":"IF(ISBLANK('Data Input'!A817),\"\",SUM('Data Input'!G817,'Data Input'!I817,'Data Input'!L817,'Data Input'!N817,'Data Input'!O817,'Data Input'!S817,'Data Input'!Z817,'Data Input'!AA817,'Data Input'!AB817,'Data Input'!AC817,'Data Input'!AE817,'Data Input'!AF817,'Data Input'!AG817,'Data Input'!AI817,'Data Input'!AK817))","v":""},{"$f":"IF(I812=\"\",\"\",I812/COUNTIF('Data Input'!$C$8:$AK$8,\"C\"))","v":""},{"$f":"IF(ISBLANK('Data Input'!A817),\"\",SUM('Data Input'!T817,'Data Input'!U817))","v":""},{"$f":"IF(K812=\"\",\"\",K812/COUNTIF('Data Input'!$C$8:$AK$8,\"S\"))","v":""},{"$f":"IF(ISBLANK('Data Input'!A817),\"\",SUM('Data Input'!F817,'Data Input'!R817,'Data Input'!AJ817))","v":""},{"$f":"IF(M812=\"\",\"\",M812/COUNTIF('Data Input'!$C$8:$AK$8,\"F\"))","v":""},{"$f":"IF(ISBLANK('Data Input'!A817),\"\",SUM('Data Input'!E817,'Data Input'!M817,'Data Input'!Q817,'Data Input'!V817,'Data Input'!W817,'Data Input'!AD817,'Data Input'!AH817))","v":""},{"$f":"IF(O812=\"\",\"\",O812/COUNTIF('Data Input'!$C$8:$AK$8,\"M\"))","v":""},{"$f":"IF(ISBLANK('Data Input'!A817),\"\",SUM('Data Input'!H817,'Data Input'!K817,'Data Input'!P817,'Data Input'!Y817))","v":""},{"$f":"IF(Q812=\"\",\"\",Q812/COUNTIF('Data Input'!$C$8:$AK$8,\"G\"))","v":""}]
[{"$f":"IF('Data Input'!A818=0,\"\",'Data Input'!A818)","v":""},{"$f":"IF(ISBLANK('Data Input'!A818),\"\",COUNTIF('Data Input'!C818:AK818,\"\"))","v":""},{"$f":"IF(ISBLANK('Data Input'!A818),\"\",COUNTIF('Data Input'!C818:AK818,\"0\"))","v":""},{"$f":"IF(ISBLANK('Data Input'!A818),\"\",SUM(B813,C813))","v":""},{"$f":"IF(ISBLANK('Data Input'!A818),\"\",SUM('Data Input'!C818:AK818))","v":""},{"$f":"IF(E813=\"\",\"\",E813/(COUNTA('Data Input'!$C$8:$AK$8)))","v":""},{"$f":"IF(ISBLANK('Data Input'!A818),\"\",SUM('Data Input'!C818,'Data Input'!D818,'Data Input'!J818,'Data Input'!X818))","v":""},{"$f":"IF(G813=\"\",\"\",G813/COUNTIF('Data Input'!$C$8:$AK$8,\"N\"))","v":""},{"$f":"IF(ISBLANK('Data Input'!A818),\"\",SUM('Data Input'!G818,'Data Input'!I818,'Data Input'!L818,'Data Input'!N818,'Data Input'!O818,'Data Input'!S818,'Data Input'!Z818,'Data Input'!AA818,'Data Input'!AB818,'Data Input'!AC818,'Data Input'!AE818,'Data Input'!AF818,'Data Input'!AG818,'Data Input'!AI818,'Data Input'!AK818))","v":""},{"$f":"IF(I813=\"\",\"\",I813/COUNTIF('Data Input'!$C$8:$AK$8,\"C\"))","v":""},{"$f":"IF(ISBLANK('Data Input'!A818),\"\",SUM('Data Input'!T818,'Data Input'!U818))","v":""},{"$f":"IF(K813=\"\",\"\",K813/COUNTIF('Data Input'!$C$8:$AK$8,\"S\"))","v":""},{"$f":"IF(ISBLANK('Data Input'!A818),\"\",SUM('Data Input'!F818,'Data Input'!R818,'Data Input'!AJ818))","v":""},{"$f":"IF(M813=\"\",\"\",M813/COUNTIF('Data Input'!$C$8:$AK$8,\"F\"))","v":""},{"$f":"IF(ISBLANK('Data Input'!A818),\"\",SUM('Data Input'!E818,'Data Input'!M818,'Data Input'!Q818,'Data Input'!V818,'Data Input'!W818,'Data Input'!AD818,'Data Input'!AH818))","v":""},{"$f":"IF(O813=\"\",\"\",O813/COUNTIF('Data Input'!$C$8:$AK$8,\"M\"))","v":""},{"$f":"IF(ISBLANK('Data Input'!A818),\"\",SUM('Data Input'!H818,'Data Input'!K818,'Data Input'!P818,'Data Input'!Y818))","v":""},{"$f":"IF(Q813=\"\",\"\",Q813/COUNTIF('Data Input'!$C$8:$AK$8,\"G\"))","v":""}]
[{"$f":"IF('Data Input'!A819=0,\"\",'Data Input'!A819)","v":""},{"$f":"IF(ISBLANK('Data Input'!A819),\"\",COUNTIF('Data Input'!C819:AK819,\"\"))","v":""},{"$f":"IF(ISBLANK('Data Input'!A819),\"\",COUNTIF('Data Input'!C819:AK819,\"0\"))","v":""},{"$f":"IF(ISBLANK('Data Input'!A819),\"\",SUM(B814,C814))","v":""},{"$f":"IF(ISBLANK('Data Input'!A819),\"\",SUM('Data Input'!C819:AK819))","v":""},{"$f":"IF(E814=\"\",\"\",E814/(COUNTA('Data Input'!$C$8:$AK$8)))","v":""},{"$f":"IF(ISBLANK('Data Input'!A819),\"\",SUM('Data Input'!C819,'Data Input'!D819,'Data Input'!J819,'Data Input'!X819))","v":""},{"$f":"IF(G814=\"\",\"\",G814/COUNTIF('Data Input'!$C$8:$AK$8,\"N\"))","v":""},{"$f":"IF(ISBLANK('Data Input'!A819),\"\",SUM('Data Input'!G819,'Data Input'!I819,'Data Input'!L819,'Data Input'!N819,'Data Input'!O819,'Data Input'!S819,'Data Input'!Z819,'Data Input'!AA819,'Data Input'!AB819,'Data Input'!AC819,'Data Input'!AE819,'Data Input'!AF819,'Data Input'!AG819,'Data Input'!AI819,'Data Input'!AK819))","v":""},{"$f":"IF(I814=\"\",\"\",I814/COUNTIF('Data Input'!$C$8:$AK$8,\"C\"))","v":""},{"$f":"IF(ISBLANK('Data Input'!A819),\"\",SUM('Data Input'!T819,'Data Input'!U819))","v":""},{"$f":"IF(K814=\"\",\"\",K814/COUNTIF('Data Input'!$C$8:$AK$8,\"S\"))","v":""},{"$f":"IF(ISBLANK('Data Input'!A819),\"\",SUM('Data Input'!F819,'Data Input'!R819,'Data Input'!AJ819))","v":""},{"$f":"IF(M814=\"\",\"\",M814/COUNTIF('Data Input'!$C$8:$AK$8,\"F\"))","v":""},{"$f":"IF(ISBLANK('Data Input'!A819),\"\",SUM('Data Input'!E819,'Data Input'!M819,'Data Input'!Q819,'Data Input'!V819,'Data Input'!W819,'Data Input'!AD819,'Data Input'!AH819))","v":""},{"$f":"IF(O814=\"\",\"\",O814/COUNTIF('Data Input'!$C$8:$AK$8,\"M\"))","v":""},{"$f":"IF(ISBLANK('Data Input'!A819),\"\",SUM('Data Input'!H819,'Data Input'!K819,'Data Input'!P819,'Data Input'!Y819))","v":""},{"$f":"IF(Q814=\"\",\"\",Q814/COUNTIF('Data Input'!$C$8:$AK$8,\"G\"))","v":""}]
[{"$f":"IF('Data Input'!A820=0,\"\",'Data Input'!A820)","v":""},{"$f":"IF(ISBLANK('Data Input'!A820),\"\",COUNTIF('Data Input'!C820:AK820,\"\"))","v":""},{"$f":"IF(ISBLANK('Data Input'!A820),\"\",COUNTIF('Data Input'!C820:AK820,\"0\"))","v":""},{"$f":"IF(ISBLANK('Data Input'!A820),\"\",SUM(B815,C815))","v":""},{"$f":"IF(ISBLANK('Data Input'!A820),\"\",SUM('Data Input'!C820:AK820))","v":""},{"$f":"IF(E815=\"\",\"\",E815/(COUNTA('Data Input'!$C$8:$AK$8)))","v":""},{"$f":"IF(ISBLANK('Data Input'!A820),\"\",SUM('Data Input'!C820,'Data Input'!D820,'Data Input'!J820,'Data Input'!X820))","v":""},{"$f":"IF(G815=\"\",\"\",G815/COUNTIF('Data Input'!$C$8:$AK$8,\"N\"))","v":""},{"$f":"IF(ISBLANK('Data Input'!A820),\"\",SUM('Data Input'!G820,'Data Input'!I820,'Data Input'!L820,'Data Input'!N820,'Data Input'!O820,'Data Input'!S820,'Data Input'!Z820,'Data Input'!AA820,'Data Input'!AB820,'Data Input'!AC820,'Data Input'!AE820,'Data Input'!AF820,'Data Input'!AG820,'Data Input'!AI820,'Data Input'!AK820))","v":""},{"$f":"IF(I815=\"\",\"\",I815/COUNTIF('Data Input'!$C$8:$AK$8,\"C\"))","v":""},{"$f":"IF(ISBLANK('Data Input'!A820),\"\",SUM('Data Input'!T820,'Data Input'!U820))","v":""},{"$f":"IF(K815=\"\",\"\",K815/COUNTIF('Data Input'!$C$8:$AK$8,\"S\"))","v":""},{"$f":"IF(ISBLANK('Data Input'!A820),\"\",SUM('Data Input'!F820,'Data Input'!R820,'Data Input'!AJ820))","v":""},{"$f":"IF(M815=\"\",\"\",M815/COUNTIF('Data Input'!$C$8:$AK$8,\"F\"))","v":""},{"$f":"IF(ISBLANK('Data Input'!A820),\"\",SUM('Data Input'!E820,'Data Input'!M820,'Data Input'!Q820,'Data Input'!V820,'Data Input'!W820,'Data Input'!AD820,'Data Input'!AH820))","v":""},{"$f":"IF(O815=\"\",\"\",O815/COUNTIF('Data Input'!$C$8:$AK$8,\"M\"))","v":""},{"$f":"IF(ISBLANK('Data Input'!A820),\"\",SUM('Data Input'!H820,'Data Input'!K820,'Data Input'!P820,'Data Input'!Y820))","v":""},{"$f":"IF(Q815=\"\",\"\",Q815/COUNTIF('Data Input'!$C$8:$AK$8,\"G\"))","v":""}]
[{"$f":"IF('Data Input'!A821=0,\"\",'Data Input'!A821)","v":""},{"$f":"IF(ISBLANK('Data Input'!A821),\"\",COUNTIF('Data Input'!C821:AK821,\"\"))","v":""},{"$f":"IF(ISBLANK('Data Input'!A821),\"\",COUNTIF('Data Input'!C821:AK821,\"0\"))","v":""},{"$f":"IF(ISBLANK('Data Input'!A821),\"\",SUM(B816,C816))","v":""},{"$f":"IF(ISBLANK('Data Input'!A821),\"\",SUM('Data Input'!C821:AK821))","v":""},{"$f":"IF(E816=\"\",\"\",E816/(COUNTA('Data Input'!$C$8:$AK$8)))","v":""},{"$f":"IF(ISBLANK('Data Input'!A821),\"\",SUM('Data Input'!C821,'Data Input'!D821,'Data Input'!J821,'Data Input'!X821))","v":""},{"$f":"IF(G816=\"\",\"\",G816/COUNTIF('Data Input'!$C$8:$AK$8,\"N\"))","v":""},{"$f":"IF(ISBLANK('Data Input'!A821),\"\",SUM('Data Input'!G821,'Data Input'!I821,'Data Input'!L821,'Data Input'!N821,'Data Input'!O821,'Data Input'!S821,'Data Input'!Z821,'Data Input'!AA821,'Data Input'!AB821,'Data Input'!AC821,'Data Input'!AE821,'Data Input'!AF821,'Data Input'!AG821,'Data Input'!AI821,'Data Input'!AK821))","v":""},{"$f":"IF(I816=\"\",\"\",I816/COUNTIF('Data Input'!$C$8:$AK$8,\"C\"))","v":""},{"$f":"IF(ISBLANK('Data Input'!A821),\"\",SUM('Data Input'!T821,'Data Input'!U821))","v":""},{"$f":"IF(K816=\"\",\"\",K816/COUNTIF('Data Input'!$C$8:$AK$8,\"S\"))","v":""},{"$f":"IF(ISBLANK('Data Input'!A821),\"\",SUM('Data Input'!F821,'Data Input'!R821,'Data Input'!AJ821))","v":""},{"$f":"IF(M816=\"\",\"\",M816/COUNTIF('Data Input'!$C$8:$AK$8,\"F\"))","v":""},{"$f":"IF(ISBLANK('Data Input'!A821),\"\",SUM('Data Input'!E821,'Data Input'!M821,'Data Input'!Q821,'Data Input'!V821,'Data Input'!W821,'Data Input'!AD821,'Data Input'!AH821))","v":""},{"$f":"IF(O816=\"\",\"\",O816/COUNTIF('Data Input'!$C$8:$AK$8,\"M\"))","v":""},{"$f":"IF(ISBLANK('Data Input'!A821),\"\",SUM('Data Input'!H821,'Data Input'!K821,'Data Input'!P821,'Data Input'!Y821))","v":""},{"$f":"IF(Q816=\"\",\"\",Q816/COUNTIF('Data Input'!$C$8:$AK$8,\"G\"))","v":""}]
[{"$f":"IF('Data Input'!A822=0,\"\",'Data Input'!A822)","v":""},{"$f":"IF(ISBLANK('Data Input'!A822),\"\",COUNTIF('Data Input'!C822:AK822,\"\"))","v":""},{"$f":"IF(ISBLANK('Data Input'!A822),\"\",COUNTIF('Data Input'!C822:AK822,\"0\"))","v":""},{"$f":"IF(ISBLANK('Data Input'!A822),\"\",SUM(B817,C817))","v":""},{"$f":"IF(ISBLANK('Data Input'!A822),\"\",SUM('Data Input'!C822:AK822))","v":""},{"$f":"IF(E817=\"\",\"\",E817/(COUNTA('Data Input'!$C$8:$AK$8)))","v":""},{"$f":"IF(ISBLANK('Data Input'!A822),\"\",SUM('Data Input'!C822,'Data Input'!D822,'Data Input'!J822,'Data Input'!X822))","v":""},{"$f":"IF(G817=\"\",\"\",G817/COUNTIF('Data Input'!$C$8:$AK$8,\"N\"))","v":""},{"$f":"IF(ISBLANK('Data Input'!A822),\"\",SUM('Data Input'!G822,'Data Input'!I822,'Data Input'!L822,'Data Input'!N822,'Data Input'!O822,'Data Input'!S822,'Data Input'!Z822,'Data Input'!AA822,'Data Input'!AB822,'Data Input'!AC822,'Data Input'!AE822,'Data Input'!AF822,'Data Input'!AG822,'Data Input'!AI822,'Data Input'!AK822))","v":""},{"$f":"IF(I817=\"\",\"\",I817/COUNTIF('Data Input'!$C$8:$AK$8,\"C\"))","v":""},{"$f":"IF(ISBLANK('Data Input'!A822),\"\",SUM('Data Input'!T822,'Data Input'!U822))","v":""},{"$f":"IF(K817=\"\",\"\",K817/COUNTIF('Data Input'!$C$8:$AK$8,\"S\"))","v":""},{"$f":"IF(ISBLANK('Data Input'!A822),\"\",SUM('Data Input'!F822,'Data Input'!R822,'Data Input'!AJ822))","v":""},{"$f":"IF(M817=\"\",\"\",M817/COUNTIF('Data Input'!$C$8:$AK$8,\"F\"))","v":""},{"$f":"IF(ISBLANK('Data Input'!A822),\"\",SUM('Data Input'!E822,'Data Input'!M822,'Data Input'!Q822,'Data Input'!V822,'Data Input'!W822,'Data Input'!AD822,'Data Input'!AH822))","v":""},{"$f":"IF(O817=\"\",\"\",O817/COUNTIF('Data Input'!$C$8:$AK$8,\"M\"))","v":""},{"$f":"IF(ISBLANK('Data Input'!A822),\"\",SUM('Data Input'!H822,'Data Input'!K822,'Data Input'!P822,'Data Input'!Y822))","v":""},{"$f":"IF(Q817=\"\",\"\",Q817/COUNTIF('Data Input'!$C$8:$AK$8,\"G\"))","v":""}]
[{"$f":"IF('Data Input'!A823=0,\"\",'Data Input'!A823)","v":""},{"$f":"IF(ISBLANK('Data Input'!A823),\"\",COUNTIF('Data Input'!C823:AK823,\"\"))","v":""},{"$f":"IF(ISBLANK('Data Input'!A823),\"\",COUNTIF('Data Input'!C823:AK823,\"0\"))","v":""},{"$f":"IF(ISBLANK('Data Input'!A823),\"\",SUM(B818,C818))","v":""},{"$f":"IF(ISBLANK('Data Input'!A823),\"\",SUM('Data Input'!C823:AK823))","v":""},{"$f":"IF(E818=\"\",\"\",E818/(COUNTA('Data Input'!$C$8:$AK$8)))","v":""},{"$f":"IF(ISBLANK('Data Input'!A823),\"\",SUM('Data Input'!C823,'Data Input'!D823,'Data Input'!J823,'Data Input'!X823))","v":""},{"$f":"IF(G818=\"\",\"\",G818/COUNTIF('Data Input'!$C$8:$AK$8,\"N\"))","v":""},{"$f":"IF(ISBLANK('Data Input'!A823),\"\",SUM('Data Input'!G823,'Data Input'!I823,'Data Input'!L823,'Data Input'!N823,'Data Input'!O823,'Data Input'!S823,'Data Input'!Z823,'Data Input'!AA823,'Data Input'!AB823,'Data Input'!AC823,'Data Input'!AE823,'Data Input'!AF823,'Data Input'!AG823,'Data Input'!AI823,'Data Input'!AK823))","v":""},{"$f":"IF(I818=\"\",\"\",I818/COUNTIF('Data Input'!$C$8:$AK$8,\"C\"))","v":""},{"$f":"IF(ISBLANK('Data Input'!A823),\"\",SUM('Data Input'!T823,'Data Input'!U823))","v":""},{"$f":"IF(K818=\"\",\"\",K818/COUNTIF('Data Input'!$C$8:$AK$8,\"S\"))","v":""},{"$f":"IF(ISBLANK('Data Input'!A823),\"\",SUM('Data Input'!F823,'Data Input'!R823,'Data Input'!AJ823))","v":""},{"$f":"IF(M818=\"\",\"\",M818/COUNTIF('Data Input'!$C$8:$AK$8,\"F\"))","v":""},{"$f":"IF(ISBLANK('Data Input'!A823),\"\",SUM('Data Input'!E823,'Data Input'!M823,'Data Input'!Q823,'Data Input'!V823,'Data Input'!W823,'Data Input'!AD823,'Data Input'!AH823))","v":""},{"$f":"IF(O818=\"\",\"\",O818/COUNTIF('Data Input'!$C$8:$AK$8,\"M\"))","v":""},{"$f":"IF(ISBLANK('Data Input'!A823),\"\",SUM('Data Input'!H823,'Data Input'!K823,'Data Input'!P823,'Data Input'!Y823))","v":""},{"$f":"IF(Q818=\"\",\"\",Q818/COUNTIF('Data Input'!$C$8:$AK$8,\"G\"))","v":""}]
[{"$f":"IF('Data Input'!A824=0,\"\",'Data Input'!A824)","v":""},{"$f":"IF(ISBLANK('Data Input'!A824),\"\",COUNTIF('Data Input'!C824:AK824,\"\"))","v":""},{"$f":"IF(ISBLANK('Data Input'!A824),\"\",COUNTIF('Data Input'!C824:AK824,\"0\"))","v":""},{"$f":"IF(ISBLANK('Data Input'!A824),\"\",SUM(B819,C819))","v":""},{"$f":"IF(ISBLANK('Data Input'!A824),\"\",SUM('Data Input'!C824:AK824))","v":""},{"$f":"IF(E819=\"\",\"\",E819/(COUNTA('Data Input'!$C$8:$AK$8)))","v":""},{"$f":"IF(ISBLANK('Data Input'!A824),\"\",SUM('Data Input'!C824,'Data Input'!D824,'Data Input'!J824,'Data Input'!X824))","v":""},{"$f":"IF(G819=\"\",\"\",G819/COUNTIF('Data Input'!$C$8:$AK$8,\"N\"))","v":""},{"$f":"IF(ISBLANK('Data Input'!A824),\"\",SUM('Data Input'!G824,'Data Input'!I824,'Data Input'!L824,'Data Input'!N824,'Data Input'!O824,'Data Input'!S824,'Data Input'!Z824,'Data Input'!AA824,'Data Input'!AB824,'Data Input'!AC824,'Data Input'!AE824,'Data Input'!AF824,'Data Input'!AG824,'Data Input'!AI824,'Data Input'!AK824))","v":""},{"$f":"IF(I819=\"\",\"\",I819/COUNTIF('Data Input'!$C$8:$AK$8,\"C\"))","v":""},{"$f":"IF(ISBLANK('Data Input'!A824),\"\",SUM('Data Input'!T824,'Data Input'!U824))","v":""},{"$f":"IF(K819=\"\",\"\",K819/COUNTIF('Data Input'!$C$8:$AK$8,\"S\"))","v":""},{"$f":"IF(ISBLANK('Data Input'!A824),\"\",SUM('Data Input'!F824,'Data Input'!R824,'Data Input'!AJ824))","v":""},{"$f":"IF(M819=\"\",\"\",M819/COUNTIF('Data Input'!$C$8:$AK$8,\"F\"))","v":""},{"$f":"IF(ISBLANK('Data Input'!A824),\"\",SUM('Data Input'!E824,'Data Input'!M824,'Data Input'!Q824,'Data Input'!V824,'Data Input'!W824,'Data Input'!AD824,'Data Input'!AH824))","v":""},{"$f":"IF(O819=\"\",\"\",O819/COUNTIF('Data Input'!$C$8:$AK$8,\"M\"))","v":""},{"$f":"IF(ISBLANK('Data Input'!A824),\"\",SUM('Data Input'!H824,'Data Input'!K824,'Data Input'!P824,'Data Input'!Y824))","v":""},{"$f":"IF(Q819=\"\",\"\",Q819/COUNTIF('Data Input'!$C$8:$AK$8,\"G\"))","v":""}]
[{"$f":"IF('Data Input'!A825=0,\"\",'Data Input'!A825)","v":""},{"$f":"IF(ISBLANK('Data Input'!A825),\"\",COUNTIF('Data Input'!C825:AK825,\"\"))","v":""},{"$f":"IF(ISBLANK('Data Input'!A825),\"\",COUNTIF('Data Input'!C825:AK825,\"0\"))","v":""},{"$f":"IF(ISBLANK('Data Input'!A825),\"\",SUM(B820,C820))","v":""},{"$f":"IF(ISBLANK('Data Input'!A825),\"\",SUM('Data Input'!C825:AK825))","v":""},{"$f":"IF(E820=\"\",\"\",E820/(COUNTA('Data Input'!$C$8:$AK$8)))","v":""},{"$f":"IF(ISBLANK('Data Input'!A825),\"\",SUM('Data Input'!C825,'Data Input'!D825,'Data Input'!J825,'Data Input'!X825))","v":""},{"$f":"IF(G820=\"\",\"\",G820/COUNTIF('Data Input'!$C$8:$AK$8,\"N\"))","v":""},{"$f":"IF(ISBLANK('Data Input'!A825),\"\",SUM('Data Input'!G825,'Data Input'!I825,'Data Input'!L825,'Data Input'!N825,'Data Input'!O825,'Data Input'!S825,'Data Input'!Z825,'Data Input'!AA825,'Data Input'!AB825,'Data Input'!AC825,'Data Input'!AE825,'Data Input'!AF825,'Data Input'!AG825,'Data Input'!AI825,'Data Input'!AK825))","v":""},{"$f":"IF(I820=\"\",\"\",I820/COUNTIF('Data Input'!$C$8:$AK$8,\"C\"))","v":""},{"$f":"IF(ISBLANK('Data Input'!A825),\"\",SUM('Data Input'!T825,'Data Input'!U825))","v":""},{"$f":"IF(K820=\"\",\"\",K820/COUNTIF('Data Input'!$C$8:$AK$8,\"S\"))","v":""},{"$f":"IF(ISBLANK('Data Input'!A825),\"\",SUM('Data Input'!F825,'Data Input'!R825,'Data Input'!AJ825))","v":""},{"$f":"IF(M820=\"\",\"\",M820/COUNTIF('Data Input'!$C$8:$AK$8,\"F\"))","v":""},{"$f":"IF(ISBLANK('Data Input'!A825),\"\",SUM('Data Input'!E825,'Data Input'!M825,'Data Input'!Q825,'Data Input'!V825,'Data Input'!W825,'Data Input'!AD825,'Data Input'!AH825))","v":""},{"$f":"IF(O820=\"\",\"\",O820/COUNTIF('Data Input'!$C$8:$AK$8,\"M\"))","v":""},{"$f":"IF(ISBLANK('Data Input'!A825),\"\",SUM('Data Input'!H825,'Data Input'!K825,'Data Input'!P825,'Data Input'!Y825))","v":""},{"$f":"IF(Q820=\"\",\"\",Q820/COUNTIF('Data Input'!$C$8:$AK$8,\"G\"))","v":""}]
[{"$f":"IF('Data Input'!A826=0,\"\",'Data Input'!A826)","v":""},{"$f":"IF(ISBLANK('Data Input'!A826),\"\",COUNTIF('Data Input'!C826:AK826,\"\"))","v":""},{"$f":"IF(ISBLANK('Data Input'!A826),\"\",COUNTIF('Data Input'!C826:AK826,\"0\"))","v":""},{"$f":"IF(ISBLANK('Data Input'!A826),\"\",SUM(B821,C821))","v":""},{"$f":"IF(ISBLANK('Data Input'!A826),\"\",SUM('Data Input'!C826:AK826))","v":""},{"$f":"IF(E821=\"\",\"\",E821/(COUNTA('Data Input'!$C$8:$AK$8)))","v":""},{"$f":"IF(ISBLANK('Data Input'!A826),\"\",SUM('Data Input'!C826,'Data Input'!D826,'Data Input'!J826,'Data Input'!X826))","v":""},{"$f":"IF(G821=\"\",\"\",G821/COUNTIF('Data Input'!$C$8:$AK$8,\"N\"))","v":""},{"$f":"IF(ISBLANK('Data Input'!A826),\"\",SUM('Data Input'!G826,'Data Input'!I826,'Data Input'!L826,'Data Input'!N826,'Data Input'!O826,'Data Input'!S826,'Data Input'!Z826,'Data Input'!AA826,'Data Input'!AB826,'Data Input'!AC826,'Data Input'!AE826,'Data Input'!AF826,'Data Input'!AG826,'Data Input'!AI826,'Data Input'!AK826))","v":""},{"$f":"IF(I821=\"\",\"\",I821/COUNTIF('Data Input'!$C$8:$AK$8,\"C\"))","v":""},{"$f":"IF(ISBLANK('Data Input'!A826),\"\",SUM('Data Input'!T826,'Data Input'!U826))","v":""},{"$f":"IF(K821=\"\",\"\",K821/COUNTIF('Data Input'!$C$8:$AK$8,\"S\"))","v":""},{"$f":"IF(ISBLANK('Data Input'!A826),\"\",SUM('Data Input'!F826,'Data Input'!R826,'Data Input'!AJ826))","v":""},{"$f":"IF(M821=\"\",\"\",M821/COUNTIF('Data Input'!$C$8:$AK$8,\"F\"))","v":""},{"$f":"IF(ISBLANK('Data Input'!A826),\"\",SUM('Data Input'!E826,'Data Input'!M826,'Data Input'!Q826,'Data Input'!V826,'Data Input'!W826,'Data Input'!AD826,'Data Input'!AH826))","v":""},{"$f":"IF(O821=\"\",\"\",O821/COUNTIF('Data Input'!$C$8:$AK$8,\"M\"))","v":""},{"$f":"IF(ISBLANK('Data Input'!A826),\"\",SUM('Data Input'!H826,'Data Input'!K826,'Data Input'!P826,'Data Input'!Y826))","v":""},{"$f":"IF(Q821=\"\",\"\",Q821/COUNTIF('Data Input'!$C$8:$AK$8,\"G\"))","v":""}]
[{"$f":"IF('Data Input'!A827=0,\"\",'Data Input'!A827)","v":""},{"$f":"IF(ISBLANK('Data Input'!A827),\"\",COUNTIF('Data Input'!C827:AK827,\"\"))","v":""},{"$f":"IF(ISBLANK('Data Input'!A827),\"\",COUNTIF('Data Input'!C827:AK827,\"0\"))","v":""},{"$f":"IF(ISBLANK('Data Input'!A827),\"\",SUM(B822,C822))","v":""},{"$f":"IF(ISBLANK('Data Input'!A827),\"\",SUM('Data Input'!C827:AK827))","v":""},{"$f":"IF(E822=\"\",\"\",E822/(COUNTA('Data Input'!$C$8:$AK$8)))","v":""},{"$f":"IF(ISBLANK('Data Input'!A827),\"\",SUM('Data Input'!C827,'Data Input'!D827,'Data Input'!J827,'Data Input'!X827))","v":""},{"$f":"IF(G822=\"\",\"\",G822/COUNTIF('Data Input'!$C$8:$AK$8,\"N\"))","v":""},{"$f":"IF(ISBLANK('Data Input'!A827),\"\",SUM('Data Input'!G827,'Data Input'!I827,'Data Input'!L827,'Data Input'!N827,'Data Input'!O827,'Data Input'!S827,'Data Input'!Z827,'Data Input'!AA827,'Data Input'!AB827,'Data Input'!AC827,'Data Input'!AE827,'Data Input'!AF827,'Data Input'!AG827,'Data Input'!AI827,'Data Input'!AK827))","v":""},{"$f":"IF(I822=\"\",\"\",I822/COUNTIF('Data Input'!$C$8:$AK$8,\"C\"))","v":""},{"$f":"IF(ISBLANK('Data Input'!A827),\"\",SUM('Data Input'!T827,'Data Input'!U827))","v":""},{"$f":"IF(K822=\"\",\"\",K822/COUNTIF('Data Input'!$C$8:$AK$8,\"S\"))","v":""},{"$f":"IF(ISBLANK('Data Input'!A827),\"\",SUM('Data Input'!F827,'Data Input'!R827,'Data Input'!AJ827))","v":""},{"$f":"IF(M822=\"\",\"\",M822/COUNTIF('Data Input'!$C$8:$AK$8,\"F\"))","v":""},{"$f":"IF(ISBLANK('Data Input'!A827),\"\",SUM('Data Input'!E827,'Data Input'!M827,'Data Input'!Q827,'Data Input'!V827,'Data Input'!W827,'Data Input'!AD827,'Data Input'!AH827))","v":""},{"$f":"IF(O822=\"\",\"\",O822/COUNTIF('Data Input'!$C$8:$AK$8,\"M\"))","v":""},{"$f":"IF(ISBLANK('Data Input'!A827),\"\",SUM('Data Input'!H827,'Data Input'!K827,'Data Input'!P827,'Data Input'!Y827))","v":""},{"$f":"IF(Q822=\"\",\"\",Q822/COUNTIF('Data Input'!$C$8:$AK$8,\"G\"))","v":""}]
[{"$f":"IF('Data Input'!A828=0,\"\",'Data Input'!A828)","v":""},{"$f":"IF(ISBLANK('Data Input'!A828),\"\",COUNTIF('Data Input'!C828:AK828,\"\"))","v":""},{"$f":"IF(ISBLANK('Data Input'!A828),\"\",COUNTIF('Data Input'!C828:AK828,\"0\"))","v":""},{"$f":"IF(ISBLANK('Data Input'!A828),\"\",SUM(B823,C823))","v":""},{"$f":"IF(ISBLANK('Data Input'!A828),\"\",SUM('Data Input'!C828:AK828))","v":""},{"$f":"IF(E823=\"\",\"\",E823/(COUNTA('Data Input'!$C$8:$AK$8)))","v":""},{"$f":"IF(ISBLANK('Data Input'!A828),\"\",SUM('Data Input'!C828,'Data Input'!D828,'Data Input'!J828,'Data Input'!X828))","v":""},{"$f":"IF(G823=\"\",\"\",G823/COUNTIF('Data Input'!$C$8:$AK$8,\"N\"))","v":""},{"$f":"IF(ISBLANK('Data Input'!A828),\"\",SUM('Data Input'!G828,'Data Input'!I828,'Data Input'!L828,'Data Input'!N828,'Data Input'!O828,'Data Input'!S828,'Data Input'!Z828,'Data Input'!AA828,'Data Input'!AB828,'Data Input'!AC828,'Data Input'!AE828,'Data Input'!AF828,'Data Input'!AG828,'Data Input'!AI828,'Data Input'!AK828))","v":""},{"$f":"IF(I823=\"\",\"\",I823/COUNTIF('Data Input'!$C$8:$AK$8,\"C\"))","v":""},{"$f":"IF(ISBLANK('Data Input'!A828),\"\",SUM('Data Input'!T828,'Data Input'!U828))","v":""},{"$f":"IF(K823=\"\",\"\",K823/COUNTIF('Data Input'!$C$8:$AK$8,\"S\"))","v":""},{"$f":"IF(ISBLANK('Data Input'!A828),\"\",SUM('Data Input'!F828,'Data Input'!R828,'Data Input'!AJ828))","v":""},{"$f":"IF(M823=\"\",\"\",M823/COUNTIF('Data Input'!$C$8:$AK$8,\"F\"))","v":""},{"$f":"IF(ISBLANK('Data Input'!A828),\"\",SUM('Data Input'!E828,'Data Input'!M828,'Data Input'!Q828,'Data Input'!V828,'Data Input'!W828,'Data Input'!AD828,'Data Input'!AH828))","v":""},{"$f":"IF(O823=\"\",\"\",O823/COUNTIF('Data Input'!$C$8:$AK$8,\"M\"))","v":""},{"$f":"IF(ISBLANK('Data Input'!A828),\"\",SUM('Data Input'!H828,'Data Input'!K828,'Data Input'!P828,'Data Input'!Y828))","v":""},{"$f":"IF(Q823=\"\",\"\",Q823/COUNTIF('Data Input'!$C$8:$AK$8,\"G\"))","v":""}]
[{"$f":"IF('Data Input'!A829=0,\"\",'Data Input'!A829)","v":""},{"$f":"IF(ISBLANK('Data Input'!A829),\"\",COUNTIF('Data Input'!C829:AK829,\"\"))","v":""},{"$f":"IF(ISBLANK('Data Input'!A829),\"\",COUNTIF('Data Input'!C829:AK829,\"0\"))","v":""},{"$f":"IF(ISBLANK('Data Input'!A829),\"\",SUM(B824,C824))","v":""},{"$f":"IF(ISBLANK('Data Input'!A829),\"\",SUM('Data Input'!C829:AK829))","v":""},{"$f":"IF(E824=\"\",\"\",E824/(COUNTA('Data Input'!$C$8:$AK$8)))","v":""},{"$f":"IF(ISBLANK('Data Input'!A829),\"\",SUM('Data Input'!C829,'Data Input'!D829,'Data Input'!J829,'Data Input'!X829))","v":""},{"$f":"IF(G824=\"\",\"\",G824/COUNTIF('Data Input'!$C$8:$AK$8,\"N\"))","v":""},{"$f":"IF(ISBLANK('Data Input'!A829),\"\",SUM('Data Input'!G829,'Data Input'!I829,'Data Input'!L829,'Data Input'!N829,'Data Input'!O829,'Data Input'!S829,'Data Input'!Z829,'Data Input'!AA829,'Data Input'!AB829,'Data Input'!AC829,'Data Input'!AE829,'Data Input'!AF829,'Data Input'!AG829,'Data Input'!AI829,'Data Input'!AK829))","v":""},{"$f":"IF(I824=\"\",\"\",I824/COUNTIF('Data Input'!$C$8:$AK$8,\"C\"))","v":""},{"$f":"IF(ISBLANK('Data Input'!A829),\"\",SUM('Data Input'!T829,'Data Input'!U829))","v":""},{"$f":"IF(K824=\"\",\"\",K824/COUNTIF('Data Input'!$C$8:$AK$8,\"S\"))","v":""},{"$f":"IF(ISBLANK('Data Input'!A829),\"\",SUM('Data Input'!F829,'Data Input'!R829,'Data Input'!AJ829))","v":""},{"$f":"IF(M824=\"\",\"\",M824/COUNTIF('Data Input'!$C$8:$AK$8,\"F\"))","v":""},{"$f":"IF(ISBLANK('Data Input'!A829),\"\",SUM('Data Input'!E829,'Data Input'!M829,'Data Input'!Q829,'Data Input'!V829,'Data Input'!W829,'Data Input'!AD829,'Data Input'!AH829))","v":""},{"$f":"IF(O824=\"\",\"\",O824/COUNTIF('Data Input'!$C$8:$AK$8,\"M\"))","v":""},{"$f":"IF(ISBLANK('Data Input'!A829),\"\",SUM('Data Input'!H829,'Data Input'!K829,'Data Input'!P829,'Data Input'!Y829))","v":""},{"$f":"IF(Q824=\"\",\"\",Q824/COUNTIF('Data Input'!$C$8:$AK$8,\"G\"))","v":""}]
[{"$f":"IF('Data Input'!A830=0,\"\",'Data Input'!A830)","v":""},{"$f":"IF(ISBLANK('Data Input'!A830),\"\",COUNTIF('Data Input'!C830:AK830,\"\"))","v":""},{"$f":"IF(ISBLANK('Data Input'!A830),\"\",COUNTIF('Data Input'!C830:AK830,\"0\"))","v":""},{"$f":"IF(ISBLANK('Data Input'!A830),\"\",SUM(B825,C825))","v":""},{"$f":"IF(ISBLANK('Data Input'!A830),\"\",SUM('Data Input'!C830:AK830))","v":""},{"$f":"IF(E825=\"\",\"\",E825/(COUNTA('Data Input'!$C$8:$AK$8)))","v":""},{"$f":"IF(ISBLANK('Data Input'!A830),\"\",SUM('Data Input'!C830,'Data Input'!D830,'Data Input'!J830,'Data Input'!X830))","v":""},{"$f":"IF(G825=\"\",\"\",G825/COUNTIF('Data Input'!$C$8:$AK$8,\"N\"))","v":""},{"$f":"IF(ISBLANK('Data Input'!A830),\"\",SUM('Data Input'!G830,'Data Input'!I830,'Data Input'!L830,'Data Input'!N830,'Data Input'!O830,'Data Input'!S830,'Data Input'!Z830,'Data Input'!AA830,'Data Input'!AB830,'Data Input'!AC830,'Data Input'!AE830,'Data Input'!AF830,'Data Input'!AG830,'Data Input'!AI830,'Data Input'!AK830))","v":""},{"$f":"IF(I825=\"\",\"\",I825/COUNTIF('Data Input'!$C$8:$AK$8,\"C\"))","v":""},{"$f":"IF(ISBLANK('Data Input'!A830),\"\",SUM('Data Input'!T830,'Data Input'!U830))","v":""},{"$f":"IF(K825=\"\",\"\",K825/COUNTIF('Data Input'!$C$8:$AK$8,\"S\"))","v":""},{"$f":"IF(ISBLANK('Data Input'!A830),\"\",SUM('Data Input'!F830,'Data Input'!R830,'Data Input'!AJ830))","v":""},{"$f":"IF(M825=\"\",\"\",M825/COUNTIF('Data Input'!$C$8:$AK$8,\"F\"))","v":""},{"$f":"IF(ISBLANK('Data Input'!A830),\"\",SUM('Data Input'!E830,'Data Input'!M830,'Data Input'!Q830,'Data Input'!V830,'Data Input'!W830,'Data Input'!AD830,'Data Input'!AH830))","v":""},{"$f":"IF(O825=\"\",\"\",O825/COUNTIF('Data Input'!$C$8:$AK$8,\"M\"))","v":""},{"$f":"IF(ISBLANK('Data Input'!A830),\"\",SUM('Data Input'!H830,'Data Input'!K830,'Data Input'!P830,'Data Input'!Y830))","v":""},{"$f":"IF(Q825=\"\",\"\",Q825/COUNTIF('Data Input'!$C$8:$AK$8,\"G\"))","v":""}]
[{"$f":"IF('Data Input'!A831=0,\"\",'Data Input'!A831)","v":""},{"$f":"IF(ISBLANK('Data Input'!A831),\"\",COUNTIF('Data Input'!C831:AK831,\"\"))","v":""},{"$f":"IF(ISBLANK('Data Input'!A831),\"\",COUNTIF('Data Input'!C831:AK831,\"0\"))","v":""},{"$f":"IF(ISBLANK('Data Input'!A831),\"\",SUM(B826,C826))","v":""},{"$f":"IF(ISBLANK('Data Input'!A831),\"\",SUM('Data Input'!C831:AK831))","v":""},{"$f":"IF(E826=\"\",\"\",E826/(COUNTA('Data Input'!$C$8:$AK$8)))","v":""},{"$f":"IF(ISBLANK('Data Input'!A831),\"\",SUM('Data Input'!C831,'Data Input'!D831,'Data Input'!J831,'Data Input'!X831))","v":""},{"$f":"IF(G826=\"\",\"\",G826/COUNTIF('Data Input'!$C$8:$AK$8,\"N\"))","v":""},{"$f":"IF(ISBLANK('Data Input'!A831),\"\",SUM('Data Input'!G831,'Data Input'!I831,'Data Input'!L831,'Data Input'!N831,'Data Input'!O831,'Data Input'!S831,'Data Input'!Z831,'Data Input'!AA831,'Data Input'!AB831,'Data Input'!AC831,'Data Input'!AE831,'Data Input'!AF831,'Data Input'!AG831,'Data Input'!AI831,'Data Input'!AK831))","v":""},{"$f":"IF(I826=\"\",\"\",I826/COUNTIF('Data Input'!$C$8:$AK$8,\"C\"))","v":""},{"$f":"IF(ISBLANK('Data Input'!A831),\"\",SUM('Data Input'!T831,'Data Input'!U831))","v":""},{"$f":"IF(K826=\"\",\"\",K826/COUNTIF('Data Input'!$C$8:$AK$8,\"S\"))","v":""},{"$f":"IF(ISBLANK('Data Input'!A831),\"\",SUM('Data Input'!F831,'Data Input'!R831,'Data Input'!AJ831))","v":""},{"$f":"IF(M826=\"\",\"\",M826/COUNTIF('Data Input'!$C$8:$AK$8,\"F\"))","v":""},{"$f":"IF(ISBLANK('Data Input'!A831),\"\",SUM('Data Input'!E831,'Data Input'!M831,'Data Input'!Q831,'Data Input'!V831,'Data Input'!W831,'Data Input'!AD831,'Data Input'!AH831))","v":""},{"$f":"IF(O826=\"\",\"\",O826/COUNTIF('Data Input'!$C$8:$AK$8,\"M\"))","v":""},{"$f":"IF(ISBLANK('Data Input'!A831),\"\",SUM('Data Input'!H831,'Data Input'!K831,'Data Input'!P831,'Data Input'!Y831))","v":""},{"$f":"IF(Q826=\"\",\"\",Q826/COUNTIF('Data Input'!$C$8:$AK$8,\"G\"))","v":""}]
[{"$f":"IF('Data Input'!A832=0,\"\",'Data Input'!A832)","v":""},{"$f":"IF(ISBLANK('Data Input'!A832),\"\",COUNTIF('Data Input'!C832:AK832,\"\"))","v":""},{"$f":"IF(ISBLANK('Data Input'!A832),\"\",COUNTIF('Data Input'!C832:AK832,\"0\"))","v":""},{"$f":"IF(ISBLANK('Data Input'!A832),\"\",SUM(B827,C827))","v":""},{"$f":"IF(ISBLANK('Data Input'!A832),\"\",SUM('Data Input'!C832:AK832))","v":""},{"$f":"IF(E827=\"\",\"\",E827/(COUNTA('Data Input'!$C$8:$AK$8)))","v":""},{"$f":"IF(ISBLANK('Data Input'!A832),\"\",SUM('Data Input'!C832,'Data Input'!D832,'Data Input'!J832,'Data Input'!X832))","v":""},{"$f":"IF(G827=\"\",\"\",G827/COUNTIF('Data Input'!$C$8:$AK$8,\"N\"))","v":""},{"$f":"IF(ISBLANK('Data Input'!A832),\"\",SUM('Data Input'!G832,'Data Input'!I832,'Data Input'!L832,'Data Input'!N832,'Data Input'!O832,'Data Input'!S832,'Data Input'!Z832,'Data Input'!AA832,'Data Input'!AB832,'Data Input'!AC832,'Data Input'!AE832,'Data Input'!AF832,'Data Input'!AG832,'Data Input'!AI832,'Data Input'!AK832))","v":""},{"$f":"IF(I827=\"\",\"\",I827/COUNTIF('Data Input'!$C$8:$AK$8,\"C\"))","v":""},{"$f":"IF(ISBLANK('Data Input'!A832),\"\",SUM('Data Input'!T832,'Data Input'!U832))","v":""},{"$f":"IF(K827=\"\",\"\",K827/COUNTIF('Data Input'!$C$8:$AK$8,\"S\"))","v":""},{"$f":"IF(ISBLANK('Data Input'!A832),\"\",SUM('Data Input'!F832,'Data Input'!R832,'Data Input'!AJ832))","v":""},{"$f":"IF(M827=\"\",\"\",M827/COUNTIF('Data Input'!$C$8:$AK$8,\"F\"))","v":""},{"$f":"IF(ISBLANK('Data Input'!A832),\"\",SUM('Data Input'!E832,'Data Input'!M832,'Data Input'!Q832,'Data Input'!V832,'Data Input'!W832,'Data Input'!AD832,'Data Input'!AH832))","v":""},{"$f":"IF(O827=\"\",\"\",O827/COUNTIF('Data Input'!$C$8:$AK$8,\"M\"))","v":""},{"$f":"IF(ISBLANK('Data Input'!A832),\"\",SUM('Data Input'!H832,'Data Input'!K832,'Data Input'!P832,'Data Input'!Y832))","v":""},{"$f":"IF(Q827=\"\",\"\",Q827/COUNTIF('Data Input'!$C$8:$AK$8,\"G\"))","v":""}]
[{"$f":"IF('Data Input'!A833=0,\"\",'Data Input'!A833)","v":""},{"$f":"IF(ISBLANK('Data Input'!A833),\"\",COUNTIF('Data Input'!C833:AK833,\"\"))","v":""},{"$f":"IF(ISBLANK('Data Input'!A833),\"\",COUNTIF('Data Input'!C833:AK833,\"0\"))","v":""},{"$f":"IF(ISBLANK('Data Input'!A833),\"\",SUM(B828,C828))","v":""},{"$f":"IF(ISBLANK('Data Input'!A833),\"\",SUM('Data Input'!C833:AK833))","v":""},{"$f":"IF(E828=\"\",\"\",E828/(COUNTA('Data Input'!$C$8:$AK$8)))","v":""},{"$f":"IF(ISBLANK('Data Input'!A833),\"\",SUM('Data Input'!C833,'Data Input'!D833,'Data Input'!J833,'Data Input'!X833))","v":""},{"$f":"IF(G828=\"\",\"\",G828/COUNTIF('Data Input'!$C$8:$AK$8,\"N\"))","v":""},{"$f":"IF(ISBLANK('Data Input'!A833),\"\",SUM('Data Input'!G833,'Data Input'!I833,'Data Input'!L833,'Data Input'!N833,'Data Input'!O833,'Data Input'!S833,'Data Input'!Z833,'Data Input'!AA833,'Data Input'!AB833,'Data Input'!AC833,'Data Input'!AE833,'Data Input'!AF833,'Data Input'!AG833,'Data Input'!AI833,'Data Input'!AK833))","v":""},{"$f":"IF(I828=\"\",\"\",I828/COUNTIF('Data Input'!$C$8:$AK$8,\"C\"))","v":""},{"$f":"IF(ISBLANK('Data Input'!A833),\"\",SUM('Data Input'!T833,'Data Input'!U833))","v":""},{"$f":"IF(K828=\"\",\"\",K828/COUNTIF('Data Input'!$C$8:$AK$8,\"S\"))","v":""},{"$f":"IF(ISBLANK('Data Input'!A833),\"\",SUM('Data Input'!F833,'Data Input'!R833,'Data Input'!AJ833))","v":""},{"$f":"IF(M828=\"\",\"\",M828/COUNTIF('Data Input'!$C$8:$AK$8,\"F\"))","v":""},{"$f":"IF(ISBLANK('Data Input'!A833),\"\",SUM('Data Input'!E833,'Data Input'!M833,'Data Input'!Q833,'Data Input'!V833,'Data Input'!W833,'Data Input'!AD833,'Data Input'!AH833))","v":""},{"$f":"IF(O828=\"\",\"\",O828/COUNTIF('Data Input'!$C$8:$AK$8,\"M\"))","v":""},{"$f":"IF(ISBLANK('Data Input'!A833),\"\",SUM('Data Input'!H833,'Data Input'!K833,'Data Input'!P833,'Data Input'!Y833))","v":""},{"$f":"IF(Q828=\"\",\"\",Q828/COUNTIF('Data Input'!$C$8:$AK$8,\"G\"))","v":""}]
[{"$f":"IF('Data Input'!A834=0,\"\",'Data Input'!A834)","v":""},{"$f":"IF(ISBLANK('Data Input'!A834),\"\",COUNTIF('Data Input'!C834:AK834,\"\"))","v":""},{"$f":"IF(ISBLANK('Data Input'!A834),\"\",COUNTIF('Data Input'!C834:AK834,\"0\"))","v":""},{"$f":"IF(ISBLANK('Data Input'!A834),\"\",SUM(B829,C829))","v":""},{"$f":"IF(ISBLANK('Data Input'!A834),\"\",SUM('Data Input'!C834:AK834))","v":""},{"$f":"IF(E829=\"\",\"\",E829/(COUNTA('Data Input'!$C$8:$AK$8)))","v":""},{"$f":"IF(ISBLANK('Data Input'!A834),\"\",SUM('Data Input'!C834,'Data Input'!D834,'Data Input'!J834,'Data Input'!X834))","v":""},{"$f":"IF(G829=\"\",\"\",G829/COUNTIF('Data Input'!$C$8:$AK$8,\"N\"))","v":""},{"$f":"IF(ISBLANK('Data Input'!A834),\"\",SUM('Data Input'!G834,'Data Input'!I834,'Data Input'!L834,'Data Input'!N834,'Data Input'!O834,'Data Input'!S834,'Data Input'!Z834,'Data Input'!AA834,'Data Input'!AB834,'Data Input'!AC834,'Data Input'!AE834,'Data Input'!AF834,'Data Input'!AG834,'Data Input'!AI834,'Data Input'!AK834))","v":""},{"$f":"IF(I829=\"\",\"\",I829/COUNTIF('Data Input'!$C$8:$AK$8,\"C\"))","v":""},{"$f":"IF(ISBLANK('Data Input'!A834),\"\",SUM('Data Input'!T834,'Data Input'!U834))","v":""},{"$f":"IF(K829=\"\",\"\",K829/COUNTIF('Data Input'!$C$8:$AK$8,\"S\"))","v":""},{"$f":"IF(ISBLANK('Data Input'!A834),\"\",SUM('Data Input'!F834,'Data Input'!R834,'Data Input'!AJ834))","v":""},{"$f":"IF(M829=\"\",\"\",M829/COUNTIF('Data Input'!$C$8:$AK$8,\"F\"))","v":""},{"$f":"IF(ISBLANK('Data Input'!A834),\"\",SUM('Data Input'!E834,'Data Input'!M834,'Data Input'!Q834,'Data Input'!V834,'Data Input'!W834,'Data Input'!AD834,'Data Input'!AH834))","v":""},{"$f":"IF(O829=\"\",\"\",O829/COUNTIF('Data Input'!$C$8:$AK$8,\"M\"))","v":""},{"$f":"IF(ISBLANK('Data Input'!A834),\"\",SUM('Data Input'!H834,'Data Input'!K834,'Data Input'!P834,'Data Input'!Y834))","v":""},{"$f":"IF(Q829=\"\",\"\",Q829/COUNTIF('Data Input'!$C$8:$AK$8,\"G\"))","v":""}]
[{"$f":"IF('Data Input'!A835=0,\"\",'Data Input'!A835)","v":""},{"$f":"IF(ISBLANK('Data Input'!A835),\"\",COUNTIF('Data Input'!C835:AK835,\"\"))","v":""},{"$f":"IF(ISBLANK('Data Input'!A835),\"\",COUNTIF('Data Input'!C835:AK835,\"0\"))","v":""},{"$f":"IF(ISBLANK('Data Input'!A835),\"\",SUM(B830,C830))","v":""},{"$f":"IF(ISBLANK('Data Input'!A835),\"\",SUM('Data Input'!C835:AK835))","v":""},{"$f":"IF(E830=\"\",\"\",E830/(COUNTA('Data Input'!$C$8:$AK$8)))","v":""},{"$f":"IF(ISBLANK('Data Input'!A835),\"\",SUM('Data Input'!C835,'Data Input'!D835,'Data Input'!J835,'Data Input'!X835))","v":""},{"$f":"IF(G830=\"\",\"\",G830/COUNTIF('Data Input'!$C$8:$AK$8,\"N\"))","v":""},{"$f":"IF(ISBLANK('Data Input'!A835),\"\",SUM('Data Input'!G835,'Data Input'!I835,'Data Input'!L835,'Data Input'!N835,'Data Input'!O835,'Data Input'!S835,'Data Input'!Z835,'Data Input'!AA835,'Data Input'!AB835,'Data Input'!AC835,'Data Input'!AE835,'Data Input'!AF835,'Data Input'!AG835,'Data Input'!AI835,'Data Input'!AK835))","v":""},{"$f":"IF(I830=\"\",\"\",I830/COUNTIF('Data Input'!$C$8:$AK$8,\"C\"))","v":""},{"$f":"IF(ISBLANK('Data Input'!A835),\"\",SUM('Data Input'!T835,'Data Input'!U835))","v":""},{"$f":"IF(K830=\"\",\"\",K830/COUNTIF('Data Input'!$C$8:$AK$8,\"S\"))","v":""},{"$f":"IF(ISBLANK('Data Input'!A835),\"\",SUM('Data Input'!F835,'Data Input'!R835,'Data Input'!AJ835))","v":""},{"$f":"IF(M830=\"\",\"\",M830/COUNTIF('Data Input'!$C$8:$AK$8,\"F\"))","v":""},{"$f":"IF(ISBLANK('Data Input'!A835),\"\",SUM('Data Input'!E835,'Data Input'!M835,'Data Input'!Q835,'Data Input'!V835,'Data Input'!W835,'Data Input'!AD835,'Data Input'!AH835))","v":""},{"$f":"IF(O830=\"\",\"\",O830/COUNTIF('Data Input'!$C$8:$AK$8,\"M\"))","v":""},{"$f":"IF(ISBLANK('Data Input'!A835),\"\",SUM('Data Input'!H835,'Data Input'!K835,'Data Input'!P835,'Data Input'!Y835))","v":""},{"$f":"IF(Q830=\"\",\"\",Q830/COUNTIF('Data Input'!$C$8:$AK$8,\"G\"))","v":""}]
[{"$f":"IF('Data Input'!A836=0,\"\",'Data Input'!A836)","v":""},{"$f":"IF(ISBLANK('Data Input'!A836),\"\",COUNTIF('Data Input'!C836:AK836,\"\"))","v":""},{"$f":"IF(ISBLANK('Data Input'!A836),\"\",COUNTIF('Data Input'!C836:AK836,\"0\"))","v":""},{"$f":"IF(ISBLANK('Data Input'!A836),\"\",SUM(B831,C831))","v":""},{"$f":"IF(ISBLANK('Data Input'!A836),\"\",SUM('Data Input'!C836:AK836))","v":""},{"$f":"IF(E831=\"\",\"\",E831/(COUNTA('Data Input'!$C$8:$AK$8)))","v":""},{"$f":"IF(ISBLANK('Data Input'!A836),\"\",SUM('Data Input'!C836,'Data Input'!D836,'Data Input'!J836,'Data Input'!X836))","v":""},{"$f":"IF(G831=\"\",\"\",G831/COUNTIF('Data Input'!$C$8:$AK$8,\"N\"))","v":""},{"$f":"IF(ISBLANK('Data Input'!A836),\"\",SUM('Data Input'!G836,'Data Input'!I836,'Data Input'!L836,'Data Input'!N836,'Data Input'!O836,'Data Input'!S836,'Data Input'!Z836,'Data Input'!AA836,'Data Input'!AB836,'Data Input'!AC836,'Data Input'!AE836,'Data Input'!AF836,'Data Input'!AG836,'Data Input'!AI836,'Data Input'!AK836))","v":""},{"$f":"IF(I831=\"\",\"\",I831/COUNTIF('Data Input'!$C$8:$AK$8,\"C\"))","v":""},{"$f":"IF(ISBLANK('Data Input'!A836),\"\",SUM('Data Input'!T836,'Data Input'!U836))","v":""},{"$f":"IF(K831=\"\",\"\",K831/COUNTIF('Data Input'!$C$8:$AK$8,\"S\"))","v":""},{"$f":"IF(ISBLANK('Data Input'!A836),\"\",SUM('Data Input'!F836,'Data Input'!R836,'Data Input'!AJ836))","v":""},{"$f":"IF(M831=\"\",\"\",M831/COUNTIF('Data Input'!$C$8:$AK$8,\"F\"))","v":""},{"$f":"IF(ISBLANK('Data Input'!A836),\"\",SUM('Data Input'!E836,'Data Input'!M836,'Data Input'!Q836,'Data Input'!V836,'Data Input'!W836,'Data Input'!AD836,'Data Input'!AH836))","v":""},{"$f":"IF(O831=\"\",\"\",O831/COUNTIF('Data Input'!$C$8:$AK$8,\"M\"))","v":""},{"$f":"IF(ISBLANK('Data Input'!A836),\"\",SUM('Data Input'!H836,'Data Input'!K836,'Data Input'!P836,'Data Input'!Y836))","v":""},{"$f":"IF(Q831=\"\",\"\",Q831/COUNTIF('Data Input'!$C$8:$AK$8,\"G\"))","v":""}]
[{"$f":"IF('Data Input'!A837=0,\"\",'Data Input'!A837)","v":""},{"$f":"IF(ISBLANK('Data Input'!A837),\"\",COUNTIF('Data Input'!C837:AK837,\"\"))","v":""},{"$f":"IF(ISBLANK('Data Input'!A837),\"\",COUNTIF('Data Input'!C837:AK837,\"0\"))","v":""},{"$f":"IF(ISBLANK('Data Input'!A837),\"\",SUM(B832,C832))","v":""},{"$f":"IF(ISBLANK('Data Input'!A837),\"\",SUM('Data Input'!C837:AK837))","v":""},{"$f":"IF(E832=\"\",\"\",E832/(COUNTA('Data Input'!$C$8:$AK$8)))","v":""},{"$f":"IF(ISBLANK('Data Input'!A837),\"\",SUM('Data Input'!C837,'Data Input'!D837,'Data Input'!J837,'Data Input'!X837))","v":""},{"$f":"IF(G832=\"\",\"\",G832/COUNTIF('Data Input'!$C$8:$AK$8,\"N\"))","v":""},{"$f":"IF(ISBLANK('Data Input'!A837),\"\",SUM('Data Input'!G837,'Data Input'!I837,'Data Input'!L837,'Data Input'!N837,'Data Input'!O837,'Data Input'!S837,'Data Input'!Z837,'Data Input'!AA837,'Data Input'!AB837,'Data Input'!AC837,'Data Input'!AE837,'Data Input'!AF837,'Data Input'!AG837,'Data Input'!AI837,'Data Input'!AK837))","v":""},{"$f":"IF(I832=\"\",\"\",I832/COUNTIF('Data Input'!$C$8:$AK$8,\"C\"))","v":""},{"$f":"IF(ISBLANK('Data Input'!A837),\"\",SUM('Data Input'!T837,'Data Input'!U837))","v":""},{"$f":"IF(K832=\"\",\"\",K832/COUNTIF('Data Input'!$C$8:$AK$8,\"S\"))","v":""},{"$f":"IF(ISBLANK('Data Input'!A837),\"\",SUM('Data Input'!F837,'Data Input'!R837,'Data Input'!AJ837))","v":""},{"$f":"IF(M832=\"\",\"\",M832/COUNTIF('Data Input'!$C$8:$AK$8,\"F\"))","v":""},{"$f":"IF(ISBLANK('Data Input'!A837),\"\",SUM('Data Input'!E837,'Data Input'!M837,'Data Input'!Q837,'Data Input'!V837,'Data Input'!W837,'Data Input'!AD837,'Data Input'!AH837))","v":""},{"$f":"IF(O832=\"\",\"\",O832/COUNTIF('Data Input'!$C$8:$AK$8,\"M\"))","v":""},{"$f":"IF(ISBLANK('Data Input'!A837),\"\",SUM('Data Input'!H837,'Data Input'!K837,'Data Input'!P837,'Data Input'!Y837))","v":""},{"$f":"IF(Q832=\"\",\"\",Q832/COUNTIF('Data Input'!$C$8:$AK$8,\"G\"))","v":""}]
[{"$f":"IF('Data Input'!A838=0,\"\",'Data Input'!A838)","v":""},{"$f":"IF(ISBLANK('Data Input'!A838),\"\",COUNTIF('Data Input'!C838:AK838,\"\"))","v":""},{"$f":"IF(ISBLANK('Data Input'!A838),\"\",COUNTIF('Data Input'!C838:AK838,\"0\"))","v":""},{"$f":"IF(ISBLANK('Data Input'!A838),\"\",SUM(B833,C833))","v":""},{"$f":"IF(ISBLANK('Data Input'!A838),\"\",SUM('Data Input'!C838:AK838))","v":""},{"$f":"IF(E833=\"\",\"\",E833/(COUNTA('Data Input'!$C$8:$AK$8)))","v":""},{"$f":"IF(ISBLANK('Data Input'!A838),\"\",SUM('Data Input'!C838,'Data Input'!D838,'Data Input'!J838,'Data Input'!X838))","v":""},{"$f":"IF(G833=\"\",\"\",G833/COUNTIF('Data Input'!$C$8:$AK$8,\"N\"))","v":""},{"$f":"IF(ISBLANK('Data Input'!A838),\"\",SUM('Data Input'!G838,'Data Input'!I838,'Data Input'!L838,'Data Input'!N838,'Data Input'!O838,'Data Input'!S838,'Data Input'!Z838,'Data Input'!AA838,'Data Input'!AB838,'Data Input'!AC838,'Data Input'!AE838,'Data Input'!AF838,'Data Input'!AG838,'Data Input'!AI838,'Data Input'!AK838))","v":""},{"$f":"IF(I833=\"\",\"\",I833/COUNTIF('Data Input'!$C$8:$AK$8,\"C\"))","v":""},{"$f":"IF(ISBLANK('Data Input'!A838),\"\",SUM('Data Input'!T838,'Data Input'!U838))","v":""},{"$f":"IF(K833=\"\",\"\",K833/COUNTIF('Data Input'!$C$8:$AK$8,\"S\"))","v":""},{"$f":"IF(ISBLANK('Data Input'!A838),\"\",SUM('Data Input'!F838,'Data Input'!R838,'Data Input'!AJ838))","v":""},{"$f":"IF(M833=\"\",\"\",M833/COUNTIF('Data Input'!$C$8:$AK$8,\"F\"))","v":""},{"$f":"IF(ISBLANK('Data Input'!A838),\"\",SUM('Data Input'!E838,'Data Input'!M838,'Data Input'!Q838,'Data Input'!V838,'Data Input'!W838,'Data Input'!AD838,'Data Input'!AH838))","v":""},{"$f":"IF(O833=\"\",\"\",O833/COUNTIF('Data Input'!$C$8:$AK$8,\"M\"))","v":""},{"$f":"IF(ISBLANK('Data Input'!A838),\"\",SUM('Data Input'!H838,'Data Input'!K838,'Data Input'!P838,'Data Input'!Y838))","v":""},{"$f":"IF(Q833=\"\",\"\",Q833/COUNTIF('Data Input'!$C$8:$AK$8,\"G\"))","v":""}]
[{"$f":"IF('Data Input'!A839=0,\"\",'Data Input'!A839)","v":""},{"$f":"IF(ISBLANK('Data Input'!A839),\"\",COUNTIF('Data Input'!C839:AK839,\"\"))","v":""},{"$f":"IF(ISBLANK('Data Input'!A839),\"\",COUNTIF('Data Input'!C839:AK839,\"0\"))","v":""},{"$f":"IF(ISBLANK('Data Input'!A839),\"\",SUM(B834,C834))","v":""},{"$f":"IF(ISBLANK('Data Input'!A839),\"\",SUM('Data Input'!C839:AK839))","v":""},{"$f":"IF(E834=\"\",\"\",E834/(COUNTA('Data Input'!$C$8:$AK$8)))","v":""},{"$f":"IF(ISBLANK('Data Input'!A839),\"\",SUM('Data Input'!C839,'Data Input'!D839,'Data Input'!J839,'Data Input'!X839))","v":""},{"$f":"IF(G834=\"\",\"\",G834/COUNTIF('Data Input'!$C$8:$AK$8,\"N\"))","v":""},{"$f":"IF(ISBLANK('Data Input'!A839),\"\",SUM('Data Input'!G839,'Data Input'!I839,'Data Input'!L839,'Data Input'!N839,'Data Input'!O839,'Data Input'!S839,'Data Input'!Z839,'Data Input'!AA839,'Data Input'!AB839,'Data Input'!AC839,'Data Input'!AE839,'Data Input'!AF839,'Data Input'!AG839,'Data Input'!AI839,'Data Input'!AK839))","v":""},{"$f":"IF(I834=\"\",\"\",I834/COUNTIF('Data Input'!$C$8:$AK$8,\"C\"))","v":""},{"$f":"IF(ISBLANK('Data Input'!A839),\"\",SUM('Data Input'!T839,'Data Input'!U839))","v":""},{"$f":"IF(K834=\"\",\"\",K834/COUNTIF('Data Input'!$C$8:$AK$8,\"S\"))","v":""},{"$f":"IF(ISBLANK('Data Input'!A839),\"\",SUM('Data Input'!F839,'Data Input'!R839,'Data Input'!AJ839))","v":""},{"$f":"IF(M834=\"\",\"\",M834/COUNTIF('Data Input'!$C$8:$AK$8,\"F\"))","v":""},{"$f":"IF(ISBLANK('Data Input'!A839),\"\",SUM('Data Input'!E839,'Data Input'!M839,'Data Input'!Q839,'Data Input'!V839,'Data Input'!W839,'Data Input'!AD839,'Data Input'!AH839))","v":""},{"$f":"IF(O834=\"\",\"\",O834/COUNTIF('Data Input'!$C$8:$AK$8,\"M\"))","v":""},{"$f":"IF(ISBLANK('Data Input'!A839),\"\",SUM('Data Input'!H839,'Data Input'!K839,'Data Input'!P839,'Data Input'!Y839))","v":""},{"$f":"IF(Q834=\"\",\"\",Q834/COUNTIF('Data Input'!$C$8:$AK$8,\"G\"))","v":""}]
[{"$f":"IF('Data Input'!A840=0,\"\",'Data Input'!A840)","v":""},{"$f":"IF(ISBLANK('Data Input'!A840),\"\",COUNTIF('Data Input'!C840:AK840,\"\"))","v":""},{"$f":"IF(ISBLANK('Data Input'!A840),\"\",COUNTIF('Data Input'!C840:AK840,\"0\"))","v":""},{"$f":"IF(ISBLANK('Data Input'!A840),\"\",SUM(B835,C835))","v":""},{"$f":"IF(ISBLANK('Data Input'!A840),\"\",SUM('Data Input'!C840:AK840))","v":""},{"$f":"IF(E835=\"\",\"\",E835/(COUNTA('Data Input'!$C$8:$AK$8)))","v":""},{"$f":"IF(ISBLANK('Data Input'!A840),\"\",SUM('Data Input'!C840,'Data Input'!D840,'Data Input'!J840,'Data Input'!X840))","v":""},{"$f":"IF(G835=\"\",\"\",G835/COUNTIF('Data Input'!$C$8:$AK$8,\"N\"))","v":""},{"$f":"IF(ISBLANK('Data Input'!A840),\"\",SUM('Data Input'!G840,'Data Input'!I840,'Data Input'!L840,'Data Input'!N840,'Data Input'!O840,'Data Input'!S840,'Data Input'!Z840,'Data Input'!AA840,'Data Input'!AB840,'Data Input'!AC840,'Data Input'!AE840,'Data Input'!AF840,'Data Input'!AG840,'Data Input'!AI840,'Data Input'!AK840))","v":""},{"$f":"IF(I835=\"\",\"\",I835/COUNTIF('Data Input'!$C$8:$AK$8,\"C\"))","v":""},{"$f":"IF(ISBLANK('Data Input'!A840),\"\",SUM('Data Input'!T840,'Data Input'!U840))","v":""},{"$f":"IF(K835=\"\",\"\",K835/COUNTIF('Data Input'!$C$8:$AK$8,\"S\"))","v":""},{"$f":"IF(ISBLANK('Data Input'!A840),\"\",SUM('Data Input'!F840,'Data Input'!R840,'Data Input'!AJ840))","v":""},{"$f":"IF(M835=\"\",\"\",M835/COUNTIF('Data Input'!$C$8:$AK$8,\"F\"))","v":""},{"$f":"IF(ISBLANK('Data Input'!A840),\"\",SUM('Data Input'!E840,'Data Input'!M840,'Data Input'!Q840,'Data Input'!V840,'Data Input'!W840,'Data Input'!AD840,'Data Input'!AH840))","v":""},{"$f":"IF(O835=\"\",\"\",O835/COUNTIF('Data Input'!$C$8:$AK$8,\"M\"))","v":""},{"$f":"IF(ISBLANK('Data Input'!A840),\"\",SUM('Data Input'!H840,'Data Input'!K840,'Data Input'!P840,'Data Input'!Y840))","v":""},{"$f":"IF(Q835=\"\",\"\",Q835/COUNTIF('Data Input'!$C$8:$AK$8,\"G\"))","v":""}]
[{"$f":"IF('Data Input'!A841=0,\"\",'Data Input'!A841)","v":""},{"$f":"IF(ISBLANK('Data Input'!A841),\"\",COUNTIF('Data Input'!C841:AK841,\"\"))","v":""},{"$f":"IF(ISBLANK('Data Input'!A841),\"\",COUNTIF('Data Input'!C841:AK841,\"0\"))","v":""},{"$f":"IF(ISBLANK('Data Input'!A841),\"\",SUM(B836,C836))","v":""},{"$f":"IF(ISBLANK('Data Input'!A841),\"\",SUM('Data Input'!C841:AK841))","v":""},{"$f":"IF(E836=\"\",\"\",E836/(COUNTA('Data Input'!$C$8:$AK$8)))","v":""},{"$f":"IF(ISBLANK('Data Input'!A841),\"\",SUM('Data Input'!C841,'Data Input'!D841,'Data Input'!J841,'Data Input'!X841))","v":""},{"$f":"IF(G836=\"\",\"\",G836/COUNTIF('Data Input'!$C$8:$AK$8,\"N\"))","v":""},{"$f":"IF(ISBLANK('Data Input'!A841),\"\",SUM('Data Input'!G841,'Data Input'!I841,'Data Input'!L841,'Data Input'!N841,'Data Input'!O841,'Data Input'!S841,'Data Input'!Z841,'Data Input'!AA841,'Data Input'!AB841,'Data Input'!AC841,'Data Input'!AE841,'Data Input'!AF841,'Data Input'!AG841,'Data Input'!AI841,'Data Input'!AK841))","v":""},{"$f":"IF(I836=\"\",\"\",I836/COUNTIF('Data Input'!$C$8:$AK$8,\"C\"))","v":""},{"$f":"IF(ISBLANK('Data Input'!A841),\"\",SUM('Data Input'!T841,'Data Input'!U841))","v":""},{"$f":"IF(K836=\"\",\"\",K836/COUNTIF('Data Input'!$C$8:$AK$8,\"S\"))","v":""},{"$f":"IF(ISBLANK('Data Input'!A841),\"\",SUM('Data Input'!F841,'Data Input'!R841,'Data Input'!AJ841))","v":""},{"$f":"IF(M836=\"\",\"\",M836/COUNTIF('Data Input'!$C$8:$AK$8,\"F\"))","v":""},{"$f":"IF(ISBLANK('Data Input'!A841),\"\",SUM('Data Input'!E841,'Data Input'!M841,'Data Input'!Q841,'Data Input'!V841,'Data Input'!W841,'Data Input'!AD841,'Data Input'!AH841))","v":""},{"$f":"IF(O836=\"\",\"\",O836/COUNTIF('Data Input'!$C$8:$AK$8,\"M\"))","v":""},{"$f":"IF(ISBLANK('Data Input'!A841),\"\",SUM('Data Input'!H841,'Data Input'!K841,'Data Input'!P841,'Data Input'!Y841))","v":""},{"$f":"IF(Q836=\"\",\"\",Q836/COUNTIF('Data Input'!$C$8:$AK$8,\"G\"))","v":""}]
[{"$f":"IF('Data Input'!A842=0,\"\",'Data Input'!A842)","v":""},{"$f":"IF(ISBLANK('Data Input'!A842),\"\",COUNTIF('Data Input'!C842:AK842,\"\"))","v":""},{"$f":"IF(ISBLANK('Data Input'!A842),\"\",COUNTIF('Data Input'!C842:AK842,\"0\"))","v":""},{"$f":"IF(ISBLANK('Data Input'!A842),\"\",SUM(B837,C837))","v":""},{"$f":"IF(ISBLANK('Data Input'!A842),\"\",SUM('Data Input'!C842:AK842))","v":""},{"$f":"IF(E837=\"\",\"\",E837/(COUNTA('Data Input'!$C$8:$AK$8)))","v":""},{"$f":"IF(ISBLANK('Data Input'!A842),\"\",SUM('Data Input'!C842,'Data Input'!D842,'Data Input'!J842,'Data Input'!X842))","v":""},{"$f":"IF(G837=\"\",\"\",G837/COUNTIF('Data Input'!$C$8:$AK$8,\"N\"))","v":""},{"$f":"IF(ISBLANK('Data Input'!A842),\"\",SUM('Data Input'!G842,'Data Input'!I842,'Data Input'!L842,'Data Input'!N842,'Data Input'!O842,'Data Input'!S842,'Data Input'!Z842,'Data Input'!AA842,'Data Input'!AB842,'Data Input'!AC842,'Data Input'!AE842,'Data Input'!AF842,'Data Input'!AG842,'Data Input'!AI842,'Data Input'!AK842))","v":""},{"$f":"IF(I837=\"\",\"\",I837/COUNTIF('Data Input'!$C$8:$AK$8,\"C\"))","v":""},{"$f":"IF(ISBLANK('Data Input'!A842),\"\",SUM('Data Input'!T842,'Data Input'!U842))","v":""},{"$f":"IF(K837=\"\",\"\",K837/COUNTIF('Data Input'!$C$8:$AK$8,\"S\"))","v":""},{"$f":"IF(ISBLANK('Data Input'!A842),\"\",SUM('Data Input'!F842,'Data Input'!R842,'Data Input'!AJ842))","v":""},{"$f":"IF(M837=\"\",\"\",M837/COUNTIF('Data Input'!$C$8:$AK$8,\"F\"))","v":""},{"$f":"IF(ISBLANK('Data Input'!A842),\"\",SUM('Data Input'!E842,'Data Input'!M842,'Data Input'!Q842,'Data Input'!V842,'Data Input'!W842,'Data Input'!AD842,'Data Input'!AH842))","v":""},{"$f":"IF(O837=\"\",\"\",O837/COUNTIF('Data Input'!$C$8:$AK$8,\"M\"))","v":""},{"$f":"IF(ISBLANK('Data Input'!A842),\"\",SUM('Data Input'!H842,'Data Input'!K842,'Data Input'!P842,'Data Input'!Y842))","v":""},{"$f":"IF(Q837=\"\",\"\",Q837/COUNTIF('Data Input'!$C$8:$AK$8,\"G\"))","v":""}]
[{"$f":"IF('Data Input'!A843=0,\"\",'Data Input'!A843)","v":""},{"$f":"IF(ISBLANK('Data Input'!A843),\"\",COUNTIF('Data Input'!C843:AK843,\"\"))","v":""},{"$f":"IF(ISBLANK('Data Input'!A843),\"\",COUNTIF('Data Input'!C843:AK843,\"0\"))","v":""},{"$f":"IF(ISBLANK('Data Input'!A843),\"\",SUM(B838,C838))","v":""},{"$f":"IF(ISBLANK('Data Input'!A843),\"\",SUM('Data Input'!C843:AK843))","v":""},{"$f":"IF(E838=\"\",\"\",E838/(COUNTA('Data Input'!$C$8:$AK$8)))","v":""},{"$f":"IF(ISBLANK('Data Input'!A843),\"\",SUM('Data Input'!C843,'Data Input'!D843,'Data Input'!J843,'Data Input'!X843))","v":""},{"$f":"IF(G838=\"\",\"\",G838/COUNTIF('Data Input'!$C$8:$AK$8,\"N\"))","v":""},{"$f":"IF(ISBLANK('Data Input'!A843),\"\",SUM('Data Input'!G843,'Data Input'!I843,'Data Input'!L843,'Data Input'!N843,'Data Input'!O843,'Data Input'!S843,'Data Input'!Z843,'Data Input'!AA843,'Data Input'!AB843,'Data Input'!AC843,'Data Input'!AE843,'Data Input'!AF843,'Data Input'!AG843,'Data Input'!AI843,'Data Input'!AK843))","v":""},{"$f":"IF(I838=\"\",\"\",I838/COUNTIF('Data Input'!$C$8:$AK$8,\"C\"))","v":""},{"$f":"IF(ISBLANK('Data Input'!A843),\"\",SUM('Data Input'!T843,'Data Input'!U843))","v":""},{"$f":"IF(K838=\"\",\"\",K838/COUNTIF('Data Input'!$C$8:$AK$8,\"S\"))","v":""},{"$f":"IF(ISBLANK('Data Input'!A843),\"\",SUM('Data Input'!F843,'Data Input'!R843,'Data Input'!AJ843))","v":""},{"$f":"IF(M838=\"\",\"\",M838/COUNTIF('Data Input'!$C$8:$AK$8,\"F\"))","v":""},{"$f":"IF(ISBLANK('Data Input'!A843),\"\",SUM('Data Input'!E843,'Data Input'!M843,'Data Input'!Q843,'Data Input'!V843,'Data Input'!W843,'Data Input'!AD843,'Data Input'!AH843))","v":""},{"$f":"IF(O838=\"\",\"\",O838/COUNTIF('Data Input'!$C$8:$AK$8,\"M\"))","v":""},{"$f":"IF(ISBLANK('Data Input'!A843),\"\",SUM('Data Input'!H843,'Data Input'!K843,'Data Input'!P843,'Data Input'!Y843))","v":""},{"$f":"IF(Q838=\"\",\"\",Q838/COUNTIF('Data Input'!$C$8:$AK$8,\"G\"))","v":""}]
[{"$f":"IF('Data Input'!A844=0,\"\",'Data Input'!A844)","v":""},{"$f":"IF(ISBLANK('Data Input'!A844),\"\",COUNTIF('Data Input'!C844:AK844,\"\"))","v":""},{"$f":"IF(ISBLANK('Data Input'!A844),\"\",COUNTIF('Data Input'!C844:AK844,\"0\"))","v":""},{"$f":"IF(ISBLANK('Data Input'!A844),\"\",SUM(B839,C839))","v":""},{"$f":"IF(ISBLANK('Data Input'!A844),\"\",SUM('Data Input'!C844:AK844))","v":""},{"$f":"IF(E839=\"\",\"\",E839/(COUNTA('Data Input'!$C$8:$AK$8)))","v":""},{"$f":"IF(ISBLANK('Data Input'!A844),\"\",SUM('Data Input'!C844,'Data Input'!D844,'Data Input'!J844,'Data Input'!X844))","v":""},{"$f":"IF(G839=\"\",\"\",G839/COUNTIF('Data Input'!$C$8:$AK$8,\"N\"))","v":""},{"$f":"IF(ISBLANK('Data Input'!A844),\"\",SUM('Data Input'!G844,'Data Input'!I844,'Data Input'!L844,'Data Input'!N844,'Data Input'!O844,'Data Input'!S844,'Data Input'!Z844,'Data Input'!AA844,'Data Input'!AB844,'Data Input'!AC844,'Data Input'!AE844,'Data Input'!AF844,'Data Input'!AG844,'Data Input'!AI844,'Data Input'!AK844))","v":""},{"$f":"IF(I839=\"\",\"\",I839/COUNTIF('Data Input'!$C$8:$AK$8,\"C\"))","v":""},{"$f":"IF(ISBLANK('Data Input'!A844),\"\",SUM('Data Input'!T844,'Data Input'!U844))","v":""},{"$f":"IF(K839=\"\",\"\",K839/COUNTIF('Data Input'!$C$8:$AK$8,\"S\"))","v":""},{"$f":"IF(ISBLANK('Data Input'!A844),\"\",SUM('Data Input'!F844,'Data Input'!R844,'Data Input'!AJ844))","v":""},{"$f":"IF(M839=\"\",\"\",M839/COUNTIF('Data Input'!$C$8:$AK$8,\"F\"))","v":""},{"$f":"IF(ISBLANK('Data Input'!A844),\"\",SUM('Data Input'!E844,'Data Input'!M844,'Data Input'!Q844,'Data Input'!V844,'Data Input'!W844,'Data Input'!AD844,'Data Input'!AH844))","v":""},{"$f":"IF(O839=\"\",\"\",O839/COUNTIF('Data Input'!$C$8:$AK$8,\"M\"))","v":""},{"$f":"IF(ISBLANK('Data Input'!A844),\"\",SUM('Data Input'!H844,'Data Input'!K844,'Data Input'!P844,'Data Input'!Y844))","v":""},{"$f":"IF(Q839=\"\",\"\",Q839/COUNTIF('Data Input'!$C$8:$AK$8,\"G\"))","v":""}]
[{"$f":"IF('Data Input'!A845=0,\"\",'Data Input'!A845)","v":""},{"$f":"IF(ISBLANK('Data Input'!A845),\"\",COUNTIF('Data Input'!C845:AK845,\"\"))","v":""},{"$f":"IF(ISBLANK('Data Input'!A845),\"\",COUNTIF('Data Input'!C845:AK845,\"0\"))","v":""},{"$f":"IF(ISBLANK('Data Input'!A845),\"\",SUM(B840,C840))","v":""},{"$f":"IF(ISBLANK('Data Input'!A845),\"\",SUM('Data Input'!C845:AK845))","v":""},{"$f":"IF(E840=\"\",\"\",E840/(COUNTA('Data Input'!$C$8:$AK$8)))","v":""},{"$f":"IF(ISBLANK('Data Input'!A845),\"\",SUM('Data Input'!C845,'Data Input'!D845,'Data Input'!J845,'Data Input'!X845))","v":""},{"$f":"IF(G840=\"\",\"\",G840/COUNTIF('Data Input'!$C$8:$AK$8,\"N\"))","v":""},{"$f":"IF(ISBLANK('Data Input'!A845),\"\",SUM('Data Input'!G845,'Data Input'!I845,'Data Input'!L845,'Data Input'!N845,'Data Input'!O845,'Data Input'!S845,'Data Input'!Z845,'Data Input'!AA845,'Data Input'!AB845,'Data Input'!AC845,'Data Input'!AE845,'Data Input'!AF845,'Data Input'!AG845,'Data Input'!AI845,'Data Input'!AK845))","v":""},{"$f":"IF(I840=\"\",\"\",I840/COUNTIF('Data Input'!$C$8:$AK$8,\"C\"))","v":""},{"$f":"IF(ISBLANK('Data Input'!A845),\"\",SUM('Data Input'!T845,'Data Input'!U845))","v":""},{"$f":"IF(K840=\"\",\"\",K840/COUNTIF('Data Input'!$C$8:$AK$8,\"S\"))","v":""},{"$f":"IF(ISBLANK('Data Input'!A845),\"\",SUM('Data Input'!F845,'Data Input'!R845,'Data Input'!AJ845))","v":""},{"$f":"IF(M840=\"\",\"\",M840/COUNTIF('Data Input'!$C$8:$AK$8,\"F\"))","v":""},{"$f":"IF(ISBLANK('Data Input'!A845),\"\",SUM('Data Input'!E845,'Data Input'!M845,'Data Input'!Q845,'Data Input'!V845,'Data Input'!W845,'Data Input'!AD845,'Data Input'!AH845))","v":""},{"$f":"IF(O840=\"\",\"\",O840/COUNTIF('Data Input'!$C$8:$AK$8,\"M\"))","v":""},{"$f":"IF(ISBLANK('Data Input'!A845),\"\",SUM('Data Input'!H845,'Data Input'!K845,'Data Input'!P845,'Data Input'!Y845))","v":""},{"$f":"IF(Q840=\"\",\"\",Q840/COUNTIF('Data Input'!$C$8:$AK$8,\"G\"))","v":""}]
[{"$f":"IF('Data Input'!A846=0,\"\",'Data Input'!A846)","v":""},{"$f":"IF(ISBLANK('Data Input'!A846),\"\",COUNTIF('Data Input'!C846:AK846,\"\"))","v":""},{"$f":"IF(ISBLANK('Data Input'!A846),\"\",COUNTIF('Data Input'!C846:AK846,\"0\"))","v":""},{"$f":"IF(ISBLANK('Data Input'!A846),\"\",SUM(B841,C841))","v":""},{"$f":"IF(ISBLANK('Data Input'!A846),\"\",SUM('Data Input'!C846:AK846))","v":""},{"$f":"IF(E841=\"\",\"\",E841/(COUNTA('Data Input'!$C$8:$AK$8)))","v":""},{"$f":"IF(ISBLANK('Data Input'!A846),\"\",SUM('Data Input'!C846,'Data Input'!D846,'Data Input'!J846,'Data Input'!X846))","v":""},{"$f":"IF(G841=\"\",\"\",G841/COUNTIF('Data Input'!$C$8:$AK$8,\"N\"))","v":""},{"$f":"IF(ISBLANK('Data Input'!A846),\"\",SUM('Data Input'!G846,'Data Input'!I846,'Data Input'!L846,'Data Input'!N846,'Data Input'!O846,'Data Input'!S846,'Data Input'!Z846,'Data Input'!AA846,'Data Input'!AB846,'Data Input'!AC846,'Data Input'!AE846,'Data Input'!AF846,'Data Input'!AG846,'Data Input'!AI846,'Data Input'!AK846))","v":""},{"$f":"IF(I841=\"\",\"\",I841/COUNTIF('Data Input'!$C$8:$AK$8,\"C\"))","v":""},{"$f":"IF(ISBLANK('Data Input'!A846),\"\",SUM('Data Input'!T846,'Data Input'!U846))","v":""},{"$f":"IF(K841=\"\",\"\",K841/COUNTIF('Data Input'!$C$8:$AK$8,\"S\"))","v":""},{"$f":"IF(ISBLANK('Data Input'!A846),\"\",SUM('Data Input'!F846,'Data Input'!R846,'Data Input'!AJ846))","v":""},{"$f":"IF(M841=\"\",\"\",M841/COUNTIF('Data Input'!$C$8:$AK$8,\"F\"))","v":""},{"$f":"IF(ISBLANK('Data Input'!A846),\"\",SUM('Data Input'!E846,'Data Input'!M846,'Data Input'!Q846,'Data Input'!V846,'Data Input'!W846,'Data Input'!AD846,'Data Input'!AH846))","v":""},{"$f":"IF(O841=\"\",\"\",O841/COUNTIF('Data Input'!$C$8:$AK$8,\"M\"))","v":""},{"$f":"IF(ISBLANK('Data Input'!A846),\"\",SUM('Data Input'!H846,'Data Input'!K846,'Data Input'!P846,'Data Input'!Y846))","v":""},{"$f":"IF(Q841=\"\",\"\",Q841/COUNTIF('Data Input'!$C$8:$AK$8,\"G\"))","v":""}]
[{"$f":"IF('Data Input'!A847=0,\"\",'Data Input'!A847)","v":""},{"$f":"IF(ISBLANK('Data Input'!A847),\"\",COUNTIF('Data Input'!C847:AK847,\"\"))","v":""},{"$f":"IF(ISBLANK('Data Input'!A847),\"\",COUNTIF('Data Input'!C847:AK847,\"0\"))","v":""},{"$f":"IF(ISBLANK('Data Input'!A847),\"\",SUM(B842,C842))","v":""},{"$f":"IF(ISBLANK('Data Input'!A847),\"\",SUM('Data Input'!C847:AK847))","v":""},{"$f":"IF(E842=\"\",\"\",E842/(COUNTA('Data Input'!$C$8:$AK$8)))","v":""},{"$f":"IF(ISBLANK('Data Input'!A847),\"\",SUM('Data Input'!C847,'Data Input'!D847,'Data Input'!J847,'Data Input'!X847))","v":""},{"$f":"IF(G842=\"\",\"\",G842/COUNTIF('Data Input'!$C$8:$AK$8,\"N\"))","v":""},{"$f":"IF(ISBLANK('Data Input'!A847),\"\",SUM('Data Input'!G847,'Data Input'!I847,'Data Input'!L847,'Data Input'!N847,'Data Input'!O847,'Data Input'!S847,'Data Input'!Z847,'Data Input'!AA847,'Data Input'!AB847,'Data Input'!AC847,'Data Input'!AE847,'Data Input'!AF847,'Data Input'!AG847,'Data Input'!AI847,'Data Input'!AK847))","v":""},{"$f":"IF(I842=\"\",\"\",I842/COUNTIF('Data Input'!$C$8:$AK$8,\"C\"))","v":""},{"$f":"IF(ISBLANK('Data Input'!A847),\"\",SUM('Data Input'!T847,'Data Input'!U847))","v":""},{"$f":"IF(K842=\"\",\"\",K842/COUNTIF('Data Input'!$C$8:$AK$8,\"S\"))","v":""},{"$f":"IF(ISBLANK('Data Input'!A847),\"\",SUM('Data Input'!F847,'Data Input'!R847,'Data Input'!AJ847))","v":""},{"$f":"IF(M842=\"\",\"\",M842/COUNTIF('Data Input'!$C$8:$AK$8,\"F\"))","v":""},{"$f":"IF(ISBLANK('Data Input'!A847),\"\",SUM('Data Input'!E847,'Data Input'!M847,'Data Input'!Q847,'Data Input'!V847,'Data Input'!W847,'Data Input'!AD847,'Data Input'!AH847))","v":""},{"$f":"IF(O842=\"\",\"\",O842/COUNTIF('Data Input'!$C$8:$AK$8,\"M\"))","v":""},{"$f":"IF(ISBLANK('Data Input'!A847),\"\",SUM('Data Input'!H847,'Data Input'!K847,'Data Input'!P847,'Data Input'!Y847))","v":""},{"$f":"IF(Q842=\"\",\"\",Q842/COUNTIF('Data Input'!$C$8:$AK$8,\"G\"))","v":""}]
[{"$f":"IF('Data Input'!A848=0,\"\",'Data Input'!A848)","v":""},{"$f":"IF(ISBLANK('Data Input'!A848),\"\",COUNTIF('Data Input'!C848:AK848,\"\"))","v":""},{"$f":"IF(ISBLANK('Data Input'!A848),\"\",COUNTIF('Data Input'!C848:AK848,\"0\"))","v":""},{"$f":"IF(ISBLANK('Data Input'!A848),\"\",SUM(B843,C843))","v":""},{"$f":"IF(ISBLANK('Data Input'!A848),\"\",SUM('Data Input'!C848:AK848))","v":""},{"$f":"IF(E843=\"\",\"\",E843/(COUNTA('Data Input'!$C$8:$AK$8)))","v":""},{"$f":"IF(ISBLANK('Data Input'!A848),\"\",SUM('Data Input'!C848,'Data Input'!D848,'Data Input'!J848,'Data Input'!X848))","v":""},{"$f":"IF(G843=\"\",\"\",G843/COUNTIF('Data Input'!$C$8:$AK$8,\"N\"))","v":""},{"$f":"IF(ISBLANK('Data Input'!A848),\"\",SUM('Data Input'!G848,'Data Input'!I848,'Data Input'!L848,'Data Input'!N848,'Data Input'!O848,'Data Input'!S848,'Data Input'!Z848,'Data Input'!AA848,'Data Input'!AB848,'Data Input'!AC848,'Data Input'!AE848,'Data Input'!AF848,'Data Input'!AG848,'Data Input'!AI848,'Data Input'!AK848))","v":""},{"$f":"IF(I843=\"\",\"\",I843/COUNTIF('Data Input'!$C$8:$AK$8,\"C\"))","v":""},{"$f":"IF(ISBLANK('Data Input'!A848),\"\",SUM('Data Input'!T848,'Data Input'!U848))","v":""},{"$f":"IF(K843=\"\",\"\",K843/COUNTIF('Data Input'!$C$8:$AK$8,\"S\"))","v":""},{"$f":"IF(ISBLANK('Data Input'!A848),\"\",SUM('Data Input'!F848,'Data Input'!R848,'Data Input'!AJ848))","v":""},{"$f":"IF(M843=\"\",\"\",M843/COUNTIF('Data Input'!$C$8:$AK$8,\"F\"))","v":""},{"$f":"IF(ISBLANK('Data Input'!A848),\"\",SUM('Data Input'!E848,'Data Input'!M848,'Data Input'!Q848,'Data Input'!V848,'Data Input'!W848,'Data Input'!AD848,'Data Input'!AH848))","v":""},{"$f":"IF(O843=\"\",\"\",O843/COUNTIF('Data Input'!$C$8:$AK$8,\"M\"))","v":""},{"$f":"IF(ISBLANK('Data Input'!A848),\"\",SUM('Data Input'!H848,'Data Input'!K848,'Data Input'!P848,'Data Input'!Y848))","v":""},{"$f":"IF(Q843=\"\",\"\",Q843/COUNTIF('Data Input'!$C$8:$AK$8,\"G\"))","v":""}]
[{"$f":"IF('Data Input'!A849=0,\"\",'Data Input'!A849)","v":""},{"$f":"IF(ISBLANK('Data Input'!A849),\"\",COUNTIF('Data Input'!C849:AK849,\"\"))","v":""},{"$f":"IF(ISBLANK('Data Input'!A849),\"\",COUNTIF('Data Input'!C849:AK849,\"0\"))","v":""},{"$f":"IF(ISBLANK('Data Input'!A849),\"\",SUM(B844,C844))","v":""},{"$f":"IF(ISBLANK('Data Input'!A849),\"\",SUM('Data Input'!C849:AK849))","v":""},{"$f":"IF(E844=\"\",\"\",E844/(COUNTA('Data Input'!$C$8:$AK$8)))","v":""},{"$f":"IF(ISBLANK('Data Input'!A849),\"\",SUM('Data Input'!C849,'Data Input'!D849,'Data Input'!J849,'Data Input'!X849))","v":""},{"$f":"IF(G844=\"\",\"\",G844/COUNTIF('Data Input'!$C$8:$AK$8,\"N\"))","v":""},{"$f":"IF(ISBLANK('Data Input'!A849),\"\",SUM('Data Input'!G849,'Data Input'!I849,'Data Input'!L849,'Data Input'!N849,'Data Input'!O849,'Data Input'!S849,'Data Input'!Z849,'Data Input'!AA849,'Data Input'!AB849,'Data Input'!AC849,'Data Input'!AE849,'Data Input'!AF849,'Data Input'!AG849,'Data Input'!AI849,'Data Input'!AK849))","v":""},{"$f":"IF(I844=\"\",\"\",I844/COUNTIF('Data Input'!$C$8:$AK$8,\"C\"))","v":""},{"$f":"IF(ISBLANK('Data Input'!A849),\"\",SUM('Data Input'!T849,'Data Input'!U849))","v":""},{"$f":"IF(K844=\"\",\"\",K844/COUNTIF('Data Input'!$C$8:$AK$8,\"S\"))","v":""},{"$f":"IF(ISBLANK('Data Input'!A849),\"\",SUM('Data Input'!F849,'Data Input'!R849,'Data Input'!AJ849))","v":""},{"$f":"IF(M844=\"\",\"\",M844/COUNTIF('Data Input'!$C$8:$AK$8,\"F\"))","v":""},{"$f":"IF(ISBLANK('Data Input'!A849),\"\",SUM('Data Input'!E849,'Data Input'!M849,'Data Input'!Q849,'Data Input'!V849,'Data Input'!W849,'Data Input'!AD849,'Data Input'!AH849))","v":""},{"$f":"IF(O844=\"\",\"\",O844/COUNTIF('Data Input'!$C$8:$AK$8,\"M\"))","v":""},{"$f":"IF(ISBLANK('Data Input'!A849),\"\",SUM('Data Input'!H849,'Data Input'!K849,'Data Input'!P849,'Data Input'!Y849))","v":""},{"$f":"IF(Q844=\"\",\"\",Q844/COUNTIF('Data Input'!$C$8:$AK$8,\"G\"))","v":""}]
[{"$f":"IF('Data Input'!A850=0,\"\",'Data Input'!A850)","v":""},{"$f":"IF(ISBLANK('Data Input'!A850),\"\",COUNTIF('Data Input'!C850:AK850,\"\"))","v":""},{"$f":"IF(ISBLANK('Data Input'!A850),\"\",COUNTIF('Data Input'!C850:AK850,\"0\"))","v":""},{"$f":"IF(ISBLANK('Data Input'!A850),\"\",SUM(B845,C845))","v":""},{"$f":"IF(ISBLANK('Data Input'!A850),\"\",SUM('Data Input'!C850:AK850))","v":""},{"$f":"IF(E845=\"\",\"\",E845/(COUNTA('Data Input'!$C$8:$AK$8)))","v":""},{"$f":"IF(ISBLANK('Data Input'!A850),\"\",SUM('Data Input'!C850,'Data Input'!D850,'Data Input'!J850,'Data Input'!X850))","v":""},{"$f":"IF(G845=\"\",\"\",G845/COUNTIF('Data Input'!$C$8:$AK$8,\"N\"))","v":""},{"$f":"IF(ISBLANK('Data Input'!A850),\"\",SUM('Data Input'!G850,'Data Input'!I850,'Data Input'!L850,'Data Input'!N850,'Data Input'!O850,'Data Input'!S850,'Data Input'!Z850,'Data Input'!AA850,'Data Input'!AB850,'Data Input'!AC850,'Data Input'!AE850,'Data Input'!AF850,'Data Input'!AG850,'Data Input'!AI850,'Data Input'!AK850))","v":""},{"$f":"IF(I845=\"\",\"\",I845/COUNTIF('Data Input'!$C$8:$AK$8,\"C\"))","v":""},{"$f":"IF(ISBLANK('Data Input'!A850),\"\",SUM('Data Input'!T850,'Data Input'!U850))","v":""},{"$f":"IF(K845=\"\",\"\",K845/COUNTIF('Data Input'!$C$8:$AK$8,\"S\"))","v":""},{"$f":"IF(ISBLANK('Data Input'!A850),\"\",SUM('Data Input'!F850,'Data Input'!R850,'Data Input'!AJ850))","v":""},{"$f":"IF(M845=\"\",\"\",M845/COUNTIF('Data Input'!$C$8:$AK$8,\"F\"))","v":""},{"$f":"IF(ISBLANK('Data Input'!A850),\"\",SUM('Data Input'!E850,'Data Input'!M850,'Data Input'!Q850,'Data Input'!V850,'Data Input'!W850,'Data Input'!AD850,'Data Input'!AH850))","v":""},{"$f":"IF(O845=\"\",\"\",O845/COUNTIF('Data Input'!$C$8:$AK$8,\"M\"))","v":""},{"$f":"IF(ISBLANK('Data Input'!A850),\"\",SUM('Data Input'!H850,'Data Input'!K850,'Data Input'!P850,'Data Input'!Y850))","v":""},{"$f":"IF(Q845=\"\",\"\",Q845/COUNTIF('Data Input'!$C$8:$AK$8,\"G\"))","v":""}]
[{"$f":"IF('Data Input'!A851=0,\"\",'Data Input'!A851)","v":""},{"$f":"IF(ISBLANK('Data Input'!A851),\"\",COUNTIF('Data Input'!C851:AK851,\"\"))","v":""},{"$f":"IF(ISBLANK('Data Input'!A851),\"\",COUNTIF('Data Input'!C851:AK851,\"0\"))","v":""},{"$f":"IF(ISBLANK('Data Input'!A851),\"\",SUM(B846,C846))","v":""},{"$f":"IF(ISBLANK('Data Input'!A851),\"\",SUM('Data Input'!C851:AK851))","v":""},{"$f":"IF(E846=\"\",\"\",E846/(COUNTA('Data Input'!$C$8:$AK$8)))","v":""},{"$f":"IF(ISBLANK('Data Input'!A851),\"\",SUM('Data Input'!C851,'Data Input'!D851,'Data Input'!J851,'Data Input'!X851))","v":""},{"$f":"IF(G846=\"\",\"\",G846/COUNTIF('Data Input'!$C$8:$AK$8,\"N\"))","v":""},{"$f":"IF(ISBLANK('Data Input'!A851),\"\",SUM('Data Input'!G851,'Data Input'!I851,'Data Input'!L851,'Data Input'!N851,'Data Input'!O851,'Data Input'!S851,'Data Input'!Z851,'Data Input'!AA851,'Data Input'!AB851,'Data Input'!AC851,'Data Input'!AE851,'Data Input'!AF851,'Data Input'!AG851,'Data Input'!AI851,'Data Input'!AK851))","v":""},{"$f":"IF(I846=\"\",\"\",I846/COUNTIF('Data Input'!$C$8:$AK$8,\"C\"))","v":""},{"$f":"IF(ISBLANK('Data Input'!A851),\"\",SUM('Data Input'!T851,'Data Input'!U851))","v":""},{"$f":"IF(K846=\"\",\"\",K846/COUNTIF('Data Input'!$C$8:$AK$8,\"S\"))","v":""},{"$f":"IF(ISBLANK('Data Input'!A851),\"\",SUM('Data Input'!F851,'Data Input'!R851,'Data Input'!AJ851))","v":""},{"$f":"IF(M846=\"\",\"\",M846/COUNTIF('Data Input'!$C$8:$AK$8,\"F\"))","v":""},{"$f":"IF(ISBLANK('Data Input'!A851),\"\",SUM('Data Input'!E851,'Data Input'!M851,'Data Input'!Q851,'Data Input'!V851,'Data Input'!W851,'Data Input'!AD851,'Data Input'!AH851))","v":""},{"$f":"IF(O846=\"\",\"\",O846/COUNTIF('Data Input'!$C$8:$AK$8,\"M\"))","v":""},{"$f":"IF(ISBLANK('Data Input'!A851),\"\",SUM('Data Input'!H851,'Data Input'!K851,'Data Input'!P851,'Data Input'!Y851))","v":""},{"$f":"IF(Q846=\"\",\"\",Q846/COUNTIF('Data Input'!$C$8:$AK$8,\"G\"))","v":""}]
[{"$f":"IF('Data Input'!A852=0,\"\",'Data Input'!A852)","v":""},{"$f":"IF(ISBLANK('Data Input'!A852),\"\",COUNTIF('Data Input'!C852:AK852,\"\"))","v":""},{"$f":"IF(ISBLANK('Data Input'!A852),\"\",COUNTIF('Data Input'!C852:AK852,\"0\"))","v":""},{"$f":"IF(ISBLANK('Data Input'!A852),\"\",SUM(B847,C847))","v":""},{"$f":"IF(ISBLANK('Data Input'!A852),\"\",SUM('Data Input'!C852:AK852))","v":""},{"$f":"IF(E847=\"\",\"\",E847/(COUNTA('Data Input'!$C$8:$AK$8)))","v":""},{"$f":"IF(ISBLANK('Data Input'!A852),\"\",SUM('Data Input'!C852,'Data Input'!D852,'Data Input'!J852,'Data Input'!X852))","v":""},{"$f":"IF(G847=\"\",\"\",G847/COUNTIF('Data Input'!$C$8:$AK$8,\"N\"))","v":""},{"$f":"IF(ISBLANK('Data Input'!A852),\"\",SUM('Data Input'!G852,'Data Input'!I852,'Data Input'!L852,'Data Input'!N852,'Data Input'!O852,'Data Input'!S852,'Data Input'!Z852,'Data Input'!AA852,'Data Input'!AB852,'Data Input'!AC852,'Data Input'!AE852,'Data Input'!AF852,'Data Input'!AG852,'Data Input'!AI852,'Data Input'!AK852))","v":""},{"$f":"IF(I847=\"\",\"\",I847/COUNTIF('Data Input'!$C$8:$AK$8,\"C\"))","v":""},{"$f":"IF(ISBLANK('Data Input'!A852),\"\",SUM('Data Input'!T852,'Data Input'!U852))","v":""},{"$f":"IF(K847=\"\",\"\",K847/COUNTIF('Data Input'!$C$8:$AK$8,\"S\"))","v":""},{"$f":"IF(ISBLANK('Data Input'!A852),\"\",SUM('Data Input'!F852,'Data Input'!R852,'Data Input'!AJ852))","v":""},{"$f":"IF(M847=\"\",\"\",M847/COUNTIF('Data Input'!$C$8:$AK$8,\"F\"))","v":""},{"$f":"IF(ISBLANK('Data Input'!A852),\"\",SUM('Data Input'!E852,'Data Input'!M852,'Data Input'!Q852,'Data Input'!V852,'Data Input'!W852,'Data Input'!AD852,'Data Input'!AH852))","v":""},{"$f":"IF(O847=\"\",\"\",O847/COUNTIF('Data Input'!$C$8:$AK$8,\"M\"))","v":""},{"$f":"IF(ISBLANK('Data Input'!A852),\"\",SUM('Data Input'!H852,'Data Input'!K852,'Data Input'!P852,'Data Input'!Y852))","v":""},{"$f":"IF(Q847=\"\",\"\",Q847/COUNTIF('Data Input'!$C$8:$AK$8,\"G\"))","v":""}]
[{"$f":"IF('Data Input'!A853=0,\"\",'Data Input'!A853)","v":""},{"$f":"IF(ISBLANK('Data Input'!A853),\"\",COUNTIF('Data Input'!C853:AK853,\"\"))","v":""},{"$f":"IF(ISBLANK('Data Input'!A853),\"\",COUNTIF('Data Input'!C853:AK853,\"0\"))","v":""},{"$f":"IF(ISBLANK('Data Input'!A853),\"\",SUM(B848,C848))","v":""},{"$f":"IF(ISBLANK('Data Input'!A853),\"\",SUM('Data Input'!C853:AK853))","v":""},{"$f":"IF(E848=\"\",\"\",E848/(COUNTA('Data Input'!$C$8:$AK$8)))","v":""},{"$f":"IF(ISBLANK('Data Input'!A853),\"\",SUM('Data Input'!C853,'Data Input'!D853,'Data Input'!J853,'Data Input'!X853))","v":""},{"$f":"IF(G848=\"\",\"\",G848/COUNTIF('Data Input'!$C$8:$AK$8,\"N\"))","v":""},{"$f":"IF(ISBLANK('Data Input'!A853),\"\",SUM('Data Input'!G853,'Data Input'!I853,'Data Input'!L853,'Data Input'!N853,'Data Input'!O853,'Data Input'!S853,'Data Input'!Z853,'Data Input'!AA853,'Data Input'!AB853,'Data Input'!AC853,'Data Input'!AE853,'Data Input'!AF853,'Data Input'!AG853,'Data Input'!AI853,'Data Input'!AK853))","v":""},{"$f":"IF(I848=\"\",\"\",I848/COUNTIF('Data Input'!$C$8:$AK$8,\"C\"))","v":""},{"$f":"IF(ISBLANK('Data Input'!A853),\"\",SUM('Data Input'!T853,'Data Input'!U853))","v":""},{"$f":"IF(K848=\"\",\"\",K848/COUNTIF('Data Input'!$C$8:$AK$8,\"S\"))","v":""},{"$f":"IF(ISBLANK('Data Input'!A853),\"\",SUM('Data Input'!F853,'Data Input'!R853,'Data Input'!AJ853))","v":""},{"$f":"IF(M848=\"\",\"\",M848/COUNTIF('Data Input'!$C$8:$AK$8,\"F\"))","v":""},{"$f":"IF(ISBLANK('Data Input'!A853),\"\",SUM('Data Input'!E853,'Data Input'!M853,'Data Input'!Q853,'Data Input'!V853,'Data Input'!W853,'Data Input'!AD853,'Data Input'!AH853))","v":""},{"$f":"IF(O848=\"\",\"\",O848/COUNTIF('Data Input'!$C$8:$AK$8,\"M\"))","v":""},{"$f":"IF(ISBLANK('Data Input'!A853),\"\",SUM('Data Input'!H853,'Data Input'!K853,'Data Input'!P853,'Data Input'!Y853))","v":""},{"$f":"IF(Q848=\"\",\"\",Q848/COUNTIF('Data Input'!$C$8:$AK$8,\"G\"))","v":""}]
[{"$f":"IF('Data Input'!A854=0,\"\",'Data Input'!A854)","v":""},{"$f":"IF(ISBLANK('Data Input'!A854),\"\",COUNTIF('Data Input'!C854:AK854,\"\"))","v":""},{"$f":"IF(ISBLANK('Data Input'!A854),\"\",COUNTIF('Data Input'!C854:AK854,\"0\"))","v":""},{"$f":"IF(ISBLANK('Data Input'!A854),\"\",SUM(B849,C849))","v":""},{"$f":"IF(ISBLANK('Data Input'!A854),\"\",SUM('Data Input'!C854:AK854))","v":""},{"$f":"IF(E849=\"\",\"\",E849/(COUNTA('Data Input'!$C$8:$AK$8)))","v":""},{"$f":"IF(ISBLANK('Data Input'!A854),\"\",SUM('Data Input'!C854,'Data Input'!D854,'Data Input'!J854,'Data Input'!X854))","v":""},{"$f":"IF(G849=\"\",\"\",G849/COUNTIF('Data Input'!$C$8:$AK$8,\"N\"))","v":""},{"$f":"IF(ISBLANK('Data Input'!A854),\"\",SUM('Data Input'!G854,'Data Input'!I854,'Data Input'!L854,'Data Input'!N854,'Data Input'!O854,'Data Input'!S854,'Data Input'!Z854,'Data Input'!AA854,'Data Input'!AB854,'Data Input'!AC854,'Data Input'!AE854,'Data Input'!AF854,'Data Input'!AG854,'Data Input'!AI854,'Data Input'!AK854))","v":""},{"$f":"IF(I849=\"\",\"\",I849/COUNTIF('Data Input'!$C$8:$AK$8,\"C\"))","v":""},{"$f":"IF(ISBLANK('Data Input'!A854),\"\",SUM('Data Input'!T854,'Data Input'!U854))","v":""},{"$f":"IF(K849=\"\",\"\",K849/COUNTIF('Data Input'!$C$8:$AK$8,\"S\"))","v":""},{"$f":"IF(ISBLANK('Data Input'!A854),\"\",SUM('Data Input'!F854,'Data Input'!R854,'Data Input'!AJ854))","v":""},{"$f":"IF(M849=\"\",\"\",M849/COUNTIF('Data Input'!$C$8:$AK$8,\"F\"))","v":""},{"$f":"IF(ISBLANK('Data Input'!A854),\"\",SUM('Data Input'!E854,'Data Input'!M854,'Data Input'!Q854,'Data Input'!V854,'Data Input'!W854,'Data Input'!AD854,'Data Input'!AH854))","v":""},{"$f":"IF(O849=\"\",\"\",O849/COUNTIF('Data Input'!$C$8:$AK$8,\"M\"))","v":""},{"$f":"IF(ISBLANK('Data Input'!A854),\"\",SUM('Data Input'!H854,'Data Input'!K854,'Data Input'!P854,'Data Input'!Y854))","v":""},{"$f":"IF(Q849=\"\",\"\",Q849/COUNTIF('Data Input'!$C$8:$AK$8,\"G\"))","v":""}]
[{"$f":"IF('Data Input'!A855=0,\"\",'Data Input'!A855)","v":""},{"$f":"IF(ISBLANK('Data Input'!A855),\"\",COUNTIF('Data Input'!C855:AK855,\"\"))","v":""},{"$f":"IF(ISBLANK('Data Input'!A855),\"\",COUNTIF('Data Input'!C855:AK855,\"0\"))","v":""},{"$f":"IF(ISBLANK('Data Input'!A855),\"\",SUM(B850,C850))","v":""},{"$f":"IF(ISBLANK('Data Input'!A855),\"\",SUM('Data Input'!C855:AK855))","v":""},{"$f":"IF(E850=\"\",\"\",E850/(COUNTA('Data Input'!$C$8:$AK$8)))","v":""},{"$f":"IF(ISBLANK('Data Input'!A855),\"\",SUM('Data Input'!C855,'Data Input'!D855,'Data Input'!J855,'Data Input'!X855))","v":""},{"$f":"IF(G850=\"\",\"\",G850/COUNTIF('Data Input'!$C$8:$AK$8,\"N\"))","v":""},{"$f":"IF(ISBLANK('Data Input'!A855),\"\",SUM('Data Input'!G855,'Data Input'!I855,'Data Input'!L855,'Data Input'!N855,'Data Input'!O855,'Data Input'!S855,'Data Input'!Z855,'Data Input'!AA855,'Data Input'!AB855,'Data Input'!AC855,'Data Input'!AE855,'Data Input'!AF855,'Data Input'!AG855,'Data Input'!AI855,'Data Input'!AK855))","v":""},{"$f":"IF(I850=\"\",\"\",I850/COUNTIF('Data Input'!$C$8:$AK$8,\"C\"))","v":""},{"$f":"IF(ISBLANK('Data Input'!A855),\"\",SUM('Data Input'!T855,'Data Input'!U855))","v":""},{"$f":"IF(K850=\"\",\"\",K850/COUNTIF('Data Input'!$C$8:$AK$8,\"S\"))","v":""},{"$f":"IF(ISBLANK('Data Input'!A855),\"\",SUM('Data Input'!F855,'Data Input'!R855,'Data Input'!AJ855))","v":""},{"$f":"IF(M850=\"\",\"\",M850/COUNTIF('Data Input'!$C$8:$AK$8,\"F\"))","v":""},{"$f":"IF(ISBLANK('Data Input'!A855),\"\",SUM('Data Input'!E855,'Data Input'!M855,'Data Input'!Q855,'Data Input'!V855,'Data Input'!W855,'Data Input'!AD855,'Data Input'!AH855))","v":""},{"$f":"IF(O850=\"\",\"\",O850/COUNTIF('Data Input'!$C$8:$AK$8,\"M\"))","v":""},{"$f":"IF(ISBLANK('Data Input'!A855),\"\",SUM('Data Input'!H855,'Data Input'!K855,'Data Input'!P855,'Data Input'!Y855))","v":""},{"$f":"IF(Q850=\"\",\"\",Q850/COUNTIF('Data Input'!$C$8:$AK$8,\"G\"))","v":""}]
[{"$f":"IF('Data Input'!A856=0,\"\",'Data Input'!A856)","v":""},{"$f":"IF(ISBLANK('Data Input'!A856),\"\",COUNTIF('Data Input'!C856:AK856,\"\"))","v":""},{"$f":"IF(ISBLANK('Data Input'!A856),\"\",COUNTIF('Data Input'!C856:AK856,\"0\"))","v":""},{"$f":"IF(ISBLANK('Data Input'!A856),\"\",SUM(B851,C851))","v":""},{"$f":"IF(ISBLANK('Data Input'!A856),\"\",SUM('Data Input'!C856:AK856))","v":""},{"$f":"IF(E851=\"\",\"\",E851/(COUNTA('Data Input'!$C$8:$AK$8)))","v":""},{"$f":"IF(ISBLANK('Data Input'!A856),\"\",SUM('Data Input'!C856,'Data Input'!D856,'Data Input'!J856,'Data Input'!X856))","v":""},{"$f":"IF(G851=\"\",\"\",G851/COUNTIF('Data Input'!$C$8:$AK$8,\"N\"))","v":""},{"$f":"IF(ISBLANK('Data Input'!A856),\"\",SUM('Data Input'!G856,'Data Input'!I856,'Data Input'!L856,'Data Input'!N856,'Data Input'!O856,'Data Input'!S856,'Data Input'!Z856,'Data Input'!AA856,'Data Input'!AB856,'Data Input'!AC856,'Data Input'!AE856,'Data Input'!AF856,'Data Input'!AG856,'Data Input'!AI856,'Data Input'!AK856))","v":""},{"$f":"IF(I851=\"\",\"\",I851/COUNTIF('Data Input'!$C$8:$AK$8,\"C\"))","v":""},{"$f":"IF(ISBLANK('Data Input'!A856),\"\",SUM('Data Input'!T856,'Data Input'!U856))","v":""},{"$f":"IF(K851=\"\",\"\",K851/COUNTIF('Data Input'!$C$8:$AK$8,\"S\"))","v":""},{"$f":"IF(ISBLANK('Data Input'!A856),\"\",SUM('Data Input'!F856,'Data Input'!R856,'Data Input'!AJ856))","v":""},{"$f":"IF(M851=\"\",\"\",M851/COUNTIF('Data Input'!$C$8:$AK$8,\"F\"))","v":""},{"$f":"IF(ISBLANK('Data Input'!A856),\"\",SUM('Data Input'!E856,'Data Input'!M856,'Data Input'!Q856,'Data Input'!V856,'Data Input'!W856,'Data Input'!AD856,'Data Input'!AH856))","v":""},{"$f":"IF(O851=\"\",\"\",O851/COUNTIF('Data Input'!$C$8:$AK$8,\"M\"))","v":""},{"$f":"IF(ISBLANK('Data Input'!A856),\"\",SUM('Data Input'!H856,'Data Input'!K856,'Data Input'!P856,'Data Input'!Y856))","v":""},{"$f":"IF(Q851=\"\",\"\",Q851/COUNTIF('Data Input'!$C$8:$AK$8,\"G\"))","v":""}]
[{"$f":"IF('Data Input'!A857=0,\"\",'Data Input'!A857)","v":""},{"$f":"IF(ISBLANK('Data Input'!A857),\"\",COUNTIF('Data Input'!C857:AK857,\"\"))","v":""},{"$f":"IF(ISBLANK('Data Input'!A857),\"\",COUNTIF('Data Input'!C857:AK857,\"0\"))","v":""},{"$f":"IF(ISBLANK('Data Input'!A857),\"\",SUM(B852,C852))","v":""},{"$f":"IF(ISBLANK('Data Input'!A857),\"\",SUM('Data Input'!C857:AK857))","v":""},{"$f":"IF(E852=\"\",\"\",E852/(COUNTA('Data Input'!$C$8:$AK$8)))","v":""},{"$f":"IF(ISBLANK('Data Input'!A857),\"\",SUM('Data Input'!C857,'Data Input'!D857,'Data Input'!J857,'Data Input'!X857))","v":""},{"$f":"IF(G852=\"\",\"\",G852/COUNTIF('Data Input'!$C$8:$AK$8,\"N\"))","v":""},{"$f":"IF(ISBLANK('Data Input'!A857),\"\",SUM('Data Input'!G857,'Data Input'!I857,'Data Input'!L857,'Data Input'!N857,'Data Input'!O857,'Data Input'!S857,'Data Input'!Z857,'Data Input'!AA857,'Data Input'!AB857,'Data Input'!AC857,'Data Input'!AE857,'Data Input'!AF857,'Data Input'!AG857,'Data Input'!AI857,'Data Input'!AK857))","v":""},{"$f":"IF(I852=\"\",\"\",I852/COUNTIF('Data Input'!$C$8:$AK$8,\"C\"))","v":""},{"$f":"IF(ISBLANK('Data Input'!A857),\"\",SUM('Data Input'!T857,'Data Input'!U857))","v":""},{"$f":"IF(K852=\"\",\"\",K852/COUNTIF('Data Input'!$C$8:$AK$8,\"S\"))","v":""},{"$f":"IF(ISBLANK('Data Input'!A857),\"\",SUM('Data Input'!F857,'Data Input'!R857,'Data Input'!AJ857))","v":""},{"$f":"IF(M852=\"\",\"\",M852/COUNTIF('Data Input'!$C$8:$AK$8,\"F\"))","v":""},{"$f":"IF(ISBLANK('Data Input'!A857),\"\",SUM('Data Input'!E857,'Data Input'!M857,'Data Input'!Q857,'Data Input'!V857,'Data Input'!W857,'Data Input'!AD857,'Data Input'!AH857))","v":""},{"$f":"IF(O852=\"\",\"\",O852/COUNTIF('Data Input'!$C$8:$AK$8,\"M\"))","v":""},{"$f":"IF(ISBLANK('Data Input'!A857),\"\",SUM('Data Input'!H857,'Data Input'!K857,'Data Input'!P857,'Data Input'!Y857))","v":""},{"$f":"IF(Q852=\"\",\"\",Q852/COUNTIF('Data Input'!$C$8:$AK$8,\"G\"))","v":""}]
[{"$f":"IF('Data Input'!A858=0,\"\",'Data Input'!A858)","v":""},{"$f":"IF(ISBLANK('Data Input'!A858),\"\",COUNTIF('Data Input'!C858:AK858,\"\"))","v":""},{"$f":"IF(ISBLANK('Data Input'!A858),\"\",COUNTIF('Data Input'!C858:AK858,\"0\"))","v":""},{"$f":"IF(ISBLANK('Data Input'!A858),\"\",SUM(B853,C853))","v":""},{"$f":"IF(ISBLANK('Data Input'!A858),\"\",SUM('Data Input'!C858:AK858))","v":""},{"$f":"IF(E853=\"\",\"\",E853/(COUNTA('Data Input'!$C$8:$AK$8)))","v":""},{"$f":"IF(ISBLANK('Data Input'!A858),\"\",SUM('Data Input'!C858,'Data Input'!D858,'Data Input'!J858,'Data Input'!X858))","v":""},{"$f":"IF(G853=\"\",\"\",G853/COUNTIF('Data Input'!$C$8:$AK$8,\"N\"))","v":""},{"$f":"IF(ISBLANK('Data Input'!A858),\"\",SUM('Data Input'!G858,'Data Input'!I858,'Data Input'!L858,'Data Input'!N858,'Data Input'!O858,'Data Input'!S858,'Data Input'!Z858,'Data Input'!AA858,'Data Input'!AB858,'Data Input'!AC858,'Data Input'!AE858,'Data Input'!AF858,'Data Input'!AG858,'Data Input'!AI858,'Data Input'!AK858))","v":""},{"$f":"IF(I853=\"\",\"\",I853/COUNTIF('Data Input'!$C$8:$AK$8,\"C\"))","v":""},{"$f":"IF(ISBLANK('Data Input'!A858),\"\",SUM('Data Input'!T858,'Data Input'!U858))","v":""},{"$f":"IF(K853=\"\",\"\",K853/COUNTIF('Data Input'!$C$8:$AK$8,\"S\"))","v":""},{"$f":"IF(ISBLANK('Data Input'!A858),\"\",SUM('Data Input'!F858,'Data Input'!R858,'Data Input'!AJ858))","v":""},{"$f":"IF(M853=\"\",\"\",M853/COUNTIF('Data Input'!$C$8:$AK$8,\"F\"))","v":""},{"$f":"IF(ISBLANK('Data Input'!A858),\"\",SUM('Data Input'!E858,'Data Input'!M858,'Data Input'!Q858,'Data Input'!V858,'Data Input'!W858,'Data Input'!AD858,'Data Input'!AH858))","v":""},{"$f":"IF(O853=\"\",\"\",O853/COUNTIF('Data Input'!$C$8:$AK$8,\"M\"))","v":""},{"$f":"IF(ISBLANK('Data Input'!A858),\"\",SUM('Data Input'!H858,'Data Input'!K858,'Data Input'!P858,'Data Input'!Y858))","v":""},{"$f":"IF(Q853=\"\",\"\",Q853/COUNTIF('Data Input'!$C$8:$AK$8,\"G\"))","v":""}]
[{"$f":"IF('Data Input'!A859=0,\"\",'Data Input'!A859)","v":""},{"$f":"IF(ISBLANK('Data Input'!A859),\"\",COUNTIF('Data Input'!C859:AK859,\"\"))","v":""},{"$f":"IF(ISBLANK('Data Input'!A859),\"\",COUNTIF('Data Input'!C859:AK859,\"0\"))","v":""},{"$f":"IF(ISBLANK('Data Input'!A859),\"\",SUM(B854,C854))","v":""},{"$f":"IF(ISBLANK('Data Input'!A859),\"\",SUM('Data Input'!C859:AK859))","v":""},{"$f":"IF(E854=\"\",\"\",E854/(COUNTA('Data Input'!$C$8:$AK$8)))","v":""},{"$f":"IF(ISBLANK('Data Input'!A859),\"\",SUM('Data Input'!C859,'Data Input'!D859,'Data Input'!J859,'Data Input'!X859))","v":""},{"$f":"IF(G854=\"\",\"\",G854/COUNTIF('Data Input'!$C$8:$AK$8,\"N\"))","v":""},{"$f":"IF(ISBLANK('Data Input'!A859),\"\",SUM('Data Input'!G859,'Data Input'!I859,'Data Input'!L859,'Data Input'!N859,'Data Input'!O859,'Data Input'!S859,'Data Input'!Z859,'Data Input'!AA859,'Data Input'!AB859,'Data Input'!AC859,'Data Input'!AE859,'Data Input'!AF859,'Data Input'!AG859,'Data Input'!AI859,'Data Input'!AK859))","v":""},{"$f":"IF(I854=\"\",\"\",I854/COUNTIF('Data Input'!$C$8:$AK$8,\"C\"))","v":""},{"$f":"IF(ISBLANK('Data Input'!A859),\"\",SUM('Data Input'!T859,'Data Input'!U859))","v":""},{"$f":"IF(K854=\"\",\"\",K854/COUNTIF('Data Input'!$C$8:$AK$8,\"S\"))","v":""},{"$f":"IF(ISBLANK('Data Input'!A859),\"\",SUM('Data Input'!F859,'Data Input'!R859,'Data Input'!AJ859))","v":""},{"$f":"IF(M854=\"\",\"\",M854/COUNTIF('Data Input'!$C$8:$AK$8,\"F\"))","v":""},{"$f":"IF(ISBLANK('Data Input'!A859),\"\",SUM('Data Input'!E859,'Data Input'!M859,'Data Input'!Q859,'Data Input'!V859,'Data Input'!W859,'Data Input'!AD859,'Data Input'!AH859))","v":""},{"$f":"IF(O854=\"\",\"\",O854/COUNTIF('Data Input'!$C$8:$AK$8,\"M\"))","v":""},{"$f":"IF(ISBLANK('Data Input'!A859),\"\",SUM('Data Input'!H859,'Data Input'!K859,'Data Input'!P859,'Data Input'!Y859))","v":""},{"$f":"IF(Q854=\"\",\"\",Q854/COUNTIF('Data Input'!$C$8:$AK$8,\"G\"))","v":""}]
[{"$f":"IF('Data Input'!A860=0,\"\",'Data Input'!A860)","v":""},{"$f":"IF(ISBLANK('Data Input'!A860),\"\",COUNTIF('Data Input'!C860:AK860,\"\"))","v":""},{"$f":"IF(ISBLANK('Data Input'!A860),\"\",COUNTIF('Data Input'!C860:AK860,\"0\"))","v":""},{"$f":"IF(ISBLANK('Data Input'!A860),\"\",SUM(B855,C855))","v":""},{"$f":"IF(ISBLANK('Data Input'!A860),\"\",SUM('Data Input'!C860:AK860))","v":""},{"$f":"IF(E855=\"\",\"\",E855/(COUNTA('Data Input'!$C$8:$AK$8)))","v":""},{"$f":"IF(ISBLANK('Data Input'!A860),\"\",SUM('Data Input'!C860,'Data Input'!D860,'Data Input'!J860,'Data Input'!X860))","v":""},{"$f":"IF(G855=\"\",\"\",G855/COUNTIF('Data Input'!$C$8:$AK$8,\"N\"))","v":""},{"$f":"IF(ISBLANK('Data Input'!A860),\"\",SUM('Data Input'!G860,'Data Input'!I860,'Data Input'!L860,'Data Input'!N860,'Data Input'!O860,'Data Input'!S860,'Data Input'!Z860,'Data Input'!AA860,'Data Input'!AB860,'Data Input'!AC860,'Data Input'!AE860,'Data Input'!AF860,'Data Input'!AG860,'Data Input'!AI860,'Data Input'!AK860))","v":""},{"$f":"IF(I855=\"\",\"\",I855/COUNTIF('Data Input'!$C$8:$AK$8,\"C\"))","v":""},{"$f":"IF(ISBLANK('Data Input'!A860),\"\",SUM('Data Input'!T860,'Data Input'!U860))","v":""},{"$f":"IF(K855=\"\",\"\",K855/COUNTIF('Data Input'!$C$8:$AK$8,\"S\"))","v":""},{"$f":"IF(ISBLANK('Data Input'!A860),\"\",SUM('Data Input'!F860,'Data Input'!R860,'Data Input'!AJ860))","v":""},{"$f":"IF(M855=\"\",\"\",M855/COUNTIF('Data Input'!$C$8:$AK$8,\"F\"))","v":""},{"$f":"IF(ISBLANK('Data Input'!A860),\"\",SUM('Data Input'!E860,'Data Input'!M860,'Data Input'!Q860,'Data Input'!V860,'Data Input'!W860,'Data Input'!AD860,'Data Input'!AH860))","v":""},{"$f":"IF(O855=\"\",\"\",O855/COUNTIF('Data Input'!$C$8:$AK$8,\"M\"))","v":""},{"$f":"IF(ISBLANK('Data Input'!A860),\"\",SUM('Data Input'!H860,'Data Input'!K860,'Data Input'!P860,'Data Input'!Y860))","v":""},{"$f":"IF(Q855=\"\",\"\",Q855/COUNTIF('Data Input'!$C$8:$AK$8,\"G\"))","v":""}]
[{"$f":"IF('Data Input'!A861=0,\"\",'Data Input'!A861)","v":""},{"$f":"IF(ISBLANK('Data Input'!A861),\"\",COUNTIF('Data Input'!C861:AK861,\"\"))","v":""},{"$f":"IF(ISBLANK('Data Input'!A861),\"\",COUNTIF('Data Input'!C861:AK861,\"0\"))","v":""},{"$f":"IF(ISBLANK('Data Input'!A861),\"\",SUM(B856,C856))","v":""},{"$f":"IF(ISBLANK('Data Input'!A861),\"\",SUM('Data Input'!C861:AK861))","v":""},{"$f":"IF(E856=\"\",\"\",E856/(COUNTA('Data Input'!$C$8:$AK$8)))","v":""},{"$f":"IF(ISBLANK('Data Input'!A861),\"\",SUM('Data Input'!C861,'Data Input'!D861,'Data Input'!J861,'Data Input'!X861))","v":""},{"$f":"IF(G856=\"\",\"\",G856/COUNTIF('Data Input'!$C$8:$AK$8,\"N\"))","v":""},{"$f":"IF(ISBLANK('Data Input'!A861),\"\",SUM('Data Input'!G861,'Data Input'!I861,'Data Input'!L861,'Data Input'!N861,'Data Input'!O861,'Data Input'!S861,'Data Input'!Z861,'Data Input'!AA861,'Data Input'!AB861,'Data Input'!AC861,'Data Input'!AE861,'Data Input'!AF861,'Data Input'!AG861,'Data Input'!AI861,'Data Input'!AK861))","v":""},{"$f":"IF(I856=\"\",\"\",I856/COUNTIF('Data Input'!$C$8:$AK$8,\"C\"))","v":""},{"$f":"IF(ISBLANK('Data Input'!A861),\"\",SUM('Data Input'!T861,'Data Input'!U861))","v":""},{"$f":"IF(K856=\"\",\"\",K856/COUNTIF('Data Input'!$C$8:$AK$8,\"S\"))","v":""},{"$f":"IF(ISBLANK('Data Input'!A861),\"\",SUM('Data Input'!F861,'Data Input'!R861,'Data Input'!AJ861))","v":""},{"$f":"IF(M856=\"\",\"\",M856/COUNTIF('Data Input'!$C$8:$AK$8,\"F\"))","v":""},{"$f":"IF(ISBLANK('Data Input'!A861),\"\",SUM('Data Input'!E861,'Data Input'!M861,'Data Input'!Q861,'Data Input'!V861,'Data Input'!W861,'Data Input'!AD861,'Data Input'!AH861))","v":""},{"$f":"IF(O856=\"\",\"\",O856/COUNTIF('Data Input'!$C$8:$AK$8,\"M\"))","v":""},{"$f":"IF(ISBLANK('Data Input'!A861),\"\",SUM('Data Input'!H861,'Data Input'!K861,'Data Input'!P861,'Data Input'!Y861))","v":""},{"$f":"IF(Q856=\"\",\"\",Q856/COUNTIF('Data Input'!$C$8:$AK$8,\"G\"))","v":""}]
[{"$f":"IF('Data Input'!A862=0,\"\",'Data Input'!A862)","v":""},{"$f":"IF(ISBLANK('Data Input'!A862),\"\",COUNTIF('Data Input'!C862:AK862,\"\"))","v":""},{"$f":"IF(ISBLANK('Data Input'!A862),\"\",COUNTIF('Data Input'!C862:AK862,\"0\"))","v":""},{"$f":"IF(ISBLANK('Data Input'!A862),\"\",SUM(B857,C857))","v":""},{"$f":"IF(ISBLANK('Data Input'!A862),\"\",SUM('Data Input'!C862:AK862))","v":""},{"$f":"IF(E857=\"\",\"\",E857/(COUNTA('Data Input'!$C$8:$AK$8)))","v":""},{"$f":"IF(ISBLANK('Data Input'!A862),\"\",SUM('Data Input'!C862,'Data Input'!D862,'Data Input'!J862,'Data Input'!X862))","v":""},{"$f":"IF(G857=\"\",\"\",G857/COUNTIF('Data Input'!$C$8:$AK$8,\"N\"))","v":""},{"$f":"IF(ISBLANK('Data Input'!A862),\"\",SUM('Data Input'!G862,'Data Input'!I862,'Data Input'!L862,'Data Input'!N862,'Data Input'!O862,'Data Input'!S862,'Data Input'!Z862,'Data Input'!AA862,'Data Input'!AB862,'Data Input'!AC862,'Data Input'!AE862,'Data Input'!AF862,'Data Input'!AG862,'Data Input'!AI862,'Data Input'!AK862))","v":""},{"$f":"IF(I857=\"\",\"\",I857/COUNTIF('Data Input'!$C$8:$AK$8,\"C\"))","v":""},{"$f":"IF(ISBLANK('Data Input'!A862),\"\",SUM('Data Input'!T862,'Data Input'!U862))","v":""},{"$f":"IF(K857=\"\",\"\",K857/COUNTIF('Data Input'!$C$8:$AK$8,\"S\"))","v":""},{"$f":"IF(ISBLANK('Data Input'!A862),\"\",SUM('Data Input'!F862,'Data Input'!R862,'Data Input'!AJ862))","v":""},{"$f":"IF(M857=\"\",\"\",M857/COUNTIF('Data Input'!$C$8:$AK$8,\"F\"))","v":""},{"$f":"IF(ISBLANK('Data Input'!A862),\"\",SUM('Data Input'!E862,'Data Input'!M862,'Data Input'!Q862,'Data Input'!V862,'Data Input'!W862,'Data Input'!AD862,'Data Input'!AH862))","v":""},{"$f":"IF(O857=\"\",\"\",O857/COUNTIF('Data Input'!$C$8:$AK$8,\"M\"))","v":""},{"$f":"IF(ISBLANK('Data Input'!A862),\"\",SUM('Data Input'!H862,'Data Input'!K862,'Data Input'!P862,'Data Input'!Y862))","v":""},{"$f":"IF(Q857=\"\",\"\",Q857/COUNTIF('Data Input'!$C$8:$AK$8,\"G\"))","v":""}]
[{"$f":"IF('Data Input'!A863=0,\"\",'Data Input'!A863)","v":""},{"$f":"IF(ISBLANK('Data Input'!A863),\"\",COUNTIF('Data Input'!C863:AK863,\"\"))","v":""},{"$f":"IF(ISBLANK('Data Input'!A863),\"\",COUNTIF('Data Input'!C863:AK863,\"0\"))","v":""},{"$f":"IF(ISBLANK('Data Input'!A863),\"\",SUM(B858,C858))","v":""},{"$f":"IF(ISBLANK('Data Input'!A863),\"\",SUM('Data Input'!C863:AK863))","v":""},{"$f":"IF(E858=\"\",\"\",E858/(COUNTA('Data Input'!$C$8:$AK$8)))","v":""},{"$f":"IF(ISBLANK('Data Input'!A863),\"\",SUM('Data Input'!C863,'Data Input'!D863,'Data Input'!J863,'Data Input'!X863))","v":""},{"$f":"IF(G858=\"\",\"\",G858/COUNTIF('Data Input'!$C$8:$AK$8,\"N\"))","v":""},{"$f":"IF(ISBLANK('Data Input'!A863),\"\",SUM('Data Input'!G863,'Data Input'!I863,'Data Input'!L863,'Data Input'!N863,'Data Input'!O863,'Data Input'!S863,'Data Input'!Z863,'Data Input'!AA863,'Data Input'!AB863,'Data Input'!AC863,'Data Input'!AE863,'Data Input'!AF863,'Data Input'!AG863,'Data Input'!AI863,'Data Input'!AK863))","v":""},{"$f":"IF(I858=\"\",\"\",I858/COUNTIF('Data Input'!$C$8:$AK$8,\"C\"))","v":""},{"$f":"IF(ISBLANK('Data Input'!A863),\"\",SUM('Data Input'!T863,'Data Input'!U863))","v":""},{"$f":"IF(K858=\"\",\"\",K858/COUNTIF('Data Input'!$C$8:$AK$8,\"S\"))","v":""},{"$f":"IF(ISBLANK('Data Input'!A863),\"\",SUM('Data Input'!F863,'Data Input'!R863,'Data Input'!AJ863))","v":""},{"$f":"IF(M858=\"\",\"\",M858/COUNTIF('Data Input'!$C$8:$AK$8,\"F\"))","v":""},{"$f":"IF(ISBLANK('Data Input'!A863),\"\",SUM('Data Input'!E863,'Data Input'!M863,'Data Input'!Q863,'Data Input'!V863,'Data Input'!W863,'Data Input'!AD863,'Data Input'!AH863))","v":""},{"$f":"IF(O858=\"\",\"\",O858/COUNTIF('Data Input'!$C$8:$AK$8,\"M\"))","v":""},{"$f":"IF(ISBLANK('Data Input'!A863),\"\",SUM('Data Input'!H863,'Data Input'!K863,'Data Input'!P863,'Data Input'!Y863))","v":""},{"$f":"IF(Q858=\"\",\"\",Q858/COUNTIF('Data Input'!$C$8:$AK$8,\"G\"))","v":""}]
[{"$f":"IF('Data Input'!A864=0,\"\",'Data Input'!A864)","v":""},{"$f":"IF(ISBLANK('Data Input'!A864),\"\",COUNTIF('Data Input'!C864:AK864,\"\"))","v":""},{"$f":"IF(ISBLANK('Data Input'!A864),\"\",COUNTIF('Data Input'!C864:AK864,\"0\"))","v":""},{"$f":"IF(ISBLANK('Data Input'!A864),\"\",SUM(B859,C859))","v":""},{"$f":"IF(ISBLANK('Data Input'!A864),\"\",SUM('Data Input'!C864:AK864))","v":""},{"$f":"IF(E859=\"\",\"\",E859/(COUNTA('Data Input'!$C$8:$AK$8)))","v":""},{"$f":"IF(ISBLANK('Data Input'!A864),\"\",SUM('Data Input'!C864,'Data Input'!D864,'Data Input'!J864,'Data Input'!X864))","v":""},{"$f":"IF(G859=\"\",\"\",G859/COUNTIF('Data Input'!$C$8:$AK$8,\"N\"))","v":""},{"$f":"IF(ISBLANK('Data Input'!A864),\"\",SUM('Data Input'!G864,'Data Input'!I864,'Data Input'!L864,'Data Input'!N864,'Data Input'!O864,'Data Input'!S864,'Data Input'!Z864,'Data Input'!AA864,'Data Input'!AB864,'Data Input'!AC864,'Data Input'!AE864,'Data Input'!AF864,'Data Input'!AG864,'Data Input'!AI864,'Data Input'!AK864))","v":""},{"$f":"IF(I859=\"\",\"\",I859/COUNTIF('Data Input'!$C$8:$AK$8,\"C\"))","v":""},{"$f":"IF(ISBLANK('Data Input'!A864),\"\",SUM('Data Input'!T864,'Data Input'!U864))","v":""},{"$f":"IF(K859=\"\",\"\",K859/COUNTIF('Data Input'!$C$8:$AK$8,\"S\"))","v":""},{"$f":"IF(ISBLANK('Data Input'!A864),\"\",SUM('Data Input'!F864,'Data Input'!R864,'Data Input'!AJ864))","v":""},{"$f":"IF(M859=\"\",\"\",M859/COUNTIF('Data Input'!$C$8:$AK$8,\"F\"))","v":""},{"$f":"IF(ISBLANK('Data Input'!A864),\"\",SUM('Data Input'!E864,'Data Input'!M864,'Data Input'!Q864,'Data Input'!V864,'Data Input'!W864,'Data Input'!AD864,'Data Input'!AH864))","v":""},{"$f":"IF(O859=\"\",\"\",O859/COUNTIF('Data Input'!$C$8:$AK$8,\"M\"))","v":""},{"$f":"IF(ISBLANK('Data Input'!A864),\"\",SUM('Data Input'!H864,'Data Input'!K864,'Data Input'!P864,'Data Input'!Y864))","v":""},{"$f":"IF(Q859=\"\",\"\",Q859/COUNTIF('Data Input'!$C$8:$AK$8,\"G\"))","v":""}]
[{"$f":"IF('Data Input'!A865=0,\"\",'Data Input'!A865)","v":""},{"$f":"IF(ISBLANK('Data Input'!A865),\"\",COUNTIF('Data Input'!C865:AK865,\"\"))","v":""},{"$f":"IF(ISBLANK('Data Input'!A865),\"\",COUNTIF('Data Input'!C865:AK865,\"0\"))","v":""},{"$f":"IF(ISBLANK('Data Input'!A865),\"\",SUM(B860,C860))","v":""},{"$f":"IF(ISBLANK('Data Input'!A865),\"\",SUM('Data Input'!C865:AK865))","v":""},{"$f":"IF(E860=\"\",\"\",E860/(COUNTA('Data Input'!$C$8:$AK$8)))","v":""},{"$f":"IF(ISBLANK('Data Input'!A865),\"\",SUM('Data Input'!C865,'Data Input'!D865,'Data Input'!J865,'Data Input'!X865))","v":""},{"$f":"IF(G860=\"\",\"\",G860/COUNTIF('Data Input'!$C$8:$AK$8,\"N\"))","v":""},{"$f":"IF(ISBLANK('Data Input'!A865),\"\",SUM('Data Input'!G865,'Data Input'!I865,'Data Input'!L865,'Data Input'!N865,'Data Input'!O865,'Data Input'!S865,'Data Input'!Z865,'Data Input'!AA865,'Data Input'!AB865,'Data Input'!AC865,'Data Input'!AE865,'Data Input'!AF865,'Data Input'!AG865,'Data Input'!AI865,'Data Input'!AK865))","v":""},{"$f":"IF(I860=\"\",\"\",I860/COUNTIF('Data Input'!$C$8:$AK$8,\"C\"))","v":""},{"$f":"IF(ISBLANK('Data Input'!A865),\"\",SUM('Data Input'!T865,'Data Input'!U865))","v":""},{"$f":"IF(K860=\"\",\"\",K860/COUNTIF('Data Input'!$C$8:$AK$8,\"S\"))","v":""},{"$f":"IF(ISBLANK('Data Input'!A865),\"\",SUM('Data Input'!F865,'Data Input'!R865,'Data Input'!AJ865))","v":""},{"$f":"IF(M860=\"\",\"\",M860/COUNTIF('Data Input'!$C$8:$AK$8,\"F\"))","v":""},{"$f":"IF(ISBLANK('Data Input'!A865),\"\",SUM('Data Input'!E865,'Data Input'!M865,'Data Input'!Q865,'Data Input'!V865,'Data Input'!W865,'Data Input'!AD865,'Data Input'!AH865))","v":""},{"$f":"IF(O860=\"\",\"\",O860/COUNTIF('Data Input'!$C$8:$AK$8,\"M\"))","v":""},{"$f":"IF(ISBLANK('Data Input'!A865),\"\",SUM('Data Input'!H865,'Data Input'!K865,'Data Input'!P865,'Data Input'!Y865))","v":""},{"$f":"IF(Q860=\"\",\"\",Q860/COUNTIF('Data Input'!$C$8:$AK$8,\"G\"))","v":""}]
[{"$f":"IF('Data Input'!A866=0,\"\",'Data Input'!A866)","v":""},{"$f":"IF(ISBLANK('Data Input'!A866),\"\",COUNTIF('Data Input'!C866:AK866,\"\"))","v":""},{"$f":"IF(ISBLANK('Data Input'!A866),\"\",COUNTIF('Data Input'!C866:AK866,\"0\"))","v":""},{"$f":"IF(ISBLANK('Data Input'!A866),\"\",SUM(B861,C861))","v":""},{"$f":"IF(ISBLANK('Data Input'!A866),\"\",SUM('Data Input'!C866:AK866))","v":""},{"$f":"IF(E861=\"\",\"\",E861/(COUNTA('Data Input'!$C$8:$AK$8)))","v":""},{"$f":"IF(ISBLANK('Data Input'!A866),\"\",SUM('Data Input'!C866,'Data Input'!D866,'Data Input'!J866,'Data Input'!X866))","v":""},{"$f":"IF(G861=\"\",\"\",G861/COUNTIF('Data Input'!$C$8:$AK$8,\"N\"))","v":""},{"$f":"IF(ISBLANK('Data Input'!A866),\"\",SUM('Data Input'!G866,'Data Input'!I866,'Data Input'!L866,'Data Input'!N866,'Data Input'!O866,'Data Input'!S866,'Data Input'!Z866,'Data Input'!AA866,'Data Input'!AB866,'Data Input'!AC866,'Data Input'!AE866,'Data Input'!AF866,'Data Input'!AG866,'Data Input'!AI866,'Data Input'!AK866))","v":""},{"$f":"IF(I861=\"\",\"\",I861/COUNTIF('Data Input'!$C$8:$AK$8,\"C\"))","v":""},{"$f":"IF(ISBLANK('Data Input'!A866),\"\",SUM('Data Input'!T866,'Data Input'!U866))","v":""},{"$f":"IF(K861=\"\",\"\",K861/COUNTIF('Data Input'!$C$8:$AK$8,\"S\"))","v":""},{"$f":"IF(ISBLANK('Data Input'!A866),\"\",SUM('Data Input'!F866,'Data Input'!R866,'Data Input'!AJ866))","v":""},{"$f":"IF(M861=\"\",\"\",M861/COUNTIF('Data Input'!$C$8:$AK$8,\"F\"))","v":""},{"$f":"IF(ISBLANK('Data Input'!A866),\"\",SUM('Data Input'!E866,'Data Input'!M866,'Data Input'!Q866,'Data Input'!V866,'Data Input'!W866,'Data Input'!AD866,'Data Input'!AH866))","v":""},{"$f":"IF(O861=\"\",\"\",O861/COUNTIF('Data Input'!$C$8:$AK$8,\"M\"))","v":""},{"$f":"IF(ISBLANK('Data Input'!A866),\"\",SUM('Data Input'!H866,'Data Input'!K866,'Data Input'!P866,'Data Input'!Y866))","v":""},{"$f":"IF(Q861=\"\",\"\",Q861/COUNTIF('Data Input'!$C$8:$AK$8,\"G\"))","v":""}]
[{"$f":"IF('Data Input'!A867=0,\"\",'Data Input'!A867)","v":""},{"$f":"IF(ISBLANK('Data Input'!A867),\"\",COUNTIF('Data Input'!C867:AK867,\"\"))","v":""},{"$f":"IF(ISBLANK('Data Input'!A867),\"\",COUNTIF('Data Input'!C867:AK867,\"0\"))","v":""},{"$f":"IF(ISBLANK('Data Input'!A867),\"\",SUM(B862,C862))","v":""},{"$f":"IF(ISBLANK('Data Input'!A867),\"\",SUM('Data Input'!C867:AK867))","v":""},{"$f":"IF(E862=\"\",\"\",E862/(COUNTA('Data Input'!$C$8:$AK$8)))","v":""},{"$f":"IF(ISBLANK('Data Input'!A867),\"\",SUM('Data Input'!C867,'Data Input'!D867,'Data Input'!J867,'Data Input'!X867))","v":""},{"$f":"IF(G862=\"\",\"\",G862/COUNTIF('Data Input'!$C$8:$AK$8,\"N\"))","v":""},{"$f":"IF(ISBLANK('Data Input'!A867),\"\",SUM('Data Input'!G867,'Data Input'!I867,'Data Input'!L867,'Data Input'!N867,'Data Input'!O867,'Data Input'!S867,'Data Input'!Z867,'Data Input'!AA867,'Data Input'!AB867,'Data Input'!AC867,'Data Input'!AE867,'Data Input'!AF867,'Data Input'!AG867,'Data Input'!AI867,'Data Input'!AK867))","v":""},{"$f":"IF(I862=\"\",\"\",I862/COUNTIF('Data Input'!$C$8:$AK$8,\"C\"))","v":""},{"$f":"IF(ISBLANK('Data Input'!A867),\"\",SUM('Data Input'!T867,'Data Input'!U867))","v":""},{"$f":"IF(K862=\"\",\"\",K862/COUNTIF('Data Input'!$C$8:$AK$8,\"S\"))","v":""},{"$f":"IF(ISBLANK('Data Input'!A867),\"\",SUM('Data Input'!F867,'Data Input'!R867,'Data Input'!AJ867))","v":""},{"$f":"IF(M862=\"\",\"\",M862/COUNTIF('Data Input'!$C$8:$AK$8,\"F\"))","v":""},{"$f":"IF(ISBLANK('Data Input'!A867),\"\",SUM('Data Input'!E867,'Data Input'!M867,'Data Input'!Q867,'Data Input'!V867,'Data Input'!W867,'Data Input'!AD867,'Data Input'!AH867))","v":""},{"$f":"IF(O862=\"\",\"\",O862/COUNTIF('Data Input'!$C$8:$AK$8,\"M\"))","v":""},{"$f":"IF(ISBLANK('Data Input'!A867),\"\",SUM('Data Input'!H867,'Data Input'!K867,'Data Input'!P867,'Data Input'!Y867))","v":""},{"$f":"IF(Q862=\"\",\"\",Q862/COUNTIF('Data Input'!$C$8:$AK$8,\"G\"))","v":""}]
[{"$f":"IF('Data Input'!A868=0,\"\",'Data Input'!A868)","v":""},{"$f":"IF(ISBLANK('Data Input'!A868),\"\",COUNTIF('Data Input'!C868:AK868,\"\"))","v":""},{"$f":"IF(ISBLANK('Data Input'!A868),\"\",COUNTIF('Data Input'!C868:AK868,\"0\"))","v":""},{"$f":"IF(ISBLANK('Data Input'!A868),\"\",SUM(B863,C863))","v":""},{"$f":"IF(ISBLANK('Data Input'!A868),\"\",SUM('Data Input'!C868:AK868))","v":""},{"$f":"IF(E863=\"\",\"\",E863/(COUNTA('Data Input'!$C$8:$AK$8)))","v":""},{"$f":"IF(ISBLANK('Data Input'!A868),\"\",SUM('Data Input'!C868,'Data Input'!D868,'Data Input'!J868,'Data Input'!X868))","v":""},{"$f":"IF(G863=\"\",\"\",G863/COUNTIF('Data Input'!$C$8:$AK$8,\"N\"))","v":""},{"$f":"IF(ISBLANK('Data Input'!A868),\"\",SUM('Data Input'!G868,'Data Input'!I868,'Data Input'!L868,'Data Input'!N868,'Data Input'!O868,'Data Input'!S868,'Data Input'!Z868,'Data Input'!AA868,'Data Input'!AB868,'Data Input'!AC868,'Data Input'!AE868,'Data Input'!AF868,'Data Input'!AG868,'Data Input'!AI868,'Data Input'!AK868))","v":""},{"$f":"IF(I863=\"\",\"\",I863/COUNTIF('Data Input'!$C$8:$AK$8,\"C\"))","v":""},{"$f":"IF(ISBLANK('Data Input'!A868),\"\",SUM('Data Input'!T868,'Data Input'!U868))","v":""},{"$f":"IF(K863=\"\",\"\",K863/COUNTIF('Data Input'!$C$8:$AK$8,\"S\"))","v":""},{"$f":"IF(ISBLANK('Data Input'!A868),\"\",SUM('Data Input'!F868,'Data Input'!R868,'Data Input'!AJ868))","v":""},{"$f":"IF(M863=\"\",\"\",M863/COUNTIF('Data Input'!$C$8:$AK$8,\"F\"))","v":""},{"$f":"IF(ISBLANK('Data Input'!A868),\"\",SUM('Data Input'!E868,'Data Input'!M868,'Data Input'!Q868,'Data Input'!V868,'Data Input'!W868,'Data Input'!AD868,'Data Input'!AH868))","v":""},{"$f":"IF(O863=\"\",\"\",O863/COUNTIF('Data Input'!$C$8:$AK$8,\"M\"))","v":""},{"$f":"IF(ISBLANK('Data Input'!A868),\"\",SUM('Data Input'!H868,'Data Input'!K868,'Data Input'!P868,'Data Input'!Y868))","v":""},{"$f":"IF(Q863=\"\",\"\",Q863/COUNTIF('Data Input'!$C$8:$AK$8,\"G\"))","v":""}]
[{"$f":"IF('Data Input'!A869=0,\"\",'Data Input'!A869)","v":""},{"$f":"IF(ISBLANK('Data Input'!A869),\"\",COUNTIF('Data Input'!C869:AK869,\"\"))","v":""},{"$f":"IF(ISBLANK('Data Input'!A869),\"\",COUNTIF('Data Input'!C869:AK869,\"0\"))","v":""},{"$f":"IF(ISBLANK('Data Input'!A869),\"\",SUM(B864,C864))","v":""},{"$f":"IF(ISBLANK('Data Input'!A869),\"\",SUM('Data Input'!C869:AK869))","v":""},{"$f":"IF(E864=\"\",\"\",E864/(COUNTA('Data Input'!$C$8:$AK$8)))","v":""},{"$f":"IF(ISBLANK('Data Input'!A869),\"\",SUM('Data Input'!C869,'Data Input'!D869,'Data Input'!J869,'Data Input'!X869))","v":""},{"$f":"IF(G864=\"\",\"\",G864/COUNTIF('Data Input'!$C$8:$AK$8,\"N\"))","v":""},{"$f":"IF(ISBLANK('Data Input'!A869),\"\",SUM('Data Input'!G869,'Data Input'!I869,'Data Input'!L869,'Data Input'!N869,'Data Input'!O869,'Data Input'!S869,'Data Input'!Z869,'Data Input'!AA869,'Data Input'!AB869,'Data Input'!AC869,'Data Input'!AE869,'Data Input'!AF869,'Data Input'!AG869,'Data Input'!AI869,'Data Input'!AK869))","v":""},{"$f":"IF(I864=\"\",\"\",I864/COUNTIF('Data Input'!$C$8:$AK$8,\"C\"))","v":""},{"$f":"IF(ISBLANK('Data Input'!A869),\"\",SUM('Data Input'!T869,'Data Input'!U869))","v":""},{"$f":"IF(K864=\"\",\"\",K864/COUNTIF('Data Input'!$C$8:$AK$8,\"S\"))","v":""},{"$f":"IF(ISBLANK('Data Input'!A869),\"\",SUM('Data Input'!F869,'Data Input'!R869,'Data Input'!AJ869))","v":""},{"$f":"IF(M864=\"\",\"\",M864/COUNTIF('Data Input'!$C$8:$AK$8,\"F\"))","v":""},{"$f":"IF(ISBLANK('Data Input'!A869),\"\",SUM('Data Input'!E869,'Data Input'!M869,'Data Input'!Q869,'Data Input'!V869,'Data Input'!W869,'Data Input'!AD869,'Data Input'!AH869))","v":""},{"$f":"IF(O864=\"\",\"\",O864/COUNTIF('Data Input'!$C$8:$AK$8,\"M\"))","v":""},{"$f":"IF(ISBLANK('Data Input'!A869),\"\",SUM('Data Input'!H869,'Data Input'!K869,'Data Input'!P869,'Data Input'!Y869))","v":""},{"$f":"IF(Q864=\"\",\"\",Q864/COUNTIF('Data Input'!$C$8:$AK$8,\"G\"))","v":""}]
[{"$f":"IF('Data Input'!A870=0,\"\",'Data Input'!A870)","v":""},{"$f":"IF(ISBLANK('Data Input'!A870),\"\",COUNTIF('Data Input'!C870:AK870,\"\"))","v":""},{"$f":"IF(ISBLANK('Data Input'!A870),\"\",COUNTIF('Data Input'!C870:AK870,\"0\"))","v":""},{"$f":"IF(ISBLANK('Data Input'!A870),\"\",SUM(B865,C865))","v":""},{"$f":"IF(ISBLANK('Data Input'!A870),\"\",SUM('Data Input'!C870:AK870))","v":""},{"$f":"IF(E865=\"\",\"\",E865/(COUNTA('Data Input'!$C$8:$AK$8)))","v":""},{"$f":"IF(ISBLANK('Data Input'!A870),\"\",SUM('Data Input'!C870,'Data Input'!D870,'Data Input'!J870,'Data Input'!X870))","v":""},{"$f":"IF(G865=\"\",\"\",G865/COUNTIF('Data Input'!$C$8:$AK$8,\"N\"))","v":""},{"$f":"IF(ISBLANK('Data Input'!A870),\"\",SUM('Data Input'!G870,'Data Input'!I870,'Data Input'!L870,'Data Input'!N870,'Data Input'!O870,'Data Input'!S870,'Data Input'!Z870,'Data Input'!AA870,'Data Input'!AB870,'Data Input'!AC870,'Data Input'!AE870,'Data Input'!AF870,'Data Input'!AG870,'Data Input'!AI870,'Data Input'!AK870))","v":""},{"$f":"IF(I865=\"\",\"\",I865/COUNTIF('Data Input'!$C$8:$AK$8,\"C\"))","v":""},{"$f":"IF(ISBLANK('Data Input'!A870),\"\",SUM('Data Input'!T870,'Data Input'!U870))","v":""},{"$f":"IF(K865=\"\",\"\",K865/COUNTIF('Data Input'!$C$8:$AK$8,\"S\"))","v":""},{"$f":"IF(ISBLANK('Data Input'!A870),\"\",SUM('Data Input'!F870,'Data Input'!R870,'Data Input'!AJ870))","v":""},{"$f":"IF(M865=\"\",\"\",M865/COUNTIF('Data Input'!$C$8:$AK$8,\"F\"))","v":""},{"$f":"IF(ISBLANK('Data Input'!A870),\"\",SUM('Data Input'!E870,'Data Input'!M870,'Data Input'!Q870,'Data Input'!V870,'Data Input'!W870,'Data Input'!AD870,'Data Input'!AH870))","v":""},{"$f":"IF(O865=\"\",\"\",O865/COUNTIF('Data Input'!$C$8:$AK$8,\"M\"))","v":""},{"$f":"IF(ISBLANK('Data Input'!A870),\"\",SUM('Data Input'!H870,'Data Input'!K870,'Data Input'!P870,'Data Input'!Y870))","v":""},{"$f":"IF(Q865=\"\",\"\",Q865/COUNTIF('Data Input'!$C$8:$AK$8,\"G\"))","v":""}]
[{"$f":"IF('Data Input'!A871=0,\"\",'Data Input'!A871)","v":""},{"$f":"IF(ISBLANK('Data Input'!A871),\"\",COUNTIF('Data Input'!C871:AK871,\"\"))","v":""},{"$f":"IF(ISBLANK('Data Input'!A871),\"\",COUNTIF('Data Input'!C871:AK871,\"0\"))","v":""},{"$f":"IF(ISBLANK('Data Input'!A871),\"\",SUM(B866,C866))","v":""},{"$f":"IF(ISBLANK('Data Input'!A871),\"\",SUM('Data Input'!C871:AK871))","v":""},{"$f":"IF(E866=\"\",\"\",E866/(COUNTA('Data Input'!$C$8:$AK$8)))","v":""},{"$f":"IF(ISBLANK('Data Input'!A871),\"\",SUM('Data Input'!C871,'Data Input'!D871,'Data Input'!J871,'Data Input'!X871))","v":""},{"$f":"IF(G866=\"\",\"\",G866/COUNTIF('Data Input'!$C$8:$AK$8,\"N\"))","v":""},{"$f":"IF(ISBLANK('Data Input'!A871),\"\",SUM('Data Input'!G871,'Data Input'!I871,'Data Input'!L871,'Data Input'!N871,'Data Input'!O871,'Data Input'!S871,'Data Input'!Z871,'Data Input'!AA871,'Data Input'!AB871,'Data Input'!AC871,'Data Input'!AE871,'Data Input'!AF871,'Data Input'!AG871,'Data Input'!AI871,'Data Input'!AK871))","v":""},{"$f":"IF(I866=\"\",\"\",I866/COUNTIF('Data Input'!$C$8:$AK$8,\"C\"))","v":""},{"$f":"IF(ISBLANK('Data Input'!A871),\"\",SUM('Data Input'!T871,'Data Input'!U871))","v":""},{"$f":"IF(K866=\"\",\"\",K866/COUNTIF('Data Input'!$C$8:$AK$8,\"S\"))","v":""},{"$f":"IF(ISBLANK('Data Input'!A871),\"\",SUM('Data Input'!F871,'Data Input'!R871,'Data Input'!AJ871))","v":""},{"$f":"IF(M866=\"\",\"\",M866/COUNTIF('Data Input'!$C$8:$AK$8,\"F\"))","v":""},{"$f":"IF(ISBLANK('Data Input'!A871),\"\",SUM('Data Input'!E871,'Data Input'!M871,'Data Input'!Q871,'Data Input'!V871,'Data Input'!W871,'Data Input'!AD871,'Data Input'!AH871))","v":""},{"$f":"IF(O866=\"\",\"\",O866/COUNTIF('Data Input'!$C$8:$AK$8,\"M\"))","v":""},{"$f":"IF(ISBLANK('Data Input'!A871),\"\",SUM('Data Input'!H871,'Data Input'!K871,'Data Input'!P871,'Data Input'!Y871))","v":""},{"$f":"IF(Q866=\"\",\"\",Q866/COUNTIF('Data Input'!$C$8:$AK$8,\"G\"))","v":""}]
[{"$f":"IF('Data Input'!A872=0,\"\",'Data Input'!A872)","v":""},{"$f":"IF(ISBLANK('Data Input'!A872),\"\",COUNTIF('Data Input'!C872:AK872,\"\"))","v":""},{"$f":"IF(ISBLANK('Data Input'!A872),\"\",COUNTIF('Data Input'!C872:AK872,\"0\"))","v":""},{"$f":"IF(ISBLANK('Data Input'!A872),\"\",SUM(B867,C867))","v":""},{"$f":"IF(ISBLANK('Data Input'!A872),\"\",SUM('Data Input'!C872:AK872))","v":""},{"$f":"IF(E867=\"\",\"\",E867/(COUNTA('Data Input'!$C$8:$AK$8)))","v":""},{"$f":"IF(ISBLANK('Data Input'!A872),\"\",SUM('Data Input'!C872,'Data Input'!D872,'Data Input'!J872,'Data Input'!X872))","v":""},{"$f":"IF(G867=\"\",\"\",G867/COUNTIF('Data Input'!$C$8:$AK$8,\"N\"))","v":""},{"$f":"IF(ISBLANK('Data Input'!A872),\"\",SUM('Data Input'!G872,'Data Input'!I872,'Data Input'!L872,'Data Input'!N872,'Data Input'!O872,'Data Input'!S872,'Data Input'!Z872,'Data Input'!AA872,'Data Input'!AB872,'Data Input'!AC872,'Data Input'!AE872,'Data Input'!AF872,'Data Input'!AG872,'Data Input'!AI872,'Data Input'!AK872))","v":""},{"$f":"IF(I867=\"\",\"\",I867/COUNTIF('Data Input'!$C$8:$AK$8,\"C\"))","v":""},{"$f":"IF(ISBLANK('Data Input'!A872),\"\",SUM('Data Input'!T872,'Data Input'!U872))","v":""},{"$f":"IF(K867=\"\",\"\",K867/COUNTIF('Data Input'!$C$8:$AK$8,\"S\"))","v":""},{"$f":"IF(ISBLANK('Data Input'!A872),\"\",SUM('Data Input'!F872,'Data Input'!R872,'Data Input'!AJ872))","v":""},{"$f":"IF(M867=\"\",\"\",M867/COUNTIF('Data Input'!$C$8:$AK$8,\"F\"))","v":""},{"$f":"IF(ISBLANK('Data Input'!A872),\"\",SUM('Data Input'!E872,'Data Input'!M872,'Data Input'!Q872,'Data Input'!V872,'Data Input'!W872,'Data Input'!AD872,'Data Input'!AH872))","v":""},{"$f":"IF(O867=\"\",\"\",O867/COUNTIF('Data Input'!$C$8:$AK$8,\"M\"))","v":""},{"$f":"IF(ISBLANK('Data Input'!A872),\"\",SUM('Data Input'!H872,'Data Input'!K872,'Data Input'!P872,'Data Input'!Y872))","v":""},{"$f":"IF(Q867=\"\",\"\",Q867/COUNTIF('Data Input'!$C$8:$AK$8,\"G\"))","v":""}]
[{"$f":"IF('Data Input'!A873=0,\"\",'Data Input'!A873)","v":""},{"$f":"IF(ISBLANK('Data Input'!A873),\"\",COUNTIF('Data Input'!C873:AK873,\"\"))","v":""},{"$f":"IF(ISBLANK('Data Input'!A873),\"\",COUNTIF('Data Input'!C873:AK873,\"0\"))","v":""},{"$f":"IF(ISBLANK('Data Input'!A873),\"\",SUM(B868,C868))","v":""},{"$f":"IF(ISBLANK('Data Input'!A873),\"\",SUM('Data Input'!C873:AK873))","v":""},{"$f":"IF(E868=\"\",\"\",E868/(COUNTA('Data Input'!$C$8:$AK$8)))","v":""},{"$f":"IF(ISBLANK('Data Input'!A873),\"\",SUM('Data Input'!C873,'Data Input'!D873,'Data Input'!J873,'Data Input'!X873))","v":""},{"$f":"IF(G868=\"\",\"\",G868/COUNTIF('Data Input'!$C$8:$AK$8,\"N\"))","v":""},{"$f":"IF(ISBLANK('Data Input'!A873),\"\",SUM('Data Input'!G873,'Data Input'!I873,'Data Input'!L873,'Data Input'!N873,'Data Input'!O873,'Data Input'!S873,'Data Input'!Z873,'Data Input'!AA873,'Data Input'!AB873,'Data Input'!AC873,'Data Input'!AE873,'Data Input'!AF873,'Data Input'!AG873,'Data Input'!AI873,'Data Input'!AK873))","v":""},{"$f":"IF(I868=\"\",\"\",I868/COUNTIF('Data Input'!$C$8:$AK$8,\"C\"))","v":""},{"$f":"IF(ISBLANK('Data Input'!A873),\"\",SUM('Data Input'!T873,'Data Input'!U873))","v":""},{"$f":"IF(K868=\"\",\"\",K868/COUNTIF('Data Input'!$C$8:$AK$8,\"S\"))","v":""},{"$f":"IF(ISBLANK('Data Input'!A873),\"\",SUM('Data Input'!F873,'Data Input'!R873,'Data Input'!AJ873))","v":""},{"$f":"IF(M868=\"\",\"\",M868/COUNTIF('Data Input'!$C$8:$AK$8,\"F\"))","v":""},{"$f":"IF(ISBLANK('Data Input'!A873),\"\",SUM('Data Input'!E873,'Data Input'!M873,'Data Input'!Q873,'Data Input'!V873,'Data Input'!W873,'Data Input'!AD873,'Data Input'!AH873))","v":""},{"$f":"IF(O868=\"\",\"\",O868/COUNTIF('Data Input'!$C$8:$AK$8,\"M\"))","v":""},{"$f":"IF(ISBLANK('Data Input'!A873),\"\",SUM('Data Input'!H873,'Data Input'!K873,'Data Input'!P873,'Data Input'!Y873))","v":""},{"$f":"IF(Q868=\"\",\"\",Q868/COUNTIF('Data Input'!$C$8:$AK$8,\"G\"))","v":""}]
[{"$f":"IF('Data Input'!A874=0,\"\",'Data Input'!A874)","v":""},{"$f":"IF(ISBLANK('Data Input'!A874),\"\",COUNTIF('Data Input'!C874:AK874,\"\"))","v":""},{"$f":"IF(ISBLANK('Data Input'!A874),\"\",COUNTIF('Data Input'!C874:AK874,\"0\"))","v":""},{"$f":"IF(ISBLANK('Data Input'!A874),\"\",SUM(B869,C869))","v":""},{"$f":"IF(ISBLANK('Data Input'!A874),\"\",SUM('Data Input'!C874:AK874))","v":""},{"$f":"IF(E869=\"\",\"\",E869/(COUNTA('Data Input'!$C$8:$AK$8)))","v":""},{"$f":"IF(ISBLANK('Data Input'!A874),\"\",SUM('Data Input'!C874,'Data Input'!D874,'Data Input'!J874,'Data Input'!X874))","v":""},{"$f":"IF(G869=\"\",\"\",G869/COUNTIF('Data Input'!$C$8:$AK$8,\"N\"))","v":""},{"$f":"IF(ISBLANK('Data Input'!A874),\"\",SUM('Data Input'!G874,'Data Input'!I874,'Data Input'!L874,'Data Input'!N874,'Data Input'!O874,'Data Input'!S874,'Data Input'!Z874,'Data Input'!AA874,'Data Input'!AB874,'Data Input'!AC874,'Data Input'!AE874,'Data Input'!AF874,'Data Input'!AG874,'Data Input'!AI874,'Data Input'!AK874))","v":""},{"$f":"IF(I869=\"\",\"\",I869/COUNTIF('Data Input'!$C$8:$AK$8,\"C\"))","v":""},{"$f":"IF(ISBLANK('Data Input'!A874),\"\",SUM('Data Input'!T874,'Data Input'!U874))","v":""},{"$f":"IF(K869=\"\",\"\",K869/COUNTIF('Data Input'!$C$8:$AK$8,\"S\"))","v":""},{"$f":"IF(ISBLANK('Data Input'!A874),\"\",SUM('Data Input'!F874,'Data Input'!R874,'Data Input'!AJ874))","v":""},{"$f":"IF(M869=\"\",\"\",M869/COUNTIF('Data Input'!$C$8:$AK$8,\"F\"))","v":""},{"$f":"IF(ISBLANK('Data Input'!A874),\"\",SUM('Data Input'!E874,'Data Input'!M874,'Data Input'!Q874,'Data Input'!V874,'Data Input'!W874,'Data Input'!AD874,'Data Input'!AH874))","v":""},{"$f":"IF(O869=\"\",\"\",O869/COUNTIF('Data Input'!$C$8:$AK$8,\"M\"))","v":""},{"$f":"IF(ISBLANK('Data Input'!A874),\"\",SUM('Data Input'!H874,'Data Input'!K874,'Data Input'!P874,'Data Input'!Y874))","v":""},{"$f":"IF(Q869=\"\",\"\",Q869/COUNTIF('Data Input'!$C$8:$AK$8,\"G\"))","v":""}]
[{"$f":"IF('Data Input'!A875=0,\"\",'Data Input'!A875)","v":""},{"$f":"IF(ISBLANK('Data Input'!A875),\"\",COUNTIF('Data Input'!C875:AK875,\"\"))","v":""},{"$f":"IF(ISBLANK('Data Input'!A875),\"\",COUNTIF('Data Input'!C875:AK875,\"0\"))","v":""},{"$f":"IF(ISBLANK('Data Input'!A875),\"\",SUM(B870,C870))","v":""},{"$f":"IF(ISBLANK('Data Input'!A875),\"\",SUM('Data Input'!C875:AK875))","v":""},{"$f":"IF(E870=\"\",\"\",E870/(COUNTA('Data Input'!$C$8:$AK$8)))","v":""},{"$f":"IF(ISBLANK('Data Input'!A875),\"\",SUM('Data Input'!C875,'Data Input'!D875,'Data Input'!J875,'Data Input'!X875))","v":""},{"$f":"IF(G870=\"\",\"\",G870/COUNTIF('Data Input'!$C$8:$AK$8,\"N\"))","v":""},{"$f":"IF(ISBLANK('Data Input'!A875),\"\",SUM('Data Input'!G875,'Data Input'!I875,'Data Input'!L875,'Data Input'!N875,'Data Input'!O875,'Data Input'!S875,'Data Input'!Z875,'Data Input'!AA875,'Data Input'!AB875,'Data Input'!AC875,'Data Input'!AE875,'Data Input'!AF875,'Data Input'!AG875,'Data Input'!AI875,'Data Input'!AK875))","v":""},{"$f":"IF(I870=\"\",\"\",I870/COUNTIF('Data Input'!$C$8:$AK$8,\"C\"))","v":""},{"$f":"IF(ISBLANK('Data Input'!A875),\"\",SUM('Data Input'!T875,'Data Input'!U875))","v":""},{"$f":"IF(K870=\"\",\"\",K870/COUNTIF('Data Input'!$C$8:$AK$8,\"S\"))","v":""},{"$f":"IF(ISBLANK('Data Input'!A875),\"\",SUM('Data Input'!F875,'Data Input'!R875,'Data Input'!AJ875))","v":""},{"$f":"IF(M870=\"\",\"\",M870/COUNTIF('Data Input'!$C$8:$AK$8,\"F\"))","v":""},{"$f":"IF(ISBLANK('Data Input'!A875),\"\",SUM('Data Input'!E875,'Data Input'!M875,'Data Input'!Q875,'Data Input'!V875,'Data Input'!W875,'Data Input'!AD875,'Data Input'!AH875))","v":""},{"$f":"IF(O870=\"\",\"\",O870/COUNTIF('Data Input'!$C$8:$AK$8,\"M\"))","v":""},{"$f":"IF(ISBLANK('Data Input'!A875),\"\",SUM('Data Input'!H875,'Data Input'!K875,'Data Input'!P875,'Data Input'!Y875))","v":""},{"$f":"IF(Q870=\"\",\"\",Q870/COUNTIF('Data Input'!$C$8:$AK$8,\"G\"))","v":""}]
[{"$f":"IF('Data Input'!A876=0,\"\",'Data Input'!A876)","v":""},{"$f":"IF(ISBLANK('Data Input'!A876),\"\",COUNTIF('Data Input'!C876:AK876,\"\"))","v":""},{"$f":"IF(ISBLANK('Data Input'!A876),\"\",COUNTIF('Data Input'!C876:AK876,\"0\"))","v":""},{"$f":"IF(ISBLANK('Data Input'!A876),\"\",SUM(B871,C871))","v":""},{"$f":"IF(ISBLANK('Data Input'!A876),\"\",SUM('Data Input'!C876:AK876))","v":""},{"$f":"IF(E871=\"\",\"\",E871/(COUNTA('Data Input'!$C$8:$AK$8)))","v":""},{"$f":"IF(ISBLANK('Data Input'!A876),\"\",SUM('Data Input'!C876,'Data Input'!D876,'Data Input'!J876,'Data Input'!X876))","v":""},{"$f":"IF(G871=\"\",\"\",G871/COUNTIF('Data Input'!$C$8:$AK$8,\"N\"))","v":""},{"$f":"IF(ISBLANK('Data Input'!A876),\"\",SUM('Data Input'!G876,'Data Input'!I876,'Data Input'!L876,'Data Input'!N876,'Data Input'!O876,'Data Input'!S876,'Data Input'!Z876,'Data Input'!AA876,'Data Input'!AB876,'Data Input'!AC876,'Data Input'!AE876,'Data Input'!AF876,'Data Input'!AG876,'Data Input'!AI876,'Data Input'!AK876))","v":""},{"$f":"IF(I871=\"\",\"\",I871/COUNTIF('Data Input'!$C$8:$AK$8,\"C\"))","v":""},{"$f":"IF(ISBLANK('Data Input'!A876),\"\",SUM('Data Input'!T876,'Data Input'!U876))","v":""},{"$f":"IF(K871=\"\",\"\",K871/COUNTIF('Data Input'!$C$8:$AK$8,\"S\"))","v":""},{"$f":"IF(ISBLANK('Data Input'!A876),\"\",SUM('Data Input'!F876,'Data Input'!R876,'Data Input'!AJ876))","v":""},{"$f":"IF(M871=\"\",\"\",M871/COUNTIF('Data Input'!$C$8:$AK$8,\"F\"))","v":""},{"$f":"IF(ISBLANK('Data Input'!A876),\"\",SUM('Data Input'!E876,'Data Input'!M876,'Data Input'!Q876,'Data Input'!V876,'Data Input'!W876,'Data Input'!AD876,'Data Input'!AH876))","v":""},{"$f":"IF(O871=\"\",\"\",O871/COUNTIF('Data Input'!$C$8:$AK$8,\"M\"))","v":""},{"$f":"IF(ISBLANK('Data Input'!A876),\"\",SUM('Data Input'!H876,'Data Input'!K876,'Data Input'!P876,'Data Input'!Y876))","v":""},{"$f":"IF(Q871=\"\",\"\",Q871/COUNTIF('Data Input'!$C$8:$AK$8,\"G\"))","v":""}]
[{"$f":"IF('Data Input'!A877=0,\"\",'Data Input'!A877)","v":""},{"$f":"IF(ISBLANK('Data Input'!A877),\"\",COUNTIF('Data Input'!C877:AK877,\"\"))","v":""},{"$f":"IF(ISBLANK('Data Input'!A877),\"\",COUNTIF('Data Input'!C877:AK877,\"0\"))","v":""},{"$f":"IF(ISBLANK('Data Input'!A877),\"\",SUM(B872,C872))","v":""},{"$f":"IF(ISBLANK('Data Input'!A877),\"\",SUM('Data Input'!C877:AK877))","v":""},{"$f":"IF(E872=\"\",\"\",E872/(COUNTA('Data Input'!$C$8:$AK$8)))","v":""},{"$f":"IF(ISBLANK('Data Input'!A877),\"\",SUM('Data Input'!C877,'Data Input'!D877,'Data Input'!J877,'Data Input'!X877))","v":""},{"$f":"IF(G872=\"\",\"\",G872/COUNTIF('Data Input'!$C$8:$AK$8,\"N\"))","v":""},{"$f":"IF(ISBLANK('Data Input'!A877),\"\",SUM('Data Input'!G877,'Data Input'!I877,'Data Input'!L877,'Data Input'!N877,'Data Input'!O877,'Data Input'!S877,'Data Input'!Z877,'Data Input'!AA877,'Data Input'!AB877,'Data Input'!AC877,'Data Input'!AE877,'Data Input'!AF877,'Data Input'!AG877,'Data Input'!AI877,'Data Input'!AK877))","v":""},{"$f":"IF(I872=\"\",\"\",I872/COUNTIF('Data Input'!$C$8:$AK$8,\"C\"))","v":""},{"$f":"IF(ISBLANK('Data Input'!A877),\"\",SUM('Data Input'!T877,'Data Input'!U877))","v":""},{"$f":"IF(K872=\"\",\"\",K872/COUNTIF('Data Input'!$C$8:$AK$8,\"S\"))","v":""},{"$f":"IF(ISBLANK('Data Input'!A877),\"\",SUM('Data Input'!F877,'Data Input'!R877,'Data Input'!AJ877))","v":""},{"$f":"IF(M872=\"\",\"\",M872/COUNTIF('Data Input'!$C$8:$AK$8,\"F\"))","v":""},{"$f":"IF(ISBLANK('Data Input'!A877),\"\",SUM('Data Input'!E877,'Data Input'!M877,'Data Input'!Q877,'Data Input'!V877,'Data Input'!W877,'Data Input'!AD877,'Data Input'!AH877))","v":""},{"$f":"IF(O872=\"\",\"\",O872/COUNTIF('Data Input'!$C$8:$AK$8,\"M\"))","v":""},{"$f":"IF(ISBLANK('Data Input'!A877),\"\",SUM('Data Input'!H877,'Data Input'!K877,'Data Input'!P877,'Data Input'!Y877))","v":""},{"$f":"IF(Q872=\"\",\"\",Q872/COUNTIF('Data Input'!$C$8:$AK$8,\"G\"))","v":""}]
[{"$f":"IF('Data Input'!A878=0,\"\",'Data Input'!A878)","v":""},{"$f":"IF(ISBLANK('Data Input'!A878),\"\",COUNTIF('Data Input'!C878:AK878,\"\"))","v":""},{"$f":"IF(ISBLANK('Data Input'!A878),\"\",COUNTIF('Data Input'!C878:AK878,\"0\"))","v":""},{"$f":"IF(ISBLANK('Data Input'!A878),\"\",SUM(B873,C873))","v":""},{"$f":"IF(ISBLANK('Data Input'!A878),\"\",SUM('Data Input'!C878:AK878))","v":""},{"$f":"IF(E873=\"\",\"\",E873/(COUNTA('Data Input'!$C$8:$AK$8)))","v":""},{"$f":"IF(ISBLANK('Data Input'!A878),\"\",SUM('Data Input'!C878,'Data Input'!D878,'Data Input'!J878,'Data Input'!X878))","v":""},{"$f":"IF(G873=\"\",\"\",G873/COUNTIF('Data Input'!$C$8:$AK$8,\"N\"))","v":""},{"$f":"IF(ISBLANK('Data Input'!A878),\"\",SUM('Data Input'!G878,'Data Input'!I878,'Data Input'!L878,'Data Input'!N878,'Data Input'!O878,'Data Input'!S878,'Data Input'!Z878,'Data Input'!AA878,'Data Input'!AB878,'Data Input'!AC878,'Data Input'!AE878,'Data Input'!AF878,'Data Input'!AG878,'Data Input'!AI878,'Data Input'!AK878))","v":""},{"$f":"IF(I873=\"\",\"\",I873/COUNTIF('Data Input'!$C$8:$AK$8,\"C\"))","v":""},{"$f":"IF(ISBLANK('Data Input'!A878),\"\",SUM('Data Input'!T878,'Data Input'!U878))","v":""},{"$f":"IF(K873=\"\",\"\",K873/COUNTIF('Data Input'!$C$8:$AK$8,\"S\"))","v":""},{"$f":"IF(ISBLANK('Data Input'!A878),\"\",SUM('Data Input'!F878,'Data Input'!R878,'Data Input'!AJ878))","v":""},{"$f":"IF(M873=\"\",\"\",M873/COUNTIF('Data Input'!$C$8:$AK$8,\"F\"))","v":""},{"$f":"IF(ISBLANK('Data Input'!A878),\"\",SUM('Data Input'!E878,'Data Input'!M878,'Data Input'!Q878,'Data Input'!V878,'Data Input'!W878,'Data Input'!AD878,'Data Input'!AH878))","v":""},{"$f":"IF(O873=\"\",\"\",O873/COUNTIF('Data Input'!$C$8:$AK$8,\"M\"))","v":""},{"$f":"IF(ISBLANK('Data Input'!A878),\"\",SUM('Data Input'!H878,'Data Input'!K878,'Data Input'!P878,'Data Input'!Y878))","v":""},{"$f":"IF(Q873=\"\",\"\",Q873/COUNTIF('Data Input'!$C$8:$AK$8,\"G\"))","v":""}]
[{"$f":"IF('Data Input'!A879=0,\"\",'Data Input'!A879)","v":""},{"$f":"IF(ISBLANK('Data Input'!A879),\"\",COUNTIF('Data Input'!C879:AK879,\"\"))","v":""},{"$f":"IF(ISBLANK('Data Input'!A879),\"\",COUNTIF('Data Input'!C879:AK879,\"0\"))","v":""},{"$f":"IF(ISBLANK('Data Input'!A879),\"\",SUM(B874,C874))","v":""},{"$f":"IF(ISBLANK('Data Input'!A879),\"\",SUM('Data Input'!C879:AK879))","v":""},{"$f":"IF(E874=\"\",\"\",E874/(COUNTA('Data Input'!$C$8:$AK$8)))","v":""},{"$f":"IF(ISBLANK('Data Input'!A879),\"\",SUM('Data Input'!C879,'Data Input'!D879,'Data Input'!J879,'Data Input'!X879))","v":""},{"$f":"IF(G874=\"\",\"\",G874/COUNTIF('Data Input'!$C$8:$AK$8,\"N\"))","v":""},{"$f":"IF(ISBLANK('Data Input'!A879),\"\",SUM('Data Input'!G879,'Data Input'!I879,'Data Input'!L879,'Data Input'!N879,'Data Input'!O879,'Data Input'!S879,'Data Input'!Z879,'Data Input'!AA879,'Data Input'!AB879,'Data Input'!AC879,'Data Input'!AE879,'Data Input'!AF879,'Data Input'!AG879,'Data Input'!AI879,'Data Input'!AK879))","v":""},{"$f":"IF(I874=\"\",\"\",I874/COUNTIF('Data Input'!$C$8:$AK$8,\"C\"))","v":""},{"$f":"IF(ISBLANK('Data Input'!A879),\"\",SUM('Data Input'!T879,'Data Input'!U879))","v":""},{"$f":"IF(K874=\"\",\"\",K874/COUNTIF('Data Input'!$C$8:$AK$8,\"S\"))","v":""},{"$f":"IF(ISBLANK('Data Input'!A879),\"\",SUM('Data Input'!F879,'Data Input'!R879,'Data Input'!AJ879))","v":""},{"$f":"IF(M874=\"\",\"\",M874/COUNTIF('Data Input'!$C$8:$AK$8,\"F\"))","v":""},{"$f":"IF(ISBLANK('Data Input'!A879),\"\",SUM('Data Input'!E879,'Data Input'!M879,'Data Input'!Q879,'Data Input'!V879,'Data Input'!W879,'Data Input'!AD879,'Data Input'!AH879))","v":""},{"$f":"IF(O874=\"\",\"\",O874/COUNTIF('Data Input'!$C$8:$AK$8,\"M\"))","v":""},{"$f":"IF(ISBLANK('Data Input'!A879),\"\",SUM('Data Input'!H879,'Data Input'!K879,'Data Input'!P879,'Data Input'!Y879))","v":""},{"$f":"IF(Q874=\"\",\"\",Q874/COUNTIF('Data Input'!$C$8:$AK$8,\"G\"))","v":""}]
[{"$f":"IF('Data Input'!A880=0,\"\",'Data Input'!A880)","v":""},{"$f":"IF(ISBLANK('Data Input'!A880),\"\",COUNTIF('Data Input'!C880:AK880,\"\"))","v":""},{"$f":"IF(ISBLANK('Data Input'!A880),\"\",COUNTIF('Data Input'!C880:AK880,\"0\"))","v":""},{"$f":"IF(ISBLANK('Data Input'!A880),\"\",SUM(B875,C875))","v":""},{"$f":"IF(ISBLANK('Data Input'!A880),\"\",SUM('Data Input'!C880:AK880))","v":""},{"$f":"IF(E875=\"\",\"\",E875/(COUNTA('Data Input'!$C$8:$AK$8)))","v":""},{"$f":"IF(ISBLANK('Data Input'!A880),\"\",SUM('Data Input'!C880,'Data Input'!D880,'Data Input'!J880,'Data Input'!X880))","v":""},{"$f":"IF(G875=\"\",\"\",G875/COUNTIF('Data Input'!$C$8:$AK$8,\"N\"))","v":""},{"$f":"IF(ISBLANK('Data Input'!A880),\"\",SUM('Data Input'!G880,'Data Input'!I880,'Data Input'!L880,'Data Input'!N880,'Data Input'!O880,'Data Input'!S880,'Data Input'!Z880,'Data Input'!AA880,'Data Input'!AB880,'Data Input'!AC880,'Data Input'!AE880,'Data Input'!AF880,'Data Input'!AG880,'Data Input'!AI880,'Data Input'!AK880))","v":""},{"$f":"IF(I875=\"\",\"\",I875/COUNTIF('Data Input'!$C$8:$AK$8,\"C\"))","v":""},{"$f":"IF(ISBLANK('Data Input'!A880),\"\",SUM('Data Input'!T880,'Data Input'!U880))","v":""},{"$f":"IF(K875=\"\",\"\",K875/COUNTIF('Data Input'!$C$8:$AK$8,\"S\"))","v":""},{"$f":"IF(ISBLANK('Data Input'!A880),\"\",SUM('Data Input'!F880,'Data Input'!R880,'Data Input'!AJ880))","v":""},{"$f":"IF(M875=\"\",\"\",M875/COUNTIF('Data Input'!$C$8:$AK$8,\"F\"))","v":""},{"$f":"IF(ISBLANK('Data Input'!A880),\"\",SUM('Data Input'!E880,'Data Input'!M880,'Data Input'!Q880,'Data Input'!V880,'Data Input'!W880,'Data Input'!AD880,'Data Input'!AH880))","v":""},{"$f":"IF(O875=\"\",\"\",O875/COUNTIF('Data Input'!$C$8:$AK$8,\"M\"))","v":""},{"$f":"IF(ISBLANK('Data Input'!A880),\"\",SUM('Data Input'!H880,'Data Input'!K880,'Data Input'!P880,'Data Input'!Y880))","v":""},{"$f":"IF(Q875=\"\",\"\",Q875/COUNTIF('Data Input'!$C$8:$AK$8,\"G\"))","v":""}]
[{"$f":"IF('Data Input'!A881=0,\"\",'Data Input'!A881)","v":""},{"$f":"IF(ISBLANK('Data Input'!A881),\"\",COUNTIF('Data Input'!C881:AK881,\"\"))","v":""},{"$f":"IF(ISBLANK('Data Input'!A881),\"\",COUNTIF('Data Input'!C881:AK881,\"0\"))","v":""},{"$f":"IF(ISBLANK('Data Input'!A881),\"\",SUM(B876,C876))","v":""},{"$f":"IF(ISBLANK('Data Input'!A881),\"\",SUM('Data Input'!C881:AK881))","v":""},{"$f":"IF(E876=\"\",\"\",E876/(COUNTA('Data Input'!$C$8:$AK$8)))","v":""},{"$f":"IF(ISBLANK('Data Input'!A881),\"\",SUM('Data Input'!C881,'Data Input'!D881,'Data Input'!J881,'Data Input'!X881))","v":""},{"$f":"IF(G876=\"\",\"\",G876/COUNTIF('Data Input'!$C$8:$AK$8,\"N\"))","v":""},{"$f":"IF(ISBLANK('Data Input'!A881),\"\",SUM('Data Input'!G881,'Data Input'!I881,'Data Input'!L881,'Data Input'!N881,'Data Input'!O881,'Data Input'!S881,'Data Input'!Z881,'Data Input'!AA881,'Data Input'!AB881,'Data Input'!AC881,'Data Input'!AE881,'Data Input'!AF881,'Data Input'!AG881,'Data Input'!AI881,'Data Input'!AK881))","v":""},{"$f":"IF(I876=\"\",\"\",I876/COUNTIF('Data Input'!$C$8:$AK$8,\"C\"))","v":""},{"$f":"IF(ISBLANK('Data Input'!A881),\"\",SUM('Data Input'!T881,'Data Input'!U881))","v":""},{"$f":"IF(K876=\"\",\"\",K876/COUNTIF('Data Input'!$C$8:$AK$8,\"S\"))","v":""},{"$f":"IF(ISBLANK('Data Input'!A881),\"\",SUM('Data Input'!F881,'Data Input'!R881,'Data Input'!AJ881))","v":""},{"$f":"IF(M876=\"\",\"\",M876/COUNTIF('Data Input'!$C$8:$AK$8,\"F\"))","v":""},{"$f":"IF(ISBLANK('Data Input'!A881),\"\",SUM('Data Input'!E881,'Data Input'!M881,'Data Input'!Q881,'Data Input'!V881,'Data Input'!W881,'Data Input'!AD881,'Data Input'!AH881))","v":""},{"$f":"IF(O876=\"\",\"\",O876/COUNTIF('Data Input'!$C$8:$AK$8,\"M\"))","v":""},{"$f":"IF(ISBLANK('Data Input'!A881),\"\",SUM('Data Input'!H881,'Data Input'!K881,'Data Input'!P881,'Data Input'!Y881))","v":""},{"$f":"IF(Q876=\"\",\"\",Q876/COUNTIF('Data Input'!$C$8:$AK$8,\"G\"))","v":""}]
[{"$f":"IF('Data Input'!A882=0,\"\",'Data Input'!A882)","v":""},{"$f":"IF(ISBLANK('Data Input'!A882),\"\",COUNTIF('Data Input'!C882:AK882,\"\"))","v":""},{"$f":"IF(ISBLANK('Data Input'!A882),\"\",COUNTIF('Data Input'!C882:AK882,\"0\"))","v":""},{"$f":"IF(ISBLANK('Data Input'!A882),\"\",SUM(B877,C877))","v":""},{"$f":"IF(ISBLANK('Data Input'!A882),\"\",SUM('Data Input'!C882:AK882))","v":""},{"$f":"IF(E877=\"\",\"\",E877/(COUNTA('Data Input'!$C$8:$AK$8)))","v":""},{"$f":"IF(ISBLANK('Data Input'!A882),\"\",SUM('Data Input'!C882,'Data Input'!D882,'Data Input'!J882,'Data Input'!X882))","v":""},{"$f":"IF(G877=\"\",\"\",G877/COUNTIF('Data Input'!$C$8:$AK$8,\"N\"))","v":""},{"$f":"IF(ISBLANK('Data Input'!A882),\"\",SUM('Data Input'!G882,'Data Input'!I882,'Data Input'!L882,'Data Input'!N882,'Data Input'!O882,'Data Input'!S882,'Data Input'!Z882,'Data Input'!AA882,'Data Input'!AB882,'Data Input'!AC882,'Data Input'!AE882,'Data Input'!AF882,'Data Input'!AG882,'Data Input'!AI882,'Data Input'!AK882))","v":""},{"$f":"IF(I877=\"\",\"\",I877/COUNTIF('Data Input'!$C$8:$AK$8,\"C\"))","v":""},{"$f":"IF(ISBLANK('Data Input'!A882),\"\",SUM('Data Input'!T882,'Data Input'!U882))","v":""},{"$f":"IF(K877=\"\",\"\",K877/COUNTIF('Data Input'!$C$8:$AK$8,\"S\"))","v":""},{"$f":"IF(ISBLANK('Data Input'!A882),\"\",SUM('Data Input'!F882,'Data Input'!R882,'Data Input'!AJ882))","v":""},{"$f":"IF(M877=\"\",\"\",M877/COUNTIF('Data Input'!$C$8:$AK$8,\"F\"))","v":""},{"$f":"IF(ISBLANK('Data Input'!A882),\"\",SUM('Data Input'!E882,'Data Input'!M882,'Data Input'!Q882,'Data Input'!V882,'Data Input'!W882,'Data Input'!AD882,'Data Input'!AH882))","v":""},{"$f":"IF(O877=\"\",\"\",O877/COUNTIF('Data Input'!$C$8:$AK$8,\"M\"))","v":""},{"$f":"IF(ISBLANK('Data Input'!A882),\"\",SUM('Data Input'!H882,'Data Input'!K882,'Data Input'!P882,'Data Input'!Y882))","v":""},{"$f":"IF(Q877=\"\",\"\",Q877/COUNTIF('Data Input'!$C$8:$AK$8,\"G\"))","v":""}]
[{"$f":"IF('Data Input'!A883=0,\"\",'Data Input'!A883)","v":""},{"$f":"IF(ISBLANK('Data Input'!A883),\"\",COUNTIF('Data Input'!C883:AK883,\"\"))","v":""},{"$f":"IF(ISBLANK('Data Input'!A883),\"\",COUNTIF('Data Input'!C883:AK883,\"0\"))","v":""},{"$f":"IF(ISBLANK('Data Input'!A883),\"\",SUM(B878,C878))","v":""},{"$f":"IF(ISBLANK('Data Input'!A883),\"\",SUM('Data Input'!C883:AK883))","v":""},{"$f":"IF(E878=\"\",\"\",E878/(COUNTA('Data Input'!$C$8:$AK$8)))","v":""},{"$f":"IF(ISBLANK('Data Input'!A883),\"\",SUM('Data Input'!C883,'Data Input'!D883,'Data Input'!J883,'Data Input'!X883))","v":""},{"$f":"IF(G878=\"\",\"\",G878/COUNTIF('Data Input'!$C$8:$AK$8,\"N\"))","v":""},{"$f":"IF(ISBLANK('Data Input'!A883),\"\",SUM('Data Input'!G883,'Data Input'!I883,'Data Input'!L883,'Data Input'!N883,'Data Input'!O883,'Data Input'!S883,'Data Input'!Z883,'Data Input'!AA883,'Data Input'!AB883,'Data Input'!AC883,'Data Input'!AE883,'Data Input'!AF883,'Data Input'!AG883,'Data Input'!AI883,'Data Input'!AK883))","v":""},{"$f":"IF(I878=\"\",\"\",I878/COUNTIF('Data Input'!$C$8:$AK$8,\"C\"))","v":""},{"$f":"IF(ISBLANK('Data Input'!A883),\"\",SUM('Data Input'!T883,'Data Input'!U883))","v":""},{"$f":"IF(K878=\"\",\"\",K878/COUNTIF('Data Input'!$C$8:$AK$8,\"S\"))","v":""},{"$f":"IF(ISBLANK('Data Input'!A883),\"\",SUM('Data Input'!F883,'Data Input'!R883,'Data Input'!AJ883))","v":""},{"$f":"IF(M878=\"\",\"\",M878/COUNTIF('Data Input'!$C$8:$AK$8,\"F\"))","v":""},{"$f":"IF(ISBLANK('Data Input'!A883),\"\",SUM('Data Input'!E883,'Data Input'!M883,'Data Input'!Q883,'Data Input'!V883,'Data Input'!W883,'Data Input'!AD883,'Data Input'!AH883))","v":""},{"$f":"IF(O878=\"\",\"\",O878/COUNTIF('Data Input'!$C$8:$AK$8,\"M\"))","v":""},{"$f":"IF(ISBLANK('Data Input'!A883),\"\",SUM('Data Input'!H883,'Data Input'!K883,'Data Input'!P883,'Data Input'!Y883))","v":""},{"$f":"IF(Q878=\"\",\"\",Q878/COUNTIF('Data Input'!$C$8:$AK$8,\"G\"))","v":""}]
[{"$f":"IF('Data Input'!A884=0,\"\",'Data Input'!A884)","v":""},{"$f":"IF(ISBLANK('Data Input'!A884),\"\",COUNTIF('Data Input'!C884:AK884,\"\"))","v":""},{"$f":"IF(ISBLANK('Data Input'!A884),\"\",COUNTIF('Data Input'!C884:AK884,\"0\"))","v":""},{"$f":"IF(ISBLANK('Data Input'!A884),\"\",SUM(B879,C879))","v":""},{"$f":"IF(ISBLANK('Data Input'!A884),\"\",SUM('Data Input'!C884:AK884))","v":""},{"$f":"IF(E879=\"\",\"\",E879/(COUNTA('Data Input'!$C$8:$AK$8)))","v":""},{"$f":"IF(ISBLANK('Data Input'!A884),\"\",SUM('Data Input'!C884,'Data Input'!D884,'Data Input'!J884,'Data Input'!X884))","v":""},{"$f":"IF(G879=\"\",\"\",G879/COUNTIF('Data Input'!$C$8:$AK$8,\"N\"))","v":""},{"$f":"IF(ISBLANK('Data Input'!A884),\"\",SUM('Data Input'!G884,'Data Input'!I884,'Data Input'!L884,'Data Input'!N884,'Data Input'!O884,'Data Input'!S884,'Data Input'!Z884,'Data Input'!AA884,'Data Input'!AB884,'Data Input'!AC884,'Data Input'!AE884,'Data Input'!AF884,'Data Input'!AG884,'Data Input'!AI884,'Data Input'!AK884))","v":""},{"$f":"IF(I879=\"\",\"\",I879/COUNTIF('Data Input'!$C$8:$AK$8,\"C\"))","v":""},{"$f":"IF(ISBLANK('Data Input'!A884),\"\",SUM('Data Input'!T884,'Data Input'!U884))","v":""},{"$f":"IF(K879=\"\",\"\",K879/COUNTIF('Data Input'!$C$8:$AK$8,\"S\"))","v":""},{"$f":"IF(ISBLANK('Data Input'!A884),\"\",SUM('Data Input'!F884,'Data Input'!R884,'Data Input'!AJ884))","v":""},{"$f":"IF(M879=\"\",\"\",M879/COUNTIF('Data Input'!$C$8:$AK$8,\"F\"))","v":""},{"$f":"IF(ISBLANK('Data Input'!A884),\"\",SUM('Data Input'!E884,'Data Input'!M884,'Data Input'!Q884,'Data Input'!V884,'Data Input'!W884,'Data Input'!AD884,'Data Input'!AH884))","v":""},{"$f":"IF(O879=\"\",\"\",O879/COUNTIF('Data Input'!$C$8:$AK$8,\"M\"))","v":""},{"$f":"IF(ISBLANK('Data Input'!A884),\"\",SUM('Data Input'!H884,'Data Input'!K884,'Data Input'!P884,'Data Input'!Y884))","v":""},{"$f":"IF(Q879=\"\",\"\",Q879/COUNTIF('Data Input'!$C$8:$AK$8,\"G\"))","v":""}]
[{"$f":"IF('Data Input'!A885=0,\"\",'Data Input'!A885)","v":""},{"$f":"IF(ISBLANK('Data Input'!A885),\"\",COUNTIF('Data Input'!C885:AK885,\"\"))","v":""},{"$f":"IF(ISBLANK('Data Input'!A885),\"\",COUNTIF('Data Input'!C885:AK885,\"0\"))","v":""},{"$f":"IF(ISBLANK('Data Input'!A885),\"\",SUM(B880,C880))","v":""},{"$f":"IF(ISBLANK('Data Input'!A885),\"\",SUM('Data Input'!C885:AK885))","v":""},{"$f":"IF(E880=\"\",\"\",E880/(COUNTA('Data Input'!$C$8:$AK$8)))","v":""},{"$f":"IF(ISBLANK('Data Input'!A885),\"\",SUM('Data Input'!C885,'Data Input'!D885,'Data Input'!J885,'Data Input'!X885))","v":""},{"$f":"IF(G880=\"\",\"\",G880/COUNTIF('Data Input'!$C$8:$AK$8,\"N\"))","v":""},{"$f":"IF(ISBLANK('Data Input'!A885),\"\",SUM('Data Input'!G885,'Data Input'!I885,'Data Input'!L885,'Data Input'!N885,'Data Input'!O885,'Data Input'!S885,'Data Input'!Z885,'Data Input'!AA885,'Data Input'!AB885,'Data Input'!AC885,'Data Input'!AE885,'Data Input'!AF885,'Data Input'!AG885,'Data Input'!AI885,'Data Input'!AK885))","v":""},{"$f":"IF(I880=\"\",\"\",I880/COUNTIF('Data Input'!$C$8:$AK$8,\"C\"))","v":""},{"$f":"IF(ISBLANK('Data Input'!A885),\"\",SUM('Data Input'!T885,'Data Input'!U885))","v":""},{"$f":"IF(K880=\"\",\"\",K880/COUNTIF('Data Input'!$C$8:$AK$8,\"S\"))","v":""},{"$f":"IF(ISBLANK('Data Input'!A885),\"\",SUM('Data Input'!F885,'Data Input'!R885,'Data Input'!AJ885))","v":""},{"$f":"IF(M880=\"\",\"\",M880/COUNTIF('Data Input'!$C$8:$AK$8,\"F\"))","v":""},{"$f":"IF(ISBLANK('Data Input'!A885),\"\",SUM('Data Input'!E885,'Data Input'!M885,'Data Input'!Q885,'Data Input'!V885,'Data Input'!W885,'Data Input'!AD885,'Data Input'!AH885))","v":""},{"$f":"IF(O880=\"\",\"\",O880/COUNTIF('Data Input'!$C$8:$AK$8,\"M\"))","v":""},{"$f":"IF(ISBLANK('Data Input'!A885),\"\",SUM('Data Input'!H885,'Data Input'!K885,'Data Input'!P885,'Data Input'!Y885))","v":""},{"$f":"IF(Q880=\"\",\"\",Q880/COUNTIF('Data Input'!$C$8:$AK$8,\"G\"))","v":""}]
[{"$f":"IF('Data Input'!A886=0,\"\",'Data Input'!A886)","v":""},{"$f":"IF(ISBLANK('Data Input'!A886),\"\",COUNTIF('Data Input'!C886:AK886,\"\"))","v":""},{"$f":"IF(ISBLANK('Data Input'!A886),\"\",COUNTIF('Data Input'!C886:AK886,\"0\"))","v":""},{"$f":"IF(ISBLANK('Data Input'!A886),\"\",SUM(B881,C881))","v":""},{"$f":"IF(ISBLANK('Data Input'!A886),\"\",SUM('Data Input'!C886:AK886))","v":""},{"$f":"IF(E881=\"\",\"\",E881/(COUNTA('Data Input'!$C$8:$AK$8)))","v":""},{"$f":"IF(ISBLANK('Data Input'!A886),\"\",SUM('Data Input'!C886,'Data Input'!D886,'Data Input'!J886,'Data Input'!X886))","v":""},{"$f":"IF(G881=\"\",\"\",G881/COUNTIF('Data Input'!$C$8:$AK$8,\"N\"))","v":""},{"$f":"IF(ISBLANK('Data Input'!A886),\"\",SUM('Data Input'!G886,'Data Input'!I886,'Data Input'!L886,'Data Input'!N886,'Data Input'!O886,'Data Input'!S886,'Data Input'!Z886,'Data Input'!AA886,'Data Input'!AB886,'Data Input'!AC886,'Data Input'!AE886,'Data Input'!AF886,'Data Input'!AG886,'Data Input'!AI886,'Data Input'!AK886))","v":""},{"$f":"IF(I881=\"\",\"\",I881/COUNTIF('Data Input'!$C$8:$AK$8,\"C\"))","v":""},{"$f":"IF(ISBLANK('Data Input'!A886),\"\",SUM('Data Input'!T886,'Data Input'!U886))","v":""},{"$f":"IF(K881=\"\",\"\",K881/COUNTIF('Data Input'!$C$8:$AK$8,\"S\"))","v":""},{"$f":"IF(ISBLANK('Data Input'!A886),\"\",SUM('Data Input'!F886,'Data Input'!R886,'Data Input'!AJ886))","v":""},{"$f":"IF(M881=\"\",\"\",M881/COUNTIF('Data Input'!$C$8:$AK$8,\"F\"))","v":""},{"$f":"IF(ISBLANK('Data Input'!A886),\"\",SUM('Data Input'!E886,'Data Input'!M886,'Data Input'!Q886,'Data Input'!V886,'Data Input'!W886,'Data Input'!AD886,'Data Input'!AH886))","v":""},{"$f":"IF(O881=\"\",\"\",O881/COUNTIF('Data Input'!$C$8:$AK$8,\"M\"))","v":""},{"$f":"IF(ISBLANK('Data Input'!A886),\"\",SUM('Data Input'!H886,'Data Input'!K886,'Data Input'!P886,'Data Input'!Y886))","v":""},{"$f":"IF(Q881=\"\",\"\",Q881/COUNTIF('Data Input'!$C$8:$AK$8,\"G\"))","v":""}]
[{"$f":"IF('Data Input'!A887=0,\"\",'Data Input'!A887)","v":""},{"$f":"IF(ISBLANK('Data Input'!A887),\"\",COUNTIF('Data Input'!C887:AK887,\"\"))","v":""},{"$f":"IF(ISBLANK('Data Input'!A887),\"\",COUNTIF('Data Input'!C887:AK887,\"0\"))","v":""},{"$f":"IF(ISBLANK('Data Input'!A887),\"\",SUM(B882,C882))","v":""},{"$f":"IF(ISBLANK('Data Input'!A887),\"\",SUM('Data Input'!C887:AK887))","v":""},{"$f":"IF(E882=\"\",\"\",E882/(COUNTA('Data Input'!$C$8:$AK$8)))","v":""},{"$f":"IF(ISBLANK('Data Input'!A887),\"\",SUM('Data Input'!C887,'Data Input'!D887,'Data Input'!J887,'Data Input'!X887))","v":""},{"$f":"IF(G882=\"\",\"\",G882/COUNTIF('Data Input'!$C$8:$AK$8,\"N\"))","v":""},{"$f":"IF(ISBLANK('Data Input'!A887),\"\",SUM('Data Input'!G887,'Data Input'!I887,'Data Input'!L887,'Data Input'!N887,'Data Input'!O887,'Data Input'!S887,'Data Input'!Z887,'Data Input'!AA887,'Data Input'!AB887,'Data Input'!AC887,'Data Input'!AE887,'Data Input'!AF887,'Data Input'!AG887,'Data Input'!AI887,'Data Input'!AK887))","v":""},{"$f":"IF(I882=\"\",\"\",I882/COUNTIF('Data Input'!$C$8:$AK$8,\"C\"))","v":""},{"$f":"IF(ISBLANK('Data Input'!A887),\"\",SUM('Data Input'!T887,'Data Input'!U887))","v":""},{"$f":"IF(K882=\"\",\"\",K882/COUNTIF('Data Input'!$C$8:$AK$8,\"S\"))","v":""},{"$f":"IF(ISBLANK('Data Input'!A887),\"\",SUM('Data Input'!F887,'Data Input'!R887,'Data Input'!AJ887))","v":""},{"$f":"IF(M882=\"\",\"\",M882/COUNTIF('Data Input'!$C$8:$AK$8,\"F\"))","v":""},{"$f":"IF(ISBLANK('Data Input'!A887),\"\",SUM('Data Input'!E887,'Data Input'!M887,'Data Input'!Q887,'Data Input'!V887,'Data Input'!W887,'Data Input'!AD887,'Data Input'!AH887))","v":""},{"$f":"IF(O882=\"\",\"\",O882/COUNTIF('Data Input'!$C$8:$AK$8,\"M\"))","v":""},{"$f":"IF(ISBLANK('Data Input'!A887),\"\",SUM('Data Input'!H887,'Data Input'!K887,'Data Input'!P887,'Data Input'!Y887))","v":""},{"$f":"IF(Q882=\"\",\"\",Q882/COUNTIF('Data Input'!$C$8:$AK$8,\"G\"))","v":""}]
[{"$f":"IF('Data Input'!A888=0,\"\",'Data Input'!A888)","v":""},{"$f":"IF(ISBLANK('Data Input'!A888),\"\",COUNTIF('Data Input'!C888:AK888,\"\"))","v":""},{"$f":"IF(ISBLANK('Data Input'!A888),\"\",COUNTIF('Data Input'!C888:AK888,\"0\"))","v":""},{"$f":"IF(ISBLANK('Data Input'!A888),\"\",SUM(B883,C883))","v":""},{"$f":"IF(ISBLANK('Data Input'!A888),\"\",SUM('Data Input'!C888:AK888))","v":""},{"$f":"IF(E883=\"\",\"\",E883/(COUNTA('Data Input'!$C$8:$AK$8)))","v":""},{"$f":"IF(ISBLANK('Data Input'!A888),\"\",SUM('Data Input'!C888,'Data Input'!D888,'Data Input'!J888,'Data Input'!X888))","v":""},{"$f":"IF(G883=\"\",\"\",G883/COUNTIF('Data Input'!$C$8:$AK$8,\"N\"))","v":""},{"$f":"IF(ISBLANK('Data Input'!A888),\"\",SUM('Data Input'!G888,'Data Input'!I888,'Data Input'!L888,'Data Input'!N888,'Data Input'!O888,'Data Input'!S888,'Data Input'!Z888,'Data Input'!AA888,'Data Input'!AB888,'Data Input'!AC888,'Data Input'!AE888,'Data Input'!AF888,'Data Input'!AG888,'Data Input'!AI888,'Data Input'!AK888))","v":""},{"$f":"IF(I883=\"\",\"\",I883/COUNTIF('Data Input'!$C$8:$AK$8,\"C\"))","v":""},{"$f":"IF(ISBLANK('Data Input'!A888),\"\",SUM('Data Input'!T888,'Data Input'!U888))","v":""},{"$f":"IF(K883=\"\",\"\",K883/COUNTIF('Data Input'!$C$8:$AK$8,\"S\"))","v":""},{"$f":"IF(ISBLANK('Data Input'!A888),\"\",SUM('Data Input'!F888,'Data Input'!R888,'Data Input'!AJ888))","v":""},{"$f":"IF(M883=\"\",\"\",M883/COUNTIF('Data Input'!$C$8:$AK$8,\"F\"))","v":""},{"$f":"IF(ISBLANK('Data Input'!A888),\"\",SUM('Data Input'!E888,'Data Input'!M888,'Data Input'!Q888,'Data Input'!V888,'Data Input'!W888,'Data Input'!AD888,'Data Input'!AH888))","v":""},{"$f":"IF(O883=\"\",\"\",O883/COUNTIF('Data Input'!$C$8:$AK$8,\"M\"))","v":""},{"$f":"IF(ISBLANK('Data Input'!A888),\"\",SUM('Data Input'!H888,'Data Input'!K888,'Data Input'!P888,'Data Input'!Y888))","v":""},{"$f":"IF(Q883=\"\",\"\",Q883/COUNTIF('Data Input'!$C$8:$AK$8,\"G\"))","v":""}]
[{"$f":"IF('Data Input'!A889=0,\"\",'Data Input'!A889)","v":""},{"$f":"IF(ISBLANK('Data Input'!A889),\"\",COUNTIF('Data Input'!C889:AK889,\"\"))","v":""},{"$f":"IF(ISBLANK('Data Input'!A889),\"\",COUNTIF('Data Input'!C889:AK889,\"0\"))","v":""},{"$f":"IF(ISBLANK('Data Input'!A889),\"\",SUM(B884,C884))","v":""},{"$f":"IF(ISBLANK('Data Input'!A889),\"\",SUM('Data Input'!C889:AK889))","v":""},{"$f":"IF(E884=\"\",\"\",E884/(COUNTA('Data Input'!$C$8:$AK$8)))","v":""},{"$f":"IF(ISBLANK('Data Input'!A889),\"\",SUM('Data Input'!C889,'Data Input'!D889,'Data Input'!J889,'Data Input'!X889))","v":""},{"$f":"IF(G884=\"\",\"\",G884/COUNTIF('Data Input'!$C$8:$AK$8,\"N\"))","v":""},{"$f":"IF(ISBLANK('Data Input'!A889),\"\",SUM('Data Input'!G889,'Data Input'!I889,'Data Input'!L889,'Data Input'!N889,'Data Input'!O889,'Data Input'!S889,'Data Input'!Z889,'Data Input'!AA889,'Data Input'!AB889,'Data Input'!AC889,'Data Input'!AE889,'Data Input'!AF889,'Data Input'!AG889,'Data Input'!AI889,'Data Input'!AK889))","v":""},{"$f":"IF(I884=\"\",\"\",I884/COUNTIF('Data Input'!$C$8:$AK$8,\"C\"))","v":""},{"$f":"IF(ISBLANK('Data Input'!A889),\"\",SUM('Data Input'!T889,'Data Input'!U889))","v":""},{"$f":"IF(K884=\"\",\"\",K884/COUNTIF('Data Input'!$C$8:$AK$8,\"S\"))","v":""},{"$f":"IF(ISBLANK('Data Input'!A889),\"\",SUM('Data Input'!F889,'Data Input'!R889,'Data Input'!AJ889))","v":""},{"$f":"IF(M884=\"\",\"\",M884/COUNTIF('Data Input'!$C$8:$AK$8,\"F\"))","v":""},{"$f":"IF(ISBLANK('Data Input'!A889),\"\",SUM('Data Input'!E889,'Data Input'!M889,'Data Input'!Q889,'Data Input'!V889,'Data Input'!W889,'Data Input'!AD889,'Data Input'!AH889))","v":""},{"$f":"IF(O884=\"\",\"\",O884/COUNTIF('Data Input'!$C$8:$AK$8,\"M\"))","v":""},{"$f":"IF(ISBLANK('Data Input'!A889),\"\",SUM('Data Input'!H889,'Data Input'!K889,'Data Input'!P889,'Data Input'!Y889))","v":""},{"$f":"IF(Q884=\"\",\"\",Q884/COUNTIF('Data Input'!$C$8:$AK$8,\"G\"))","v":""}]
[{"$f":"IF('Data Input'!A890=0,\"\",'Data Input'!A890)","v":""},{"$f":"IF(ISBLANK('Data Input'!A890),\"\",COUNTIF('Data Input'!C890:AK890,\"\"))","v":""},{"$f":"IF(ISBLANK('Data Input'!A890),\"\",COUNTIF('Data Input'!C890:AK890,\"0\"))","v":""},{"$f":"IF(ISBLANK('Data Input'!A890),\"\",SUM(B885,C885))","v":""},{"$f":"IF(ISBLANK('Data Input'!A890),\"\",SUM('Data Input'!C890:AK890))","v":""},{"$f":"IF(E885=\"\",\"\",E885/(COUNTA('Data Input'!$C$8:$AK$8)))","v":""},{"$f":"IF(ISBLANK('Data Input'!A890),\"\",SUM('Data Input'!C890,'Data Input'!D890,'Data Input'!J890,'Data Input'!X890))","v":""},{"$f":"IF(G885=\"\",\"\",G885/COUNTIF('Data Input'!$C$8:$AK$8,\"N\"))","v":""},{"$f":"IF(ISBLANK('Data Input'!A890),\"\",SUM('Data Input'!G890,'Data Input'!I890,'Data Input'!L890,'Data Input'!N890,'Data Input'!O890,'Data Input'!S890,'Data Input'!Z890,'Data Input'!AA890,'Data Input'!AB890,'Data Input'!AC890,'Data Input'!AE890,'Data Input'!AF890,'Data Input'!AG890,'Data Input'!AI890,'Data Input'!AK890))","v":""},{"$f":"IF(I885=\"\",\"\",I885/COUNTIF('Data Input'!$C$8:$AK$8,\"C\"))","v":""},{"$f":"IF(ISBLANK('Data Input'!A890),\"\",SUM('Data Input'!T890,'Data Input'!U890))","v":""},{"$f":"IF(K885=\"\",\"\",K885/COUNTIF('Data Input'!$C$8:$AK$8,\"S\"))","v":""},{"$f":"IF(ISBLANK('Data Input'!A890),\"\",SUM('Data Input'!F890,'Data Input'!R890,'Data Input'!AJ890))","v":""},{"$f":"IF(M885=\"\",\"\",M885/COUNTIF('Data Input'!$C$8:$AK$8,\"F\"))","v":""},{"$f":"IF(ISBLANK('Data Input'!A890),\"\",SUM('Data Input'!E890,'Data Input'!M890,'Data Input'!Q890,'Data Input'!V890,'Data Input'!W890,'Data Input'!AD890,'Data Input'!AH890))","v":""},{"$f":"IF(O885=\"\",\"\",O885/COUNTIF('Data Input'!$C$8:$AK$8,\"M\"))","v":""},{"$f":"IF(ISBLANK('Data Input'!A890),\"\",SUM('Data Input'!H890,'Data Input'!K890,'Data Input'!P890,'Data Input'!Y890))","v":""},{"$f":"IF(Q885=\"\",\"\",Q885/COUNTIF('Data Input'!$C$8:$AK$8,\"G\"))","v":""}]
[{"$f":"IF('Data Input'!A891=0,\"\",'Data Input'!A891)","v":""},{"$f":"IF(ISBLANK('Data Input'!A891),\"\",COUNTIF('Data Input'!C891:AK891,\"\"))","v":""},{"$f":"IF(ISBLANK('Data Input'!A891),\"\",COUNTIF('Data Input'!C891:AK891,\"0\"))","v":""},{"$f":"IF(ISBLANK('Data Input'!A891),\"\",SUM(B886,C886))","v":""},{"$f":"IF(ISBLANK('Data Input'!A891),\"\",SUM('Data Input'!C891:AK891))","v":""},{"$f":"IF(E886=\"\",\"\",E886/(COUNTA('Data Input'!$C$8:$AK$8)))","v":""},{"$f":"IF(ISBLANK('Data Input'!A891),\"\",SUM('Data Input'!C891,'Data Input'!D891,'Data Input'!J891,'Data Input'!X891))","v":""},{"$f":"IF(G886=\"\",\"\",G886/COUNTIF('Data Input'!$C$8:$AK$8,\"N\"))","v":""},{"$f":"IF(ISBLANK('Data Input'!A891),\"\",SUM('Data Input'!G891,'Data Input'!I891,'Data Input'!L891,'Data Input'!N891,'Data Input'!O891,'Data Input'!S891,'Data Input'!Z891,'Data Input'!AA891,'Data Input'!AB891,'Data Input'!AC891,'Data Input'!AE891,'Data Input'!AF891,'Data Input'!AG891,'Data Input'!AI891,'Data Input'!AK891))","v":""},{"$f":"IF(I886=\"\",\"\",I886/COUNTIF('Data Input'!$C$8:$AK$8,\"C\"))","v":""},{"$f":"IF(ISBLANK('Data Input'!A891),\"\",SUM('Data Input'!T891,'Data Input'!U891))","v":""},{"$f":"IF(K886=\"\",\"\",K886/COUNTIF('Data Input'!$C$8:$AK$8,\"S\"))","v":""},{"$f":"IF(ISBLANK('Data Input'!A891),\"\",SUM('Data Input'!F891,'Data Input'!R891,'Data Input'!AJ891))","v":""},{"$f":"IF(M886=\"\",\"\",M886/COUNTIF('Data Input'!$C$8:$AK$8,\"F\"))","v":""},{"$f":"IF(ISBLANK('Data Input'!A891),\"\",SUM('Data Input'!E891,'Data Input'!M891,'Data Input'!Q891,'Data Input'!V891,'Data Input'!W891,'Data Input'!AD891,'Data Input'!AH891))","v":""},{"$f":"IF(O886=\"\",\"\",O886/COUNTIF('Data Input'!$C$8:$AK$8,\"M\"))","v":""},{"$f":"IF(ISBLANK('Data Input'!A891),\"\",SUM('Data Input'!H891,'Data Input'!K891,'Data Input'!P891,'Data Input'!Y891))","v":""},{"$f":"IF(Q886=\"\",\"\",Q886/COUNTIF('Data Input'!$C$8:$AK$8,\"G\"))","v":""}]
[{"$f":"IF('Data Input'!A892=0,\"\",'Data Input'!A892)","v":""},{"$f":"IF(ISBLANK('Data Input'!A892),\"\",COUNTIF('Data Input'!C892:AK892,\"\"))","v":""},{"$f":"IF(ISBLANK('Data Input'!A892),\"\",COUNTIF('Data Input'!C892:AK892,\"0\"))","v":""},{"$f":"IF(ISBLANK('Data Input'!A892),\"\",SUM(B887,C887))","v":""},{"$f":"IF(ISBLANK('Data Input'!A892),\"\",SUM('Data Input'!C892:AK892))","v":""},{"$f":"IF(E887=\"\",\"\",E887/(COUNTA('Data Input'!$C$8:$AK$8)))","v":""},{"$f":"IF(ISBLANK('Data Input'!A892),\"\",SUM('Data Input'!C892,'Data Input'!D892,'Data Input'!J892,'Data Input'!X892))","v":""},{"$f":"IF(G887=\"\",\"\",G887/COUNTIF('Data Input'!$C$8:$AK$8,\"N\"))","v":""},{"$f":"IF(ISBLANK('Data Input'!A892),\"\",SUM('Data Input'!G892,'Data Input'!I892,'Data Input'!L892,'Data Input'!N892,'Data Input'!O892,'Data Input'!S892,'Data Input'!Z892,'Data Input'!AA892,'Data Input'!AB892,'Data Input'!AC892,'Data Input'!AE892,'Data Input'!AF892,'Data Input'!AG892,'Data Input'!AI892,'Data Input'!AK892))","v":""},{"$f":"IF(I887=\"\",\"\",I887/COUNTIF('Data Input'!$C$8:$AK$8,\"C\"))","v":""},{"$f":"IF(ISBLANK('Data Input'!A892),\"\",SUM('Data Input'!T892,'Data Input'!U892))","v":""},{"$f":"IF(K887=\"\",\"\",K887/COUNTIF('Data Input'!$C$8:$AK$8,\"S\"))","v":""},{"$f":"IF(ISBLANK('Data Input'!A892),\"\",SUM('Data Input'!F892,'Data Input'!R892,'Data Input'!AJ892))","v":""},{"$f":"IF(M887=\"\",\"\",M887/COUNTIF('Data Input'!$C$8:$AK$8,\"F\"))","v":""},{"$f":"IF(ISBLANK('Data Input'!A892),\"\",SUM('Data Input'!E892,'Data Input'!M892,'Data Input'!Q892,'Data Input'!V892,'Data Input'!W892,'Data Input'!AD892,'Data Input'!AH892))","v":""},{"$f":"IF(O887=\"\",\"\",O887/COUNTIF('Data Input'!$C$8:$AK$8,\"M\"))","v":""},{"$f":"IF(ISBLANK('Data Input'!A892),\"\",SUM('Data Input'!H892,'Data Input'!K892,'Data Input'!P892,'Data Input'!Y892))","v":""},{"$f":"IF(Q887=\"\",\"\",Q887/COUNTIF('Data Input'!$C$8:$AK$8,\"G\"))","v":""}]
[{"$f":"IF('Data Input'!A893=0,\"\",'Data Input'!A893)","v":""},{"$f":"IF(ISBLANK('Data Input'!A893),\"\",COUNTIF('Data Input'!C893:AK893,\"\"))","v":""},{"$f":"IF(ISBLANK('Data Input'!A893),\"\",COUNTIF('Data Input'!C893:AK893,\"0\"))","v":""},{"$f":"IF(ISBLANK('Data Input'!A893),\"\",SUM(B888,C888))","v":""},{"$f":"IF(ISBLANK('Data Input'!A893),\"\",SUM('Data Input'!C893:AK893))","v":""},{"$f":"IF(E888=\"\",\"\",E888/(COUNTA('Data Input'!$C$8:$AK$8)))","v":""},{"$f":"IF(ISBLANK('Data Input'!A893),\"\",SUM('Data Input'!C893,'Data Input'!D893,'Data Input'!J893,'Data Input'!X893))","v":""},{"$f":"IF(G888=\"\",\"\",G888/COUNTIF('Data Input'!$C$8:$AK$8,\"N\"))","v":""},{"$f":"IF(ISBLANK('Data Input'!A893),\"\",SUM('Data Input'!G893,'Data Input'!I893,'Data Input'!L893,'Data Input'!N893,'Data Input'!O893,'Data Input'!S893,'Data Input'!Z893,'Data Input'!AA893,'Data Input'!AB893,'Data Input'!AC893,'Data Input'!AE893,'Data Input'!AF893,'Data Input'!AG893,'Data Input'!AI893,'Data Input'!AK893))","v":""},{"$f":"IF(I888=\"\",\"\",I888/COUNTIF('Data Input'!$C$8:$AK$8,\"C\"))","v":""},{"$f":"IF(ISBLANK('Data Input'!A893),\"\",SUM('Data Input'!T893,'Data Input'!U893))","v":""},{"$f":"IF(K888=\"\",\"\",K888/COUNTIF('Data Input'!$C$8:$AK$8,\"S\"))","v":""},{"$f":"IF(ISBLANK('Data Input'!A893),\"\",SUM('Data Input'!F893,'Data Input'!R893,'Data Input'!AJ893))","v":""},{"$f":"IF(M888=\"\",\"\",M888/COUNTIF('Data Input'!$C$8:$AK$8,\"F\"))","v":""},{"$f":"IF(ISBLANK('Data Input'!A893),\"\",SUM('Data Input'!E893,'Data Input'!M893,'Data Input'!Q893,'Data Input'!V893,'Data Input'!W893,'Data Input'!AD893,'Data Input'!AH893))","v":""},{"$f":"IF(O888=\"\",\"\",O888/COUNTIF('Data Input'!$C$8:$AK$8,\"M\"))","v":""},{"$f":"IF(ISBLANK('Data Input'!A893),\"\",SUM('Data Input'!H893,'Data Input'!K893,'Data Input'!P893,'Data Input'!Y893))","v":""},{"$f":"IF(Q888=\"\",\"\",Q888/COUNTIF('Data Input'!$C$8:$AK$8,\"G\"))","v":""}]
[{"$f":"IF('Data Input'!A894=0,\"\",'Data Input'!A894)","v":""},{"$f":"IF(ISBLANK('Data Input'!A894),\"\",COUNTIF('Data Input'!C894:AK894,\"\"))","v":""},{"$f":"IF(ISBLANK('Data Input'!A894),\"\",COUNTIF('Data Input'!C894:AK894,\"0\"))","v":""},{"$f":"IF(ISBLANK('Data Input'!A894),\"\",SUM(B889,C889))","v":""},{"$f":"IF(ISBLANK('Data Input'!A894),\"\",SUM('Data Input'!C894:AK894))","v":""},{"$f":"IF(E889=\"\",\"\",E889/(COUNTA('Data Input'!$C$8:$AK$8)))","v":""},{"$f":"IF(ISBLANK('Data Input'!A894),\"\",SUM('Data Input'!C894,'Data Input'!D894,'Data Input'!J894,'Data Input'!X894))","v":""},{"$f":"IF(G889=\"\",\"\",G889/COUNTIF('Data Input'!$C$8:$AK$8,\"N\"))","v":""},{"$f":"IF(ISBLANK('Data Input'!A894),\"\",SUM('Data Input'!G894,'Data Input'!I894,'Data Input'!L894,'Data Input'!N894,'Data Input'!O894,'Data Input'!S894,'Data Input'!Z894,'Data Input'!AA894,'Data Input'!AB894,'Data Input'!AC894,'Data Input'!AE894,'Data Input'!AF894,'Data Input'!AG894,'Data Input'!AI894,'Data Input'!AK894))","v":""},{"$f":"IF(I889=\"\",\"\",I889/COUNTIF('Data Input'!$C$8:$AK$8,\"C\"))","v":""},{"$f":"IF(ISBLANK('Data Input'!A894),\"\",SUM('Data Input'!T894,'Data Input'!U894))","v":""},{"$f":"IF(K889=\"\",\"\",K889/COUNTIF('Data Input'!$C$8:$AK$8,\"S\"))","v":""},{"$f":"IF(ISBLANK('Data Input'!A894),\"\",SUM('Data Input'!F894,'Data Input'!R894,'Data Input'!AJ894))","v":""},{"$f":"IF(M889=\"\",\"\",M889/COUNTIF('Data Input'!$C$8:$AK$8,\"F\"))","v":""},{"$f":"IF(ISBLANK('Data Input'!A894),\"\",SUM('Data Input'!E894,'Data Input'!M894,'Data Input'!Q894,'Data Input'!V894,'Data Input'!W894,'Data Input'!AD894,'Data Input'!AH894))","v":""},{"$f":"IF(O889=\"\",\"\",O889/COUNTIF('Data Input'!$C$8:$AK$8,\"M\"))","v":""},{"$f":"IF(ISBLANK('Data Input'!A894),\"\",SUM('Data Input'!H894,'Data Input'!K894,'Data Input'!P894,'Data Input'!Y894))","v":""},{"$f":"IF(Q889=\"\",\"\",Q889/COUNTIF('Data Input'!$C$8:$AK$8,\"G\"))","v":""}]
[{"$f":"IF('Data Input'!A895=0,\"\",'Data Input'!A895)","v":""},{"$f":"IF(ISBLANK('Data Input'!A895),\"\",COUNTIF('Data Input'!C895:AK895,\"\"))","v":""},{"$f":"IF(ISBLANK('Data Input'!A895),\"\",COUNTIF('Data Input'!C895:AK895,\"0\"))","v":""},{"$f":"IF(ISBLANK('Data Input'!A895),\"\",SUM(B890,C890))","v":""},{"$f":"IF(ISBLANK('Data Input'!A895),\"\",SUM('Data Input'!C895:AK895))","v":""},{"$f":"IF(E890=\"\",\"\",E890/(COUNTA('Data Input'!$C$8:$AK$8)))","v":""},{"$f":"IF(ISBLANK('Data Input'!A895),\"\",SUM('Data Input'!C895,'Data Input'!D895,'Data Input'!J895,'Data Input'!X895))","v":""},{"$f":"IF(G890=\"\",\"\",G890/COUNTIF('Data Input'!$C$8:$AK$8,\"N\"))","v":""},{"$f":"IF(ISBLANK('Data Input'!A895),\"\",SUM('Data Input'!G895,'Data Input'!I895,'Data Input'!L895,'Data Input'!N895,'Data Input'!O895,'Data Input'!S895,'Data Input'!Z895,'Data Input'!AA895,'Data Input'!AB895,'Data Input'!AC895,'Data Input'!AE895,'Data Input'!AF895,'Data Input'!AG895,'Data Input'!AI895,'Data Input'!AK895))","v":""},{"$f":"IF(I890=\"\",\"\",I890/COUNTIF('Data Input'!$C$8:$AK$8,\"C\"))","v":""},{"$f":"IF(ISBLANK('Data Input'!A895),\"\",SUM('Data Input'!T895,'Data Input'!U895))","v":""},{"$f":"IF(K890=\"\",\"\",K890/COUNTIF('Data Input'!$C$8:$AK$8,\"S\"))","v":""},{"$f":"IF(ISBLANK('Data Input'!A895),\"\",SUM('Data Input'!F895,'Data Input'!R895,'Data Input'!AJ895))","v":""},{"$f":"IF(M890=\"\",\"\",M890/COUNTIF('Data Input'!$C$8:$AK$8,\"F\"))","v":""},{"$f":"IF(ISBLANK('Data Input'!A895),\"\",SUM('Data Input'!E895,'Data Input'!M895,'Data Input'!Q895,'Data Input'!V895,'Data Input'!W895,'Data Input'!AD895,'Data Input'!AH895))","v":""},{"$f":"IF(O890=\"\",\"\",O890/COUNTIF('Data Input'!$C$8:$AK$8,\"M\"))","v":""},{"$f":"IF(ISBLANK('Data Input'!A895),\"\",SUM('Data Input'!H895,'Data Input'!K895,'Data Input'!P895,'Data Input'!Y895))","v":""},{"$f":"IF(Q890=\"\",\"\",Q890/COUNTIF('Data Input'!$C$8:$AK$8,\"G\"))","v":""}]
[{"$f":"IF('Data Input'!A896=0,\"\",'Data Input'!A896)","v":""},{"$f":"IF(ISBLANK('Data Input'!A896),\"\",COUNTIF('Data Input'!C896:AK896,\"\"))","v":""},{"$f":"IF(ISBLANK('Data Input'!A896),\"\",COUNTIF('Data Input'!C896:AK896,\"0\"))","v":""},{"$f":"IF(ISBLANK('Data Input'!A896),\"\",SUM(B891,C891))","v":""},{"$f":"IF(ISBLANK('Data Input'!A896),\"\",SUM('Data Input'!C896:AK896))","v":""},{"$f":"IF(E891=\"\",\"\",E891/(COUNTA('Data Input'!$C$8:$AK$8)))","v":""},{"$f":"IF(ISBLANK('Data Input'!A896),\"\",SUM('Data Input'!C896,'Data Input'!D896,'Data Input'!J896,'Data Input'!X896))","v":""},{"$f":"IF(G891=\"\",\"\",G891/COUNTIF('Data Input'!$C$8:$AK$8,\"N\"))","v":""},{"$f":"IF(ISBLANK('Data Input'!A896),\"\",SUM('Data Input'!G896,'Data Input'!I896,'Data Input'!L896,'Data Input'!N896,'Data Input'!O896,'Data Input'!S896,'Data Input'!Z896,'Data Input'!AA896,'Data Input'!AB896,'Data Input'!AC896,'Data Input'!AE896,'Data Input'!AF896,'Data Input'!AG896,'Data Input'!AI896,'Data Input'!AK896))","v":""},{"$f":"IF(I891=\"\",\"\",I891/COUNTIF('Data Input'!$C$8:$AK$8,\"C\"))","v":""},{"$f":"IF(ISBLANK('Data Input'!A896),\"\",SUM('Data Input'!T896,'Data Input'!U896))","v":""},{"$f":"IF(K891=\"\",\"\",K891/COUNTIF('Data Input'!$C$8:$AK$8,\"S\"))","v":""},{"$f":"IF(ISBLANK('Data Input'!A896),\"\",SUM('Data Input'!F896,'Data Input'!R896,'Data Input'!AJ896))","v":""},{"$f":"IF(M891=\"\",\"\",M891/COUNTIF('Data Input'!$C$8:$AK$8,\"F\"))","v":""},{"$f":"IF(ISBLANK('Data Input'!A896),\"\",SUM('Data Input'!E896,'Data Input'!M896,'Data Input'!Q896,'Data Input'!V896,'Data Input'!W896,'Data Input'!AD896,'Data Input'!AH896))","v":""},{"$f":"IF(O891=\"\",\"\",O891/COUNTIF('Data Input'!$C$8:$AK$8,\"M\"))","v":""},{"$f":"IF(ISBLANK('Data Input'!A896),\"\",SUM('Data Input'!H896,'Data Input'!K896,'Data Input'!P896,'Data Input'!Y896))","v":""},{"$f":"IF(Q891=\"\",\"\",Q891/COUNTIF('Data Input'!$C$8:$AK$8,\"G\"))","v":""}]
[{"$f":"IF('Data Input'!A897=0,\"\",'Data Input'!A897)","v":""},{"$f":"IF(ISBLANK('Data Input'!A897),\"\",COUNTIF('Data Input'!C897:AK897,\"\"))","v":""},{"$f":"IF(ISBLANK('Data Input'!A897),\"\",COUNTIF('Data Input'!C897:AK897,\"0\"))","v":""},{"$f":"IF(ISBLANK('Data Input'!A897),\"\",SUM(B892,C892))","v":""},{"$f":"IF(ISBLANK('Data Input'!A897),\"\",SUM('Data Input'!C897:AK897))","v":""},{"$f":"IF(E892=\"\",\"\",E892/(COUNTA('Data Input'!$C$8:$AK$8)))","v":""},{"$f":"IF(ISBLANK('Data Input'!A897),\"\",SUM('Data Input'!C897,'Data Input'!D897,'Data Input'!J897,'Data Input'!X897))","v":""},{"$f":"IF(G892=\"\",\"\",G892/COUNTIF('Data Input'!$C$8:$AK$8,\"N\"))","v":""},{"$f":"IF(ISBLANK('Data Input'!A897),\"\",SUM('Data Input'!G897,'Data Input'!I897,'Data Input'!L897,'Data Input'!N897,'Data Input'!O897,'Data Input'!S897,'Data Input'!Z897,'Data Input'!AA897,'Data Input'!AB897,'Data Input'!AC897,'Data Input'!AE897,'Data Input'!AF897,'Data Input'!AG897,'Data Input'!AI897,'Data Input'!AK897))","v":""},{"$f":"IF(I892=\"\",\"\",I892/COUNTIF('Data Input'!$C$8:$AK$8,\"C\"))","v":""},{"$f":"IF(ISBLANK('Data Input'!A897),\"\",SUM('Data Input'!T897,'Data Input'!U897))","v":""},{"$f":"IF(K892=\"\",\"\",K892/COUNTIF('Data Input'!$C$8:$AK$8,\"S\"))","v":""},{"$f":"IF(ISBLANK('Data Input'!A897),\"\",SUM('Data Input'!F897,'Data Input'!R897,'Data Input'!AJ897))","v":""},{"$f":"IF(M892=\"\",\"\",M892/COUNTIF('Data Input'!$C$8:$AK$8,\"F\"))","v":""},{"$f":"IF(ISBLANK('Data Input'!A897),\"\",SUM('Data Input'!E897,'Data Input'!M897,'Data Input'!Q897,'Data Input'!V897,'Data Input'!W897,'Data Input'!AD897,'Data Input'!AH897))","v":""},{"$f":"IF(O892=\"\",\"\",O892/COUNTIF('Data Input'!$C$8:$AK$8,\"M\"))","v":""},{"$f":"IF(ISBLANK('Data Input'!A897),\"\",SUM('Data Input'!H897,'Data Input'!K897,'Data Input'!P897,'Data Input'!Y897))","v":""},{"$f":"IF(Q892=\"\",\"\",Q892/COUNTIF('Data Input'!$C$8:$AK$8,\"G\"))","v":""}]
[{"$f":"IF('Data Input'!A898=0,\"\",'Data Input'!A898)","v":""},{"$f":"IF(ISBLANK('Data Input'!A898),\"\",COUNTIF('Data Input'!C898:AK898,\"\"))","v":""},{"$f":"IF(ISBLANK('Data Input'!A898),\"\",COUNTIF('Data Input'!C898:AK898,\"0\"))","v":""},{"$f":"IF(ISBLANK('Data Input'!A898),\"\",SUM(B893,C893))","v":""},{"$f":"IF(ISBLANK('Data Input'!A898),\"\",SUM('Data Input'!C898:AK898))","v":""},{"$f":"IF(E893=\"\",\"\",E893/(COUNTA('Data Input'!$C$8:$AK$8)))","v":""},{"$f":"IF(ISBLANK('Data Input'!A898),\"\",SUM('Data Input'!C898,'Data Input'!D898,'Data Input'!J898,'Data Input'!X898))","v":""},{"$f":"IF(G893=\"\",\"\",G893/COUNTIF('Data Input'!$C$8:$AK$8,\"N\"))","v":""},{"$f":"IF(ISBLANK('Data Input'!A898),\"\",SUM('Data Input'!G898,'Data Input'!I898,'Data Input'!L898,'Data Input'!N898,'Data Input'!O898,'Data Input'!S898,'Data Input'!Z898,'Data Input'!AA898,'Data Input'!AB898,'Data Input'!AC898,'Data Input'!AE898,'Data Input'!AF898,'Data Input'!AG898,'Data Input'!AI898,'Data Input'!AK898))","v":""},{"$f":"IF(I893=\"\",\"\",I893/COUNTIF('Data Input'!$C$8:$AK$8,\"C\"))","v":""},{"$f":"IF(ISBLANK('Data Input'!A898),\"\",SUM('Data Input'!T898,'Data Input'!U898))","v":""},{"$f":"IF(K893=\"\",\"\",K893/COUNTIF('Data Input'!$C$8:$AK$8,\"S\"))","v":""},{"$f":"IF(ISBLANK('Data Input'!A898),\"\",SUM('Data Input'!F898,'Data Input'!R898,'Data Input'!AJ898))","v":""},{"$f":"IF(M893=\"\",\"\",M893/COUNTIF('Data Input'!$C$8:$AK$8,\"F\"))","v":""},{"$f":"IF(ISBLANK('Data Input'!A898),\"\",SUM('Data Input'!E898,'Data Input'!M898,'Data Input'!Q898,'Data Input'!V898,'Data Input'!W898,'Data Input'!AD898,'Data Input'!AH898))","v":""},{"$f":"IF(O893=\"\",\"\",O893/COUNTIF('Data Input'!$C$8:$AK$8,\"M\"))","v":""},{"$f":"IF(ISBLANK('Data Input'!A898),\"\",SUM('Data Input'!H898,'Data Input'!K898,'Data Input'!P898,'Data Input'!Y898))","v":""},{"$f":"IF(Q893=\"\",\"\",Q893/COUNTIF('Data Input'!$C$8:$AK$8,\"G\"))","v":""}]
[{"$f":"IF('Data Input'!A899=0,\"\",'Data Input'!A899)","v":""},{"$f":"IF(ISBLANK('Data Input'!A899),\"\",COUNTIF('Data Input'!C899:AK899,\"\"))","v":""},{"$f":"IF(ISBLANK('Data Input'!A899),\"\",COUNTIF('Data Input'!C899:AK899,\"0\"))","v":""},{"$f":"IF(ISBLANK('Data Input'!A899),\"\",SUM(B894,C894))","v":""},{"$f":"IF(ISBLANK('Data Input'!A899),\"\",SUM('Data Input'!C899:AK899))","v":""},{"$f":"IF(E894=\"\",\"\",E894/(COUNTA('Data Input'!$C$8:$AK$8)))","v":""},{"$f":"IF(ISBLANK('Data Input'!A899),\"\",SUM('Data Input'!C899,'Data Input'!D899,'Data Input'!J899,'Data Input'!X899))","v":""},{"$f":"IF(G894=\"\",\"\",G894/COUNTIF('Data Input'!$C$8:$AK$8,\"N\"))","v":""},{"$f":"IF(ISBLANK('Data Input'!A899),\"\",SUM('Data Input'!G899,'Data Input'!I899,'Data Input'!L899,'Data Input'!N899,'Data Input'!O899,'Data Input'!S899,'Data Input'!Z899,'Data Input'!AA899,'Data Input'!AB899,'Data Input'!AC899,'Data Input'!AE899,'Data Input'!AF899,'Data Input'!AG899,'Data Input'!AI899,'Data Input'!AK899))","v":""},{"$f":"IF(I894=\"\",\"\",I894/COUNTIF('Data Input'!$C$8:$AK$8,\"C\"))","v":""},{"$f":"IF(ISBLANK('Data Input'!A899),\"\",SUM('Data Input'!T899,'Data Input'!U899))","v":""},{"$f":"IF(K894=\"\",\"\",K894/COUNTIF('Data Input'!$C$8:$AK$8,\"S\"))","v":""},{"$f":"IF(ISBLANK('Data Input'!A899),\"\",SUM('Data Input'!F899,'Data Input'!R899,'Data Input'!AJ899))","v":""},{"$f":"IF(M894=\"\",\"\",M894/COUNTIF('Data Input'!$C$8:$AK$8,\"F\"))","v":""},{"$f":"IF(ISBLANK('Data Input'!A899),\"\",SUM('Data Input'!E899,'Data Input'!M899,'Data Input'!Q899,'Data Input'!V899,'Data Input'!W899,'Data Input'!AD899,'Data Input'!AH899))","v":""},{"$f":"IF(O894=\"\",\"\",O894/COUNTIF('Data Input'!$C$8:$AK$8,\"M\"))","v":""},{"$f":"IF(ISBLANK('Data Input'!A899),\"\",SUM('Data Input'!H899,'Data Input'!K899,'Data Input'!P899,'Data Input'!Y899))","v":""},{"$f":"IF(Q894=\"\",\"\",Q894/COUNTIF('Data Input'!$C$8:$AK$8,\"G\"))","v":""}]
[{"$f":"IF('Data Input'!A900=0,\"\",'Data Input'!A900)","v":""},{"$f":"IF(ISBLANK('Data Input'!A900),\"\",COUNTIF('Data Input'!C900:AK900,\"\"))","v":""},{"$f":"IF(ISBLANK('Data Input'!A900),\"\",COUNTIF('Data Input'!C900:AK900,\"0\"))","v":""},{"$f":"IF(ISBLANK('Data Input'!A900),\"\",SUM(B895,C895))","v":""},{"$f":"IF(ISBLANK('Data Input'!A900),\"\",SUM('Data Input'!C900:AK900))","v":""},{"$f":"IF(E895=\"\",\"\",E895/(COUNTA('Data Input'!$C$8:$AK$8)))","v":""},{"$f":"IF(ISBLANK('Data Input'!A900),\"\",SUM('Data Input'!C900,'Data Input'!D900,'Data Input'!J900,'Data Input'!X900))","v":""},{"$f":"IF(G895=\"\",\"\",G895/COUNTIF('Data Input'!$C$8:$AK$8,\"N\"))","v":""},{"$f":"IF(ISBLANK('Data Input'!A900),\"\",SUM('Data Input'!G900,'Data Input'!I900,'Data Input'!L900,'Data Input'!N900,'Data Input'!O900,'Data Input'!S900,'Data Input'!Z900,'Data Input'!AA900,'Data Input'!AB900,'Data Input'!AC900,'Data Input'!AE900,'Data Input'!AF900,'Data Input'!AG900,'Data Input'!AI900,'Data Input'!AK900))","v":""},{"$f":"IF(I895=\"\",\"\",I895/COUNTIF('Data Input'!$C$8:$AK$8,\"C\"))","v":""},{"$f":"IF(ISBLANK('Data Input'!A900),\"\",SUM('Data Input'!T900,'Data Input'!U900))","v":""},{"$f":"IF(K895=\"\",\"\",K895/COUNTIF('Data Input'!$C$8:$AK$8,\"S\"))","v":""},{"$f":"IF(ISBLANK('Data Input'!A900),\"\",SUM('Data Input'!F900,'Data Input'!R900,'Data Input'!AJ900))","v":""},{"$f":"IF(M895=\"\",\"\",M895/COUNTIF('Data Input'!$C$8:$AK$8,\"F\"))","v":""},{"$f":"IF(ISBLANK('Data Input'!A900),\"\",SUM('Data Input'!E900,'Data Input'!M900,'Data Input'!Q900,'Data Input'!V900,'Data Input'!W900,'Data Input'!AD900,'Data Input'!AH900))","v":""},{"$f":"IF(O895=\"\",\"\",O895/COUNTIF('Data Input'!$C$8:$AK$8,\"M\"))","v":""},{"$f":"IF(ISBLANK('Data Input'!A900),\"\",SUM('Data Input'!H900,'Data Input'!K900,'Data Input'!P900,'Data Input'!Y900))","v":""},{"$f":"IF(Q895=\"\",\"\",Q895/COUNTIF('Data Input'!$C$8:$AK$8,\"G\"))","v":""}]
[{"$f":"IF('Data Input'!A901=0,\"\",'Data Input'!A901)","v":""},{"$f":"IF(ISBLANK('Data Input'!A901),\"\",COUNTIF('Data Input'!C901:AK901,\"\"))","v":""},{"$f":"IF(ISBLANK('Data Input'!A901),\"\",COUNTIF('Data Input'!C901:AK901,\"0\"))","v":""},{"$f":"IF(ISBLANK('Data Input'!A901),\"\",SUM(B896,C896))","v":""},{"$f":"IF(ISBLANK('Data Input'!A901),\"\",SUM('Data Input'!C901:AK901))","v":""},{"$f":"IF(E896=\"\",\"\",E896/(COUNTA('Data Input'!$C$8:$AK$8)))","v":""},{"$f":"IF(ISBLANK('Data Input'!A901),\"\",SUM('Data Input'!C901,'Data Input'!D901,'Data Input'!J901,'Data Input'!X901))","v":""},{"$f":"IF(G896=\"\",\"\",G896/COUNTIF('Data Input'!$C$8:$AK$8,\"N\"))","v":""},{"$f":"IF(ISBLANK('Data Input'!A901),\"\",SUM('Data Input'!G901,'Data Input'!I901,'Data Input'!L901,'Data Input'!N901,'Data Input'!O901,'Data Input'!S901,'Data Input'!Z901,'Data Input'!AA901,'Data Input'!AB901,'Data Input'!AC901,'Data Input'!AE901,'Data Input'!AF901,'Data Input'!AG901,'Data Input'!AI901,'Data Input'!AK901))","v":""},{"$f":"IF(I896=\"\",\"\",I896/COUNTIF('Data Input'!$C$8:$AK$8,\"C\"))","v":""},{"$f":"IF(ISBLANK('Data Input'!A901),\"\",SUM('Data Input'!T901,'Data Input'!U901))","v":""},{"$f":"IF(K896=\"\",\"\",K896/COUNTIF('Data Input'!$C$8:$AK$8,\"S\"))","v":""},{"$f":"IF(ISBLANK('Data Input'!A901),\"\",SUM('Data Input'!F901,'Data Input'!R901,'Data Input'!AJ901))","v":""},{"$f":"IF(M896=\"\",\"\",M896/COUNTIF('Data Input'!$C$8:$AK$8,\"F\"))","v":""},{"$f":"IF(ISBLANK('Data Input'!A901),\"\",SUM('Data Input'!E901,'Data Input'!M901,'Data Input'!Q901,'Data Input'!V901,'Data Input'!W901,'Data Input'!AD901,'Data Input'!AH901))","v":""},{"$f":"IF(O896=\"\",\"\",O896/COUNTIF('Data Input'!$C$8:$AK$8,\"M\"))","v":""},{"$f":"IF(ISBLANK('Data Input'!A901),\"\",SUM('Data Input'!H901,'Data Input'!K901,'Data Input'!P901,'Data Input'!Y901))","v":""},{"$f":"IF(Q896=\"\",\"\",Q896/COUNTIF('Data Input'!$C$8:$AK$8,\"G\"))","v":""}]
[{"$f":"IF('Data Input'!A902=0,\"\",'Data Input'!A902)","v":""},{"$f":"IF(ISBLANK('Data Input'!A902),\"\",COUNTIF('Data Input'!C902:AK902,\"\"))","v":""},{"$f":"IF(ISBLANK('Data Input'!A902),\"\",COUNTIF('Data Input'!C902:AK902,\"0\"))","v":""},{"$f":"IF(ISBLANK('Data Input'!A902),\"\",SUM(B897,C897))","v":""},{"$f":"IF(ISBLANK('Data Input'!A902),\"\",SUM('Data Input'!C902:AK902))","v":""},{"$f":"IF(E897=\"\",\"\",E897/(COUNTA('Data Input'!$C$8:$AK$8)))","v":""},{"$f":"IF(ISBLANK('Data Input'!A902),\"\",SUM('Data Input'!C902,'Data Input'!D902,'Data Input'!J902,'Data Input'!X902))","v":""},{"$f":"IF(G897=\"\",\"\",G897/COUNTIF('Data Input'!$C$8:$AK$8,\"N\"))","v":""},{"$f":"IF(ISBLANK('Data Input'!A902),\"\",SUM('Data Input'!G902,'Data Input'!I902,'Data Input'!L902,'Data Input'!N902,'Data Input'!O902,'Data Input'!S902,'Data Input'!Z902,'Data Input'!AA902,'Data Input'!AB902,'Data Input'!AC902,'Data Input'!AE902,'Data Input'!AF902,'Data Input'!AG902,'Data Input'!AI902,'Data Input'!AK902))","v":""},{"$f":"IF(I897=\"\",\"\",I897/COUNTIF('Data Input'!$C$8:$AK$8,\"C\"))","v":""},{"$f":"IF(ISBLANK('Data Input'!A902),\"\",SUM('Data Input'!T902,'Data Input'!U902))","v":""},{"$f":"IF(K897=\"\",\"\",K897/COUNTIF('Data Input'!$C$8:$AK$8,\"S\"))","v":""},{"$f":"IF(ISBLANK('Data Input'!A902),\"\",SUM('Data Input'!F902,'Data Input'!R902,'Data Input'!AJ902))","v":""},{"$f":"IF(M897=\"\",\"\",M897/COUNTIF('Data Input'!$C$8:$AK$8,\"F\"))","v":""},{"$f":"IF(ISBLANK('Data Input'!A902),\"\",SUM('Data Input'!E902,'Data Input'!M902,'Data Input'!Q902,'Data Input'!V902,'Data Input'!W902,'Data Input'!AD902,'Data Input'!AH902))","v":""},{"$f":"IF(O897=\"\",\"\",O897/COUNTIF('Data Input'!$C$8:$AK$8,\"M\"))","v":""},{"$f":"IF(ISBLANK('Data Input'!A902),\"\",SUM('Data Input'!H902,'Data Input'!K902,'Data Input'!P902,'Data Input'!Y902))","v":""},{"$f":"IF(Q897=\"\",\"\",Q897/COUNTIF('Data Input'!$C$8:$AK$8,\"G\"))","v":""}]
[{"$f":"IF('Data Input'!A903=0,\"\",'Data Input'!A903)","v":""},{"$f":"IF(ISBLANK('Data Input'!A903),\"\",COUNTIF('Data Input'!C903:AK903,\"\"))","v":""},{"$f":"IF(ISBLANK('Data Input'!A903),\"\",COUNTIF('Data Input'!C903:AK903,\"0\"))","v":""},{"$f":"IF(ISBLANK('Data Input'!A903),\"\",SUM(B898,C898))","v":""},{"$f":"IF(ISBLANK('Data Input'!A903),\"\",SUM('Data Input'!C903:AK903))","v":""},{"$f":"IF(E898=\"\",\"\",E898/(COUNTA('Data Input'!$C$8:$AK$8)))","v":""},{"$f":"IF(ISBLANK('Data Input'!A903),\"\",SUM('Data Input'!C903,'Data Input'!D903,'Data Input'!J903,'Data Input'!X903))","v":""},{"$f":"IF(G898=\"\",\"\",G898/COUNTIF('Data Input'!$C$8:$AK$8,\"N\"))","v":""},{"$f":"IF(ISBLANK('Data Input'!A903),\"\",SUM('Data Input'!G903,'Data Input'!I903,'Data Input'!L903,'Data Input'!N903,'Data Input'!O903,'Data Input'!S903,'Data Input'!Z903,'Data Input'!AA903,'Data Input'!AB903,'Data Input'!AC903,'Data Input'!AE903,'Data Input'!AF903,'Data Input'!AG903,'Data Input'!AI903,'Data Input'!AK903))","v":""},{"$f":"IF(I898=\"\",\"\",I898/COUNTIF('Data Input'!$C$8:$AK$8,\"C\"))","v":""},{"$f":"IF(ISBLANK('Data Input'!A903),\"\",SUM('Data Input'!T903,'Data Input'!U903))","v":""},{"$f":"IF(K898=\"\",\"\",K898/COUNTIF('Data Input'!$C$8:$AK$8,\"S\"))","v":""},{"$f":"IF(ISBLANK('Data Input'!A903),\"\",SUM('Data Input'!F903,'Data Input'!R903,'Data Input'!AJ903))","v":""},{"$f":"IF(M898=\"\",\"\",M898/COUNTIF('Data Input'!$C$8:$AK$8,\"F\"))","v":""},{"$f":"IF(ISBLANK('Data Input'!A903),\"\",SUM('Data Input'!E903,'Data Input'!M903,'Data Input'!Q903,'Data Input'!V903,'Data Input'!W903,'Data Input'!AD903,'Data Input'!AH903))","v":""},{"$f":"IF(O898=\"\",\"\",O898/COUNTIF('Data Input'!$C$8:$AK$8,\"M\"))","v":""},{"$f":"IF(ISBLANK('Data Input'!A903),\"\",SUM('Data Input'!H903,'Data Input'!K903,'Data Input'!P903,'Data Input'!Y903))","v":""},{"$f":"IF(Q898=\"\",\"\",Q898/COUNTIF('Data Input'!$C$8:$AK$8,\"G\"))","v":""}]
[{"$f":"IF('Data Input'!A904=0,\"\",'Data Input'!A904)","v":""},{"$f":"IF(ISBLANK('Data Input'!A904),\"\",COUNTIF('Data Input'!C904:AK904,\"\"))","v":""},{"$f":"IF(ISBLANK('Data Input'!A904),\"\",COUNTIF('Data Input'!C904:AK904,\"0\"))","v":""},{"$f":"IF(ISBLANK('Data Input'!A904),\"\",SUM(B899,C899))","v":""},{"$f":"IF(ISBLANK('Data Input'!A904),\"\",SUM('Data Input'!C904:AK904))","v":""},{"$f":"IF(E899=\"\",\"\",E899/(COUNTA('Data Input'!$C$8:$AK$8)))","v":""},{"$f":"IF(ISBLANK('Data Input'!A904),\"\",SUM('Data Input'!C904,'Data Input'!D904,'Data Input'!J904,'Data Input'!X904))","v":""},{"$f":"IF(G899=\"\",\"\",G899/COUNTIF('Data Input'!$C$8:$AK$8,\"N\"))","v":""},{"$f":"IF(ISBLANK('Data Input'!A904),\"\",SUM('Data Input'!G904,'Data Input'!I904,'Data Input'!L904,'Data Input'!N904,'Data Input'!O904,'Data Input'!S904,'Data Input'!Z904,'Data Input'!AA904,'Data Input'!AB904,'Data Input'!AC904,'Data Input'!AE904,'Data Input'!AF904,'Data Input'!AG904,'Data Input'!AI904,'Data Input'!AK904))","v":""},{"$f":"IF(I899=\"\",\"\",I899/COUNTIF('Data Input'!$C$8:$AK$8,\"C\"))","v":""},{"$f":"IF(ISBLANK('Data Input'!A904),\"\",SUM('Data Input'!T904,'Data Input'!U904))","v":""},{"$f":"IF(K899=\"\",\"\",K899/COUNTIF('Data Input'!$C$8:$AK$8,\"S\"))","v":""},{"$f":"IF(ISBLANK('Data Input'!A904),\"\",SUM('Data Input'!F904,'Data Input'!R904,'Data Input'!AJ904))","v":""},{"$f":"IF(M899=\"\",\"\",M899/COUNTIF('Data Input'!$C$8:$AK$8,\"F\"))","v":""},{"$f":"IF(ISBLANK('Data Input'!A904),\"\",SUM('Data Input'!E904,'Data Input'!M904,'Data Input'!Q904,'Data Input'!V904,'Data Input'!W904,'Data Input'!AD904,'Data Input'!AH904))","v":""},{"$f":"IF(O899=\"\",\"\",O899/COUNTIF('Data Input'!$C$8:$AK$8,\"M\"))","v":""},{"$f":"IF(ISBLANK('Data Input'!A904),\"\",SUM('Data Input'!H904,'Data Input'!K904,'Data Input'!P904,'Data Input'!Y904))","v":""},{"$f":"IF(Q899=\"\",\"\",Q899/COUNTIF('Data Input'!$C$8:$AK$8,\"G\"))","v":""}]
[{"$f":"IF('Data Input'!A905=0,\"\",'Data Input'!A905)","v":""},{"$f":"IF(ISBLANK('Data Input'!A905),\"\",COUNTIF('Data Input'!C905:AK905,\"\"))","v":""},{"$f":"IF(ISBLANK('Data Input'!A905),\"\",COUNTIF('Data Input'!C905:AK905,\"0\"))","v":""},{"$f":"IF(ISBLANK('Data Input'!A905),\"\",SUM(B900,C900))","v":""},{"$f":"IF(ISBLANK('Data Input'!A905),\"\",SUM('Data Input'!C905:AK905))","v":""},{"$f":"IF(E900=\"\",\"\",E900/(COUNTA('Data Input'!$C$8:$AK$8)))","v":""},{"$f":"IF(ISBLANK('Data Input'!A905),\"\",SUM('Data Input'!C905,'Data Input'!D905,'Data Input'!J905,'Data Input'!X905))","v":""},{"$f":"IF(G900=\"\",\"\",G900/COUNTIF('Data Input'!$C$8:$AK$8,\"N\"))","v":""},{"$f":"IF(ISBLANK('Data Input'!A905),\"\",SUM('Data Input'!G905,'Data Input'!I905,'Data Input'!L905,'Data Input'!N905,'Data Input'!O905,'Data Input'!S905,'Data Input'!Z905,'Data Input'!AA905,'Data Input'!AB905,'Data Input'!AC905,'Data Input'!AE905,'Data Input'!AF905,'Data Input'!AG905,'Data Input'!AI905,'Data Input'!AK905))","v":""},{"$f":"IF(I900=\"\",\"\",I900/COUNTIF('Data Input'!$C$8:$AK$8,\"C\"))","v":""},{"$f":"IF(ISBLANK('Data Input'!A905),\"\",SUM('Data Input'!T905,'Data Input'!U905))","v":""},{"$f":"IF(K900=\"\",\"\",K900/COUNTIF('Data Input'!$C$8:$AK$8,\"S\"))","v":""},{"$f":"IF(ISBLANK('Data Input'!A905),\"\",SUM('Data Input'!F905,'Data Input'!R905,'Data Input'!AJ905))","v":""},{"$f":"IF(M900=\"\",\"\",M900/COUNTIF('Data Input'!$C$8:$AK$8,\"F\"))","v":""},{"$f":"IF(ISBLANK('Data Input'!A905),\"\",SUM('Data Input'!E905,'Data Input'!M905,'Data Input'!Q905,'Data Input'!V905,'Data Input'!W905,'Data Input'!AD905,'Data Input'!AH905))","v":""},{"$f":"IF(O900=\"\",\"\",O900/COUNTIF('Data Input'!$C$8:$AK$8,\"M\"))","v":""},{"$f":"IF(ISBLANK('Data Input'!A905),\"\",SUM('Data Input'!H905,'Data Input'!K905,'Data Input'!P905,'Data Input'!Y905))","v":""},{"$f":"IF(Q900=\"\",\"\",Q900/COUNTIF('Data Input'!$C$8:$AK$8,\"G\"))","v":""}]
[{"$f":"IF('Data Input'!A906=0,\"\",'Data Input'!A906)","v":""},{"$f":"IF(ISBLANK('Data Input'!A906),\"\",COUNTIF('Data Input'!C906:AK906,\"\"))","v":""},{"$f":"IF(ISBLANK('Data Input'!A906),\"\",COUNTIF('Data Input'!C906:AK906,\"0\"))","v":""},{"$f":"IF(ISBLANK('Data Input'!A906),\"\",SUM(B901,C901))","v":""},{"$f":"IF(ISBLANK('Data Input'!A906),\"\",SUM('Data Input'!C906:AK906))","v":""},{"$f":"IF(E901=\"\",\"\",E901/(COUNTA('Data Input'!$C$8:$AK$8)))","v":""},{"$f":"IF(ISBLANK('Data Input'!A906),\"\",SUM('Data Input'!C906,'Data Input'!D906,'Data Input'!J906,'Data Input'!X906))","v":""},{"$f":"IF(G901=\"\",\"\",G901/COUNTIF('Data Input'!$C$8:$AK$8,\"N\"))","v":""},{"$f":"IF(ISBLANK('Data Input'!A906),\"\",SUM('Data Input'!G906,'Data Input'!I906,'Data Input'!L906,'Data Input'!N906,'Data Input'!O906,'Data Input'!S906,'Data Input'!Z906,'Data Input'!AA906,'Data Input'!AB906,'Data Input'!AC906,'Data Input'!AE906,'Data Input'!AF906,'Data Input'!AG906,'Data Input'!AI906,'Data Input'!AK906))","v":""},{"$f":"IF(I901=\"\",\"\",I901/COUNTIF('Data Input'!$C$8:$AK$8,\"C\"))","v":""},{"$f":"IF(ISBLANK('Data Input'!A906),\"\",SUM('Data Input'!T906,'Data Input'!U906))","v":""},{"$f":"IF(K901=\"\",\"\",K901/COUNTIF('Data Input'!$C$8:$AK$8,\"S\"))","v":""},{"$f":"IF(ISBLANK('Data Input'!A906),\"\",SUM('Data Input'!F906,'Data Input'!R906,'Data Input'!AJ906))","v":""},{"$f":"IF(M901=\"\",\"\",M901/COUNTIF('Data Input'!$C$8:$AK$8,\"F\"))","v":""},{"$f":"IF(ISBLANK('Data Input'!A906),\"\",SUM('Data Input'!E906,'Data Input'!M906,'Data Input'!Q906,'Data Input'!V906,'Data Input'!W906,'Data Input'!AD906,'Data Input'!AH906))","v":""},{"$f":"IF(O901=\"\",\"\",O901/COUNTIF('Data Input'!$C$8:$AK$8,\"M\"))","v":""},{"$f":"IF(ISBLANK('Data Input'!A906),\"\",SUM('Data Input'!H906,'Data Input'!K906,'Data Input'!P906,'Data Input'!Y906))","v":""},{"$f":"IF(Q901=\"\",\"\",Q901/COUNTIF('Data Input'!$C$8:$AK$8,\"G\"))","v":""}]
[{"$f":"IF('Data Input'!A907=0,\"\",'Data Input'!A907)","v":""},{"$f":"IF(ISBLANK('Data Input'!A907),\"\",COUNTIF('Data Input'!C907:AK907,\"\"))","v":""},{"$f":"IF(ISBLANK('Data Input'!A907),\"\",COUNTIF('Data Input'!C907:AK907,\"0\"))","v":""},{"$f":"IF(ISBLANK('Data Input'!A907),\"\",SUM(B902,C902))","v":""},{"$f":"IF(ISBLANK('Data Input'!A907),\"\",SUM('Data Input'!C907:AK907))","v":""},{"$f":"IF(E902=\"\",\"\",E902/(COUNTA('Data Input'!$C$8:$AK$8)))","v":""},{"$f":"IF(ISBLANK('Data Input'!A907),\"\",SUM('Data Input'!C907,'Data Input'!D907,'Data Input'!J907,'Data Input'!X907))","v":""},{"$f":"IF(G902=\"\",\"\",G902/COUNTIF('Data Input'!$C$8:$AK$8,\"N\"))","v":""},{"$f":"IF(ISBLANK('Data Input'!A907),\"\",SUM('Data Input'!G907,'Data Input'!I907,'Data Input'!L907,'Data Input'!N907,'Data Input'!O907,'Data Input'!S907,'Data Input'!Z907,'Data Input'!AA907,'Data Input'!AB907,'Data Input'!AC907,'Data Input'!AE907,'Data Input'!AF907,'Data Input'!AG907,'Data Input'!AI907,'Data Input'!AK907))","v":""},{"$f":"IF(I902=\"\",\"\",I902/COUNTIF('Data Input'!$C$8:$AK$8,\"C\"))","v":""},{"$f":"IF(ISBLANK('Data Input'!A907),\"\",SUM('Data Input'!T907,'Data Input'!U907))","v":""},{"$f":"IF(K902=\"\",\"\",K902/COUNTIF('Data Input'!$C$8:$AK$8,\"S\"))","v":""},{"$f":"IF(ISBLANK('Data Input'!A907),\"\",SUM('Data Input'!F907,'Data Input'!R907,'Data Input'!AJ907))","v":""},{"$f":"IF(M902=\"\",\"\",M902/COUNTIF('Data Input'!$C$8:$AK$8,\"F\"))","v":""},{"$f":"IF(ISBLANK('Data Input'!A907),\"\",SUM('Data Input'!E907,'Data Input'!M907,'Data Input'!Q907,'Data Input'!V907,'Data Input'!W907,'Data Input'!AD907,'Data Input'!AH907))","v":""},{"$f":"IF(O902=\"\",\"\",O902/COUNTIF('Data Input'!$C$8:$AK$8,\"M\"))","v":""},{"$f":"IF(ISBLANK('Data Input'!A907),\"\",SUM('Data Input'!H907,'Data Input'!K907,'Data Input'!P907,'Data Input'!Y907))","v":""},{"$f":"IF(Q902=\"\",\"\",Q902/COUNTIF('Data Input'!$C$8:$AK$8,\"G\"))","v":""}]
[{"$f":"IF('Data Input'!A908=0,\"\",'Data Input'!A908)","v":""},{"$f":"IF(ISBLANK('Data Input'!A908),\"\",COUNTIF('Data Input'!C908:AK908,\"\"))","v":""},{"$f":"IF(ISBLANK('Data Input'!A908),\"\",COUNTIF('Data Input'!C908:AK908,\"0\"))","v":""},{"$f":"IF(ISBLANK('Data Input'!A908),\"\",SUM(B903,C903))","v":""},{"$f":"IF(ISBLANK('Data Input'!A908),\"\",SUM('Data Input'!C908:AK908))","v":""},{"$f":"IF(E903=\"\",\"\",E903/(COUNTA('Data Input'!$C$8:$AK$8)))","v":""},{"$f":"IF(ISBLANK('Data Input'!A908),\"\",SUM('Data Input'!C908,'Data Input'!D908,'Data Input'!J908,'Data Input'!X908))","v":""},{"$f":"IF(G903=\"\",\"\",G903/COUNTIF('Data Input'!$C$8:$AK$8,\"N\"))","v":""},{"$f":"IF(ISBLANK('Data Input'!A908),\"\",SUM('Data Input'!G908,'Data Input'!I908,'Data Input'!L908,'Data Input'!N908,'Data Input'!O908,'Data Input'!S908,'Data Input'!Z908,'Data Input'!AA908,'Data Input'!AB908,'Data Input'!AC908,'Data Input'!AE908,'Data Input'!AF908,'Data Input'!AG908,'Data Input'!AI908,'Data Input'!AK908))","v":""},{"$f":"IF(I903=\"\",\"\",I903/COUNTIF('Data Input'!$C$8:$AK$8,\"C\"))","v":""},{"$f":"IF(ISBLANK('Data Input'!A908),\"\",SUM('Data Input'!T908,'Data Input'!U908))","v":""},{"$f":"IF(K903=\"\",\"\",K903/COUNTIF('Data Input'!$C$8:$AK$8,\"S\"))","v":""},{"$f":"IF(ISBLANK('Data Input'!A908),\"\",SUM('Data Input'!F908,'Data Input'!R908,'Data Input'!AJ908))","v":""},{"$f":"IF(M903=\"\",\"\",M903/COUNTIF('Data Input'!$C$8:$AK$8,\"F\"))","v":""},{"$f":"IF(ISBLANK('Data Input'!A908),\"\",SUM('Data Input'!E908,'Data Input'!M908,'Data Input'!Q908,'Data Input'!V908,'Data Input'!W908,'Data Input'!AD908,'Data Input'!AH908))","v":""},{"$f":"IF(O903=\"\",\"\",O903/COUNTIF('Data Input'!$C$8:$AK$8,\"M\"))","v":""},{"$f":"IF(ISBLANK('Data Input'!A908),\"\",SUM('Data Input'!H908,'Data Input'!K908,'Data Input'!P908,'Data Input'!Y908))","v":""},{"$f":"IF(Q903=\"\",\"\",Q903/COUNTIF('Data Input'!$C$8:$AK$8,\"G\"))","v":""}]
[{"$f":"IF('Data Input'!A909=0,\"\",'Data Input'!A909)","v":""},{"$f":"IF(ISBLANK('Data Input'!A909),\"\",COUNTIF('Data Input'!C909:AK909,\"\"))","v":""},{"$f":"IF(ISBLANK('Data Input'!A909),\"\",COUNTIF('Data Input'!C909:AK909,\"0\"))","v":""},{"$f":"IF(ISBLANK('Data Input'!A909),\"\",SUM(B904,C904))","v":""},{"$f":"IF(ISBLANK('Data Input'!A909),\"\",SUM('Data Input'!C909:AK909))","v":""},{"$f":"IF(E904=\"\",\"\",E904/(COUNTA('Data Input'!$C$8:$AK$8)))","v":""},{"$f":"IF(ISBLANK('Data Input'!A909),\"\",SUM('Data Input'!C909,'Data Input'!D909,'Data Input'!J909,'Data Input'!X909))","v":""},{"$f":"IF(G904=\"\",\"\",G904/COUNTIF('Data Input'!$C$8:$AK$8,\"N\"))","v":""},{"$f":"IF(ISBLANK('Data Input'!A909),\"\",SUM('Data Input'!G909,'Data Input'!I909,'Data Input'!L909,'Data Input'!N909,'Data Input'!O909,'Data Input'!S909,'Data Input'!Z909,'Data Input'!AA909,'Data Input'!AB909,'Data Input'!AC909,'Data Input'!AE909,'Data Input'!AF909,'Data Input'!AG909,'Data Input'!AI909,'Data Input'!AK909))","v":""},{"$f":"IF(I904=\"\",\"\",I904/COUNTIF('Data Input'!$C$8:$AK$8,\"C\"))","v":""},{"$f":"IF(ISBLANK('Data Input'!A909),\"\",SUM('Data Input'!T909,'Data Input'!U909))","v":""},{"$f":"IF(K904=\"\",\"\",K904/COUNTIF('Data Input'!$C$8:$AK$8,\"S\"))","v":""},{"$f":"IF(ISBLANK('Data Input'!A909),\"\",SUM('Data Input'!F909,'Data Input'!R909,'Data Input'!AJ909))","v":""},{"$f":"IF(M904=\"\",\"\",M904/COUNTIF('Data Input'!$C$8:$AK$8,\"F\"))","v":""},{"$f":"IF(ISBLANK('Data Input'!A909),\"\",SUM('Data Input'!E909,'Data Input'!M909,'Data Input'!Q909,'Data Input'!V909,'Data Input'!W909,'Data Input'!AD909,'Data Input'!AH909))","v":""},{"$f":"IF(O904=\"\",\"\",O904/COUNTIF('Data Input'!$C$8:$AK$8,\"M\"))","v":""},{"$f":"IF(ISBLANK('Data Input'!A909),\"\",SUM('Data Input'!H909,'Data Input'!K909,'Data Input'!P909,'Data Input'!Y909))","v":""},{"$f":"IF(Q904=\"\",\"\",Q904/COUNTIF('Data Input'!$C$8:$AK$8,\"G\"))","v":""}]
[{"$f":"IF('Data Input'!A910=0,\"\",'Data Input'!A910)","v":""},{"$f":"IF(ISBLANK('Data Input'!A910),\"\",COUNTIF('Data Input'!C910:AK910,\"\"))","v":""},{"$f":"IF(ISBLANK('Data Input'!A910),\"\",COUNTIF('Data Input'!C910:AK910,\"0\"))","v":""},{"$f":"IF(ISBLANK('Data Input'!A910),\"\",SUM(B905,C905))","v":""},{"$f":"IF(ISBLANK('Data Input'!A910),\"\",SUM('Data Input'!C910:AK910))","v":""},{"$f":"IF(E905=\"\",\"\",E905/(COUNTA('Data Input'!$C$8:$AK$8)))","v":""},{"$f":"IF(ISBLANK('Data Input'!A910),\"\",SUM('Data Input'!C910,'Data Input'!D910,'Data Input'!J910,'Data Input'!X910))","v":""},{"$f":"IF(G905=\"\",\"\",G905/COUNTIF('Data Input'!$C$8:$AK$8,\"N\"))","v":""},{"$f":"IF(ISBLANK('Data Input'!A910),\"\",SUM('Data Input'!G910,'Data Input'!I910,'Data Input'!L910,'Data Input'!N910,'Data Input'!O910,'Data Input'!S910,'Data Input'!Z910,'Data Input'!AA910,'Data Input'!AB910,'Data Input'!AC910,'Data Input'!AE910,'Data Input'!AF910,'Data Input'!AG910,'Data Input'!AI910,'Data Input'!AK910))","v":""},{"$f":"IF(I905=\"\",\"\",I905/COUNTIF('Data Input'!$C$8:$AK$8,\"C\"))","v":""},{"$f":"IF(ISBLANK('Data Input'!A910),\"\",SUM('Data Input'!T910,'Data Input'!U910))","v":""},{"$f":"IF(K905=\"\",\"\",K905/COUNTIF('Data Input'!$C$8:$AK$8,\"S\"))","v":""},{"$f":"IF(ISBLANK('Data Input'!A910),\"\",SUM('Data Input'!F910,'Data Input'!R910,'Data Input'!AJ910))","v":""},{"$f":"IF(M905=\"\",\"\",M905/COUNTIF('Data Input'!$C$8:$AK$8,\"F\"))","v":""},{"$f":"IF(ISBLANK('Data Input'!A910),\"\",SUM('Data Input'!E910,'Data Input'!M910,'Data Input'!Q910,'Data Input'!V910,'Data Input'!W910,'Data Input'!AD910,'Data Input'!AH910))","v":""},{"$f":"IF(O905=\"\",\"\",O905/COUNTIF('Data Input'!$C$8:$AK$8,\"M\"))","v":""},{"$f":"IF(ISBLANK('Data Input'!A910),\"\",SUM('Data Input'!H910,'Data Input'!K910,'Data Input'!P910,'Data Input'!Y910))","v":""},{"$f":"IF(Q905=\"\",\"\",Q905/COUNTIF('Data Input'!$C$8:$AK$8,\"G\"))","v":""}]
[{"$f":"IF('Data Input'!A911=0,\"\",'Data Input'!A911)","v":""},{"$f":"IF(ISBLANK('Data Input'!A911),\"\",COUNTIF('Data Input'!C911:AK911,\"\"))","v":""},{"$f":"IF(ISBLANK('Data Input'!A911),\"\",COUNTIF('Data Input'!C911:AK911,\"0\"))","v":""},{"$f":"IF(ISBLANK('Data Input'!A911),\"\",SUM(B906,C906))","v":""},{"$f":"IF(ISBLANK('Data Input'!A911),\"\",SUM('Data Input'!C911:AK911))","v":""},{"$f":"IF(E906=\"\",\"\",E906/(COUNTA('Data Input'!$C$8:$AK$8)))","v":""},{"$f":"IF(ISBLANK('Data Input'!A911),\"\",SUM('Data Input'!C911,'Data Input'!D911,'Data Input'!J911,'Data Input'!X911))","v":""},{"$f":"IF(G906=\"\",\"\",G906/COUNTIF('Data Input'!$C$8:$AK$8,\"N\"))","v":""},{"$f":"IF(ISBLANK('Data Input'!A911),\"\",SUM('Data Input'!G911,'Data Input'!I911,'Data Input'!L911,'Data Input'!N911,'Data Input'!O911,'Data Input'!S911,'Data Input'!Z911,'Data Input'!AA911,'Data Input'!AB911,'Data Input'!AC911,'Data Input'!AE911,'Data Input'!AF911,'Data Input'!AG911,'Data Input'!AI911,'Data Input'!AK911))","v":""},{"$f":"IF(I906=\"\",\"\",I906/COUNTIF('Data Input'!$C$8:$AK$8,\"C\"))","v":""},{"$f":"IF(ISBLANK('Data Input'!A911),\"\",SUM('Data Input'!T911,'Data Input'!U911))","v":""},{"$f":"IF(K906=\"\",\"\",K906/COUNTIF('Data Input'!$C$8:$AK$8,\"S\"))","v":""},{"$f":"IF(ISBLANK('Data Input'!A911),\"\",SUM('Data Input'!F911,'Data Input'!R911,'Data Input'!AJ911))","v":""},{"$f":"IF(M906=\"\",\"\",M906/COUNTIF('Data Input'!$C$8:$AK$8,\"F\"))","v":""},{"$f":"IF(ISBLANK('Data Input'!A911),\"\",SUM('Data Input'!E911,'Data Input'!M911,'Data Input'!Q911,'Data Input'!V911,'Data Input'!W911,'Data Input'!AD911,'Data Input'!AH911))","v":""},{"$f":"IF(O906=\"\",\"\",O906/COUNTIF('Data Input'!$C$8:$AK$8,\"M\"))","v":""},{"$f":"IF(ISBLANK('Data Input'!A911),\"\",SUM('Data Input'!H911,'Data Input'!K911,'Data Input'!P911,'Data Input'!Y911))","v":""},{"$f":"IF(Q906=\"\",\"\",Q906/COUNTIF('Data Input'!$C$8:$AK$8,\"G\"))","v":""}]
[{"$f":"IF('Data Input'!A912=0,\"\",'Data Input'!A912)","v":""},{"$f":"IF(ISBLANK('Data Input'!A912),\"\",COUNTIF('Data Input'!C912:AK912,\"\"))","v":""},{"$f":"IF(ISBLANK('Data Input'!A912),\"\",COUNTIF('Data Input'!C912:AK912,\"0\"))","v":""},{"$f":"IF(ISBLANK('Data Input'!A912),\"\",SUM(B907,C907))","v":""},{"$f":"IF(ISBLANK('Data Input'!A912),\"\",SUM('Data Input'!C912:AK912))","v":""},{"$f":"IF(E907=\"\",\"\",E907/(COUNTA('Data Input'!$C$8:$AK$8)))","v":""},{"$f":"IF(ISBLANK('Data Input'!A912),\"\",SUM('Data Input'!C912,'Data Input'!D912,'Data Input'!J912,'Data Input'!X912))","v":""},{"$f":"IF(G907=\"\",\"\",G907/COUNTIF('Data Input'!$C$8:$AK$8,\"N\"))","v":""},{"$f":"IF(ISBLANK('Data Input'!A912),\"\",SUM('Data Input'!G912,'Data Input'!I912,'Data Input'!L912,'Data Input'!N912,'Data Input'!O912,'Data Input'!S912,'Data Input'!Z912,'Data Input'!AA912,'Data Input'!AB912,'Data Input'!AC912,'Data Input'!AE912,'Data Input'!AF912,'Data Input'!AG912,'Data Input'!AI912,'Data Input'!AK912))","v":""},{"$f":"IF(I907=\"\",\"\",I907/COUNTIF('Data Input'!$C$8:$AK$8,\"C\"))","v":""},{"$f":"IF(ISBLANK('Data Input'!A912),\"\",SUM('Data Input'!T912,'Data Input'!U912))","v":""},{"$f":"IF(K907=\"\",\"\",K907/COUNTIF('Data Input'!$C$8:$AK$8,\"S\"))","v":""},{"$f":"IF(ISBLANK('Data Input'!A912),\"\",SUM('Data Input'!F912,'Data Input'!R912,'Data Input'!AJ912))","v":""},{"$f":"IF(M907=\"\",\"\",M907/COUNTIF('Data Input'!$C$8:$AK$8,\"F\"))","v":""},{"$f":"IF(ISBLANK('Data Input'!A912),\"\",SUM('Data Input'!E912,'Data Input'!M912,'Data Input'!Q912,'Data Input'!V912,'Data Input'!W912,'Data Input'!AD912,'Data Input'!AH912))","v":""},{"$f":"IF(O907=\"\",\"\",O907/COUNTIF('Data Input'!$C$8:$AK$8,\"M\"))","v":""},{"$f":"IF(ISBLANK('Data Input'!A912),\"\",SUM('Data Input'!H912,'Data Input'!K912,'Data Input'!P912,'Data Input'!Y912))","v":""},{"$f":"IF(Q907=\"\",\"\",Q907/COUNTIF('Data Input'!$C$8:$AK$8,\"G\"))","v":""}]
[{"$f":"IF('Data Input'!A913=0,\"\",'Data Input'!A913)","v":""},{"$f":"IF(ISBLANK('Data Input'!A913),\"\",COUNTIF('Data Input'!C913:AK913,\"\"))","v":""},{"$f":"IF(ISBLANK('Data Input'!A913),\"\",COUNTIF('Data Input'!C913:AK913,\"0\"))","v":""},{"$f":"IF(ISBLANK('Data Input'!A913),\"\",SUM(B908,C908))","v":""},{"$f":"IF(ISBLANK('Data Input'!A913),\"\",SUM('Data Input'!C913:AK913))","v":""},{"$f":"IF(E908=\"\",\"\",E908/(COUNTA('Data Input'!$C$8:$AK$8)))","v":""},{"$f":"IF(ISBLANK('Data Input'!A913),\"\",SUM('Data Input'!C913,'Data Input'!D913,'Data Input'!J913,'Data Input'!X913))","v":""},{"$f":"IF(G908=\"\",\"\",G908/COUNTIF('Data Input'!$C$8:$AK$8,\"N\"))","v":""},{"$f":"IF(ISBLANK('Data Input'!A913),\"\",SUM('Data Input'!G913,'Data Input'!I913,'Data Input'!L913,'Data Input'!N913,'Data Input'!O913,'Data Input'!S913,'Data Input'!Z913,'Data Input'!AA913,'Data Input'!AB913,'Data Input'!AC913,'Data Input'!AE913,'Data Input'!AF913,'Data Input'!AG913,'Data Input'!AI913,'Data Input'!AK913))","v":""},{"$f":"IF(I908=\"\",\"\",I908/COUNTIF('Data Input'!$C$8:$AK$8,\"C\"))","v":""},{"$f":"IF(ISBLANK('Data Input'!A913),\"\",SUM('Data Input'!T913,'Data Input'!U913))","v":""},{"$f":"IF(K908=\"\",\"\",K908/COUNTIF('Data Input'!$C$8:$AK$8,\"S\"))","v":""},{"$f":"IF(ISBLANK('Data Input'!A913),\"\",SUM('Data Input'!F913,'Data Input'!R913,'Data Input'!AJ913))","v":""},{"$f":"IF(M908=\"\",\"\",M908/COUNTIF('Data Input'!$C$8:$AK$8,\"F\"))","v":""},{"$f":"IF(ISBLANK('Data Input'!A913),\"\",SUM('Data Input'!E913,'Data Input'!M913,'Data Input'!Q913,'Data Input'!V913,'Data Input'!W913,'Data Input'!AD913,'Data Input'!AH913))","v":""},{"$f":"IF(O908=\"\",\"\",O908/COUNTIF('Data Input'!$C$8:$AK$8,\"M\"))","v":""},{"$f":"IF(ISBLANK('Data Input'!A913),\"\",SUM('Data Input'!H913,'Data Input'!K913,'Data Input'!P913,'Data Input'!Y913))","v":""},{"$f":"IF(Q908=\"\",\"\",Q908/COUNTIF('Data Input'!$C$8:$AK$8,\"G\"))","v":""}]
[{"$f":"IF('Data Input'!A914=0,\"\",'Data Input'!A914)","v":""},{"$f":"IF(ISBLANK('Data Input'!A914),\"\",COUNTIF('Data Input'!C914:AK914,\"\"))","v":""},{"$f":"IF(ISBLANK('Data Input'!A914),\"\",COUNTIF('Data Input'!C914:AK914,\"0\"))","v":""},{"$f":"IF(ISBLANK('Data Input'!A914),\"\",SUM(B909,C909))","v":""},{"$f":"IF(ISBLANK('Data Input'!A914),\"\",SUM('Data Input'!C914:AK914))","v":""},{"$f":"IF(E909=\"\",\"\",E909/(COUNTA('Data Input'!$C$8:$AK$8)))","v":""},{"$f":"IF(ISBLANK('Data Input'!A914),\"\",SUM('Data Input'!C914,'Data Input'!D914,'Data Input'!J914,'Data Input'!X914))","v":""},{"$f":"IF(G909=\"\",\"\",G909/COUNTIF('Data Input'!$C$8:$AK$8,\"N\"))","v":""},{"$f":"IF(ISBLANK('Data Input'!A914),\"\",SUM('Data Input'!G914,'Data Input'!I914,'Data Input'!L914,'Data Input'!N914,'Data Input'!O914,'Data Input'!S914,'Data Input'!Z914,'Data Input'!AA914,'Data Input'!AB914,'Data Input'!AC914,'Data Input'!AE914,'Data Input'!AF914,'Data Input'!AG914,'Data Input'!AI914,'Data Input'!AK914))","v":""},{"$f":"IF(I909=\"\",\"\",I909/COUNTIF('Data Input'!$C$8:$AK$8,\"C\"))","v":""},{"$f":"IF(ISBLANK('Data Input'!A914),\"\",SUM('Data Input'!T914,'Data Input'!U914))","v":""},{"$f":"IF(K909=\"\",\"\",K909/COUNTIF('Data Input'!$C$8:$AK$8,\"S\"))","v":""},{"$f":"IF(ISBLANK('Data Input'!A914),\"\",SUM('Data Input'!F914,'Data Input'!R914,'Data Input'!AJ914))","v":""},{"$f":"IF(M909=\"\",\"\",M909/COUNTIF('Data Input'!$C$8:$AK$8,\"F\"))","v":""},{"$f":"IF(ISBLANK('Data Input'!A914),\"\",SUM('Data Input'!E914,'Data Input'!M914,'Data Input'!Q914,'Data Input'!V914,'Data Input'!W914,'Data Input'!AD914,'Data Input'!AH914))","v":""},{"$f":"IF(O909=\"\",\"\",O909/COUNTIF('Data Input'!$C$8:$AK$8,\"M\"))","v":""},{"$f":"IF(ISBLANK('Data Input'!A914),\"\",SUM('Data Input'!H914,'Data Input'!K914,'Data Input'!P914,'Data Input'!Y914))","v":""},{"$f":"IF(Q909=\"\",\"\",Q909/COUNTIF('Data Input'!$C$8:$AK$8,\"G\"))","v":""}]
[{"$f":"IF('Data Input'!A915=0,\"\",'Data Input'!A915)","v":""},{"$f":"IF(ISBLANK('Data Input'!A915),\"\",COUNTIF('Data Input'!C915:AK915,\"\"))","v":""},{"$f":"IF(ISBLANK('Data Input'!A915),\"\",COUNTIF('Data Input'!C915:AK915,\"0\"))","v":""},{"$f":"IF(ISBLANK('Data Input'!A915),\"\",SUM(B910,C910))","v":""},{"$f":"IF(ISBLANK('Data Input'!A915),\"\",SUM('Data Input'!C915:AK915))","v":""},{"$f":"IF(E910=\"\",\"\",E910/(COUNTA('Data Input'!$C$8:$AK$8)))","v":""},{"$f":"IF(ISBLANK('Data Input'!A915),\"\",SUM('Data Input'!C915,'Data Input'!D915,'Data Input'!J915,'Data Input'!X915))","v":""},{"$f":"IF(G910=\"\",\"\",G910/COUNTIF('Data Input'!$C$8:$AK$8,\"N\"))","v":""},{"$f":"IF(ISBLANK('Data Input'!A915),\"\",SUM('Data Input'!G915,'Data Input'!I915,'Data Input'!L915,'Data Input'!N915,'Data Input'!O915,'Data Input'!S915,'Data Input'!Z915,'Data Input'!AA915,'Data Input'!AB915,'Data Input'!AC915,'Data Input'!AE915,'Data Input'!AF915,'Data Input'!AG915,'Data Input'!AI915,'Data Input'!AK915))","v":""},{"$f":"IF(I910=\"\",\"\",I910/COUNTIF('Data Input'!$C$8:$AK$8,\"C\"))","v":""},{"$f":"IF(ISBLANK('Data Input'!A915),\"\",SUM('Data Input'!T915,'Data Input'!U915))","v":""},{"$f":"IF(K910=\"\",\"\",K910/COUNTIF('Data Input'!$C$8:$AK$8,\"S\"))","v":""},{"$f":"IF(ISBLANK('Data Input'!A915),\"\",SUM('Data Input'!F915,'Data Input'!R915,'Data Input'!AJ915))","v":""},{"$f":"IF(M910=\"\",\"\",M910/COUNTIF('Data Input'!$C$8:$AK$8,\"F\"))","v":""},{"$f":"IF(ISBLANK('Data Input'!A915),\"\",SUM('Data Input'!E915,'Data Input'!M915,'Data Input'!Q915,'Data Input'!V915,'Data Input'!W915,'Data Input'!AD915,'Data Input'!AH915))","v":""},{"$f":"IF(O910=\"\",\"\",O910/COUNTIF('Data Input'!$C$8:$AK$8,\"M\"))","v":""},{"$f":"IF(ISBLANK('Data Input'!A915),\"\",SUM('Data Input'!H915,'Data Input'!K915,'Data Input'!P915,'Data Input'!Y915))","v":""},{"$f":"IF(Q910=\"\",\"\",Q910/COUNTIF('Data Input'!$C$8:$AK$8,\"G\"))","v":""}]
[{"$f":"IF('Data Input'!A916=0,\"\",'Data Input'!A916)","v":""},{"$f":"IF(ISBLANK('Data Input'!A916),\"\",COUNTIF('Data Input'!C916:AK916,\"\"))","v":""},{"$f":"IF(ISBLANK('Data Input'!A916),\"\",COUNTIF('Data Input'!C916:AK916,\"0\"))","v":""},{"$f":"IF(ISBLANK('Data Input'!A916),\"\",SUM(B911,C911))","v":""},{"$f":"IF(ISBLANK('Data Input'!A916),\"\",SUM('Data Input'!C916:AK916))","v":""},{"$f":"IF(E911=\"\",\"\",E911/(COUNTA('Data Input'!$C$8:$AK$8)))","v":""},{"$f":"IF(ISBLANK('Data Input'!A916),\"\",SUM('Data Input'!C916,'Data Input'!D916,'Data Input'!J916,'Data Input'!X916))","v":""},{"$f":"IF(G911=\"\",\"\",G911/COUNTIF('Data Input'!$C$8:$AK$8,\"N\"))","v":""},{"$f":"IF(ISBLANK('Data Input'!A916),\"\",SUM('Data Input'!G916,'Data Input'!I916,'Data Input'!L916,'Data Input'!N916,'Data Input'!O916,'Data Input'!S916,'Data Input'!Z916,'Data Input'!AA916,'Data Input'!AB916,'Data Input'!AC916,'Data Input'!AE916,'Data Input'!AF916,'Data Input'!AG916,'Data Input'!AI916,'Data Input'!AK916))","v":""},{"$f":"IF(I911=\"\",\"\",I911/COUNTIF('Data Input'!$C$8:$AK$8,\"C\"))","v":""},{"$f":"IF(ISBLANK('Data Input'!A916),\"\",SUM('Data Input'!T916,'Data Input'!U916))","v":""},{"$f":"IF(K911=\"\",\"\",K911/COUNTIF('Data Input'!$C$8:$AK$8,\"S\"))","v":""},{"$f":"IF(ISBLANK('Data Input'!A916),\"\",SUM('Data Input'!F916,'Data Input'!R916,'Data Input'!AJ916))","v":""},{"$f":"IF(M911=\"\",\"\",M911/COUNTIF('Data Input'!$C$8:$AK$8,\"F\"))","v":""},{"$f":"IF(ISBLANK('Data Input'!A916),\"\",SUM('Data Input'!E916,'Data Input'!M916,'Data Input'!Q916,'Data Input'!V916,'Data Input'!W916,'Data Input'!AD916,'Data Input'!AH916))","v":""},{"$f":"IF(O911=\"\",\"\",O911/COUNTIF('Data Input'!$C$8:$AK$8,\"M\"))","v":""},{"$f":"IF(ISBLANK('Data Input'!A916),\"\",SUM('Data Input'!H916,'Data Input'!K916,'Data Input'!P916,'Data Input'!Y916))","v":""},{"$f":"IF(Q911=\"\",\"\",Q911/COUNTIF('Data Input'!$C$8:$AK$8,\"G\"))","v":""}]
[{"$f":"IF('Data Input'!A917=0,\"\",'Data Input'!A917)","v":""},{"$f":"IF(ISBLANK('Data Input'!A917),\"\",COUNTIF('Data Input'!C917:AK917,\"\"))","v":""},{"$f":"IF(ISBLANK('Data Input'!A917),\"\",COUNTIF('Data Input'!C917:AK917,\"0\"))","v":""},{"$f":"IF(ISBLANK('Data Input'!A917),\"\",SUM(B912,C912))","v":""},{"$f":"IF(ISBLANK('Data Input'!A917),\"\",SUM('Data Input'!C917:AK917))","v":""},{"$f":"IF(E912=\"\",\"\",E912/(COUNTA('Data Input'!$C$8:$AK$8)))","v":""},{"$f":"IF(ISBLANK('Data Input'!A917),\"\",SUM('Data Input'!C917,'Data Input'!D917,'Data Input'!J917,'Data Input'!X917))","v":""},{"$f":"IF(G912=\"\",\"\",G912/COUNTIF('Data Input'!$C$8:$AK$8,\"N\"))","v":""},{"$f":"IF(ISBLANK('Data Input'!A917),\"\",SUM('Data Input'!G917,'Data Input'!I917,'Data Input'!L917,'Data Input'!N917,'Data Input'!O917,'Data Input'!S917,'Data Input'!Z917,'Data Input'!AA917,'Data Input'!AB917,'Data Input'!AC917,'Data Input'!AE917,'Data Input'!AF917,'Data Input'!AG917,'Data Input'!AI917,'Data Input'!AK917))","v":""},{"$f":"IF(I912=\"\",\"\",I912/COUNTIF('Data Input'!$C$8:$AK$8,\"C\"))","v":""},{"$f":"IF(ISBLANK('Data Input'!A917),\"\",SUM('Data Input'!T917,'Data Input'!U917))","v":""},{"$f":"IF(K912=\"\",\"\",K912/COUNTIF('Data Input'!$C$8:$AK$8,\"S\"))","v":""},{"$f":"IF(ISBLANK('Data Input'!A917),\"\",SUM('Data Input'!F917,'Data Input'!R917,'Data Input'!AJ917))","v":""},{"$f":"IF(M912=\"\",\"\",M912/COUNTIF('Data Input'!$C$8:$AK$8,\"F\"))","v":""},{"$f":"IF(ISBLANK('Data Input'!A917),\"\",SUM('Data Input'!E917,'Data Input'!M917,'Data Input'!Q917,'Data Input'!V917,'Data Input'!W917,'Data Input'!AD917,'Data Input'!AH917))","v":""},{"$f":"IF(O912=\"\",\"\",O912/COUNTIF('Data Input'!$C$8:$AK$8,\"M\"))","v":""},{"$f":"IF(ISBLANK('Data Input'!A917),\"\",SUM('Data Input'!H917,'Data Input'!K917,'Data Input'!P917,'Data Input'!Y917))","v":""},{"$f":"IF(Q912=\"\",\"\",Q912/COUNTIF('Data Input'!$C$8:$AK$8,\"G\"))","v":""}]
[{"$f":"IF('Data Input'!A918=0,\"\",'Data Input'!A918)","v":""},{"$f":"IF(ISBLANK('Data Input'!A918),\"\",COUNTIF('Data Input'!C918:AK918,\"\"))","v":""},{"$f":"IF(ISBLANK('Data Input'!A918),\"\",COUNTIF('Data Input'!C918:AK918,\"0\"))","v":""},{"$f":"IF(ISBLANK('Data Input'!A918),\"\",SUM(B913,C913))","v":""},{"$f":"IF(ISBLANK('Data Input'!A918),\"\",SUM('Data Input'!C918:AK918))","v":""},{"$f":"IF(E913=\"\",\"\",E913/(COUNTA('Data Input'!$C$8:$AK$8)))","v":""},{"$f":"IF(ISBLANK('Data Input'!A918),\"\",SUM('Data Input'!C918,'Data Input'!D918,'Data Input'!J918,'Data Input'!X918))","v":""},{"$f":"IF(G913=\"\",\"\",G913/COUNTIF('Data Input'!$C$8:$AK$8,\"N\"))","v":""},{"$f":"IF(ISBLANK('Data Input'!A918),\"\",SUM('Data Input'!G918,'Data Input'!I918,'Data Input'!L918,'Data Input'!N918,'Data Input'!O918,'Data Input'!S918,'Data Input'!Z918,'Data Input'!AA918,'Data Input'!AB918,'Data Input'!AC918,'Data Input'!AE918,'Data Input'!AF918,'Data Input'!AG918,'Data Input'!AI918,'Data Input'!AK918))","v":""},{"$f":"IF(I913=\"\",\"\",I913/COUNTIF('Data Input'!$C$8:$AK$8,\"C\"))","v":""},{"$f":"IF(ISBLANK('Data Input'!A918),\"\",SUM('Data Input'!T918,'Data Input'!U918))","v":""},{"$f":"IF(K913=\"\",\"\",K913/COUNTIF('Data Input'!$C$8:$AK$8,\"S\"))","v":""},{"$f":"IF(ISBLANK('Data Input'!A918),\"\",SUM('Data Input'!F918,'Data Input'!R918,'Data Input'!AJ918))","v":""},{"$f":"IF(M913=\"\",\"\",M913/COUNTIF('Data Input'!$C$8:$AK$8,\"F\"))","v":""},{"$f":"IF(ISBLANK('Data Input'!A918),\"\",SUM('Data Input'!E918,'Data Input'!M918,'Data Input'!Q918,'Data Input'!V918,'Data Input'!W918,'Data Input'!AD918,'Data Input'!AH918))","v":""},{"$f":"IF(O913=\"\",\"\",O913/COUNTIF('Data Input'!$C$8:$AK$8,\"M\"))","v":""},{"$f":"IF(ISBLANK('Data Input'!A918),\"\",SUM('Data Input'!H918,'Data Input'!K918,'Data Input'!P918,'Data Input'!Y918))","v":""},{"$f":"IF(Q913=\"\",\"\",Q913/COUNTIF('Data Input'!$C$8:$AK$8,\"G\"))","v":""}]
[{"$f":"IF('Data Input'!A919=0,\"\",'Data Input'!A919)","v":""},{"$f":"IF(ISBLANK('Data Input'!A919),\"\",COUNTIF('Data Input'!C919:AK919,\"\"))","v":""},{"$f":"IF(ISBLANK('Data Input'!A919),\"\",COUNTIF('Data Input'!C919:AK919,\"0\"))","v":""},{"$f":"IF(ISBLANK('Data Input'!A919),\"\",SUM(B914,C914))","v":""},{"$f":"IF(ISBLANK('Data Input'!A919),\"\",SUM('Data Input'!C919:AK919))","v":""},{"$f":"IF(E914=\"\",\"\",E914/(COUNTA('Data Input'!$C$8:$AK$8)))","v":""},{"$f":"IF(ISBLANK('Data Input'!A919),\"\",SUM('Data Input'!C919,'Data Input'!D919,'Data Input'!J919,'Data Input'!X919))","v":""},{"$f":"IF(G914=\"\",\"\",G914/COUNTIF('Data Input'!$C$8:$AK$8,\"N\"))","v":""},{"$f":"IF(ISBLANK('Data Input'!A919),\"\",SUM('Data Input'!G919,'Data Input'!I919,'Data Input'!L919,'Data Input'!N919,'Data Input'!O919,'Data Input'!S919,'Data Input'!Z919,'Data Input'!AA919,'Data Input'!AB919,'Data Input'!AC919,'Data Input'!AE919,'Data Input'!AF919,'Data Input'!AG919,'Data Input'!AI919,'Data Input'!AK919))","v":""},{"$f":"IF(I914=\"\",\"\",I914/COUNTIF('Data Input'!$C$8:$AK$8,\"C\"))","v":""},{"$f":"IF(ISBLANK('Data Input'!A919),\"\",SUM('Data Input'!T919,'Data Input'!U919))","v":""},{"$f":"IF(K914=\"\",\"\",K914/COUNTIF('Data Input'!$C$8:$AK$8,\"S\"))","v":""},{"$f":"IF(ISBLANK('Data Input'!A919),\"\",SUM('Data Input'!F919,'Data Input'!R919,'Data Input'!AJ919))","v":""},{"$f":"IF(M914=\"\",\"\",M914/COUNTIF('Data Input'!$C$8:$AK$8,\"F\"))","v":""},{"$f":"IF(ISBLANK('Data Input'!A919),\"\",SUM('Data Input'!E919,'Data Input'!M919,'Data Input'!Q919,'Data Input'!V919,'Data Input'!W919,'Data Input'!AD919,'Data Input'!AH919))","v":""},{"$f":"IF(O914=\"\",\"\",O914/COUNTIF('Data Input'!$C$8:$AK$8,\"M\"))","v":""},{"$f":"IF(ISBLANK('Data Input'!A919),\"\",SUM('Data Input'!H919,'Data Input'!K919,'Data Input'!P919,'Data Input'!Y919))","v":""},{"$f":"IF(Q914=\"\",\"\",Q914/COUNTIF('Data Input'!$C$8:$AK$8,\"G\"))","v":""}]
[{"$f":"IF('Data Input'!A920=0,\"\",'Data Input'!A920)","v":""},{"$f":"IF(ISBLANK('Data Input'!A920),\"\",COUNTIF('Data Input'!C920:AK920,\"\"))","v":""},{"$f":"IF(ISBLANK('Data Input'!A920),\"\",COUNTIF('Data Input'!C920:AK920,\"0\"))","v":""},{"$f":"IF(ISBLANK('Data Input'!A920),\"\",SUM(B915,C915))","v":""},{"$f":"IF(ISBLANK('Data Input'!A920),\"\",SUM('Data Input'!C920:AK920))","v":""},{"$f":"IF(E915=\"\",\"\",E915/(COUNTA('Data Input'!$C$8:$AK$8)))","v":""},{"$f":"IF(ISBLANK('Data Input'!A920),\"\",SUM('Data Input'!C920,'Data Input'!D920,'Data Input'!J920,'Data Input'!X920))","v":""},{"$f":"IF(G915=\"\",\"\",G915/COUNTIF('Data Input'!$C$8:$AK$8,\"N\"))","v":""},{"$f":"IF(ISBLANK('Data Input'!A920),\"\",SUM('Data Input'!G920,'Data Input'!I920,'Data Input'!L920,'Data Input'!N920,'Data Input'!O920,'Data Input'!S920,'Data Input'!Z920,'Data Input'!AA920,'Data Input'!AB920,'Data Input'!AC920,'Data Input'!AE920,'Data Input'!AF920,'Data Input'!AG920,'Data Input'!AI920,'Data Input'!AK920))","v":""},{"$f":"IF(I915=\"\",\"\",I915/COUNTIF('Data Input'!$C$8:$AK$8,\"C\"))","v":""},{"$f":"IF(ISBLANK('Data Input'!A920),\"\",SUM('Data Input'!T920,'Data Input'!U920))","v":""},{"$f":"IF(K915=\"\",\"\",K915/COUNTIF('Data Input'!$C$8:$AK$8,\"S\"))","v":""},{"$f":"IF(ISBLANK('Data Input'!A920),\"\",SUM('Data Input'!F920,'Data Input'!R920,'Data Input'!AJ920))","v":""},{"$f":"IF(M915=\"\",\"\",M915/COUNTIF('Data Input'!$C$8:$AK$8,\"F\"))","v":""},{"$f":"IF(ISBLANK('Data Input'!A920),\"\",SUM('Data Input'!E920,'Data Input'!M920,'Data Input'!Q920,'Data Input'!V920,'Data Input'!W920,'Data Input'!AD920,'Data Input'!AH920))","v":""},{"$f":"IF(O915=\"\",\"\",O915/COUNTIF('Data Input'!$C$8:$AK$8,\"M\"))","v":""},{"$f":"IF(ISBLANK('Data Input'!A920),\"\",SUM('Data Input'!H920,'Data Input'!K920,'Data Input'!P920,'Data Input'!Y920))","v":""},{"$f":"IF(Q915=\"\",\"\",Q915/COUNTIF('Data Input'!$C$8:$AK$8,\"G\"))","v":""}]
[{"$f":"IF('Data Input'!A921=0,\"\",'Data Input'!A921)","v":""},{"$f":"IF(ISBLANK('Data Input'!A921),\"\",COUNTIF('Data Input'!C921:AK921,\"\"))","v":""},{"$f":"IF(ISBLANK('Data Input'!A921),\"\",COUNTIF('Data Input'!C921:AK921,\"0\"))","v":""},{"$f":"IF(ISBLANK('Data Input'!A921),\"\",SUM(B916,C916))","v":""},{"$f":"IF(ISBLANK('Data Input'!A921),\"\",SUM('Data Input'!C921:AK921))","v":""},{"$f":"IF(E916=\"\",\"\",E916/(COUNTA('Data Input'!$C$8:$AK$8)))","v":""},{"$f":"IF(ISBLANK('Data Input'!A921),\"\",SUM('Data Input'!C921,'Data Input'!D921,'Data Input'!J921,'Data Input'!X921))","v":""},{"$f":"IF(G916=\"\",\"\",G916/COUNTIF('Data Input'!$C$8:$AK$8,\"N\"))","v":""},{"$f":"IF(ISBLANK('Data Input'!A921),\"\",SUM('Data Input'!G921,'Data Input'!I921,'Data Input'!L921,'Data Input'!N921,'Data Input'!O921,'Data Input'!S921,'Data Input'!Z921,'Data Input'!AA921,'Data Input'!AB921,'Data Input'!AC921,'Data Input'!AE921,'Data Input'!AF921,'Data Input'!AG921,'Data Input'!AI921,'Data Input'!AK921))","v":""},{"$f":"IF(I916=\"\",\"\",I916/COUNTIF('Data Input'!$C$8:$AK$8,\"C\"))","v":""},{"$f":"IF(ISBLANK('Data Input'!A921),\"\",SUM('Data Input'!T921,'Data Input'!U921))","v":""},{"$f":"IF(K916=\"\",\"\",K916/COUNTIF('Data Input'!$C$8:$AK$8,\"S\"))","v":""},{"$f":"IF(ISBLANK('Data Input'!A921),\"\",SUM('Data Input'!F921,'Data Input'!R921,'Data Input'!AJ921))","v":""},{"$f":"IF(M916=\"\",\"\",M916/COUNTIF('Data Input'!$C$8:$AK$8,\"F\"))","v":""},{"$f":"IF(ISBLANK('Data Input'!A921),\"\",SUM('Data Input'!E921,'Data Input'!M921,'Data Input'!Q921,'Data Input'!V921,'Data Input'!W921,'Data Input'!AD921,'Data Input'!AH921))","v":""},{"$f":"IF(O916=\"\",\"\",O916/COUNTIF('Data Input'!$C$8:$AK$8,\"M\"))","v":""},{"$f":"IF(ISBLANK('Data Input'!A921),\"\",SUM('Data Input'!H921,'Data Input'!K921,'Data Input'!P921,'Data Input'!Y921))","v":""},{"$f":"IF(Q916=\"\",\"\",Q916/COUNTIF('Data Input'!$C$8:$AK$8,\"G\"))","v":""}]
[{"$f":"IF('Data Input'!A922=0,\"\",'Data Input'!A922)","v":""},{"$f":"IF(ISBLANK('Data Input'!A922),\"\",COUNTIF('Data Input'!C922:AK922,\"\"))","v":""},{"$f":"IF(ISBLANK('Data Input'!A922),\"\",COUNTIF('Data Input'!C922:AK922,\"0\"))","v":""},{"$f":"IF(ISBLANK('Data Input'!A922),\"\",SUM(B917,C917))","v":""},{"$f":"IF(ISBLANK('Data Input'!A922),\"\",SUM('Data Input'!C922:AK922))","v":""},{"$f":"IF(E917=\"\",\"\",E917/(COUNTA('Data Input'!$C$8:$AK$8)))","v":""},{"$f":"IF(ISBLANK('Data Input'!A922),\"\",SUM('Data Input'!C922,'Data Input'!D922,'Data Input'!J922,'Data Input'!X922))","v":""},{"$f":"IF(G917=\"\",\"\",G917/COUNTIF('Data Input'!$C$8:$AK$8,\"N\"))","v":""},{"$f":"IF(ISBLANK('Data Input'!A922),\"\",SUM('Data Input'!G922,'Data Input'!I922,'Data Input'!L922,'Data Input'!N922,'Data Input'!O922,'Data Input'!S922,'Data Input'!Z922,'Data Input'!AA922,'Data Input'!AB922,'Data Input'!AC922,'Data Input'!AE922,'Data Input'!AF922,'Data Input'!AG922,'Data Input'!AI922,'Data Input'!AK922))","v":""},{"$f":"IF(I917=\"\",\"\",I917/COUNTIF('Data Input'!$C$8:$AK$8,\"C\"))","v":""},{"$f":"IF(ISBLANK('Data Input'!A922),\"\",SUM('Data Input'!T922,'Data Input'!U922))","v":""},{"$f":"IF(K917=\"\",\"\",K917/COUNTIF('Data Input'!$C$8:$AK$8,\"S\"))","v":""},{"$f":"IF(ISBLANK('Data Input'!A922),\"\",SUM('Data Input'!F922,'Data Input'!R922,'Data Input'!AJ922))","v":""},{"$f":"IF(M917=\"\",\"\",M917/COUNTIF('Data Input'!$C$8:$AK$8,\"F\"))","v":""},{"$f":"IF(ISBLANK('Data Input'!A922),\"\",SUM('Data Input'!E922,'Data Input'!M922,'Data Input'!Q922,'Data Input'!V922,'Data Input'!W922,'Data Input'!AD922,'Data Input'!AH922))","v":""},{"$f":"IF(O917=\"\",\"\",O917/COUNTIF('Data Input'!$C$8:$AK$8,\"M\"))","v":""},{"$f":"IF(ISBLANK('Data Input'!A922),\"\",SUM('Data Input'!H922,'Data Input'!K922,'Data Input'!P922,'Data Input'!Y922))","v":""},{"$f":"IF(Q917=\"\",\"\",Q917/COUNTIF('Data Input'!$C$8:$AK$8,\"G\"))","v":""}]
[{"$f":"IF('Data Input'!A923=0,\"\",'Data Input'!A923)","v":""},{"$f":"IF(ISBLANK('Data Input'!A923),\"\",COUNTIF('Data Input'!C923:AK923,\"\"))","v":""},{"$f":"IF(ISBLANK('Data Input'!A923),\"\",COUNTIF('Data Input'!C923:AK923,\"0\"))","v":""},{"$f":"IF(ISBLANK('Data Input'!A923),\"\",SUM(B918,C918))","v":""},{"$f":"IF(ISBLANK('Data Input'!A923),\"\",SUM('Data Input'!C923:AK923))","v":""},{"$f":"IF(E918=\"\",\"\",E918/(COUNTA('Data Input'!$C$8:$AK$8)))","v":""},{"$f":"IF(ISBLANK('Data Input'!A923),\"\",SUM('Data Input'!C923,'Data Input'!D923,'Data Input'!J923,'Data Input'!X923))","v":""},{"$f":"IF(G918=\"\",\"\",G918/COUNTIF('Data Input'!$C$8:$AK$8,\"N\"))","v":""},{"$f":"IF(ISBLANK('Data Input'!A923),\"\",SUM('Data Input'!G923,'Data Input'!I923,'Data Input'!L923,'Data Input'!N923,'Data Input'!O923,'Data Input'!S923,'Data Input'!Z923,'Data Input'!AA923,'Data Input'!AB923,'Data Input'!AC923,'Data Input'!AE923,'Data Input'!AF923,'Data Input'!AG923,'Data Input'!AI923,'Data Input'!AK923))","v":""},{"$f":"IF(I918=\"\",\"\",I918/COUNTIF('Data Input'!$C$8:$AK$8,\"C\"))","v":""},{"$f":"IF(ISBLANK('Data Input'!A923),\"\",SUM('Data Input'!T923,'Data Input'!U923))","v":""},{"$f":"IF(K918=\"\",\"\",K918/COUNTIF('Data Input'!$C$8:$AK$8,\"S\"))","v":""},{"$f":"IF(ISBLANK('Data Input'!A923),\"\",SUM('Data Input'!F923,'Data Input'!R923,'Data Input'!AJ923))","v":""},{"$f":"IF(M918=\"\",\"\",M918/COUNTIF('Data Input'!$C$8:$AK$8,\"F\"))","v":""},{"$f":"IF(ISBLANK('Data Input'!A923),\"\",SUM('Data Input'!E923,'Data Input'!M923,'Data Input'!Q923,'Data Input'!V923,'Data Input'!W923,'Data Input'!AD923,'Data Input'!AH923))","v":""},{"$f":"IF(O918=\"\",\"\",O918/COUNTIF('Data Input'!$C$8:$AK$8,\"M\"))","v":""},{"$f":"IF(ISBLANK('Data Input'!A923),\"\",SUM('Data Input'!H923,'Data Input'!K923,'Data Input'!P923,'Data Input'!Y923))","v":""},{"$f":"IF(Q918=\"\",\"\",Q918/COUNTIF('Data Input'!$C$8:$AK$8,\"G\"))","v":""}]
[{"$f":"IF('Data Input'!A924=0,\"\",'Data Input'!A924)","v":""},{"$f":"IF(ISBLANK('Data Input'!A924),\"\",COUNTIF('Data Input'!C924:AK924,\"\"))","v":""},{"$f":"IF(ISBLANK('Data Input'!A924),\"\",COUNTIF('Data Input'!C924:AK924,\"0\"))","v":""},{"$f":"IF(ISBLANK('Data Input'!A924),\"\",SUM(B919,C919))","v":""},{"$f":"IF(ISBLANK('Data Input'!A924),\"\",SUM('Data Input'!C924:AK924))","v":""},{"$f":"IF(E919=\"\",\"\",E919/(COUNTA('Data Input'!$C$8:$AK$8)))","v":""},{"$f":"IF(ISBLANK('Data Input'!A924),\"\",SUM('Data Input'!C924,'Data Input'!D924,'Data Input'!J924,'Data Input'!X924))","v":""},{"$f":"IF(G919=\"\",\"\",G919/COUNTIF('Data Input'!$C$8:$AK$8,\"N\"))","v":""},{"$f":"IF(ISBLANK('Data Input'!A924),\"\",SUM('Data Input'!G924,'Data Input'!I924,'Data Input'!L924,'Data Input'!N924,'Data Input'!O924,'Data Input'!S924,'Data Input'!Z924,'Data Input'!AA924,'Data Input'!AB924,'Data Input'!AC924,'Data Input'!AE924,'Data Input'!AF924,'Data Input'!AG924,'Data Input'!AI924,'Data Input'!AK924))","v":""},{"$f":"IF(I919=\"\",\"\",I919/COUNTIF('Data Input'!$C$8:$AK$8,\"C\"))","v":""},{"$f":"IF(ISBLANK('Data Input'!A924),\"\",SUM('Data Input'!T924,'Data Input'!U924))","v":""},{"$f":"IF(K919=\"\",\"\",K919/COUNTIF('Data Input'!$C$8:$AK$8,\"S\"))","v":""},{"$f":"IF(ISBLANK('Data Input'!A924),\"\",SUM('Data Input'!F924,'Data Input'!R924,'Data Input'!AJ924))","v":""},{"$f":"IF(M919=\"\",\"\",M919/COUNTIF('Data Input'!$C$8:$AK$8,\"F\"))","v":""},{"$f":"IF(ISBLANK('Data Input'!A924),\"\",SUM('Data Input'!E924,'Data Input'!M924,'Data Input'!Q924,'Data Input'!V924,'Data Input'!W924,'Data Input'!AD924,'Data Input'!AH924))","v":""},{"$f":"IF(O919=\"\",\"\",O919/COUNTIF('Data Input'!$C$8:$AK$8,\"M\"))","v":""},{"$f":"IF(ISBLANK('Data Input'!A924),\"\",SUM('Data Input'!H924,'Data Input'!K924,'Data Input'!P924,'Data Input'!Y924))","v":""},{"$f":"IF(Q919=\"\",\"\",Q919/COUNTIF('Data Input'!$C$8:$AK$8,\"G\"))","v":""}]
[{"$f":"IF('Data Input'!A925=0,\"\",'Data Input'!A925)","v":""},{"$f":"IF(ISBLANK('Data Input'!A925),\"\",COUNTIF('Data Input'!C925:AK925,\"\"))","v":""},{"$f":"IF(ISBLANK('Data Input'!A925),\"\",COUNTIF('Data Input'!C925:AK925,\"0\"))","v":""},{"$f":"IF(ISBLANK('Data Input'!A925),\"\",SUM(B920,C920))","v":""},{"$f":"IF(ISBLANK('Data Input'!A925),\"\",SUM('Data Input'!C925:AK925))","v":""},{"$f":"IF(E920=\"\",\"\",E920/(COUNTA('Data Input'!$C$8:$AK$8)))","v":""},{"$f":"IF(ISBLANK('Data Input'!A925),\"\",SUM('Data Input'!C925,'Data Input'!D925,'Data Input'!J925,'Data Input'!X925))","v":""},{"$f":"IF(G920=\"\",\"\",G920/COUNTIF('Data Input'!$C$8:$AK$8,\"N\"))","v":""},{"$f":"IF(ISBLANK('Data Input'!A925),\"\",SUM('Data Input'!G925,'Data Input'!I925,'Data Input'!L925,'Data Input'!N925,'Data Input'!O925,'Data Input'!S925,'Data Input'!Z925,'Data Input'!AA925,'Data Input'!AB925,'Data Input'!AC925,'Data Input'!AE925,'Data Input'!AF925,'Data Input'!AG925,'Data Input'!AI925,'Data Input'!AK925))","v":""},{"$f":"IF(I920=\"\",\"\",I920/COUNTIF('Data Input'!$C$8:$AK$8,\"C\"))","v":""},{"$f":"IF(ISBLANK('Data Input'!A925),\"\",SUM('Data Input'!T925,'Data Input'!U925))","v":""},{"$f":"IF(K920=\"\",\"\",K920/COUNTIF('Data Input'!$C$8:$AK$8,\"S\"))","v":""},{"$f":"IF(ISBLANK('Data Input'!A925),\"\",SUM('Data Input'!F925,'Data Input'!R925,'Data Input'!AJ925))","v":""},{"$f":"IF(M920=\"\",\"\",M920/COUNTIF('Data Input'!$C$8:$AK$8,\"F\"))","v":""},{"$f":"IF(ISBLANK('Data Input'!A925),\"\",SUM('Data Input'!E925,'Data Input'!M925,'Data Input'!Q925,'Data Input'!V925,'Data Input'!W925,'Data Input'!AD925,'Data Input'!AH925))","v":""},{"$f":"IF(O920=\"\",\"\",O920/COUNTIF('Data Input'!$C$8:$AK$8,\"M\"))","v":""},{"$f":"IF(ISBLANK('Data Input'!A925),\"\",SUM('Data Input'!H925,'Data Input'!K925,'Data Input'!P925,'Data Input'!Y925))","v":""},{"$f":"IF(Q920=\"\",\"\",Q920/COUNTIF('Data Input'!$C$8:$AK$8,\"G\"))","v":""}]
[{"$f":"IF('Data Input'!A926=0,\"\",'Data Input'!A926)","v":""},{"$f":"IF(ISBLANK('Data Input'!A926),\"\",COUNTIF('Data Input'!C926:AK926,\"\"))","v":""},{"$f":"IF(ISBLANK('Data Input'!A926),\"\",COUNTIF('Data Input'!C926:AK926,\"0\"))","v":""},{"$f":"IF(ISBLANK('Data Input'!A926),\"\",SUM(B921,C921))","v":""},{"$f":"IF(ISBLANK('Data Input'!A926),\"\",SUM('Data Input'!C926:AK926))","v":""},{"$f":"IF(E921=\"\",\"\",E921/(COUNTA('Data Input'!$C$8:$AK$8)))","v":""},{"$f":"IF(ISBLANK('Data Input'!A926),\"\",SUM('Data Input'!C926,'Data Input'!D926,'Data Input'!J926,'Data Input'!X926))","v":""},{"$f":"IF(G921=\"\",\"\",G921/COUNTIF('Data Input'!$C$8:$AK$8,\"N\"))","v":""},{"$f":"IF(ISBLANK('Data Input'!A926),\"\",SUM('Data Input'!G926,'Data Input'!I926,'Data Input'!L926,'Data Input'!N926,'Data Input'!O926,'Data Input'!S926,'Data Input'!Z926,'Data Input'!AA926,'Data Input'!AB926,'Data Input'!AC926,'Data Input'!AE926,'Data Input'!AF926,'Data Input'!AG926,'Data Input'!AI926,'Data Input'!AK926))","v":""},{"$f":"IF(I921=\"\",\"\",I921/COUNTIF('Data Input'!$C$8:$AK$8,\"C\"))","v":""},{"$f":"IF(ISBLANK('Data Input'!A926),\"\",SUM('Data Input'!T926,'Data Input'!U926))","v":""},{"$f":"IF(K921=\"\",\"\",K921/COUNTIF('Data Input'!$C$8:$AK$8,\"S\"))","v":""},{"$f":"IF(ISBLANK('Data Input'!A926),\"\",SUM('Data Input'!F926,'Data Input'!R926,'Data Input'!AJ926))","v":""},{"$f":"IF(M921=\"\",\"\",M921/COUNTIF('Data Input'!$C$8:$AK$8,\"F\"))","v":""},{"$f":"IF(ISBLANK('Data Input'!A926),\"\",SUM('Data Input'!E926,'Data Input'!M926,'Data Input'!Q926,'Data Input'!V926,'Data Input'!W926,'Data Input'!AD926,'Data Input'!AH926))","v":""},{"$f":"IF(O921=\"\",\"\",O921/COUNTIF('Data Input'!$C$8:$AK$8,\"M\"))","v":""},{"$f":"IF(ISBLANK('Data Input'!A926),\"\",SUM('Data Input'!H926,'Data Input'!K926,'Data Input'!P926,'Data Input'!Y926))","v":""},{"$f":"IF(Q921=\"\",\"\",Q921/COUNTIF('Data Input'!$C$8:$AK$8,\"G\"))","v":""}]
[{"$f":"IF('Data Input'!A927=0,\"\",'Data Input'!A927)","v":""},{"$f":"IF(ISBLANK('Data Input'!A927),\"\",COUNTIF('Data Input'!C927:AK927,\"\"))","v":""},{"$f":"IF(ISBLANK('Data Input'!A927),\"\",COUNTIF('Data Input'!C927:AK927,\"0\"))","v":""},{"$f":"IF(ISBLANK('Data Input'!A927),\"\",SUM(B922,C922))","v":""},{"$f":"IF(ISBLANK('Data Input'!A927),\"\",SUM('Data Input'!C927:AK927))","v":""},{"$f":"IF(E922=\"\",\"\",E922/(COUNTA('Data Input'!$C$8:$AK$8)))","v":""},{"$f":"IF(ISBLANK('Data Input'!A927),\"\",SUM('Data Input'!C927,'Data Input'!D927,'Data Input'!J927,'Data Input'!X927))","v":""},{"$f":"IF(G922=\"\",\"\",G922/COUNTIF('Data Input'!$C$8:$AK$8,\"N\"))","v":""},{"$f":"IF(ISBLANK('Data Input'!A927),\"\",SUM('Data Input'!G927,'Data Input'!I927,'Data Input'!L927,'Data Input'!N927,'Data Input'!O927,'Data Input'!S927,'Data Input'!Z927,'Data Input'!AA927,'Data Input'!AB927,'Data Input'!AC927,'Data Input'!AE927,'Data Input'!AF927,'Data Input'!AG927,'Data Input'!AI927,'Data Input'!AK927))","v":""},{"$f":"IF(I922=\"\",\"\",I922/COUNTIF('Data Input'!$C$8:$AK$8,\"C\"))","v":""},{"$f":"IF(ISBLANK('Data Input'!A927),\"\",SUM('Data Input'!T927,'Data Input'!U927))","v":""},{"$f":"IF(K922=\"\",\"\",K922/COUNTIF('Data Input'!$C$8:$AK$8,\"S\"))","v":""},{"$f":"IF(ISBLANK('Data Input'!A927),\"\",SUM('Data Input'!F927,'Data Input'!R927,'Data Input'!AJ927))","v":""},{"$f":"IF(M922=\"\",\"\",M922/COUNTIF('Data Input'!$C$8:$AK$8,\"F\"))","v":""},{"$f":"IF(ISBLANK('Data Input'!A927),\"\",SUM('Data Input'!E927,'Data Input'!M927,'Data Input'!Q927,'Data Input'!V927,'Data Input'!W927,'Data Input'!AD927,'Data Input'!AH927))","v":""},{"$f":"IF(O922=\"\",\"\",O922/COUNTIF('Data Input'!$C$8:$AK$8,\"M\"))","v":""},{"$f":"IF(ISBLANK('Data Input'!A927),\"\",SUM('Data Input'!H927,'Data Input'!K927,'Data Input'!P927,'Data Input'!Y927))","v":""},{"$f":"IF(Q922=\"\",\"\",Q922/COUNTIF('Data Input'!$C$8:$AK$8,\"G\"))","v":""}]
[{"$f":"IF('Data Input'!A928=0,\"\",'Data Input'!A928)","v":""},{"$f":"IF(ISBLANK('Data Input'!A928),\"\",COUNTIF('Data Input'!C928:AK928,\"\"))","v":""},{"$f":"IF(ISBLANK('Data Input'!A928),\"\",COUNTIF('Data Input'!C928:AK928,\"0\"))","v":""},{"$f":"IF(ISBLANK('Data Input'!A928),\"\",SUM(B923,C923))","v":""},{"$f":"IF(ISBLANK('Data Input'!A928),\"\",SUM('Data Input'!C928:AK928))","v":""},{"$f":"IF(E923=\"\",\"\",E923/(COUNTA('Data Input'!$C$8:$AK$8)))","v":""},{"$f":"IF(ISBLANK('Data Input'!A928),\"\",SUM('Data Input'!C928,'Data Input'!D928,'Data Input'!J928,'Data Input'!X928))","v":""},{"$f":"IF(G923=\"\",\"\",G923/COUNTIF('Data Input'!$C$8:$AK$8,\"N\"))","v":""},{"$f":"IF(ISBLANK('Data Input'!A928),\"\",SUM('Data Input'!G928,'Data Input'!I928,'Data Input'!L928,'Data Input'!N928,'Data Input'!O928,'Data Input'!S928,'Data Input'!Z928,'Data Input'!AA928,'Data Input'!AB928,'Data Input'!AC928,'Data Input'!AE928,'Data Input'!AF928,'Data Input'!AG928,'Data Input'!AI928,'Data Input'!AK928))","v":""},{"$f":"IF(I923=\"\",\"\",I923/COUNTIF('Data Input'!$C$8:$AK$8,\"C\"))","v":""},{"$f":"IF(ISBLANK('Data Input'!A928),\"\",SUM('Data Input'!T928,'Data Input'!U928))","v":""},{"$f":"IF(K923=\"\",\"\",K923/COUNTIF('Data Input'!$C$8:$AK$8,\"S\"))","v":""},{"$f":"IF(ISBLANK('Data Input'!A928),\"\",SUM('Data Input'!F928,'Data Input'!R928,'Data Input'!AJ928))","v":""},{"$f":"IF(M923=\"\",\"\",M923/COUNTIF('Data Input'!$C$8:$AK$8,\"F\"))","v":""},{"$f":"IF(ISBLANK('Data Input'!A928),\"\",SUM('Data Input'!E928,'Data Input'!M928,'Data Input'!Q928,'Data Input'!V928,'Data Input'!W928,'Data Input'!AD928,'Data Input'!AH928))","v":""},{"$f":"IF(O923=\"\",\"\",O923/COUNTIF('Data Input'!$C$8:$AK$8,\"M\"))","v":""},{"$f":"IF(ISBLANK('Data Input'!A928),\"\",SUM('Data Input'!H928,'Data Input'!K928,'Data Input'!P928,'Data Input'!Y928))","v":""},{"$f":"IF(Q923=\"\",\"\",Q923/COUNTIF('Data Input'!$C$8:$AK$8,\"G\"))","v":""}]
[{"$f":"IF('Data Input'!A929=0,\"\",'Data Input'!A929)","v":""},{"$f":"IF(ISBLANK('Data Input'!A929),\"\",COUNTIF('Data Input'!C929:AK929,\"\"))","v":""},{"$f":"IF(ISBLANK('Data Input'!A929),\"\",COUNTIF('Data Input'!C929:AK929,\"0\"))","v":""},{"$f":"IF(ISBLANK('Data Input'!A929),\"\",SUM(B924,C924))","v":""},{"$f":"IF(ISBLANK('Data Input'!A929),\"\",SUM('Data Input'!C929:AK929))","v":""},{"$f":"IF(E924=\"\",\"\",E924/(COUNTA('Data Input'!$C$8:$AK$8)))","v":""},{"$f":"IF(ISBLANK('Data Input'!A929),\"\",SUM('Data Input'!C929,'Data Input'!D929,'Data Input'!J929,'Data Input'!X929))","v":""},{"$f":"IF(G924=\"\",\"\",G924/COUNTIF('Data Input'!$C$8:$AK$8,\"N\"))","v":""},{"$f":"IF(ISBLANK('Data Input'!A929),\"\",SUM('Data Input'!G929,'Data Input'!I929,'Data Input'!L929,'Data Input'!N929,'Data Input'!O929,'Data Input'!S929,'Data Input'!Z929,'Data Input'!AA929,'Data Input'!AB929,'Data Input'!AC929,'Data Input'!AE929,'Data Input'!AF929,'Data Input'!AG929,'Data Input'!AI929,'Data Input'!AK929))","v":""},{"$f":"IF(I924=\"\",\"\",I924/COUNTIF('Data Input'!$C$8:$AK$8,\"C\"))","v":""},{"$f":"IF(ISBLANK('Data Input'!A929),\"\",SUM('Data Input'!T929,'Data Input'!U929))","v":""},{"$f":"IF(K924=\"\",\"\",K924/COUNTIF('Data Input'!$C$8:$AK$8,\"S\"))","v":""},{"$f":"IF(ISBLANK('Data Input'!A929),\"\",SUM('Data Input'!F929,'Data Input'!R929,'Data Input'!AJ929))","v":""},{"$f":"IF(M924=\"\",\"\",M924/COUNTIF('Data Input'!$C$8:$AK$8,\"F\"))","v":""},{"$f":"IF(ISBLANK('Data Input'!A929),\"\",SUM('Data Input'!E929,'Data Input'!M929,'Data Input'!Q929,'Data Input'!V929,'Data Input'!W929,'Data Input'!AD929,'Data Input'!AH929))","v":""},{"$f":"IF(O924=\"\",\"\",O924/COUNTIF('Data Input'!$C$8:$AK$8,\"M\"))","v":""},{"$f":"IF(ISBLANK('Data Input'!A929),\"\",SUM('Data Input'!H929,'Data Input'!K929,'Data Input'!P929,'Data Input'!Y929))","v":""},{"$f":"IF(Q924=\"\",\"\",Q924/COUNTIF('Data Input'!$C$8:$AK$8,\"G\"))","v":""}]
[{"$f":"IF('Data Input'!A930=0,\"\",'Data Input'!A930)","v":""},{"$f":"IF(ISBLANK('Data Input'!A930),\"\",COUNTIF('Data Input'!C930:AK930,\"\"))","v":""},{"$f":"IF(ISBLANK('Data Input'!A930),\"\",COUNTIF('Data Input'!C930:AK930,\"0\"))","v":""},{"$f":"IF(ISBLANK('Data Input'!A930),\"\",SUM(B925,C925))","v":""},{"$f":"IF(ISBLANK('Data Input'!A930),\"\",SUM('Data Input'!C930:AK930))","v":""},{"$f":"IF(E925=\"\",\"\",E925/(COUNTA('Data Input'!$C$8:$AK$8)))","v":""},{"$f":"IF(ISBLANK('Data Input'!A930),\"\",SUM('Data Input'!C930,'Data Input'!D930,'Data Input'!J930,'Data Input'!X930))","v":""},{"$f":"IF(G925=\"\",\"\",G925/COUNTIF('Data Input'!$C$8:$AK$8,\"N\"))","v":""},{"$f":"IF(ISBLANK('Data Input'!A930),\"\",SUM('Data Input'!G930,'Data Input'!I930,'Data Input'!L930,'Data Input'!N930,'Data Input'!O930,'Data Input'!S930,'Data Input'!Z930,'Data Input'!AA930,'Data Input'!AB930,'Data Input'!AC930,'Data Input'!AE930,'Data Input'!AF930,'Data Input'!AG930,'Data Input'!AI930,'Data Input'!AK930))","v":""},{"$f":"IF(I925=\"\",\"\",I925/COUNTIF('Data Input'!$C$8:$AK$8,\"C\"))","v":""},{"$f":"IF(ISBLANK('Data Input'!A930),\"\",SUM('Data Input'!T930,'Data Input'!U930))","v":""},{"$f":"IF(K925=\"\",\"\",K925/COUNTIF('Data Input'!$C$8:$AK$8,\"S\"))","v":""},{"$f":"IF(ISBLANK('Data Input'!A930),\"\",SUM('Data Input'!F930,'Data Input'!R930,'Data Input'!AJ930))","v":""},{"$f":"IF(M925=\"\",\"\",M925/COUNTIF('Data Input'!$C$8:$AK$8,\"F\"))","v":""},{"$f":"IF(ISBLANK('Data Input'!A930),\"\",SUM('Data Input'!E930,'Data Input'!M930,'Data Input'!Q930,'Data Input'!V930,'Data Input'!W930,'Data Input'!AD930,'Data Input'!AH930))","v":""},{"$f":"IF(O925=\"\",\"\",O925/COUNTIF('Data Input'!$C$8:$AK$8,\"M\"))","v":""},{"$f":"IF(ISBLANK('Data Input'!A930),\"\",SUM('Data Input'!H930,'Data Input'!K930,'Data Input'!P930,'Data Input'!Y930))","v":""},{"$f":"IF(Q925=\"\",\"\",Q925/COUNTIF('Data Input'!$C$8:$AK$8,\"G\"))","v":""}]
[{"$f":"IF('Data Input'!A931=0,\"\",'Data Input'!A931)","v":""},{"$f":"IF(ISBLANK('Data Input'!A931),\"\",COUNTIF('Data Input'!C931:AK931,\"\"))","v":""},{"$f":"IF(ISBLANK('Data Input'!A931),\"\",COUNTIF('Data Input'!C931:AK931,\"0\"))","v":""},{"$f":"IF(ISBLANK('Data Input'!A931),\"\",SUM(B926,C926))","v":""},{"$f":"IF(ISBLANK('Data Input'!A931),\"\",SUM('Data Input'!C931:AK931))","v":""},{"$f":"IF(E926=\"\",\"\",E926/(COUNTA('Data Input'!$C$8:$AK$8)))","v":""},{"$f":"IF(ISBLANK('Data Input'!A931),\"\",SUM('Data Input'!C931,'Data Input'!D931,'Data Input'!J931,'Data Input'!X931))","v":""},{"$f":"IF(G926=\"\",\"\",G926/COUNTIF('Data Input'!$C$8:$AK$8,\"N\"))","v":""},{"$f":"IF(ISBLANK('Data Input'!A931),\"\",SUM('Data Input'!G931,'Data Input'!I931,'Data Input'!L931,'Data Input'!N931,'Data Input'!O931,'Data Input'!S931,'Data Input'!Z931,'Data Input'!AA931,'Data Input'!AB931,'Data Input'!AC931,'Data Input'!AE931,'Data Input'!AF931,'Data Input'!AG931,'Data Input'!AI931,'Data Input'!AK931))","v":""},{"$f":"IF(I926=\"\",\"\",I926/COUNTIF('Data Input'!$C$8:$AK$8,\"C\"))","v":""},{"$f":"IF(ISBLANK('Data Input'!A931),\"\",SUM('Data Input'!T931,'Data Input'!U931))","v":""},{"$f":"IF(K926=\"\",\"\",K926/COUNTIF('Data Input'!$C$8:$AK$8,\"S\"))","v":""},{"$f":"IF(ISBLANK('Data Input'!A931),\"\",SUM('Data Input'!F931,'Data Input'!R931,'Data Input'!AJ931))","v":""},{"$f":"IF(M926=\"\",\"\",M926/COUNTIF('Data Input'!$C$8:$AK$8,\"F\"))","v":""},{"$f":"IF(ISBLANK('Data Input'!A931),\"\",SUM('Data Input'!E931,'Data Input'!M931,'Data Input'!Q931,'Data Input'!V931,'Data Input'!W931,'Data Input'!AD931,'Data Input'!AH931))","v":""},{"$f":"IF(O926=\"\",\"\",O926/COUNTIF('Data Input'!$C$8:$AK$8,\"M\"))","v":""},{"$f":"IF(ISBLANK('Data Input'!A931),\"\",SUM('Data Input'!H931,'Data Input'!K931,'Data Input'!P931,'Data Input'!Y931))","v":""},{"$f":"IF(Q926=\"\",\"\",Q926/COUNTIF('Data Input'!$C$8:$AK$8,\"G\"))","v":""}]
[{"$f":"IF('Data Input'!A932=0,\"\",'Data Input'!A932)","v":""},{"$f":"IF(ISBLANK('Data Input'!A932),\"\",COUNTIF('Data Input'!C932:AK932,\"\"))","v":""},{"$f":"IF(ISBLANK('Data Input'!A932),\"\",COUNTIF('Data Input'!C932:AK932,\"0\"))","v":""},{"$f":"IF(ISBLANK('Data Input'!A932),\"\",SUM(B927,C927))","v":""},{"$f":"IF(ISBLANK('Data Input'!A932),\"\",SUM('Data Input'!C932:AK932))","v":""},{"$f":"IF(E927=\"\",\"\",E927/(COUNTA('Data Input'!$C$8:$AK$8)))","v":""},{"$f":"IF(ISBLANK('Data Input'!A932),\"\",SUM('Data Input'!C932,'Data Input'!D932,'Data Input'!J932,'Data Input'!X932))","v":""},{"$f":"IF(G927=\"\",\"\",G927/COUNTIF('Data Input'!$C$8:$AK$8,\"N\"))","v":""},{"$f":"IF(ISBLANK('Data Input'!A932),\"\",SUM('Data Input'!G932,'Data Input'!I932,'Data Input'!L932,'Data Input'!N932,'Data Input'!O932,'Data Input'!S932,'Data Input'!Z932,'Data Input'!AA932,'Data Input'!AB932,'Data Input'!AC932,'Data Input'!AE932,'Data Input'!AF932,'Data Input'!AG932,'Data Input'!AI932,'Data Input'!AK932))","v":""},{"$f":"IF(I927=\"\",\"\",I927/COUNTIF('Data Input'!$C$8:$AK$8,\"C\"))","v":""},{"$f":"IF(ISBLANK('Data Input'!A932),\"\",SUM('Data Input'!T932,'Data Input'!U932))","v":""},{"$f":"IF(K927=\"\",\"\",K927/COUNTIF('Data Input'!$C$8:$AK$8,\"S\"))","v":""},{"$f":"IF(ISBLANK('Data Input'!A932),\"\",SUM('Data Input'!F932,'Data Input'!R932,'Data Input'!AJ932))","v":""},{"$f":"IF(M927=\"\",\"\",M927/COUNTIF('Data Input'!$C$8:$AK$8,\"F\"))","v":""},{"$f":"IF(ISBLANK('Data Input'!A932),\"\",SUM('Data Input'!E932,'Data Input'!M932,'Data Input'!Q932,'Data Input'!V932,'Data Input'!W932,'Data Input'!AD932,'Data Input'!AH932))","v":""},{"$f":"IF(O927=\"\",\"\",O927/COUNTIF('Data Input'!$C$8:$AK$8,\"M\"))","v":""},{"$f":"IF(ISBLANK('Data Input'!A932),\"\",SUM('Data Input'!H932,'Data Input'!K932,'Data Input'!P932,'Data Input'!Y932))","v":""},{"$f":"IF(Q927=\"\",\"\",Q927/COUNTIF('Data Input'!$C$8:$AK$8,\"G\"))","v":""}]
[{"$f":"IF('Data Input'!A933=0,\"\",'Data Input'!A933)","v":""},{"$f":"IF(ISBLANK('Data Input'!A933),\"\",COUNTIF('Data Input'!C933:AK933,\"\"))","v":""},{"$f":"IF(ISBLANK('Data Input'!A933),\"\",COUNTIF('Data Input'!C933:AK933,\"0\"))","v":""},{"$f":"IF(ISBLANK('Data Input'!A933),\"\",SUM(B928,C928))","v":""},{"$f":"IF(ISBLANK('Data Input'!A933),\"\",SUM('Data Input'!C933:AK933))","v":""},{"$f":"IF(E928=\"\",\"\",E928/(COUNTA('Data Input'!$C$8:$AK$8)))","v":""},{"$f":"IF(ISBLANK('Data Input'!A933),\"\",SUM('Data Input'!C933,'Data Input'!D933,'Data Input'!J933,'Data Input'!X933))","v":""},{"$f":"IF(G928=\"\",\"\",G928/COUNTIF('Data Input'!$C$8:$AK$8,\"N\"))","v":""},{"$f":"IF(ISBLANK('Data Input'!A933),\"\",SUM('Data Input'!G933,'Data Input'!I933,'Data Input'!L933,'Data Input'!N933,'Data Input'!O933,'Data Input'!S933,'Data Input'!Z933,'Data Input'!AA933,'Data Input'!AB933,'Data Input'!AC933,'Data Input'!AE933,'Data Input'!AF933,'Data Input'!AG933,'Data Input'!AI933,'Data Input'!AK933))","v":""},{"$f":"IF(I928=\"\",\"\",I928/COUNTIF('Data Input'!$C$8:$AK$8,\"C\"))","v":""},{"$f":"IF(ISBLANK('Data Input'!A933),\"\",SUM('Data Input'!T933,'Data Input'!U933))","v":""},{"$f":"IF(K928=\"\",\"\",K928/COUNTIF('Data Input'!$C$8:$AK$8,\"S\"))","v":""},{"$f":"IF(ISBLANK('Data Input'!A933),\"\",SUM('Data Input'!F933,'Data Input'!R933,'Data Input'!AJ933))","v":""},{"$f":"IF(M928=\"\",\"\",M928/COUNTIF('Data Input'!$C$8:$AK$8,\"F\"))","v":""},{"$f":"IF(ISBLANK('Data Input'!A933),\"\",SUM('Data Input'!E933,'Data Input'!M933,'Data Input'!Q933,'Data Input'!V933,'Data Input'!W933,'Data Input'!AD933,'Data Input'!AH933))","v":""},{"$f":"IF(O928=\"\",\"\",O928/COUNTIF('Data Input'!$C$8:$AK$8,\"M\"))","v":""},{"$f":"IF(ISBLANK('Data Input'!A933),\"\",SUM('Data Input'!H933,'Data Input'!K933,'Data Input'!P933,'Data Input'!Y933))","v":""},{"$f":"IF(Q928=\"\",\"\",Q928/COUNTIF('Data Input'!$C$8:$AK$8,\"G\"))","v":""}]
[{"$f":"IF('Data Input'!A934=0,\"\",'Data Input'!A934)","v":""},{"$f":"IF(ISBLANK('Data Input'!A934),\"\",COUNTIF('Data Input'!C934:AK934,\"\"))","v":""},{"$f":"IF(ISBLANK('Data Input'!A934),\"\",COUNTIF('Data Input'!C934:AK934,\"0\"))","v":""},{"$f":"IF(ISBLANK('Data Input'!A934),\"\",SUM(B929,C929))","v":""},{"$f":"IF(ISBLANK('Data Input'!A934),\"\",SUM('Data Input'!C934:AK934))","v":""},{"$f":"IF(E929=\"\",\"\",E929/(COUNTA('Data Input'!$C$8:$AK$8)))","v":""},{"$f":"IF(ISBLANK('Data Input'!A934),\"\",SUM('Data Input'!C934,'Data Input'!D934,'Data Input'!J934,'Data Input'!X934))","v":""},{"$f":"IF(G929=\"\",\"\",G929/COUNTIF('Data Input'!$C$8:$AK$8,\"N\"))","v":""},{"$f":"IF(ISBLANK('Data Input'!A934),\"\",SUM('Data Input'!G934,'Data Input'!I934,'Data Input'!L934,'Data Input'!N934,'Data Input'!O934,'Data Input'!S934,'Data Input'!Z934,'Data Input'!AA934,'Data Input'!AB934,'Data Input'!AC934,'Data Input'!AE934,'Data Input'!AF934,'Data Input'!AG934,'Data Input'!AI934,'Data Input'!AK934))","v":""},{"$f":"IF(I929=\"\",\"\",I929/COUNTIF('Data Input'!$C$8:$AK$8,\"C\"))","v":""},{"$f":"IF(ISBLANK('Data Input'!A934),\"\",SUM('Data Input'!T934,'Data Input'!U934))","v":""},{"$f":"IF(K929=\"\",\"\",K929/COUNTIF('Data Input'!$C$8:$AK$8,\"S\"))","v":""},{"$f":"IF(ISBLANK('Data Input'!A934),\"\",SUM('Data Input'!F934,'Data Input'!R934,'Data Input'!AJ934))","v":""},{"$f":"IF(M929=\"\",\"\",M929/COUNTIF('Data Input'!$C$8:$AK$8,\"F\"))","v":""},{"$f":"IF(ISBLANK('Data Input'!A934),\"\",SUM('Data Input'!E934,'Data Input'!M934,'Data Input'!Q934,'Data Input'!V934,'Data Input'!W934,'Data Input'!AD934,'Data Input'!AH934))","v":""},{"$f":"IF(O929=\"\",\"\",O929/COUNTIF('Data Input'!$C$8:$AK$8,\"M\"))","v":""},{"$f":"IF(ISBLANK('Data Input'!A934),\"\",SUM('Data Input'!H934,'Data Input'!K934,'Data Input'!P934,'Data Input'!Y934))","v":""},{"$f":"IF(Q929=\"\",\"\",Q929/COUNTIF('Data Input'!$C$8:$AK$8,\"G\"))","v":""}]
[{"$f":"IF('Data Input'!A935=0,\"\",'Data Input'!A935)","v":""},{"$f":"IF(ISBLANK('Data Input'!A935),\"\",COUNTIF('Data Input'!C935:AK935,\"\"))","v":""},{"$f":"IF(ISBLANK('Data Input'!A935),\"\",COUNTIF('Data Input'!C935:AK935,\"0\"))","v":""},{"$f":"IF(ISBLANK('Data Input'!A935),\"\",SUM(B930,C930))","v":""},{"$f":"IF(ISBLANK('Data Input'!A935),\"\",SUM('Data Input'!C935:AK935))","v":""},{"$f":"IF(E930=\"\",\"\",E930/(COUNTA('Data Input'!$C$8:$AK$8)))","v":""},{"$f":"IF(ISBLANK('Data Input'!A935),\"\",SUM('Data Input'!C935,'Data Input'!D935,'Data Input'!J935,'Data Input'!X935))","v":""},{"$f":"IF(G930=\"\",\"\",G930/COUNTIF('Data Input'!$C$8:$AK$8,\"N\"))","v":""},{"$f":"IF(ISBLANK('Data Input'!A935),\"\",SUM('Data Input'!G935,'Data Input'!I935,'Data Input'!L935,'Data Input'!N935,'Data Input'!O935,'Data Input'!S935,'Data Input'!Z935,'Data Input'!AA935,'Data Input'!AB935,'Data Input'!AC935,'Data Input'!AE935,'Data Input'!AF935,'Data Input'!AG935,'Data Input'!AI935,'Data Input'!AK935))","v":""},{"$f":"IF(I930=\"\",\"\",I930/COUNTIF('Data Input'!$C$8:$AK$8,\"C\"))","v":""},{"$f":"IF(ISBLANK('Data Input'!A935),\"\",SUM('Data Input'!T935,'Data Input'!U935))","v":""},{"$f":"IF(K930=\"\",\"\",K930/COUNTIF('Data Input'!$C$8:$AK$8,\"S\"))","v":""},{"$f":"IF(ISBLANK('Data Input'!A935),\"\",SUM('Data Input'!F935,'Data Input'!R935,'Data Input'!AJ935))","v":""},{"$f":"IF(M930=\"\",\"\",M930/COUNTIF('Data Input'!$C$8:$AK$8,\"F\"))","v":""},{"$f":"IF(ISBLANK('Data Input'!A935),\"\",SUM('Data Input'!E935,'Data Input'!M935,'Data Input'!Q935,'Data Input'!V935,'Data Input'!W935,'Data Input'!AD935,'Data Input'!AH935))","v":""},{"$f":"IF(O930=\"\",\"\",O930/COUNTIF('Data Input'!$C$8:$AK$8,\"M\"))","v":""},{"$f":"IF(ISBLANK('Data Input'!A935),\"\",SUM('Data Input'!H935,'Data Input'!K935,'Data Input'!P935,'Data Input'!Y935))","v":""},{"$f":"IF(Q930=\"\",\"\",Q930/COUNTIF('Data Input'!$C$8:$AK$8,\"G\"))","v":""}]
[{"$f":"IF('Data Input'!A936=0,\"\",'Data Input'!A936)","v":""},{"$f":"IF(ISBLANK('Data Input'!A936),\"\",COUNTIF('Data Input'!C936:AK936,\"\"))","v":""},{"$f":"IF(ISBLANK('Data Input'!A936),\"\",COUNTIF('Data Input'!C936:AK936,\"0\"))","v":""},{"$f":"IF(ISBLANK('Data Input'!A936),\"\",SUM(B931,C931))","v":""},{"$f":"IF(ISBLANK('Data Input'!A936),\"\",SUM('Data Input'!C936:AK936))","v":""},{"$f":"IF(E931=\"\",\"\",E931/(COUNTA('Data Input'!$C$8:$AK$8)))","v":""},{"$f":"IF(ISBLANK('Data Input'!A936),\"\",SUM('Data Input'!C936,'Data Input'!D936,'Data Input'!J936,'Data Input'!X936))","v":""},{"$f":"IF(G931=\"\",\"\",G931/COUNTIF('Data Input'!$C$8:$AK$8,\"N\"))","v":""},{"$f":"IF(ISBLANK('Data Input'!A936),\"\",SUM('Data Input'!G936,'Data Input'!I936,'Data Input'!L936,'Data Input'!N936,'Data Input'!O936,'Data Input'!S936,'Data Input'!Z936,'Data Input'!AA936,'Data Input'!AB936,'Data Input'!AC936,'Data Input'!AE936,'Data Input'!AF936,'Data Input'!AG936,'Data Input'!AI936,'Data Input'!AK936))","v":""},{"$f":"IF(I931=\"\",\"\",I931/COUNTIF('Data Input'!$C$8:$AK$8,\"C\"))","v":""},{"$f":"IF(ISBLANK('Data Input'!A936),\"\",SUM('Data Input'!T936,'Data Input'!U936))","v":""},{"$f":"IF(K931=\"\",\"\",K931/COUNTIF('Data Input'!$C$8:$AK$8,\"S\"))","v":""},{"$f":"IF(ISBLANK('Data Input'!A936),\"\",SUM('Data Input'!F936,'Data Input'!R936,'Data Input'!AJ936))","v":""},{"$f":"IF(M931=\"\",\"\",M931/COUNTIF('Data Input'!$C$8:$AK$8,\"F\"))","v":""},{"$f":"IF(ISBLANK('Data Input'!A936),\"\",SUM('Data Input'!E936,'Data Input'!M936,'Data Input'!Q936,'Data Input'!V936,'Data Input'!W936,'Data Input'!AD936,'Data Input'!AH936))","v":""},{"$f":"IF(O931=\"\",\"\",O931/COUNTIF('Data Input'!$C$8:$AK$8,\"M\"))","v":""},{"$f":"IF(ISBLANK('Data Input'!A936),\"\",SUM('Data Input'!H936,'Data Input'!K936,'Data Input'!P936,'Data Input'!Y936))","v":""},{"$f":"IF(Q931=\"\",\"\",Q931/COUNTIF('Data Input'!$C$8:$AK$8,\"G\"))","v":""}]
[{"$f":"IF('Data Input'!A937=0,\"\",'Data Input'!A937)","v":""},{"$f":"IF(ISBLANK('Data Input'!A937),\"\",COUNTIF('Data Input'!C937:AK937,\"\"))","v":""},{"$f":"IF(ISBLANK('Data Input'!A937),\"\",COUNTIF('Data Input'!C937:AK937,\"0\"))","v":""},{"$f":"IF(ISBLANK('Data Input'!A937),\"\",SUM(B932,C932))","v":""},{"$f":"IF(ISBLANK('Data Input'!A937),\"\",SUM('Data Input'!C937:AK937))","v":""},{"$f":"IF(E932=\"\",\"\",E932/(COUNTA('Data Input'!$C$8:$AK$8)))","v":""},{"$f":"IF(ISBLANK('Data Input'!A937),\"\",SUM('Data Input'!C937,'Data Input'!D937,'Data Input'!J937,'Data Input'!X937))","v":""},{"$f":"IF(G932=\"\",\"\",G932/COUNTIF('Data Input'!$C$8:$AK$8,\"N\"))","v":""},{"$f":"IF(ISBLANK('Data Input'!A937),\"\",SUM('Data Input'!G937,'Data Input'!I937,'Data Input'!L937,'Data Input'!N937,'Data Input'!O937,'Data Input'!S937,'Data Input'!Z937,'Data Input'!AA937,'Data Input'!AB937,'Data Input'!AC937,'Data Input'!AE937,'Data Input'!AF937,'Data Input'!AG937,'Data Input'!AI937,'Data Input'!AK937))","v":""},{"$f":"IF(I932=\"\",\"\",I932/COUNTIF('Data Input'!$C$8:$AK$8,\"C\"))","v":""},{"$f":"IF(ISBLANK('Data Input'!A937),\"\",SUM('Data Input'!T937,'Data Input'!U937))","v":""},{"$f":"IF(K932=\"\",\"\",K932/COUNTIF('Data Input'!$C$8:$AK$8,\"S\"))","v":""},{"$f":"IF(ISBLANK('Data Input'!A937),\"\",SUM('Data Input'!F937,'Data Input'!R937,'Data Input'!AJ937))","v":""},{"$f":"IF(M932=\"\",\"\",M932/COUNTIF('Data Input'!$C$8:$AK$8,\"F\"))","v":""},{"$f":"IF(ISBLANK('Data Input'!A937),\"\",SUM('Data Input'!E937,'Data Input'!M937,'Data Input'!Q937,'Data Input'!V937,'Data Input'!W937,'Data Input'!AD937,'Data Input'!AH937))","v":""},{"$f":"IF(O932=\"\",\"\",O932/COUNTIF('Data Input'!$C$8:$AK$8,\"M\"))","v":""},{"$f":"IF(ISBLANK('Data Input'!A937),\"\",SUM('Data Input'!H937,'Data Input'!K937,'Data Input'!P937,'Data Input'!Y937))","v":""},{"$f":"IF(Q932=\"\",\"\",Q932/COUNTIF('Data Input'!$C$8:$AK$8,\"G\"))","v":""}]
[{"$f":"IF('Data Input'!A938=0,\"\",'Data Input'!A938)","v":""},{"$f":"IF(ISBLANK('Data Input'!A938),\"\",COUNTIF('Data Input'!C938:AK938,\"\"))","v":""},{"$f":"IF(ISBLANK('Data Input'!A938),\"\",COUNTIF('Data Input'!C938:AK938,\"0\"))","v":""},{"$f":"IF(ISBLANK('Data Input'!A938),\"\",SUM(B933,C933))","v":""},{"$f":"IF(ISBLANK('Data Input'!A938),\"\",SUM('Data Input'!C938:AK938))","v":""},{"$f":"IF(E933=\"\",\"\",E933/(COUNTA('Data Input'!$C$8:$AK$8)))","v":""},{"$f":"IF(ISBLANK('Data Input'!A938),\"\",SUM('Data Input'!C938,'Data Input'!D938,'Data Input'!J938,'Data Input'!X938))","v":""},{"$f":"IF(G933=\"\",\"\",G933/COUNTIF('Data Input'!$C$8:$AK$8,\"N\"))","v":""},{"$f":"IF(ISBLANK('Data Input'!A938),\"\",SUM('Data Input'!G938,'Data Input'!I938,'Data Input'!L938,'Data Input'!N938,'Data Input'!O938,'Data Input'!S938,'Data Input'!Z938,'Data Input'!AA938,'Data Input'!AB938,'Data Input'!AC938,'Data Input'!AE938,'Data Input'!AF938,'Data Input'!AG938,'Data Input'!AI938,'Data Input'!AK938))","v":""},{"$f":"IF(I933=\"\",\"\",I933/COUNTIF('Data Input'!$C$8:$AK$8,\"C\"))","v":""},{"$f":"IF(ISBLANK('Data Input'!A938),\"\",SUM('Data Input'!T938,'Data Input'!U938))","v":""},{"$f":"IF(K933=\"\",\"\",K933/COUNTIF('Data Input'!$C$8:$AK$8,\"S\"))","v":""},{"$f":"IF(ISBLANK('Data Input'!A938),\"\",SUM('Data Input'!F938,'Data Input'!R938,'Data Input'!AJ938))","v":""},{"$f":"IF(M933=\"\",\"\",M933/COUNTIF('Data Input'!$C$8:$AK$8,\"F\"))","v":""},{"$f":"IF(ISBLANK('Data Input'!A938),\"\",SUM('Data Input'!E938,'Data Input'!M938,'Data Input'!Q938,'Data Input'!V938,'Data Input'!W938,'Data Input'!AD938,'Data Input'!AH938))","v":""},{"$f":"IF(O933=\"\",\"\",O933/COUNTIF('Data Input'!$C$8:$AK$8,\"M\"))","v":""},{"$f":"IF(ISBLANK('Data Input'!A938),\"\",SUM('Data Input'!H938,'Data Input'!K938,'Data Input'!P938,'Data Input'!Y938))","v":""},{"$f":"IF(Q933=\"\",\"\",Q933/COUNTIF('Data Input'!$C$8:$AK$8,\"G\"))","v":""}]
[{"$f":"IF('Data Input'!A939=0,\"\",'Data Input'!A939)","v":""},{"$f":"IF(ISBLANK('Data Input'!A939),\"\",COUNTIF('Data Input'!C939:AK939,\"\"))","v":""},{"$f":"IF(ISBLANK('Data Input'!A939),\"\",COUNTIF('Data Input'!C939:AK939,\"0\"))","v":""},{"$f":"IF(ISBLANK('Data Input'!A939),\"\",SUM(B934,C934))","v":""},{"$f":"IF(ISBLANK('Data Input'!A939),\"\",SUM('Data Input'!C939:AK939))","v":""},{"$f":"IF(E934=\"\",\"\",E934/(COUNTA('Data Input'!$C$8:$AK$8)))","v":""},{"$f":"IF(ISBLANK('Data Input'!A939),\"\",SUM('Data Input'!C939,'Data Input'!D939,'Data Input'!J939,'Data Input'!X939))","v":""},{"$f":"IF(G934=\"\",\"\",G934/COUNTIF('Data Input'!$C$8:$AK$8,\"N\"))","v":""},{"$f":"IF(ISBLANK('Data Input'!A939),\"\",SUM('Data Input'!G939,'Data Input'!I939,'Data Input'!L939,'Data Input'!N939,'Data Input'!O939,'Data Input'!S939,'Data Input'!Z939,'Data Input'!AA939,'Data Input'!AB939,'Data Input'!AC939,'Data Input'!AE939,'Data Input'!AF939,'Data Input'!AG939,'Data Input'!AI939,'Data Input'!AK939))","v":""},{"$f":"IF(I934=\"\",\"\",I934/COUNTIF('Data Input'!$C$8:$AK$8,\"C\"))","v":""},{"$f":"IF(ISBLANK('Data Input'!A939),\"\",SUM('Data Input'!T939,'Data Input'!U939))","v":""},{"$f":"IF(K934=\"\",\"\",K934/COUNTIF('Data Input'!$C$8:$AK$8,\"S\"))","v":""},{"$f":"IF(ISBLANK('Data Input'!A939),\"\",SUM('Data Input'!F939,'Data Input'!R939,'Data Input'!AJ939))","v":""},{"$f":"IF(M934=\"\",\"\",M934/COUNTIF('Data Input'!$C$8:$AK$8,\"F\"))","v":""},{"$f":"IF(ISBLANK('Data Input'!A939),\"\",SUM('Data Input'!E939,'Data Input'!M939,'Data Input'!Q939,'Data Input'!V939,'Data Input'!W939,'Data Input'!AD939,'Data Input'!AH939))","v":""},{"$f":"IF(O934=\"\",\"\",O934/COUNTIF('Data Input'!$C$8:$AK$8,\"M\"))","v":""},{"$f":"IF(ISBLANK('Data Input'!A939),\"\",SUM('Data Input'!H939,'Data Input'!K939,'Data Input'!P939,'Data Input'!Y939))","v":""},{"$f":"IF(Q934=\"\",\"\",Q934/COUNTIF('Data Input'!$C$8:$AK$8,\"G\"))","v":""}]
[{"$f":"IF('Data Input'!A940=0,\"\",'Data Input'!A940)","v":""},{"$f":"IF(ISBLANK('Data Input'!A940),\"\",COUNTIF('Data Input'!C940:AK940,\"\"))","v":""},{"$f":"IF(ISBLANK('Data Input'!A940),\"\",COUNTIF('Data Input'!C940:AK940,\"0\"))","v":""},{"$f":"IF(ISBLANK('Data Input'!A940),\"\",SUM(B935,C935))","v":""},{"$f":"IF(ISBLANK('Data Input'!A940),\"\",SUM('Data Input'!C940:AK940))","v":""},{"$f":"IF(E935=\"\",\"\",E935/(COUNTA('Data Input'!$C$8:$AK$8)))","v":""},{"$f":"IF(ISBLANK('Data Input'!A940),\"\",SUM('Data Input'!C940,'Data Input'!D940,'Data Input'!J940,'Data Input'!X940))","v":""},{"$f":"IF(G935=\"\",\"\",G935/COUNTIF('Data Input'!$C$8:$AK$8,\"N\"))","v":""},{"$f":"IF(ISBLANK('Data Input'!A940),\"\",SUM('Data Input'!G940,'Data Input'!I940,'Data Input'!L940,'Data Input'!N940,'Data Input'!O940,'Data Input'!S940,'Data Input'!Z940,'Data Input'!AA940,'Data Input'!AB940,'Data Input'!AC940,'Data Input'!AE940,'Data Input'!AF940,'Data Input'!AG940,'Data Input'!AI940,'Data Input'!AK940))","v":""},{"$f":"IF(I935=\"\",\"\",I935/COUNTIF('Data Input'!$C$8:$AK$8,\"C\"))","v":""},{"$f":"IF(ISBLANK('Data Input'!A940),\"\",SUM('Data Input'!T940,'Data Input'!U940))","v":""},{"$f":"IF(K935=\"\",\"\",K935/COUNTIF('Data Input'!$C$8:$AK$8,\"S\"))","v":""},{"$f":"IF(ISBLANK('Data Input'!A940),\"\",SUM('Data Input'!F940,'Data Input'!R940,'Data Input'!AJ940))","v":""},{"$f":"IF(M935=\"\",\"\",M935/COUNTIF('Data Input'!$C$8:$AK$8,\"F\"))","v":""},{"$f":"IF(ISBLANK('Data Input'!A940),\"\",SUM('Data Input'!E940,'Data Input'!M940,'Data Input'!Q940,'Data Input'!V940,'Data Input'!W940,'Data Input'!AD940,'Data Input'!AH940))","v":""},{"$f":"IF(O935=\"\",\"\",O935/COUNTIF('Data Input'!$C$8:$AK$8,\"M\"))","v":""},{"$f":"IF(ISBLANK('Data Input'!A940),\"\",SUM('Data Input'!H940,'Data Input'!K940,'Data Input'!P940,'Data Input'!Y940))","v":""},{"$f":"IF(Q935=\"\",\"\",Q935/COUNTIF('Data Input'!$C$8:$AK$8,\"G\"))","v":""}]
[{"$f":"IF('Data Input'!A941=0,\"\",'Data Input'!A941)","v":""},{"$f":"IF(ISBLANK('Data Input'!A941),\"\",COUNTIF('Data Input'!C941:AK941,\"\"))","v":""},{"$f":"IF(ISBLANK('Data Input'!A941),\"\",COUNTIF('Data Input'!C941:AK941,\"0\"))","v":""},{"$f":"IF(ISBLANK('Data Input'!A941),\"\",SUM(B936,C936))","v":""},{"$f":"IF(ISBLANK('Data Input'!A941),\"\",SUM('Data Input'!C941:AK941))","v":""},{"$f":"IF(E936=\"\",\"\",E936/(COUNTA('Data Input'!$C$8:$AK$8)))","v":""},{"$f":"IF(ISBLANK('Data Input'!A941),\"\",SUM('Data Input'!C941,'Data Input'!D941,'Data Input'!J941,'Data Input'!X941))","v":""},{"$f":"IF(G936=\"\",\"\",G936/COUNTIF('Data Input'!$C$8:$AK$8,\"N\"))","v":""},{"$f":"IF(ISBLANK('Data Input'!A941),\"\",SUM('Data Input'!G941,'Data Input'!I941,'Data Input'!L941,'Data Input'!N941,'Data Input'!O941,'Data Input'!S941,'Data Input'!Z941,'Data Input'!AA941,'Data Input'!AB941,'Data Input'!AC941,'Data Input'!AE941,'Data Input'!AF941,'Data Input'!AG941,'Data Input'!AI941,'Data Input'!AK941))","v":""},{"$f":"IF(I936=\"\",\"\",I936/COUNTIF('Data Input'!$C$8:$AK$8,\"C\"))","v":""},{"$f":"IF(ISBLANK('Data Input'!A941),\"\",SUM('Data Input'!T941,'Data Input'!U941))","v":""},{"$f":"IF(K936=\"\",\"\",K936/COUNTIF('Data Input'!$C$8:$AK$8,\"S\"))","v":""},{"$f":"IF(ISBLANK('Data Input'!A941),\"\",SUM('Data Input'!F941,'Data Input'!R941,'Data Input'!AJ941))","v":""},{"$f":"IF(M936=\"\",\"\",M936/COUNTIF('Data Input'!$C$8:$AK$8,\"F\"))","v":""},{"$f":"IF(ISBLANK('Data Input'!A941),\"\",SUM('Data Input'!E941,'Data Input'!M941,'Data Input'!Q941,'Data Input'!V941,'Data Input'!W941,'Data Input'!AD941,'Data Input'!AH941))","v":""},{"$f":"IF(O936=\"\",\"\",O936/COUNTIF('Data Input'!$C$8:$AK$8,\"M\"))","v":""},{"$f":"IF(ISBLANK('Data Input'!A941),\"\",SUM('Data Input'!H941,'Data Input'!K941,'Data Input'!P941,'Data Input'!Y941))","v":""},{"$f":"IF(Q936=\"\",\"\",Q936/COUNTIF('Data Input'!$C$8:$AK$8,\"G\"))","v":""}]
[{"$f":"IF('Data Input'!A942=0,\"\",'Data Input'!A942)","v":""},{"$f":"IF(ISBLANK('Data Input'!A942),\"\",COUNTIF('Data Input'!C942:AK942,\"\"))","v":""},{"$f":"IF(ISBLANK('Data Input'!A942),\"\",COUNTIF('Data Input'!C942:AK942,\"0\"))","v":""},{"$f":"IF(ISBLANK('Data Input'!A942),\"\",SUM(B937,C937))","v":""},{"$f":"IF(ISBLANK('Data Input'!A942),\"\",SUM('Data Input'!C942:AK942))","v":""},{"$f":"IF(E937=\"\",\"\",E937/(COUNTA('Data Input'!$C$8:$AK$8)))","v":""},{"$f":"IF(ISBLANK('Data Input'!A942),\"\",SUM('Data Input'!C942,'Data Input'!D942,'Data Input'!J942,'Data Input'!X942))","v":""},{"$f":"IF(G937=\"\",\"\",G937/COUNTIF('Data Input'!$C$8:$AK$8,\"N\"))","v":""},{"$f":"IF(ISBLANK('Data Input'!A942),\"\",SUM('Data Input'!G942,'Data Input'!I942,'Data Input'!L942,'Data Input'!N942,'Data Input'!O942,'Data Input'!S942,'Data Input'!Z942,'Data Input'!AA942,'Data Input'!AB942,'Data Input'!AC942,'Data Input'!AE942,'Data Input'!AF942,'Data Input'!AG942,'Data Input'!AI942,'Data Input'!AK942))","v":""},{"$f":"IF(I937=\"\",\"\",I937/COUNTIF('Data Input'!$C$8:$AK$8,\"C\"))","v":""},{"$f":"IF(ISBLANK('Data Input'!A942),\"\",SUM('Data Input'!T942,'Data Input'!U942))","v":""},{"$f":"IF(K937=\"\",\"\",K937/COUNTIF('Data Input'!$C$8:$AK$8,\"S\"))","v":""},{"$f":"IF(ISBLANK('Data Input'!A942),\"\",SUM('Data Input'!F942,'Data Input'!R942,'Data Input'!AJ942))","v":""},{"$f":"IF(M937=\"\",\"\",M937/COUNTIF('Data Input'!$C$8:$AK$8,\"F\"))","v":""},{"$f":"IF(ISBLANK('Data Input'!A942),\"\",SUM('Data Input'!E942,'Data Input'!M942,'Data Input'!Q942,'Data Input'!V942,'Data Input'!W942,'Data Input'!AD942,'Data Input'!AH942))","v":""},{"$f":"IF(O937=\"\",\"\",O937/COUNTIF('Data Input'!$C$8:$AK$8,\"M\"))","v":""},{"$f":"IF(ISBLANK('Data Input'!A942),\"\",SUM('Data Input'!H942,'Data Input'!K942,'Data Input'!P942,'Data Input'!Y942))","v":""},{"$f":"IF(Q937=\"\",\"\",Q937/COUNTIF('Data Input'!$C$8:$AK$8,\"G\"))","v":""}]
[{"$f":"IF('Data Input'!A943=0,\"\",'Data Input'!A943)","v":""},{"$f":"IF(ISBLANK('Data Input'!A943),\"\",COUNTIF('Data Input'!C943:AK943,\"\"))","v":""},{"$f":"IF(ISBLANK('Data Input'!A943),\"\",COUNTIF('Data Input'!C943:AK943,\"0\"))","v":""},{"$f":"IF(ISBLANK('Data Input'!A943),\"\",SUM(B938,C938))","v":""},{"$f":"IF(ISBLANK('Data Input'!A943),\"\",SUM('Data Input'!C943:AK943))","v":""},{"$f":"IF(E938=\"\",\"\",E938/(COUNTA('Data Input'!$C$8:$AK$8)))","v":""},{"$f":"IF(ISBLANK('Data Input'!A943),\"\",SUM('Data Input'!C943,'Data Input'!D943,'Data Input'!J943,'Data Input'!X943))","v":""},{"$f":"IF(G938=\"\",\"\",G938/COUNTIF('Data Input'!$C$8:$AK$8,\"N\"))","v":""},{"$f":"IF(ISBLANK('Data Input'!A943),\"\",SUM('Data Input'!G943,'Data Input'!I943,'Data Input'!L943,'Data Input'!N943,'Data Input'!O943,'Data Input'!S943,'Data Input'!Z943,'Data Input'!AA943,'Data Input'!AB943,'Data Input'!AC943,'Data Input'!AE943,'Data Input'!AF943,'Data Input'!AG943,'Data Input'!AI943,'Data Input'!AK943))","v":""},{"$f":"IF(I938=\"\",\"\",I938/COUNTIF('Data Input'!$C$8:$AK$8,\"C\"))","v":""},{"$f":"IF(ISBLANK('Data Input'!A943),\"\",SUM('Data Input'!T943,'Data Input'!U943))","v":""},{"$f":"IF(K938=\"\",\"\",K938/COUNTIF('Data Input'!$C$8:$AK$8,\"S\"))","v":""},{"$f":"IF(ISBLANK('Data Input'!A943),\"\",SUM('Data Input'!F943,'Data Input'!R943,'Data Input'!AJ943))","v":""},{"$f":"IF(M938=\"\",\"\",M938/COUNTIF('Data Input'!$C$8:$AK$8,\"F\"))","v":""},{"$f":"IF(ISBLANK('Data Input'!A943),\"\",SUM('Data Input'!E943,'Data Input'!M943,'Data Input'!Q943,'Data Input'!V943,'Data Input'!W943,'Data Input'!AD943,'Data Input'!AH943))","v":""},{"$f":"IF(O938=\"\",\"\",O938/COUNTIF('Data Input'!$C$8:$AK$8,\"M\"))","v":""},{"$f":"IF(ISBLANK('Data Input'!A943),\"\",SUM('Data Input'!H943,'Data Input'!K943,'Data Input'!P943,'Data Input'!Y943))","v":""},{"$f":"IF(Q938=\"\",\"\",Q938/COUNTIF('Data Input'!$C$8:$AK$8,\"G\"))","v":""}]
[{"$f":"IF('Data Input'!A944=0,\"\",'Data Input'!A944)","v":""},{"$f":"IF(ISBLANK('Data Input'!A944),\"\",COUNTIF('Data Input'!C944:AK944,\"\"))","v":""},{"$f":"IF(ISBLANK('Data Input'!A944),\"\",COUNTIF('Data Input'!C944:AK944,\"0\"))","v":""},{"$f":"IF(ISBLANK('Data Input'!A944),\"\",SUM(B939,C939))","v":""},{"$f":"IF(ISBLANK('Data Input'!A944),\"\",SUM('Data Input'!C944:AK944))","v":""},{"$f":"IF(E939=\"\",\"\",E939/(COUNTA('Data Input'!$C$8:$AK$8)))","v":""},{"$f":"IF(ISBLANK('Data Input'!A944),\"\",SUM('Data Input'!C944,'Data Input'!D944,'Data Input'!J944,'Data Input'!X944))","v":""},{"$f":"IF(G939=\"\",\"\",G939/COUNTIF('Data Input'!$C$8:$AK$8,\"N\"))","v":""},{"$f":"IF(ISBLANK('Data Input'!A944),\"\",SUM('Data Input'!G944,'Data Input'!I944,'Data Input'!L944,'Data Input'!N944,'Data Input'!O944,'Data Input'!S944,'Data Input'!Z944,'Data Input'!AA944,'Data Input'!AB944,'Data Input'!AC944,'Data Input'!AE944,'Data Input'!AF944,'Data Input'!AG944,'Data Input'!AI944,'Data Input'!AK944))","v":""},{"$f":"IF(I939=\"\",\"\",I939/COUNTIF('Data Input'!$C$8:$AK$8,\"C\"))","v":""},{"$f":"IF(ISBLANK('Data Input'!A944),\"\",SUM('Data Input'!T944,'Data Input'!U944))","v":""},{"$f":"IF(K939=\"\",\"\",K939/COUNTIF('Data Input'!$C$8:$AK$8,\"S\"))","v":""},{"$f":"IF(ISBLANK('Data Input'!A944),\"\",SUM('Data Input'!F944,'Data Input'!R944,'Data Input'!AJ944))","v":""},{"$f":"IF(M939=\"\",\"\",M939/COUNTIF('Data Input'!$C$8:$AK$8,\"F\"))","v":""},{"$f":"IF(ISBLANK('Data Input'!A944),\"\",SUM('Data Input'!E944,'Data Input'!M944,'Data Input'!Q944,'Data Input'!V944,'Data Input'!W944,'Data Input'!AD944,'Data Input'!AH944))","v":""},{"$f":"IF(O939=\"\",\"\",O939/COUNTIF('Data Input'!$C$8:$AK$8,\"M\"))","v":""},{"$f":"IF(ISBLANK('Data Input'!A944),\"\",SUM('Data Input'!H944,'Data Input'!K944,'Data Input'!P944,'Data Input'!Y944))","v":""},{"$f":"IF(Q939=\"\",\"\",Q939/COUNTIF('Data Input'!$C$8:$AK$8,\"G\"))","v":""}]
[{"$f":"IF('Data Input'!A945=0,\"\",'Data Input'!A945)","v":""},{"$f":"IF(ISBLANK('Data Input'!A945),\"\",COUNTIF('Data Input'!C945:AK945,\"\"))","v":""},{"$f":"IF(ISBLANK('Data Input'!A945),\"\",COUNTIF('Data Input'!C945:AK945,\"0\"))","v":""},{"$f":"IF(ISBLANK('Data Input'!A945),\"\",SUM(B940,C940))","v":""},{"$f":"IF(ISBLANK('Data Input'!A945),\"\",SUM('Data Input'!C945:AK945))","v":""},{"$f":"IF(E940=\"\",\"\",E940/(COUNTA('Data Input'!$C$8:$AK$8)))","v":""},{"$f":"IF(ISBLANK('Data Input'!A945),\"\",SUM('Data Input'!C945,'Data Input'!D945,'Data Input'!J945,'Data Input'!X945))","v":""},{"$f":"IF(G940=\"\",\"\",G940/COUNTIF('Data Input'!$C$8:$AK$8,\"N\"))","v":""},{"$f":"IF(ISBLANK('Data Input'!A945),\"\",SUM('Data Input'!G945,'Data Input'!I945,'Data Input'!L945,'Data Input'!N945,'Data Input'!O945,'Data Input'!S945,'Data Input'!Z945,'Data Input'!AA945,'Data Input'!AB945,'Data Input'!AC945,'Data Input'!AE945,'Data Input'!AF945,'Data Input'!AG945,'Data Input'!AI945,'Data Input'!AK945))","v":""},{"$f":"IF(I940=\"\",\"\",I940/COUNTIF('Data Input'!$C$8:$AK$8,\"C\"))","v":""},{"$f":"IF(ISBLANK('Data Input'!A945),\"\",SUM('Data Input'!T945,'Data Input'!U945))","v":""},{"$f":"IF(K940=\"\",\"\",K940/COUNTIF('Data Input'!$C$8:$AK$8,\"S\"))","v":""},{"$f":"IF(ISBLANK('Data Input'!A945),\"\",SUM('Data Input'!F945,'Data Input'!R945,'Data Input'!AJ945))","v":""},{"$f":"IF(M940=\"\",\"\",M940/COUNTIF('Data Input'!$C$8:$AK$8,\"F\"))","v":""},{"$f":"IF(ISBLANK('Data Input'!A945),\"\",SUM('Data Input'!E945,'Data Input'!M945,'Data Input'!Q945,'Data Input'!V945,'Data Input'!W945,'Data Input'!AD945,'Data Input'!AH945))","v":""},{"$f":"IF(O940=\"\",\"\",O940/COUNTIF('Data Input'!$C$8:$AK$8,\"M\"))","v":""},{"$f":"IF(ISBLANK('Data Input'!A945),\"\",SUM('Data Input'!H945,'Data Input'!K945,'Data Input'!P945,'Data Input'!Y945))","v":""},{"$f":"IF(Q940=\"\",\"\",Q940/COUNTIF('Data Input'!$C$8:$AK$8,\"G\"))","v":""}]
[{"$f":"IF('Data Input'!A946=0,\"\",'Data Input'!A946)","v":""},{"$f":"IF(ISBLANK('Data Input'!A946),\"\",COUNTIF('Data Input'!C946:AK946,\"\"))","v":""},{"$f":"IF(ISBLANK('Data Input'!A946),\"\",COUNTIF('Data Input'!C946:AK946,\"0\"))","v":""},{"$f":"IF(ISBLANK('Data Input'!A946),\"\",SUM(B941,C941))","v":""},{"$f":"IF(ISBLANK('Data Input'!A946),\"\",SUM('Data Input'!C946:AK946))","v":""},{"$f":"IF(E941=\"\",\"\",E941/(COUNTA('Data Input'!$C$8:$AK$8)))","v":""},{"$f":"IF(ISBLANK('Data Input'!A946),\"\",SUM('Data Input'!C946,'Data Input'!D946,'Data Input'!J946,'Data Input'!X946))","v":""},{"$f":"IF(G941=\"\",\"\",G941/COUNTIF('Data Input'!$C$8:$AK$8,\"N\"))","v":""},{"$f":"IF(ISBLANK('Data Input'!A946),\"\",SUM('Data Input'!G946,'Data Input'!I946,'Data Input'!L946,'Data Input'!N946,'Data Input'!O946,'Data Input'!S946,'Data Input'!Z946,'Data Input'!AA946,'Data Input'!AB946,'Data Input'!AC946,'Data Input'!AE946,'Data Input'!AF946,'Data Input'!AG946,'Data Input'!AI946,'Data Input'!AK946))","v":""},{"$f":"IF(I941=\"\",\"\",I941/COUNTIF('Data Input'!$C$8:$AK$8,\"C\"))","v":""},{"$f":"IF(ISBLANK('Data Input'!A946),\"\",SUM('Data Input'!T946,'Data Input'!U946))","v":""},{"$f":"IF(K941=\"\",\"\",K941/COUNTIF('Data Input'!$C$8:$AK$8,\"S\"))","v":""},{"$f":"IF(ISBLANK('Data Input'!A946),\"\",SUM('Data Input'!F946,'Data Input'!R946,'Data Input'!AJ946))","v":""},{"$f":"IF(M941=\"\",\"\",M941/COUNTIF('Data Input'!$C$8:$AK$8,\"F\"))","v":""},{"$f":"IF(ISBLANK('Data Input'!A946),\"\",SUM('Data Input'!E946,'Data Input'!M946,'Data Input'!Q946,'Data Input'!V946,'Data Input'!W946,'Data Input'!AD946,'Data Input'!AH946))","v":""},{"$f":"IF(O941=\"\",\"\",O941/COUNTIF('Data Input'!$C$8:$AK$8,\"M\"))","v":""},{"$f":"IF(ISBLANK('Data Input'!A946),\"\",SUM('Data Input'!H946,'Data Input'!K946,'Data Input'!P946,'Data Input'!Y946))","v":""},{"$f":"IF(Q941=\"\",\"\",Q941/COUNTIF('Data Input'!$C$8:$AK$8,\"G\"))","v":""}]
[{"$f":"IF('Data Input'!A947=0,\"\",'Data Input'!A947)","v":""},{"$f":"IF(ISBLANK('Data Input'!A947),\"\",COUNTIF('Data Input'!C947:AK947,\"\"))","v":""},{"$f":"IF(ISBLANK('Data Input'!A947),\"\",COUNTIF('Data Input'!C947:AK947,\"0\"))","v":""},{"$f":"IF(ISBLANK('Data Input'!A947),\"\",SUM(B942,C942))","v":""},{"$f":"IF(ISBLANK('Data Input'!A947),\"\",SUM('Data Input'!C947:AK947))","v":""},{"$f":"IF(E942=\"\",\"\",E942/(COUNTA('Data Input'!$C$8:$AK$8)))","v":""},{"$f":"IF(ISBLANK('Data Input'!A947),\"\",SUM('Data Input'!C947,'Data Input'!D947,'Data Input'!J947,'Data Input'!X947))","v":""},{"$f":"IF(G942=\"\",\"\",G942/COUNTIF('Data Input'!$C$8:$AK$8,\"N\"))","v":""},{"$f":"IF(ISBLANK('Data Input'!A947),\"\",SUM('Data Input'!G947,'Data Input'!I947,'Data Input'!L947,'Data Input'!N947,'Data Input'!O947,'Data Input'!S947,'Data Input'!Z947,'Data Input'!AA947,'Data Input'!AB947,'Data Input'!AC947,'Data Input'!AE947,'Data Input'!AF947,'Data Input'!AG947,'Data Input'!AI947,'Data Input'!AK947))","v":""},{"$f":"IF(I942=\"\",\"\",I942/COUNTIF('Data Input'!$C$8:$AK$8,\"C\"))","v":""},{"$f":"IF(ISBLANK('Data Input'!A947),\"\",SUM('Data Input'!T947,'Data Input'!U947))","v":""},{"$f":"IF(K942=\"\",\"\",K942/COUNTIF('Data Input'!$C$8:$AK$8,\"S\"))","v":""},{"$f":"IF(ISBLANK('Data Input'!A947),\"\",SUM('Data Input'!F947,'Data Input'!R947,'Data Input'!AJ947))","v":""},{"$f":"IF(M942=\"\",\"\",M942/COUNTIF('Data Input'!$C$8:$AK$8,\"F\"))","v":""},{"$f":"IF(ISBLANK('Data Input'!A947),\"\",SUM('Data Input'!E947,'Data Input'!M947,'Data Input'!Q947,'Data Input'!V947,'Data Input'!W947,'Data Input'!AD947,'Data Input'!AH947))","v":""},{"$f":"IF(O942=\"\",\"\",O942/COUNTIF('Data Input'!$C$8:$AK$8,\"M\"))","v":""},{"$f":"IF(ISBLANK('Data Input'!A947),\"\",SUM('Data Input'!H947,'Data Input'!K947,'Data Input'!P947,'Data Input'!Y947))","v":""},{"$f":"IF(Q942=\"\",\"\",Q942/COUNTIF('Data Input'!$C$8:$AK$8,\"G\"))","v":""}]
[{"$f":"IF('Data Input'!A948=0,\"\",'Data Input'!A948)","v":""},{"$f":"IF(ISBLANK('Data Input'!A948),\"\",COUNTIF('Data Input'!C948:AK948,\"\"))","v":""},{"$f":"IF(ISBLANK('Data Input'!A948),\"\",COUNTIF('Data Input'!C948:AK948,\"0\"))","v":""},{"$f":"IF(ISBLANK('Data Input'!A948),\"\",SUM(B943,C943))","v":""},{"$f":"IF(ISBLANK('Data Input'!A948),\"\",SUM('Data Input'!C948:AK948))","v":""},{"$f":"IF(E943=\"\",\"\",E943/(COUNTA('Data Input'!$C$8:$AK$8)))","v":""},{"$f":"IF(ISBLANK('Data Input'!A948),\"\",SUM('Data Input'!C948,'Data Input'!D948,'Data Input'!J948,'Data Input'!X948))","v":""},{"$f":"IF(G943=\"\",\"\",G943/COUNTIF('Data Input'!$C$8:$AK$8,\"N\"))","v":""},{"$f":"IF(ISBLANK('Data Input'!A948),\"\",SUM('Data Input'!G948,'Data Input'!I948,'Data Input'!L948,'Data Input'!N948,'Data Input'!O948,'Data Input'!S948,'Data Input'!Z948,'Data Input'!AA948,'Data Input'!AB948,'Data Input'!AC948,'Data Input'!AE948,'Data Input'!AF948,'Data Input'!AG948,'Data Input'!AI948,'Data Input'!AK948))","v":""},{"$f":"IF(I943=\"\",\"\",I943/COUNTIF('Data Input'!$C$8:$AK$8,\"C\"))","v":""},{"$f":"IF(ISBLANK('Data Input'!A948),\"\",SUM('Data Input'!T948,'Data Input'!U948))","v":""},{"$f":"IF(K943=\"\",\"\",K943/COUNTIF('Data Input'!$C$8:$AK$8,\"S\"))","v":""},{"$f":"IF(ISBLANK('Data Input'!A948),\"\",SUM('Data Input'!F948,'Data Input'!R948,'Data Input'!AJ948))","v":""},{"$f":"IF(M943=\"\",\"\",M943/COUNTIF('Data Input'!$C$8:$AK$8,\"F\"))","v":""},{"$f":"IF(ISBLANK('Data Input'!A948),\"\",SUM('Data Input'!E948,'Data Input'!M948,'Data Input'!Q948,'Data Input'!V948,'Data Input'!W948,'Data Input'!AD948,'Data Input'!AH948))","v":""},{"$f":"IF(O943=\"\",\"\",O943/COUNTIF('Data Input'!$C$8:$AK$8,\"M\"))","v":""},{"$f":"IF(ISBLANK('Data Input'!A948),\"\",SUM('Data Input'!H948,'Data Input'!K948,'Data Input'!P948,'Data Input'!Y948))","v":""},{"$f":"IF(Q943=\"\",\"\",Q943/COUNTIF('Data Input'!$C$8:$AK$8,\"G\"))","v":""}]
[{"$f":"IF('Data Input'!A949=0,\"\",'Data Input'!A949)","v":""},{"$f":"IF(ISBLANK('Data Input'!A949),\"\",COUNTIF('Data Input'!C949:AK949,\"\"))","v":""},{"$f":"IF(ISBLANK('Data Input'!A949),\"\",COUNTIF('Data Input'!C949:AK949,\"0\"))","v":""},{"$f":"IF(ISBLANK('Data Input'!A949),\"\",SUM(B944,C944))","v":""},{"$f":"IF(ISBLANK('Data Input'!A949),\"\",SUM('Data Input'!C949:AK949))","v":""},{"$f":"IF(E944=\"\",\"\",E944/(COUNTA('Data Input'!$C$8:$AK$8)))","v":""},{"$f":"IF(ISBLANK('Data Input'!A949),\"\",SUM('Data Input'!C949,'Data Input'!D949,'Data Input'!J949,'Data Input'!X949))","v":""},{"$f":"IF(G944=\"\",\"\",G944/COUNTIF('Data Input'!$C$8:$AK$8,\"N\"))","v":""},{"$f":"IF(ISBLANK('Data Input'!A949),\"\",SUM('Data Input'!G949,'Data Input'!I949,'Data Input'!L949,'Data Input'!N949,'Data Input'!O949,'Data Input'!S949,'Data Input'!Z949,'Data Input'!AA949,'Data Input'!AB949,'Data Input'!AC949,'Data Input'!AE949,'Data Input'!AF949,'Data Input'!AG949,'Data Input'!AI949,'Data Input'!AK949))","v":""},{"$f":"IF(I944=\"\",\"\",I944/COUNTIF('Data Input'!$C$8:$AK$8,\"C\"))","v":""},{"$f":"IF(ISBLANK('Data Input'!A949),\"\",SUM('Data Input'!T949,'Data Input'!U949))","v":""},{"$f":"IF(K944=\"\",\"\",K944/COUNTIF('Data Input'!$C$8:$AK$8,\"S\"))","v":""},{"$f":"IF(ISBLANK('Data Input'!A949),\"\",SUM('Data Input'!F949,'Data Input'!R949,'Data Input'!AJ949))","v":""},{"$f":"IF(M944=\"\",\"\",M944/COUNTIF('Data Input'!$C$8:$AK$8,\"F\"))","v":""},{"$f":"IF(ISBLANK('Data Input'!A949),\"\",SUM('Data Input'!E949,'Data Input'!M949,'Data Input'!Q949,'Data Input'!V949,'Data Input'!W949,'Data Input'!AD949,'Data Input'!AH949))","v":""},{"$f":"IF(O944=\"\",\"\",O944/COUNTIF('Data Input'!$C$8:$AK$8,\"M\"))","v":""},{"$f":"IF(ISBLANK('Data Input'!A949),\"\",SUM('Data Input'!H949,'Data Input'!K949,'Data Input'!P949,'Data Input'!Y949))","v":""},{"$f":"IF(Q944=\"\",\"\",Q944/COUNTIF('Data Input'!$C$8:$AK$8,\"G\"))","v":""}]
[{"$f":"IF('Data Input'!A950=0,\"\",'Data Input'!A950)","v":""},{"$f":"IF(ISBLANK('Data Input'!A950),\"\",COUNTIF('Data Input'!C950:AK950,\"\"))","v":""},{"$f":"IF(ISBLANK('Data Input'!A950),\"\",COUNTIF('Data Input'!C950:AK950,\"0\"))","v":""},{"$f":"IF(ISBLANK('Data Input'!A950),\"\",SUM(B945,C945))","v":""},{"$f":"IF(ISBLANK('Data Input'!A950),\"\",SUM('Data Input'!C950:AK950))","v":""},{"$f":"IF(E945=\"\",\"\",E945/(COUNTA('Data Input'!$C$8:$AK$8)))","v":""},{"$f":"IF(ISBLANK('Data Input'!A950),\"\",SUM('Data Input'!C950,'Data Input'!D950,'Data Input'!J950,'Data Input'!X950))","v":""},{"$f":"IF(G945=\"\",\"\",G945/COUNTIF('Data Input'!$C$8:$AK$8,\"N\"))","v":""},{"$f":"IF(ISBLANK('Data Input'!A950),\"\",SUM('Data Input'!G950,'Data Input'!I950,'Data Input'!L950,'Data Input'!N950,'Data Input'!O950,'Data Input'!S950,'Data Input'!Z950,'Data Input'!AA950,'Data Input'!AB950,'Data Input'!AC950,'Data Input'!AE950,'Data Input'!AF950,'Data Input'!AG950,'Data Input'!AI950,'Data Input'!AK950))","v":""},{"$f":"IF(I945=\"\",\"\",I945/COUNTIF('Data Input'!$C$8:$AK$8,\"C\"))","v":""},{"$f":"IF(ISBLANK('Data Input'!A950),\"\",SUM('Data Input'!T950,'Data Input'!U950))","v":""},{"$f":"IF(K945=\"\",\"\",K945/COUNTIF('Data Input'!$C$8:$AK$8,\"S\"))","v":""},{"$f":"IF(ISBLANK('Data Input'!A950),\"\",SUM('Data Input'!F950,'Data Input'!R950,'Data Input'!AJ950))","v":""},{"$f":"IF(M945=\"\",\"\",M945/COUNTIF('Data Input'!$C$8:$AK$8,\"F\"))","v":""},{"$f":"IF(ISBLANK('Data Input'!A950),\"\",SUM('Data Input'!E950,'Data Input'!M950,'Data Input'!Q950,'Data Input'!V950,'Data Input'!W950,'Data Input'!AD950,'Data Input'!AH950))","v":""},{"$f":"IF(O945=\"\",\"\",O945/COUNTIF('Data Input'!$C$8:$AK$8,\"M\"))","v":""},{"$f":"IF(ISBLANK('Data Input'!A950),\"\",SUM('Data Input'!H950,'Data Input'!K950,'Data Input'!P950,'Data Input'!Y950))","v":""},{"$f":"IF(Q945=\"\",\"\",Q945/COUNTIF('Data Input'!$C$8:$AK$8,\"G\"))","v":""}]
[{"$f":"IF('Data Input'!A951=0,\"\",'Data Input'!A951)","v":""},{"$f":"IF(ISBLANK('Data Input'!A951),\"\",COUNTIF('Data Input'!C951:AK951,\"\"))","v":""},{"$f":"IF(ISBLANK('Data Input'!A951),\"\",COUNTIF('Data Input'!C951:AK951,\"0\"))","v":""},{"$f":"IF(ISBLANK('Data Input'!A951),\"\",SUM(B946,C946))","v":""},{"$f":"IF(ISBLANK('Data Input'!A951),\"\",SUM('Data Input'!C951:AK951))","v":""},{"$f":"IF(E946=\"\",\"\",E946/(COUNTA('Data Input'!$C$8:$AK$8)))","v":""},{"$f":"IF(ISBLANK('Data Input'!A951),\"\",SUM('Data Input'!C951,'Data Input'!D951,'Data Input'!J951,'Data Input'!X951))","v":""},{"$f":"IF(G946=\"\",\"\",G946/COUNTIF('Data Input'!$C$8:$AK$8,\"N\"))","v":""},{"$f":"IF(ISBLANK('Data Input'!A951),\"\",SUM('Data Input'!G951,'Data Input'!I951,'Data Input'!L951,'Data Input'!N951,'Data Input'!O951,'Data Input'!S951,'Data Input'!Z951,'Data Input'!AA951,'Data Input'!AB951,'Data Input'!AC951,'Data Input'!AE951,'Data Input'!AF951,'Data Input'!AG951,'Data Input'!AI951,'Data Input'!AK951))","v":""},{"$f":"IF(I946=\"\",\"\",I946/COUNTIF('Data Input'!$C$8:$AK$8,\"C\"))","v":""},{"$f":"IF(ISBLANK('Data Input'!A951),\"\",SUM('Data Input'!T951,'Data Input'!U951))","v":""},{"$f":"IF(K946=\"\",\"\",K946/COUNTIF('Data Input'!$C$8:$AK$8,\"S\"))","v":""},{"$f":"IF(ISBLANK('Data Input'!A951),\"\",SUM('Data Input'!F951,'Data Input'!R951,'Data Input'!AJ951))","v":""},{"$f":"IF(M946=\"\",\"\",M946/COUNTIF('Data Input'!$C$8:$AK$8,\"F\"))","v":""},{"$f":"IF(ISBLANK('Data Input'!A951),\"\",SUM('Data Input'!E951,'Data Input'!M951,'Data Input'!Q951,'Data Input'!V951,'Data Input'!W951,'Data Input'!AD951,'Data Input'!AH951))","v":""},{"$f":"IF(O946=\"\",\"\",O946/COUNTIF('Data Input'!$C$8:$AK$8,\"M\"))","v":""},{"$f":"IF(ISBLANK('Data Input'!A951),\"\",SUM('Data Input'!H951,'Data Input'!K951,'Data Input'!P951,'Data Input'!Y951))","v":""},{"$f":"IF(Q946=\"\",\"\",Q946/COUNTIF('Data Input'!$C$8:$AK$8,\"G\"))","v":""}]
[{"$f":"IF('Data Input'!A952=0,\"\",'Data Input'!A952)","v":""},{"$f":"IF(ISBLANK('Data Input'!A952),\"\",COUNTIF('Data Input'!C952:AK952,\"\"))","v":""},{"$f":"IF(ISBLANK('Data Input'!A952),\"\",COUNTIF('Data Input'!C952:AK952,\"0\"))","v":""},{"$f":"IF(ISBLANK('Data Input'!A952),\"\",SUM(B947,C947))","v":""},{"$f":"IF(ISBLANK('Data Input'!A952),\"\",SUM('Data Input'!C952:AK952))","v":""},{"$f":"IF(E947=\"\",\"\",E947/(COUNTA('Data Input'!$C$8:$AK$8)))","v":""},{"$f":"IF(ISBLANK('Data Input'!A952),\"\",SUM('Data Input'!C952,'Data Input'!D952,'Data Input'!J952,'Data Input'!X952))","v":""},{"$f":"IF(G947=\"\",\"\",G947/COUNTIF('Data Input'!$C$8:$AK$8,\"N\"))","v":""},{"$f":"IF(ISBLANK('Data Input'!A952),\"\",SUM('Data Input'!G952,'Data Input'!I952,'Data Input'!L952,'Data Input'!N952,'Data Input'!O952,'Data Input'!S952,'Data Input'!Z952,'Data Input'!AA952,'Data Input'!AB952,'Data Input'!AC952,'Data Input'!AE952,'Data Input'!AF952,'Data Input'!AG952,'Data Input'!AI952,'Data Input'!AK952))","v":""},{"$f":"IF(I947=\"\",\"\",I947/COUNTIF('Data Input'!$C$8:$AK$8,\"C\"))","v":""},{"$f":"IF(ISBLANK('Data Input'!A952),\"\",SUM('Data Input'!T952,'Data Input'!U952))","v":""},{"$f":"IF(K947=\"\",\"\",K947/COUNTIF('Data Input'!$C$8:$AK$8,\"S\"))","v":""},{"$f":"IF(ISBLANK('Data Input'!A952),\"\",SUM('Data Input'!F952,'Data Input'!R952,'Data Input'!AJ952))","v":""},{"$f":"IF(M947=\"\",\"\",M947/COUNTIF('Data Input'!$C$8:$AK$8,\"F\"))","v":""},{"$f":"IF(ISBLANK('Data Input'!A952),\"\",SUM('Data Input'!E952,'Data Input'!M952,'Data Input'!Q952,'Data Input'!V952,'Data Input'!W952,'Data Input'!AD952,'Data Input'!AH952))","v":""},{"$f":"IF(O947=\"\",\"\",O947/COUNTIF('Data Input'!$C$8:$AK$8,\"M\"))","v":""},{"$f":"IF(ISBLANK('Data Input'!A952),\"\",SUM('Data Input'!H952,'Data Input'!K952,'Data Input'!P952,'Data Input'!Y952))","v":""},{"$f":"IF(Q947=\"\",\"\",Q947/COUNTIF('Data Input'!$C$8:$AK$8,\"G\"))","v":""}]
[{"$f":"IF('Data Input'!A953=0,\"\",'Data Input'!A953)","v":""},{"$f":"IF(ISBLANK('Data Input'!A953),\"\",COUNTIF('Data Input'!C953:AK953,\"\"))","v":""},{"$f":"IF(ISBLANK('Data Input'!A953),\"\",COUNTIF('Data Input'!C953:AK953,\"0\"))","v":""},{"$f":"IF(ISBLANK('Data Input'!A953),\"\",SUM(B948,C948))","v":""},{"$f":"IF(ISBLANK('Data Input'!A953),\"\",SUM('Data Input'!C953:AK953))","v":""},{"$f":"IF(E948=\"\",\"\",E948/(COUNTA('Data Input'!$C$8:$AK$8)))","v":""},{"$f":"IF(ISBLANK('Data Input'!A953),\"\",SUM('Data Input'!C953,'Data Input'!D953,'Data Input'!J953,'Data Input'!X953))","v":""},{"$f":"IF(G948=\"\",\"\",G948/COUNTIF('Data Input'!$C$8:$AK$8,\"N\"))","v":""},{"$f":"IF(ISBLANK('Data Input'!A953),\"\",SUM('Data Input'!G953,'Data Input'!I953,'Data Input'!L953,'Data Input'!N953,'Data Input'!O953,'Data Input'!S953,'Data Input'!Z953,'Data Input'!AA953,'Data Input'!AB953,'Data Input'!AC953,'Data Input'!AE953,'Data Input'!AF953,'Data Input'!AG953,'Data Input'!AI953,'Data Input'!AK953))","v":""},{"$f":"IF(I948=\"\",\"\",I948/COUNTIF('Data Input'!$C$8:$AK$8,\"C\"))","v":""},{"$f":"IF(ISBLANK('Data Input'!A953),\"\",SUM('Data Input'!T953,'Data Input'!U953))","v":""},{"$f":"IF(K948=\"\",\"\",K948/COUNTIF('Data Input'!$C$8:$AK$8,\"S\"))","v":""},{"$f":"IF(ISBLANK('Data Input'!A953),\"\",SUM('Data Input'!F953,'Data Input'!R953,'Data Input'!AJ953))","v":""},{"$f":"IF(M948=\"\",\"\",M948/COUNTIF('Data Input'!$C$8:$AK$8,\"F\"))","v":""},{"$f":"IF(ISBLANK('Data Input'!A953),\"\",SUM('Data Input'!E953,'Data Input'!M953,'Data Input'!Q953,'Data Input'!V953,'Data Input'!W953,'Data Input'!AD953,'Data Input'!AH953))","v":""},{"$f":"IF(O948=\"\",\"\",O948/COUNTIF('Data Input'!$C$8:$AK$8,\"M\"))","v":""},{"$f":"IF(ISBLANK('Data Input'!A953),\"\",SUM('Data Input'!H953,'Data Input'!K953,'Data Input'!P953,'Data Input'!Y953))","v":""},{"$f":"IF(Q948=\"\",\"\",Q948/COUNTIF('Data Input'!$C$8:$AK$8,\"G\"))","v":""}]
[{"$f":"IF('Data Input'!A954=0,\"\",'Data Input'!A954)","v":""},{"$f":"IF(ISBLANK('Data Input'!A954),\"\",COUNTIF('Data Input'!C954:AK954,\"\"))","v":""},{"$f":"IF(ISBLANK('Data Input'!A954),\"\",COUNTIF('Data Input'!C954:AK954,\"0\"))","v":""},{"$f":"IF(ISBLANK('Data Input'!A954),\"\",SUM(B949,C949))","v":""},{"$f":"IF(ISBLANK('Data Input'!A954),\"\",SUM('Data Input'!C954:AK954))","v":""},{"$f":"IF(E949=\"\",\"\",E949/(COUNTA('Data Input'!$C$8:$AK$8)))","v":""},{"$f":"IF(ISBLANK('Data Input'!A954),\"\",SUM('Data Input'!C954,'Data Input'!D954,'Data Input'!J954,'Data Input'!X954))","v":""},{"$f":"IF(G949=\"\",\"\",G949/COUNTIF('Data Input'!$C$8:$AK$8,\"N\"))","v":""},{"$f":"IF(ISBLANK('Data Input'!A954),\"\",SUM('Data Input'!G954,'Data Input'!I954,'Data Input'!L954,'Data Input'!N954,'Data Input'!O954,'Data Input'!S954,'Data Input'!Z954,'Data Input'!AA954,'Data Input'!AB954,'Data Input'!AC954,'Data Input'!AE954,'Data Input'!AF954,'Data Input'!AG954,'Data Input'!AI954,'Data Input'!AK954))","v":""},{"$f":"IF(I949=\"\",\"\",I949/COUNTIF('Data Input'!$C$8:$AK$8,\"C\"))","v":""},{"$f":"IF(ISBLANK('Data Input'!A954),\"\",SUM('Data Input'!T954,'Data Input'!U954))","v":""},{"$f":"IF(K949=\"\",\"\",K949/COUNTIF('Data Input'!$C$8:$AK$8,\"S\"))","v":""},{"$f":"IF(ISBLANK('Data Input'!A954),\"\",SUM('Data Input'!F954,'Data Input'!R954,'Data Input'!AJ954))","v":""},{"$f":"IF(M949=\"\",\"\",M949/COUNTIF('Data Input'!$C$8:$AK$8,\"F\"))","v":""},{"$f":"IF(ISBLANK('Data Input'!A954),\"\",SUM('Data Input'!E954,'Data Input'!M954,'Data Input'!Q954,'Data Input'!V954,'Data Input'!W954,'Data Input'!AD954,'Data Input'!AH954))","v":""},{"$f":"IF(O949=\"\",\"\",O949/COUNTIF('Data Input'!$C$8:$AK$8,\"M\"))","v":""},{"$f":"IF(ISBLANK('Data Input'!A954),\"\",SUM('Data Input'!H954,'Data Input'!K954,'Data Input'!P954,'Data Input'!Y954))","v":""},{"$f":"IF(Q949=\"\",\"\",Q949/COUNTIF('Data Input'!$C$8:$AK$8,\"G\"))","v":""}]
[{"$f":"IF('Data Input'!A955=0,\"\",'Data Input'!A955)","v":""},{"$f":"IF(ISBLANK('Data Input'!A955),\"\",COUNTIF('Data Input'!C955:AK955,\"\"))","v":""},{"$f":"IF(ISBLANK('Data Input'!A955),\"\",COUNTIF('Data Input'!C955:AK955,\"0\"))","v":""},{"$f":"IF(ISBLANK('Data Input'!A955),\"\",SUM(B950,C950))","v":""},{"$f":"IF(ISBLANK('Data Input'!A955),\"\",SUM('Data Input'!C955:AK955))","v":""},{"$f":"IF(E950=\"\",\"\",E950/(COUNTA('Data Input'!$C$8:$AK$8)))","v":""},{"$f":"IF(ISBLANK('Data Input'!A955),\"\",SUM('Data Input'!C955,'Data Input'!D955,'Data Input'!J955,'Data Input'!X955))","v":""},{"$f":"IF(G950=\"\",\"\",G950/COUNTIF('Data Input'!$C$8:$AK$8,\"N\"))","v":""},{"$f":"IF(ISBLANK('Data Input'!A955),\"\",SUM('Data Input'!G955,'Data Input'!I955,'Data Input'!L955,'Data Input'!N955,'Data Input'!O955,'Data Input'!S955,'Data Input'!Z955,'Data Input'!AA955,'Data Input'!AB955,'Data Input'!AC955,'Data Input'!AE955,'Data Input'!AF955,'Data Input'!AG955,'Data Input'!AI955,'Data Input'!AK955))","v":""},{"$f":"IF(I950=\"\",\"\",I950/COUNTIF('Data Input'!$C$8:$AK$8,\"C\"))","v":""},{"$f":"IF(ISBLANK('Data Input'!A955),\"\",SUM('Data Input'!T955,'Data Input'!U955))","v":""},{"$f":"IF(K950=\"\",\"\",K950/COUNTIF('Data Input'!$C$8:$AK$8,\"S\"))","v":""},{"$f":"IF(ISBLANK('Data Input'!A955),\"\",SUM('Data Input'!F955,'Data Input'!R955,'Data Input'!AJ955))","v":""},{"$f":"IF(M950=\"\",\"\",M950/COUNTIF('Data Input'!$C$8:$AK$8,\"F\"))","v":""},{"$f":"IF(ISBLANK('Data Input'!A955),\"\",SUM('Data Input'!E955,'Data Input'!M955,'Data Input'!Q955,'Data Input'!V955,'Data Input'!W955,'Data Input'!AD955,'Data Input'!AH955))","v":""},{"$f":"IF(O950=\"\",\"\",O950/COUNTIF('Data Input'!$C$8:$AK$8,\"M\"))","v":""},{"$f":"IF(ISBLANK('Data Input'!A955),\"\",SUM('Data Input'!H955,'Data Input'!K955,'Data Input'!P955,'Data Input'!Y955))","v":""},{"$f":"IF(Q950=\"\",\"\",Q950/COUNTIF('Data Input'!$C$8:$AK$8,\"G\"))","v":""}]
[{"$f":"IF('Data Input'!A956=0,\"\",'Data Input'!A956)","v":""},{"$f":"IF(ISBLANK('Data Input'!A956),\"\",COUNTIF('Data Input'!C956:AK956,\"\"))","v":""},{"$f":"IF(ISBLANK('Data Input'!A956),\"\",COUNTIF('Data Input'!C956:AK956,\"0\"))","v":""},{"$f":"IF(ISBLANK('Data Input'!A956),\"\",SUM(B951,C951))","v":""},{"$f":"IF(ISBLANK('Data Input'!A956),\"\",SUM('Data Input'!C956:AK956))","v":""},{"$f":"IF(E951=\"\",\"\",E951/(COUNTA('Data Input'!$C$8:$AK$8)))","v":""},{"$f":"IF(ISBLANK('Data Input'!A956),\"\",SUM('Data Input'!C956,'Data Input'!D956,'Data Input'!J956,'Data Input'!X956))","v":""},{"$f":"IF(G951=\"\",\"\",G951/COUNTIF('Data Input'!$C$8:$AK$8,\"N\"))","v":""},{"$f":"IF(ISBLANK('Data Input'!A956),\"\",SUM('Data Input'!G956,'Data Input'!I956,'Data Input'!L956,'Data Input'!N956,'Data Input'!O956,'Data Input'!S956,'Data Input'!Z956,'Data Input'!AA956,'Data Input'!AB956,'Data Input'!AC956,'Data Input'!AE956,'Data Input'!AF956,'Data Input'!AG956,'Data Input'!AI956,'Data Input'!AK956))","v":""},{"$f":"IF(I951=\"\",\"\",I951/COUNTIF('Data Input'!$C$8:$AK$8,\"C\"))","v":""},{"$f":"IF(ISBLANK('Data Input'!A956),\"\",SUM('Data Input'!T956,'Data Input'!U956))","v":""},{"$f":"IF(K951=\"\",\"\",K951/COUNTIF('Data Input'!$C$8:$AK$8,\"S\"))","v":""},{"$f":"IF(ISBLANK('Data Input'!A956),\"\",SUM('Data Input'!F956,'Data Input'!R956,'Data Input'!AJ956))","v":""},{"$f":"IF(M951=\"\",\"\",M951/COUNTIF('Data Input'!$C$8:$AK$8,\"F\"))","v":""},{"$f":"IF(ISBLANK('Data Input'!A956),\"\",SUM('Data Input'!E956,'Data Input'!M956,'Data Input'!Q956,'Data Input'!V956,'Data Input'!W956,'Data Input'!AD956,'Data Input'!AH956))","v":""},{"$f":"IF(O951=\"\",\"\",O951/COUNTIF('Data Input'!$C$8:$AK$8,\"M\"))","v":""},{"$f":"IF(ISBLANK('Data Input'!A956),\"\",SUM('Data Input'!H956,'Data Input'!K956,'Data Input'!P956,'Data Input'!Y956))","v":""},{"$f":"IF(Q951=\"\",\"\",Q951/COUNTIF('Data Input'!$C$8:$AK$8,\"G\"))","v":""}]
[{"$f":"IF('Data Input'!A957=0,\"\",'Data Input'!A957)","v":""},{"$f":"IF(ISBLANK('Data Input'!A957),\"\",COUNTIF('Data Input'!C957:AK957,\"\"))","v":""},{"$f":"IF(ISBLANK('Data Input'!A957),\"\",COUNTIF('Data Input'!C957:AK957,\"0\"))","v":""},{"$f":"IF(ISBLANK('Data Input'!A957),\"\",SUM(B952,C952))","v":""},{"$f":"IF(ISBLANK('Data Input'!A957),\"\",SUM('Data Input'!C957:AK957))","v":""},{"$f":"IF(E952=\"\",\"\",E952/(COUNTA('Data Input'!$C$8:$AK$8)))","v":""},{"$f":"IF(ISBLANK('Data Input'!A957),\"\",SUM('Data Input'!C957,'Data Input'!D957,'Data Input'!J957,'Data Input'!X957))","v":""},{"$f":"IF(G952=\"\",\"\",G952/COUNTIF('Data Input'!$C$8:$AK$8,\"N\"))","v":""},{"$f":"IF(ISBLANK('Data Input'!A957),\"\",SUM('Data Input'!G957,'Data Input'!I957,'Data Input'!L957,'Data Input'!N957,'Data Input'!O957,'Data Input'!S957,'Data Input'!Z957,'Data Input'!AA957,'Data Input'!AB957,'Data Input'!AC957,'Data Input'!AE957,'Data Input'!AF957,'Data Input'!AG957,'Data Input'!AI957,'Data Input'!AK957))","v":""},{"$f":"IF(I952=\"\",\"\",I952/COUNTIF('Data Input'!$C$8:$AK$8,\"C\"))","v":""},{"$f":"IF(ISBLANK('Data Input'!A957),\"\",SUM('Data Input'!T957,'Data Input'!U957))","v":""},{"$f":"IF(K952=\"\",\"\",K952/COUNTIF('Data Input'!$C$8:$AK$8,\"S\"))","v":""},{"$f":"IF(ISBLANK('Data Input'!A957),\"\",SUM('Data Input'!F957,'Data Input'!R957,'Data Input'!AJ957))","v":""},{"$f":"IF(M952=\"\",\"\",M952/COUNTIF('Data Input'!$C$8:$AK$8,\"F\"))","v":""},{"$f":"IF(ISBLANK('Data Input'!A957),\"\",SUM('Data Input'!E957,'Data Input'!M957,'Data Input'!Q957,'Data Input'!V957,'Data Input'!W957,'Data Input'!AD957,'Data Input'!AH957))","v":""},{"$f":"IF(O952=\"\",\"\",O952/COUNTIF('Data Input'!$C$8:$AK$8,\"M\"))","v":""},{"$f":"IF(ISBLANK('Data Input'!A957),\"\",SUM('Data Input'!H957,'Data Input'!K957,'Data Input'!P957,'Data Input'!Y957))","v":""},{"$f":"IF(Q952=\"\",\"\",Q952/COUNTIF('Data Input'!$C$8:$AK$8,\"G\"))","v":""}]
[{"$f":"IF('Data Input'!A958=0,\"\",'Data Input'!A958)","v":""},{"$f":"IF(ISBLANK('Data Input'!A958),\"\",COUNTIF('Data Input'!C958:AK958,\"\"))","v":""},{"$f":"IF(ISBLANK('Data Input'!A958),\"\",COUNTIF('Data Input'!C958:AK958,\"0\"))","v":""},{"$f":"IF(ISBLANK('Data Input'!A958),\"\",SUM(B953,C953))","v":""},{"$f":"IF(ISBLANK('Data Input'!A958),\"\",SUM('Data Input'!C958:AK958))","v":""},{"$f":"IF(E953=\"\",\"\",E953/(COUNTA('Data Input'!$C$8:$AK$8)))","v":""},{"$f":"IF(ISBLANK('Data Input'!A958),\"\",SUM('Data Input'!C958,'Data Input'!D958,'Data Input'!J958,'Data Input'!X958))","v":""},{"$f":"IF(G953=\"\",\"\",G953/COUNTIF('Data Input'!$C$8:$AK$8,\"N\"))","v":""},{"$f":"IF(ISBLANK('Data Input'!A958),\"\",SUM('Data Input'!G958,'Data Input'!I958,'Data Input'!L958,'Data Input'!N958,'Data Input'!O958,'Data Input'!S958,'Data Input'!Z958,'Data Input'!AA958,'Data Input'!AB958,'Data Input'!AC958,'Data Input'!AE958,'Data Input'!AF958,'Data Input'!AG958,'Data Input'!AI958,'Data Input'!AK958))","v":""},{"$f":"IF(I953=\"\",\"\",I953/COUNTIF('Data Input'!$C$8:$AK$8,\"C\"))","v":""},{"$f":"IF(ISBLANK('Data Input'!A958),\"\",SUM('Data Input'!T958,'Data Input'!U958))","v":""},{"$f":"IF(K953=\"\",\"\",K953/COUNTIF('Data Input'!$C$8:$AK$8,\"S\"))","v":""},{"$f":"IF(ISBLANK('Data Input'!A958),\"\",SUM('Data Input'!F958,'Data Input'!R958,'Data Input'!AJ958))","v":""},{"$f":"IF(M953=\"\",\"\",M953/COUNTIF('Data Input'!$C$8:$AK$8,\"F\"))","v":""},{"$f":"IF(ISBLANK('Data Input'!A958),\"\",SUM('Data Input'!E958,'Data Input'!M958,'Data Input'!Q958,'Data Input'!V958,'Data Input'!W958,'Data Input'!AD958,'Data Input'!AH958))","v":""},{"$f":"IF(O953=\"\",\"\",O953/COUNTIF('Data Input'!$C$8:$AK$8,\"M\"))","v":""},{"$f":"IF(ISBLANK('Data Input'!A958),\"\",SUM('Data Input'!H958,'Data Input'!K958,'Data Input'!P958,'Data Input'!Y958))","v":""},{"$f":"IF(Q953=\"\",\"\",Q953/COUNTIF('Data Input'!$C$8:$AK$8,\"G\"))","v":""}]
[{"$f":"IF('Data Input'!A959=0,\"\",'Data Input'!A959)","v":""},{"$f":"IF(ISBLANK('Data Input'!A959),\"\",COUNTIF('Data Input'!C959:AK959,\"\"))","v":""},{"$f":"IF(ISBLANK('Data Input'!A959),\"\",COUNTIF('Data Input'!C959:AK959,\"0\"))","v":""},{"$f":"IF(ISBLANK('Data Input'!A959),\"\",SUM(B954,C954))","v":""},{"$f":"IF(ISBLANK('Data Input'!A959),\"\",SUM('Data Input'!C959:AK959))","v":""},{"$f":"IF(E954=\"\",\"\",E954/(COUNTA('Data Input'!$C$8:$AK$8)))","v":""},{"$f":"IF(ISBLANK('Data Input'!A959),\"\",SUM('Data Input'!C959,'Data Input'!D959,'Data Input'!J959,'Data Input'!X959))","v":""},{"$f":"IF(G954=\"\",\"\",G954/COUNTIF('Data Input'!$C$8:$AK$8,\"N\"))","v":""},{"$f":"IF(ISBLANK('Data Input'!A959),\"\",SUM('Data Input'!G959,'Data Input'!I959,'Data Input'!L959,'Data Input'!N959,'Data Input'!O959,'Data Input'!S959,'Data Input'!Z959,'Data Input'!AA959,'Data Input'!AB959,'Data Input'!AC959,'Data Input'!AE959,'Data Input'!AF959,'Data Input'!AG959,'Data Input'!AI959,'Data Input'!AK959))","v":""},{"$f":"IF(I954=\"\",\"\",I954/COUNTIF('Data Input'!$C$8:$AK$8,\"C\"))","v":""},{"$f":"IF(ISBLANK('Data Input'!A959),\"\",SUM('Data Input'!T959,'Data Input'!U959))","v":""},{"$f":"IF(K954=\"\",\"\",K954/COUNTIF('Data Input'!$C$8:$AK$8,\"S\"))","v":""},{"$f":"IF(ISBLANK('Data Input'!A959),\"\",SUM('Data Input'!F959,'Data Input'!R959,'Data Input'!AJ959))","v":""},{"$f":"IF(M954=\"\",\"\",M954/COUNTIF('Data Input'!$C$8:$AK$8,\"F\"))","v":""},{"$f":"IF(ISBLANK('Data Input'!A959),\"\",SUM('Data Input'!E959,'Data Input'!M959,'Data Input'!Q959,'Data Input'!V959,'Data Input'!W959,'Data Input'!AD959,'Data Input'!AH959))","v":""},{"$f":"IF(O954=\"\",\"\",O954/COUNTIF('Data Input'!$C$8:$AK$8,\"M\"))","v":""},{"$f":"IF(ISBLANK('Data Input'!A959),\"\",SUM('Data Input'!H959,'Data Input'!K959,'Data Input'!P959,'Data Input'!Y959))","v":""},{"$f":"IF(Q954=\"\",\"\",Q954/COUNTIF('Data Input'!$C$8:$AK$8,\"G\"))","v":""}]
[{"$f":"IF('Data Input'!A960=0,\"\",'Data Input'!A960)","v":""},{"$f":"IF(ISBLANK('Data Input'!A960),\"\",COUNTIF('Data Input'!C960:AK960,\"\"))","v":""},{"$f":"IF(ISBLANK('Data Input'!A960),\"\",COUNTIF('Data Input'!C960:AK960,\"0\"))","v":""},{"$f":"IF(ISBLANK('Data Input'!A960),\"\",SUM(B955,C955))","v":""},{"$f":"IF(ISBLANK('Data Input'!A960),\"\",SUM('Data Input'!C960:AK960))","v":""},{"$f":"IF(E955=\"\",\"\",E955/(COUNTA('Data Input'!$C$8:$AK$8)))","v":""},{"$f":"IF(ISBLANK('Data Input'!A960),\"\",SUM('Data Input'!C960,'Data Input'!D960,'Data Input'!J960,'Data Input'!X960))","v":""},{"$f":"IF(G955=\"\",\"\",G955/COUNTIF('Data Input'!$C$8:$AK$8,\"N\"))","v":""},{"$f":"IF(ISBLANK('Data Input'!A960),\"\",SUM('Data Input'!G960,'Data Input'!I960,'Data Input'!L960,'Data Input'!N960,'Data Input'!O960,'Data Input'!S960,'Data Input'!Z960,'Data Input'!AA960,'Data Input'!AB960,'Data Input'!AC960,'Data Input'!AE960,'Data Input'!AF960,'Data Input'!AG960,'Data Input'!AI960,'Data Input'!AK960))","v":""},{"$f":"IF(I955=\"\",\"\",I955/COUNTIF('Data Input'!$C$8:$AK$8,\"C\"))","v":""},{"$f":"IF(ISBLANK('Data Input'!A960),\"\",SUM('Data Input'!T960,'Data Input'!U960))","v":""},{"$f":"IF(K955=\"\",\"\",K955/COUNTIF('Data Input'!$C$8:$AK$8,\"S\"))","v":""},{"$f":"IF(ISBLANK('Data Input'!A960),\"\",SUM('Data Input'!F960,'Data Input'!R960,'Data Input'!AJ960))","v":""},{"$f":"IF(M955=\"\",\"\",M955/COUNTIF('Data Input'!$C$8:$AK$8,\"F\"))","v":""},{"$f":"IF(ISBLANK('Data Input'!A960),\"\",SUM('Data Input'!E960,'Data Input'!M960,'Data Input'!Q960,'Data Input'!V960,'Data Input'!W960,'Data Input'!AD960,'Data Input'!AH960))","v":""},{"$f":"IF(O955=\"\",\"\",O955/COUNTIF('Data Input'!$C$8:$AK$8,\"M\"))","v":""},{"$f":"IF(ISBLANK('Data Input'!A960),\"\",SUM('Data Input'!H960,'Data Input'!K960,'Data Input'!P960,'Data Input'!Y960))","v":""},{"$f":"IF(Q955=\"\",\"\",Q955/COUNTIF('Data Input'!$C$8:$AK$8,\"G\"))","v":""}]
[{"$f":"IF('Data Input'!A961=0,\"\",'Data Input'!A961)","v":""},{"$f":"IF(ISBLANK('Data Input'!A961),\"\",COUNTIF('Data Input'!C961:AK961,\"\"))","v":""},{"$f":"IF(ISBLANK('Data Input'!A961),\"\",COUNTIF('Data Input'!C961:AK961,\"0\"))","v":""},{"$f":"IF(ISBLANK('Data Input'!A961),\"\",SUM(B956,C956))","v":""},{"$f":"IF(ISBLANK('Data Input'!A961),\"\",SUM('Data Input'!C961:AK961))","v":""},{"$f":"IF(E956=\"\",\"\",E956/(COUNTA('Data Input'!$C$8:$AK$8)))","v":""},{"$f":"IF(ISBLANK('Data Input'!A961),\"\",SUM('Data Input'!C961,'Data Input'!D961,'Data Input'!J961,'Data Input'!X961))","v":""},{"$f":"IF(G956=\"\",\"\",G956/COUNTIF('Data Input'!$C$8:$AK$8,\"N\"))","v":""},{"$f":"IF(ISBLANK('Data Input'!A961),\"\",SUM('Data Input'!G961,'Data Input'!I961,'Data Input'!L961,'Data Input'!N961,'Data Input'!O961,'Data Input'!S961,'Data Input'!Z961,'Data Input'!AA961,'Data Input'!AB961,'Data Input'!AC961,'Data Input'!AE961,'Data Input'!AF961,'Data Input'!AG961,'Data Input'!AI961,'Data Input'!AK961))","v":""},{"$f":"IF(I956=\"\",\"\",I956/COUNTIF('Data Input'!$C$8:$AK$8,\"C\"))","v":""},{"$f":"IF(ISBLANK('Data Input'!A961),\"\",SUM('Data Input'!T961,'Data Input'!U961))","v":""},{"$f":"IF(K956=\"\",\"\",K956/COUNTIF('Data Input'!$C$8:$AK$8,\"S\"))","v":""},{"$f":"IF(ISBLANK('Data Input'!A961),\"\",SUM('Data Input'!F961,'Data Input'!R961,'Data Input'!AJ961))","v":""},{"$f":"IF(M956=\"\",\"\",M956/COUNTIF('Data Input'!$C$8:$AK$8,\"F\"))","v":""},{"$f":"IF(ISBLANK('Data Input'!A961),\"\",SUM('Data Input'!E961,'Data Input'!M961,'Data Input'!Q961,'Data Input'!V961,'Data Input'!W961,'Data Input'!AD961,'Data Input'!AH961))","v":""},{"$f":"IF(O956=\"\",\"\",O956/COUNTIF('Data Input'!$C$8:$AK$8,\"M\"))","v":""},{"$f":"IF(ISBLANK('Data Input'!A961),\"\",SUM('Data Input'!H961,'Data Input'!K961,'Data Input'!P961,'Data Input'!Y961))","v":""},{"$f":"IF(Q956=\"\",\"\",Q956/COUNTIF('Data Input'!$C$8:$AK$8,\"G\"))","v":""}]
[{"$f":"IF('Data Input'!A962=0,\"\",'Data Input'!A962)","v":""},{"$f":"IF(ISBLANK('Data Input'!A962),\"\",COUNTIF('Data Input'!C962:AK962,\"\"))","v":""},{"$f":"IF(ISBLANK('Data Input'!A962),\"\",COUNTIF('Data Input'!C962:AK962,\"0\"))","v":""},{"$f":"IF(ISBLANK('Data Input'!A962),\"\",SUM(B957,C957))","v":""},{"$f":"IF(ISBLANK('Data Input'!A962),\"\",SUM('Data Input'!C962:AK962))","v":""},{"$f":"IF(E957=\"\",\"\",E957/(COUNTA('Data Input'!$C$8:$AK$8)))","v":""},{"$f":"IF(ISBLANK('Data Input'!A962),\"\",SUM('Data Input'!C962,'Data Input'!D962,'Data Input'!J962,'Data Input'!X962))","v":""},{"$f":"IF(G957=\"\",\"\",G957/COUNTIF('Data Input'!$C$8:$AK$8,\"N\"))","v":""},{"$f":"IF(ISBLANK('Data Input'!A962),\"\",SUM('Data Input'!G962,'Data Input'!I962,'Data Input'!L962,'Data Input'!N962,'Data Input'!O962,'Data Input'!S962,'Data Input'!Z962,'Data Input'!AA962,'Data Input'!AB962,'Data Input'!AC962,'Data Input'!AE962,'Data Input'!AF962,'Data Input'!AG962,'Data Input'!AI962,'Data Input'!AK962))","v":""},{"$f":"IF(I957=\"\",\"\",I957/COUNTIF('Data Input'!$C$8:$AK$8,\"C\"))","v":""},{"$f":"IF(ISBLANK('Data Input'!A962),\"\",SUM('Data Input'!T962,'Data Input'!U962))","v":""},{"$f":"IF(K957=\"\",\"\",K957/COUNTIF('Data Input'!$C$8:$AK$8,\"S\"))","v":""},{"$f":"IF(ISBLANK('Data Input'!A962),\"\",SUM('Data Input'!F962,'Data Input'!R962,'Data Input'!AJ962))","v":""},{"$f":"IF(M957=\"\",\"\",M957/COUNTIF('Data Input'!$C$8:$AK$8,\"F\"))","v":""},{"$f":"IF(ISBLANK('Data Input'!A962),\"\",SUM('Data Input'!E962,'Data Input'!M962,'Data Input'!Q962,'Data Input'!V962,'Data Input'!W962,'Data Input'!AD962,'Data Input'!AH962))","v":""},{"$f":"IF(O957=\"\",\"\",O957/COUNTIF('Data Input'!$C$8:$AK$8,\"M\"))","v":""},{"$f":"IF(ISBLANK('Data Input'!A962),\"\",SUM('Data Input'!H962,'Data Input'!K962,'Data Input'!P962,'Data Input'!Y962))","v":""},{"$f":"IF(Q957=\"\",\"\",Q957/COUNTIF('Data Input'!$C$8:$AK$8,\"G\"))","v":""}]
[{"$f":"IF('Data Input'!A963=0,\"\",'Data Input'!A963)","v":""},{"$f":"IF(ISBLANK('Data Input'!A963),\"\",COUNTIF('Data Input'!C963:AK963,\"\"))","v":""},{"$f":"IF(ISBLANK('Data Input'!A963),\"\",COUNTIF('Data Input'!C963:AK963,\"0\"))","v":""},{"$f":"IF(ISBLANK('Data Input'!A963),\"\",SUM(B958,C958))","v":""},{"$f":"IF(ISBLANK('Data Input'!A963),\"\",SUM('Data Input'!C963:AK963))","v":""},{"$f":"IF(E958=\"\",\"\",E958/(COUNTA('Data Input'!$C$8:$AK$8)))","v":""},{"$f":"IF(ISBLANK('Data Input'!A963),\"\",SUM('Data Input'!C963,'Data Input'!D963,'Data Input'!J963,'Data Input'!X963))","v":""},{"$f":"IF(G958=\"\",\"\",G958/COUNTIF('Data Input'!$C$8:$AK$8,\"N\"))","v":""},{"$f":"IF(ISBLANK('Data Input'!A963),\"\",SUM('Data Input'!G963,'Data Input'!I963,'Data Input'!L963,'Data Input'!N963,'Data Input'!O963,'Data Input'!S963,'Data Input'!Z963,'Data Input'!AA963,'Data Input'!AB963,'Data Input'!AC963,'Data Input'!AE963,'Data Input'!AF963,'Data Input'!AG963,'Data Input'!AI963,'Data Input'!AK963))","v":""},{"$f":"IF(I958=\"\",\"\",I958/COUNTIF('Data Input'!$C$8:$AK$8,\"C\"))","v":""},{"$f":"IF(ISBLANK('Data Input'!A963),\"\",SUM('Data Input'!T963,'Data Input'!U963))","v":""},{"$f":"IF(K958=\"\",\"\",K958/COUNTIF('Data Input'!$C$8:$AK$8,\"S\"))","v":""},{"$f":"IF(ISBLANK('Data Input'!A963),\"\",SUM('Data Input'!F963,'Data Input'!R963,'Data Input'!AJ963))","v":""},{"$f":"IF(M958=\"\",\"\",M958/COUNTIF('Data Input'!$C$8:$AK$8,\"F\"))","v":""},{"$f":"IF(ISBLANK('Data Input'!A963),\"\",SUM('Data Input'!E963,'Data Input'!M963,'Data Input'!Q963,'Data Input'!V963,'Data Input'!W963,'Data Input'!AD963,'Data Input'!AH963))","v":""},{"$f":"IF(O958=\"\",\"\",O958/COUNTIF('Data Input'!$C$8:$AK$8,\"M\"))","v":""},{"$f":"IF(ISBLANK('Data Input'!A963),\"\",SUM('Data Input'!H963,'Data Input'!K963,'Data Input'!P963,'Data Input'!Y963))","v":""},{"$f":"IF(Q958=\"\",\"\",Q958/COUNTIF('Data Input'!$C$8:$AK$8,\"G\"))","v":""}]
[{"$f":"IF('Data Input'!A964=0,\"\",'Data Input'!A964)","v":""},{"$f":"IF(ISBLANK('Data Input'!A964),\"\",COUNTIF('Data Input'!C964:AK964,\"\"))","v":""},{"$f":"IF(ISBLANK('Data Input'!A964),\"\",COUNTIF('Data Input'!C964:AK964,\"0\"))","v":""},{"$f":"IF(ISBLANK('Data Input'!A964),\"\",SUM(B959,C959))","v":""},{"$f":"IF(ISBLANK('Data Input'!A964),\"\",SUM('Data Input'!C964:AK964))","v":""},{"$f":"IF(E959=\"\",\"\",E959/(COUNTA('Data Input'!$C$8:$AK$8)))","v":""},{"$f":"IF(ISBLANK('Data Input'!A964),\"\",SUM('Data Input'!C964,'Data Input'!D964,'Data Input'!J964,'Data Input'!X964))","v":""},{"$f":"IF(G959=\"\",\"\",G959/COUNTIF('Data Input'!$C$8:$AK$8,\"N\"))","v":""},{"$f":"IF(ISBLANK('Data Input'!A964),\"\",SUM('Data Input'!G964,'Data Input'!I964,'Data Input'!L964,'Data Input'!N964,'Data Input'!O964,'Data Input'!S964,'Data Input'!Z964,'Data Input'!AA964,'Data Input'!AB964,'Data Input'!AC964,'Data Input'!AE964,'Data Input'!AF964,'Data Input'!AG964,'Data Input'!AI964,'Data Input'!AK964))","v":""},{"$f":"IF(I959=\"\",\"\",I959/COUNTIF('Data Input'!$C$8:$AK$8,\"C\"))","v":""},{"$f":"IF(ISBLANK('Data Input'!A964),\"\",SUM('Data Input'!T964,'Data Input'!U964))","v":""},{"$f":"IF(K959=\"\",\"\",K959/COUNTIF('Data Input'!$C$8:$AK$8,\"S\"))","v":""},{"$f":"IF(ISBLANK('Data Input'!A964),\"\",SUM('Data Input'!F964,'Data Input'!R964,'Data Input'!AJ964))","v":""},{"$f":"IF(M959=\"\",\"\",M959/COUNTIF('Data Input'!$C$8:$AK$8,\"F\"))","v":""},{"$f":"IF(ISBLANK('Data Input'!A964),\"\",SUM('Data Input'!E964,'Data Input'!M964,'Data Input'!Q964,'Data Input'!V964,'Data Input'!W964,'Data Input'!AD964,'Data Input'!AH964))","v":""},{"$f":"IF(O959=\"\",\"\",O959/COUNTIF('Data Input'!$C$8:$AK$8,\"M\"))","v":""},{"$f":"IF(ISBLANK('Data Input'!A964),\"\",SUM('Data Input'!H964,'Data Input'!K964,'Data Input'!P964,'Data Input'!Y964))","v":""},{"$f":"IF(Q959=\"\",\"\",Q959/COUNTIF('Data Input'!$C$8:$AK$8,\"G\"))","v":""}]
[{"$f":"IF('Data Input'!A965=0,\"\",'Data Input'!A965)","v":""},{"$f":"IF(ISBLANK('Data Input'!A965),\"\",COUNTIF('Data Input'!C965:AK965,\"\"))","v":""},{"$f":"IF(ISBLANK('Data Input'!A965),\"\",COUNTIF('Data Input'!C965:AK965,\"0\"))","v":""},{"$f":"IF(ISBLANK('Data Input'!A965),\"\",SUM(B960,C960))","v":""},{"$f":"IF(ISBLANK('Data Input'!A965),\"\",SUM('Data Input'!C965:AK965))","v":""},{"$f":"IF(E960=\"\",\"\",E960/(COUNTA('Data Input'!$C$8:$AK$8)))","v":""},{"$f":"IF(ISBLANK('Data Input'!A965),\"\",SUM('Data Input'!C965,'Data Input'!D965,'Data Input'!J965,'Data Input'!X965))","v":""},{"$f":"IF(G960=\"\",\"\",G960/COUNTIF('Data Input'!$C$8:$AK$8,\"N\"))","v":""},{"$f":"IF(ISBLANK('Data Input'!A965),\"\",SUM('Data Input'!G965,'Data Input'!I965,'Data Input'!L965,'Data Input'!N965,'Data Input'!O965,'Data Input'!S965,'Data Input'!Z965,'Data Input'!AA965,'Data Input'!AB965,'Data Input'!AC965,'Data Input'!AE965,'Data Input'!AF965,'Data Input'!AG965,'Data Input'!AI965,'Data Input'!AK965))","v":""},{"$f":"IF(I960=\"\",\"\",I960/COUNTIF('Data Input'!$C$8:$AK$8,\"C\"))","v":""},{"$f":"IF(ISBLANK('Data Input'!A965),\"\",SUM('Data Input'!T965,'Data Input'!U965))","v":""},{"$f":"IF(K960=\"\",\"\",K960/COUNTIF('Data Input'!$C$8:$AK$8,\"S\"))","v":""},{"$f":"IF(ISBLANK('Data Input'!A965),\"\",SUM('Data Input'!F965,'Data Input'!R965,'Data Input'!AJ965))","v":""},{"$f":"IF(M960=\"\",\"\",M960/COUNTIF('Data Input'!$C$8:$AK$8,\"F\"))","v":""},{"$f":"IF(ISBLANK('Data Input'!A965),\"\",SUM('Data Input'!E965,'Data Input'!M965,'Data Input'!Q965,'Data Input'!V965,'Data Input'!W965,'Data Input'!AD965,'Data Input'!AH965))","v":""},{"$f":"IF(O960=\"\",\"\",O960/COUNTIF('Data Input'!$C$8:$AK$8,\"M\"))","v":""},{"$f":"IF(ISBLANK('Data Input'!A965),\"\",SUM('Data Input'!H965,'Data Input'!K965,'Data Input'!P965,'Data Input'!Y965))","v":""},{"$f":"IF(Q960=\"\",\"\",Q960/COUNTIF('Data Input'!$C$8:$AK$8,\"G\"))","v":""}]
[{"$f":"IF('Data Input'!A966=0,\"\",'Data Input'!A966)","v":""},{"$f":"IF(ISBLANK('Data Input'!A966),\"\",COUNTIF('Data Input'!C966:AK966,\"\"))","v":""},{"$f":"IF(ISBLANK('Data Input'!A966),\"\",COUNTIF('Data Input'!C966:AK966,\"0\"))","v":""},{"$f":"IF(ISBLANK('Data Input'!A966),\"\",SUM(B961,C961))","v":""},{"$f":"IF(ISBLANK('Data Input'!A966),\"\",SUM('Data Input'!C966:AK966))","v":""},{"$f":"IF(E961=\"\",\"\",E961/(COUNTA('Data Input'!$C$8:$AK$8)))","v":""},{"$f":"IF(ISBLANK('Data Input'!A966),\"\",SUM('Data Input'!C966,'Data Input'!D966,'Data Input'!J966,'Data Input'!X966))","v":""},{"$f":"IF(G961=\"\",\"\",G961/COUNTIF('Data Input'!$C$8:$AK$8,\"N\"))","v":""},{"$f":"IF(ISBLANK('Data Input'!A966),\"\",SUM('Data Input'!G966,'Data Input'!I966,'Data Input'!L966,'Data Input'!N966,'Data Input'!O966,'Data Input'!S966,'Data Input'!Z966,'Data Input'!AA966,'Data Input'!AB966,'Data Input'!AC966,'Data Input'!AE966,'Data Input'!AF966,'Data Input'!AG966,'Data Input'!AI966,'Data Input'!AK966))","v":""},{"$f":"IF(I961=\"\",\"\",I961/COUNTIF('Data Input'!$C$8:$AK$8,\"C\"))","v":""},{"$f":"IF(ISBLANK('Data Input'!A966),\"\",SUM('Data Input'!T966,'Data Input'!U966))","v":""},{"$f":"IF(K961=\"\",\"\",K961/COUNTIF('Data Input'!$C$8:$AK$8,\"S\"))","v":""},{"$f":"IF(ISBLANK('Data Input'!A966),\"\",SUM('Data Input'!F966,'Data Input'!R966,'Data Input'!AJ966))","v":""},{"$f":"IF(M961=\"\",\"\",M961/COUNTIF('Data Input'!$C$8:$AK$8,\"F\"))","v":""},{"$f":"IF(ISBLANK('Data Input'!A966),\"\",SUM('Data Input'!E966,'Data Input'!M966,'Data Input'!Q966,'Data Input'!V966,'Data Input'!W966,'Data Input'!AD966,'Data Input'!AH966))","v":""},{"$f":"IF(O961=\"\",\"\",O961/COUNTIF('Data Input'!$C$8:$AK$8,\"M\"))","v":""},{"$f":"IF(ISBLANK('Data Input'!A966),\"\",SUM('Data Input'!H966,'Data Input'!K966,'Data Input'!P966,'Data Input'!Y966))","v":""},{"$f":"IF(Q961=\"\",\"\",Q961/COUNTIF('Data Input'!$C$8:$AK$8,\"G\"))","v":""}]
[{"$f":"IF('Data Input'!A967=0,\"\",'Data Input'!A967)","v":""},{"$f":"IF(ISBLANK('Data Input'!A967),\"\",COUNTIF('Data Input'!C967:AK967,\"\"))","v":""},{"$f":"IF(ISBLANK('Data Input'!A967),\"\",COUNTIF('Data Input'!C967:AK967,\"0\"))","v":""},{"$f":"IF(ISBLANK('Data Input'!A967),\"\",SUM(B962,C962))","v":""},{"$f":"IF(ISBLANK('Data Input'!A967),\"\",SUM('Data Input'!C967:AK967))","v":""},{"$f":"IF(E962=\"\",\"\",E962/(COUNTA('Data Input'!$C$8:$AK$8)))","v":""},{"$f":"IF(ISBLANK('Data Input'!A967),\"\",SUM('Data Input'!C967,'Data Input'!D967,'Data Input'!J967,'Data Input'!X967))","v":""},{"$f":"IF(G962=\"\",\"\",G962/COUNTIF('Data Input'!$C$8:$AK$8,\"N\"))","v":""},{"$f":"IF(ISBLANK('Data Input'!A967),\"\",SUM('Data Input'!G967,'Data Input'!I967,'Data Input'!L967,'Data Input'!N967,'Data Input'!O967,'Data Input'!S967,'Data Input'!Z967,'Data Input'!AA967,'Data Input'!AB967,'Data Input'!AC967,'Data Input'!AE967,'Data Input'!AF967,'Data Input'!AG967,'Data Input'!AI967,'Data Input'!AK967))","v":""},{"$f":"IF(I962=\"\",\"\",I962/COUNTIF('Data Input'!$C$8:$AK$8,\"C\"))","v":""},{"$f":"IF(ISBLANK('Data Input'!A967),\"\",SUM('Data Input'!T967,'Data Input'!U967))","v":""},{"$f":"IF(K962=\"\",\"\",K962/COUNTIF('Data Input'!$C$8:$AK$8,\"S\"))","v":""},{"$f":"IF(ISBLANK('Data Input'!A967),\"\",SUM('Data Input'!F967,'Data Input'!R967,'Data Input'!AJ967))","v":""},{"$f":"IF(M962=\"\",\"\",M962/COUNTIF('Data Input'!$C$8:$AK$8,\"F\"))","v":""},{"$f":"IF(ISBLANK('Data Input'!A967),\"\",SUM('Data Input'!E967,'Data Input'!M967,'Data Input'!Q967,'Data Input'!V967,'Data Input'!W967,'Data Input'!AD967,'Data Input'!AH967))","v":""},{"$f":"IF(O962=\"\",\"\",O962/COUNTIF('Data Input'!$C$8:$AK$8,\"M\"))","v":""},{"$f":"IF(ISBLANK('Data Input'!A967),\"\",SUM('Data Input'!H967,'Data Input'!K967,'Data Input'!P967,'Data Input'!Y967))","v":""},{"$f":"IF(Q962=\"\",\"\",Q962/COUNTIF('Data Input'!$C$8:$AK$8,\"G\"))","v":""}]
[{"$f":"IF('Data Input'!A968=0,\"\",'Data Input'!A968)","v":""},{"$f":"IF(ISBLANK('Data Input'!A968),\"\",COUNTIF('Data Input'!C968:AK968,\"\"))","v":""},{"$f":"IF(ISBLANK('Data Input'!A968),\"\",COUNTIF('Data Input'!C968:AK968,\"0\"))","v":""},{"$f":"IF(ISBLANK('Data Input'!A968),\"\",SUM(B963,C963))","v":""},{"$f":"IF(ISBLANK('Data Input'!A968),\"\",SUM('Data Input'!C968:AK968))","v":""},{"$f":"IF(E963=\"\",\"\",E963/(COUNTA('Data Input'!$C$8:$AK$8)))","v":""},{"$f":"IF(ISBLANK('Data Input'!A968),\"\",SUM('Data Input'!C968,'Data Input'!D968,'Data Input'!J968,'Data Input'!X968))","v":""},{"$f":"IF(G963=\"\",\"\",G963/COUNTIF('Data Input'!$C$8:$AK$8,\"N\"))","v":""},{"$f":"IF(ISBLANK('Data Input'!A968),\"\",SUM('Data Input'!G968,'Data Input'!I968,'Data Input'!L968,'Data Input'!N968,'Data Input'!O968,'Data Input'!S968,'Data Input'!Z968,'Data Input'!AA968,'Data Input'!AB968,'Data Input'!AC968,'Data Input'!AE968,'Data Input'!AF968,'Data Input'!AG968,'Data Input'!AI968,'Data Input'!AK968))","v":""},{"$f":"IF(I963=\"\",\"\",I963/COUNTIF('Data Input'!$C$8:$AK$8,\"C\"))","v":""},{"$f":"IF(ISBLANK('Data Input'!A968),\"\",SUM('Data Input'!T968,'Data Input'!U968))","v":""},{"$f":"IF(K963=\"\",\"\",K963/COUNTIF('Data Input'!$C$8:$AK$8,\"S\"))","v":""},{"$f":"IF(ISBLANK('Data Input'!A968),\"\",SUM('Data Input'!F968,'Data Input'!R968,'Data Input'!AJ968))","v":""},{"$f":"IF(M963=\"\",\"\",M963/COUNTIF('Data Input'!$C$8:$AK$8,\"F\"))","v":""},{"$f":"IF(ISBLANK('Data Input'!A968),\"\",SUM('Data Input'!E968,'Data Input'!M968,'Data Input'!Q968,'Data Input'!V968,'Data Input'!W968,'Data Input'!AD968,'Data Input'!AH968))","v":""},{"$f":"IF(O963=\"\",\"\",O963/COUNTIF('Data Input'!$C$8:$AK$8,\"M\"))","v":""},{"$f":"IF(ISBLANK('Data Input'!A968),\"\",SUM('Data Input'!H968,'Data Input'!K968,'Data Input'!P968,'Data Input'!Y968))","v":""},{"$f":"IF(Q963=\"\",\"\",Q963/COUNTIF('Data Input'!$C$8:$AK$8,\"G\"))","v":""}]
[{"$f":"IF('Data Input'!A969=0,\"\",'Data Input'!A969)","v":""},{"$f":"IF(ISBLANK('Data Input'!A969),\"\",COUNTIF('Data Input'!C969:AK969,\"\"))","v":""},{"$f":"IF(ISBLANK('Data Input'!A969),\"\",COUNTIF('Data Input'!C969:AK969,\"0\"))","v":""},{"$f":"IF(ISBLANK('Data Input'!A969),\"\",SUM(B964,C964))","v":""},{"$f":"IF(ISBLANK('Data Input'!A969),\"\",SUM('Data Input'!C969:AK969))","v":""},{"$f":"IF(E964=\"\",\"\",E964/(COUNTA('Data Input'!$C$8:$AK$8)))","v":""},{"$f":"IF(ISBLANK('Data Input'!A969),\"\",SUM('Data Input'!C969,'Data Input'!D969,'Data Input'!J969,'Data Input'!X969))","v":""},{"$f":"IF(G964=\"\",\"\",G964/COUNTIF('Data Input'!$C$8:$AK$8,\"N\"))","v":""},{"$f":"IF(ISBLANK('Data Input'!A969),\"\",SUM('Data Input'!G969,'Data Input'!I969,'Data Input'!L969,'Data Input'!N969,'Data Input'!O969,'Data Input'!S969,'Data Input'!Z969,'Data Input'!AA969,'Data Input'!AB969,'Data Input'!AC969,'Data Input'!AE969,'Data Input'!AF969,'Data Input'!AG969,'Data Input'!AI969,'Data Input'!AK969))","v":""},{"$f":"IF(I964=\"\",\"\",I964/COUNTIF('Data Input'!$C$8:$AK$8,\"C\"))","v":""},{"$f":"IF(ISBLANK('Data Input'!A969),\"\",SUM('Data Input'!T969,'Data Input'!U969))","v":""},{"$f":"IF(K964=\"\",\"\",K964/COUNTIF('Data Input'!$C$8:$AK$8,\"S\"))","v":""},{"$f":"IF(ISBLANK('Data Input'!A969),\"\",SUM('Data Input'!F969,'Data Input'!R969,'Data Input'!AJ969))","v":""},{"$f":"IF(M964=\"\",\"\",M964/COUNTIF('Data Input'!$C$8:$AK$8,\"F\"))","v":""},{"$f":"IF(ISBLANK('Data Input'!A969),\"\",SUM('Data Input'!E969,'Data Input'!M969,'Data Input'!Q969,'Data Input'!V969,'Data Input'!W969,'Data Input'!AD969,'Data Input'!AH969))","v":""},{"$f":"IF(O964=\"\",\"\",O964/COUNTIF('Data Input'!$C$8:$AK$8,\"M\"))","v":""},{"$f":"IF(ISBLANK('Data Input'!A969),\"\",SUM('Data Input'!H969,'Data Input'!K969,'Data Input'!P969,'Data Input'!Y969))","v":""},{"$f":"IF(Q964=\"\",\"\",Q964/COUNTIF('Data Input'!$C$8:$AK$8,\"G\"))","v":""}]
[{"$f":"IF('Data Input'!A970=0,\"\",'Data Input'!A970)","v":""},{"$f":"IF(ISBLANK('Data Input'!A970),\"\",COUNTIF('Data Input'!C970:AK970,\"\"))","v":""},{"$f":"IF(ISBLANK('Data Input'!A970),\"\",COUNTIF('Data Input'!C970:AK970,\"0\"))","v":""},{"$f":"IF(ISBLANK('Data Input'!A970),\"\",SUM(B965,C965))","v":""},{"$f":"IF(ISBLANK('Data Input'!A970),\"\",SUM('Data Input'!C970:AK970))","v":""},{"$f":"IF(E965=\"\",\"\",E965/(COUNTA('Data Input'!$C$8:$AK$8)))","v":""},{"$f":"IF(ISBLANK('Data Input'!A970),\"\",SUM('Data Input'!C970,'Data Input'!D970,'Data Input'!J970,'Data Input'!X970))","v":""},{"$f":"IF(G965=\"\",\"\",G965/COUNTIF('Data Input'!$C$8:$AK$8,\"N\"))","v":""},{"$f":"IF(ISBLANK('Data Input'!A970),\"\",SUM('Data Input'!G970,'Data Input'!I970,'Data Input'!L970,'Data Input'!N970,'Data Input'!O970,'Data Input'!S970,'Data Input'!Z970,'Data Input'!AA970,'Data Input'!AB970,'Data Input'!AC970,'Data Input'!AE970,'Data Input'!AF970,'Data Input'!AG970,'Data Input'!AI970,'Data Input'!AK970))","v":""},{"$f":"IF(I965=\"\",\"\",I965/COUNTIF('Data Input'!$C$8:$AK$8,\"C\"))","v":""},{"$f":"IF(ISBLANK('Data Input'!A970),\"\",SUM('Data Input'!T970,'Data Input'!U970))","v":""},{"$f":"IF(K965=\"\",\"\",K965/COUNTIF('Data Input'!$C$8:$AK$8,\"S\"))","v":""},{"$f":"IF(ISBLANK('Data Input'!A970),\"\",SUM('Data Input'!F970,'Data Input'!R970,'Data Input'!AJ970))","v":""},{"$f":"IF(M965=\"\",\"\",M965/COUNTIF('Data Input'!$C$8:$AK$8,\"F\"))","v":""},{"$f":"IF(ISBLANK('Data Input'!A970),\"\",SUM('Data Input'!E970,'Data Input'!M970,'Data Input'!Q970,'Data Input'!V970,'Data Input'!W970,'Data Input'!AD970,'Data Input'!AH970))","v":""},{"$f":"IF(O965=\"\",\"\",O965/COUNTIF('Data Input'!$C$8:$AK$8,\"M\"))","v":""},{"$f":"IF(ISBLANK('Data Input'!A970),\"\",SUM('Data Input'!H970,'Data Input'!K970,'Data Input'!P970,'Data Input'!Y970))","v":""},{"$f":"IF(Q965=\"\",\"\",Q965/COUNTIF('Data Input'!$C$8:$AK$8,\"G\"))","v":""}]
[{"$f":"IF('Data Input'!A971=0,\"\",'Data Input'!A971)","v":""},{"$f":"IF(ISBLANK('Data Input'!A971),\"\",COUNTIF('Data Input'!C971:AK971,\"\"))","v":""},{"$f":"IF(ISBLANK('Data Input'!A971),\"\",COUNTIF('Data Input'!C971:AK971,\"0\"))","v":""},{"$f":"IF(ISBLANK('Data Input'!A971),\"\",SUM(B966,C966))","v":""},{"$f":"IF(ISBLANK('Data Input'!A971),\"\",SUM('Data Input'!C971:AK971))","v":""},{"$f":"IF(E966=\"\",\"\",E966/(COUNTA('Data Input'!$C$8:$AK$8)))","v":""},{"$f":"IF(ISBLANK('Data Input'!A971),\"\",SUM('Data Input'!C971,'Data Input'!D971,'Data Input'!J971,'Data Input'!X971))","v":""},{"$f":"IF(G966=\"\",\"\",G966/COUNTIF('Data Input'!$C$8:$AK$8,\"N\"))","v":""},{"$f":"IF(ISBLANK('Data Input'!A971),\"\",SUM('Data Input'!G971,'Data Input'!I971,'Data Input'!L971,'Data Input'!N971,'Data Input'!O971,'Data Input'!S971,'Data Input'!Z971,'Data Input'!AA971,'Data Input'!AB971,'Data Input'!AC971,'Data Input'!AE971,'Data Input'!AF971,'Data Input'!AG971,'Data Input'!AI971,'Data Input'!AK971))","v":""},{"$f":"IF(I966=\"\",\"\",I966/COUNTIF('Data Input'!$C$8:$AK$8,\"C\"))","v":""},{"$f":"IF(ISBLANK('Data Input'!A971),\"\",SUM('Data Input'!T971,'Data Input'!U971))","v":""},{"$f":"IF(K966=\"\",\"\",K966/COUNTIF('Data Input'!$C$8:$AK$8,\"S\"))","v":""},{"$f":"IF(ISBLANK('Data Input'!A971),\"\",SUM('Data Input'!F971,'Data Input'!R971,'Data Input'!AJ971))","v":""},{"$f":"IF(M966=\"\",\"\",M966/COUNTIF('Data Input'!$C$8:$AK$8,\"F\"))","v":""},{"$f":"IF(ISBLANK('Data Input'!A971),\"\",SUM('Data Input'!E971,'Data Input'!M971,'Data Input'!Q971,'Data Input'!V971,'Data Input'!W971,'Data Input'!AD971,'Data Input'!AH971))","v":""},{"$f":"IF(O966=\"\",\"\",O966/COUNTIF('Data Input'!$C$8:$AK$8,\"M\"))","v":""},{"$f":"IF(ISBLANK('Data Input'!A971),\"\",SUM('Data Input'!H971,'Data Input'!K971,'Data Input'!P971,'Data Input'!Y971))","v":""},{"$f":"IF(Q966=\"\",\"\",Q966/COUNTIF('Data Input'!$C$8:$AK$8,\"G\"))","v":""}]
[{"$f":"IF('Data Input'!A972=0,\"\",'Data Input'!A972)","v":""},{"$f":"IF(ISBLANK('Data Input'!A972),\"\",COUNTIF('Data Input'!C972:AK972,\"\"))","v":""},{"$f":"IF(ISBLANK('Data Input'!A972),\"\",COUNTIF('Data Input'!C972:AK972,\"0\"))","v":""},{"$f":"IF(ISBLANK('Data Input'!A972),\"\",SUM(B967,C967))","v":""},{"$f":"IF(ISBLANK('Data Input'!A972),\"\",SUM('Data Input'!C972:AK972))","v":""},{"$f":"IF(E967=\"\",\"\",E967/(COUNTA('Data Input'!$C$8:$AK$8)))","v":""},{"$f":"IF(ISBLANK('Data Input'!A972),\"\",SUM('Data Input'!C972,'Data Input'!D972,'Data Input'!J972,'Data Input'!X972))","v":""},{"$f":"IF(G967=\"\",\"\",G967/COUNTIF('Data Input'!$C$8:$AK$8,\"N\"))","v":""},{"$f":"IF(ISBLANK('Data Input'!A972),\"\",SUM('Data Input'!G972,'Data Input'!I972,'Data Input'!L972,'Data Input'!N972,'Data Input'!O972,'Data Input'!S972,'Data Input'!Z972,'Data Input'!AA972,'Data Input'!AB972,'Data Input'!AC972,'Data Input'!AE972,'Data Input'!AF972,'Data Input'!AG972,'Data Input'!AI972,'Data Input'!AK972))","v":""},{"$f":"IF(I967=\"\",\"\",I967/COUNTIF('Data Input'!$C$8:$AK$8,\"C\"))","v":""},{"$f":"IF(ISBLANK('Data Input'!A972),\"\",SUM('Data Input'!T972,'Data Input'!U972))","v":""},{"$f":"IF(K967=\"\",\"\",K967/COUNTIF('Data Input'!$C$8:$AK$8,\"S\"))","v":""},{"$f":"IF(ISBLANK('Data Input'!A972),\"\",SUM('Data Input'!F972,'Data Input'!R972,'Data Input'!AJ972))","v":""},{"$f":"IF(M967=\"\",\"\",M967/COUNTIF('Data Input'!$C$8:$AK$8,\"F\"))","v":""},{"$f":"IF(ISBLANK('Data Input'!A972),\"\",SUM('Data Input'!E972,'Data Input'!M972,'Data Input'!Q972,'Data Input'!V972,'Data Input'!W972,'Data Input'!AD972,'Data Input'!AH972))","v":""},{"$f":"IF(O967=\"\",\"\",O967/COUNTIF('Data Input'!$C$8:$AK$8,\"M\"))","v":""},{"$f":"IF(ISBLANK('Data Input'!A972),\"\",SUM('Data Input'!H972,'Data Input'!K972,'Data Input'!P972,'Data Input'!Y972))","v":""},{"$f":"IF(Q967=\"\",\"\",Q967/COUNTIF('Data Input'!$C$8:$AK$8,\"G\"))","v":""}]
[{"$f":"IF('Data Input'!A973=0,\"\",'Data Input'!A973)","v":""},{"$f":"IF(ISBLANK('Data Input'!A973),\"\",COUNTIF('Data Input'!C973:AK973,\"\"))","v":""},{"$f":"IF(ISBLANK('Data Input'!A973),\"\",COUNTIF('Data Input'!C973:AK973,\"0\"))","v":""},{"$f":"IF(ISBLANK('Data Input'!A973),\"\",SUM(B968,C968))","v":""},{"$f":"IF(ISBLANK('Data Input'!A973),\"\",SUM('Data Input'!C973:AK973))","v":""},{"$f":"IF(E968=\"\",\"\",E968/(COUNTA('Data Input'!$C$8:$AK$8)))","v":""},{"$f":"IF(ISBLANK('Data Input'!A973),\"\",SUM('Data Input'!C973,'Data Input'!D973,'Data Input'!J973,'Data Input'!X973))","v":""},{"$f":"IF(G968=\"\",\"\",G968/COUNTIF('Data Input'!$C$8:$AK$8,\"N\"))","v":""},{"$f":"IF(ISBLANK('Data Input'!A973),\"\",SUM('Data Input'!G973,'Data Input'!I973,'Data Input'!L973,'Data Input'!N973,'Data Input'!O973,'Data Input'!S973,'Data Input'!Z973,'Data Input'!AA973,'Data Input'!AB973,'Data Input'!AC973,'Data Input'!AE973,'Data Input'!AF973,'Data Input'!AG973,'Data Input'!AI973,'Data Input'!AK973))","v":""},{"$f":"IF(I968=\"\",\"\",I968/COUNTIF('Data Input'!$C$8:$AK$8,\"C\"))","v":""},{"$f":"IF(ISBLANK('Data Input'!A973),\"\",SUM('Data Input'!T973,'Data Input'!U973))","v":""},{"$f":"IF(K968=\"\",\"\",K968/COUNTIF('Data Input'!$C$8:$AK$8,\"S\"))","v":""},{"$f":"IF(ISBLANK('Data Input'!A973),\"\",SUM('Data Input'!F973,'Data Input'!R973,'Data Input'!AJ973))","v":""},{"$f":"IF(M968=\"\",\"\",M968/COUNTIF('Data Input'!$C$8:$AK$8,\"F\"))","v":""},{"$f":"IF(ISBLANK('Data Input'!A973),\"\",SUM('Data Input'!E973,'Data Input'!M973,'Data Input'!Q973,'Data Input'!V973,'Data Input'!W973,'Data Input'!AD973,'Data Input'!AH973))","v":""},{"$f":"IF(O968=\"\",\"\",O968/COUNTIF('Data Input'!$C$8:$AK$8,\"M\"))","v":""},{"$f":"IF(ISBLANK('Data Input'!A973),\"\",SUM('Data Input'!H973,'Data Input'!K973,'Data Input'!P973,'Data Input'!Y973))","v":""},{"$f":"IF(Q968=\"\",\"\",Q968/COUNTIF('Data Input'!$C$8:$AK$8,\"G\"))","v":""}]
[{"$f":"IF('Data Input'!A974=0,\"\",'Data Input'!A974)","v":""},{"$f":"IF(ISBLANK('Data Input'!A974),\"\",COUNTIF('Data Input'!C974:AK974,\"\"))","v":""},{"$f":"IF(ISBLANK('Data Input'!A974),\"\",COUNTIF('Data Input'!C974:AK974,\"0\"))","v":""},{"$f":"IF(ISBLANK('Data Input'!A974),\"\",SUM(B969,C969))","v":""},{"$f":"IF(ISBLANK('Data Input'!A974),\"\",SUM('Data Input'!C974:AK974))","v":""},{"$f":"IF(E969=\"\",\"\",E969/(COUNTA('Data Input'!$C$8:$AK$8)))","v":""},{"$f":"IF(ISBLANK('Data Input'!A974),\"\",SUM('Data Input'!C974,'Data Input'!D974,'Data Input'!J974,'Data Input'!X974))","v":""},{"$f":"IF(G969=\"\",\"\",G969/COUNTIF('Data Input'!$C$8:$AK$8,\"N\"))","v":""},{"$f":"IF(ISBLANK('Data Input'!A974),\"\",SUM('Data Input'!G974,'Data Input'!I974,'Data Input'!L974,'Data Input'!N974,'Data Input'!O974,'Data Input'!S974,'Data Input'!Z974,'Data Input'!AA974,'Data Input'!AB974,'Data Input'!AC974,'Data Input'!AE974,'Data Input'!AF974,'Data Input'!AG974,'Data Input'!AI974,'Data Input'!AK974))","v":""},{"$f":"IF(I969=\"\",\"\",I969/COUNTIF('Data Input'!$C$8:$AK$8,\"C\"))","v":""},{"$f":"IF(ISBLANK('Data Input'!A974),\"\",SUM('Data Input'!T974,'Data Input'!U974))","v":""},{"$f":"IF(K969=\"\",\"\",K969/COUNTIF('Data Input'!$C$8:$AK$8,\"S\"))","v":""},{"$f":"IF(ISBLANK('Data Input'!A974),\"\",SUM('Data Input'!F974,'Data Input'!R974,'Data Input'!AJ974))","v":""},{"$f":"IF(M969=\"\",\"\",M969/COUNTIF('Data Input'!$C$8:$AK$8,\"F\"))","v":""},{"$f":"IF(ISBLANK('Data Input'!A974),\"\",SUM('Data Input'!E974,'Data Input'!M974,'Data Input'!Q974,'Data Input'!V974,'Data Input'!W974,'Data Input'!AD974,'Data Input'!AH974))","v":""},{"$f":"IF(O969=\"\",\"\",O969/COUNTIF('Data Input'!$C$8:$AK$8,\"M\"))","v":""},{"$f":"IF(ISBLANK('Data Input'!A974),\"\",SUM('Data Input'!H974,'Data Input'!K974,'Data Input'!P974,'Data Input'!Y974))","v":""},{"$f":"IF(Q969=\"\",\"\",Q969/COUNTIF('Data Input'!$C$8:$AK$8,\"G\"))","v":""}]
[{"$f":"IF('Data Input'!A975=0,\"\",'Data Input'!A975)","v":""},{"$f":"IF(ISBLANK('Data Input'!A975),\"\",COUNTIF('Data Input'!C975:AK975,\"\"))","v":""},{"$f":"IF(ISBLANK('Data Input'!A975),\"\",COUNTIF('Data Input'!C975:AK975,\"0\"))","v":""},{"$f":"IF(ISBLANK('Data Input'!A975),\"\",SUM(B970,C970))","v":""},{"$f":"IF(ISBLANK('Data Input'!A975),\"\",SUM('Data Input'!C975:AK975))","v":""},{"$f":"IF(E970=\"\",\"\",E970/(COUNTA('Data Input'!$C$8:$AK$8)))","v":""},{"$f":"IF(ISBLANK('Data Input'!A975),\"\",SUM('Data Input'!C975,'Data Input'!D975,'Data Input'!J975,'Data Input'!X975))","v":""},{"$f":"IF(G970=\"\",\"\",G970/COUNTIF('Data Input'!$C$8:$AK$8,\"N\"))","v":""},{"$f":"IF(ISBLANK('Data Input'!A975),\"\",SUM('Data Input'!G975,'Data Input'!I975,'Data Input'!L975,'Data Input'!N975,'Data Input'!O975,'Data Input'!S975,'Data Input'!Z975,'Data Input'!AA975,'Data Input'!AB975,'Data Input'!AC975,'Data Input'!AE975,'Data Input'!AF975,'Data Input'!AG975,'Data Input'!AI975,'Data Input'!AK975))","v":""},{"$f":"IF(I970=\"\",\"\",I970/COUNTIF('Data Input'!$C$8:$AK$8,\"C\"))","v":""},{"$f":"IF(ISBLANK('Data Input'!A975),\"\",SUM('Data Input'!T975,'Data Input'!U975))","v":""},{"$f":"IF(K970=\"\",\"\",K970/COUNTIF('Data Input'!$C$8:$AK$8,\"S\"))","v":""},{"$f":"IF(ISBLANK('Data Input'!A975),\"\",SUM('Data Input'!F975,'Data Input'!R975,'Data Input'!AJ975))","v":""},{"$f":"IF(M970=\"\",\"\",M970/COUNTIF('Data Input'!$C$8:$AK$8,\"F\"))","v":""},{"$f":"IF(ISBLANK('Data Input'!A975),\"\",SUM('Data Input'!E975,'Data Input'!M975,'Data Input'!Q975,'Data Input'!V975,'Data Input'!W975,'Data Input'!AD975,'Data Input'!AH975))","v":""},{"$f":"IF(O970=\"\",\"\",O970/COUNTIF('Data Input'!$C$8:$AK$8,\"M\"))","v":""},{"$f":"IF(ISBLANK('Data Input'!A975),\"\",SUM('Data Input'!H975,'Data Input'!K975,'Data Input'!P975,'Data Input'!Y975))","v":""},{"$f":"IF(Q970=\"\",\"\",Q970/COUNTIF('Data Input'!$C$8:$AK$8,\"G\"))","v":""}]
[{"$f":"IF('Data Input'!A976=0,\"\",'Data Input'!A976)","v":""},{"$f":"IF(ISBLANK('Data Input'!A976),\"\",COUNTIF('Data Input'!C976:AK976,\"\"))","v":""},{"$f":"IF(ISBLANK('Data Input'!A976),\"\",COUNTIF('Data Input'!C976:AK976,\"0\"))","v":""},{"$f":"IF(ISBLANK('Data Input'!A976),\"\",SUM(B971,C971))","v":""},{"$f":"IF(ISBLANK('Data Input'!A976),\"\",SUM('Data Input'!C976:AK976))","v":""},{"$f":"IF(E971=\"\",\"\",E971/(COUNTA('Data Input'!$C$8:$AK$8)))","v":""},{"$f":"IF(ISBLANK('Data Input'!A976),\"\",SUM('Data Input'!C976,'Data Input'!D976,'Data Input'!J976,'Data Input'!X976))","v":""},{"$f":"IF(G971=\"\",\"\",G971/COUNTIF('Data Input'!$C$8:$AK$8,\"N\"))","v":""},{"$f":"IF(ISBLANK('Data Input'!A976),\"\",SUM('Data Input'!G976,'Data Input'!I976,'Data Input'!L976,'Data Input'!N976,'Data Input'!O976,'Data Input'!S976,'Data Input'!Z976,'Data Input'!AA976,'Data Input'!AB976,'Data Input'!AC976,'Data Input'!AE976,'Data Input'!AF976,'Data Input'!AG976,'Data Input'!AI976,'Data Input'!AK976))","v":""},{"$f":"IF(I971=\"\",\"\",I971/COUNTIF('Data Input'!$C$8:$AK$8,\"C\"))","v":""},{"$f":"IF(ISBLANK('Data Input'!A976),\"\",SUM('Data Input'!T976,'Data Input'!U976))","v":""},{"$f":"IF(K971=\"\",\"\",K971/COUNTIF('Data Input'!$C$8:$AK$8,\"S\"))","v":""},{"$f":"IF(ISBLANK('Data Input'!A976),\"\",SUM('Data Input'!F976,'Data Input'!R976,'Data Input'!AJ976))","v":""},{"$f":"IF(M971=\"\",\"\",M971/COUNTIF('Data Input'!$C$8:$AK$8,\"F\"))","v":""},{"$f":"IF(ISBLANK('Data Input'!A976),\"\",SUM('Data Input'!E976,'Data Input'!M976,'Data Input'!Q976,'Data Input'!V976,'Data Input'!W976,'Data Input'!AD976,'Data Input'!AH976))","v":""},{"$f":"IF(O971=\"\",\"\",O971/COUNTIF('Data Input'!$C$8:$AK$8,\"M\"))","v":""},{"$f":"IF(ISBLANK('Data Input'!A976),\"\",SUM('Data Input'!H976,'Data Input'!K976,'Data Input'!P976,'Data Input'!Y976))","v":""},{"$f":"IF(Q971=\"\",\"\",Q971/COUNTIF('Data Input'!$C$8:$AK$8,\"G\"))","v":""}]
[{"$f":"IF('Data Input'!A977=0,\"\",'Data Input'!A977)","v":""},{"$f":"IF(ISBLANK('Data Input'!A977),\"\",COUNTIF('Data Input'!C977:AK977,\"\"))","v":""},{"$f":"IF(ISBLANK('Data Input'!A977),\"\",COUNTIF('Data Input'!C977:AK977,\"0\"))","v":""},{"$f":"IF(ISBLANK('Data Input'!A977),\"\",SUM(B972,C972))","v":""},{"$f":"IF(ISBLANK('Data Input'!A977),\"\",SUM('Data Input'!C977:AK977))","v":""},{"$f":"IF(E972=\"\",\"\",E972/(COUNTA('Data Input'!$C$8:$AK$8)))","v":""},{"$f":"IF(ISBLANK('Data Input'!A977),\"\",SUM('Data Input'!C977,'Data Input'!D977,'Data Input'!J977,'Data Input'!X977))","v":""},{"$f":"IF(G972=\"\",\"\",G972/COUNTIF('Data Input'!$C$8:$AK$8,\"N\"))","v":""},{"$f":"IF(ISBLANK('Data Input'!A977),\"\",SUM('Data Input'!G977,'Data Input'!I977,'Data Input'!L977,'Data Input'!N977,'Data Input'!O977,'Data Input'!S977,'Data Input'!Z977,'Data Input'!AA977,'Data Input'!AB977,'Data Input'!AC977,'Data Input'!AE977,'Data Input'!AF977,'Data Input'!AG977,'Data Input'!AI977,'Data Input'!AK977))","v":""},{"$f":"IF(I972=\"\",\"\",I972/COUNTIF('Data Input'!$C$8:$AK$8,\"C\"))","v":""},{"$f":"IF(ISBLANK('Data Input'!A977),\"\",SUM('Data Input'!T977,'Data Input'!U977))","v":""},{"$f":"IF(K972=\"\",\"\",K972/COUNTIF('Data Input'!$C$8:$AK$8,\"S\"))","v":""},{"$f":"IF(ISBLANK('Data Input'!A977),\"\",SUM('Data Input'!F977,'Data Input'!R977,'Data Input'!AJ977))","v":""},{"$f":"IF(M972=\"\",\"\",M972/COUNTIF('Data Input'!$C$8:$AK$8,\"F\"))","v":""},{"$f":"IF(ISBLANK('Data Input'!A977),\"\",SUM('Data Input'!E977,'Data Input'!M977,'Data Input'!Q977,'Data Input'!V977,'Data Input'!W977,'Data Input'!AD977,'Data Input'!AH977))","v":""},{"$f":"IF(O972=\"\",\"\",O972/COUNTIF('Data Input'!$C$8:$AK$8,\"M\"))","v":""},{"$f":"IF(ISBLANK('Data Input'!A977),\"\",SUM('Data Input'!H977,'Data Input'!K977,'Data Input'!P977,'Data Input'!Y977))","v":""},{"$f":"IF(Q972=\"\",\"\",Q972/COUNTIF('Data Input'!$C$8:$AK$8,\"G\"))","v":""}]
[{"$f":"IF('Data Input'!A978=0,\"\",'Data Input'!A978)","v":""},{"$f":"IF(ISBLANK('Data Input'!A978),\"\",COUNTIF('Data Input'!C978:AK978,\"\"))","v":""},{"$f":"IF(ISBLANK('Data Input'!A978),\"\",COUNTIF('Data Input'!C978:AK978,\"0\"))","v":""},{"$f":"IF(ISBLANK('Data Input'!A978),\"\",SUM(B973,C973))","v":""},{"$f":"IF(ISBLANK('Data Input'!A978),\"\",SUM('Data Input'!C978:AK978))","v":""},{"$f":"IF(E973=\"\",\"\",E973/(COUNTA('Data Input'!$C$8:$AK$8)))","v":""},{"$f":"IF(ISBLANK('Data Input'!A978),\"\",SUM('Data Input'!C978,'Data Input'!D978,'Data Input'!J978,'Data Input'!X978))","v":""},{"$f":"IF(G973=\"\",\"\",G973/COUNTIF('Data Input'!$C$8:$AK$8,\"N\"))","v":""},{"$f":"IF(ISBLANK('Data Input'!A978),\"\",SUM('Data Input'!G978,'Data Input'!I978,'Data Input'!L978,'Data Input'!N978,'Data Input'!O978,'Data Input'!S978,'Data Input'!Z978,'Data Input'!AA978,'Data Input'!AB978,'Data Input'!AC978,'Data Input'!AE978,'Data Input'!AF978,'Data Input'!AG978,'Data Input'!AI978,'Data Input'!AK978))","v":""},{"$f":"IF(I973=\"\",\"\",I973/COUNTIF('Data Input'!$C$8:$AK$8,\"C\"))","v":""},{"$f":"IF(ISBLANK('Data Input'!A978),\"\",SUM('Data Input'!T978,'Data Input'!U978))","v":""},{"$f":"IF(K973=\"\",\"\",K973/COUNTIF('Data Input'!$C$8:$AK$8,\"S\"))","v":""},{"$f":"IF(ISBLANK('Data Input'!A978),\"\",SUM('Data Input'!F978,'Data Input'!R978,'Data Input'!AJ978))","v":""},{"$f":"IF(M973=\"\",\"\",M973/COUNTIF('Data Input'!$C$8:$AK$8,\"F\"))","v":""},{"$f":"IF(ISBLANK('Data Input'!A978),\"\",SUM('Data Input'!E978,'Data Input'!M978,'Data Input'!Q978,'Data Input'!V978,'Data Input'!W978,'Data Input'!AD978,'Data Input'!AH978))","v":""},{"$f":"IF(O973=\"\",\"\",O973/COUNTIF('Data Input'!$C$8:$AK$8,\"M\"))","v":""},{"$f":"IF(ISBLANK('Data Input'!A978),\"\",SUM('Data Input'!H978,'Data Input'!K978,'Data Input'!P978,'Data Input'!Y978))","v":""},{"$f":"IF(Q973=\"\",\"\",Q973/COUNTIF('Data Input'!$C$8:$AK$8,\"G\"))","v":""}]
[{"$f":"IF('Data Input'!A979=0,\"\",'Data Input'!A979)","v":""},{"$f":"IF(ISBLANK('Data Input'!A979),\"\",COUNTIF('Data Input'!C979:AK979,\"\"))","v":""},{"$f":"IF(ISBLANK('Data Input'!A979),\"\",COUNTIF('Data Input'!C979:AK979,\"0\"))","v":""},{"$f":"IF(ISBLANK('Data Input'!A979),\"\",SUM(B974,C974))","v":""},{"$f":"IF(ISBLANK('Data Input'!A979),\"\",SUM('Data Input'!C979:AK979))","v":""},{"$f":"IF(E974=\"\",\"\",E974/(COUNTA('Data Input'!$C$8:$AK$8)))","v":""},{"$f":"IF(ISBLANK('Data Input'!A979),\"\",SUM('Data Input'!C979,'Data Input'!D979,'Data Input'!J979,'Data Input'!X979))","v":""},{"$f":"IF(G974=\"\",\"\",G974/COUNTIF('Data Input'!$C$8:$AK$8,\"N\"))","v":""},{"$f":"IF(ISBLANK('Data Input'!A979),\"\",SUM('Data Input'!G979,'Data Input'!I979,'Data Input'!L979,'Data Input'!N979,'Data Input'!O979,'Data Input'!S979,'Data Input'!Z979,'Data Input'!AA979,'Data Input'!AB979,'Data Input'!AC979,'Data Input'!AE979,'Data Input'!AF979,'Data Input'!AG979,'Data Input'!AI979,'Data Input'!AK979))","v":""},{"$f":"IF(I974=\"\",\"\",I974/COUNTIF('Data Input'!$C$8:$AK$8,\"C\"))","v":""},{"$f":"IF(ISBLANK('Data Input'!A979),\"\",SUM('Data Input'!T979,'Data Input'!U979))","v":""},{"$f":"IF(K974=\"\",\"\",K974/COUNTIF('Data Input'!$C$8:$AK$8,\"S\"))","v":""},{"$f":"IF(ISBLANK('Data Input'!A979),\"\",SUM('Data Input'!F979,'Data Input'!R979,'Data Input'!AJ979))","v":""},{"$f":"IF(M974=\"\",\"\",M974/COUNTIF('Data Input'!$C$8:$AK$8,\"F\"))","v":""},{"$f":"IF(ISBLANK('Data Input'!A979),\"\",SUM('Data Input'!E979,'Data Input'!M979,'Data Input'!Q979,'Data Input'!V979,'Data Input'!W979,'Data Input'!AD979,'Data Input'!AH979))","v":""},{"$f":"IF(O974=\"\",\"\",O974/COUNTIF('Data Input'!$C$8:$AK$8,\"M\"))","v":""},{"$f":"IF(ISBLANK('Data Input'!A979),\"\",SUM('Data Input'!H979,'Data Input'!K979,'Data Input'!P979,'Data Input'!Y979))","v":""},{"$f":"IF(Q974=\"\",\"\",Q974/COUNTIF('Data Input'!$C$8:$AK$8,\"G\"))","v":""}]
[{"$f":"IF('Data Input'!A980=0,\"\",'Data Input'!A980)","v":""},{"$f":"IF(ISBLANK('Data Input'!A980),\"\",COUNTIF('Data Input'!C980:AK980,\"\"))","v":""},{"$f":"IF(ISBLANK('Data Input'!A980),\"\",COUNTIF('Data Input'!C980:AK980,\"0\"))","v":""},{"$f":"IF(ISBLANK('Data Input'!A980),\"\",SUM(B975,C975))","v":""},{"$f":"IF(ISBLANK('Data Input'!A980),\"\",SUM('Data Input'!C980:AK980))","v":""},{"$f":"IF(E975=\"\",\"\",E975/(COUNTA('Data Input'!$C$8:$AK$8)))","v":""},{"$f":"IF(ISBLANK('Data Input'!A980),\"\",SUM('Data Input'!C980,'Data Input'!D980,'Data Input'!J980,'Data Input'!X980))","v":""},{"$f":"IF(G975=\"\",\"\",G975/COUNTIF('Data Input'!$C$8:$AK$8,\"N\"))","v":""},{"$f":"IF(ISBLANK('Data Input'!A980),\"\",SUM('Data Input'!G980,'Data Input'!I980,'Data Input'!L980,'Data Input'!N980,'Data Input'!O980,'Data Input'!S980,'Data Input'!Z980,'Data Input'!AA980,'Data Input'!AB980,'Data Input'!AC980,'Data Input'!AE980,'Data Input'!AF980,'Data Input'!AG980,'Data Input'!AI980,'Data Input'!AK980))","v":""},{"$f":"IF(I975=\"\",\"\",I975/COUNTIF('Data Input'!$C$8:$AK$8,\"C\"))","v":""},{"$f":"IF(ISBLANK('Data Input'!A980),\"\",SUM('Data Input'!T980,'Data Input'!U980))","v":""},{"$f":"IF(K975=\"\",\"\",K975/COUNTIF('Data Input'!$C$8:$AK$8,\"S\"))","v":""},{"$f":"IF(ISBLANK('Data Input'!A980),\"\",SUM('Data Input'!F980,'Data Input'!R980,'Data Input'!AJ980))","v":""},{"$f":"IF(M975=\"\",\"\",M975/COUNTIF('Data Input'!$C$8:$AK$8,\"F\"))","v":""},{"$f":"IF(ISBLANK('Data Input'!A980),\"\",SUM('Data Input'!E980,'Data Input'!M980,'Data Input'!Q980,'Data Input'!V980,'Data Input'!W980,'Data Input'!AD980,'Data Input'!AH980))","v":""},{"$f":"IF(O975=\"\",\"\",O975/COUNTIF('Data Input'!$C$8:$AK$8,\"M\"))","v":""},{"$f":"IF(ISBLANK('Data Input'!A980),\"\",SUM('Data Input'!H980,'Data Input'!K980,'Data Input'!P980,'Data Input'!Y980))","v":""},{"$f":"IF(Q975=\"\",\"\",Q975/COUNTIF('Data Input'!$C$8:$AK$8,\"G\"))","v":""}]
[{"$f":"IF('Data Input'!A981=0,\"\",'Data Input'!A981)","v":""},{"$f":"IF(ISBLANK('Data Input'!A981),\"\",COUNTIF('Data Input'!C981:AK981,\"\"))","v":""},{"$f":"IF(ISBLANK('Data Input'!A981),\"\",COUNTIF('Data Input'!C981:AK981,\"0\"))","v":""},{"$f":"IF(ISBLANK('Data Input'!A981),\"\",SUM(B976,C976))","v":""},{"$f":"IF(ISBLANK('Data Input'!A981),\"\",SUM('Data Input'!C981:AK981))","v":""},{"$f":"IF(E976=\"\",\"\",E976/(COUNTA('Data Input'!$C$8:$AK$8)))","v":""},{"$f":"IF(ISBLANK('Data Input'!A981),\"\",SUM('Data Input'!C981,'Data Input'!D981,'Data Input'!J981,'Data Input'!X981))","v":""},{"$f":"IF(G976=\"\",\"\",G976/COUNTIF('Data Input'!$C$8:$AK$8,\"N\"))","v":""},{"$f":"IF(ISBLANK('Data Input'!A981),\"\",SUM('Data Input'!G981,'Data Input'!I981,'Data Input'!L981,'Data Input'!N981,'Data Input'!O981,'Data Input'!S981,'Data Input'!Z981,'Data Input'!AA981,'Data Input'!AB981,'Data Input'!AC981,'Data Input'!AE981,'Data Input'!AF981,'Data Input'!AG981,'Data Input'!AI981,'Data Input'!AK981))","v":""},{"$f":"IF(I976=\"\",\"\",I976/COUNTIF('Data Input'!$C$8:$AK$8,\"C\"))","v":""},{"$f":"IF(ISBLANK('Data Input'!A981),\"\",SUM('Data Input'!T981,'Data Input'!U981))","v":""},{"$f":"IF(K976=\"\",\"\",K976/COUNTIF('Data Input'!$C$8:$AK$8,\"S\"))","v":""},{"$f":"IF(ISBLANK('Data Input'!A981),\"\",SUM('Data Input'!F981,'Data Input'!R981,'Data Input'!AJ981))","v":""},{"$f":"IF(M976=\"\",\"\",M976/COUNTIF('Data Input'!$C$8:$AK$8,\"F\"))","v":""},{"$f":"IF(ISBLANK('Data Input'!A981),\"\",SUM('Data Input'!E981,'Data Input'!M981,'Data Input'!Q981,'Data Input'!V981,'Data Input'!W981,'Data Input'!AD981,'Data Input'!AH981))","v":""},{"$f":"IF(O976=\"\",\"\",O976/COUNTIF('Data Input'!$C$8:$AK$8,\"M\"))","v":""},{"$f":"IF(ISBLANK('Data Input'!A981),\"\",SUM('Data Input'!H981,'Data Input'!K981,'Data Input'!P981,'Data Input'!Y981))","v":""},{"$f":"IF(Q976=\"\",\"\",Q976/COUNTIF('Data Input'!$C$8:$AK$8,\"G\"))","v":""}]
[{"$f":"IF('Data Input'!A982=0,\"\",'Data Input'!A982)","v":""},{"$f":"IF(ISBLANK('Data Input'!A982),\"\",COUNTIF('Data Input'!C982:AK982,\"\"))","v":""},{"$f":"IF(ISBLANK('Data Input'!A982),\"\",COUNTIF('Data Input'!C982:AK982,\"0\"))","v":""},{"$f":"IF(ISBLANK('Data Input'!A982),\"\",SUM(B977,C977))","v":""},{"$f":"IF(ISBLANK('Data Input'!A982),\"\",SUM('Data Input'!C982:AK982))","v":""},{"$f":"IF(E977=\"\",\"\",E977/(COUNTA('Data Input'!$C$8:$AK$8)))","v":""},{"$f":"IF(ISBLANK('Data Input'!A982),\"\",SUM('Data Input'!C982,'Data Input'!D982,'Data Input'!J982,'Data Input'!X982))","v":""},{"$f":"IF(G977=\"\",\"\",G977/COUNTIF('Data Input'!$C$8:$AK$8,\"N\"))","v":""},{"$f":"IF(ISBLANK('Data Input'!A982),\"\",SUM('Data Input'!G982,'Data Input'!I982,'Data Input'!L982,'Data Input'!N982,'Data Input'!O982,'Data Input'!S982,'Data Input'!Z982,'Data Input'!AA982,'Data Input'!AB982,'Data Input'!AC982,'Data Input'!AE982,'Data Input'!AF982,'Data Input'!AG982,'Data Input'!AI982,'Data Input'!AK982))","v":""},{"$f":"IF(I977=\"\",\"\",I977/COUNTIF('Data Input'!$C$8:$AK$8,\"C\"))","v":""},{"$f":"IF(ISBLANK('Data Input'!A982),\"\",SUM('Data Input'!T982,'Data Input'!U982))","v":""},{"$f":"IF(K977=\"\",\"\",K977/COUNTIF('Data Input'!$C$8:$AK$8,\"S\"))","v":""},{"$f":"IF(ISBLANK('Data Input'!A982),\"\",SUM('Data Input'!F982,'Data Input'!R982,'Data Input'!AJ982))","v":""},{"$f":"IF(M977=\"\",\"\",M977/COUNTIF('Data Input'!$C$8:$AK$8,\"F\"))","v":""},{"$f":"IF(ISBLANK('Data Input'!A982),\"\",SUM('Data Input'!E982,'Data Input'!M982,'Data Input'!Q982,'Data Input'!V982,'Data Input'!W982,'Data Input'!AD982,'Data Input'!AH982))","v":""},{"$f":"IF(O977=\"\",\"\",O977/COUNTIF('Data Input'!$C$8:$AK$8,\"M\"))","v":""},{"$f":"IF(ISBLANK('Data Input'!A982),\"\",SUM('Data Input'!H982,'Data Input'!K982,'Data Input'!P982,'Data Input'!Y982))","v":""},{"$f":"IF(Q977=\"\",\"\",Q977/COUNTIF('Data Input'!$C$8:$AK$8,\"G\"))","v":""}]
[{"$f":"IF('Data Input'!A983=0,\"\",'Data Input'!A983)","v":""},{"$f":"IF(ISBLANK('Data Input'!A983),\"\",COUNTIF('Data Input'!C983:AK983,\"\"))","v":""},{"$f":"IF(ISBLANK('Data Input'!A983),\"\",COUNTIF('Data Input'!C983:AK983,\"0\"))","v":""},{"$f":"IF(ISBLANK('Data Input'!A983),\"\",SUM(B978,C978))","v":""},{"$f":"IF(ISBLANK('Data Input'!A983),\"\",SUM('Data Input'!C983:AK983))","v":""},{"$f":"IF(E978=\"\",\"\",E978/(COUNTA('Data Input'!$C$8:$AK$8)))","v":""},{"$f":"IF(ISBLANK('Data Input'!A983),\"\",SUM('Data Input'!C983,'Data Input'!D983,'Data Input'!J983,'Data Input'!X983))","v":""},{"$f":"IF(G978=\"\",\"\",G978/COUNTIF('Data Input'!$C$8:$AK$8,\"N\"))","v":""},{"$f":"IF(ISBLANK('Data Input'!A983),\"\",SUM('Data Input'!G983,'Data Input'!I983,'Data Input'!L983,'Data Input'!N983,'Data Input'!O983,'Data Input'!S983,'Data Input'!Z983,'Data Input'!AA983,'Data Input'!AB983,'Data Input'!AC983,'Data Input'!AE983,'Data Input'!AF983,'Data Input'!AG983,'Data Input'!AI983,'Data Input'!AK983))","v":""},{"$f":"IF(I978=\"\",\"\",I978/COUNTIF('Data Input'!$C$8:$AK$8,\"C\"))","v":""},{"$f":"IF(ISBLANK('Data Input'!A983),\"\",SUM('Data Input'!T983,'Data Input'!U983))","v":""},{"$f":"IF(K978=\"\",\"\",K978/COUNTIF('Data Input'!$C$8:$AK$8,\"S\"))","v":""},{"$f":"IF(ISBLANK('Data Input'!A983),\"\",SUM('Data Input'!F983,'Data Input'!R983,'Data Input'!AJ983))","v":""},{"$f":"IF(M978=\"\",\"\",M978/COUNTIF('Data Input'!$C$8:$AK$8,\"F\"))","v":""},{"$f":"IF(ISBLANK('Data Input'!A983),\"\",SUM('Data Input'!E983,'Data Input'!M983,'Data Input'!Q983,'Data Input'!V983,'Data Input'!W983,'Data Input'!AD983,'Data Input'!AH983))","v":""},{"$f":"IF(O978=\"\",\"\",O978/COUNTIF('Data Input'!$C$8:$AK$8,\"M\"))","v":""},{"$f":"IF(ISBLANK('Data Input'!A983),\"\",SUM('Data Input'!H983,'Data Input'!K983,'Data Input'!P983,'Data Input'!Y983))","v":""},{"$f":"IF(Q978=\"\",\"\",Q978/COUNTIF('Data Input'!$C$8:$AK$8,\"G\"))","v":""}]
[{"$f":"IF('Data Input'!A984=0,\"\",'Data Input'!A984)","v":""},{"$f":"IF(ISBLANK('Data Input'!A984),\"\",COUNTIF('Data Input'!C984:AK984,\"\"))","v":""},{"$f":"IF(ISBLANK('Data Input'!A984),\"\",COUNTIF('Data Input'!C984:AK984,\"0\"))","v":""},{"$f":"IF(ISBLANK('Data Input'!A984),\"\",SUM(B979,C979))","v":""},{"$f":"IF(ISBLANK('Data Input'!A984),\"\",SUM('Data Input'!C984:AK984))","v":""},{"$f":"IF(E979=\"\",\"\",E979/(COUNTA('Data Input'!$C$8:$AK$8)))","v":""},{"$f":"IF(ISBLANK('Data Input'!A984),\"\",SUM('Data Input'!C984,'Data Input'!D984,'Data Input'!J984,'Data Input'!X984))","v":""},{"$f":"IF(G979=\"\",\"\",G979/COUNTIF('Data Input'!$C$8:$AK$8,\"N\"))","v":""},{"$f":"IF(ISBLANK('Data Input'!A984),\"\",SUM('Data Input'!G984,'Data Input'!I984,'Data Input'!L984,'Data Input'!N984,'Data Input'!O984,'Data Input'!S984,'Data Input'!Z984,'Data Input'!AA984,'Data Input'!AB984,'Data Input'!AC984,'Data Input'!AE984,'Data Input'!AF984,'Data Input'!AG984,'Data Input'!AI984,'Data Input'!AK984))","v":""},{"$f":"IF(I979=\"\",\"\",I979/COUNTIF('Data Input'!$C$8:$AK$8,\"C\"))","v":""},{"$f":"IF(ISBLANK('Data Input'!A984),\"\",SUM('Data Input'!T984,'Data Input'!U984))","v":""},{"$f":"IF(K979=\"\",\"\",K979/COUNTIF('Data Input'!$C$8:$AK$8,\"S\"))","v":""},{"$f":"IF(ISBLANK('Data Input'!A984),\"\",SUM('Data Input'!F984,'Data Input'!R984,'Data Input'!AJ984))","v":""},{"$f":"IF(M979=\"\",\"\",M979/COUNTIF('Data Input'!$C$8:$AK$8,\"F\"))","v":""},{"$f":"IF(ISBLANK('Data Input'!A984),\"\",SUM('Data Input'!E984,'Data Input'!M984,'Data Input'!Q984,'Data Input'!V984,'Data Input'!W984,'Data Input'!AD984,'Data Input'!AH984))","v":""},{"$f":"IF(O979=\"\",\"\",O979/COUNTIF('Data Input'!$C$8:$AK$8,\"M\"))","v":""},{"$f":"IF(ISBLANK('Data Input'!A984),\"\",SUM('Data Input'!H984,'Data Input'!K984,'Data Input'!P984,'Data Input'!Y984))","v":""},{"$f":"IF(Q979=\"\",\"\",Q979/COUNTIF('Data Input'!$C$8:$AK$8,\"G\"))","v":""}]
[{"$f":"IF('Data Input'!A985=0,\"\",'Data Input'!A985)","v":""},{"$f":"IF(ISBLANK('Data Input'!A985),\"\",COUNTIF('Data Input'!C985:AK985,\"\"))","v":""},{"$f":"IF(ISBLANK('Data Input'!A985),\"\",COUNTIF('Data Input'!C985:AK985,\"0\"))","v":""},{"$f":"IF(ISBLANK('Data Input'!A985),\"\",SUM(B980,C980))","v":""},{"$f":"IF(ISBLANK('Data Input'!A985),\"\",SUM('Data Input'!C985:AK985))","v":""},{"$f":"IF(E980=\"\",\"\",E980/(COUNTA('Data Input'!$C$8:$AK$8)))","v":""},{"$f":"IF(ISBLANK('Data Input'!A985),\"\",SUM('Data Input'!C985,'Data Input'!D985,'Data Input'!J985,'Data Input'!X985))","v":""},{"$f":"IF(G980=\"\",\"\",G980/COUNTIF('Data Input'!$C$8:$AK$8,\"N\"))","v":""},{"$f":"IF(ISBLANK('Data Input'!A985),\"\",SUM('Data Input'!G985,'Data Input'!I985,'Data Input'!L985,'Data Input'!N985,'Data Input'!O985,'Data Input'!S985,'Data Input'!Z985,'Data Input'!AA985,'Data Input'!AB985,'Data Input'!AC985,'Data Input'!AE985,'Data Input'!AF985,'Data Input'!AG985,'Data Input'!AI985,'Data Input'!AK985))","v":""},{"$f":"IF(I980=\"\",\"\",I980/COUNTIF('Data Input'!$C$8:$AK$8,\"C\"))","v":""},{"$f":"IF(ISBLANK('Data Input'!A985),\"\",SUM('Data Input'!T985,'Data Input'!U985))","v":""},{"$f":"IF(K980=\"\",\"\",K980/COUNTIF('Data Input'!$C$8:$AK$8,\"S\"))","v":""},{"$f":"IF(ISBLANK('Data Input'!A985),\"\",SUM('Data Input'!F985,'Data Input'!R985,'Data Input'!AJ985))","v":""},{"$f":"IF(M980=\"\",\"\",M980/COUNTIF('Data Input'!$C$8:$AK$8,\"F\"))","v":""},{"$f":"IF(ISBLANK('Data Input'!A985),\"\",SUM('Data Input'!E985,'Data Input'!M985,'Data Input'!Q985,'Data Input'!V985,'Data Input'!W985,'Data Input'!AD985,'Data Input'!AH985))","v":""},{"$f":"IF(O980=\"\",\"\",O980/COUNTIF('Data Input'!$C$8:$AK$8,\"M\"))","v":""},{"$f":"IF(ISBLANK('Data Input'!A985),\"\",SUM('Data Input'!H985,'Data Input'!K985,'Data Input'!P985,'Data Input'!Y985))","v":""},{"$f":"IF(Q980=\"\",\"\",Q980/COUNTIF('Data Input'!$C$8:$AK$8,\"G\"))","v":""}]
[{"$f":"IF('Data Input'!A986=0,\"\",'Data Input'!A986)","v":""},{"$f":"IF(ISBLANK('Data Input'!A986),\"\",COUNTIF('Data Input'!C986:AK986,\"\"))","v":""},{"$f":"IF(ISBLANK('Data Input'!A986),\"\",COUNTIF('Data Input'!C986:AK986,\"0\"))","v":""},{"$f":"IF(ISBLANK('Data Input'!A986),\"\",SUM(B981,C981))","v":""},{"$f":"IF(ISBLANK('Data Input'!A986),\"\",SUM('Data Input'!C986:AK986))","v":""},{"$f":"IF(E981=\"\",\"\",E981/(COUNTA('Data Input'!$C$8:$AK$8)))","v":""},{"$f":"IF(ISBLANK('Data Input'!A986),\"\",SUM('Data Input'!C986,'Data Input'!D986,'Data Input'!J986,'Data Input'!X986))","v":""},{"$f":"IF(G981=\"\",\"\",G981/COUNTIF('Data Input'!$C$8:$AK$8,\"N\"))","v":""},{"$f":"IF(ISBLANK('Data Input'!A986),\"\",SUM('Data Input'!G986,'Data Input'!I986,'Data Input'!L986,'Data Input'!N986,'Data Input'!O986,'Data Input'!S986,'Data Input'!Z986,'Data Input'!AA986,'Data Input'!AB986,'Data Input'!AC986,'Data Input'!AE986,'Data Input'!AF986,'Data Input'!AG986,'Data Input'!AI986,'Data Input'!AK986))","v":""},{"$f":"IF(I981=\"\",\"\",I981/COUNTIF('Data Input'!$C$8:$AK$8,\"C\"))","v":""},{"$f":"IF(ISBLANK('Data Input'!A986),\"\",SUM('Data Input'!T986,'Data Input'!U986))","v":""},{"$f":"IF(K981=\"\",\"\",K981/COUNTIF('Data Input'!$C$8:$AK$8,\"S\"))","v":""},{"$f":"IF(ISBLANK('Data Input'!A986),\"\",SUM('Data Input'!F986,'Data Input'!R986,'Data Input'!AJ986))","v":""},{"$f":"IF(M981=\"\",\"\",M981/COUNTIF('Data Input'!$C$8:$AK$8,\"F\"))","v":""},{"$f":"IF(ISBLANK('Data Input'!A986),\"\",SUM('Data Input'!E986,'Data Input'!M986,'Data Input'!Q986,'Data Input'!V986,'Data Input'!W986,'Data Input'!AD986,'Data Input'!AH986))","v":""},{"$f":"IF(O981=\"\",\"\",O981/COUNTIF('Data Input'!$C$8:$AK$8,\"M\"))","v":""},{"$f":"IF(ISBLANK('Data Input'!A986),\"\",SUM('Data Input'!H986,'Data Input'!K986,'Data Input'!P986,'Data Input'!Y986))","v":""},{"$f":"IF(Q981=\"\",\"\",Q981/COUNTIF('Data Input'!$C$8:$AK$8,\"G\"))","v":""}]
[{"$f":"IF('Data Input'!A987=0,\"\",'Data Input'!A987)","v":""},{"$f":"IF(ISBLANK('Data Input'!A987),\"\",COUNTIF('Data Input'!C987:AK987,\"\"))","v":""},{"$f":"IF(ISBLANK('Data Input'!A987),\"\",COUNTIF('Data Input'!C987:AK987,\"0\"))","v":""},{"$f":"IF(ISBLANK('Data Input'!A987),\"\",SUM(B982,C982))","v":""},{"$f":"IF(ISBLANK('Data Input'!A987),\"\",SUM('Data Input'!C987:AK987))","v":""},{"$f":"IF(E982=\"\",\"\",E982/(COUNTA('Data Input'!$C$8:$AK$8)))","v":""},{"$f":"IF(ISBLANK('Data Input'!A987),\"\",SUM('Data Input'!C987,'Data Input'!D987,'Data Input'!J987,'Data Input'!X987))","v":""},{"$f":"IF(G982=\"\",\"\",G982/COUNTIF('Data Input'!$C$8:$AK$8,\"N\"))","v":""},{"$f":"IF(ISBLANK('Data Input'!A987),\"\",SUM('Data Input'!G987,'Data Input'!I987,'Data Input'!L987,'Data Input'!N987,'Data Input'!O987,'Data Input'!S987,'Data Input'!Z987,'Data Input'!AA987,'Data Input'!AB987,'Data Input'!AC987,'Data Input'!AE987,'Data Input'!AF987,'Data Input'!AG987,'Data Input'!AI987,'Data Input'!AK987))","v":""},{"$f":"IF(I982=\"\",\"\",I982/COUNTIF('Data Input'!$C$8:$AK$8,\"C\"))","v":""},{"$f":"IF(ISBLANK('Data Input'!A987),\"\",SUM('Data Input'!T987,'Data Input'!U987))","v":""},{"$f":"IF(K982=\"\",\"\",K982/COUNTIF('Data Input'!$C$8:$AK$8,\"S\"))","v":""},{"$f":"IF(ISBLANK('Data Input'!A987),\"\",SUM('Data Input'!F987,'Data Input'!R987,'Data Input'!AJ987))","v":""},{"$f":"IF(M982=\"\",\"\",M982/COUNTIF('Data Input'!$C$8:$AK$8,\"F\"))","v":""},{"$f":"IF(ISBLANK('Data Input'!A987),\"\",SUM('Data Input'!E987,'Data Input'!M987,'Data Input'!Q987,'Data Input'!V987,'Data Input'!W987,'Data Input'!AD987,'Data Input'!AH987))","v":""},{"$f":"IF(O982=\"\",\"\",O982/COUNTIF('Data Input'!$C$8:$AK$8,\"M\"))","v":""},{"$f":"IF(ISBLANK('Data Input'!A987),\"\",SUM('Data Input'!H987,'Data Input'!K987,'Data Input'!P987,'Data Input'!Y987))","v":""},{"$f":"IF(Q982=\"\",\"\",Q982/COUNTIF('Data Input'!$C$8:$AK$8,\"G\"))","v":""}]
[{"$f":"IF('Data Input'!A988=0,\"\",'Data Input'!A988)","v":""},{"$f":"IF(ISBLANK('Data Input'!A988),\"\",COUNTIF('Data Input'!C988:AK988,\"\"))","v":""},{"$f":"IF(ISBLANK('Data Input'!A988),\"\",COUNTIF('Data Input'!C988:AK988,\"0\"))","v":""},{"$f":"IF(ISBLANK('Data Input'!A988),\"\",SUM(B983,C983))","v":""},{"$f":"IF(ISBLANK('Data Input'!A988),\"\",SUM('Data Input'!C988:AK988))","v":""},{"$f":"IF(E983=\"\",\"\",E983/(COUNTA('Data Input'!$C$8:$AK$8)))","v":""},{"$f":"IF(ISBLANK('Data Input'!A988),\"\",SUM('Data Input'!C988,'Data Input'!D988,'Data Input'!J988,'Data Input'!X988))","v":""},{"$f":"IF(G983=\"\",\"\",G983/COUNTIF('Data Input'!$C$8:$AK$8,\"N\"))","v":""},{"$f":"IF(ISBLANK('Data Input'!A988),\"\",SUM('Data Input'!G988,'Data Input'!I988,'Data Input'!L988,'Data Input'!N988,'Data Input'!O988,'Data Input'!S988,'Data Input'!Z988,'Data Input'!AA988,'Data Input'!AB988,'Data Input'!AC988,'Data Input'!AE988,'Data Input'!AF988,'Data Input'!AG988,'Data Input'!AI988,'Data Input'!AK988))","v":""},{"$f":"IF(I983=\"\",\"\",I983/COUNTIF('Data Input'!$C$8:$AK$8,\"C\"))","v":""},{"$f":"IF(ISBLANK('Data Input'!A988),\"\",SUM('Data Input'!T988,'Data Input'!U988))","v":""},{"$f":"IF(K983=\"\",\"\",K983/COUNTIF('Data Input'!$C$8:$AK$8,\"S\"))","v":""},{"$f":"IF(ISBLANK('Data Input'!A988),\"\",SUM('Data Input'!F988,'Data Input'!R988,'Data Input'!AJ988))","v":""},{"$f":"IF(M983=\"\",\"\",M983/COUNTIF('Data Input'!$C$8:$AK$8,\"F\"))","v":""},{"$f":"IF(ISBLANK('Data Input'!A988),\"\",SUM('Data Input'!E988,'Data Input'!M988,'Data Input'!Q988,'Data Input'!V988,'Data Input'!W988,'Data Input'!AD988,'Data Input'!AH988))","v":""},{"$f":"IF(O983=\"\",\"\",O983/COUNTIF('Data Input'!$C$8:$AK$8,\"M\"))","v":""},{"$f":"IF(ISBLANK('Data Input'!A988),\"\",SUM('Data Input'!H988,'Data Input'!K988,'Data Input'!P988,'Data Input'!Y988))","v":""},{"$f":"IF(Q983=\"\",\"\",Q983/COUNTIF('Data Input'!$C$8:$AK$8,\"G\"))","v":""}]
[{"$f":"IF('Data Input'!A989=0,\"\",'Data Input'!A989)","v":""},{"$f":"IF(ISBLANK('Data Input'!A989),\"\",COUNTIF('Data Input'!C989:AK989,\"\"))","v":""},{"$f":"IF(ISBLANK('Data Input'!A989),\"\",COUNTIF('Data Input'!C989:AK989,\"0\"))","v":""},{"$f":"IF(ISBLANK('Data Input'!A989),\"\",SUM(B984,C984))","v":""},{"$f":"IF(ISBLANK('Data Input'!A989),\"\",SUM('Data Input'!C989:AK989))","v":""},{"$f":"IF(E984=\"\",\"\",E984/(COUNTA('Data Input'!$C$8:$AK$8)))","v":""},{"$f":"IF(ISBLANK('Data Input'!A989),\"\",SUM('Data Input'!C989,'Data Input'!D989,'Data Input'!J989,'Data Input'!X989))","v":""},{"$f":"IF(G984=\"\",\"\",G984/COUNTIF('Data Input'!$C$8:$AK$8,\"N\"))","v":""},{"$f":"IF(ISBLANK('Data Input'!A989),\"\",SUM('Data Input'!G989,'Data Input'!I989,'Data Input'!L989,'Data Input'!N989,'Data Input'!O989,'Data Input'!S989,'Data Input'!Z989,'Data Input'!AA989,'Data Input'!AB989,'Data Input'!AC989,'Data Input'!AE989,'Data Input'!AF989,'Data Input'!AG989,'Data Input'!AI989,'Data Input'!AK989))","v":""},{"$f":"IF(I984=\"\",\"\",I984/COUNTIF('Data Input'!$C$8:$AK$8,\"C\"))","v":""},{"$f":"IF(ISBLANK('Data Input'!A989),\"\",SUM('Data Input'!T989,'Data Input'!U989))","v":""},{"$f":"IF(K984=\"\",\"\",K984/COUNTIF('Data Input'!$C$8:$AK$8,\"S\"))","v":""},{"$f":"IF(ISBLANK('Data Input'!A989),\"\",SUM('Data Input'!F989,'Data Input'!R989,'Data Input'!AJ989))","v":""},{"$f":"IF(M984=\"\",\"\",M984/COUNTIF('Data Input'!$C$8:$AK$8,\"F\"))","v":""},{"$f":"IF(ISBLANK('Data Input'!A989),\"\",SUM('Data Input'!E989,'Data Input'!M989,'Data Input'!Q989,'Data Input'!V989,'Data Input'!W989,'Data Input'!AD989,'Data Input'!AH989))","v":""},{"$f":"IF(O984=\"\",\"\",O984/COUNTIF('Data Input'!$C$8:$AK$8,\"M\"))","v":""},{"$f":"IF(ISBLANK('Data Input'!A989),\"\",SUM('Data Input'!H989,'Data Input'!K989,'Data Input'!P989,'Data Input'!Y989))","v":""},{"$f":"IF(Q984=\"\",\"\",Q984/COUNTIF('Data Input'!$C$8:$AK$8,\"G\"))","v":""}]
[{"$f":"IF('Data Input'!A990=0,\"\",'Data Input'!A990)","v":""},{"$f":"IF(ISBLANK('Data Input'!A990),\"\",COUNTIF('Data Input'!C990:AK990,\"\"))","v":""},{"$f":"IF(ISBLANK('Data Input'!A990),\"\",COUNTIF('Data Input'!C990:AK990,\"0\"))","v":""},{"$f":"IF(ISBLANK('Data Input'!A990),\"\",SUM(B985,C985))","v":""},{"$f":"IF(ISBLANK('Data Input'!A990),\"\",SUM('Data Input'!C990:AK990))","v":""},{"$f":"IF(E985=\"\",\"\",E985/(COUNTA('Data Input'!$C$8:$AK$8)))","v":""},{"$f":"IF(ISBLANK('Data Input'!A990),\"\",SUM('Data Input'!C990,'Data Input'!D990,'Data Input'!J990,'Data Input'!X990))","v":""},{"$f":"IF(G985=\"\",\"\",G985/COUNTIF('Data Input'!$C$8:$AK$8,\"N\"))","v":""},{"$f":"IF(ISBLANK('Data Input'!A990),\"\",SUM('Data Input'!G990,'Data Input'!I990,'Data Input'!L990,'Data Input'!N990,'Data Input'!O990,'Data Input'!S990,'Data Input'!Z990,'Data Input'!AA990,'Data Input'!AB990,'Data Input'!AC990,'Data Input'!AE990,'Data Input'!AF990,'Data Input'!AG990,'Data Input'!AI990,'Data Input'!AK990))","v":""},{"$f":"IF(I985=\"\",\"\",I985/COUNTIF('Data Input'!$C$8:$AK$8,\"C\"))","v":""},{"$f":"IF(ISBLANK('Data Input'!A990),\"\",SUM('Data Input'!T990,'Data Input'!U990))","v":""},{"$f":"IF(K985=\"\",\"\",K985/COUNTIF('Data Input'!$C$8:$AK$8,\"S\"))","v":""},{"$f":"IF(ISBLANK('Data Input'!A990),\"\",SUM('Data Input'!F990,'Data Input'!R990,'Data Input'!AJ990))","v":""},{"$f":"IF(M985=\"\",\"\",M985/COUNTIF('Data Input'!$C$8:$AK$8,\"F\"))","v":""},{"$f":"IF(ISBLANK('Data Input'!A990),\"\",SUM('Data Input'!E990,'Data Input'!M990,'Data Input'!Q990,'Data Input'!V990,'Data Input'!W990,'Data Input'!AD990,'Data Input'!AH990))","v":""},{"$f":"IF(O985=\"\",\"\",O985/COUNTIF('Data Input'!$C$8:$AK$8,\"M\"))","v":""},{"$f":"IF(ISBLANK('Data Input'!A990),\"\",SUM('Data Input'!H990,'Data Input'!K990,'Data Input'!P990,'Data Input'!Y990))","v":""},{"$f":"IF(Q985=\"\",\"\",Q985/COUNTIF('Data Input'!$C$8:$AK$8,\"G\"))","v":""}]
[{"$f":"IF('Data Input'!A991=0,\"\",'Data Input'!A991)","v":""},{"$f":"IF(ISBLANK('Data Input'!A991),\"\",COUNTIF('Data Input'!C991:AK991,\"\"))","v":""},{"$f":"IF(ISBLANK('Data Input'!A991),\"\",COUNTIF('Data Input'!C991:AK991,\"0\"))","v":""},{"$f":"IF(ISBLANK('Data Input'!A991),\"\",SUM(B986,C986))","v":""},{"$f":"IF(ISBLANK('Data Input'!A991),\"\",SUM('Data Input'!C991:AK991))","v":""},{"$f":"IF(E986=\"\",\"\",E986/(COUNTA('Data Input'!$C$8:$AK$8)))","v":""},{"$f":"IF(ISBLANK('Data Input'!A991),\"\",SUM('Data Input'!C991,'Data Input'!D991,'Data Input'!J991,'Data Input'!X991))","v":""},{"$f":"IF(G986=\"\",\"\",G986/COUNTIF('Data Input'!$C$8:$AK$8,\"N\"))","v":""},{"$f":"IF(ISBLANK('Data Input'!A991),\"\",SUM('Data Input'!G991,'Data Input'!I991,'Data Input'!L991,'Data Input'!N991,'Data Input'!O991,'Data Input'!S991,'Data Input'!Z991,'Data Input'!AA991,'Data Input'!AB991,'Data Input'!AC991,'Data Input'!AE991,'Data Input'!AF991,'Data Input'!AG991,'Data Input'!AI991,'Data Input'!AK991))","v":""},{"$f":"IF(I986=\"\",\"\",I986/COUNTIF('Data Input'!$C$8:$AK$8,\"C\"))","v":""},{"$f":"IF(ISBLANK('Data Input'!A991),\"\",SUM('Data Input'!T991,'Data Input'!U991))","v":""},{"$f":"IF(K986=\"\",\"\",K986/COUNTIF('Data Input'!$C$8:$AK$8,\"S\"))","v":""},{"$f":"IF(ISBLANK('Data Input'!A991),\"\",SUM('Data Input'!F991,'Data Input'!R991,'Data Input'!AJ991))","v":""},{"$f":"IF(M986=\"\",\"\",M986/COUNTIF('Data Input'!$C$8:$AK$8,\"F\"))","v":""},{"$f":"IF(ISBLANK('Data Input'!A991),\"\",SUM('Data Input'!E991,'Data Input'!M991,'Data Input'!Q991,'Data Input'!V991,'Data Input'!W991,'Data Input'!AD991,'Data Input'!AH991))","v":""},{"$f":"IF(O986=\"\",\"\",O986/COUNTIF('Data Input'!$C$8:$AK$8,\"M\"))","v":""},{"$f":"IF(ISBLANK('Data Input'!A991),\"\",SUM('Data Input'!H991,'Data Input'!K991,'Data Input'!P991,'Data Input'!Y991))","v":""},{"$f":"IF(Q986=\"\",\"\",Q986/COUNTIF('Data Input'!$C$8:$AK$8,\"G\"))","v":""}]
[{"$f":"IF('Data Input'!A992=0,\"\",'Data Input'!A992)","v":""},{"$f":"IF(ISBLANK('Data Input'!A992),\"\",COUNTIF('Data Input'!C992:AK992,\"\"))","v":""},{"$f":"IF(ISBLANK('Data Input'!A992),\"\",COUNTIF('Data Input'!C992:AK992,\"0\"))","v":""},{"$f":"IF(ISBLANK('Data Input'!A992),\"\",SUM(B987,C987))","v":""},{"$f":"IF(ISBLANK('Data Input'!A992),\"\",SUM('Data Input'!C992:AK992))","v":""},{"$f":"IF(E987=\"\",\"\",E987/(COUNTA('Data Input'!$C$8:$AK$8)))","v":""},{"$f":"IF(ISBLANK('Data Input'!A992),\"\",SUM('Data Input'!C992,'Data Input'!D992,'Data Input'!J992,'Data Input'!X992))","v":""},{"$f":"IF(G987=\"\",\"\",G987/COUNTIF('Data Input'!$C$8:$AK$8,\"N\"))","v":""},{"$f":"IF(ISBLANK('Data Input'!A992),\"\",SUM('Data Input'!G992,'Data Input'!I992,'Data Input'!L992,'Data Input'!N992,'Data Input'!O992,'Data Input'!S992,'Data Input'!Z992,'Data Input'!AA992,'Data Input'!AB992,'Data Input'!AC992,'Data Input'!AE992,'Data Input'!AF992,'Data Input'!AG992,'Data Input'!AI992,'Data Input'!AK992))","v":""},{"$f":"IF(I987=\"\",\"\",I987/COUNTIF('Data Input'!$C$8:$AK$8,\"C\"))","v":""},{"$f":"IF(ISBLANK('Data Input'!A992),\"\",SUM('Data Input'!T992,'Data Input'!U992))","v":""},{"$f":"IF(K987=\"\",\"\",K987/COUNTIF('Data Input'!$C$8:$AK$8,\"S\"))","v":""},{"$f":"IF(ISBLANK('Data Input'!A992),\"\",SUM('Data Input'!F992,'Data Input'!R992,'Data Input'!AJ992))","v":""},{"$f":"IF(M987=\"\",\"\",M987/COUNTIF('Data Input'!$C$8:$AK$8,\"F\"))","v":""},{"$f":"IF(ISBLANK('Data Input'!A992),\"\",SUM('Data Input'!E992,'Data Input'!M992,'Data Input'!Q992,'Data Input'!V992,'Data Input'!W992,'Data Input'!AD992,'Data Input'!AH992))","v":""},{"$f":"IF(O987=\"\",\"\",O987/COUNTIF('Data Input'!$C$8:$AK$8,\"M\"))","v":""},{"$f":"IF(ISBLANK('Data Input'!A992),\"\",SUM('Data Input'!H992,'Data Input'!K992,'Data Input'!P992,'Data Input'!Y992))","v":""},{"$f":"IF(Q987=\"\",\"\",Q987/COUNTIF('Data Input'!$C$8:$AK$8,\"G\"))","v":""}]
[{"$f":"IF('Data Input'!A993=0,\"\",'Data Input'!A993)","v":""},{"$f":"IF(ISBLANK('Data Input'!A993),\"\",COUNTIF('Data Input'!C993:AK993,\"\"))","v":""},{"$f":"IF(ISBLANK('Data Input'!A993),\"\",COUNTIF('Data Input'!C993:AK993,\"0\"))","v":""},{"$f":"IF(ISBLANK('Data Input'!A993),\"\",SUM(B988,C988))","v":""},{"$f":"IF(ISBLANK('Data Input'!A993),\"\",SUM('Data Input'!C993:AK993))","v":""},{"$f":"IF(E988=\"\",\"\",E988/(COUNTA('Data Input'!$C$8:$AK$8)))","v":""},{"$f":"IF(ISBLANK('Data Input'!A993),\"\",SUM('Data Input'!C993,'Data Input'!D993,'Data Input'!J993,'Data Input'!X993))","v":""},{"$f":"IF(G988=\"\",\"\",G988/COUNTIF('Data Input'!$C$8:$AK$8,\"N\"))","v":""},{"$f":"IF(ISBLANK('Data Input'!A993),\"\",SUM('Data Input'!G993,'Data Input'!I993,'Data Input'!L993,'Data Input'!N993,'Data Input'!O993,'Data Input'!S993,'Data Input'!Z993,'Data Input'!AA993,'Data Input'!AB993,'Data Input'!AC993,'Data Input'!AE993,'Data Input'!AF993,'Data Input'!AG993,'Data Input'!AI993,'Data Input'!AK993))","v":""},{"$f":"IF(I988=\"\",\"\",I988/COUNTIF('Data Input'!$C$8:$AK$8,\"C\"))","v":""},{"$f":"IF(ISBLANK('Data Input'!A993),\"\",SUM('Data Input'!T993,'Data Input'!U993))","v":""},{"$f":"IF(K988=\"\",\"\",K988/COUNTIF('Data Input'!$C$8:$AK$8,\"S\"))","v":""},{"$f":"IF(ISBLANK('Data Input'!A993),\"\",SUM('Data Input'!F993,'Data Input'!R993,'Data Input'!AJ993))","v":""},{"$f":"IF(M988=\"\",\"\",M988/COUNTIF('Data Input'!$C$8:$AK$8,\"F\"))","v":""},{"$f":"IF(ISBLANK('Data Input'!A993),\"\",SUM('Data Input'!E993,'Data Input'!M993,'Data Input'!Q993,'Data Input'!V993,'Data Input'!W993,'Data Input'!AD993,'Data Input'!AH993))","v":""},{"$f":"IF(O988=\"\",\"\",O988/COUNTIF('Data Input'!$C$8:$AK$8,\"M\"))","v":""},{"$f":"IF(ISBLANK('Data Input'!A993),\"\",SUM('Data Input'!H993,'Data Input'!K993,'Data Input'!P993,'Data Input'!Y993))","v":""},{"$f":"IF(Q988=\"\",\"\",Q988/COUNTIF('Data Input'!$C$8:$AK$8,\"G\"))","v":""}]
[{"$f":"IF('Data Input'!A994=0,\"\",'Data Input'!A994)","v":""},{"$f":"IF(ISBLANK('Data Input'!A994),\"\",COUNTIF('Data Input'!C994:AK994,\"\"))","v":""},{"$f":"IF(ISBLANK('Data Input'!A994),\"\",COUNTIF('Data Input'!C994:AK994,\"0\"))","v":""},{"$f":"IF(ISBLANK('Data Input'!A994),\"\",SUM(B989,C989))","v":""},{"$f":"IF(ISBLANK('Data Input'!A994),\"\",SUM('Data Input'!C994:AK994))","v":""},{"$f":"IF(E989=\"\",\"\",E989/(COUNTA('Data Input'!$C$8:$AK$8)))","v":""},{"$f":"IF(ISBLANK('Data Input'!A994),\"\",SUM('Data Input'!C994,'Data Input'!D994,'Data Input'!J994,'Data Input'!X994))","v":""},{"$f":"IF(G989=\"\",\"\",G989/COUNTIF('Data Input'!$C$8:$AK$8,\"N\"))","v":""},{"$f":"IF(ISBLANK('Data Input'!A994),\"\",SUM('Data Input'!G994,'Data Input'!I994,'Data Input'!L994,'Data Input'!N994,'Data Input'!O994,'Data Input'!S994,'Data Input'!Z994,'Data Input'!AA994,'Data Input'!AB994,'Data Input'!AC994,'Data Input'!AE994,'Data Input'!AF994,'Data Input'!AG994,'Data Input'!AI994,'Data Input'!AK994))","v":""},{"$f":"IF(I989=\"\",\"\",I989/COUNTIF('Data Input'!$C$8:$AK$8,\"C\"))","v":""},{"$f":"IF(ISBLANK('Data Input'!A994),\"\",SUM('Data Input'!T994,'Data Input'!U994))","v":""},{"$f":"IF(K989=\"\",\"\",K989/COUNTIF('Data Input'!$C$8:$AK$8,\"S\"))","v":""},{"$f":"IF(ISBLANK('Data Input'!A994),\"\",SUM('Data Input'!F994,'Data Input'!R994,'Data Input'!AJ994))","v":""},{"$f":"IF(M989=\"\",\"\",M989/COUNTIF('Data Input'!$C$8:$AK$8,\"F\"))","v":""},{"$f":"IF(ISBLANK('Data Input'!A994),\"\",SUM('Data Input'!E994,'Data Input'!M994,'Data Input'!Q994,'Data Input'!V994,'Data Input'!W994,'Data Input'!AD994,'Data Input'!AH994))","v":""},{"$f":"IF(O989=\"\",\"\",O989/COUNTIF('Data Input'!$C$8:$AK$8,\"M\"))","v":""},{"$f":"IF(ISBLANK('Data Input'!A994),\"\",SUM('Data Input'!H994,'Data Input'!K994,'Data Input'!P994,'Data Input'!Y994))","v":""},{"$f":"IF(Q989=\"\",\"\",Q989/COUNTIF('Data Input'!$C$8:$AK$8,\"G\"))","v":""}]
[{"$f":"IF('Data Input'!A995=0,\"\",'Data Input'!A995)","v":""},{"$f":"IF(ISBLANK('Data Input'!A995),\"\",COUNTIF('Data Input'!C995:AK995,\"\"))","v":""},{"$f":"IF(ISBLANK('Data Input'!A995),\"\",COUNTIF('Data Input'!C995:AK995,\"0\"))","v":""},{"$f":"IF(ISBLANK('Data Input'!A995),\"\",SUM(B990,C990))","v":""},{"$f":"IF(ISBLANK('Data Input'!A995),\"\",SUM('Data Input'!C995:AK995))","v":""},{"$f":"IF(E990=\"\",\"\",E990/(COUNTA('Data Input'!$C$8:$AK$8)))","v":""},{"$f":"IF(ISBLANK('Data Input'!A995),\"\",SUM('Data Input'!C995,'Data Input'!D995,'Data Input'!J995,'Data Input'!X995))","v":""},{"$f":"IF(G990=\"\",\"\",G990/COUNTIF('Data Input'!$C$8:$AK$8,\"N\"))","v":""},{"$f":"IF(ISBLANK('Data Input'!A995),\"\",SUM('Data Input'!G995,'Data Input'!I995,'Data Input'!L995,'Data Input'!N995,'Data Input'!O995,'Data Input'!S995,'Data Input'!Z995,'Data Input'!AA995,'Data Input'!AB995,'Data Input'!AC995,'Data Input'!AE995,'Data Input'!AF995,'Data Input'!AG995,'Data Input'!AI995,'Data Input'!AK995))","v":""},{"$f":"IF(I990=\"\",\"\",I990/COUNTIF('Data Input'!$C$8:$AK$8,\"C\"))","v":""},{"$f":"IF(ISBLANK('Data Input'!A995),\"\",SUM('Data Input'!T995,'Data Input'!U995))","v":""},{"$f":"IF(K990=\"\",\"\",K990/COUNTIF('Data Input'!$C$8:$AK$8,\"S\"))","v":""},{"$f":"IF(ISBLANK('Data Input'!A995),\"\",SUM('Data Input'!F995,'Data Input'!R995,'Data Input'!AJ995))","v":""},{"$f":"IF(M990=\"\",\"\",M990/COUNTIF('Data Input'!$C$8:$AK$8,\"F\"))","v":""},{"$f":"IF(ISBLANK('Data Input'!A995),\"\",SUM('Data Input'!E995,'Data Input'!M995,'Data Input'!Q995,'Data Input'!V995,'Data Input'!W995,'Data Input'!AD995,'Data Input'!AH995))","v":""},{"$f":"IF(O990=\"\",\"\",O990/COUNTIF('Data Input'!$C$8:$AK$8,\"M\"))","v":""},{"$f":"IF(ISBLANK('Data Input'!A995),\"\",SUM('Data Input'!H995,'Data Input'!K995,'Data Input'!P995,'Data Input'!Y995))","v":""},{"$f":"IF(Q990=\"\",\"\",Q990/COUNTIF('Data Input'!$C$8:$AK$8,\"G\"))","v":""}]
[{"$f":"IF('Data Input'!A996=0,\"\",'Data Input'!A996)","v":""},{"$f":"IF(ISBLANK('Data Input'!A996),\"\",COUNTIF('Data Input'!C996:AK996,\"\"))","v":""},{"$f":"IF(ISBLANK('Data Input'!A996),\"\",COUNTIF('Data Input'!C996:AK996,\"0\"))","v":""},{"$f":"IF(ISBLANK('Data Input'!A996),\"\",SUM(B991,C991))","v":""},{"$f":"IF(ISBLANK('Data Input'!A996),\"\",SUM('Data Input'!C996:AK996))","v":""},{"$f":"IF(E991=\"\",\"\",E991/(COUNTA('Data Input'!$C$8:$AK$8)))","v":""},{"$f":"IF(ISBLANK('Data Input'!A996),\"\",SUM('Data Input'!C996,'Data Input'!D996,'Data Input'!J996,'Data Input'!X996))","v":""},{"$f":"IF(G991=\"\",\"\",G991/COUNTIF('Data Input'!$C$8:$AK$8,\"N\"))","v":""},{"$f":"IF(ISBLANK('Data Input'!A996),\"\",SUM('Data Input'!G996,'Data Input'!I996,'Data Input'!L996,'Data Input'!N996,'Data Input'!O996,'Data Input'!S996,'Data Input'!Z996,'Data Input'!AA996,'Data Input'!AB996,'Data Input'!AC996,'Data Input'!AE996,'Data Input'!AF996,'Data Input'!AG996,'Data Input'!AI996,'Data Input'!AK996))","v":""},{"$f":"IF(I991=\"\",\"\",I991/COUNTIF('Data Input'!$C$8:$AK$8,\"C\"))","v":""},{"$f":"IF(ISBLANK('Data Input'!A996),\"\",SUM('Data Input'!T996,'Data Input'!U996))","v":""},{"$f":"IF(K991=\"\",\"\",K991/COUNTIF('Data Input'!$C$8:$AK$8,\"S\"))","v":""},{"$f":"IF(ISBLANK('Data Input'!A996),\"\",SUM('Data Input'!F996,'Data Input'!R996,'Data Input'!AJ996))","v":""},{"$f":"IF(M991=\"\",\"\",M991/COUNTIF('Data Input'!$C$8:$AK$8,\"F\"))","v":""},{"$f":"IF(ISBLANK('Data Input'!A996),\"\",SUM('Data Input'!E996,'Data Input'!M996,'Data Input'!Q996,'Data Input'!V996,'Data Input'!W996,'Data Input'!AD996,'Data Input'!AH996))","v":""},{"$f":"IF(O991=\"\",\"\",O991/COUNTIF('Data Input'!$C$8:$AK$8,\"M\"))","v":""},{"$f":"IF(ISBLANK('Data Input'!A996),\"\",SUM('Data Input'!H996,'Data Input'!K996,'Data Input'!P996,'Data Input'!Y996))","v":""},{"$f":"IF(Q991=\"\",\"\",Q991/COUNTIF('Data Input'!$C$8:$AK$8,\"G\"))","v":""}]
[{"$f":"IF('Data Input'!A997=0,\"\",'Data Input'!A997)","v":""},{"$f":"IF(ISBLANK('Data Input'!A997),\"\",COUNTIF('Data Input'!C997:AK997,\"\"))","v":""},{"$f":"IF(ISBLANK('Data Input'!A997),\"\",COUNTIF('Data Input'!C997:AK997,\"0\"))","v":""},{"$f":"IF(ISBLANK('Data Input'!A997),\"\",SUM(B992,C992))","v":""},{"$f":"IF(ISBLANK('Data Input'!A997),\"\",SUM('Data Input'!C997:AK997))","v":""},{"$f":"IF(E992=\"\",\"\",E992/(COUNTA('Data Input'!$C$8:$AK$8)))","v":""},{"$f":"IF(ISBLANK('Data Input'!A997),\"\",SUM('Data Input'!C997,'Data Input'!D997,'Data Input'!J997,'Data Input'!X997))","v":""},{"$f":"IF(G992=\"\",\"\",G992/COUNTIF('Data Input'!$C$8:$AK$8,\"N\"))","v":""},{"$f":"IF(ISBLANK('Data Input'!A997),\"\",SUM('Data Input'!G997,'Data Input'!I997,'Data Input'!L997,'Data Input'!N997,'Data Input'!O997,'Data Input'!S997,'Data Input'!Z997,'Data Input'!AA997,'Data Input'!AB997,'Data Input'!AC997,'Data Input'!AE997,'Data Input'!AF997,'Data Input'!AG997,'Data Input'!AI997,'Data Input'!AK997))","v":""},{"$f":"IF(I992=\"\",\"\",I992/COUNTIF('Data Input'!$C$8:$AK$8,\"C\"))","v":""},{"$f":"IF(ISBLANK('Data Input'!A997),\"\",SUM('Data Input'!T997,'Data Input'!U997))","v":""},{"$f":"IF(K992=\"\",\"\",K992/COUNTIF('Data Input'!$C$8:$AK$8,\"S\"))","v":""},{"$f":"IF(ISBLANK('Data Input'!A997),\"\",SUM('Data Input'!F997,'Data Input'!R997,'Data Input'!AJ997))","v":""},{"$f":"IF(M992=\"\",\"\",M992/COUNTIF('Data Input'!$C$8:$AK$8,\"F\"))","v":""},{"$f":"IF(ISBLANK('Data Input'!A997),\"\",SUM('Data Input'!E997,'Data Input'!M997,'Data Input'!Q997,'Data Input'!V997,'Data Input'!W997,'Data Input'!AD997,'Data Input'!AH997))","v":""},{"$f":"IF(O992=\"\",\"\",O992/COUNTIF('Data Input'!$C$8:$AK$8,\"M\"))","v":""},{"$f":"IF(ISBLANK('Data Input'!A997),\"\",SUM('Data Input'!H997,'Data Input'!K997,'Data Input'!P997,'Data Input'!Y997))","v":""},{"$f":"IF(Q992=\"\",\"\",Q992/COUNTIF('Data Input'!$C$8:$AK$8,\"G\"))","v":""}]
[{"$f":"IF('Data Input'!A998=0,\"\",'Data Input'!A998)","v":""},{"$f":"IF(ISBLANK('Data Input'!A998),\"\",COUNTIF('Data Input'!C998:AK998,\"\"))","v":""},{"$f":"IF(ISBLANK('Data Input'!A998),\"\",COUNTIF('Data Input'!C998:AK998,\"0\"))","v":""},{"$f":"IF(ISBLANK('Data Input'!A998),\"\",SUM(B993,C993))","v":""},{"$f":"IF(ISBLANK('Data Input'!A998),\"\",SUM('Data Input'!C998:AK998))","v":""},{"$f":"IF(E993=\"\",\"\",E993/(COUNTA('Data Input'!$C$8:$AK$8)))","v":""},{"$f":"IF(ISBLANK('Data Input'!A998),\"\",SUM('Data Input'!C998,'Data Input'!D998,'Data Input'!J998,'Data Input'!X998))","v":""},{"$f":"IF(G993=\"\",\"\",G993/COUNTIF('Data Input'!$C$8:$AK$8,\"N\"))","v":""},{"$f":"IF(ISBLANK('Data Input'!A998),\"\",SUM('Data Input'!G998,'Data Input'!I998,'Data Input'!L998,'Data Input'!N998,'Data Input'!O998,'Data Input'!S998,'Data Input'!Z998,'Data Input'!AA998,'Data Input'!AB998,'Data Input'!AC998,'Data Input'!AE998,'Data Input'!AF998,'Data Input'!AG998,'Data Input'!AI998,'Data Input'!AK998))","v":""},{"$f":"IF(I993=\"\",\"\",I993/COUNTIF('Data Input'!$C$8:$AK$8,\"C\"))","v":""},{"$f":"IF(ISBLANK('Data Input'!A998),\"\",SUM('Data Input'!T998,'Data Input'!U998))","v":""},{"$f":"IF(K993=\"\",\"\",K993/COUNTIF('Data Input'!$C$8:$AK$8,\"S\"))","v":""},{"$f":"IF(ISBLANK('Data Input'!A998),\"\",SUM('Data Input'!F998,'Data Input'!R998,'Data Input'!AJ998))","v":""},{"$f":"IF(M993=\"\",\"\",M993/COUNTIF('Data Input'!$C$8:$AK$8,\"F\"))","v":""},{"$f":"IF(ISBLANK('Data Input'!A998),\"\",SUM('Data Input'!E998,'Data Input'!M998,'Data Input'!Q998,'Data Input'!V998,'Data Input'!W998,'Data Input'!AD998,'Data Input'!AH998))","v":""},{"$f":"IF(O993=\"\",\"\",O993/COUNTIF('Data Input'!$C$8:$AK$8,\"M\"))","v":""},{"$f":"IF(ISBLANK('Data Input'!A998),\"\",SUM('Data Input'!H998,'Data Input'!K998,'Data Input'!P998,'Data Input'!Y998))","v":""},{"$f":"IF(Q993=\"\",\"\",Q993/COUNTIF('Data Input'!$C$8:$AK$8,\"G\"))","v":""}]
[{"$f":"IF('Data Input'!A999=0,\"\",'Data Input'!A999)","v":""},{"$f":"IF(ISBLANK('Data Input'!A999),\"\",COUNTIF('Data Input'!C999:AK999,\"\"))","v":""},{"$f":"IF(ISBLANK('Data Input'!A999),\"\",COUNTIF('Data Input'!C999:AK999,\"0\"))","v":""},{"$f":"IF(ISBLANK('Data Input'!A999),\"\",SUM(B994,C994))","v":""},{"$f":"IF(ISBLANK('Data Input'!A999),\"\",SUM('Data Input'!C999:AK999))","v":""},{"$f":"IF(E994=\"\",\"\",E994/(COUNTA('Data Input'!$C$8:$AK$8)))","v":""},{"$f":"IF(ISBLANK('Data Input'!A999),\"\",SUM('Data Input'!C999,'Data Input'!D999,'Data Input'!J999,'Data Input'!X999))","v":""},{"$f":"IF(G994=\"\",\"\",G994/COUNTIF('Data Input'!$C$8:$AK$8,\"N\"))","v":""},{"$f":"IF(ISBLANK('Data Input'!A999),\"\",SUM('Data Input'!G999,'Data Input'!I999,'Data Input'!L999,'Data Input'!N999,'Data Input'!O999,'Data Input'!S999,'Data Input'!Z999,'Data Input'!AA999,'Data Input'!AB999,'Data Input'!AC999,'Data Input'!AE999,'Data Input'!AF999,'Data Input'!AG999,'Data Input'!AI999,'Data Input'!AK999))","v":""},{"$f":"IF(I994=\"\",\"\",I994/COUNTIF('Data Input'!$C$8:$AK$8,\"C\"))","v":""},{"$f":"IF(ISBLANK('Data Input'!A999),\"\",SUM('Data Input'!T999,'Data Input'!U999))","v":""},{"$f":"IF(K994=\"\",\"\",K994/COUNTIF('Data Input'!$C$8:$AK$8,\"S\"))","v":""},{"$f":"IF(ISBLANK('Data Input'!A999),\"\",SUM('Data Input'!F999,'Data Input'!R999,'Data Input'!AJ999))","v":""},{"$f":"IF(M994=\"\",\"\",M994/COUNTIF('Data Input'!$C$8:$AK$8,\"F\"))","v":""},{"$f":"IF(ISBLANK('Data Input'!A999),\"\",SUM('Data Input'!E999,'Data Input'!M999,'Data Input'!Q999,'Data Input'!V999,'Data Input'!W999,'Data Input'!AD999,'Data Input'!AH999))","v":""},{"$f":"IF(O994=\"\",\"\",O994/COUNTIF('Data Input'!$C$8:$AK$8,\"M\"))","v":""},{"$f":"IF(ISBLANK('Data Input'!A999),\"\",SUM('Data Input'!H999,'Data Input'!K999,'Data Input'!P999,'Data Input'!Y999))","v":""},{"$f":"IF(Q994=\"\",\"\",Q994/COUNTIF('Data Input'!$C$8:$AK$8,\"G\"))","v":""}]
[{"$f":"IF('Data Input'!A1000=0,\"\",'Data Input'!A1000)","v":""},{"$f":"IF(ISBLANK('Data Input'!A1000),\"\",COUNTIF('Data Input'!C1000:AK1000,\"\"))","v":""},{"$f":"IF(ISBLANK('Data Input'!A1000),\"\",COUNTIF('Data Input'!C1000:AK1000,\"0\"))","v":""},{"$f":"IF(ISBLANK('Data Input'!A1000),\"\",SUM(B995,C995))","v":""},{"$f":"IF(ISBLANK('Data Input'!A1000),\"\",SUM('Data Input'!C1000:AK1000))","v":""},{"$f":"IF(E995=\"\",\"\",E995/(COUNTA('Data Input'!$C$8:$AK$8)))","v":""},{"$f":"IF(ISBLANK('Data Input'!A1000),\"\",SUM('Data Input'!C1000,'Data Input'!D1000,'Data Input'!J1000,'Data Input'!X1000))","v":""},{"$f":"IF(G995=\"\",\"\",G995/COUNTIF('Data Input'!$C$8:$AK$8,\"N\"))","v":""},{"$f":"IF(ISBLANK('Data Input'!A1000),\"\",SUM('Data Input'!G1000,'Data Input'!I1000,'Data Input'!L1000,'Data Input'!N1000,'Data Input'!O1000,'Data Input'!S1000,'Data Input'!Z1000,'Data Input'!AA1000,'Data Input'!AB1000,'Data Input'!AC1000,'Data Input'!AE1000,'Data Input'!AF1000,'Data Input'!AG1000,'Data Input'!AI1000,'Data Input'!AK1000))","v":""},{"$f":"IF(I995=\"\",\"\",I995/COUNTIF('Data Input'!$C$8:$AK$8,\"C\"))","v":""},{"$f":"IF(ISBLANK('Data Input'!A1000),\"\",SUM('Data Input'!T1000,'Data Input'!U1000))","v":""},{"$f":"IF(K995=\"\",\"\",K995/COUNTIF('Data Input'!$C$8:$AK$8,\"S\"))","v":""},{"$f":"IF(ISBLANK('Data Input'!A1000),\"\",SUM('Data Input'!F1000,'Data Input'!R1000,'Data Input'!AJ1000))","v":""},{"$f":"IF(M995=\"\",\"\",M995/COUNTIF('Data Input'!$C$8:$AK$8,\"F\"))","v":""},{"$f":"IF(ISBLANK('Data Input'!A1000),\"\",SUM('Data Input'!E1000,'Data Input'!M1000,'Data Input'!Q1000,'Data Input'!V1000,'Data Input'!W1000,'Data Input'!AD1000,'Data Input'!AH1000))","v":""},{"$f":"IF(O995=\"\",\"\",O995/COUNTIF('Data Input'!$C$8:$AK$8,\"M\"))","v":""},{"$f":"IF(ISBLANK('Data Input'!A1000),\"\",SUM('Data Input'!H1000,'Data Input'!K1000,'Data Input'!P1000,'Data Input'!Y1000))","v":""},{"$f":"IF(Q995=\"\",\"\",Q995/COUNTIF('Data Input'!$C$8:$AK$8,\"G\"))","v":""}]
[{"$f":"IF('Data Input'!A1001=0,\"\",'Data Input'!A1001)","v":""},{"$f":"IF(ISBLANK('Data Input'!A1001),\"\",COUNTIF('Data Input'!C1001:AK1001,\"\"))","v":""},{"$f":"IF(ISBLANK('Data Input'!A1001),\"\",COUNTIF('Data Input'!C1001:AK1001,\"0\"))","v":""},{"$f":"IF(ISBLANK('Data Input'!A1001),\"\",SUM(B996,C996))","v":""},{"$f":"IF(ISBLANK('Data Input'!A1001),\"\",SUM('Data Input'!C1001:AK1001))","v":""},{"$f":"IF(E996=\"\",\"\",E996/(COUNTA('Data Input'!$C$8:$AK$8)))","v":""},{"$f":"IF(ISBLANK('Data Input'!A1001),\"\",SUM('Data Input'!C1001,'Data Input'!D1001,'Data Input'!J1001,'Data Input'!X1001))","v":""},{"$f":"IF(G996=\"\",\"\",G996/COUNTIF('Data Input'!$C$8:$AK$8,\"N\"))","v":""},{"$f":"IF(ISBLANK('Data Input'!A1001),\"\",SUM('Data Input'!G1001,'Data Input'!I1001,'Data Input'!L1001,'Data Input'!N1001,'Data Input'!O1001,'Data Input'!S1001,'Data Input'!Z1001,'Data Input'!AA1001,'Data Input'!AB1001,'Data Input'!AC1001,'Data Input'!AE1001,'Data Input'!AF1001,'Data Input'!AG1001,'Data Input'!AI1001,'Data Input'!AK1001))","v":""},{"$f":"IF(I996=\"\",\"\",I996/COUNTIF('Data Input'!$C$8:$AK$8,\"C\"))","v":""},{"$f":"IF(ISBLANK('Data Input'!A1001),\"\",SUM('Data Input'!T1001,'Data Input'!U1001))","v":""},{"$f":"IF(K996=\"\",\"\",K996/COUNTIF('Data Input'!$C$8:$AK$8,\"S\"))","v":""},{"$f":"IF(ISBLANK('Data Input'!A1001),\"\",SUM('Data Input'!F1001,'Data Input'!R1001,'Data Input'!AJ1001))","v":""},{"$f":"IF(M996=\"\",\"\",M996/COUNTIF('Data Input'!$C$8:$AK$8,\"F\"))","v":""},{"$f":"IF(ISBLANK('Data Input'!A1001),\"\",SUM('Data Input'!E1001,'Data Input'!M1001,'Data Input'!Q1001,'Data Input'!V1001,'Data Input'!W1001,'Data Input'!AD1001,'Data Input'!AH1001))","v":""},{"$f":"IF(O996=\"\",\"\",O996/COUNTIF('Data Input'!$C$8:$AK$8,\"M\"))","v":""},{"$f":"IF(ISBLANK('Data Input'!A1001),\"\",SUM('Data Input'!H1001,'Data Input'!K1001,'Data Input'!P1001,'Data Input'!Y1001))","v":""},{"$f":"IF(Q996=\"\",\"\",Q996/COUNTIF('Data Input'!$C$8:$AK$8,\"G\"))","v":""}]
[{"$f":"IF('Data Input'!A1002=0,\"\",'Data Input'!A1002)","v":""},{"$f":"IF(ISBLANK('Data Input'!A1002),\"\",COUNTIF('Data Input'!C1002:AK1002,\"\"))","v":""},{"$f":"IF(ISBLANK('Data Input'!A1002),\"\",COUNTIF('Data Input'!C1002:AK1002,\"0\"))","v":""},{"$f":"IF(ISBLANK('Data Input'!A1002),\"\",SUM(B997,C997))","v":""},{"$f":"IF(ISBLANK('Data Input'!A1002),\"\",SUM('Data Input'!C1002:AK1002))","v":""},{"$f":"IF(E997=\"\",\"\",E997/(COUNTA('Data Input'!$C$8:$AK$8)))","v":""},{"$f":"IF(ISBLANK('Data Input'!A1002),\"\",SUM('Data Input'!C1002,'Data Input'!D1002,'Data Input'!J1002,'Data Input'!X1002))","v":""},{"$f":"IF(G997=\"\",\"\",G997/COUNTIF('Data Input'!$C$8:$AK$8,\"N\"))","v":""},{"$f":"IF(ISBLANK('Data Input'!A1002),\"\",SUM('Data Input'!G1002,'Data Input'!I1002,'Data Input'!L1002,'Data Input'!N1002,'Data Input'!O1002,'Data Input'!S1002,'Data Input'!Z1002,'Data Input'!AA1002,'Data Input'!AB1002,'Data Input'!AC1002,'Data Input'!AE1002,'Data Input'!AF1002,'Data Input'!AG1002,'Data Input'!AI1002,'Data Input'!AK1002))","v":""},{"$f":"IF(I997=\"\",\"\",I997/COUNTIF('Data Input'!$C$8:$AK$8,\"C\"))","v":""},{"$f":"IF(ISBLANK('Data Input'!A1002),\"\",SUM('Data Input'!T1002,'Data Input'!U1002))","v":""},{"$f":"IF(K997=\"\",\"\",K997/COUNTIF('Data Input'!$C$8:$AK$8,\"S\"))","v":""},{"$f":"IF(ISBLANK('Data Input'!A1002),\"\",SUM('Data Input'!F1002,'Data Input'!R1002,'Data Input'!AJ1002))","v":""},{"$f":"IF(M997=\"\",\"\",M997/COUNTIF('Data Input'!$C$8:$AK$8,\"F\"))","v":""},{"$f":"IF(ISBLANK('Data Input'!A1002),\"\",SUM('Data Input'!E1002,'Data Input'!M1002,'Data Input'!Q1002,'Data Input'!V1002,'Data Input'!W1002,'Data Input'!AD1002,'Data Input'!AH1002))","v":""},{"$f":"IF(O997=\"\",\"\",O997/COUNTIF('Data Input'!$C$8:$AK$8,\"M\"))","v":""},{"$f":"IF(ISBLANK('Data Input'!A1002),\"\",SUM('Data Input'!H1002,'Data Input'!K1002,'Data Input'!P1002,'Data Input'!Y1002))","v":""},{"$f":"IF(Q997=\"\",\"\",Q997/COUNTIF('Data Input'!$C$8:$AK$8,\"G\"))","v":""}]
[{"$f":"IF('Data Input'!A1003=0,\"\",'Data Input'!A1003)","v":""},{"$f":"IF(ISBLANK('Data Input'!A1003),\"\",COUNTIF('Data Input'!C1003:AK1003,\"\"))","v":""},{"$f":"IF(ISBLANK('Data Input'!A1003),\"\",COUNTIF('Data Input'!C1003:AK1003,\"0\"))","v":""},{"$f":"IF(ISBLANK('Data Input'!A1003),\"\",SUM(B998,C998))","v":""},{"$f":"IF(ISBLANK('Data Input'!A1003),\"\",SUM('Data Input'!C1003:AK1003))","v":""},{"$f":"IF(E998=\"\",\"\",E998/(COUNTA('Data Input'!$C$8:$AK$8)))","v":""},{"$f":"IF(ISBLANK('Data Input'!A1003),\"\",SUM('Data Input'!C1003,'Data Input'!D1003,'Data Input'!J1003,'Data Input'!X1003))","v":""},{"$f":"IF(G998=\"\",\"\",G998/COUNTIF('Data Input'!$C$8:$AK$8,\"N\"))","v":""},{"$f":"IF(ISBLANK('Data Input'!A1003),\"\",SUM('Data Input'!G1003,'Data Input'!I1003,'Data Input'!L1003,'Data Input'!N1003,'Data Input'!O1003,'Data Input'!S1003,'Data Input'!Z1003,'Data Input'!AA1003,'Data Input'!AB1003,'Data Input'!AC1003,'Data Input'!AE1003,'Data Input'!AF1003,'Data Input'!AG1003,'Data Input'!AI1003,'Data Input'!AK1003))","v":""},{"$f":"IF(I998=\"\",\"\",I998/COUNTIF('Data Input'!$C$8:$AK$8,\"C\"))","v":""},{"$f":"IF(ISBLANK('Data Input'!A1003),\"\",SUM('Data Input'!T1003,'Data Input'!U1003))","v":""},{"$f":"IF(K998=\"\",\"\",K998/COUNTIF('Data Input'!$C$8:$AK$8,\"S\"))","v":""},{"$f":"IF(ISBLANK('Data Input'!A1003),\"\",SUM('Data Input'!F1003,'Data Input'!R1003,'Data Input'!AJ1003))","v":""},{"$f":"IF(M998=\"\",\"\",M998/COUNTIF('Data Input'!$C$8:$AK$8,\"F\"))","v":""},{"$f":"IF(ISBLANK('Data Input'!A1003),\"\",SUM('Data Input'!E1003,'Data Input'!M1003,'Data Input'!Q1003,'Data Input'!V1003,'Data Input'!W1003,'Data Input'!AD1003,'Data Input'!AH1003))","v":""},{"$f":"IF(O998=\"\",\"\",O998/COUNTIF('Data Input'!$C$8:$AK$8,\"M\"))","v":""},{"$f":"IF(ISBLANK('Data Input'!A1003),\"\",SUM('Data Input'!H1003,'Data Input'!K1003,'Data Input'!P1003,'Data Input'!Y1003))","v":""},{"$f":"IF(Q998=\"\",\"\",Q998/COUNTIF('Data Input'!$C$8:$AK$8,\"G\"))","v":""}]
[{"$f":"IF('Data Input'!A1004=0,\"\",'Data Input'!A1004)","v":""},{"$f":"IF(ISBLANK('Data Input'!A1004),\"\",COUNTIF('Data Input'!C1004:AK1004,\"\"))","v":""},{"$f":"IF(ISBLANK('Data Input'!A1004),\"\",COUNTIF('Data Input'!C1004:AK1004,\"0\"))","v":""},{"$f":"IF(ISBLANK('Data Input'!A1004),\"\",SUM(B999,C999))","v":""},{"$f":"IF(ISBLANK('Data Input'!A1004),\"\",SUM('Data Input'!C1004:AK1004))","v":""},{"$f":"IF(E999=\"\",\"\",E999/(COUNTA('Data Input'!$C$8:$AK$8)))","v":""},{"$f":"IF(ISBLANK('Data Input'!A1004),\"\",SUM('Data Input'!C1004,'Data Input'!D1004,'Data Input'!J1004,'Data Input'!X1004))","v":""},{"$f":"IF(G999=\"\",\"\",G999/COUNTIF('Data Input'!$C$8:$AK$8,\"N\"))","v":""},{"$f":"IF(ISBLANK('Data Input'!A1004),\"\",SUM('Data Input'!G1004,'Data Input'!I1004,'Data Input'!L1004,'Data Input'!N1004,'Data Input'!O1004,'Data Input'!S1004,'Data Input'!Z1004,'Data Input'!AA1004,'Data Input'!AB1004,'Data Input'!AC1004,'Data Input'!AE1004,'Data Input'!AF1004,'Data Input'!AG1004,'Data Input'!AI1004,'Data Input'!AK1004))","v":""},{"$f":"IF(I999=\"\",\"\",I999/COUNTIF('Data Input'!$C$8:$AK$8,\"C\"))","v":""},{"$f":"IF(ISBLANK('Data Input'!A1004),\"\",SUM('Data Input'!T1004,'Data Input'!U1004))","v":""},{"$f":"IF(K999=\"\",\"\",K999/COUNTIF('Data Input'!$C$8:$AK$8,\"S\"))","v":""},{"$f":"IF(ISBLANK('Data Input'!A1004),\"\",SUM('Data Input'!F1004,'Data Input'!R1004,'Data Input'!AJ1004))","v":""},{"$f":"IF(M999=\"\",\"\",M999/COUNTIF('Data Input'!$C$8:$AK$8,\"F\"))","v":""},{"$f":"IF(ISBLANK('Data Input'!A1004),\"\",SUM('Data Input'!E1004,'Data Input'!M1004,'Data Input'!Q1004,'Data Input'!V1004,'Data Input'!W1004,'Data Input'!AD1004,'Data Input'!AH1004))","v":""},{"$f":"IF(O999=\"\",\"\",O999/COUNTIF('Data Input'!$C$8:$AK$8,\"M\"))","v":""},{"$f":"IF(ISBLANK('Data Input'!A1004),\"\",SUM('Data Input'!H1004,'Data Input'!K1004,'Data Input'!P1004,'Data Input'!Y1004))","v":""},{"$f":"IF(Q999=\"\",\"\",Q999/COUNTIF('Data Input'!$C$8:$AK$8,\"G\"))","v":""}]
[{"$f":"IF('Data Input'!A1005=0,\"\",'Data Input'!A1005)","v":""},{"$f":"IF(ISBLANK('Data Input'!A1005),\"\",COUNTIF('Data Input'!C1005:AK1005,\"\"))","v":""},{"$f":"IF(ISBLANK('Data Input'!A1005),\"\",COUNTIF('Data Input'!C1005:AK1005,\"0\"))","v":""},{"$f":"IF(ISBLANK('Data Input'!A1005),\"\",SUM(B1000,C1000))","v":""},{"$f":"IF(ISBLANK('Data Input'!A1005),\"\",SUM('Data Input'!C1005:AK1005))","v":""},{"$f":"IF(E1000=\"\",\"\",E1000/(COUNTA('Data Input'!$C$8:$AK$8)))","v":""},{"$f":"IF(ISBLANK('Data Input'!A1005),\"\",SUM('Data Input'!C1005,'Data Input'!D1005,'Data Input'!J1005,'Data Input'!X1005))","v":""},{"$f":"IF(G1000=\"\",\"\",G1000/COUNTIF('Data Input'!$C$8:$AK$8,\"N\"))","v":""},{"$f":"IF(ISBLANK('Data Input'!A1005),\"\",SUM('Data Input'!G1005,'Data Input'!I1005,'Data Input'!L1005,'Data Input'!N1005,'Data Input'!O1005,'Data Input'!S1005,'Data Input'!Z1005,'Data Input'!AA1005,'Data Input'!AB1005,'Data Input'!AC1005,'Data Input'!AE1005,'Data Input'!AF1005,'Data Input'!AG1005,'Data Input'!AI1005,'Data Input'!AK1005))","v":""},{"$f":"IF(I1000=\"\",\"\",I1000/COUNTIF('Data Input'!$C$8:$AK$8,\"C\"))","v":""},{"$f":"IF(ISBLANK('Data Input'!A1005),\"\",SUM('Data Input'!T1005,'Data Input'!U1005))","v":""},{"$f":"IF(K1000=\"\",\"\",K1000/COUNTIF('Data Input'!$C$8:$AK$8,\"S\"))","v":""},{"$f":"IF(ISBLANK('Data Input'!A1005),\"\",SUM('Data Input'!F1005,'Data Input'!R1005,'Data Input'!AJ1005))","v":""},{"$f":"IF(M1000=\"\",\"\",M1000/COUNTIF('Data Input'!$C$8:$AK$8,\"F\"))","v":""},{"$f":"IF(ISBLANK('Data Input'!A1005),\"\",SUM('Data Input'!E1005,'Data Input'!M1005,'Data Input'!Q1005,'Data Input'!V1005,'Data Input'!W1005,'Data Input'!AD1005,'Data Input'!AH1005))","v":""},{"$f":"IF(O1000=\"\",\"\",O1000/COUNTIF('Data Input'!$C$8:$AK$8,\"M\"))","v":""},{"$f":"IF(ISBLANK('Data Input'!A1005),\"\",SUM('Data Input'!H1005,'Data Input'!K1005,'Data Input'!P1005,'Data Input'!Y1005))","v":""},{"$f":"IF(Q1000=\"\",\"\",Q1000/COUNTIF('Data Input'!$C$8:$AK$8,\"G\"))","v":""}]
[{"$f":"IF('Data Input'!A1006=0,\"\",'Data Input'!A1006)","v":""},{"$f":"IF(ISBLANK('Data Input'!A1006),\"\",COUNTIF('Data Input'!C1006:AK1006,\"\"))","v":""},{"$f":"IF(ISBLANK('Data Input'!A1006),\"\",COUNTIF('Data Input'!C1006:AK1006,\"0\"))","v":""},{"$f":"IF(ISBLANK('Data Input'!A1006),\"\",SUM(B1001,C1001))","v":""},{"$f":"IF(ISBLANK('Data Input'!A1006),\"\",SUM('Data Input'!C1006:AK1006))","v":""},{"$f":"IF(E1001=\"\",\"\",E1001/(COUNTA('Data Input'!$C$8:$AK$8)))","v":""},{"$f":"IF(ISBLANK('Data Input'!A1006),\"\",SUM('Data Input'!C1006,'Data Input'!D1006,'Data Input'!J1006,'Data Input'!X1006))","v":""},{"$f":"IF(G1001=\"\",\"\",G1001/COUNTIF('Data Input'!$C$8:$AK$8,\"N\"))","v":""},{"$f":"IF(ISBLANK('Data Input'!A1006),\"\",SUM('Data Input'!G1006,'Data Input'!I1006,'Data Input'!L1006,'Data Input'!N1006,'Data Input'!O1006,'Data Input'!S1006,'Data Input'!Z1006,'Data Input'!AA1006,'Data Input'!AB1006,'Data Input'!AC1006,'Data Input'!AE1006,'Data Input'!AF1006,'Data Input'!AG1006,'Data Input'!AI1006,'Data Input'!AK1006))","v":""},{"$f":"IF(I1001=\"\",\"\",I1001/COUNTIF('Data Input'!$C$8:$AK$8,\"C\"))","v":""},{"$f":"IF(ISBLANK('Data Input'!A1006),\"\",SUM('Data Input'!T1006,'Data Input'!U1006))","v":""},{"$f":"IF(K1001=\"\",\"\",K1001/COUNTIF('Data Input'!$C$8:$AK$8,\"S\"))","v":""},{"$f":"IF(ISBLANK('Data Input'!A1006),\"\",SUM('Data Input'!F1006,'Data Input'!R1006,'Data Input'!AJ1006))","v":""},{"$f":"IF(M1001=\"\",\"\",M1001/COUNTIF('Data Input'!$C$8:$AK$8,\"F\"))","v":""},{"$f":"IF(ISBLANK('Data Input'!A1006),\"\",SUM('Data Input'!E1006,'Data Input'!M1006,'Data Input'!Q1006,'Data Input'!V1006,'Data Input'!W1006,'Data Input'!AD1006,'Data Input'!AH1006))","v":""},{"$f":"IF(O1001=\"\",\"\",O1001/COUNTIF('Data Input'!$C$8:$AK$8,\"M\"))","v":""},{"$f":"IF(ISBLANK('Data Input'!A1006),\"\",SUM('Data Input'!H1006,'Data Input'!K1006,'Data Input'!P1006,'Data Input'!Y1006))","v":""},{"$f":"IF(Q1001=\"\",\"\",Q1001/COUNTIF('Data Input'!$C$8:$AK$8,\"G\"))","v":""}]
[{"$f":"IF('Data Input'!A1007=0,\"\",'Data Input'!A1007)","v":""},{"$f":"IF(ISBLANK('Data Input'!A1007),\"\",COUNTIF('Data Input'!C1007:AK1007,\"\"))","v":""},{"$f":"IF(ISBLANK('Data Input'!A1007),\"\",COUNTIF('Data Input'!C1007:AK1007,\"0\"))","v":""},{"$f":"IF(ISBLANK('Data Input'!A1007),\"\",SUM(B1002,C1002))","v":""},{"$f":"IF(ISBLANK('Data Input'!A1007),\"\",SUM('Data Input'!C1007:AK1007))","v":""},{"$f":"IF(E1002=\"\",\"\",E1002/(COUNTA('Data Input'!$C$8:$AK$8)))","v":""},{"$f":"IF(ISBLANK('Data Input'!A1007),\"\",SUM('Data Input'!C1007,'Data Input'!D1007,'Data Input'!J1007,'Data Input'!X1007))","v":""},{"$f":"IF(G1002=\"\",\"\",G1002/COUNTIF('Data Input'!$C$8:$AK$8,\"N\"))","v":""},{"$f":"IF(ISBLANK('Data Input'!A1007),\"\",SUM('Data Input'!G1007,'Data Input'!I1007,'Data Input'!L1007,'Data Input'!N1007,'Data Input'!O1007,'Data Input'!S1007,'Data Input'!Z1007,'Data Input'!AA1007,'Data Input'!AB1007,'Data Input'!AC1007,'Data Input'!AE1007,'Data Input'!AF1007,'Data Input'!AG1007,'Data Input'!AI1007,'Data Input'!AK1007))","v":""},{"$f":"IF(I1002=\"\",\"\",I1002/COUNTIF('Data Input'!$C$8:$AK$8,\"C\"))","v":""},{"$f":"IF(ISBLANK('Data Input'!A1007),\"\",SUM('Data Input'!T1007,'Data Input'!U1007))","v":""},{"$f":"IF(K1002=\"\",\"\",K1002/COUNTIF('Data Input'!$C$8:$AK$8,\"S\"))","v":""},{"$f":"IF(ISBLANK('Data Input'!A1007),\"\",SUM('Data Input'!F1007,'Data Input'!R1007,'Data Input'!AJ1007))","v":""},{"$f":"IF(M1002=\"\",\"\",M1002/COUNTIF('Data Input'!$C$8:$AK$8,\"F\"))","v":""},{"$f":"IF(ISBLANK('Data Input'!A1007),\"\",SUM('Data Input'!E1007,'Data Input'!M1007,'Data Input'!Q1007,'Data Input'!V1007,'Data Input'!W1007,'Data Input'!AD1007,'Data Input'!AH1007))","v":""},{"$f":"IF(O1002=\"\",\"\",O1002/COUNTIF('Data Input'!$C$8:$AK$8,\"M\"))","v":""},{"$f":"IF(ISBLANK('Data Input'!A1007),\"\",SUM('Data Input'!H1007,'Data Input'!K1007,'Data Input'!P1007,'Data Input'!Y1007))","v":""},{"$f":"IF(Q1002=\"\",\"\",Q1002/COUNTIF('Data Input'!$C$8:$AK$8,\"G\"))","v":""}]
[{"$f":"IF('Data Input'!A1008=0,\"\",'Data Input'!A1008)","v":""},{"$f":"IF(ISBLANK('Data Input'!A1008),\"\",COUNTIF('Data Input'!C1008:AK1008,\"\"))","v":""},{"$f":"IF(ISBLANK('Data Input'!A1008),\"\",COUNTIF('Data Input'!C1008:AK1008,\"0\"))","v":""},{"$f":"IF(ISBLANK('Data Input'!A1008),\"\",SUM(B1003,C1003))","v":""},{"$f":"IF(ISBLANK('Data Input'!A1008),\"\",SUM('Data Input'!C1008:AK1008))","v":""},{"$f":"IF(E1003=\"\",\"\",E1003/(COUNTA('Data Input'!$C$8:$AK$8)))","v":""},{"$f":"IF(ISBLANK('Data Input'!A1008),\"\",SUM('Data Input'!C1008,'Data Input'!D1008,'Data Input'!J1008,'Data Input'!X1008))","v":""},{"$f":"IF(G1003=\"\",\"\",G1003/COUNTIF('Data Input'!$C$8:$AK$8,\"N\"))","v":""},{"$f":"IF(ISBLANK('Data Input'!A1008),\"\",SUM('Data Input'!G1008,'Data Input'!I1008,'Data Input'!L1008,'Data Input'!N1008,'Data Input'!O1008,'Data Input'!S1008,'Data Input'!Z1008,'Data Input'!AA1008,'Data Input'!AB1008,'Data Input'!AC1008,'Data Input'!AE1008,'Data Input'!AF1008,'Data Input'!AG1008,'Data Input'!AI1008,'Data Input'!AK1008))","v":""},{"$f":"IF(I1003=\"\",\"\",I1003/COUNTIF('Data Input'!$C$8:$AK$8,\"C\"))","v":""},{"$f":"IF(ISBLANK('Data Input'!A1008),\"\",SUM('Data Input'!T1008,'Data Input'!U1008))","v":""},{"$f":"IF(K1003=\"\",\"\",K1003/COUNTIF('Data Input'!$C$8:$AK$8,\"S\"))","v":""},{"$f":"IF(ISBLANK('Data Input'!A1008),\"\",SUM('Data Input'!F1008,'Data Input'!R1008,'Data Input'!AJ1008))","v":""},{"$f":"IF(M1003=\"\",\"\",M1003/COUNTIF('Data Input'!$C$8:$AK$8,\"F\"))","v":""},{"$f":"IF(ISBLANK('Data Input'!A1008),\"\",SUM('Data Input'!E1008,'Data Input'!M1008,'Data Input'!Q1008,'Data Input'!V1008,'Data Input'!W1008,'Data Input'!AD1008,'Data Input'!AH1008))","v":""},{"$f":"IF(O1003=\"\",\"\",O1003/COUNTIF('Data Input'!$C$8:$AK$8,\"M\"))","v":""},{"$f":"IF(ISBLANK('Data Input'!A1008),\"\",SUM('Data Input'!H1008,'Data Input'!K1008,'Data Input'!P1008,'Data Input'!Y1008))","v":""},{"$f":"IF(Q1003=\"\",\"\",Q1003/COUNTIF('Data Input'!$C$8:$AK$8,\"G\"))","v":""}]
[{"$f":"IF('Data Input'!A1009=0,\"\",'Data Input'!A1009)","v":""},{"$f":"IF(ISBLANK('Data Input'!A1009),\"\",COUNTIF('Data Input'!C1009:AK1009,\"\"))","v":""},{"$f":"IF(ISBLANK('Data Input'!A1009),\"\",COUNTIF('Data Input'!C1009:AK1009,\"0\"))","v":""},{"$f":"IF(ISBLANK('Data Input'!A1009),\"\",SUM(B1004,C1004))","v":""},{"$f":"IF(ISBLANK('Data Input'!A1009),\"\",SUM('Data Input'!C1009:AK1009))","v":""},{"$f":"IF(E1004=\"\",\"\",E1004/(COUNTA('Data Input'!$C$8:$AK$8)))","v":""},{"$f":"IF(ISBLANK('Data Input'!A1009),\"\",SUM('Data Input'!C1009,'Data Input'!D1009,'Data Input'!J1009,'Data Input'!X1009))","v":""},{"$f":"IF(G1004=\"\",\"\",G1004/COUNTIF('Data Input'!$C$8:$AK$8,\"N\"))","v":""},{"$f":"IF(ISBLANK('Data Input'!A1009),\"\",SUM('Data Input'!G1009,'Data Input'!I1009,'Data Input'!L1009,'Data Input'!N1009,'Data Input'!O1009,'Data Input'!S1009,'Data Input'!Z1009,'Data Input'!AA1009,'Data Input'!AB1009,'Data Input'!AC1009,'Data Input'!AE1009,'Data Input'!AF1009,'Data Input'!AG1009,'Data Input'!AI1009,'Data Input'!AK1009))","v":""},{"$f":"IF(I1004=\"\",\"\",I1004/COUNTIF('Data Input'!$C$8:$AK$8,\"C\"))","v":""},{"$f":"IF(ISBLANK('Data Input'!A1009),\"\",SUM('Data Input'!T1009,'Data Input'!U1009))","v":""},{"$f":"IF(K1004=\"\",\"\",K1004/COUNTIF('Data Input'!$C$8:$AK$8,\"S\"))","v":""},{"$f":"IF(ISBLANK('Data Input'!A1009),\"\",SUM('Data Input'!F1009,'Data Input'!R1009,'Data Input'!AJ1009))","v":""},{"$f":"IF(M1004=\"\",\"\",M1004/COUNTIF('Data Input'!$C$8:$AK$8,\"F\"))","v":""},{"$f":"IF(ISBLANK('Data Input'!A1009),\"\",SUM('Data Input'!E1009,'Data Input'!M1009,'Data Input'!Q1009,'Data Input'!V1009,'Data Input'!W1009,'Data Input'!AD1009,'Data Input'!AH1009))","v":""},{"$f":"IF(O1004=\"\",\"\",O1004/COUNTIF('Data Input'!$C$8:$AK$8,\"M\"))","v":""},{"$f":"IF(ISBLANK('Data Input'!A1009),\"\",SUM('Data Input'!H1009,'Data Input'!K1009,'Data Input'!P1009,'Data Input'!Y1009))","v":""},{"$f":"IF(Q1004=\"\",\"\",Q1004/COUNTIF('Data Input'!$C$8:$AK$8,\"G\"))","v":""}]
[{"$f":"IF('Data Input'!A1010=0,\"\",'Data Input'!A1010)","v":""},{"$f":"IF(ISBLANK('Data Input'!A1010),\"\",COUNTIF('Data Input'!C1010:AK1010,\"\"))","v":""},{"$f":"IF(ISBLANK('Data Input'!A1010),\"\",COUNTIF('Data Input'!C1010:AK1010,\"0\"))","v":""},{"$f":"IF(ISBLANK('Data Input'!A1010),\"\",SUM(B1005,C1005))","v":""},{"$f":"IF(ISBLANK('Data Input'!A1010),\"\",SUM('Data Input'!C1010:AK1010))","v":""},{"$f":"IF(E1005=\"\",\"\",E1005/(COUNTA('Data Input'!$C$8:$AK$8)))","v":""},{"$f":"IF(ISBLANK('Data Input'!A1010),\"\",SUM('Data Input'!C1010,'Data Input'!D1010,'Data Input'!J1010,'Data Input'!X1010))","v":""},{"$f":"IF(G1005=\"\",\"\",G1005/COUNTIF('Data Input'!$C$8:$AK$8,\"N\"))","v":""},{"$f":"IF(ISBLANK('Data Input'!A1010),\"\",SUM('Data Input'!G1010,'Data Input'!I1010,'Data Input'!L1010,'Data Input'!N1010,'Data Input'!O1010,'Data Input'!S1010,'Data Input'!Z1010,'Data Input'!AA1010,'Data Input'!AB1010,'Data Input'!AC1010,'Data Input'!AE1010,'Data Input'!AF1010,'Data Input'!AG1010,'Data Input'!AI1010,'Data Input'!AK1010))","v":""},{"$f":"IF(I1005=\"\",\"\",I1005/COUNTIF('Data Input'!$C$8:$AK$8,\"C\"))","v":""},{"$f":"IF(ISBLANK('Data Input'!A1010),\"\",SUM('Data Input'!T1010,'Data Input'!U1010))","v":""},{"$f":"IF(K1005=\"\",\"\",K1005/COUNTIF('Data Input'!$C$8:$AK$8,\"S\"))","v":""},{"$f":"IF(ISBLANK('Data Input'!A1010),\"\",SUM('Data Input'!F1010,'Data Input'!R1010,'Data Input'!AJ1010))","v":""},{"$f":"IF(M1005=\"\",\"\",M1005/COUNTIF('Data Input'!$C$8:$AK$8,\"F\"))","v":""},{"$f":"IF(ISBLANK('Data Input'!A1010),\"\",SUM('Data Input'!E1010,'Data Input'!M1010,'Data Input'!Q1010,'Data Input'!V1010,'Data Input'!W1010,'Data Input'!AD1010,'Data Input'!AH1010))","v":""},{"$f":"IF(O1005=\"\",\"\",O1005/COUNTIF('Data Input'!$C$8:$AK$8,\"M\"))","v":""},{"$f":"IF(ISBLANK('Data Input'!A1010),\"\",SUM('Data Input'!H1010,'Data Input'!K1010,'Data Input'!P1010,'Data Input'!Y1010))","v":""},{"$f":"IF(Q1005=\"\",\"\",Q1005/COUNTIF('Data Input'!$C$8:$AK$8,\"G\"))","v":""}]

{"sheet":"Pupil Report","index":5,"n_rows":9,"n_cols":9,"rows_kept":9,"cut":false,"hidden":false,"merged":[[1,0,1,2],[4,0,4,8]]}
["Pupil:",null,null,null,null,null,null,null,{"$f":"Welcome!D2","v":"KS1 Mathematics Paper Reasoning (2016 SAMPLE) Analysis"}]
["Name:",null,null,"Incorrect:",{"$f":"VLOOKUP($A$2,'Pupil Summary'!$A$5:$R$273,3,FALSE)","v":{"$error":"#N/A"}},"Unanswered:",{"$f":"VLOOKUP($A$2,'Pupil Summary'!$A$5:$R$273,2,FALSE)","v":{"$error":"#N/A"}},"Total:",{"$f":"VLOOKUP($A$2,'Pupil Summary'!$A$5:$R$273,5,FALSE) & \" / \" &SUM(B7:I7)","v":{"$error":"#N/A"}}]
["N:",{"$f":"VLOOKUP($A$2,'Pupil Summary'!$A$5:$R$273,8,FALSE)","v":{"$error":"#N/A"}},"C:",{"$f":"VLOOKUP($A$2,'Pupil Summary'!$A$5:$R$273,10,FALSE)","v":{"$error":"#N/A"}},"S:",{"$f":"VLOOKUP($A$2,'Pupil Summary'!$A$5:$R$273,12,FALSE)","v":{"$error":"#N/A"}},"F:",{"$f":"VLOOKUP($A$2,'Pupil Summary'!$A$5:$R$273,14,FALSE)","v":{"$error":"#N/A"}}]
["M:",{"$f":"VLOOKUP($A$2,'Pupil Summary'!$A$5:$R$273,16,FALSE)","v":{"$error":"#N/A"}},null,null,"G:",{"$f":"VLOOKUP($A$2,'Pupil Summary'!$A$5:$R$273,18,FALSE)","v":{"$error":"#N/A"}}]
["N: Number  C: Calculations  S: Statistics  F: Fractions  M: Measure  \nG: Geometry (Shape and Position/Direction) "]
[null,{"$f":"'Pupil Summary'!G2","v":"Number"},{"$f":"'Pupil Summary'!I2","v":"Calculations"},{"$f":"'Pupil Summary'!K2","v":"Statistics"},{"$f":"'Pupil Summary'!M2","v":"Fractions"},{"$f":"'Pupil Summary'!O2","v":"Measure"},{"$f":"'Pupil Summary'!Q2","v":"Geometry"}]
["Total",{"$f":"COUNTIF('Data Input'!$C$8:$AK$8,\"N\")","v":4},{"$f":"COUNTIF('Data Input'!$C$8:$AK$8,\"C\")","v":15},{"$f":"COUNTIF('Data Input'!$C$8:$AK$8,\"S\")","v":2},{"$f":"COUNTIF('Data Input'!$C$8:$AK$8,\"F\")","v":3},{"$f":"COUNTIF('Data Input'!$C$8:$AK$8,\"M\")","v":7},{"$f":"COUNTIF('Data Input'!$C$8:$AK$8,\"G\")","v":4}]
["Correct",{"$f":"VLOOKUP($A$2,'Pupil Summary'!$A$5:$R$273,7,FALSE)","v":{"$error":"#N/A"}},{"$f":"VLOOKUP($A$2,'Pupil Summary'!$A$5:$R$273,9,FALSE)","v":{"$error":"#N/A"}},{"$f":"VLOOKUP($A$2,'Pupil Summary'!$A$5:$R$273,11,FALSE)","v":{"$error":"#N/A"}},{"$f":"VLOOKUP($A$2,'Pupil Summary'!$A$5:$R$273,13,FALSE)","v":{"$error":"#N/A"}},{"$f":"VLOOKUP($A$2,'Pupil Summary'!$A$5:$R$273,15,FALSE)","v":{"$error":"#N/A"}},{"$f":"VLOOKUP($A$2,'Pupil Summary'!$A$5:$R$273,17,FALSE)","v":{"$error":"#N/A"}}]
["Incorrect/Unanswered",{"$f":"B7-B8","v":{"$error":"#N/A"}},{"$error":"#N/A"},{"$error":"#N/A"},{"$error":"#N/A"},{"$error":"#N/A"},{"$f":"G7-G8","v":{"$error":"#N/A"}}]

{"sheet":"Cohort Summary","index":6,"n_rows":12,"n_cols":7,"rows_kept":12,"cut":false,"hidden":false,"merged":[[11,0,13,5]]}
["Class Averages:",{"$f":"'Pupil Summary'!G2","v":"Number"},{"$f":"'Pupil Summary'!I2","v":"Calculations"},{"$f":"'Pupil Summary'!K2","v":"Statistics"},{"$f":"'Pupil Summary'!M2","v":"Fractions"},{"$f":"'Pupil Summary'!O2","v":"Measure"},{"$f":"'Pupil Summary'!Q2","v":"Geometry"}]
["Class correct:",{"$f":"IF(ISERROR(B4/B3),\"\",(B4/B3))","v":""},"","","","",{"$f":"IF(ISERROR(G4/G3),\"\",(G4/G3))","v":""}]
["Maximum",{"$f":"COUNTIF('Data Input'!$C$8:$AK$8,\"N\")","v":4},{"$f":"COUNTIF('Data Input'!$C$8:$AK$8,\"C\")","v":15},{"$f":"COUNTIF('Data Input'!$C$8:$AK$8,\"S\")","v":2},{"$f":"COUNTIF('Data Input'!$C$8:$AK$8,\"M\")","v":7},{"$f":"COUNTIF('Data Input'!$C$8:$AK$8,\"M\")","v":7},{"$f":"COUNTIF('Data Input'!$C$8:$AK$8,\"G\")","v":4}]
["Correct",{"$f":"IF(ISERROR(AVERAGE(IF(('Data Input'!$C$8:$AK$8=\"N\"),'Data Input'!$C2:$AK2))*$B$3/COUNTA('Data Input'!$A$10:$A$1010)),\"\",AVERAGE(IF(('Data Input'!$C$8:$AK$8=\"N\"),'Data Input'!$C2:$AK2))*$B$3/COUNTA('Data Input'!$A$10:$A$1010))","v":""},{"$f":"IF(ISERROR(AVERAGE(IF(('Data Input'!$C$8:$AK$8=\"C\"),'Data Input'!$C2:$AK2))*$C$3/COUNTA('Data Input'!$A$10:$A$1010)),\"\",AVERAGE(IF(('Data Input'!$C$8:$AK$8=\"C\"),'Data Input'!$C2:$AK2))*$C$3/COUNTA('Data Input'!$A$10:$A$1010))","v":""},{"$f":"IF(ISERROR(AVERAGE(IF(('Data Input'!C$8:$AK$8=\"S\"),'Data Input'!$C2:$AK2))*$D$3/COUNTA('Data Input'!$A$10:$A$1010)),\"\",AVERAGE(IF(('Data Input'!$C$8:$AK$8=\"S\"),'Data Input'!$C2:$AK2))*$D$3/COUNTA('Data Input'!$A$10:$A$1010))","v":""},{"$f":"IF(ISERROR(AVERAGE(IF(('Data Input'!$C$8:$AK$8=\"F\"),'Data Input'!$C2:$AK2))*$E$3/COUNTA('Data Input'!$A$10:$A$1010)),\"\",AVERAGE(IF(('Data Input'!$C$8:$AK$8=\"F\"),'Data Input'!$C2:$AK2))*$E$3/COUNTA('Data Input'!$A$10:$A$1010))","v":""},{"$f":"IF(ISERROR(AVERAGE(IF(('Data Input'!$C$8:$AK$8=\"F\"),'Data Input'!$C2:$AK2))*$F$3/COUNTA('Data Input'!$A$10:$A$1010)),\"\",AVERAGE(IF(('Data Input'!$C$8:$AK$8=\"F\"),'Data Input'!$C2:$AK2))*$F$3/COUNTA('Data Input'!$A$10:$A$1010))","v":""},{"$f":"IF(ISERROR(AVERAGE(IF(('Data Input'!$C$8:$AK$8=\"G\"),'Data Input'!$C2:$AK2))*$G$3/COUNTA('Data Input'!$A$10:$A$1010)),\"\",AVERAGE(IF(('Data Input'!$C$8:$AK$8=\"G\"),'Data Input'!$C2:$AK2))*$G$3/COUNTA('Data Input'!$A$10:$A$1010))","v":""}]
["Incorrect",{"$f":"IF(ISERROR(AVERAGE(IF(('Data Input'!$C$8:$AK$8=\"N\"),'Data Input'!$C3:$AK3))*$B$3/COUNTA('Data Input'!$A$10:$A$1010)),\"\",AVERAGE(IF(('Data Input'!$C$8:$AK$8=\"N\"),'Data Input'!$C3:$AK3))*$B$3/COUNTA('Data Input'!$A$10:$A$1010))","v":""},{"$f":"IF(ISERROR(AVERAGE(IF(('Data Input'!$C$8:$AK$8=\"C\"),'Data Input'!$C3:$AK3))*$C$3/COUNTA('Data Input'!$A$10:$A$1010)),\"\",AVERAGE(IF(('Data Input'!$C$8:$AK$8=\"C\"),'Data Input'!$C3:$AK3))*$C$3/COUNTA('Data Input'!$A$10:$A$1010))","v":""},{"$f":"IF(ISERROR(AVERAGE(IF(('Data Input'!C$8:$AK$8=\"S\"),'Data Input'!$C3:$AK3))*$D$3/COUNTA('Data Input'!$A$10:$A$1010)),\"\",AVERAGE(IF(('Data Input'!$C$8:$AK$8=\"S\"),'Data Input'!$C3:$AK3))*$D$3/COUNTA('Data Input'!$A$10:$A$1010))","v":""},{"$f":"IF(ISERROR(AVERAGE(IF(('Data Input'!$C$8:$AK$8=\"F\"),'Data Input'!$C3:$AK3))*$E$3/COUNTA('Data Input'!$A$10:$A$1010)),\"\",AVERAGE(IF(('Data Input'!$C$8:$AK$8=\"F\"),'Data Input'!$C3:$AK3))*$E$3/COUNTA('Data Input'!$A$10:$A$1010))","v":""},{"$f":"IF(ISERROR(AVERAGE(IF(('Data Input'!$C$8:$AK$8=\"F\"),'Data Input'!$C3:$AK3))*$F$3/COUNTA('Data Input'!$A$10:$A$1010)),\"\",AVERAGE(IF(('Data Input'!$C$8:$AK$8=\"F\"),'Data Input'!$C3:$AK3))*$F$3/COUNTA('Data Input'!$A$10:$A$1010))","v":""},{"$f":"IF(ISERROR(AVERAGE(IF(('Data Input'!$C$8:$AK$8=\"G\"),'Data Input'!$C3:$AK3))*$G$3/COUNTA('Data Input'!$A$10:$A$1010)),\"\",AVERAGE(IF(('Data Input'!$C$8:$AK$8=\"G\"),'Data Input'!$C3:$AK3))*$G$3/COUNTA('Data Input'!$A$10:$A$1010))","v":""}]
["Unanswered",{"$f":"IF(ISERROR(AVERAGE(IF(('Data Input'!$C$8:$AK$8=\"N\"),'Data Input'!$C4:$AK4))*$B$3/COUNTA('Data Input'!$A$10:$A$1010)),\"\",AVERAGE(IF(('Data Input'!$C$8:$AK$8=\"N\"),'Data Input'!$C4:$AK4))*$B$3/COUNTA('Data Input'!$A$10:$A$1010))","v":""},{"$f":"IF(ISERROR(AVERAGE(IF(('Data Input'!$C$8:$AK$8=\"C\"),'Data Input'!$C4:$AK4))*$C$3/COUNTA('Data Input'!$A$10:$A$1010)),\"\",AVERAGE(IF(('Data Input'!$C$8:$AK$8=\"C\"),'Data Input'!$C4:$AK4))*$C$3/COUNTA('Data Input'!$A$10:$A$1010))","v":""},{"$f":"IF(ISERROR(AVERAGE(IF(('Data Input'!C$8:$AK$8=\"S\"),'Data Input'!$C4:$AK4))*$D$3/COUNTA('Data Input'!$A$10:$A$1010)),\"\",AVERAGE(IF(('Data Input'!$C$8:$AK$8=\"S\"),'Data Input'!$C4:$AK4))*$D$3/COUNTA('Data Input'!$A$10:$A$1010))","v":""},{"$f":"IF(ISERROR(AVERAGE(IF(('Data Input'!$C$8:$AK$8=\"F\"),'Data Input'!$C4:$AK4))*$E$3/COUNTA('Data Input'!$A$10:$A$1010)),\"\",AVERAGE(IF(('Data Input'!$C$8:$AK$8=\"F\"),'Data Input'!$C4:$AK4))*$E$3/COUNTA('Data Input'!$A$10:$A$1010))","v":""},{"$f":"IF(ISERROR(AVERAGE(IF(('Data Input'!$C$8:$AK$8=\"F\"),'Data Input'!$C4:$AK4))*$F$3/COUNTA('Data Input'!$A$10:$A$1010)),\"\",AVERAGE(IF(('Data Input'!$C$8:$AK$8=\"F\"),'Data Input'!$C4:$AK4))*$F$3/COUNTA('Data Input'!$A$10:$A$1010))","v":""},{"$f":"IF(ISERROR(AVERAGE(IF(('Data Input'!$C$8:$AK$8=\"G\"),'Data Input'!$C4:$AK4))*$G$3/COUNTA('Data Input'!$A$10:$A$1010)),\"\",AVERAGE(IF(('Data Input'!$C$8:$AK$8=\"G\"),'Data Input'!$C4:$AK4))*$G$3/COUNTA('Data Input'!$A$10:$A$1010))","v":""}]
["Incorrect or unanswered",{"$f":"IF(ISERROR(SUM(B5,B6)),\"\",SUM(B5,B6))","v":0},0,0,0,0,{"$f":"IF(ISERROR(SUM(G5,G6)),\"\",SUM(G5,G6))","v":0}]
[]
[{"$f":"\"Average Total Score \"&COUNTA('Data Input'!C8:AK8)","v":"Average Total Score 35"},"Total"]
[{"$f":"IF(ISERROR(AVERAGE('Pupil Summary'!E5:E1005)),\"\",AVERAGE('Pupil Summary'!E5:E1005))","v":""},{"$f":"IF(ISERROR(A10/COUNTA('Data Input'!C8:AK8)-1),\"\",A10/(COUNTA('Data Input'!C8:AK8)))","v":""}]
[]
["The chart below graph shows the average percent for the cohort answering the questions in the particular area correctly. It should be noted that here each area does not hold equal weighting."]

{"sheet":"Strand Summary","index":7,"n_rows":28,"n_cols":2,"rows_kept":28,"cut":false,"hidden":false,"merged":[[26,1,26,11],[27,1,27,11]]}
[]
[]
[]
[]
[]
[]
[]
[]
[]
[]
[]
[]
[]
[]
[]
[]
[]
[]
[]
[]
[]
[]
[]
[]
[]
[]
[null,"This height of the bar shows the weighting of each area and the average number correct and incorrect answers. "]
[null,"A large area of red would indicate an area of priority. "]

{"sheet":"P2 Questions by Strand","index":8,"n_rows":0,"n_cols":0,"rows_kept":0,"cut":false,"hidden":false,"merged":[[45,0,46,17]]}

{"sheet":"P2 Questions by Correct","index":9,"n_rows":0,"n_cols":0,"rows_kept":0,"cut":false,"hidden":false,"merged":[[45,0,46,17]]}

{"sheet":"P2 Questions by Year Group","index":10,"n_rows":0,"n_cols":0,"rows_kept":0,"cut":false,"hidden":false,"merged":[[45,0,46,17]]}